{"text_format":"1","workbook":"xlsx","n_sheets":18,"sheets":["INDEX","Inscriptions","Equipe","C1 VM 2-3-4 JUM","C2 V1M","C3 MOF","C4 MMOF","C5 MOM","C6 MMOM","C7 POF POM","C8 BEF CC","C9 BEM MIF","C10 CAF MIM","C11 CAM JUF","C12 SF VF","C 13 SEM","Participation","Temps"],"not_rendered":{"charts":2,"images":0,"macros":1,"external_links":0,"defined_names":27,"comments":0,"pivot_tables":0},"unopened":[],"bounds":{"document_bytes":16777216,"sheet_cells":100000,"rows_first":2000,"rows_last":500,"rows_between":2000,"halvings":0,"cell_chars":16384,"cell_head_chars":4096},"cells_cut":0,"cells_raw":0,"read":"whole","date_system":"1900"}

{"sheet":"INDEX","index":0,"n_rows":1,"n_cols":1,"rows_kept":1,"cut":false,"hidden":false,"merged":[[0,0,2,15]]}
["CHAMPIONNATS REGIONAUX STAINS FSGT\n18 janvier 2015"]

{"sheet":"Inscriptions","index":1,"n_rows":2410,"n_cols":5,"rows_kept":2410,"cut":false,"hidden":false,"merged":[]}
["DOSSARD","NOM","CAT","CLUB"]
["BEF","INCONNU","BEF","INCONNU"]
["BEM","INCONNU","BEM","INCONNU"]
["CAF","INCONNU","CAF","INCONNU"]
["CAM","INCONNU","CAM","INCONNU"]
["JUF","INCONNU","JUF","INCONNU"]
["JUM","INCONNU","JUM","INCONNU"]
["MIF","INCONNU","MIF","INCONNU"]
["MIM","INCONNU","MIM","INCONNU"]
["MMOF","INCONNU","MMOF","INCONNU"]
["MMOM","INCONNU","MMOM","INCONNU"]
["MOF","INCONNU","MOF","INCONNU"]
["MOM","INCONNU","MOM","INCONNU"]
["POF","INCONNU","POF","INCONNU"]
["POM","INCONNU","POM","INCONNU"]
["S1F","INCONNU","S1F","INCONNU"]
["S1M","INCONNU","S1M","INCONNU"]
["S2F","INCONNU","S2F","INCONNU"]
["S2M","INCONNU","S2M","INCONNU"]
["V1F","INCONNU","V1F","INCONNU"]
["V1M","INCONNU","V1M","INCONNU"]
["V2F","INCONNU","V2F","INCONNU"]
["V2M","INCONNU","V2M","INCONNU"]
["V3F","INCONNU","V3F","INCONNU"]
["V3M","INCONNU","V3M","INCONNU"]
["V4F","INCONNU","V4F","INCONNU"]
["V4M","INCONNU","V4M","INCONNU"]
["V5F","INCONNU","V5F","INCONNU"]
["V5M","INCONNU","V5M","INCONNU"]
[1,"ABDERRAHMANE DOUNIA","BEF","AC BOBIGNY"]
[2,"AIT CHEIKH REDA","MMOM","AC BOBIGNY"]
[3,"AIT HABA JIHANNE","POF","AC BOBIGNY"]
[4,"AIT MEDJBER SYLIA","BEF","AC BOBIGNY"]
[5,"ALLAG AMINA","CAF","AC BOBIGNY"]
[6,"AZZAOUI AMINA","BEF","AC BOBIGNY"]
[7,"BAROUNI AYMEN","POM","AC BOBIGNY"]
[8,"BAUDY JORDAN","CAM","AC BOBIGNY"]
[9,"BELLEGARDE ALBRIGHT","CAM","AC BOBIGNY"]
[10,"BELLUS WESLEY","MOM","AC BOBIGNY"]
[11,"BENNANI ADAM","BEM","AC BOBIGNY"]
[12,"BENZOUAOUI JOUWEIRYYA","MIF","AC BOBIGNY"]
[13,"BOUAICH LYDIA","CAF","AC BOBIGNY"]
[14,"BOUAICH MINA","BEF","AC BOBIGNY"]
[15,"BOUAICH THAYRI","BEF","AC BOBIGNY"]
[16,"CERAQUEUSE MAIWENN","MOF","AC BOBIGNY"]
[17,"CHAABANI MARIA","MOF","AC BOBIGNY"]
[18,"CHRISTOPHER TYRONE","MOM","AC BOBIGNY"]
[19,"DIAWARA ASSETOU","MMOF","AC BOBIGNY"]
[20,"DOUKARA FATOUMATA","POF","AC BOBIGNY"]
[21,"DUCROCQ KENZO","MOM","AC BOBIGNY"]
[22,"DUGAMIN DAVID","POM","AC BOBIGNY"]
[23,"EL   CHRIQUI SOFIA","POF","AC BOBIGNY"]
[24,"ELAME PAUL-WILLIAM","BEM","AC BOBIGNY"]
[25,"EPESSE MARJOLAINE","CAF","AC BOBIGNY"]
[26,"ESSENDE ANAELLE","POF","AC BOBIGNY"]
[27,"FINOLY ALICIA","MOF","AC BOBIGNY"]
[28,"GALLEZE NADIA","CAF","AC BOBIGNY"]
[29,"GALLEZE THAMILA","MMOF","AC BOBIGNY"]
[30,"GRANDMAN NOLWENN","MIF","AC BOBIGNY"]
[31,"HERMANN OLIVIER","BEM","AC BOBIGNY"]
[32,"HERMANN VINCENT","MOM","AC BOBIGNY"]
[33,"HIDA SHÉRINE","MOF","AC BOBIGNY"]
[34,"JACQUENS JESSICA","CAF","AC BOBIGNY"]
[35,"JACQUERAY NOA","MIF","AC BOBIGNY"]
[36,"JEDDI AICHA","JUM","AC BOBIGNY"]
[37,"LALLAIN BRADLEY","MOM","AC BOBIGNY"]
[38,"LERUS ALYSSA","MOF","AC BOBIGNY"]
[39,"LOPPI FARELL","MOM","AC BOBIGNY"]
[40,"LOUARRADI SARAH-YASSAMINE","POF","AC BOBIGNY"]
[41,"MALULU KHETIA","BEF","AC BOBIGNY"]
[42,"MANO ALEXANDRE","MOM","AC BOBIGNY"]
[43,"MAS SACHA","MOF","AC BOBIGNY"]
[44,"MAS SALOME","POF","AC BOBIGNY"]
[45,"MAURICIA ALANA","BEF","AC BOBIGNY"]
[46,"MBAMA  TSALA MERVEILLE","CAF","AC BOBIGNY"]
[47,"MENDES CHARLENE","JUF","AC BOBIGNY"]
[48,"MOULOUDJ YOUNES","MMOM","AC BOBIGNY"]
[49,"MUKOKA KABENGELE ASTRID","MMOF","AC BOBIGNY"]
[50,"N KOUKA-MARIGNALE STACY","JUF","AC BOBIGNY"]
[51,"NASRI NEILA","MMOF","AC BOBIGNY"]
[52,"NDOSALA NOLWENN","BEF","AC BOBIGNY"]
[53,"OUGHOU SILINA","MIF","AC BOBIGNY"]
[54,"PERROD HUGO","POM","AC BOBIGNY"]
[55,"PIERRIMAS LUCKINCIE","MIF","AC BOBIGNY"]
[56,"QUISTIN KHEISYA","MOF","AC BOBIGNY"]
[57,"RAKOTOBE ADAM","POM","AC BOBIGNY"]
[58,"SAEED MUHAMMAD-MOAZAM","CAM","AC BOBIGNY"]
[59,"SAIDOUN ADHEM","BEM","AC BOBIGNY"]
[60,"SAINT-MARC SHERYNE","MOF","AC BOBIGNY"]
[61,"SAVOV NOVA","MOF","AC BOBIGNY"]
[62,"SEIZE LILIAN","MOM","AC BOBIGNY"]
[63,"SINGH AMNINDER","CAM","AC BOBIGNY"]
[64,"SOMRANI ESSIA","JUM","AC BOBIGNY"]
[65,"TIMMERMAN STEVE","JUM","AC BOBIGNY"]
[66,"TOHON YANN","MIM","AC BOBIGNY"]
[67,"TORTEVOIX RUKSANA","MIF","AC BOBIGNY"]
[68,"ZAOUI ILYES","BEM","AC BOBIGNY"]
[69,"ZEKRITI YACINE","MOM","AC BOBIGNY"]
[70,"AIT HACHIMI EL DJAZIRA","V1F","ACM AUBERVILLIERS"]
[71,"ALI CHERIF MYRIAM","CAF","ACM AUBERVILLIERS"]
[72,"ALI CHERIF MYRIAM","MIF","ACM AUBERVILLIERS"]
[73,"ALIOUCHE JELYSSA","MMOF","ACM AUBERVILLIERS"]
[74,"BADROUCHI AMANY","BEF","ACM AUBERVILLIERS"]
[75,"BADROUCHI SOFIANE","POM","ACM AUBERVILLIERS"]
[76,"BELLAHMER EVA","MMOF","ACM AUBERVILLIERS"]
[77,"BENYAHIA ABDALLAH","V4M","ACM AUBERVILLIERS"]
[78,"BENYAHIA RAZIKA","S2F","ACM AUBERVILLIERS"]
[79,"BLANDIN VINCENT","S2M","ACM AUBERVILLIERS"]
[80,"BOCO CLAUDINE","MIF","ACM AUBERVILLIERS"]
[81,"BOUSSAID FARIDA","V1F","ACM AUBERVILLIERS"]
[82,"BOYA SALOME","MIF","ACM AUBERVILLIERS"]
[83,"BUTON CLEMENT","MMOM","ACM AUBERVILLIERS"]
[84,"BUTON EMILIE","MMOF","ACM AUBERVILLIERS"]
[85,"BUTON JULIETTE","MMOF","ACM AUBERVILLIERS"]
[86,"BUTON LISA","MMOF","ACM AUBERVILLIERS"]
[87,"BUTON MARGO","MOF","ACM AUBERVILLIERS"]
[88,"BUTON MAYA","MMOF","ACM AUBERVILLIERS"]
[89,"BUTON PAULINE","POF","ACM AUBERVILLIERS"]
[90,"BUTON REMI","MOM","ACM AUBERVILLIERS"]
[91,"BUTON SARAH","MOF","ACM AUBERVILLIERS"]
[92,"CHIKI NADIA","S2F","ACM AUBERVILLIERS"]
[93,"CHIKI WALID","MOM","ACM AUBERVILLIERS"]
[94,"DAVRAIN LAURYNE","CAF","ACM AUBERVILLIERS"]
[95,"DEGRE JASMYNE","CAF","ACM AUBERVILLIERS"]
[96,"DESPLANQUES MICHAEL","S2M","ACM AUBERVILLIERS"]
[97,"DIABY KONE OUMOU","MOF","ACM AUBERVILLIERS"]
[98,"DIAKITE MAELLE","CAF","ACM AUBERVILLIERS"]
[99,"DJOULAIT LAURA","MMOF","ACM AUBERVILLIERS"]
[100,"DJOULAIT LEA","MOF","ACM AUBERVILLIERS"]
[101,"DJOULAIT LISA","MOF","ACM AUBERVILLIERS"]
[102,"DRIF FATIMA","V2F","ACM AUBERVILLIERS"]
[103,"ELACHE AMINA","POF","ACM AUBERVILLIERS"]
[104,"ELACHE SAKINA","S2F","ACM AUBERVILLIERS"]
[105,"EMILE KARLENE","JUF","ACM AUBERVILLIERS"]
[106,"FAJRE RANIA","MOF","ACM AUBERVILLIERS"]
[107,"FARGEAU MAEVA","BEF","ACM AUBERVILLIERS"]
[108,"FOFANA DJELYSSA","MMOF","ACM AUBERVILLIERS"]
[109,"HAMADOUCHE KATHY","MIF","ACM AUBERVILLIERS"]
[110,"HAMADOUCHE LILA","MOF","ACM AUBERVILLIERS"]
[111,"HAMADOUCHE LIZA","JUM","ACM AUBERVILLIERS"]
[112,"HAMADOUCHE SOPHIE","BEF","ACM AUBERVILLIERS"]
[113,"HIDOUS SIRINE","MIF","ACM AUBERVILLIERS"]
[114,"HSAKOU DOHA","CAF","ACM AUBERVILLIERS"]
[115,"IBOUROI HAMIDA","CAF","ACM AUBERVILLIERS"]
[116,"JAEGER LUCAS","MMOM","ACM AUBERVILLIERS"]
[117,"JOSEPH JAHDE","MMOF","ACM AUBERVILLIERS"]
[118,"JOSEPH JAMYCE","MOM","ACM AUBERVILLIERS"]
[119,"JOSEPH JUDE","S2M","ACM AUBERVILLIERS"]
[120,"KEMENI AICHA","V1F","ACM AUBERVILLIERS"]
[121,"KNOPF ELORA","BEF","ACM AUBERVILLIERS"]
[122,"KNOPF ORNELLA","CAF","ACM AUBERVILLIERS"]
[123,"KNOPF PHILIPPE","V2M","ACM AUBERVILLIERS"]
[124,"LEVASSEUR AXEL","BEM","ACM AUBERVILLIERS"]
[125,"LEVASSEUR LEANE","MOF","ACM AUBERVILLIERS"]
[126,"MACALUSO SYLVESTRE","V2M","ACM AUBERVILLIERS"]
[127,"MAHBOUBA ROLA","S2F","ACM AUBERVILLIERS"]
[128,"MARTIN FRANCISCA","V2F","ACM AUBERVILLIERS"]
[129,"MERAT JUAN","V2M","ACM AUBERVILLIERS"]
[130,"NEGGAZ DONIA","CAF","ACM AUBERVILLIERS"]
[131,"OUAZARF NAYLA","POF","ACM AUBERVILLIERS"]
[132,"OUOTMANI SABRINA","S2F","ACM AUBERVILLIERS"]
[133,"PIN MARGARITA","V2F","ACM AUBERVILLIERS"]
[134,"ROUGAB SARAH","JUF","ACM AUBERVILLIERS"]
[135,"SAIB CELIA","CAF","ACM AUBERVILLIERS"]
[136,"SEGUIN CADICHE MAUREEN","JUM","ACM AUBERVILLIERS"]
[137,"TAKROUNI GIBRIL","MOM","ACM AUBERVILLIERS"]
[138,"TAKROUNI ZAKARIYA","MOM","ACM AUBERVILLIERS"]
[139,"THIBAULT FLORENCE","V2F","ACM AUBERVILLIERS"]
[140,"ZEGAGH ENRIQUE","POM","ACM AUBERVILLIERS"]
[141,"ZIDANI ILAN","MMOM","ACM AUBERVILLIERS"]
[142,"ALLEGRE ELIAS","BEM","AMICALE BABYLONE"]
[143,"AUBOURG MATHIAS","BEM","AMICALE BABYLONE"]
[144,"BAZIN MÉLINA","MMOF","AMICALE BABYLONE"]
[145,"BERANGER-KEIL JEANNE","MMOF","AMICALE BABYLONE"]
[146,"BRON AURÉLIEN","POM","AMICALE BABYLONE"]
[147,"BRON CORENTIN","BEM","AMICALE BABYLONE"]
[148,"DALIN NOLANN","MOM","AMICALE BABYLONE"]
[149,"GEMAN JÉRÔME","POM","AMICALE BABYLONE"]
[150,"GENTIL  BENOIT","V1M","AMICALE BABYLONE"]
[151,"GIAI-PRON LAETITIA","V1F","AMICALE BABYLONE"]
[152,"GLON-AMIET ALEXANDRE","MOM","AMICALE BABYLONE"]
[153,"LEBOVICI  ARNAUD","V1M","AMICALE BABYLONE"]
[154,"MASSON CELINE","S1F","AMICALE BABYLONE"]
[155,"MAYOULOU STEVEN","MOM","AMICALE BABYLONE"]
[156,"MEVEGUE KEÏDJA","MIF","AMICALE BABYLONE"]
[157,"MEVEGUE SWEINI","POM","AMICALE BABYLONE"]
[158,"PANUICZKA-LEBIHAN KYLIAN","POM","AMICALE BABYLONE"]
[159,"PERILLOUX ANAËLLE","POF","AMICALE BABYLONE"]
[160,"POUMARAT ANCOLIE","MMOF","AMICALE BABYLONE"]
[161,"WOLMARK NOAM","POM","AMICALE BABYLONE"]
[162,"ZAHARIEV CARLA","BEF","AMICALE BABYLONE"]
[163,"ZOUKOUAN YANN","POM","AMICALE BABYLONE"]
[164,"DUQUESNE JULIEN","JUM","AS FOULEES VEXIN"]
[165,"SACHE GREGORY","V1M","AS FOULEES VEXIN"]
[166,"CATHALA DANIEL","V2M","ASC VITRY"]
[167,"CAUCHETEUX FRANCK","V2M","ASC VITRY"]
[168,"CHARIF MALIKA","V2F","ASC VITRY"]
[169,"DELAGE SEBASTIEN","V1M","ASC VITRY"]
[170,"DESCHOUX JOSEPHINE","V1F","ASC VITRY"]
[171,"DIDIER PIERRE","V2M","ASC VITRY"]
[172,"DUMONT ALAIN","V3M","ASC VITRY"]
[173,"LACOMBE LORR","V1M","ASC VITRY"]
[174,"MAUGER THIERRY","V2M","ASC VITRY"]
[175,"MAYOUD MAGALI","S2F","ASC VITRY"]
[176,"PROU CHRISTOPHE","S1M","ASC VITRY"]
[177,"VOREUX BRUNO","V2M","ASC VITRY"]
[178,"WOLFF MAGALI","S2F","ASC VITRY"]
[179,"BOUQUEREL GABIN","MOM","ASCA COURNEUVIENNE"]
[180,"BOURHALLA SAMI","BEM","ASCA COURNEUVIENNE"]
[181,"BROGNIART ROSES","POF","ASCA COURNEUVIENNE"]
[182,"CHASSAING INES","MIM","ASCA COURNEUVIENNE"]
[183,"CHASSAING MANELLE","POM","ASCA COURNEUVIENNE"]
[184,"CHASSAING SOFIAN","BEM","ASCA COURNEUVIENNE"]
[185,"CHERFILS KEISHA","MIF","ASCA COURNEUVIENNE"]
[186,"COULIBALY BINTOU","MIF","ASCA COURNEUVIENNE"]
[187,"EL MOUMNI MIRIAM","BEF","ASCA COURNEUVIENNE"]
[188,"EL MOUMNI SELMA","MMOF","ASCA COURNEUVIENNE"]
[189,"EL MOUNI AYAT","MOF","ASCA COURNEUVIENNE"]
[190,"EL MOUNNI DOUNIA","MIF","ASCA COURNEUVIENNE"]
[191,"ESSAFI BILAL","BEM","ASCA COURNEUVIENNE"]
[192,"EUDELINE MARTA","CAF","ASCA COURNEUVIENNE"]
[193,"FLORICOURT YOHAN","CAM","ASCA COURNEUVIENNE"]
[194,"FLORICOURT YOHAN","JUM","ASCA COURNEUVIENNE"]
[195,"GOHOUROU ESTHER","MOF","ASCA COURNEUVIENNE"]
[196,"HANDOUS MARWANE","MOM","ASCA COURNEUVIENNE"]
[197,"JIOFACK LOIC HUGO","MOM","ASCA COURNEUVIENNE"]
[198,"LAABIDI ASMA","BEF","ASCA COURNEUVIENNE"]
[199,"LAABIDI SIHAME","POF","ASCA COURNEUVIENNE"]
[200,"LARIF NASRINE","MIF","ASCA COURNEUVIENNE"]
[201,"LEGRAND DYLAN","CAM","ASCA COURNEUVIENNE"]
[202,"MATOUG YACINE","MIM","ASCA COURNEUVIENNE"]
[203,"MERLIN SHARON","MIF","ASCA COURNEUVIENNE"]
[204,"MOHAMED SAID NASRINE","MIF","ASCA COURNEUVIENNE"]
[205,"MOREAU BLANDINE","CAF","ASCA COURNEUVIENNE"]
[206,"MOREAU BLANDINE","JUF","ASCA COURNEUVIENNE"]
[207,"MOREAU CLEMENT","BEM","ASCA COURNEUVIENNE"]
[208,"OUBID NASSIM","POM","ASCA COURNEUVIENNE"]
[209,"SHAHSYED RAANA","BEF","ASCA COURNEUVIENNE"]
[210,"TAHRAOUI AFY","JUM","ASCA COURNEUVIENNE"]
[211,"TAHRAOUI MAEVE","CAF","ASCA COURNEUVIENNE"]
[212,"TAHRAOUI MERINE","MIM","ASCA COURNEUVIENNE"]
[213,"TAHRAOUI NEILS","MIM","ASCA COURNEUVIENNE"]
[214,"TAKHALLOUFT SHIRINE","POM","ASCA COURNEUVIENNE"]
[215,"TEFFAF SELIM","CAM","ASCA COURNEUVIENNE"]
[216,"TEFFAF SELIM","JUM","ASCA COURNEUVIENNE"]
[217,"ADANS MAUDUIT ALMA","POF","ASG BAGNOLET"]
[218,"BALTHAZAR NOA","MOM","ASG BAGNOLET"]
[219,"BELLIN MAX","BEM","ASG BAGNOLET"]
[220,"BEN TAHAR NOUHAILA","POF","ASG BAGNOLET"]
[221,"BILLE LUCIEN","CAM","ASG BAGNOLET"]
[222,"BILLE LUCIEN","JUM","ASG BAGNOLET"]
[223,"BINGUE LUCAS","BEM","ASG BAGNOLET"]
[224,"BORDEAU ATAMAEL","MOM","ASG BAGNOLET"]
[225,"BOULET NAOMI","POF","ASG BAGNOLET"]
[226,"BOURQUIN GASPARD","MOM","ASG BAGNOLET"]
[227,"BRECHOTTEAU GABIN","MOM","ASG BAGNOLET"]
[228,"BROUSSE SOREN","MIM","ASG BAGNOLET"]
[229,"BUQUET LUCILLE","BEF","ASG BAGNOLET"]
[230,"BUROT ALEXYA","MMOF","ASG BAGNOLET"]
[231,"BUROT THOMAS","MMOM","ASG BAGNOLET"]
[232,"BURTON ELMO JAISHAN","BEM","ASG BAGNOLET"]
[233,"BURTON ELMO PRASHAAN","MOM","ASG BAGNOLET"]
[234,"BUTTIN BEYSSEN MARTIAL","MIM","ASG BAGNOLET"]
[235,"CHARLET JOSEPH","CAM","ASG BAGNOLET"]
[236,"CHEVALIER ELIAS","MOM","ASG BAGNOLET"]
[237,"CHEVALIER-TEHRAOUI NOE","POM","ASG BAGNOLET"]
[238,"COMPAY ABBY-CHAD","POF","ASG BAGNOLET"]
[239,"CORREA ELODIE","MOF","ASG BAGNOLET"]
[240,"COUE MEDERIC","MIM","ASG BAGNOLET"]
[241,"CREMONESI NAEL","MMOM","ASG BAGNOLET"]
[242,"DAFAOUI ANES","MIM","ASG BAGNOLET"]
[243,"DAHOUI ELIAS","MOM","ASG BAGNOLET"]
[244,"DEFORGE MARTIN","MOM","ASG BAGNOLET"]
[245,"DEGENETAIS ALEXIS","MMOM","ASG BAGNOLET"]
[246,"DEGENETAIS CAMILLE","POF","ASG BAGNOLET"]
[247,"DESAINTJEAN KENZA","MOF","ASG BAGNOLET"]
[248,"DESCOMBES CLEMENT","CAM","ASG BAGNOLET"]
[249,"DESCOMBES CLEMENT","MIM","ASG BAGNOLET"]
[250,"DIALLO FEINDA","MMOF","ASG BAGNOLET"]
[251,"DJOUHRI ADYL","MMOM","ASG BAGNOLET"]
[252,"DJOUHRI BADIS","MIM","ASG BAGNOLET"]
[253,"DURIEUX MATHIS","POM","ASG BAGNOLET"]
[254,"DUROZIER LOUISE","CAF","ASG BAGNOLET"]
[255,"EDMOND MINOSHAAN","CAM","ASG BAGNOLET"]
[256,"EDMOND MINOSHAAN","JUM","ASG BAGNOLET"]
[257,"ELPHENOR LAURYN","MIF","ASG BAGNOLET"]
[258,"GAINVILLE CHARLY","BEM","ASG BAGNOLET"]
[259,"GALINSKI-GHEZALI ILAN","POM","ASG BAGNOLET"]
[260,"GARATEA EDER","MIF","ASG BAGNOLET"]
[261,"GARATEA KOLDO","MOM","ASG BAGNOLET"]
[262,"GARATEA LOREA","BEF","ASG BAGNOLET"]
[263,"GARATEA SUSANA","V1F","ASG BAGNOLET"]
[264,"GARATEA YALO","POM","ASG BAGNOLET"]
[265,"GENNEVOIS WILLIAM","MIM","ASG BAGNOLET"]
[266,"GOMIS MELVIN","CAM","ASG BAGNOLET"]
[267,"GOMIS MELVIN","JUM","ASG BAGNOLET"]
[268,"GOMIS RUBENS","MIM","ASG BAGNOLET"]
[269,"GUEYE LANCINE BACHIR","CAM","ASG BAGNOLET"]
[270,"GUEYE LANCINE BACHIR","JUM","ASG BAGNOLET"]
[271,"HALLOUIN MAXIME","BEM","ASG BAGNOLET"]
[272,"HAUTIER ROBIN","MOM","ASG BAGNOLET"]
[273,"HORGNE LOUIS","POM","ASG BAGNOLET"]
[274,"HRISTOV MISHEL","POM","ASG BAGNOLET"]
[275,"JOUAN SEBASTIAN","BEM","ASG BAGNOLET"]
[276,"JUTELET ANGELINA","MOF","ASG BAGNOLET"]
[277,"KANSAB ILYES","MMOM","ASG BAGNOLET"]
[278,"KANSAB IMENE","MOF","ASG BAGNOLET"]
[279,"KANSAB MOUNIR","V2M","ASG BAGNOLET"]
[280,"KATHTHOTA RALALAGE REMI MALYN","MMOM","ASG BAGNOLET"]
[281,"KHALFALLAH ADEL","MIM","ASG BAGNOLET"]
[282,"KHALFALLAH BRAHIM","V1M","ASG BAGNOLET"]
[283,"KHALFALLAH RABIA","V1F","ASG BAGNOLET"]
[284,"KONATE DIOP IBRAHIMA","POM","ASG BAGNOLET"]
[285,"LEROSIER DUKUREH ANOUK","MOF","ASG BAGNOLET"]
[286,"LIMAL JASPER","MOM","ASG BAGNOLET"]
[287,"MAKALOU KAMA","MIF","ASG BAGNOLET"]
[288,"MANKENDA FLORE","JUF","ASG BAGNOLET"]
[289,"MARIA CHLOE","MMOF","ASG BAGNOLET"]
[290,"MARTIN DARRELL","MOM","ASG BAGNOLET"]
[291,"MARTIN MAHOUNA","MMOF","ASG BAGNOLET"]
[292,"MENDY WILLIAM","POM","ASG BAGNOLET"]
[293,"MEYNIEU VICTORIA","MMOF","ASG BAGNOLET"]
[294,"MOUSSADYK MAXENCE","MIM","ASG BAGNOLET"]
[295,"NALOUTI ADAM","POM","ASG BAGNOLET"]
[296,"NALOUTI AFWEN","MIM","ASG BAGNOLET"]
[297,"OUAMERALI FERYEL","POF","ASG BAGNOLET"]
[298,"PAPE HUGO","MOM","ASG BAGNOLET"]
[299,"PAPE RAPHAEL","MMOM","ASG BAGNOLET"]
[300,"PERRUCHOT-TRIBOULET ERIC","POM","ASG BAGNOLET"]
[301,"PESCHE MAXIME","JUM","ASG BAGNOLET"]
[302,"PEZZIARDI HUGO","JUM","ASG BAGNOLET"]
[303,"PEZZIARDI TOM","CAM","ASG BAGNOLET"]
[304,"PIAULET PELELOPE","POF","ASG BAGNOLET"]
[305,"PIRON NOEMIE","POF","ASG BAGNOLET"]
[306,"PLOCUS CINDY","BEF","ASG BAGNOLET"]
[307,"POULHES ALAN","BEM","ASG BAGNOLET"]
[308,"POULHES LAUREEN","CAF","ASG BAGNOLET"]
[309,"POULHES LAUREEN","JUF","ASG BAGNOLET"]
[310,"POULHES NATHAN","POM","ASG BAGNOLET"]
[311,"POUPART BENOIT","V1M","ASG BAGNOLET"]
[312,"POUPART EVA","MIF","ASG BAGNOLET"]
[313,"PREVOT NINA","CAF","ASG BAGNOLET"]
[314,"RAMDANI CYRENA","MIF","ASG BAGNOLET"]
[315,"RAMDANI RAYAN","POM","ASG BAGNOLET"]
[316,"RAZAFINDRALAMBO ISAAC","BEM","ASG BAGNOLET"]
[317,"RENAUDIN MAÏA","POF","ASG BAGNOLET"]
[318,"RENAUDIN TOM","POM","ASG BAGNOLET"]
[319,"RENOUARD NILS","BEM","ASG BAGNOLET"]
[320,"RICUR YANN","MIM","ASG BAGNOLET"]
[321,"ROJAS PAUL","BEM","ASG BAGNOLET"]
[322,"ROUSSEL YANN","BEM","ASG BAGNOLET"]
[323,"ROUVRE MATHI","MIM","ASG BAGNOLET"]
[324,"SEDKI YACINE","POM","ASG BAGNOLET"]
[325,"SILVEIRA ALEXANDRE","BEM","ASG BAGNOLET"]
[326,"SILVESTRE JUAN","POM","ASG BAGNOLET"]
[327,"TARAVELLA NINO","POM","ASG BAGNOLET"]
[328,"TITOUCHE EUGENIE","POF","ASG BAGNOLET"]
[329,"TITOUH INES","CAF","ASG BAGNOLET"]
[330,"TIXIER NIL","POM","ASG BAGNOLET"]
[331,"TODIBO MAËLYS","POF","ASG BAGNOLET"]
[332,"TSAALBI DOUNIA","POF","ASG BAGNOLET"]
[333,"VIGNAL PAUL","MIM","ASG BAGNOLET"]
[334,"VIGNAS CHARLES","MIM","ASG BAGNOLET"]
[335,"VION MAËLLE","POF","ASG BAGNOLET"]
[336,"YOMBA HOUPA PHILIPPE","MIM","ASG BAGNOLET"]
[337,"ABDELNABY AHMED IBRAHIM","POM","ATHLE LE BOURGET DRANCY DUGNY"]
[338,"ABDELNABY AHMED JANNA","MMOF","ATHLE LE BOURGET DRANCY DUGNY"]
[339,"AIT TALEB MANEL","BEF","ATHLE LE BOURGET DRANCY DUGNY"]
[340,"ALEXANDRE NEELA","MOF","ATHLE LE BOURGET DRANCY DUGNY"]
[341,"ATTAL ELONA","MOF","ATHLE LE BOURGET DRANCY DUGNY"]
[342,"BALASUBRAMANIAM VITHURSHAN","BEM","ATHLE LE BOURGET DRANCY DUGNY"]
[343,"BELBACHIR MANEL","POF","ATHLE LE BOURGET DRANCY DUGNY"]
[344,"BELLILI KARIMA","V1F","ATHLE LE BOURGET DRANCY DUGNY"]
[345,"BEN AMOR LINA","MOF","ATHLE LE BOURGET DRANCY DUGNY"]
[346,"BENBALIT LINA","MOF","ATHLE LE BOURGET DRANCY DUGNY"]
[347,"BENNECER ALYA","BEF","ATHLE LE BOURGET DRANCY DUGNY"]
[348,"BENTAOUS LINA","POF","ATHLE LE BOURGET DRANCY DUGNY"]
[349,"BERTANI EDDY","S1M","ATHLE LE BOURGET DRANCY DUGNY"]
[350,"BIRBA MANUELLE","MIF","ATHLE LE BOURGET DRANCY DUGNY"]
[351,"BIRBA STELLA","MIF","ATHLE LE BOURGET DRANCY DUGNY"]
[352,"BOUARFA ENGIE","POF","ATHLE LE BOURGET DRANCY DUGNY"]
[353,"BOUGHAZI INSAF","MMOF","ATHLE LE BOURGET DRANCY DUGNY"]
[354,"BOUGHAZI MONIA","BEF","ATHLE LE BOURGET DRANCY DUGNY"]
[355,"BOUGHAZI RIZLAINE","MOF","ATHLE LE BOURGET DRANCY DUGNY"]
[356,"BOULAGHMOUDI LYLLA","MMOF","ATHLE LE BOURGET DRANCY DUGNY"]
[357,"BOUMAZA NADIM","POM","ATHLE LE BOURGET DRANCY DUGNY"]
[358,"BOUMAZA WASSIM","POM","ATHLE LE BOURGET DRANCY DUGNY"]
[359,"BOUSSELHAM SIDI-HAMED","POM","ATHLE LE BOURGET DRANCY DUGNY"]
[360,"CAMUS ELYJAH","MMOF","ATHLE LE BOURGET DRANCY DUGNY"]
[361,"CANON THEO","MIM","ATHLE LE BOURGET DRANCY DUGNY"]
[362,"CARTIER PHILIPPE","V2M","ATHLE LE BOURGET DRANCY DUGNY"]
[363,"CARTIER RONAND","S1M","ATHLE LE BOURGET DRANCY DUGNY"]
[364,"CHATELUS-DIALLO ABDOULAYE","BEM","ATHLE LE BOURGET DRANCY DUGNY"]
[365,"CHAUVET SEBASTIEN","S2M","ATHLE LE BOURGET DRANCY DUGNY"]
[366,"CHEKOUFI ALAA","MOF","ATHLE LE BOURGET DRANCY DUGNY"]
[367,"CHEMERZELIN SALIMA","BEF","ATHLE LE BOURGET DRANCY DUGNY"]
[368,"CHERIFI MANEL YOUSRA","MOF","ATHLE LE BOURGET DRANCY DUGNY"]
[369,"CHERIFI SAMI","MIM","ATHLE LE BOURGET DRANCY DUGNY"]
[370,"CHERON THEO","CAM","ATHLE LE BOURGET DRANCY DUGNY"]
[371,"CHOTT ENZO","MOM","ATHLE LE BOURGET DRANCY DUGNY"]
[372,"CISSE MARIAM","MIF","ATHLE LE BOURGET DRANCY DUGNY"]
[373,"CROZES JEAN PIERRE","BEM","ATHLE LE BOURGET DRANCY DUGNY"]
[374,"DA SILVA PHILIPPE","V1M","ATHLE LE BOURGET DRANCY DUGNY"]
[375,"DA SILVA ROMAIN","CAM","ATHLE LE BOURGET DRANCY DUGNY"]
[376,"DAD LEA","MMOF","ATHLE LE BOURGET DRANCY DUGNY"]
[377,"DEFAY DANIEL","S1M","ATHLE LE BOURGET DRANCY DUGNY"]
[378,"DERRAS SARAH","CAF","ATHLE LE BOURGET DRANCY DUGNY"]
[379,"DINANE DENZEL","MIM","ATHLE LE BOURGET DRANCY DUGNY"]
[380,"DJAHLAT HEDY","CAM","ATHLE LE BOURGET DRANCY DUGNY"]
[381,"DORE BERNARD","V3M","ATHLE LE BOURGET DRANCY DUGNY"]
[382,"DURAND HUGO","BEM","ATHLE LE BOURGET DRANCY DUGNY"]
[383,"EL OUASST CHAIMA","POF","ATHLE LE BOURGET DRANCY DUGNY"]
[384,"EL OUASST SOUHAYBE","MMOM","ATHLE LE BOURGET DRANCY DUGNY"]
[385,"FAKIRI ILIAN","MOM","ATHLE LE BOURGET DRANCY DUGNY"]
[386,"FOFANA NAMIZATA","MIF","ATHLE LE BOURGET DRANCY DUGNY"]
[387,"FOUGHALI HOUCINE","POM","ATHLE LE BOURGET DRANCY DUGNY"]
[388,"FOURNIVALE ILIES","CAM","ATHLE LE BOURGET DRANCY DUGNY"]
[389,"FOURNIVALE ILIES","JUM","ATHLE LE BOURGET DRANCY DUGNY"]
[390,"FRANCILLETTE LUKAS","MOM","ATHLE LE BOURGET DRANCY DUGNY"]
[391,"FU SABRINA","POF","ATHLE LE BOURGET DRANCY DUGNY"]
[392,"GOMES NATHAN","POM","ATHLE LE BOURGET DRANCY DUGNY"]
[393,"GOURVIL VALENTIN","POM","ATHLE LE BOURGET DRANCY DUGNY"]
[394,"GREBET LEA","MIF","ATHLE LE BOURGET DRANCY DUGNY"]
[395,"HADDACHE NOAMAN","BEM","ATHLE LE BOURGET DRANCY DUGNY"]
[396,"HAGGANI AARON","MMOM","ATHLE LE BOURGET DRANCY DUGNY"]
[397,"HAGGANI ENZO","BEM","ATHLE LE BOURGET DRANCY DUGNY"]
[398,"HAGGANI RYAN","MIM","ATHLE LE BOURGET DRANCY DUGNY"]
[399,"HAMIANE AMIR","MOM","ATHLE LE BOURGET DRANCY DUGNY"]
[400,"HAMMACHE ABDELHAKIM","V2M","ATHLE LE BOURGET DRANCY DUGNY"]
[401,"HAMOUDI ANYA","POF","ATHLE LE BOURGET DRANCY DUGNY"]
[402,"HAMOUDI WILLEN","BEM","ATHLE LE BOURGET DRANCY DUGNY"]
[403,"HARRACH MOHAMMED","POM","ATHLE LE BOURGET DRANCY DUGNY"]
[404,"HAYI-SLAYMAN AYA","MOF","ATHLE LE BOURGET DRANCY DUGNY"]
[405,"HFA MOHAMED","POM","ATHLE LE BOURGET DRANCY DUGNY"]
[406,"HIPPOCRATE ALLEN","MOM","ATHLE LE BOURGET DRANCY DUGNY"]
[407,"HOLCZINGER DAVID","BEM","ATHLE LE BOURGET DRANCY DUGNY"]
[408,"IBOUROI NAIMA","CAF","ATHLE LE BOURGET DRANCY DUGNY"]
[409,"IYOK-OLOUME WENDEL THED","MOM","ATHLE LE BOURGET DRANCY DUGNY"]
[410,"KADA YOUNES","MOM","ATHLE LE BOURGET DRANCY DUGNY"]
[411,"KADRI INES","MOF","ATHLE LE BOURGET DRANCY DUGNY"]
[412,"KADRI MESSAOUD","V2M","ATHLE LE BOURGET DRANCY DUGNY"]
[413,"KADRI SILYA","MIF","ATHLE LE BOURGET DRANCY DUGNY"]
[414,"KAMAGATE MARIAM","MIF","ATHLE LE BOURGET DRANCY DUGNY"]
[415,"KAYA FIKOU ENNERY","BEM","ATHLE LE BOURGET DRANCY DUGNY"]
[416,"KAYA-FIKOU OLIVIA","CAF","ATHLE LE BOURGET DRANCY DUGNY"]
[417,"KHERIF/ NAIT MEDDOUR SYPHAX","MOM","ATHLE LE BOURGET DRANCY DUGNY"]
[418,"KHERIF/NAIT MEDDOUR MELYA","MMOF","ATHLE LE BOURGET DRANCY DUGNY"]
[419,"KINDONGO-KETA CEDRIC","CAM","ATHLE LE BOURGET DRANCY DUGNY"]
[420,"KINGUE FRANCINE","MIF","ATHLE LE BOURGET DRANCY DUGNY"]
[421,"KONATE RAMATA","MIF","ATHLE LE BOURGET DRANCY DUGNY"]
[422,"KONTE HAROUMA","BEF","ATHLE LE BOURGET DRANCY DUGNY"]
[423,"KOVANDZIC ANTHONY","JUM","ATHLE LE BOURGET DRANCY DUGNY"]
[424,"LAGUERRE OCEANE","MIF","ATHLE LE BOURGET DRANCY DUGNY"]
[425,"LAHZAMI ZAHRA","MOF","ATHLE LE BOURGET DRANCY DUGNY"]
[426,"LAINE ROMANE","MIF","ATHLE LE BOURGET DRANCY DUGNY"]
[427,"LAMARTINE KALLY","MIF","ATHLE LE BOURGET DRANCY DUGNY"]
[428,"LAMARTINE KENIS","POM","ATHLE LE BOURGET DRANCY DUGNY"]
[429,"LAURAND DOMINIQUE","V1F","ATHLE LE BOURGET DRANCY DUGNY"]
[430,"LEGAL KILLIAN","POM","ATHLE LE BOURGET DRANCY DUGNY"]
[431,"LIARD LAURA","JUM","ATHLE LE BOURGET DRANCY DUGNY"]
[432,"LOUKAKOU YOHAN","MIM","ATHLE LE BOURGET DRANCY DUGNY"]
[433,"MAJED SYNDA","POF","ATHLE LE BOURGET DRANCY DUGNY"]
[434,"MALETIC EMILI","MMOF","ATHLE LE BOURGET DRANCY DUGNY"]
[435,"MALONGA- BAYINA BITCHOUA","BEF","ATHLE LE BOURGET DRANCY DUGNY"]
[436,"MALONGA-BAYINA TCHEZZA","POF","ATHLE LE BOURGET DRANCY DUGNY"]
[437,"MARLIANGEAS QUENTIN","MOM","ATHLE LE BOURGET DRANCY DUGNY"]
[438,"MARMION JEANNE","MIF","ATHLE LE BOURGET DRANCY DUGNY"]
[439,"MARTINS DUNCAN","POM","ATHLE LE BOURGET DRANCY DUGNY"]
[440,"MARTINS LOGAN","MIM","ATHLE LE BOURGET DRANCY DUGNY"]
[441,"MCHANGAMA KAMILYA","POF","ATHLE LE BOURGET DRANCY DUGNY"]
[442,"MENDES DIEUDONNEE VALENTINA","MIF","ATHLE LE BOURGET DRANCY DUGNY"]
[443,"MESSAOUDI RAYAN","BEM","ATHLE LE BOURGET DRANCY DUGNY"]
[444,"MOREL PALOMA","MIF","ATHLE LE BOURGET DRANCY DUGNY"]
[445,"N'DIAYE MOHAMED","MOM","ATHLE LE BOURGET DRANCY DUGNY"]
[446,"NEVES SIMOES KATIA","BEF","ATHLE LE BOURGET DRANCY DUGNY"]
[447,"NEVES SIMOES LUDIMILA","MMOF","ATHLE LE BOURGET DRANCY DUGNY"]
[448,"NTALAGANA YANIS","JUM","ATHLE LE BOURGET DRANCY DUGNY"]
[449,"NZOGHE MERIAH","MOF","ATHLE LE BOURGET DRANCY DUGNY"]
[450,"OULD'ALI YACINE-ZIDANE","MOM","ATHLE LE BOURGET DRANCY DUGNY"]
[451,"PAGEIX ANNE","JUF","ATHLE LE BOURGET DRANCY DUGNY"]
[452,"PANNETIER ETHAN","POM","ATHLE LE BOURGET DRANCY DUGNY"]
[453,"PESTANA PAULINE","MIF","ATHLE LE BOURGET DRANCY DUGNY"]
[454,"PESTANA SOPHIE","CAF","ATHLE LE BOURGET DRANCY DUGNY"]
[455,"POUPART LENNY","POM","ATHLE LE BOURGET DRANCY DUGNY"]
[456,"RAIS ILYANE","MOM","ATHLE LE BOURGET DRANCY DUGNY"]
[457,"RAMOND PIERRE","JUM","ATHLE LE BOURGET DRANCY DUGNY"]
[458,"REBRAY ANNE-MARIE","V3F","ATHLE LE BOURGET DRANCY DUGNY"]
[459,"REBRAY ARNAUD","S1M","ATHLE LE BOURGET DRANCY DUGNY"]
[460,"SAINUL ABDEEN IRFAN","BEM","ATHLE LE BOURGET DRANCY DUGNY"]
[461,"SAMGARE MALADO","BEF","ATHLE LE BOURGET DRANCY DUGNY"]
[462,"SARIGUL ZERDA","MOF","ATHLE LE BOURGET DRANCY DUGNY"]
[463,"SENE HAKIM","MMOM","ATHLE LE BOURGET DRANCY DUGNY"]
[464,"SIFI ANIS","POM","ATHLE LE BOURGET DRANCY DUGNY"]
[465,"SIMON CLEMENT","MOM","ATHLE LE BOURGET DRANCY DUGNY"]
[466,"SMITH KETTY","MIF","ATHLE LE BOURGET DRANCY DUGNY"]
[467,"TAFNA JEREMY","MIM","ATHLE LE BOURGET DRANCY DUGNY"]
[468,"TANRIVERDI EREN","MIM","ATHLE LE BOURGET DRANCY DUGNY"]
[469,"THIAM HAMET","MOM","ATHLE LE BOURGET DRANCY DUGNY"]
[470,"THOULE CYRIELLE","MIF","ATHLE LE BOURGET DRANCY DUGNY"]
[471,"TOMAS ESPEJO PIERRE","S2M","ATHLE LE BOURGET DRANCY DUGNY"]
[472,"VASSELIN AHMED","MMOM","ATHLE LE BOURGET DRANCY DUGNY"]
[473,"VASSORT EDGAR","BEM","ATHLE LE BOURGET DRANCY DUGNY"]
[474,"ZEGANE YAMINA","POF","ATHLE LE BOURGET DRANCY DUGNY"]
[475,"ZIANI DOUAE","POF","ATHLE LE BOURGET DRANCY DUGNY"]
[476,"ZIANI HOUDA","MOF","ATHLE LE BOURGET DRANCY DUGNY"]
[477,"ZOUAOUI ABIR","MOF","ATHLE LE BOURGET DRANCY DUGNY"]
[478,"ZOUAOUI SELSABILE","MOF","ATHLE LE BOURGET DRANCY DUGNY"]
[479,"AGBAHOSSI FEMY MARIANNE","POF","BLANC MESNIL SA"]
[480,"AGBAHOSSI MATHYS","MOM","BLANC MESNIL SA"]
[481,"AHAMADA NAYAME","CAF","BLANC MESNIL SA"]
[482,"AKA AMEL","CAF","BLANC MESNIL SA"]
[483,"AKABOU NAWEL","MIF","BLANC MESNIL SA"]
[484,"ALI  FILS IMANE","BEF","BLANC MESNIL SA"]
[485,"ANDRE EMMANUEL","CAM","BLANC MESNIL SA"]
[486,"ANDRE EMMANUEL","JUM","BLANC MESNIL SA"]
[487,"ANDRE RAPHAEL","BEM","BLANC MESNIL SA"]
[488,"BAURE MATHILDA","BEF","BLANC MESNIL SA"]
[489,"BENON BETSY","CAF","BLANC MESNIL SA"]
[490,"BENON BETSY","JUF","BLANC MESNIL SA"]
[491,"BENON JEANNY","MIF","BLANC MESNIL SA"]
[492,"BERETE FANTA","MIF","BLANC MESNIL SA"]
[493,"BIRI CALYCIA","POF","BLANC MESNIL SA"]
[494,"BIRI THAISS","BEF","BLANC MESNIL SA"]
[495,"BOUMEDJANE DARYNE","MOF","BLANC MESNIL SA"]
[496,"BOUMEDJANE JANA","POF","BLANC MESNIL SA"]
[497,"BOUMEDJANE MANIS","BEM","BLANC MESNIL SA"]
[498,"BOUNGOU RODNEY","POM","BLANC MESNIL SA"]
[499,"CAPDEBOSCQ FRANCOIS","POM","BLANC MESNIL SA"]
[500,"CAPDEBOSCQ SEBASTIEN","MIM","BLANC MESNIL SA"]
[501,"CELESTE AXEL","MIM","BLANC MESNIL SA"]
[502,"CELESTE MAX","V1M","BLANC MESNIL SA"]
[503,"CELESTE Max","V1M","BLANC MESNIL SA"]
[504,"CHATENET ROMAIN","MIM","BLANC MESNIL SA"]
[505,"CHERIF SIRINE","POF","BLANC MESNIL SA"]
[506,"CHERIF YASMINE","BEF","BLANC MESNIL SA"]
[507,"COUTENCEAU ENZO-EDGAR","BEM","BLANC MESNIL SA"]
[508,"DANMOLA OLUWAKEMI","JUM","BLANC MESNIL SA"]
[509,"DAVILLE DYLAN","CAM","BLANC MESNIL SA"]
[510,"DAVILLE DYLAN","JUM","BLANC MESNIL SA"]
[511,"DE OLIVEIRA BRUNO","S1M","BLANC MESNIL SA"]
[512,"DE OLIVEIRA EUCLIDES","S2M","BLANC MESNIL SA"]
[513,"DEKA ANAIS","BEF","BLANC MESNIL SA"]
[514,"DELMA DANNY","MIM","BLANC MESNIL SA"]
[515,"DIAKHO KHADIDIATOU","MIF","BLANC MESNIL SA"]
[516,"DOUCOURE KOUTA","POF","BLANC MESNIL SA"]
[517,"DUVERCEAU LAURY","MIF","BLANC MESNIL SA"]
[518,"EL AISSAOUI YACINE","S1M","BLANC MESNIL SA"]
[519,"EL OUEZZANE HOUDA","CAF","BLANC MESNIL SA"]
[520,"EL OUEZZANE HOUDA","JUF","BLANC MESNIL SA"]
[521,"EL SHAHAWI REDOUANE","BEM","BLANC MESNIL SA"]
[522,"EL YOUSSOUFI LINA","POF","BLANC MESNIL SA"]
[523,"FAFI JALAL","BEM","BLANC MESNIL SA"]
[524,"FAFI YOUNES","MIM","BLANC MESNIL SA"]
[525,"GARNIER AMINE","MIM","BLANC MESNIL SA"]
[526,"GARNIER LYNA-FARAH","POF","BLANC MESNIL SA"]
[527,"GIGLIA GAELLE","MIF","BLANC MESNIL SA"]
[528,"GOLVET ALIZEE","CAF","BLANC MESNIL SA"]
[529,"GOURSOLAS YONNY","POM","BLANC MESNIL SA"]
[530,"GRANDISSON CAMILLE","MIF","BLANC MESNIL SA"]
[531,"GUILLON NICOLAS","BEM","BLANC MESNIL SA"]
[532,"HUCHON JULIETTE","CAF","BLANC MESNIL SA"]
[533,"HUCHON JULIETTE","JUF","BLANC MESNIL SA"]
[534,"IRGIN SELENE","CAF","BLANC MESNIL SA"]
[535,"IRGIN SELENE","JUF","BLANC MESNIL SA"]
[536,"JOSEPH ARNAUD","S1M","BLANC MESNIL SA"]
[537,"KABA KANNY","JUM","BLANC MESNIL SA"]
[538,"KADDOUR ALYA","BEF","BLANC MESNIL SA"]
[539,"KAMILAS CHRISTO","BEM","BLANC MESNIL SA"]
[540,"KAMILAS JOILINE","POF","BLANC MESNIL SA"]
[541,"KAOUANE LINA","MOF","BLANC MESNIL SA"]
[542,"KAOUANE SYRINE","CAF","BLANC MESNIL SA"]
[543,"KUMANDA KAREL","JUM","BLANC MESNIL SA"]
[544,"LACORDELLE REMI","CAM","BLANC MESNIL SA"]
[545,"LOKETEMBO NATHAN","MIM","BLANC MESNIL SA"]
[546,"LOPES ANDRADE KEVIN","CAM","BLANC MESNIL SA"]
[547,"LOZANO ANA","POF","BLANC MESNIL SA"]
[548,"LUMONI JOHANA","MIF","BLANC MESNIL SA"]
[549,"MAGIT ALLLYSON","POF","BLANC MESNIL SA"]
[550,"MAKUMBA NANI ZAYAWO JORDI","BEM","BLANC MESNIL SA"]
[551,"MARIE-LOUISE LOUHANE","POF","BLANC MESNIL SA"]
[552,"MHOUDINE AICHA  INES","POF","BLANC MESNIL SA"]
[553,"MOKHFI ANISSA","POF","BLANC MESNIL SA"]
[554,"MOUELLE MBENGUE MAX-ALEXANDRE","BEM","BLANC MESNIL SA"]
[555,"MOUSSA YOUSSEF","POM","BLANC MESNIL SA"]
[556,"NICOLAS NERMANY","MIF","BLANC MESNIL SA"]
[557,"NICOLAS WIDMANY","MIF","BLANC MESNIL SA"]
[558,"ODE ALEXIS","MIM","BLANC MESNIL SA"]
[559,"PATAY ROMAIN","MIM","BLANC MESNIL SA"]
[560,"PHAETON MAELLY","POF","BLANC MESNIL SA"]
[561,"PICAUT ELODIE","S1F","BLANC MESNIL SA"]
[562,"POQUET ELISE","BEF","BLANC MESNIL SA"]
[563,"RUCORT SHANA","MIF","BLANC MESNIL SA"]
[564,"SABAS MELVIN","JUM","BLANC MESNIL SA"]
[565,"SAIDABDALLAH HAMZA","BEM","BLANC MESNIL SA"]
[566,"SANTOS KYLIAN","BEM","BLANC MESNIL SA"]
[567,"SEBOU OISINI","MIM","BLANC MESNIL SA"]
[568,"SINNAPPANE MANDY","BEF","BLANC MESNIL SA"]
[569,"SINNAPPANE WILLIAM","BEM","BLANC MESNIL SA"]
[570,"SOMMIER CHRISTOPHE","S1M","BLANC MESNIL SA"]
[571,"TUITCHEU ANNE FLORENCE","JUF","BLANC MESNIL SA"]
[572,"TUITCHEU HAPPY AXEL","JUM","BLANC MESNIL SA"]
[573,"VERMONT DYLAN","CAM","BLANC MESNIL SA"]
[574,"YAYA DINA","BEF","BLANC MESNIL SA"]
[575,"YOUSSOUF KELYAN","MOM","BLANC MESNIL SA"]
[576,"AID RAYAN","POM","CA ROMAINVILLE"]
[577,"AID SOFIANE","MOM","CA ROMAINVILLE"]
[578,"ARZOINE-LAFAGES AURELIE","JUF","CA ROMAINVILLE"]
[579,"ARZOINE-LAFAGES MATHIEU","S1M","CA ROMAINVILLE"]
[580,"ATTELANN SACHA","POM","CA ROMAINVILLE"]
[581,"AYACHI ELYAS","MOM","CA ROMAINVILLE"]
[582,"BEAUFRETON ISABELLE","V2F","CA ROMAINVILLE"]
[583,"BERIBECHE SHANIA","MIF","CA ROMAINVILLE"]
[584,"BOMPARD SIMON","JUM","CA ROMAINVILLE"]
[585,"BOURDET HIPPOLYTE","JUM","CA ROMAINVILLE"]
[586,"CARDON MAXANCE","POM","CA ROMAINVILLE"]
[587,"CUTILLAS EMMA","CAF","CA ROMAINVILLE"]
[588,"CUTILLAS EMMA","JUF","CA ROMAINVILLE"]
[589,"GOGUILLON ALABAMA","POF","CA ROMAINVILLE"]
[590,"GOLDBERG MATHIAS","CAM","CA ROMAINVILLE"]
[591,"GOLDBERG MATHIAS","JUM","CA ROMAINVILLE"]
[592,"GONZALEZ ALEJANDRO","POM","CA ROMAINVILLE"]
[593,"GOUNO ELIOTT","MOM","CA ROMAINVILLE"]
[594,"GRIPACUS MELISSA","CAF","CA ROMAINVILLE"]
[595,"HAMARASH JANELLE","POF","CA ROMAINVILLE"]
[596,"HAMARASH NOE","MIM","CA ROMAINVILLE"]
[597,"HASSID TINA","MOF","CA ROMAINVILLE"]
[598,"JEAN-THEODORE YOAN","POM","CA ROMAINVILLE"]
[599,"JOLY LOU","BEF","CA ROMAINVILLE"]
[600,"KACETE ILONA","CAF","CA ROMAINVILLE"]
[601,"KACETE ILONA","JUF","CA ROMAINVILLE"]
[602,"KHETAL JULYA","BEF","CA ROMAINVILLE"]
[603,"MIANAYIDIKIDI REMYLIA MYRALINE","MIF","CA ROMAINVILLE"]
[604,"MOTTE-PICARD NOAH","MOM","CA ROMAINVILLE"]
[605,"NATKUNASEELAN NATSUJANI","MIF","CA ROMAINVILLE"]
[606,"NELSON JOHANNA","MIF","CA ROMAINVILLE"]
[607,"NIENAT LAWRENCE","JUF","CA ROMAINVILLE"]
[608,"NONJU WILLIAM","CAM","CA ROMAINVILLE"]
[609,"POIDEVIN LOUANE","POF","CA ROMAINVILLE"]
[610,"ROUTY LORINA","POF","CA ROMAINVILLE"]
[611,"RUINEAU COLETTE","V3F","CA ROMAINVILLE"]
[612,"SLIMANI RIZLENE","JUF","CA ROMAINVILLE"]
[613,"SOTO TANGUY","S1M","CA ROMAINVILLE"]
[614,"TOFFIN BRYAN","CAM","CA ROMAINVILLE"]
[615,"TOFFIN BRYAN","JUM","CA ROMAINVILLE"]
[616,"ZEROUK SOFIANE","POM","CA ROMAINVILLE"]
[617,"MECHIET SAMIR","JUM","CE DALKIA"]
[618,"ADELAIDE EMERIO","MOM","CM AUBERVILLIERS ATHLETISME"]
[619,"ADJIWANOU NICOLAS","POM","CM AUBERVILLIERS ATHLETISME"]
[620,"AGELISAS-CLERQUI MAELYS","BEF","CM AUBERVILLIERS ATHLETISME"]
[621,"ALTHEY KESSY","POF","CM AUBERVILLIERS ATHLETISME"]
[622,"BELINGA MBAZGA ZAKARIAS","POM","CM AUBERVILLIERS ATHLETISME"]
[623,"BELKALEM AMINE","MOM","CM AUBERVILLIERS ATHLETISME"]
[624,"BENAICH ADAM","POM","CM AUBERVILLIERS ATHLETISME"]
[625,"BENIAAZA KAYLIA","POF","CM AUBERVILLIERS ATHLETISME"]
[626,"BERTON N 'DIAYE MAGALTE","MMOM","CM AUBERVILLIERS ATHLETISME"]
[627,"BLAY AGODIO.CORALIE","POF","CM AUBERVILLIERS ATHLETISME"]
[628,"BLAYE AGODIO.CORALIE","POF","CM AUBERVILLIERS ATHLETISME"]
[629,"BOUKHRISS HAMZA","BEF","CM AUBERVILLIERS ATHLETISME"]
[630,"BRO SAMUEL","MOM","CM AUBERVILLIERS ATHLETISME"]
[631,"CAMARA SALIMATA","POF","CM AUBERVILLIERS ATHLETISME"]
[632,"CHOUAOUI ASYA","BEM","CM AUBERVILLIERS ATHLETISME"]
[633,"CHOUAOUI SELMA","MOF","CM AUBERVILLIERS ATHLETISME"]
[634,"DEVALLEZ ENZO","BEM","CM AUBERVILLIERS ATHLETISME"]
[635,"DEVALLEZ LEA","MOF","CM AUBERVILLIERS ATHLETISME"]
[636,"DIALLO HABIBATOU","MIF","CM AUBERVILLIERS ATHLETISME"]
[637,"DIOP SAMARO","MIM","CM AUBERVILLIERS ATHLETISME"]
[638,"DUHAMEL JONATHAN","MOM","CM AUBERVILLIERS ATHLETISME"]
[639,"ELOUARDI SOFIA","CAF","CM AUBERVILLIERS ATHLETISME"]
[640,"EUGENE DAWIN","BEM","CM AUBERVILLIERS ATHLETISME"]
[641,"GAHOU BRADLEY","MMOM","CM AUBERVILLIERS ATHLETISME"]
[642,"GARNIER JEAN JACQUES","V2M","CM AUBERVILLIERS ATHLETISME"]
[643,"HAURAIS FLORIAN","S1M","CM AUBERVILLIERS ATHLETISME"]
[644,"HOPART ILAN","POM","CM AUBERVILLIERS ATHLETISME"]
[645,"HUREL SEMY","MOM","CM AUBERVILLIERS ATHLETISME"]
[646,"JEEVARATNAM ANISSAN","MOM","CM AUBERVILLIERS ATHLETISME"]
[647,"JEEVARATNAM ASEENA","MMOF","CM AUBERVILLIERS ATHLETISME"]
[648,"JEEVARATNAM JEENUSAN","BEM","CM AUBERVILLIERS ATHLETISME"]
[649,"KOFFI MARIE FLORE","CAF","CM AUBERVILLIERS ATHLETISME"]
[650,"LAKHDAR HANAE","POF","CM AUBERVILLIERS ATHLETISME"]
[651,"LEBORGNE DAYAN","MOM","CM AUBERVILLIERS ATHLETISME"]
[652,"LOGON PHEBE","MMOF","CM AUBERVILLIERS ATHLETISME"]
[653,"MAGGI LIAM","BEM","CM AUBERVILLIERS ATHLETISME"]
[654,"MARTIN PAULINE","S1F","CM AUBERVILLIERS ATHLETISME"]
[655,"MATOUR HENZO","BEM","CM AUBERVILLIERS ATHLETISME"]
[656,"NUJEERALLEE SAMIRAH","CAF","CM AUBERVILLIERS ATHLETISME"]
[657,"QUETI AXEL","BEM","CM AUBERVILLIERS ATHLETISME"]
[658,"RAJENDRABOSE DEIVANES","S1M","CM AUBERVILLIERS ATHLETISME"]
[659,"RAJENDRABOSE SHAMENS","CAF","CM AUBERVILLIERS ATHLETISME"]
[660,"RUNGASSAMY AMRAVADEE  / EVA","V3F","CM AUBERVILLIERS ATHLETISME"]
[661,"SADEK SARAH","CAF","CM AUBERVILLIERS ATHLETISME"]
[662,"SAIDANE ISLEM","BEF","CM AUBERVILLIERS ATHLETISME"]
[663,"SALADE SHERINE","BEF","CM AUBERVILLIERS ATHLETISME"]
[664,"SALEM-ATTIA WALID","BEM","CM AUBERVILLIERS ATHLETISME"]
[665,"SYLLA CISSE","MOM","CM AUBERVILLIERS ATHLETISME"]
[666,"SYLLA MARIAM","MIF","CM AUBERVILLIERS ATHLETISME"]
[667,"SYLLA SAMBA","MOM","CM AUBERVILLIERS ATHLETISME"]
[668,"TOURE IDRISS","POM","CM AUBERVILLIERS ATHLETISME"]
[669,"WANTE FATOUMATA","BEF","CM AUBERVILLIERS ATHLETISME"]
[670,"ZADI JEAN JACQUES","JUM","CM AUBERVILLIERS ATHLETISME"]
[671,"ZEGLAOUI HINDE","CAF","CM AUBERVILLIERS ATHLETISME"]
[672,"BAUX  LOREN","S2F","CMA COUREURS DE FOND"]
[673,"BAUX SERGE","V3M","CMA COUREURS DE FOND"]
[674,"BELZGAOU  AGNES","V1F","CMA COUREURS DE FOND"]
[675,"BELZGAOU  PASCAL","V1M","CMA COUREURS DE FOND"]
[676,"BOUSSARIE  ELODIE","S2F","CMA COUREURS DE FOND"]
[677,"CANIGUY  OLIVIER","V2M","CMA COUREURS DE FOND"]
[678,"CRISCONIO  JEAN BAPTISTE","V2M","CMA COUREURS DE FOND"]
[679,"DAMAS  RICHARD","V2M","CMA COUREURS DE FOND"]
[680,"DUDOUIT  OLIVIER","V2M","CMA COUREURS DE FOND"]
[681,"EZELIS  FRANCELIN","V2M","CMA COUREURS DE FOND"]
[682,"JOUVE  JEAN JACQUES","V3M","CMA COUREURS DE FOND"]
[683,"LAVERGNE  SYLVIE","V2F","CMA COUREURS DE FOND"]
[684,"LAVERGNE PATRICK","V3M","CMA COUREURS DE FOND"]
[685,"MAGGI  VIRGINIE","S2F","CMA COUREURS DE FOND"]
[686,"NAVARRE  GILBERT","V5M","CMA COUREURS DE FOND"]
[687,"RICHARDOT  ALEXANDRE","S2M","CMA COUREURS DE FOND"]
[688,"STEPIEN  JEAN CLAUDE","V2M","CMA COUREURS DE FOND"]
[689,"TOUCHART  DANIEL","V4M","CMA COUREURS DE FOND"]
[690,"WIRTH GENEVIEVE","V2F","CMA COUREURS DE FOND"]
[691,"ANSEUR ADEM","CAM","COM ARGENTEUIL"]
[692,"ANSEUR AYMEN","CAM","COM ARGENTEUIL"]
[693,"ANSEUR AYMEN","JUM","COM ARGENTEUIL"]
[694,"ATIA FATINE","CAF","COM ARGENTEUIL"]
[695,"ATIA FATINE","JUF","COM ARGENTEUIL"]
[696,"BANELHAG BILEL","CAM","COM ARGENTEUIL"]
[697,"BANELHAG MAJDALINE","POF","COM ARGENTEUIL"]
[698,"BARBACH BADR","BEM","COM ARGENTEUIL"]
[699,"BARBACH CHEIMA","POF","COM ARGENTEUIL"]
[700,"BERNARD NICOLAS","CAM","COM ARGENTEUIL"]
[701,"BERNARD NICOLAS","JUM","COM ARGENTEUIL"]
[702,"BUCZYNSKA JOANNA BARBARA","CAF","COM ARGENTEUIL"]
[703,"BUCZYNSKA JOANNA BARBARA","JUF","COM ARGENTEUIL"]
[704,"BUCZYNSKI DAMIEN CHRISTOPHE","MOM","COM ARGENTEUIL"]
[705,"CASIMIR BRADLEY","JUM","COM ARGENTEUIL"]
[706,"CHATTOUNA RAYAN","CAM","COM ARGENTEUIL"]
[707,"DOS SANTOS MATHIAS","CAM","COM ARGENTEUIL"]
[708,"EL BOUHI ALI","JUM","COM ARGENTEUIL"]
[709,"FONTOURA MIGUEL","JUM","COM ARGENTEUIL"]
[710,"FOURNIAT BENJAMIN","JUM","COM ARGENTEUIL"]
[711,"GUIOCK HONORÉ","S2M","COM ARGENTEUIL"]
[712,"HASSAN NIL","CAM","COM ARGENTEUIL"]
[713,"HASSEINE AMBRINE","MIF","COM ARGENTEUIL"]
[714,"JEBARA NAWEL","MOF","COM ARGENTEUIL"]
[715,"KHATTABI MOURAD","JUM","COM ARGENTEUIL"]
[716,"LE TENO HADRIEN","POM","COM ARGENTEUIL"]
[717,"MALACKY SAMUELLA","BEF","COM ARGENTEUIL"]
[718,"MANSOURI MASSY","MOM","COM ARGENTEUIL"]
[719,"MANSOURI YASMI NE","MOF","COM ARGENTEUIL"]
[720,"MARCOUS PIERRE","S1M","COM ARGENTEUIL"]
[721,"MEBROUK NATHAN","JUM","COM ARGENTEUIL"]
[722,"MELIK NAELLE","MMOF","COM ARGENTEUIL"]
[723,"MELIK NORAH","POF","COM ARGENTEUIL"]
[724,"MELIK SHEÏMA","BEF","COM ARGENTEUIL"]
[725,"MENNY LUCAS","MIM","COM ARGENTEUIL"]
[726,"MENNY ROMAIN","POM","COM ARGENTEUIL"]
[727,"MENNY VINCENT","CAM","COM ARGENTEUIL"]
[728,"MENNY VINCENT","JUM","COM ARGENTEUIL"]
[729,"MESSOUCI SIRINE","MIF","COM ARGENTEUIL"]
[730,"MRROUCH IMAD","BEM","COM ARGENTEUIL"]
[731,"MRROUCH RÉDA","MMOM","COM ARGENTEUIL"]
[732,"MRROUCH YASMINE","MMOF","COM ARGENTEUIL"]
[733,"NARO KEZIA","MIF","COM ARGENTEUIL"]
[734,"NGASSAM MARIE","BEF","COM ARGENTEUIL"]
[735,"OUALI LAMINE","JUM","COM ARGENTEUIL"]
[736,"PIAT MARGAUX","MOF","COM ARGENTEUIL"]
[737,"TOMO-BILOA CHARLÈNE","CAF","COM ARGENTEUIL"]
[738,"TOURNADE BÉRÉNICE","MOF","COM ARGENTEUIL"]
[739,"TOURNADE PERRINE","MMOF","COM ARGENTEUIL"]
[740,"VARIN DANIEL","V4M","COM ARGENTEUIL"]
[741,"VARIN DANIELLE","V3F","COM ARGENTEUIL"]
[742,"ZERROUKI WADIAA","POF","COM ARGENTEUIL"]
[743,"AIGOUY LEA","POF","COURIR POUR LE PLAISIR"]
[744,"BASTIDON CELINE","V1F","COURIR POUR LE PLAISIR"]
[745,"CESAR ALLISON","JUF","COURIR POUR LE PLAISIR"]
[746,"FAURE AMELIE","S2F","COURIR POUR LE PLAISIR"]
[747,"FELDEN SYLVIE","V2F","COURIR POUR LE PLAISIR"]
[748,"GALLEY CYRIL","JUM","COURIR POUR LE PLAISIR"]
[749,"GRABINGER JULIEN","MIM","COURIR POUR LE PLAISIR"]
[750,"MOREAU VINCENT","JUM","COURIR POUR LE PLAISIR"]
[751,"ABDI LOUIZA","MIF","CS BRETIGNY ATHLETISME"]
[752,"ADJAOUD KAMELIA","CAF","CS BRETIGNY ATHLETISME"]
[753,"ADJAOUD SOFIANE","CAM","CS BRETIGNY ATHLETISME"]
[754,"ADJAOUD SOFIANE","JUM","CS BRETIGNY ATHLETISME"]
[755,"AFONSO ILAN","MMOM","CS BRETIGNY ATHLETISME"]
[756,"ALMEIDA SANTOS TERESA","MIF","CS BRETIGNY ATHLETISME"]
[757,"ALOIR TIMEO","MMOM","CS BRETIGNY ATHLETISME"]
[758,"ANDEGUE GOULVEN","MOM","CS BRETIGNY ATHLETISME"]
[759,"ANDEGUE MATHIS","MMOM","CS BRETIGNY ATHLETISME"]
[760,"ASSERAY MICHAUX YANIS","MOM","CS BRETIGNY ATHLETISME"]
[761,"BACCOUCHE BESSEM","MIM","CS BRETIGNY ATHLETISME"]
[762,"BAYON CAMILLE","MMOF","CS BRETIGNY ATHLETISME"]
[763,"BECAUD ABEL","MMOM","CS BRETIGNY ATHLETISME"]
[764,"BELAZI MAXENCE","CAM","CS BRETIGNY ATHLETISME"]
[765,"BELAZI MAXENCE","JUM","CS BRETIGNY ATHLETISME"]
[766,"BENCHAID JOUHAIM","MMOM","CS BRETIGNY ATHLETISME"]
[767,"BENTAYEB MARINA","MMOF","CS BRETIGNY ATHLETISME"]
[768,"BERTRAND EVAN","POM","CS BRETIGNY ATHLETISME"]
[769,"BÉTRANCOURT JEAN-SÉBASTIEN","S1M","CS BRETIGNY ATHLETISME"]
[770,"BEURY ETHAN","MMOM","CS BRETIGNY ATHLETISME"]
[771,"BIGOT ANGELE","MMOF","CS BRETIGNY ATHLETISME"]
[772,"BONIFACE BAPTISTE","MMOM","CS BRETIGNY ATHLETISME"]
[773,"BONOMO MAXIME","MMOM","CS BRETIGNY ATHLETISME"]
[774,"BONY NOLAN","MMOM","CS BRETIGNY ATHLETISME"]
[775,"BORDELAIS AXEL","MMOM","CS BRETIGNY ATHLETISME"]
[776,"BOUCHLAGHMI MALAK","MMOM","CS BRETIGNY ATHLETISME"]
[777,"BOURGES CLAUDE","V2M","CS BRETIGNY ATHLETISME"]
[778,"BROCARD NARANJO NICOLA","MMOM","CS BRETIGNY ATHLETISME"]
[779,"BRODZKI NATHAN","MOM","CS BRETIGNY ATHLETISME"]
[780,"BUREAU PELTAN HELENE","V1F","CS BRETIGNY ATHLETISME"]
[781,"BURGOT PASCAL","V2M","CS BRETIGNY ATHLETISME"]
[782,"CADET MATHIEU","S1M","CS BRETIGNY ATHLETISME"]
[783,"CASTINGO YANIS","MMOM","CS BRETIGNY ATHLETISME"]
[784,"CERRA CHERAKA KAIS","MOM","CS BRETIGNY ATHLETISME"]
[785,"CHAFFIOL MAYA","MMOF","CS BRETIGNY ATHLETISME"]
[786,"CHAFFIOL NAELLE","MMOF","CS BRETIGNY ATHLETISME"]
[787,"CHASSIER MELVIN","POM","CS BRETIGNY ATHLETISME"]
[788,"CHIBANI AYA","MMOF","CS BRETIGNY ATHLETISME"]
[789,"CHINOT ELSA","MMOF","CS BRETIGNY ATHLETISME"]
[790,"CHRETIEN SANDRINE","S2F","CS BRETIGNY ATHLETISME"]
[791,"CONTREIRAS JOSE","V1M","CS BRETIGNY ATHLETISME"]
[792,"COUDRIN HARON","MMOM","CS BRETIGNY ATHLETISME"]
[793,"COUTURIER ANAIS","S1F","CS BRETIGNY ATHLETISME"]
[794,"CUNNINGHAM IONA","CAF","CS BRETIGNY ATHLETISME"]
[795,"DA CRUZ LARA SYNAI","MMOF","CS BRETIGNY ATHLETISME"]
[796,"DA SILVA LUKA","MMOM","CS BRETIGNY ATHLETISME"]
[797,"DARIK ERWAN","BEM","CS BRETIGNY ATHLETISME"]
[798,"DAVID SACHA","MMOM","CS BRETIGNY ATHLETISME"]
[799,"DESCROIX GUILLAUME","MIM","CS BRETIGNY ATHLETISME"]
[800,"DESSAINTS ANAIS","JUF","CS BRETIGNY ATHLETISME"]
[801,"DESTOMBES GUILLEMETTE","MMOF","CS BRETIGNY ATHLETISME"]
[802,"DIAKITE SEYDOU","BEM","CS BRETIGNY ATHLETISME"]
[803,"DIEDRO MELRIS","MMOM","CS BRETIGNY ATHLETISME"]
[804,"DIOCOU FATOU","CAF","CS BRETIGNY ATHLETISME"]
[805,"DIOCOU FATOU","JUF","CS BRETIGNY ATHLETISME"]
[806,"DORLOTIN JAHNILS","MMOM","CS BRETIGNY ATHLETISME"]
[807,"DOUCARA FOUSSEYNI","MMOM","CS BRETIGNY ATHLETISME"]
[808,"DRAME FATOUMATA","POF","CS BRETIGNY ATHLETISME"]
[809,"DUARTE DIANA","MIF","CS BRETIGNY ATHLETISME"]
[810,"DUBEY LEANDRE","MMOM","CS BRETIGNY ATHLETISME"]
[811,"FONTENAY YVES","V2M","CS BRETIGNY ATHLETISME"]
[812,"FRESQUET EMILE","MOM","CS BRETIGNY ATHLETISME"]
[813,"GAL CAMILLE","MMOF","CS BRETIGNY ATHLETISME"]
[814,"GENEST VANESSA","CAF","CS BRETIGNY ATHLETISME"]
[815,"GENEST VANESSA","JUF","CS BRETIGNY ATHLETISME"]
[816,"GIRAUD CLAUDE GUILLAUME","CAM","CS BRETIGNY ATHLETISME"]
[817,"GIRAUD CLAUDE GUILLAUME","JUM","CS BRETIGNY ATHLETISME"]
[818,"GOUTAL RYAN","MMOM","CS BRETIGNY ATHLETISME"]
[819,"GOUTAL ZINA","MOF","CS BRETIGNY ATHLETISME"]
[820,"GREGOIRE LORICK","MMOM","CS BRETIGNY ATHLETISME"]
[821,"GRKOVIC SASHA","MMOM","CS BRETIGNY ATHLETISME"]
[822,"GUILLOT NICOLAS","POM","CS BRETIGNY ATHLETISME"]
[823,"GUITTET CORENTIN","MMOM","CS BRETIGNY ATHLETISME"]
[824,"HARDIVILLERS ELISE","MIF","CS BRETIGNY ATHLETISME"]
[825,"HARDIVILLERS LAURINE","CAF","CS BRETIGNY ATHLETISME"]
[826,"HARDIVILLERS LAURINE","JUF","CS BRETIGNY ATHLETISME"]
[827,"HULIN DYLAN","POM","CS BRETIGNY ATHLETISME"]
[828,"IKULU MPATA ALICYA","MMOF","CS BRETIGNY ATHLETISME"]
[829,"JALOUALI ISLEM","POF","CS BRETIGNY ATHLETISME"]
[830,"JAMBON MATTIS","MIM","CS BRETIGNY ATHLETISME"]
[831,"JAUBERT MATTEO","MMOM","CS BRETIGNY ATHLETISME"]
[832,"JEUDY JOAQUIM","MOM","CS BRETIGNY ATHLETISME"]
[833,"KADAL BRADLEY","POM","CS BRETIGNY ATHLETISME"]
[834,"KANCEL KENSY","MMOM","CS BRETIGNY ATHLETISME"]
[835,"KOMBE NOAH","MMOM","CS BRETIGNY ATHLETISME"]
[836,"KONE ILBOUDO SHADEN","MMOM","CS BRETIGNY ATHLETISME"]
[837,"LABOURG MAEL","MOM","CS BRETIGNY ATHLETISME"]
[838,"LACOMBE LOU ANNE","MOF","CS BRETIGNY ATHLETISME"]
[839,"LAHARRAGUE NOAH","MMOM","CS BRETIGNY ATHLETISME"]
[840,"LAUZE MATIS","MMOM","CS BRETIGNY ATHLETISME"]
[841,"LE GUYADEC IWAN","MMOM","CS BRETIGNY ATHLETISME"]
[842,"LEUFROY PALOMA","MOF","CS BRETIGNY ATHLETISME"]
[843,"LOGERAIS BERNARD ANA","MMOF","CS BRETIGNY ATHLETISME"]
[844,"MAAG LUCAS","MOM","CS BRETIGNY ATHLETISME"]
[845,"MACHI LARA","MMOF","CS BRETIGNY ATHLETISME"]
[846,"MANUEL MARTINE","V2F","CS BRETIGNY ATHLETISME"]
[847,"MARAQA SAMI","MIM","CS BRETIGNY ATHLETISME"]
[848,"MARAQA SARA","MIF","CS BRETIGNY ATHLETISME"]
[849,"MARCHAUT BUTLER LORYS","MMOM","CS BRETIGNY ATHLETISME"]
[850,"MARICO ABDOU","BEM","CS BRETIGNY ATHLETISME"]
[851,"MARTIGNE AURELIE","BEF","CS BRETIGNY ATHLETISME"]
[852,"MARTIGNE JULIEN","BEM","CS BRETIGNY ATHLETISME"]
[853,"MARTIGNE PAUL","MOM","CS BRETIGNY ATHLETISME"]
[854,"MARTINELLI KEVIN","MMOM","CS BRETIGNY ATHLETISME"]
[855,"MARTY XAVIER","MMOM","CS BRETIGNY ATHLETISME"]
[856,"MAS TIMOTE","MOM","CS BRETIGNY ATHLETISME"]
[857,"MATA BAPTISTE","MMOM","CS BRETIGNY ATHLETISME"]
[858,"MATA DAMIEN","MMOM","CS BRETIGNY ATHLETISME"]
[859,"MATHIEU DIMITRI","MMOM","CS BRETIGNY ATHLETISME"]
[860,"MBELE OSSOU ISSA","MMOM","CS BRETIGNY ATHLETISME"]
[861,"MEDARD ALIANE","MMOM","CS BRETIGNY ATHLETISME"]
[862,"MEDJADJI MOHAMED","MMOM","CS BRETIGNY ATHLETISME"]
[863,"MEDOM NITCHEU DEOL","MOM","CS BRETIGNY ATHLETISME"]
[864,"MESSIAS PACHECO FLAVIE SARAH","POF","CS BRETIGNY ATHLETISME"]
[865,"MOHSINE DOUNIA","MMOF","CS BRETIGNY ATHLETISME"]
[866,"MOIRON LUCIE","MMOF","CS BRETIGNY ATHLETISME"]
[867,"MONNEAU CLEMENT","MMOM","CS BRETIGNY ATHLETISME"]
[868,"MOORJEE KAINA","POF","CS BRETIGNY ATHLETISME"]
[869,"MORETON STEEVEN","JUM","CS BRETIGNY ATHLETISME"]
[870,"MORTREUX SOREN","MMOM","CS BRETIGNY ATHLETISME"]
[871,"MOUSSET BAPTISTE","MMOM","CS BRETIGNY ATHLETISME"]
[872,"MURAT MALORY","MMOM","CS BRETIGNY ATHLETISME"]
[873,"NADE NOA","MMOM","CS BRETIGNY ATHLETISME"]
[874,"NEDELEC ELENI","MMOF","CS BRETIGNY ATHLETISME"]
[875,"NEDELEC ROMEO","POM","CS BRETIGNY ATHLETISME"]
[876,"NERAUDAU ARTHUR","MMOM","CS BRETIGNY ATHLETISME"]
[877,"NICE CORALIE","MMOF","CS BRETIGNY ATHLETISME"]
[878,"NICE DYLAN","MMOM","CS BRETIGNY ATHLETISME"]
[879,"OSFOUR ACHRAF","MOM","CS BRETIGNY ATHLETISME"]
[880,"OSFOUR SABRINE","JUF","CS BRETIGNY ATHLETISME"]
[881,"OSSEHE DJO EMERY","MOM","CS BRETIGNY ATHLETISME"]
[882,"OUTOULOUT AGNES","V2F","CS BRETIGNY ATHLETISME"]
[883,"PAIONNI LOU","MMOF","CS BRETIGNY ATHLETISME"]
[884,"PAPPALARDO GUILLAUME","MOM","CS BRETIGNY ATHLETISME"]
[885,"PARACHOU MAXIME","CAM","CS BRETIGNY ATHLETISME"]
[886,"PARACHOU MAXIME","JUM","CS BRETIGNY ATHLETISME"]
[887,"PASQUIER MARYAM","MOF","CS BRETIGNY ATHLETISME"]
[888,"PEGOURIE LANCELOT","POM","CS BRETIGNY ATHLETISME"]
[889,"PELTAN ALIX","BEF","CS BRETIGNY ATHLETISME"]
[890,"PELTAN ESTER","MIF","CS BRETIGNY ATHLETISME"]
[891,"PÉRÈS DIANE","MIF","CS BRETIGNY ATHLETISME"]
[892,"PERRICHOT FRANKLIN","MMOM","CS BRETIGNY ATHLETISME"]
[893,"PERSE LEANDRO","MMOM","CS BRETIGNY ATHLETISME"]
[894,"PESTY MAXIME","S2M","CS BRETIGNY ATHLETISME"]
[895,"PILLON EMMA","CAF","CS BRETIGNY ATHLETISME"]
[896,"PILLON EMMA","JUF","CS BRETIGNY ATHLETISME"]
[897,"PIQUET FRIBOULET GWENDAL","MOM","CS BRETIGNY ATHLETISME"]
[898,"POULAIN SYLVAIN","S2M","CS BRETIGNY ATHLETISME"]
[899,"POUQUET LOUISE","MOF","CS BRETIGNY ATHLETISME"]
[900,"POUSSIER LUCAS","BEM","CS BRETIGNY ATHLETISME"]
[901,"PROTEAU PAUL","MMOM","CS BRETIGNY ATHLETISME"]
[902,"RAGU ALYSSON","MMOF","CS BRETIGNY ATHLETISME"]
[903,"RAKOTANIAINA ENZA HARISOA","MMOF","CS BRETIGNY ATHLETISME"]
[904,"RIPERT FANNY","CAF","CS BRETIGNY ATHLETISME"]
[905,"RIPERT FANNY","JUF","CS BRETIGNY ATHLETISME"]
[906,"RODE BAPTISTE","MMOM","CS BRETIGNY ATHLETISME"]
[907,"RODRIGUES IURI","POM","CS BRETIGNY ATHLETISME"]
[908,"RODRIGUES LUCAS","MMOM","CS BRETIGNY ATHLETISME"]
[909,"ROUSSEAU CLEMENT","MOM","CS BRETIGNY ATHLETISME"]
[910,"SAADI SOLAL","MMOM","CS BRETIGNY ATHLETISME"]
[911,"SAORINE ELISA","MMOF","CS BRETIGNY ATHLETISME"]
[912,"SEGUIN THIBAUT","BEM","CS BRETIGNY ATHLETISME"]
[913,"SELBONNE TIPHAINE","CAF","CS BRETIGNY ATHLETISME"]
[914,"SENTUBERY EMMA","BEF","CS BRETIGNY ATHLETISME"]
[915,"SENTUBERY JULIE","BEF","CS BRETIGNY ATHLETISME"]
[916,"SINPEASITH NEILA","MMOF","CS BRETIGNY ATHLETISME"]
[917,"SITTLER ELISA","MMOF","CS BRETIGNY ATHLETISME"]
[918,"SVAY RUBEN","MMOM","CS BRETIGNY ATHLETISME"]
[919,"SYLLA MALIK","MMOM","CS BRETIGNY ATHLETISME"]
[920,"TACAIL LUCIEN VICTOR","MMOM","CS BRETIGNY ATHLETISME"]
[921,"THUILLIER LEO","MOM","CS BRETIGNY ATHLETISME"]
[922,"TLUSTEK ENZO","POM","CS BRETIGNY ATHLETISME"]
[923,"TOURNAYRE JULES","MMOM","CS BRETIGNY ATHLETISME"]
[924,"TOUZAT QUENTIN","MOM","CS BRETIGNY ATHLETISME"]
[925,"TUAL ALEXANDRE","MMOM","CS BRETIGNY ATHLETISME"]
[926,"VALLEE ALEXIS","MIM","CS BRETIGNY ATHLETISME"]
[927,"VALLEE ELOISE","POF","CS BRETIGNY ATHLETISME"]
[928,"VENET EMILIEN","MOM","CS BRETIGNY ATHLETISME"]
[929,"VERHAEGHEM LIPSON MATHIAS","POM","CS BRETIGNY ATHLETISME"]
[930,"VERHAEGHEM LUCAS","MMOM","CS BRETIGNY ATHLETISME"]
[931,"VERROUIL LEFEVRE LAURELINE","MMOF","CS BRETIGNY ATHLETISME"]
[932,"VIAL PICARD MAEL","MOM","CS BRETIGNY ATHLETISME"]
[933,"WENDLING CLEMENT","MMOM","CS BRETIGNY ATHLETISME"]
[934,"WENDLING EMILIE","MMOF","CS BRETIGNY ATHLETISME"]
[935,"AÏTAHNIA MATHIS","MIM","CSM GENNEVILLIERS"]
[936,"AMAANAN ASMA","POF","CSM GENNEVILLIERS"]
[937,"AMAANAN SAFA","MMOF","CSM GENNEVILLIERS"]
[938,"ANTHONY TIMOTHEE","CAM","CSM GENNEVILLIERS"]
[939,"ARIF NOUR","POF","CSM GENNEVILLIERS"]
[940,"AUBERGER KAREL","MOM","CSM GENNEVILLIERS"]
[941,"AZZAOUI MANEL","BEF","CSM GENNEVILLIERS"]
[942,"BAAIS LAMIA","POF","CSM GENNEVILLIERS"]
[943,"BARNY MAXENS","MOM","CSM GENNEVILLIERS"]
[944,"BEN MOKTAR ALAIN","V3M","CSM GENNEVILLIERS"]
[945,"BENACHLIOU REDWANE","POM","CSM GENNEVILLIERS"]
[946,"BENGORINE FATIMA","POF","CSM GENNEVILLIERS"]
[947,"BENTIZI ILYÈS","BEM","CSM GENNEVILLIERS"]
[948,"BREGERE SANDRO","MMOM","CSM GENNEVILLIERS"]
[949,"COUSIN LISA","POF","CSM GENNEVILLIERS"]
[950,"CRISAN JOANA","BEF","CSM GENNEVILLIERS"]
[951,"DAPOLON KYLIAH","MMOF","CSM GENNEVILLIERS"]
[952,"DARTOIS MÉRYL","BEF","CSM GENNEVILLIERS"]
[953,"DESCOTEAUX MAËL","BEM","CSM GENNEVILLIERS"]
[954,"DEVESELEER GABRIEL","POM","CSM GENNEVILLIERS"]
[955,"DITTGEN FLORIAN","V1M","CSM GENNEVILLIERS"]
[956,"EL KOUCH AÏCHA","BEF","CSM GENNEVILLIERS"]
[957,"FADELI GUIST'HAU JAÏLYS","MOF","CSM GENNEVILLIERS"]
[958,"GABRIEL YUNA","MIF","CSM GENNEVILLIERS"]
[959,"GOMIS JULIEN","MOM","CSM GENNEVILLIERS"]
[960,"GRANDIN JÉRÉMIE","BEM","CSM GENNEVILLIERS"]
[961,"GRANVILLE KELIAN","CAM","CSM GENNEVILLIERS"]
[962,"HARPON LILIAN","MIM","CSM GENNEVILLIERS"]
[963,"HERIZ ADAM","POM","CSM GENNEVILLIERS"]
[964,"KAMAGATE AMINATA SEPHORA","BEF","CSM GENNEVILLIERS"]
[965,"KHAMIRI SIHAM","BEF","CSM GENNEVILLIERS"]
[966,"KHAN AMIR","JUM","CSM GENNEVILLIERS"]
[967,"KHODRI ILIAN","MIM","CSM GENNEVILLIERS"]
[968,"KONARE AICHATA","S1F","CSM GENNEVILLIERS"]
[969,"KONTE SOULEYMAN","MOM","CSM GENNEVILLIERS"]
[970,"LABED SAMY","MIM","CSM GENNEVILLIERS"]
[971,"MALLET LÉO","MIM","CSM GENNEVILLIERS"]
[972,"MARCHAND YANNICK","CAM","CSM GENNEVILLIERS"]
[973,"MARCHAND YANNICK","JUM","CSM GENNEVILLIERS"]
[974,"MBIABETH MICKAÏL-ALI","POM","CSM GENNEVILLIERS"]
[975,"MOLOKI MÉLINDA","BEF","CSM GENNEVILLIERS"]
[976,"MONVILLE JAMY","MOM","CSM GENNEVILLIERS"]
[977,"MONVILLE YANIS","POM","CSM GENNEVILLIERS"]
[978,"MUSLIM NAWAL","MOF","CSM GENNEVILLIERS"]
[979,"N'DEI TAÏNA","MOF","CSM GENNEVILLIERS"]
[980,"NEHARI ILIAN","POM","CSM GENNEVILLIERS"]
[981,"NGAKAM YOUMBI MAÏWENN","POF","CSM GENNEVILLIERS"]
[982,"NGUINDA-YETNA FRANÇOIS JUNIOR","POM","CSM GENNEVILLIERS"]
[983,"OUSSOUKPEVI MARYAME","BEF","CSM GENNEVILLIERS"]
[984,"PAQUE GABRIELLE","MIF","CSM GENNEVILLIERS"]
[985,"PERSEIL EMILIE","MOF","CSM GENNEVILLIERS"]
[986,"PRIEZ JULIE","MIF","CSM GENNEVILLIERS"]
[987,"REDJAIMIA SOAD","MIF","CSM GENNEVILLIERS"]
[988,"RHARRABTI OMAR","S2M","CSM GENNEVILLIERS"]
[989,"SAÏB THANIYYA","BEF","CSM GENNEVILLIERS"]
[990,"SEHIL MAÏSSA","BEF","CSM GENNEVILLIERS"]
[991,"SGUIRI MARIAM","MOF","CSM GENNEVILLIERS"]
[992,"SISSAKO FATOUMATA","POF","CSM GENNEVILLIERS"]
[993,"TAURON ERWANN","MOM","CSM GENNEVILLIERS"]
[994,"THIANT EVAN","MOM","CSM GENNEVILLIERS"]
[995,"TITRAOUI FATIHA","BEF","CSM GENNEVILLIERS"]
[996,"TROGOFF ALEXANDRA","MIF","CSM GENNEVILLIERS"]
[997,"TROGOFF SONIA","MIF","CSM GENNEVILLIERS"]
[999,"BENADJAOUD CEDRIC","S2M","CSPTT 95"]
[1000,"BEZABIH TESFEYH","S2M","CSPTT 95"]
[1002,"BOUSQUET GILLES","V1M","CSPTT 95"]
[1003,"CACAUT PATRICE","V1M","CSPTT 95"]
[1004,"CARE GERARD","V3M","CSPTT 95"]
[1005,"CEVALTE ROMAIN","S1M","CSPTT 95"]
[1006,"CHAGNAUD VALERIE","V1F","CSPTT 95"]
[1007,"CHASLIN FLORINE","S1F","CSPTT 95"]
[1008,"COLL JEAN","V3M","CSPTT 95"]
[1009,"COUILLARD JENNIFER","S2F","CSPTT 95"]
[1010,"CRESPEL BERNARD","V3M","CSPTT 95"]
[1011,"DURDIN LAURENT","V1M","CSPTT 95"]
[1012,"DUVEAU FREDERIC","V1M","CSPTT 95"]
[1013,"FERNANDES CARLOS","V1M","CSPTT 95"]
[1014,"FERNANDEZ JEAN-MARC","V1M","CSPTT 95"]
[1015,"GUIDOUX FABRICE","V1M","CSPTT 95"]
[1018,"KERSULEC PASCAL","V1M","CSPTT 95"]
[1019,"MORANCAY STEPHANE","V2M","CSPTT 95"]
[1020,"MOREAU HENRY","S2M","CSPTT 95"]
[1021,"MOREAU YVES","V3M","CSPTT 95"]
[1022,"MORICEAU LAURENT","V1M","CSPTT 95"]
[1023,"NASCIMENTO ASWALDO","V2M","CSPTT 95"]
[1024,"PAYET BERNARD","V2M","CSPTT 95"]
[1026,"PRUDHOMME JEAN PHILIPPE","V3M","CSPTT 95"]
[1028,"RICHER BERNARD","V3M","CSPTT 95"]
[1029,"RICHER CELINE","S1F","CSPTT 95"]
[1031,"LEBOEUF GEORGES","V3M","ES LEVALLOIS"]
[1032,"ACTUS ELISA","MOF","ES STAINS"]
[1033,"AFONSO NICOLAS","MOM","ES STAINS"]
[1034,"AIT ABDELAALI AMIN","BEM","ES STAINS"]
[1035,"AIT ABDELAALI AYA","MMOF","ES STAINS"]
[1036,"AIT ABDELAALI AYOUB","MOM","ES STAINS"]
[1037,"AKARKACH MOUNIR","S1M","ES STAINS"]
[1038,"ANNA NICOLAS","JUM","ES STAINS"]
[1039,"AOUGA EVA","MMOF","ES STAINS"]
[1040,"AUGUSTE ROWAN","MOM","ES STAINS"]
[1041,"AZEROT POLYNICE JADE","MOF","ES STAINS"]
[1042,"BENAZZA KAIS TIDIANE","MMOM","ES STAINS"]
[1043,"BENSSOUM MANELLE","MMOF","ES STAINS"]
[1044,"BIRANTE KHALIFA","S1M","ES STAINS"]
[1045,"BOUKHADDA ZAKARYA","MMOM","ES STAINS"]
[1046,"BOURRIQUIS DAYVEN","MMOM","ES STAINS"]
[1047,"BOUZIT KHALED","BEM","ES STAINS"]
[1048,"BUCAILLE MELISSA","MMOF","ES STAINS"]
[1049,"CADÉRON BÉRÉNICE","S1F","ES STAINS"]
[1050,"CADERON HERVE","V2M","ES STAINS"]
[1051,"CADERON ISABELLE","V2F","ES STAINS"]
[1052,"CADÉRON NICOLAS","S1M","ES STAINS"]
[1053,"CHATELAINT CRISTIANA","V1F","ES STAINS"]
[1054,"CHATELAINT MICHEL","V3M","ES STAINS"]
[1055,"CHIPAN WEDLEYNE","CAF","ES STAINS"]
[1056,"COGNET LUDIVINE","JUF","ES STAINS"]
[1057,"COGNET MEDERIC","BEM","ES STAINS"]
[1058,"COSME LORENZO","MOF","ES STAINS"]
[1059,"CROS SHAWN PHILLIPS","MMOM","ES STAINS"]
[1060,"DA COSTA MARLÈNE","CAF","ES STAINS"]
[1061,"DA COSTA MARLÈNE","JUF","ES STAINS"]
[1062,"DAOUDI KAHINA","MOF","ES STAINS"]
[1063,"DAOUDI KENZA","MMOF","ES STAINS"]
[1064,"DEMANEN SAFIYA","MOF","ES STAINS"]
[1065,"DEMBELE FATIMATA","BEF","ES STAINS"]
[1066,"DJADE SINA KEZIA","MMOF","ES STAINS"]
[1067,"DJEKHAR LAYA","POF","ES STAINS"]
[1068,"DJEKHAR SANA","MOF","ES STAINS"]
[1069,"DJERCE MERIAM","POF","ES STAINS"]
[1070,"DJERCE SARAH","MMOF","ES STAINS"]
[1071,"DJITTE MADICOYE","MMOM","ES STAINS"]
[1072,"DORVE JESSICA","MIF","ES STAINS"]
[1073,"DUARTE CORREIA MELVIN","MOM","ES STAINS"]
[1074,"DUPUICH FRANCK","MIM","ES STAINS"]
[1075,"ELHOSARY RAMY","MOM","ES STAINS"]
[1076,"ELIEN JOACHIM","MMOM","ES STAINS"]
[1077,"ELIEN LO-HANN","MOM","ES STAINS"]
[1078,"EN NEHDAOUI MANAL","CAF","ES STAINS"]
[1079,"FIDELE LOU","MOF","ES STAINS"]
[1080,"FIRANDIER GIDENSX","BEM","ES STAINS"]
[1081,"FOFANA KANTE","S1F","ES STAINS"]
[1082,"FORMENTELLE EMELINE","S1F","ES STAINS"]
[1083,"FREITAS YOHAN","MOM","ES STAINS"]
[1084,"GALLICIA-MECOR OCEANE","MMOF","ES STAINS"]
[1085,"GAUMER YVES","V3M","ES STAINS"]
[1086,"GICQUEL FATI","V1M","ES STAINS"]
[1087,"GICQUEL HUGO","MIM","ES STAINS"]
[1088,"GICQUEL MARIE ANGE","V1F","ES STAINS"]
[1089,"GICQUEL MARINA","BEF","ES STAINS"]
[1090,"HAMBEN LORI","POF","ES STAINS"]
[1091,"HOFFMANN MATISS","POM","ES STAINS"]
[1092,"JEAN LAGNAUSE","CAF","ES STAINS"]
[1093,"JOSEPH BRADLEY","POM","ES STAINS"]
[1094,"JOSEPH OLVIE","JUF","ES STAINS"]
[1095,"KANOUTE ZEINAB","POF","ES STAINS"]
[1096,"KARAMOKO MARIAM","BEF","ES STAINS"]
[1097,"KARAMOKO TAHIRA","MMOF","ES STAINS"]
[1098,"KEITA COUMBA","POF","ES STAINS"]
[1099,"KORE WAHI REBECCA","BEF","ES STAINS"]
[1100,"LANGLOIS AXELLE","JUF","ES STAINS"]
[1101,"LANGLOIS KLEMENCE","POF","ES STAINS"]
[1102,"LECOLE MILAN","MMOM","ES STAINS"]
[1103,"MANGARA ABDOULAYE","MMOM","ES STAINS"]
[1104,"MARCELIN BEVERLLY","S1F","ES STAINS"]
[1105,"MBUYI-TSHELA HELOIME","BEF","ES STAINS"]
[1106,"MINOS TAYLOR","MIM","ES STAINS"]
[1107,"MINOS-BORJA CLEMENCE","MOF","ES STAINS"]
[1108,"MINOS-BORJA LUCAS","BEM","ES STAINS"]
[1109,"MODESTIN MORGAN","CAM","ES STAINS"]
[1110,"MONTELS ENZO","MMOM","ES STAINS"]
[1111,"OUALI KARIMA","S1F","ES STAINS"]
[1112,"PELESTIN JORDAN","POM","ES STAINS"]
[1113,"PELESTIN SULLYVAN","POM","ES STAINS"]
[1114,"PIART ETHAN","MOM","ES STAINS"]
[1115,"POUGHON MAIA","POF","ES STAINS"]
[1116,"PROMENEUR AMANDINE","S1F","ES STAINS"]
[1117,"PROMENEUR HAELYS","MOF","ES STAINS"]
[1118,"SADJI HARYS","MIM","ES STAINS"]
[1119,"SAKHO LALY","MMOF","ES STAINS"]
[1120,"SAMASSA DAVID","CAM","ES STAINS"]
[1121,"SAMASSA DAVID","JUM","ES STAINS"]
[1122,"SAMASSA SARAH-KANDIA","MIF","ES STAINS"]
[1123,"SAMINADA BASKAR","CAM","ES STAINS"]
[1124,"SIMON RAQUEL","BEF","ES STAINS"]
[1125,"SISSAKO DJIBRIL","MOM","ES STAINS"]
[1126,"SOUALMIA NAWEL","JUM","ES STAINS"]
[1127,"SOUNGA OHEL","BEM","ES STAINS"]
[1128,"SOW ALIOU","MIM","ES STAINS"]
[1129,"SOW MAKAN","BEM","ES STAINS"]
[1130,"TADOUNT CELIA","MMOF","ES STAINS"]
[1131,"TADOUNT LOUNA","MOF","ES STAINS"]
[1132,"TADOUNT VIRGINIE","S2F","ES STAINS"]
[1133,"TAHRAT CAMELIA","MOF","ES STAINS"]
[1134,"TALIGOT MANON","MOF","ES STAINS"]
[1135,"TAMBADOU FATIMATA","MIF","ES STAINS"]
[1136,"TAMBADOU MAMADOU","POM","ES STAINS"]
[1137,"TAMBADOU MEDINA","BEF","ES STAINS"]
[1138,"TEIXEIRA FURTADO ADALBERTO","S1M","ES STAINS"]
[1139,"VIETTE ENORAH","POF","ES STAINS"]
[1140,"VORMESE ANTOINE","V2M","ES STAINS"]
[1141,"ZENATI LEILA","BEF","ES STAINS"]
[1142,"ABDELOUAHAB AMIRA","MOF","ES VITRY"]
[1143,"ABDELOUAHAB ROUMAISSA","POF","ES VITRY"]
[1144,"ABES CHAYMA","POF","ES VITRY"]
[1145,"ABES MARWA","BEF","ES VITRY"]
[1146,"ALI KHOUDJA ABDERRAHMANE","JUM","ES VITRY"]
[1147,"AMOR AMIR","MOM","ES VITRY"]
[1148,"ANDRE ENZO","BEM","ES VITRY"]
[1149,"ANDRE LOU","MOF","ES VITRY"]
[1150,"ASSADI CAMELIA","MOF","ES VITRY"]
[1151,"AYAD MAYSSA","MMOF","ES VITRY"]
[1152,"AZOUGARH SOFIANE","MMOM","ES VITRY"]
[1153,"BENKERROUM MOHAMED-AMINE","MIM","ES VITRY"]
[1154,"BIAL THIBAULT","POM","ES VITRY"]
[1155,"BIATOULA REYNOLD","BEM","ES VITRY"]
[1156,"BIDAULT JEAN-PATRICK","V1M","ES VITRY"]
[1157,"BIQUE DYLAN","BEM","ES VITRY"]
[1158,"BLEZIN DORINE","MMOF","ES VITRY"]
[1159,"BOLUDA LOU","MMOF","ES VITRY"]
[1160,"BONNET LEO","MIM","ES VITRY"]
[1161,"BOUFFET LAURENT","V1M","ES VITRY"]
[1162,"BOUHAGANA MOOAD","POM","ES VITRY"]
[1163,"BOUJENAN MARIA","BEF","ES VITRY"]
[1164,"BOUJENAN RYAD","POM","ES VITRY"]
[1165,"CATHELINEAU ALEXIS","MMOM","ES VITRY"]
[1166,"CATHELINEAU CLEMENT","MMOM","ES VITRY"]
[1167,"CELINI PALOMA","JUF","ES VITRY"]
[1168,"CELINI QHENTIN","POM","ES VITRY"]
[1169,"CELLIER FLORA","CAF","ES VITRY"]
[1170,"CELLIER FLORA","JUF","ES VITRY"]
[1171,"CHARRIN LEON","MMOM","ES VITRY"]
[1172,"CHOPIN SYLVAIN","POM","ES VITRY"]
[1173,"CHU JOEY","MOM","ES VITRY"]
[1174,"CISSÉ FOUNÉ","MIF","ES VITRY"]
[1175,"CISSÉ HABY","POF","ES VITRY"]
[1176,"CORPORON LEO","MMOM","ES VITRY"]
[1177,"COSSARD MAXIME","MIM","ES VITRY"]
[1178,"DA SILVA ANTONIO","BEM","ES VITRY"]
[1179,"DE ANTA  STEPHANE","V3M","ES VITRY"]
[1180,"DELAUNAY ALEXANDRE","CAM","ES VITRY"]
[1181,"DELOUBRIERE KAIS","MMOM","ES VITRY"]
[1182,"DESHAYES MICHEL","V2M","ES VITRY"]
[1183,"DIALLO AISSATOU","BEF","ES VITRY"]
[1184,"DIALLO AMINATA","POF","ES VITRY"]
[1185,"DIARRA AMINATA","MOF","ES VITRY"]
[1186,"DIAWARA BINTOU","MMOF","ES VITRY"]
[1187,"DIAWARA DALLY","MOF","ES VITRY"]
[1188,"DIAWARA HAMET","POM","ES VITRY"]
[1189,"DIBOTITANGA ANGELE ESTHER","MMOF","ES VITRY"]
[1190,"DIDAKI NOA","POF","ES VITRY"]
[1191,"DUMONT ALAIN","V3M","ES VITRY"]
[1192,"DUQUENNE CHLOÉE","BEF","ES VITRY"]
[1193,"ELHARTI INES","POF","ES VITRY"]
[1194,"ETONNO OWEN","POM","ES VITRY"]
[1195,"FATY  HUGUETTE","V1F","ES VITRY"]
[1196,"FERAILLE CHRISTIAN","V3M","ES VITRY"]
[1197,"FERAILLE LENI","MMOM","ES VITRY"]
[1198,"FERAL KELVIN","POM","ES VITRY"]
[1199,"FERVILLE WYLIAN","MOM","ES VITRY"]
[1200,"FOURNIER LUCAS","MOM","ES VITRY"]
[1201,"GADER AIMEN","MIM","ES VITRY"]
[1202,"GADER MAYSSA","MOF","ES VITRY"]
[1203,"GARCIA LEA","POF","ES VITRY"]
[1204,"GHAZOUANI AYMEN","POM","ES VITRY"]
[1205,"GOURDON ALAIN","V3M","ES VITRY"]
[1206,"GRAFFAGNINO LUCIE","CAF","ES VITRY"]
[1207,"GUEGAN  ALAIN","V2M","ES VITRY"]
[1208,"HANAÏZI ANIS","MMOM","ES VITRY"]
[1209,"HAROUNE LUCAS","POM","ES VITRY"]
[1210,"HO-KONG-SOONG STANLET","MOM","ES VITRY"]
[1211,"JACQUES MATHEO","MMOM","ES VITRY"]
[1212,"JACQUES THALIA","MIF","ES VITRY"]
[1213,"JEUFFRAIN DARELL","MMOM","ES VITRY"]
[1214,"JEUFFRAIN OUTANA","POF","ES VITRY"]
[1215,"KAUFFMANN YANIS","MOM","ES VITRY"]
[1216,"KEITA MADY","POF","ES VITRY"]
[1217,"KEITA NANSA","MIF","ES VITRY"]
[1218,"KEITA OMAR","BEM","ES VITRY"]
[1219,"KEITA OUMOU","MIF","ES VITRY"]
[1220,"KICHTA AURELIEN","V3M","ES VITRY"]
[1221,"LAKSSIMI KASSEM","MMOM","ES VITRY"]
[1222,"LANDRES GEORGES","MOM","ES VITRY"]
[1223,"LANDRES MARINE","POF","ES VITRY"]
[1224,"LANDRES SAMANTHA","POF","ES VITRY"]
[1225,"LAURENS BENJAMIN","MOM","ES VITRY"]
[1226,"LE GOSLES FLAVIE","POF","ES VITRY"]
[1227,"LE PAGE LOU-ANN","POF","ES VITRY"]
[1228,"LE PAGE MAËLIE","MMOF","ES VITRY"]
[1229,"LEPAGE  LAURIE","S1F","ES VITRY"]
[1230,"LESCALE MEHDI","CAM","ES VITRY"]
[1231,"LESCALE MEHDI","JUM","ES VITRY"]
[1232,"LETIFI LINA","MOF","ES VITRY"]
[1233,"LOBOMTO NOEMIE","MOF","ES VITRY"]
[1234,"LOMBOTO NATHAN","MMOM","ES VITRY"]
[1235,"LOPIDORIN KINZIE","MIF","ES VITRY"]
[1236,"MAHTAOUI  SAMIR","V1M","ES VITRY"]
[1237,"MAKALOU CHEICK-HAMALA","MMOM","ES VITRY"]
[1238,"MAKALOU HAMIDOU","MOM","ES VITRY"]
[1239,"MAKENGO ISIRÈNE","MIF","ES VITRY"]
[1240,"MAKUSA FLORINE","MOF","ES VITRY"]
[1241,"MAREGA HASSAN","POM","ES VITRY"]
[1242,"MARTIN EMMA","POF","ES VITRY"]
[1243,"MARTIN ILYASS","POM","ES VITRY"]
[1244,"MASENGO FLONTIN","BEM","ES VITRY"]
[1245,"MAYO ARNAUD","MIM","ES VITRY"]
[1246,"MECHITOUA YAMINA","V2F","ES VITRY"]
[1247,"MOHAMED SAÏD","MIM","ES VITRY"]
[1248,"MORSY MARYAM","CAF","ES VITRY"]
[1249,"MOUTAÏROU SHERON","MIF","ES VITRY"]
[1250,"MOUTOMBI NAOMIE","MOF","ES VITRY"]
[1251,"NACIRI AMIR","BEM","ES VITRY"]
[1252,"NAJID INES","BEF","ES VITRY"]
[1253,"NDJEWEL BAKABA JAROD DARREN","MMOM","ES VITRY"]
[1254,"OMALY FANTINE","BEF","ES VITRY"]
[1255,"OREAL MIA","MOF","ES VITRY"]
[1256,"ORSINGHER CELINE","V1F","ES VITRY"]
[1257,"OSSIE TCHIENGUE YMAN GRÂCE","MOF","ES VITRY"]
[1258,"OUEGHLANI SELLIH JAWED","MOM","ES VITRY"]
[1259,"PACITTO  JOSSELYNE","V2F","ES VITRY"]
[1260,"PACREAU EVA","MIF","ES VITRY"]
[1261,"PAPIN LOUIS","MOM","ES VITRY"]
[1262,"PEREIRA RAYAN","POM","ES VITRY"]
[1263,"PINTO DE OLIVEIRA CORALY","BEF","ES VITRY"]
[1264,"PLUNIAN NOEMIE","BEF","ES VITRY"]
[1265,"PRAXMARER REMI","POM","ES VITRY"]
[1266,"PRIMET MAELLE","BEF","ES VITRY"]
[1267,"RENARDAT   GEORGES","V5M","ES VITRY"]
[1268,"RENAUDIN ENGUERRAND","MOM","ES VITRY"]
[1269,"RENAUDIN LANCELOT","POM","ES VITRY"]
[1270,"ROBERT VIVIEN","MOM","ES VITRY"]
[1271,"ROCHELEMAGNE SYLVIE","V2F","ES VITRY"]
[1272,"SAMAKE BINTA","POF","ES VITRY"]
[1273,"SANGARE M PALI","BEM","ES VITRY"]
[1274,"SIBY ADAMA","MMOM","ES VITRY"]
[1275,"SIFOUANE BRICE","POM","ES VITRY"]
[1276,"SIFOUANE IDIR","POM","ES VITRY"]
[1277,"SITAYEB KAMIL","MOM","ES VITRY"]
[1278,"SOUMARE FATOUMATA","BEF","ES VITRY"]
[1279,"SOUMARE PENDA","POF","ES VITRY"]
[1280,"TALHA IMANE","MIF","ES VITRY"]
[1281,"TORRES LUCAS","MOM","ES VITRY"]
[1282,"TRAORE BAMARY","POM","ES VITRY"]
[1283,"TRAORE FATOUMATA","MOF","ES VITRY"]
[1284,"TRAORE KAFOUNE","MIF","ES VITRY"]
[1285,"TROMP MICKAËL","POM","ES VITRY"]
[1286,"VARELA MONIZ NADINE","MOF","ES VITRY"]
[1287,"VOLTAIRE ANGELINE","POF","ES VITRY"]
[1288,"WALTHER  JEROME","S2M","ES VITRY"]
[1289,"WARTEL DOMINIQUE","V2M","ES VITRY"]
[1290,"ZEGTITOUCHE IDIR","MOM","ES VITRY"]
[1291,"ZIDANI ALYA","BEF","ES VITRY"]
[1292,"ZMINKA ANDREAS","MOM","ES VITRY"]
[1293,"ALONZO ALEXANDRE","MIM","ESC XVEME"]
[1294,"BARNAUD NATHAN","CAM","ESC XVEME"]
[1295,"BARON ANTOINE","CAM","ESC XVEME"]
[1296,"BESSON FRANCOIS","V2M","ESC XVEME"]
[1297,"ONDEE DERICK","CAM","ESC XVEME"]
[1298,"RADOSAVLJEVIC NICOLAS","CAM","ESC XVEME"]
[1299,"ENIOMA TANGUY","JUM","ETAMPES ATHLETISME"]
[1300,"OULAI LIONEL","JUM","ETAMPES ATHLETISME"]
[1301,"FALL MOUSTAPHA","S1M","GOAN FC"]
[1302,"SOUBIGOU MAELYS","JUM","LES GALOPINS"]
[1303,"COMBE RENAUD","S2M","MA ST CYR"]
[1304,"DROIN PHILIPPE","V2M","MA ST CYR"]
[1305,"ELIOT SOLVEIG","V1F","MA ST CYR"]
[1306,"HENRY CORINNE","V1F","MA ST CYR"]
[1307,"HENRY TONY","V1M","MA ST CYR"]
[1308,"KERDAT MARTINE","V3F","MA ST CYR"]
[1309,"LEGRAND GUY","V2M","MA ST CYR"]
[1310,"MAMY DENISE","V3F","MA ST CYR"]
[1311,"MOORE RICHARD","V1M","MA ST CYR"]
[1312,"REVEL FATIMA","V1F","MA ST CYR"]
[1313,"ABOU EL NASR AYA","POF","NOISY LE SEC ATHLETISME"]
[1314,"ABOUA LAURIE","MIF","NOISY LE SEC ATHLETISME"]
[1315,"ABRAHAM ABYMES","POM","NOISY LE SEC ATHLETISME"]
[1316,"ABRAHAM NOEMIE","MOF","NOISY LE SEC ATHLETISME"]
[1317,"ADOLIA ANNETTE","CAF","NOISY LE SEC ATHLETISME"]
[1318,"ADOLIA ANNETTE","JUF","NOISY LE SEC ATHLETISME"]
[1319,"ADOUANI SARAH","MOF","NOISY LE SEC ATHLETISME"]
[1320,"AGHOUILES KELYAN","POM","NOISY LE SEC ATHLETISME"]
[1321,"AGHOUILES KLEWIS","MOM","NOISY LE SEC ATHLETISME"]
[1322,"AHAMADI CHARLOTTE","MMOF","NOISY LE SEC ATHLETISME"]
[1323,"AHYTE NEIL","POM","NOISY LE SEC ATHLETISME"]
[1324,"AKKAL AMIR","POM","NOISY LE SEC ATHLETISME"]
[1325,"ALBERT MARGANE","BEF","NOISY LE SEC ATHLETISME"]
[1326,"ALIBOU ZAMIL","MIM","NOISY LE SEC ATHLETISME"]
[1327,"ALLEAUME ODILE","CAF","NOISY LE SEC ATHLETISME"]
[1328,"ATTIKIBE ALEXIS","POM","NOISY LE SEC ATHLETISME"]
[1329,"ATTIKIBE FLORIAN","MIM","NOISY LE SEC ATHLETISME"]
[1330,"ATTIKIBE MATHIEU","MIM","NOISY LE SEC ATHLETISME"]
[1331,"AZOR EWANS","BEM","NOISY LE SEC ATHLETISME"]
[1332,"BAKLI YOUNES","MMOM","NOISY LE SEC ATHLETISME"]
[1333,"BAKLI YOUSSEF","POM","NOISY LE SEC ATHLETISME"]
[1334,"BALENDA NAWELLE","POF","NOISY LE SEC ATHLETISME"]
[1335,"BANGOURA ISAC","MOM","NOISY LE SEC ATHLETISME"]
[1336,"BARADJI TENE","POF","NOISY LE SEC ATHLETISME"]
[1337,"BAYOR WENDY","CAF","NOISY LE SEC ATHLETISME"]
[1338,"BAYOR WENDY","JUF","NOISY LE SEC ATHLETISME"]
[1339,"BENAMANA NAIM","MMOM","NOISY LE SEC ATHLETISME"]
[1340,"BENATMANE KAMELIA","POF","NOISY LE SEC ATHLETISME"]
[1341,"BENAYED BILAL","MOM","NOISY LE SEC ATHLETISME"]
[1342,"BENAYED HAMZA","MOM","NOISY LE SEC ATHLETISME"]
[1343,"BEZARD NILS","POM","NOISY LE SEC ATHLETISME"]
[1344,"BILLARD MARIUS","MOM","NOISY LE SEC ATHLETISME"]
[1345,"BOLLINGER VINCENT","S2M","NOISY LE SEC ATHLETISME"]
[1346,"BONNET ROMAIN","JUM","NOISY LE SEC ATHLETISME"]
[1347,"BOULEDJOUIDJA NOAM","MOM","NOISY LE SEC ATHLETISME"]
[1348,"BOULEDJOUIDJA RUBEN","MIM","NOISY LE SEC ATHLETISME"]
[1349,"BOUMAHDI AMINE","MMOM","NOISY LE SEC ATHLETISME"]
[1350,"BOUMAHDI ANAIS","POF","NOISY LE SEC ATHLETISME"]
[1351,"BOUMAHDI IMENE","MMOF","NOISY LE SEC ATHLETISME"]
[1352,"BOUMAHDI RAYANE","POM","NOISY LE SEC ATHLETISME"]
[1353,"BOURAHLA YASSINE","MOM","NOISY LE SEC ATHLETISME"]
[1354,"BOURASSIN CLARA","BEF","NOISY LE SEC ATHLETISME"]
[1355,"BOURSE MAXENCE","BEM","NOISY LE SEC ATHLETISME"]
[1356,"BROUTA KASSANDRA","MOF","NOISY LE SEC ATHLETISME"]
[1357,"CARESMEL ROMAIN","CAM","NOISY LE SEC ATHLETISME"]
[1358,"CARESMEL ROMAIN","JUM","NOISY LE SEC ATHLETISME"]
[1359,"CHRISTINE SOPHONIE","BEF","NOISY LE SEC ATHLETISME"]
[1360,"COLLET JONAS","BEM","NOISY LE SEC ATHLETISME"]
[1361,"DAMBA SHANA","POF","NOISY LE SEC ATHLETISME"]
[1362,"DELAPLACE THEO","MIM","NOISY LE SEC ATHLETISME"]
[1363,"DELOUMEAUX DOROTHEE","CAF","NOISY LE SEC ATHLETISME"]
[1364,"DELOUMEAUX DOROTHEE","JUF","NOISY LE SEC ATHLETISME"]
[1365,"DESCOUTURE CHARLOTTE","BEF","NOISY LE SEC ATHLETISME"]
[1366,"DOLLE ANDRE","BEM","NOISY LE SEC ATHLETISME"]
[1367,"EL CHERIF MOHAMED","BEM","NOISY LE SEC ATHLETISME"]
[1368,"EL KOURDI HANA","MIF","NOISY LE SEC ATHLETISME"]
[1369,"EL KOURDI MEHDI","MOM","NOISY LE SEC ATHLETISME"]
[1370,"EL KOURDI RIM","BEF","NOISY LE SEC ATHLETISME"]
[1371,"ELGHAYATI MOHAMED","POM","NOISY LE SEC ATHLETISME"]
[1372,"ELOKDA BELLAHCENE HADEL","POF","NOISY LE SEC ATHLETISME"]
[1373,"ELOUARDI SAMIR","CAM","NOISY LE SEC ATHLETISME"]
[1374,"ELOUARDI SAMIR","JUM","NOISY LE SEC ATHLETISME"]
[1375,"ERGIL YASIN","POM","NOISY LE SEC ATHLETISME"]
[1376,"ETOUPE AMANDINE","POF","NOISY LE SEC ATHLETISME"]
[1377,"ETOUPE CHRISTOPHER","MIM","NOISY LE SEC ATHLETISME"]
[1378,"ETOUPE OCEANNE","BEF","NOISY LE SEC ATHLETISME"]
[1379,"FALLAH RAYAN","BEM","NOISY LE SEC ATHLETISME"]
[1380,"FERET ELODIE","MOF","NOISY LE SEC ATHLETISME"]
[1381,"FLORINDO JANE","POF","NOISY LE SEC ATHLETISME"]
[1382,"FZERI YACINE","MIM","NOISY LE SEC ATHLETISME"]
[1383,"GACEM YASMINE","MOF","NOISY LE SEC ATHLETISME"]
[1384,"GEOFFRION TOM-LINO","POM","NOISY LE SEC ATHLETISME"]
[1385,"GERARO RYWANN","POM","NOISY LE SEC ATHLETISME"]
[1386,"GIRARDI MATTEO","POM","NOISY LE SEC ATHLETISME"]
[1387,"GOMIS SHANA","MOF","NOISY LE SEC ATHLETISME"]
[1388,"GOURDET SANDER'S","JUM","NOISY LE SEC ATHLETISME"]
[1389,"GUERROUJ MERWAN","MMOM","NOISY LE SEC ATHLETISME"]
[1390,"GUERROUJ MERYEM","MOF","NOISY LE SEC ATHLETISME"]
[1391,"HADJOUT SEHIL","MOM","NOISY LE SEC ATHLETISME"]
[1392,"HOUCHATI ADAM","MIM","NOISY LE SEC ATHLETISME"]
[1393,"HOUCHATI RAMY","MIM","NOISY LE SEC ATHLETISME"]
[1394,"IMBEAUD MARIN","MOM","NOISY LE SEC ATHLETISME"]
[1395,"ISMENOUX YONNI","MOM","NOISY LE SEC ATHLETISME"]
[1396,"ISNARD RAPHAEL","MOM","NOISY LE SEC ATHLETISME"]
[1397,"JACQUES ELISE","CAF","NOISY LE SEC ATHLETISME"]
[1398,"JACQUES ELISE","JUF","NOISY LE SEC ATHLETISME"]
[1399,"JACQUES MATHILDE","MIF","NOISY LE SEC ATHLETISME"]
[1400,"JARBOUA YANIS","MOM","NOISY LE SEC ATHLETISME"]
[1401,"JEAN-CHARLES BRADLEY","POM","NOISY LE SEC ATHLETISME"]
[1402,"KABA MOHAMED","JUM","NOISY LE SEC ATHLETISME"]
[1403,"KELLAS ELYES","MMOM","NOISY LE SEC ATHLETISME"]
[1404,"KHEFFACH MOHAMED","MOM","NOISY LE SEC ATHLETISME"]
[1405,"KONDE KHADY","BEF","NOISY LE SEC ATHLETISME"]
[1406,"KONDE NASSIRA","POF","NOISY LE SEC ATHLETISME"]
[1407,"KOULIBALY RAGYATOU","CAF","NOISY LE SEC ATHLETISME"]
[1408,"LACALMETTE GABRIEL","MIM","NOISY LE SEC ATHLETISME"]
[1409,"LAMBLETIN JOSHUA","BEM","NOISY LE SEC ATHLETISME"]
[1410,"LATASTE LOGAN","CAM","NOISY LE SEC ATHLETISME"]
[1411,"LATASTE LOGAN","JUM","NOISY LE SEC ATHLETISME"]
[1412,"LAUGIER FRANCOIS","MIM","NOISY LE SEC ATHLETISME"]
[1413,"LEA MARLONE","POM","NOISY LE SEC ATHLETISME"]
[1414,"LECOMTE NATHAN","MIM","NOISY LE SEC ATHLETISME"]
[1415,"LEGENDART LUCA","MIM","NOISY LE SEC ATHLETISME"]
[1416,"LEGENDART MATTEO","MIM","NOISY LE SEC ATHLETISME"]
[1417,"MAGNE MABOU SHELLEY","POM","NOISY LE SEC ATHLETISME"]
[1418,"MANLIUS NATACHA","BEF","NOISY LE SEC ATHLETISME"]
[1419,"MARGUET MATHEO","BEM","NOISY LE SEC ATHLETISME"]
[1420,"MARTINANGELI LOU","POF","NOISY LE SEC ATHLETISME"]
[1421,"MATONDO AIME","POM","NOISY LE SEC ATHLETISME"]
[1422,"MEDJAHDI SAADIA","POF","NOISY LE SEC ATHLETISME"]
[1423,"MEDJEDOUB MASSYL","CAM","NOISY LE SEC ATHLETISME"]
[1424,"MEDJEDOUB MASSYL","JUM","NOISY LE SEC ATHLETISME"]
[1425,"MEHARD LUNA","BEF","NOISY LE SEC ATHLETISME"]
[1426,"MENEZ QUENTIN","CAM","NOISY LE SEC ATHLETISME"]
[1427,"MENEZ QUENTIN","JUM","NOISY LE SEC ATHLETISME"]
[1428,"MESKAR ZAKARIA","MIM","NOISY LE SEC ATHLETISME"]
[1429,"MILOVAN ALEXANDRE","MOM","NOISY LE SEC ATHLETISME"]
[1430,"MILOVAN CLAIRE","MMOF","NOISY LE SEC ATHLETISME"]
[1431,"MOKE N'GONDA LENA","BEF","NOISY LE SEC ATHLETISME"]
[1432,"MORIN-BERTHON CLEMENT","POM","NOISY LE SEC ATHLETISME"]
[1433,"MOUANDA JADE","POF","NOISY LE SEC ATHLETISME"]
[1434,"MOUANDA JANELLE","CAF","NOISY LE SEC ATHLETISME"]
[1435,"MOUANDA JANELLE","JUF","NOISY LE SEC ATHLETISME"]
[1436,"MOUANDA SHANNA","MIF","NOISY LE SEC ATHLETISME"]
[1437,"N'DIAYE FATY","MMOF","NOISY LE SEC ATHLETISME"]
[1438,"NEUVEGLISE ELOIS","MOM","NOISY LE SEC ATHLETISME"]
[1439,"NICOLAS-BLONDEL EDWIN","POM","NOISY LE SEC ATHLETISME"]
[1440,"NSIALA JEAN","JUM","NOISY LE SEC ATHLETISME"]
[1441,"PAULICAPE EMMANUEL","POM","NOISY LE SEC ATHLETISME"]
[1442,"PENEL MAELYS","MMOF","NOISY LE SEC ATHLETISME"]
[1443,"PERROT ERWAN","MOM","NOISY LE SEC ATHLETISME"]
[1444,"POCHOT CASSY","MOF","NOISY LE SEC ATHLETISME"]
[1445,"PORGO SEYANN","POM","NOISY LE SEC ATHLETISME"]
[1446,"RANA SAMIR","MOM","NOISY LE SEC ATHLETISME"]
[1447,"RATHORE ARMAN","CAM","NOISY LE SEC ATHLETISME"]
[1448,"RATHORE ARMAN","JUM","NOISY LE SEC ATHLETISME"]
[1449,"RINALDI ISAAC","MIM","NOISY LE SEC ATHLETISME"]
[1450,"RODRIGUES ELUISA","BEF","NOISY LE SEC ATHLETISME"]
[1451,"RODRIGUES MANUELA","CAF","NOISY LE SEC ATHLETISME"]
[1452,"RODRIGUES MANUELA","JUF","NOISY LE SEC ATHLETISME"]
[1453,"SAGNET CHETRATE ADAM","MMOM","NOISY LE SEC ATHLETISME"]
[1454,"SAGNET CHETRATE MAELIA","MOF","NOISY LE SEC ATHLETISME"]
[1455,"SAID ADAM","POM","NOISY LE SEC ATHLETISME"]
[1456,"SAIDI MOHAMED","POM","NOISY LE SEC ATHLETISME"]
[1457,"SAIDI SABRINA","MIF","NOISY LE SEC ATHLETISME"]
[1458,"SAINTIMA SEBASTIEN","BEM","NOISY LE SEC ATHLETISME"]
[1459,"SANA ELSA","MIF","NOISY LE SEC ATHLETISME"]
[1460,"SANE LENA ROSE","POF","NOISY LE SEC ATHLETISME"]
[1461,"SIMEON MELINA","MMOF","NOISY LE SEC ATHLETISME"]
[1462,"SMAALI CHERAZADE","MOF","NOISY LE SEC ATHLETISME"]
[1463,"SMAALI FARHA","MMOF","NOISY LE SEC ATHLETISME"]
[1464,"SOLBES GIOVANNI","POM","NOISY LE SEC ATHLETISME"]
[1465,"SOLBES UGO","MIM","NOISY LE SEC ATHLETISME"]
[1466,"SONKON'GUYEN HANYSSA","BEF","NOISY LE SEC ATHLETISME"]
[1467,"SOW AIDA","POM","NOISY LE SEC ATHLETISME"]
[1468,"TAGNE MABOU STANLEY","BEM","NOISY LE SEC ATHLETISME"]
[1469,"TALL HAISATA","CAF","NOISY LE SEC ATHLETISME"]
[1470,"TALL HAISATA","JUF","NOISY LE SEC ATHLETISME"]
[1471,"TEQUI ALICE","BEF","NOISY LE SEC ATHLETISME"]
[1472,"TERRANTI MYRIAM","MIF","NOISY LE SEC ATHLETISME"]
[1473,"THIAM ABOU","MMOM","NOISY LE SEC ATHLETISME"]
[1474,"THOMAS SARAH","POF","NOISY LE SEC ATHLETISME"]
[1475,"TSHITENGA MARCO","BEM","NOISY LE SEC ATHLETISME"]
[1476,"TUZCU MEHMET ORHAN","JUM","NOISY LE SEC ATHLETISME"]
[1477,"VELINON ALYCIA","POF","NOISY LE SEC ATHLETISME"]
[1478,"VERVERT JULIAN","POM","NOISY LE SEC ATHLETISME"]
[1479,"VINCENT LEA","MOF","NOISY LE SEC ATHLETISME"]
[1480,"VINCENT ROMAIN","BEM","NOISY LE SEC ATHLETISME"]
[1481,"YOULOU KALISTA","MIF","NOISY LE SEC ATHLETISME"]
[1482,"YVONNET APOLLINE","BEF","NOISY LE SEC ATHLETISME"]
[1483,"ADDA FREDERIC","JUM","SAINT DENIS US"]
[1484,"AGHID FANIDA","JUF","SAINT DENIS US"]
[1485,"AOUNALLAH SALSABIL","JUF","SAINT DENIS US"]
[1486,"AZIZI BOUZIANI YANIS","JUM","SAINT DENIS US"]
[1487,"BARADJI MOUSSA","V1M","SAINT DENIS US"]
[1488,"BERING YANN","JUM","SAINT DENIS US"]
[1489,"BOUDINAR BEVERLY","JUM","SAINT DENIS US"]
[1490,"CAIRO ROMAIN","JUM","SAINT DENIS US"]
[1491,"CISS BARA","JUM","SAINT DENIS US"]
[1492,"DEBOBERT MAZURE","V1M","SAINT DENIS US"]
[1493,"EPENGE PAUL FITZGERALD","JUM","SAINT DENIS US"]
[1494,"FASLI SANA","JUF","SAINT DENIS US"]
[1495,"GIGON DESORMERIE AUDREY","JUM","SAINT DENIS US"]
[1496,"GOFFIN DENIS","V2M","SAINT DENIS US"]
[1497,"IKHLEF MOUHAMAD","JUM","SAINT DENIS US"]
[1498,"KITU MOISE DEL MONACO","JUM","SAINT DENIS US"]
[1499,"LAKROUZ INES","JUF","SAINT DENIS US"]
[1500,"LEDEME DENIS","V2M","SAINT DENIS US"]
[1501,"LOUIS CALIXTE JULES","JUM","SAINT DENIS US"]
[1502,"MEDOUNI VICTORIA","JUF","SAINT DENIS US"]
[1503,"MEITE MASSEMO","JUF","SAINT DENIS US"]
[1504,"OURMIAH MAYLEEN","JUF","SAINT DENIS US"]
[1505,"PALLOT FRANCOIS","V2M","SAINT DENIS US"]
[1506,"PAULMIER CLEMENT","JUM","SAINT DENIS US"]
[1507,"ADRAR ANISSA","POF","ST DENIS US"]
[1508,"AGHID FANIDA","JUF","ST DENIS US"]
[1509,"AOUNALLAH SALSABIL","CAF","ST DENIS US"]
[1510,"AUGUGLIARO MATHIEU","BEM","ST DENIS US"]
[1511,"BA OMAR","POM","ST DENIS US"]
[1512,"BAENA AUDREY","POF","ST DENIS US"]
[1513,"BALDE MUKTAR","MMOM","ST DENIS US"]
[1514,"BARADJI BAMAM","MIM","ST DENIS US"]
[1515,"BARADJI MAMADI","POM","ST DENIS US"]
[1516,"BATHILY KANDY","MOF","ST DENIS US"]
[1517,"BENDAHOU-IDRISSI SOUFIANE","CAM","ST DENIS US"]
[1518,"BENREZZAQ BILAL","MIM","ST DENIS US"]
[1519,"BERING YANN","CAM","ST DENIS US"]
[1520,"BLANCHARD HUGO","POM","ST DENIS US"]
[1521,"BLANCHARD NOA","MMOM","ST DENIS US"]
[1522,"BLESSON NAISSA","MmoF","ST DENIS US"]
[1523,"BORIE PACO","POM","ST DENIS US"]
[1524,"BOUMAIZA YMEN","POF","ST DENIS US"]
[1525,"CAIRO ALEXIS","BEM","ST DENIS US"]
[1526,"CAMARA DJEINABA","MOF","ST DENIS US"]
[1527,"CAMARA DRAME TYJONE","MOM","ST DENIS US"]
[1528,"CAMARA MARIAM","POF","ST DENIS US"]
[1529,"CANCAN PRISCILLIA","POF","ST DENIS US"]
[1530,"CHAKER MARWAN","MOM","ST DENIS US"]
[1531,"CHANGAL BILLEL","MOM","ST DENIS US"]
[1532,"CHANGAL INES","BEF","ST DENIS US"]
[1533,"CHANGAL ZIED","MOM","ST DENIS US"]
[1534,"CHAROUF INAYA","POF","ST DENIS US"]
[1535,"CHERIFI MAELISS","MOF","ST DENIS US"]
[1536,"CHERIFI MATHIAS","POM","ST DENIS US"]
[1537,"CHETOUANI BILAL","POM","ST DENIS US"]
[1538,"CHETOUANI WARDA","MIF","ST DENIS US"]
[1539,"CHETOUANI YOUNES","MIM","ST DENIS US"]
[1540,"COUCHET LOIS","POF","ST DENIS US"]
[1541,"DABO BINTOU","MOF","ST DENIS US"]
[1542,"DABO HENDA","POF","ST DENIS US"]
[1543,"DEROBERT MAZURE LOLA","BEF","ST DENIS US"]
[1544,"DEROBERT MAZURE MILANN","MOM","ST DENIS US"]
[1545,"DERVYN INES","BEF","ST DENIS US"]
[1546,"DIALLO BINETA CLEMENCE","MIF","ST DENIS US"]
[1547,"DOSSA HANNA","CAF","ST DENIS US"]
[1548,"DOSSA MICHAEL","BEM","ST DENIS US"]
[1549,"DOUKOURE DJANNA","BEF","ST DENIS US"]
[1550,"DRIF HEMMA","POF","ST DENIS US"]
[1551,"DUPERVAL THEO ALEXIS","BEM","ST DENIS US"]
[1552,"DYDALLIZ HALYA","POF","ST DENIS US"]
[1553,"EDDAJIBI DAYNA","CAF","ST DENIS US"]
[1554,"EPENGE PAUL FITZGERALD","JUM","ST DENIS US"]
[1555,"EXANTUS MICHAELLA","MOF","ST DENIS US"]
[1556,"FADIGA FATIM","BEF","ST DENIS US"]
[1557,"FARHAT WASSIME","MIM","ST DENIS US"]
[1558,"FASLI SANA","JUF","ST DENIS US"]
[1559,"FIDELE ALIYAH","POF","ST DENIS US"]
[1560,"GODIMUS DORA","MmoF","ST DENIS US"]
[1561,"HADDADI NACYM","MOM","ST DENIS US"]
[1562,"HADJI YACINE","MIM","ST DENIS US"]
[1563,"HILDEBERT LAURYNN","MIF","ST DENIS US"]
[1564,"HYPPOLITE HOUSVELLE","CAF","ST DENIS US"]
[1565,"JAFIRE HIND","POF","ST DENIS US"]
[1566,"JAFIRE SAWSANE","MOF","ST DENIS US"]
[1567,"KHIAL MEDHI MICKAEL","BEM","ST DENIS US"]
[1568,"KONE IBRAHIM","MIM","ST DENIS US"]
[1569,"KONE KEESHA","MIF","ST DENIS US"]
[1570,"KONE MAIMOUNA","POF","ST DENIS US"]
[1571,"KONE MANTENE","MIF","ST DENIS US"]
[1572,"LAKROUZ INES","CAF","ST DENIS US"]
[1573,"LERIA ZILLIACUS ALIX","MOF","ST DENIS US"]
[1574,"LOPEZ CASSANDRA","MIF","ST DENIS US"]
[1575,"LOUIS CALIXTE JULES","JUM","ST DENIS US"]
[1576,"MADACHON MATHIAS","POM","ST DENIS US"]
[1577,"MAHDJOUB BILAL","BEM","ST DENIS US"]
[1578,"MEDOUNI VICTORIA","CAF","ST DENIS US"]
[1579,"MEITE MASSEMO","CAF","ST DENIS US"]
[1580,"MELCHIOR MELVIN","BEM","ST DENIS US"]
[1581,"MENDES RAMOS MARILINA","CAF","ST DENIS US"]
[1582,"NICOLAS ELYSSIA","MIF","ST DENIS US"]
[1583,"NICOLAS YOLANN","MOM","ST DENIS US"]
[1584,"OURMIAH MAYLEEN","JUF","ST DENIS US"]
[1585,"OURMIAH MELVEEN","BEM","ST DENIS US"]
[1586,"OYHMANI INESS","POF","ST DENIS US"]
[1587,"RAKOTO ROUMAISSA","MOF","ST DENIS US"]
[1588,"RECAYTE REMI","POM","ST DENIS US"]
[1589,"RHODON ELSA","MOF","ST DENIS US"]
[1590,"SAJJAD ALI RAZA","MIM","ST DENIS US"]
[1591,"SOUSSI MASSINE","MMOM","ST DENIS US"]
[1592,"TAKALI RAYAN","MMOM","ST DENIS US"]
[1593,"TEL LAYANA","POF","ST DENIS US"]
[1594,"THIMON LOQUES IDRISS","MIM","ST DENIS US"]
[1595,"UNG FLECHAU THEANA","POF","ST DENIS US"]
[1596,"YAPO AUTILIA","CAF","ST DENIS US"]
[1597,"ZERKOUN IMENE","BEF","ST DENIS US"]
[1598,"ABDELLAOUI NASSIM","BEM","TREMBLAY AC"]
[1599,"ABDI CHAÏMA","MIF","TREMBLAY AC"]
[1600,"ABDOU HOUSSUIHINE","S1M","TREMBLAY AC"]
[1601,"ABELA ILAN","MIM","TREMBLAY AC"]
[1602,"ADIZAK ZAHIR","BEM","TREMBLAY AC"]
[1603,"AHAMADA JAWAD","BEM","TREMBLAY AC"]
[1604,"AHAMADA SAMIR","CAM","TREMBLAY AC"]
[1605,"ALLENDE LINDSAY","MOF","TREMBLAY AC"]
[1606,"AMEZIANE ALAN","POM","TREMBLAY AC"]
[1607,"ANNAB ASSIA","BEF","TREMBLAY AC"]
[1608,"BECHIKH LOUNA","POF","TREMBLAY AC"]
[1609,"BEKKA LAHNA","POF","TREMBLAY AC"]
[1610,"BENAMAR / SAULNIER ISMAEL","MOM","TREMBLAY AC"]
[1611,"BENMATALLAH NAWEL","POF","TREMBLAY AC"]
[1612,"BENMATALLAH SOFIA","POF","TREMBLAY AC"]
[1613,"BEZZAOUYA MOHAMED","POM","TREMBLAY AC"]
[1614,"BEZZAOUYA SANA","POF","TREMBLAY AC"]
[1615,"BIADY NAKO ANAIS","BEF","TREMBLAY AC"]
[1616,"BLANCHARD NICOLAS","S1M","TREMBLAY AC"]
[1617,"BOST CLEMENT","MOM","TREMBLAY AC"]
[1618,"BOST SARAH","MMOF","TREMBLAY AC"]
[1619,"BOUBOUILLON STELLA","MIF","TREMBLAY AC"]
[1620,"BOUGUIDA FREDDY","MIM","TREMBLAY AC"]
[1621,"BOUJENANE OUMAIMA","POF","TREMBLAY AC"]
[1622,"BOUMEDIENE FARAH","POF","TREMBLAY AC"]
[1623,"BOURGEOIS THEO","MOM","TREMBLAY AC"]
[1624,"BOUZELAT AMELLE","POF","TREMBLAY AC"]
[1625,"BOUZELAT ASSALA","BEF","TREMBLAY AC"]
[1626,"BRITES MORGANE","S2F","TREMBLAY AC"]
[1627,"CARTESI SHAHINE","POF","TREMBLAY AC"]
[1628,"CHALU ANN'STEPHY","POF","TREMBLAY AC"]
[1629,"CHALU CHARLENE","CAF","TREMBLAY AC"]
[1630,"CHALU CHARLENE","JUF","TREMBLAY AC"]
[1631,"COSTA ELEA","POF","TREMBLAY AC"]
[1632,"COULIBALY NANA","CAF","TREMBLAY AC"]
[1633,"COULIBALY NANA","JUF","TREMBLAY AC"]
[1634,"DA COSTA DORIAN","MOM","TREMBLAY AC"]
[1635,"DECADE LEYA","BEF","TREMBLAY AC"]
[1636,"DEKHIL MILHANE","MMOM","TREMBLAY AC"]
[1637,"DEKHIL SHAHIN","BEM","TREMBLAY AC"]
[1638,"DELBOIS DANIEL","V2M","TREMBLAY AC"]
[1639,"DELVIN DJELISSA","MIF","TREMBLAY AC"]
[1640,"DEMBELE HABY","MOF","TREMBLAY AC"]
[1641,"DEPEHI SELIE","MMOF","TREMBLAY AC"]
[1642,"DERROUICHE BOUMEYA","MOF","TREMBLAY AC"]
[1643,"DERROUICHE SELMA","BEF","TREMBLAY AC"]
[1644,"DEVILLAZ MATHEO","POM","TREMBLAY AC"]
[1645,"DEVILLAZ UGO","MOM","TREMBLAY AC"]
[1646,"DIAWARA BINTOU","POF","TREMBLAY AC"]
[1647,"DRUMEL CLEMENT","MIM","TREMBLAY AC"]
[1648,"DUFAIT PATRICE","V1M","TREMBLAY AC"]
[1649,"EL JAAFARI ABDELKRIM","MOM","TREMBLAY AC"]
[1650,"ESTEVES ELMA","CAF","TREMBLAY AC"]
[1651,"FAIDI JAD AYMEN","BEM","TREMBLAY AC"]
[1652,"FERKAL MEYSSANE","BEM","TREMBLAY AC"]
[1653,"FERKAL NOAM","MMOM","TREMBLAY AC"]
[1654,"FERREIRA THEO","POM","TREMBLAY AC"]
[1655,"FETTAH FARAH","MOF","TREMBLAY AC"]
[1656,"FETTAH MELINA","MOF","TREMBLAY AC"]
[1657,"FETTAH MOHAMED","V1M","TREMBLAY AC"]
[1658,"FOFANA FATIM","MOF","TREMBLAY AC"]
[1659,"GALLARDO MANON","MIF","TREMBLAY AC"]
[1660,"GAOUR HIND","BEF","TREMBLAY AC"]
[1661,"GARCIA CRESCENTE","V3M","TREMBLAY AC"]
[1662,"GARCIA SEBASTIEN","S2M","TREMBLAY AC"]
[1663,"GHANDRI MANEL","MIF","TREMBLAY AC"]
[1664,"GHANDRI NAWEL","MIF","TREMBLAY AC"]
[1665,"GHARBI ADAM","POM","TREMBLAY AC"]
[1666,"GROSSI MARIO","V2M","TREMBLAY AC"]
[1667,"GUYON LUCAS","MOM","TREMBLAY AC"]
[1668,"HAGGANI JOHA-LYNN","POF","TREMBLAY AC"]
[1669,"HAGGANI SHANICE","MOF","TREMBLAY AC"]
[1670,"HAMELIN LUIS","MOM","TREMBLAY AC"]
[1671,"HOLSTEING ALEXANDRE","MOM","TREMBLAY AC"]
[1672,"HOUILLOT RYAN","MOM","TREMBLAY AC"]
[1673,"IBRAHIMA JADE","POF","TREMBLAY AC"]
[1674,"ICHOU ADAM","MIM","TREMBLAY AC"]
[1675,"ICHOU MANOUER","V1M","TREMBLAY AC"]
[1676,"ISIDORE NATHAN","CAM","TREMBLAY AC"]
[1677,"JANVIER MICKAEL","JUM","TREMBLAY AC"]
[1678,"JOSEPH AMELIE","POF","TREMBLAY AC"]
[1679,"JOZEFZOON-GODARD CARSON","MIM","TREMBLAY AC"]
[1680,"JUSUFI FATIMA","POF","TREMBLAY AC"]
[1681,"KEITA CONDO","MIF","TREMBLAY AC"]
[1682,"KHALLOQI SELMA","POF","TREMBLAY AC"]
[1683,"KOITA ASSA","CAF","TREMBLAY AC"]
[1684,"KOITA ASSA","JUF","TREMBLAY AC"]
[1685,"KOUIDER AKIL NESRINE","CAF","TREMBLAY AC"]
[1686,"KOUIDER AKIL NESRINE","JUF","TREMBLAY AC"]
[1687,"KOUIDER AKIL ZINEDDINE","JUM","TREMBLAY AC"]
[1688,"LAPORTE NORAH","BEF","TREMBLAY AC"]
[1689,"LAVAU NOAH","MMOM","TREMBLAY AC"]
[1690,"LEBEAU CLAUDE","V2M","TREMBLAY AC"]
[1691,"LEGENDRE SAYED","MMOM","TREMBLAY AC"]
[1692,"LIERE REMY","MIM","TREMBLAY AC"]
[1693,"LIMOUSIN LENA","BEF","TREMBLAY AC"]
[1694,"LOUWAGIE MANON","MIF","TREMBLAY AC"]
[1695,"MACHROUB ADIL","MIM","TREMBLAY AC"]
[1696,"MACHROUB FAHIM","JUM","TREMBLAY AC"]
[1697,"MACHROUB SHAHD","CAF","TREMBLAY AC"]
[1698,"MARIATHAS THEO","POM","TREMBLAY AC"]
[1699,"MARIE-SAINTE MATHIAS","JUM","TREMBLAY AC"]
[1700,"MARQUES LEANE","MIF","TREMBLAY AC"]
[1701,"MENET YLIESS","POM","TREMBLAY AC"]
[1702,"MERIAH SIRINE","BEF","TREMBLAY AC"]
[1703,"M'MADI SHAHD","MMOF","TREMBLAY AC"]
[1704,"MOMBRUNO KERRY","MMOM","TREMBLAY AC"]
[1705,"MOMBRUNO PHILEMON AYANA","MIF","TREMBLAY AC"]
[1706,"MONTEIRO VIVIANE","S2F","TREMBLAY AC"]
[1707,"MOULIN-LEGENDRE SWANN","MMOM","TREMBLAY AC"]
[1708,"MOUS AMEL","POF","TREMBLAY AC"]
[1709,"MOUSSAOUI NOFEL","BEM","TREMBLAY AC"]
[1710,"MUSUNGU SIMON","MIM","TREMBLAY AC"]
[1711,"NABI JAHID","S1M","TREMBLAY AC"]
[1712,"N'DAN IDRISS","POM","TREMBLAY AC"]
[1713,"OBOSSOU MANON","BEF","TREMBLAY AC"]
[1714,"OUGIER YOHAN","CAM","TREMBLAY AC"]
[1715,"PALAMINI NICOLAS","S2M","TREMBLAY AC"]
[1716,"PAVLAKOS THEO","MOM","TREMBLAY AC"]
[1717,"PLOYE CAPUCINE","MIF","TREMBLAY AC"]
[1718,"PORTILLO LONNA","POF","TREMBLAY AC"]
[1719,"RAHMOUNE NAWEL","MOF","TREMBLAY AC"]
[1720,"RAHMOUNE SOFIA","MMOF","TREMBLAY AC"]
[1721,"RAMPERSAN YANOAH","MOM","TREMBLAY AC"]
[1722,"REY Y CLEMARES MATHIEU","BEM","TREMBLAY AC"]
[1723,"RUDEL ALICIA","POF","TREMBLAY AC"]
[1724,"SALIGNAT-PLUMASSEAU MARIE-CLAUDE","V1F","TREMBLAY AC"]
[1725,"SAMI LILA","S2F","TREMBLAY AC"]
[1726,"SANGARE KAMISSA","POF","TREMBLAY AC"]
[1727,"SELHAMI WASIL","MIM","TREMBLAY AC"]
[1728,"SERRAIN FLORIAN","CAM","TREMBLAY AC"]
[1729,"SISSOKO HAWA","POF","TREMBLAY AC"]
[1730,"SOFRANI QASSIM","BEM","TREMBLAY AC"]
[1731,"SONNI IMANE","BEF","TREMBLAY AC"]
[1732,"SOUBAI FATIMA","MMOF","TREMBLAY AC"]
[1733,"SOUBAI YOUSSEF","MMOM","TREMBLAY AC"]
[1734,"SUJENDRAN ARUNAN","CAM","TREMBLAY AC"]
[1735,"SUJENDRAN EMILI","V2F","TREMBLAY AC"]
[1736,"SYLLA NIARALE","BEF","TREMBLAY AC"]
[1737,"TABIAN TESS","MIF","TREMBLAY AC"]
[1738,"TAHI OUSSAN","BEM","TREMBLAY AC"]
[1739,"TARMOUL HAKIM","JUM","TREMBLAY AC"]
[1740,"VALERIN LUANA","MIF","TREMBLAY AC"]
[1741,"VASANTHAKUMAR LEITHIGA","BEF","TREMBLAY AC"]
[1742,"VASANTHAKUMAR LENA","MMOF","TREMBLAY AC"]
[1743,"VASANTHAKUMAR LENIDA","POF","TREMBLAY AC"]
[1744,"VASANTHAKUMAR LENISAN","MOM","TREMBLAY AC"]
[1745,"VICI JULIA","S2F","TREMBLAY AC"]
[1746,"VISMARA ANGELO","MOM","TREMBLAY AC"]
[1747,"VOISIN THIERRY","BEM","TREMBLAY AC"]
[1748,"ZAIDOUNI SAID","MOM","TREMBLAY AC"]
[1749,"ZAJAC LANA","POF","TREMBLAY AC"]
[1750,"ZERNADJI MANEL","MOF","TREMBLAY AC"]
[1751,"ZOUBIR YACINE","MIM","TREMBLAY AC"]
[1752,"ABBES LEA","POF","US IVRY"]
[1753,"ABBES LIAM","MMOM","US IVRY"]
[1754,"ABBES MOHAMED","S2M","US IVRY"]
[1755,"ABBES SARAH","BEF","US IVRY"]
[1756,"ABD RABBOU ZINEB","POF","US IVRY"]
[1757,"AIE JESSICA","MIF","US IVRY"]
[1758,"ALAZRAKI LEOPOLDINE","POF","US IVRY"]
[1759,"AUBREE MATTEO","POM","US IVRY"]
[1760,"BAD DARYL","POM","US IVRY"]
[1761,"BAITECHE YOUSEF","V1M","US IVRY"]
[1762,"BARGES ELISA","MOF","US IVRY"]
[1763,"BASSET ANISSA","POF","US IVRY"]
[1764,"BEHEJOHN ELIJAH","MMOM","US IVRY"]
[1765,"BELEBAS WASSIL","MOM","US IVRY"]
[1766,"BELHANAFI YACINE","MOM","US IVRY"]
[1767,"BENGUEDDACH YANIS","MOM","US IVRY"]
[1768,"BENKACI FAREL","MOM","US IVRY"]
[1769,"BENKERROUM CHAHRAZAD","MOF","US IVRY"]
[1770,"BESSIERE MALO","MOM","US IVRY"]
[1771,"BEULLIER HELOISE","MMOF","US IVRY"]
[1772,"BIGOT AYLEEN","MMOF","US IVRY"]
[1773,"BOCARA ANTONIN","S1M","US IVRY"]
[1774,"BOD ZACHARY","MOM","US IVRY"]
[1775,"BOUABIB FARID","V2M","US IVRY"]
[1776,"BOUIC FELIX","MOM","US IVRY"]
[1777,"BOULABAS SAMY","POM","US IVRY"]
[1778,"BOULERHCHA ISMAEL","MOM","US IVRY"]
[1779,"BOURIANT QUENTIN","CAM","US IVRY"]
[1780,"BOURIANT QUENTIN","JUM","US IVRY"]
[1781,"BOUSSAHRA YASMINE","JUF","US IVRY"]
[1782,"BOUSSAIDI MALIK","MOM","US IVRY"]
[1783,"BRAS LAURENT","S2M","US IVRY"]
[1784,"CADET LENY","MMOF","US IVRY"]
[1785,"CASSIN AMELIE","BEF","US IVRY"]
[1786,"CATULESCU ANTON","MOM","US IVRY"]
[1787,"CATULESCU MILO","MOM","US IVRY"]
[1788,"CERLES YOLA","CAF","US IVRY"]
[1789,"CERLES YOLA","MIF","US IVRY"]
[1790,"CEYTKOVIC LYDIA","S2F","US IVRY"]
[1791,"CHABANA ANTONIN","MOM","US IVRY"]
[1792,"CHESNEAU TABORDA JONAH","MOM","US IVRY"]
[1793,"CHOUKRI LYNA","MOF","US IVRY"]
[1794,"CHOUKRI WAEL","POM","US IVRY"]
[1795,"CHTARA INES","MOF","US IVRY"]
[1796,"CHTARA LILA","MOF","US IVRY"]
[1797,"CORDEAU ALEXANDRE","BEM","US IVRY"]
[1798,"COUERAND ADRIEN","MMOM","US IVRY"]
[1799,"DA SILVA SARA","BEF","US IVRY"]
[1800,"DAFFARA UGO","JUM","US IVRY"]
[1801,"DANICAN- LOIAL TRACY","MOF","US IVRY"]
[1802,"DELAFOY JASMINE","MOF","US IVRY"]
[1803,"DHIFLAOUI NERMINE","BEF","US IVRY"]
[1804,"DIABY MARYAM","JUM","US IVRY"]
[1805,"DIAGOURAMA SLIMA","MIM","US IVRY"]
[1806,"DIAKITE ELYDJA","MMOM","US IVRY"]
[1807,"DIALLO MOUSTAPHA","MOM","US IVRY"]
[1808,"DIMITRIJEV KÉVIN","MOM","US IVRY"]
[1809,"DIMITRIJEV SARA","MMOF","US IVRY"]
[1810,"DIMITRIJEV VIKTOR","MOM","US IVRY"]
[1811,"DORGHAM IANIS","JUM","US IVRY"]
[1812,"DUPLESSIS ALEXIS","POM","US IVRY"]
[1813,"DUPLESSIS LUDOVIC","CAM","US IVRY"]
[1814,"DUPLESSIS LUDOVIC","JUM","US IVRY"]
[1815,"DUPUY GREGOIRE","MIM","US IVRY"]
[1816,"EL HALBA HANIA","MIF","US IVRY"]
[1817,"EL HALBA MOHAMED AMINE","MOM","US IVRY"]
[1818,"ELLE ATANGANE GILLES","S1M","US IVRY"]
[1819,"ESCHYLLE NOA","MOM","US IVRY"]
[1820,"ESPINOSA SWAINA","POF","US IVRY"]
[1821,"EUDES AYMERIC","MOM","US IVRY"]
[1822,"FACORAT TONY","MOM","US IVRY"]
[1823,"FARBONI DOMINIQUE","V1F","US IVRY"]
[1824,"FARKAS ALEX","S2M","US IVRY"]
[1825,"FE VALENTIN","MOM","US IVRY"]
[1826,"FOURDRIGNIER DAVID","V1M","US IVRY"]
[1827,"FOURDRIGNIER EVORA","MOF","US IVRY"]
[1828,"FRANCHETEAU ACHILLE","MIM","US IVRY"]
[1829,"FRANCILLONNE MALIK","MOM","US IVRY"]
[1830,"GABER AMIRA","MOF","US IVRY"]
[1831,"GABER NOUR","MMOF","US IVRY"]
[1832,"GALLEGO LOUBNA","POF","US IVRY"]
[1833,"GANDAIS GABRIEL","MOM","US IVRY"]
[1834,"GAUVAIN VIRGILE","MIM","US IVRY"]
[1835,"GENEVE YORICK","BEM","US IVRY"]
[1836,"GHITH INES","MOF","US IVRY"]
[1837,"GLENNIE ELÉA","MOF","US IVRY"]
[1838,"GOMBERT NICOLAS","BEM","US IVRY"]
[1839,"GOMEZ THEO","BEM","US IVRY"]
[1840,"GOOSSAERT KARINE","JUF","US IVRY"]
[1841,"GRAL STELLA","MOF","US IVRY"]
[1842,"GRANVILLE HAKIM","MOM","US IVRY"]
[1843,"GUELI HODA","MOF","US IVRY"]
[1844,"GUERMASSI AMIRA","BEF","US IVRY"]
[1845,"HADDACHE DAMIA","MIF","US IVRY"]
[1846,"HAMDANE MAISSANE","BEF","US IVRY"]
[1847,"HANIFI LOUISA","V1F","US IVRY"]
[1848,"HEDIR AYA","MOF","US IVRY"]
[1849,"HEDIR ILYES","POM","US IVRY"]
[1850,"HENNOUF KAIS","BEM","US IVRY"]
[1851,"HOISE-CHAMBEAU MATHIS","MOM","US IVRY"]
[1852,"HUANT RAPHAEL","CAM","US IVRY"]
[1853,"JAMMET LAETITIA","S2F","US IVRY"]
[1854,"JARDET LEO","POM","US IVRY"]
[1855,"JEAN LAURALY","MMOF","US IVRY"]
[1856,"JEAN LILY-ROSE","MOF","US IVRY"]
[1857,"JEAN-BERNARD ODELIA","BEF","US IVRY"]
[1858,"JOCK WHITNEY","JUF","US IVRY"]
[1859,"JORIS VASCO","MIM","US IVRY"]
[1860,"KAREMBEU IWAN","MMOM","US IVRY"]
[1861,"KCHIR SAMI","MIM","US IVRY"]
[1862,"KHALED MOHAMED","POM","US IVRY"]
[1863,"KIROUANI CAMILIA","BEF","US IVRY"]
[1864,"KIROUANI MAISSANE","POF","US IVRY"]
[1865,"KIROUANI ZACKARY","POM","US IVRY"]
[1866,"KOTT BRUNE","POF","US IVRY"]
[1867,"KOUAKOU AURIANE","POF","US IVRY"]
[1868,"KOUAMOU TONY","POM","US IVRY"]
[1869,"KPETCHE ADELE","BEF","US IVRY"]
[1870,"KRNETA EMMA","POF","US IVRY"]
[1871,"KROMWEL JEREMY","MIM","US IVRY"]
[1872,"LAFORGUE LOU","BEF","US IVRY"]
[1873,"LASFER LUNA","MOF","US IVRY"]
[1874,"LAURENT LEOPOLD","POM","US IVRY"]
[1875,"LE NEZET JEREMY","MIM","US IVRY"]
[1876,"LE NEZET KEVIN","BEM","US IVRY"]
[1877,"LEGESSE JOSIAS","MOM","US IVRY"]
[1878,"LEGESSE SALOME","POF","US IVRY"]
[1879,"LEMA HUGO","MMOM","US IVRY"]
[1880,"LEMAIL JEAN-MARC","V2M","US IVRY"]
[1881,"LEMARIE LEO","CAM","US IVRY"]
[1882,"LENEN-MEMLOUK MILLA","MOF","US IVRY"]
[1883,"LEQUEUX NAYLA","POF","US IVRY"]
[1884,"LESENFANS ANTHONY","CAM","US IVRY"]
[1885,"LESENFANS ANTHONY","JUM","US IVRY"]
[1886,"LEVESQUE REMI","BEM","US IVRY"]
[1887,"LEVESQUE TIMOTHÉ","MOM","US IVRY"]
[1888,"LOPIDORIN-THIMON INES","MOF","US IVRY"]
[1889,"LUCINA SIOUNANDAN KAËL","MOM","US IVRY"]
[1890,"LUYEYE OCÉANE","POF","US IVRY"]
[1891,"LUYEYE TIFFANY","MIF","US IVRY"]
[1892,"MACQUET KYLIAN","MOM","US IVRY"]
[1893,"MALANCIUC VALERIA","MIF","US IVRY"]
[1894,"MALOT LISA","POF","US IVRY"]
[1895,"MARTIN ADRIEN","MIM","US IVRY"]
[1896,"MARTINEZ MATIAS","V1M","US IVRY"]
[1897,"MASSON PENELOPE","MOF","US IVRY"]
[1898,"MEDINI ZAHRA","MOF","US IVRY"]
[1899,"MEDJAHED BADIS","MOM","US IVRY"]
[1900,"MENSENDE NANY","MIF","US IVRY"]
[1901,"MIAKA NGOMA BRANDY","MIF","US IVRY"]
[1902,"MIGNONDE MAELYS","MIF","US IVRY"]
[1903,"MOREAU-NABAL CELIA","MOF","US IVRY"]
[1904,"MORINO ÉRIYANE","MMOM","US IVRY"]
[1905,"MOULIDA INSAF","MOM","US IVRY"]
[1906,"NAGAM LAURYN","CAM","US IVRY"]
[1907,"NAIT MAMAR IMED","MOM","US IVRY"]
[1908,"NAIT-MAMAR LINA","CAF","US IVRY"]
[1909,"NAIT-MAMAR MELINA","BEF","US IVRY"]
[1910,"NAIT-MAMAR YANIS","MIM","US IVRY"]
[1911,"NDENI NGEKO KHADIDJA","CAF","US IVRY"]
[1912,"NDENI NGEKO KHADIDJA","JUF","US IVRY"]
[1913,"N'DIAYE LOANA","POF","US IVRY"]
[1914,"NERO STELLA","MIF","US IVRY"]
[1915,"N'GUYEN PAULINE","POF","US IVRY"]
[1916,"NOUNOU KAMEL","S2M","US IVRY"]
[1917,"OECHSEL THEO","MOM","US IVRY"]
[1918,"OMAR SIHANA","MMOF","US IVRY"]
[1919,"OSEI ASIBEY MATEO","MMOM","US IVRY"]
[1920,"PENEVEYRE ARTHUR","POM","US IVRY"]
[1921,"PEREZ GABRIEL","MMOM","US IVRY"]
[1922,"PETIT LOO","MMOF","US IVRY"]
[1923,"PHILBERT DENNYS","BEM","US IVRY"]
[1924,"PUJOL LILAS","MIF","US IVRY"]
[1925,"QUIROGA ILAN","MOM","US IVRY"]
[1926,"RADJOUH AMEL","POF","US IVRY"]
[1927,"RAKOTOMANGA NIRINA","MOM","US IVRY"]
[1928,"RICHARD-COEZY CELESTE","MOF","US IVRY"]
[1929,"RICHARD-ENA MATTEO","POM","US IVRY"]
[1930,"RICHARDIER-ZAJDNER NINA","MOF","US IVRY"]
[1931,"RIDARD MAELWENN","POM","US IVRY"]
[1932,"RIEU NATHALIE","S2F","US IVRY"]
[1933,"RONDEALL MARIUS","MOM","US IVRY"]
[1934,"ROZO RAPHAEL","MIM","US IVRY"]
[1935,"SAADA-DELPHIN ROMAIN","JUM","US IVRY"]
[1936,"SAKHO BASSIROU","BEM","US IVRY"]
[1937,"SAKHO ISSA","POM","US IVRY"]
[1938,"SAMB ASSANE","POM","US IVRY"]
[1939,"SANTONI ANGELO","MOM","US IVRY"]
[1940,"SARABIA NADINE","V2F","US IVRY"]
[1941,"SARR TAPHA","CAM","US IVRY"]
[1942,"SAUNER JEAN","MIM","US IVRY"]
[1943,"SAUNER MAXIMILIEN","MOM","US IVRY"]
[1944,"SCHEDEICH LOU","MOF","US IVRY"]
[1945,"SENE ALEXANDRE","BEM","US IVRY"]
[1946,"SISSOKO DIAKA","MOF","US IVRY"]
[1947,"SOULIE TOM","MMOM","US IVRY"]
[1948,"SOW ELIJAH AMEER","MOM","US IVRY"]
[1949,"STROOBANTS VALENTIN","MOM","US IVRY"]
[1950,"SY ALASSANE","MIF","US IVRY"]
[1951,"SY DJENABA","BEF","US IVRY"]
[1952,"TABBAKH SOFIEN","CAM","US IVRY"]
[1953,"TABBAKH SOFIEN","JUM","US IVRY"]
[1954,"TANDIAN MAYSSANE","MMOF","US IVRY"]
[1955,"TAOURIRT ALYSSA","CAM","US IVRY"]
[1956,"TCHOUAGA BILAL","BEM","US IVRY"]
[1957,"TCHOUAGA ISSA","POM","US IVRY"]
[1958,"TCHOUAGA LIAZID","POM","US IVRY"]
[1959,"TERBECHE EMMA","MIF","US IVRY"]
[1960,"TERBECHE MAYA","JUF","US IVRY"]
[1961,"TERRIER MATTHIEU","MOM","US IVRY"]
[1962,"TORRES MIRANDA EVA -LUNA","MOF","US IVRY"]
[1963,"TOURÉ SIRA","POF","US IVRY"]
[1964,"TOURNIANT HANAE","BEF","US IVRY"]
[1965,"VERCHEL MATHILDE","POF","US IVRY"]
[1966,"VETEL ENZO","MOM","US IVRY"]
[1967,"VICTOR TYRON","MOM","US IVRY"]
[1968,"VOITUS LIZA","BEF","US IVRY"]
[1969,"WAMBST LEA","POF","US IVRY"]
[1970,"WAMBST PIERRE","MMOM","US IVRY"]
[1971,"WEBINA-OROMBIA MELISSYA","MOF","US IVRY"]
[1972,"WINTER-BIROT HUGO","MOM","US IVRY"]
[1973,"WNEK IGOR","POM","US IVRY"]
[1974,"ZENADJI SARAH","MIF","US IVRY"]
[1975,"AMIAND ELIAS","JUM","US MERY AC"]
[1976,"ARAUJO YOHAN","JUM","US MERY AC"]
[1977,"AZENHA ALVARO","V3M","US MERY AC"]
[1978,"BALLOT DIDIER","V2M","US MERY AC"]
[1979,"BARBE DOMINIQUE","V3M","US MERY AC"]
[1980,"BEN SALEM NAWELLE","POF","US MERY AC"]
[1981,"BLONDEAU BENJAMIN","S2M","US MERY AC"]
[1982,"BONIFACIO ERIC","V1M","US MERY AC"]
[1983,"BOTTARD LAURENCE","V2F","US MERY AC"]
[1984,"BOTTARD PAUL","BEM","US MERY AC"]
[1985,"CHARPENTIER JEREMIE","S1M","US MERY AC"]
[1986,"CUGNIER ANNICK","V3F","US MERY AC"]
[1987,"DI PIERRO BRUNO","V2M","US MERY AC"]
[1988,"DOHY ADÈLE","MIF","US MERY AC"]
[1989,"DRAME DEMBA","MIM","US MERY AC"]
[1990,"FERNANDES CLAIRE","POF","US MERY AC"]
[1991,"FERNANDES LÉA MARIE","BEF","US MERY AC"]
[1992,"FERNANDES SIMON","BEM","US MERY AC"]
[1993,"FEVE GREGORY","S2M","US MERY AC"]
[1994,"GENDRE ANAEL","S2M","US MERY AC"]
[1995,"GUILLOU HERVE","V2M","US MERY AC"]
[1996,"JOLY CLAUDE","V5M","US MERY AC"]
[1997,"KEGET CAROLINE","S2F","US MERY AC"]
[1998,"LEDAN JACQUES","V3M","US MERY AC"]
[1999,"LEROUX CATHERINE","V3F","US MERY AC"]
[2000,"LOISEL ALAIN","V2M","US MERY AC"]
[2001,"MARCON CLAUDE","V3M","US MERY AC"]
[2002,"MAUZOLE ANDRE","V2M","US MERY AC"]
[2003,"NOIRIEL GUY","V2M","US MERY AC"]
[2004,"OLIVEIRA LAÉTITIA","BEF","US MERY AC"]
[2005,"PASI CHRISTIAN","V2M","US MERY AC"]
[2006,"RIBAUT MARC","V2M","US MERY AC"]
[2007,"RICHEL XAVIER","V2M","US MERY AC"]
[2008,"ROBERT RENATA","V1F","US MERY AC"]
[2009,"SECRETAIN JACQUES","V4M","US MERY AC"]
[2010,"SIBA BENAMAR","S2M","US MERY AC"]
[2011,"SMET MAXENCE","JUM","US MERY AC"]
[2012,"TEMAL MALIKA","V1F","US MERY AC"]
[2013,"THOMAS PHILIPPE","V3M","US MERY AC"]
[2014,"VALARY NADINE","V3F","US MERY AC"]
[2015,"VILLETTE DANIEL","V2M","US MERY AC"]
[2016,"ZEMALI AMBRINE","POF","US MERY AC"]
[2017,"ZIDAHNAL FATIMA","S2F","US MERY AC"]
[2018,"ZIDAHNAL INES","MIF","US MERY AC"]
[2019,"ABDALLAH BEATRISSE","S2F","US VIGNEUX"]
[2020,"ABID ANAS","POM","US VIGNEUX"]
[2021,"ABID AYA","MOF","US VIGNEUX"]
[2022,"ABOUDA YANIS","MIM","US VIGNEUX"]
[2023,"AHAMADI NAOUMIE","POF","US VIGNEUX"]
[2024,"AISSAOUI FOUAD","JUM","US VIGNEUX"]
[2025,"AISSAOUI KENZA","MIF","US VIGNEUX"]
[2026,"AISSAOUI LYNA ","POF","US VIGNEUX"]
[2027,"AISSAOUI SELMA","MOF","US VIGNEUX"]
[2028,"AISSAOUI TAREK ","CAM","US VIGNEUX"]
[2029,"AMARI AYLAM","POM","US VIGNEUX"]
[2030,"AMARI CHAMS EDDINE","MMOM","US VIGNEUX"]
[2031,"ARNOULD HUGO","BEM","US VIGNEUX"]
[2032,"BACARY ADAMA","POF","US VIGNEUX"]
[2033,"BACARY HAWA","POF","US VIGNEUX"]
[2034,"BAI BRIDE STANIA","BEF","US VIGNEUX"]
[2035,"BAKHCHI MYRIAM","POF","US VIGNEUX"]
[2036,"BAPTISTE NOLAN","MOM","US VIGNEUX"]
[2037,"BASKARANE LEO","MOM","US VIGNEUX"]
[2038,"BOINA MESNIL","BEM","US VIGNEUX"]
[2039,"BOIS THIBAULT","MOM","US VIGNEUX"]
[2040,"BOIZUMAULT ERWAN","MMOM","US VIGNEUX"]
[2041,"BOIZUMAULT KYLLIAN","BEM","US VIGNEUX"]
[2042,"BOKO ELEA","BEF","US VIGNEUX"]
[2043,"BOTEMPE KYLLIANE","MMOM","US VIGNEUX"]
[2044,"BOUCHER LENNY","POM","US VIGNEUX"]
[2045,"BOUGHANMI YLIES","MMOM","US VIGNEUX"]
[2046,"CADRAN ROSE-AIMEE","V2F","US VIGNEUX"]
[2047,"CAPRON JONAS","BEM","US VIGNEUX"]
[2048,"CHANDLER TRISSYA","MMOF","US VIGNEUX"]
[2049,"CHARLOTON AMANDINE","MIF","US VIGNEUX"]
[2050,"COMPRELLE CATHLEEN","BEF","US VIGNEUX"]
[2051,"COMPRELLE KENNY","MMOM","US VIGNEUX"]
[2052,"DA SILVA ANTHONY","BEM","US VIGNEUX"]
[2053,"DAVID BAUDRAND JULES","MOM","US VIGNEUX"]
[2054,"DEBONA DYLAN","MMOM","US VIGNEUX"]
[2055,"DERYMACKER AMBRE","MOF","US VIGNEUX"]
[2056,"DOHNU ALICIA","POF","US VIGNEUX"]
[2057,"DUARTE THOMAS","POM","US VIGNEUX"]
[2058,"DUCCESCHI CLEMENT","MIM","US VIGNEUX"]
[2059,"DUCCESCHI PATRICK","V2M","US VIGNEUX"]
[2060,"EL AAHAD AYOUB","MMOM","US VIGNEUX"]
[2061,"EL AAHAD CHAYMA","MOF","US VIGNEUX"]
[2062,"EL AAHAD NASSIMA","POF","US VIGNEUX"]
[2063,"ESPERO GIANNI","MMOM","US VIGNEUX"]
[2064,"ESSID KARINE","MOF","US VIGNEUX"]
[2065,"ESSID RAYAN","POM","US VIGNEUX"]
[2066,"ESSID YANIS","POM","US VIGNEUX"]
[2067,"ESSID YLAN","MOM","US VIGNEUX"]
[2068,"EYOLA SARAH","MOF","US VIGNEUX"]
[2069,"FABRI MELISSA","POF","US VIGNEUX"]
[2070,"FABRI MELVYN","MOM","US VIGNEUX"]
[2071,"FATY ALYSSA","MMOF","US VIGNEUX"]
[2072,"FATY ISSA","MOM","US VIGNEUX"]
[2073,"FEROUDJ AMINE","MOM","US VIGNEUX"]
[2074,"FERRET LOLAN","POM","US VIGNEUX"]
[2075,"FOFANA FATOUMATA","BEF","US VIGNEUX"]
[2076,"FRANCO MARCALO MIRCO","MOM","US VIGNEUX"]
[2077,"GAIE-LEVREL APOLLINE","MOF","US VIGNEUX"]
[2078,"GAIE-LEVREL ARTHUR","MMOM","US VIGNEUX"]
[2079,"GELAS LEEROY","MOM","US VIGNEUX"]
[2080,"GRELET SHANA MAY","BEF","US VIGNEUX"]
[2081,"GUILLARD ALAIN","S2M","US VIGNEUX"]
[2082,"GUILLARD LOANE","POF","US VIGNEUX"]
[2083,"HABIB AXIL","BEM","US VIGNEUX"]
[2084,"HECK MATHIS","POM","US VIGNEUX"]
[2085,"HORMA NACIMA","POF","US VIGNEUX"]
[2086,"HORMA YANIS","MIM","US VIGNEUX"]
[2087,"IACULO MATIS","MMOM","US VIGNEUX"]
[2088,"JACQUINOT MATHEO","POM","US VIGNEUX"]
[2089,"JEAN-ELIE MARVYN","POM","US VIGNEUX"]
[2090,"KESSENG ORLANE","POF","US VIGNEUX"]
[2091,"KESSENG TADOUN THYA","MmoF","US VIGNEUX"]
[2092,"KUNDURA LEA","S1F","US VIGNEUX"]
[2093,"LAAZIZ HANAA","POF","US VIGNEUX"]
[2094,"LAAZIZ LINA","MMOF","US VIGNEUX"]
[2095,"LEPOUTRE EVAN","MOM","US VIGNEUX"]
[2096,"LOPES SHIRLEY","MMOF","US VIGNEUX"]
[2097,"MAGNE JULYA","MMOF","US VIGNEUX"]
[2098,"MARTEL LUBIN","MOM","US VIGNEUX"]
[2099,"MARTIN ANDREW","MIM","US VIGNEUX"]
[2100,"MARTIN GURWAN","POM","US VIGNEUX"]
[2101,"MAYINGANI ALAN","MIM","US VIGNEUX"]
[2102,"MICHEL RUBEN","MOM","US VIGNEUX"]
[2103,"MOUNKASSA GHOLDIE","MOF","US VIGNEUX"]
[2104,"PAROT LAURENCE","S2F","US VIGNEUX"]
[2105,"PAROT TOM","MMOM","US VIGNEUX"]
[2106,"PHILLIPS AIMANE DAVID","BEM","US VIGNEUX"]
[2107,"PHILLIPS BEN","MMOM","US VIGNEUX"]
[2108,"PHILLIPS SONIA","MOF","US VIGNEUX"]
[2109,"PRIAM LEE ROY","BEM","US VIGNEUX"]
[2110,"PUGLIESE ENZO","MMOM","US VIGNEUX"]
[2111,"RIBEIRO JEFERSON","MOM","US VIGNEUX"]
[2112,"RIBEIRO JESSY","MMOM","US VIGNEUX"]
[2113,"RINGUENET GUILLAUME","POM","US VIGNEUX"]
[2114,"RINGUENET MARIE","POF","US VIGNEUX"]
[2115,"ROHART KEVIN","MIM","US VIGNEUX"]
[2116,"ROJAS MARIE","V2F","US VIGNEUX"]
[2117,"ROYET WILLY","V2M","US VIGNEUX"]
[2118,"SAINDOU ARIMALALA","V2F","US VIGNEUX"]
[2119,"SAINDOU DYLAN","BEM","US VIGNEUX"]
[2120,"SCHEVEILER ELIAN","MOM","US VIGNEUX"]
[2121,"SCHEVEILER THEA","POF","US VIGNEUX"]
[2122,"SICOS MADHIS","MOM","US VIGNEUX"]
[2123,"SOW MAMADOU","MMOM","US VIGNEUX"]
[2124,"TOUACH ISSAM","MOM","US VIGNEUX"]
[2125,"TOURE ISMAEL","MMOM","US VIGNEUX"]
[2126,"TOURE OUMAR","MOM","US VIGNEUX"]
[2127,"TULLIEZ CALVYN","MMOM","US VIGNEUX"]
[2128,"TULLIEZ MARVYN","MOM","US VIGNEUX"]
[2129,"VAIRELLES GAUTHIER","POM","US VIGNEUX"]
[2130,"VIEIRA ALEX","BEM","US VIGNEUX"]
[2131,"ZERIOUH AMINE","MOM","US VIGNEUX"]
[2132,"ACHOUCHE ILIAN","POM","USMA ST OUEN"]
[2133,"ACHOUCHE MELINA","MMOF","USMA ST OUEN"]
[2134,"AIT BOUALI YANIS","JUM","USMA ST OUEN"]
[2135,"AUBOU FLAVIEN","MIM","USMA ST OUEN"]
[2136,"AYENNE FRANCIS","V1M","USMA ST OUEN"]
[2137,"BAKALA-KILAMBI YISSA","BEM","USMA ST OUEN"]
[2138,"BAYKAM KIMANI","MOM","USMA ST OUEN"]
[2139,"BELBACHIR DOUNIA","MOF","USMA ST OUEN"]
[2140,"BELBACHIR LEKBIR","MIM","USMA ST OUEN"]
[2141,"BELBACHIR WALID","MMOM","USMA ST OUEN"]
[2142,"BENA MAWETE MELISSA","BEF","USMA ST OUEN"]
[2143,"BENSALEM ILIES","POM","USMA ST OUEN"]
[2144,"BIAUCE MELISSA","MIF","USMA ST OUEN"]
[2145,"BOITTIAUX THEO","POM","USMA ST OUEN"]
[2146,"BOURLIOUX OCEANE","MIF","USMA ST OUEN"]
[2147,"CAMARA KHASSA","JUM","USMA ST OUEN"]
[2148,"CERNE MATEO","POM","USMA ST OUEN"]
[2149,"CERNE RAFAEL","MOM","USMA ST OUEN"]
[2150,"CHANTEREAULT DANAE","POF","USMA ST OUEN"]
[2151,"CHERITI INES","POF","USMA ST OUEN"]
[2152,"COLIN SANDRINE","V1F","USMA ST OUEN"]
[2153,"DABO BINETA","BEF","USMA ST OUEN"]
[2154,"DEMBELE AWA","BEF","USMA ST OUEN"]
[2155,"DEMBELE KOBODING","MOF","USMA ST OUEN"]
[2156,"DERILUS DANDY","POM","USMA ST OUEN"]
[2157,"DIAKO MOHAMED","MOM","USMA ST OUEN"]
[2158,"DIAMBO FATOU","MIF","USMA ST OUEN"]
[2159,"DIANE MADY","BEF","USMA ST OUEN"]
[2160,"DIOMANDE MEMA-TIEBON","BEM","USMA ST OUEN"]
[2161,"DIVIALLE-PETER ALIYANNA","POF","USMA ST OUEN"]
[2162,"DJAE MAISSA","POF","USMA ST OUEN"]
[2163,"DUBREUCQ THEO","BEM","USMA ST OUEN"]
[2164,"DUVILLE GRAVA MARCUS","MIM","USMA ST OUEN"]
[2165,"ELBAYLY AMIR","BEM","USMA ST OUEN"]
[2166,"ENNASRAOUI SOUMAYA","MIF","USMA ST OUEN"]
[2167,"FARAJI FATINE","MIF","USMA ST OUEN"]
[2168,"FRANCOIS-EUGENE LOIC","MOM","USMA ST OUEN"]
[2169,"GARRIBA LUYDJY","POM","USMA ST OUEN"]
[2170,"GOMES NICOLAS","POM","USMA ST OUEN"]
[2171,"HADJAZI YANIS","MOM","USMA ST OUEN"]
[2172,"HEMERY THIERRY","V2M","USMA ST OUEN"]
[2173,"HERELIUS EVAN","POM","USMA ST OUEN"]
[2174,"HERVE GARANCE","JUF","USMA ST OUEN"]
[2175,"IEM AMELIE","S2F","USMA ST OUEN"]
[2176,"JEAN FRANCOIS JADE","POF","USMA ST OUEN"]
[2177,"KABBAJ ADAM","MOM","USMA ST OUEN"]
[2178,"KAHOUL-MEDJBER MASSIL","CAM","USMA ST OUEN"]
[2179,"KAMENI DE DJANI POUASSI SUEVA","BEF","USMA ST OUEN"]
[2180,"KANAANI AMIRA","POF","USMA ST OUEN"]
[2181,"KANTE MAMADOU","MOM","USMA ST OUEN"]
[2182,"KHELFAOUI YNES","MOF","USMA ST OUEN"]
[2183,"LEFORESTIER DIDIER","V2M","USMA ST OUEN"]
[2184,"LEGENDRE SORAYA","BEF","USMA ST OUEN"]
[2185,"LEMBE-LUSALA JUTI JESSICA","MIF","USMA ST OUEN"]
[2186,"LEMESLE LOUIS","BEM","USMA ST OUEN"]
[2187,"LEMESLE PAULINE","POF","USMA ST OUEN"]
[2188,"LENDOYE-LEKONDJA LILLIAN","MOM","USMA ST OUEN"]
[2189,"MAHAMA LENA MAIMOUNA","BEF","USMA ST OUEN"]
[2190,"MAIMOUN DYLMIE","POM","USMA ST OUEN"]
[2191,"MALAQUIN-LEGRAND MALOU","POF","USMA ST OUEN"]
[2192,"MANUEL HELOISE","MOF","USMA ST OUEN"]
[2193,"MARIE-SAINTE MEILVYN","POM","USMA ST OUEN"]
[2194,"MASCLEF CORENTIN","JUM","USMA ST OUEN"]
[2195,"MATIAS KELYA","POF","USMA ST OUEN"]
[2196,"MBENGA MOMBA PRESLY","POF","USMA ST OUEN"]
[2197,"MOUABONGO SULLYVAN","BEM","USMA ST OUEN"]
[2198,"NASRI JANNA","POF","USMA ST OUEN"]
[2199,"NEMAR ZAKY","MOM","USMA ST OUEN"]
[2200,"OUHEMMOU KENZA","MIF","USMA ST OUEN"]
[2201,"RACHIDI MALIK","V2M","USMA ST OUEN"]
[2202,"REMONGIN MEILI","POF","USMA ST OUEN"]
[2203,"SANCHO--LORY ALEXANDRE","MOM","USMA ST OUEN"]
[2204,"SARAZIN EDITH","V2F","USMA ST OUEN"]
[2205,"SIVAKUMAR ¨PRAMOD","POM","USMA ST OUEN"]
[2206,"THACI EDONA","BEF","USMA ST OUEN"]
[2207,"TOURE KOUDJEDJI","BEF","USMA ST OUEN"]
[2208,"TOURE NYOUMA","MOF","USMA ST OUEN"]
[2209,"TOURE SADIO","POF","USMA ST OUEN"]
[2210,"TOUZET LENI","MMOM","USMA ST OUEN"]
[2211,"TROCHET-CARDIGA AMBRE","MOF","USMA ST OUEN"]
[2212,"ZANGER TALIA","MIF","USMA ST OUEN"]
[2213,"ZERKANI KENZA","BEF","USMA ST OUEN"]
[2214,"ZERKANI NABYLE","MOM","USMA ST OUEN"]
[2215,"AKHERIB SAMI","S1M","USO BEZONS"]
[2216,"ALBERT ANNIE","V2F","USMA ST OUEN"]
[2217,"AMENSAHI BONSUFO ANNA","JUF","USO BEZONS"]
[2218,"ANAMR SALMANE","MMOM","USO BEZONS"]
[2219,"ANDOH SAMUEL","MOM","USO BEZONS"]
[2220,"ANTOSIEWICZ TOMASZ","BEM","USO BEZONS"]
[2221,"BARRAULT VINCENT","CAM","USO BEZONS"]
[2222,"BARRAULT VINCENT","JUM","USO BEZONS"]
[2223,"BISIAUX DAMIEN","S2M","USMA ST OUEN"]
[2224,"BOLLE QUENTIN","S1M","USO BEZONS"]
[2225,"BROSSELIER LÉO","POM","USO BEZONS"]
[2226,"BRUNOIS HAGNIER KIMBERLEY","POF","USO BEZONS"]
[2227,"CABRERRA ESTEBAN","MMOM","USO BEZONS"]
[2228,"CHANTEREAULT CYRIL","S2M","USMA ST OUEN"]
[2229,"CHARLEMAGNE RUDY","POM","USO BEZONS"]
[2230,"CINQVAL JORY","MIM","USO BEZONS"]
[2231,"COIN GABRIEL","BEM","USO BEZONS"]
[2232,"DELEAU ISABELLE","V1F","USMA ST OUEN"]
[2233,"DESVILLETTES ANISSA","MIF","USO BEZONS"]
[2234,"DUBREUCQ STEPHANE","V1M","USMA ST OUEN"]
[2235,"FETTANE SOFIANE","S1M","USO BEZONS"]
[2236,"FOFANA NENE","POF","USO BEZONS"]
[2237,"GHESQUIERE LEO","BEM","USO BEZONS"]
[2238,"GIBON JÉREMIE","MOM","USO BEZONS"]
[2239,"GODIN MARIE ANNICK","V3F","USMA ST OUEN"]
[2240,"GOMES DUBOIS AMAURY","MOM","USO BEZONS"]
[2241,"GOMES DUBOIS MAËL","POM","USO BEZONS"]
[2242,"GUIGUI ORLANE","POF","USO BEZONS"]
[2243,"GUIGUI WARREN","CAM","USO BEZONS"]
[2244,"GUINOT NOAH","MOM","USO BEZONS"]
[2245,"GUN LOUIS","POM","USO BEZONS"]
[2246,"HARET NAIMA","V1F","USMA ST OUEN"]
[2247,"HEBDING STEPHEN","S1M","USMA ST OUEN"]
[2248,"IKHOU AMIROUCHE","V1M","USO BEZONS"]
[2249,"ILMI SORAYA","POF","USO BEZONS"]
[2250,"ISCEN RANIA","MIF","USO BEZONS"]
[2251,"JACQUEMINET MAELLYS","MOF","USO BEZONS"]
[2252,"KEDUKU OLAYEMI","BEF","USO BEZONS"]
[2253,"KERHEL BETTY","V2F","USMA ST OUEN"]
[2254,"KOUNZI KARL MATHIS","MMOM","USO BEZONS"]
[2255,"LABORDE SYLVIE","V2F","USMA ST OUEN"]
[2256,"LAURENT KASSANDRA","POF","USO BEZONS"]
[2257,"MAGRA MYRIAM","BEF","USO BEZONS"]
[2258,"MARTINEAU ROMANE","MIF","USO BEZONS"]
[2259,"MONTEIRO BRITO SEMEDO CINTIA","BEF","USO BEZONS"]
[2260,"MONTEIRO LOPES LEA","MIF","USO BEZONS"]
[2261,"MOUEZY CORENTIN","MIM","USO BEZONS"]
[2262,"MOUSSA FAHARDINE","BEM","USO BEZONS"]
[2263,"MOUSSA FAHARZADE","MIF","USO BEZONS"]
[2264,"MPANZU MATTYS","MOM","USO BEZONS"]
[2265,"REZZAG MILOUD","V1M","USO BEZONS"]
[2266,"RHAYATI WAHID","S1M","USO BEZONS"]
[2267,"RUBLON JEREMY","MOM","USO BEZONS"]
[2268,"SACCARDI FLORINE","MOF","USO BEZONS"]
[2269,"SACCARDI LIZA","POF","USO BEZONS"]
[2270,"SAYAH JOSE SAMY","MOM","USO BEZONS"]
[2271,"SIRIYES SOLINE","MIF","USO BEZONS"]
[2272,"SOW MOUNOU","JUM","USO BEZONS"]
[2273,"TANIC SARAH AMANDINE","BEF","USO BEZONS"]
[2274,"TOUKAP RAYANE","POM","USO BEZONS"]
[2275,"ZAIDI PHILIPPE KAMEL","V2M","USMA ST OUEN"]
[2276,"AMADOS MIKHAEL","MMOM","VILLEPINTE MA"]
[2277,"AUBOU SWANN","POM","VILLEPINTE MA"]
[2278,"AUVRAY MATHIS","POM","VILLEPINTE MA"]
[2279,"BARBOSA LONY","MMOM","VILLEPINTE MA"]
[2280,"BELHIH MEHDI","MMOM","VILLEPINTE MA"]
[2281,"BENMOHAMMED SAMIR","POM","VILLEPINTE MA"]
[2282,"BENYOUNES CHAIMA","BEF","VILLEPINTE MA"]
[2283,"BEZTOUT YANIS","MMOM","VILLEPINTE MA"]
[2284,"BOUBERKA NAIMA","POF","VILLEPINTE MA"]
[2285,"BOURAHEL KAIN","MOM","VILLEPINTE MA"]
[2286,"BRUNEAU ETHAN","MOM","VILLEPINTE MA"]
[2287,"CAMBIER JOUWAIRUJA","MMOF","VILLEPINTE MA"]
[2288,"CAMBIER TASNIM","MMOM","VILLEPINTE MA"]
[2289,"CARDOT CECILE","JUF","VILLEPINTE MA"]
[2290,"CHAIB ABDELLAH","POM","VILLEPINTE MA"]
[2291,"CHAIB OUSSAMA","MIM","VILLEPINTE MA"]
[2292,"CHEBAUT ANGELINA","MOF","VILLEPINTE MA"]
[2293,"CHENOUFI RANIA","POF","VILLEPINTE MA"]
[2294,"CHENOUFI YACINE","MMOM","VILLEPINTE MA"]
[2295,"CHOUITER MAGALI","MIF","VILLEPINTE MA"]
[2296,"COLLIN-MAYONZIKA YANIS","MOM","VILLEPINTE MA"]
[2297,"DARALIA MARWAN","BEM","VILLEPINTE MA"]
[2298,"DARALIA SORAYA","MOF","VILLEPINTE MA"]
[2299,"DARALIA SYRINE","POF","VILLEPINTE MA"]
[2300,"DERROU MANELLE","MOF","VILLEPINTE MA"]
[2301,"DERROU MOHAMED","BEM","VILLEPINTE MA"]
[2302,"DERROU YACINE","MMOM","VILLEPINTE MA"]
[2303,"DERROU YASMINE","MOF","VILLEPINTE MA"]
[2304,"DISTEPHANE ALEXANDRE","MOM","VILLEPINTE MA"]
[2305,"DROUIN FLORIAN","MMOM","VILLEPINTE MA"]
[2306,"EL MEHDAOUI ADIL","MMOM","VILLEPINTE MA"]
[2307,"ESPERANCE LOUIS","POM","VILLEPINTE MA"]
[2308,"ESPERANCE MARCUS","MOM","VILLEPINTE MA"]
[2309,"FILET MARIE","POF","VILLEPINTE MA"]
[2310,"GAMMOUDI AMINE","MOM","VILLEPINTE MA"]
[2311,"GRILO LEA","MOF","VILLEPINTE MA"]
[2312,"HAGGUI HAMZA","MOM","VILLEPINTE MA"]
[2313,"HAGGUI HAYDER","MMOM","VILLEPINTE MA"]
[2314,"HOCINE AHMED","MMOM","VILLEPINTE MA"]
[2315,"KATENDI- NSOUKOULA ANAELLE","MOF","VILLEPINTE MA"]
[2316,"KECHKECHE ASSIL","POM","VILLEPINTE MA"]
[2317,"KECHKECHE ZAKI","POM","VILLEPINTE MA"]
[2318,"MADANI ILVAN","MMOM","VILLEPINTE MA"]
[2319,"MARAVAL ELIAS","POM","VILLEPINTE MA"]
[2320,"MARVAL MAIA","MMOF","VILLEPINTE MA"]
[2321,"MEBARKI ISMAEL","MMOM","VILLEPINTE MA"]
[2322,"MELLOUK BRAHIM","MMOM","VILLEPINTE MA"]
[2323,"MENIDIOH VICOTOIR","MOM","VILLEPINTE MA"]
[2324,"MOHAMMAD AMREEN","MMOF","VILLEPINTE MA"]
[2325,"MOHAMMAD WASCEL","MMOM","VILLEPINTE MA"]
[2326,"NAGOU LEHNA","MOF","VILLEPINTE MA"]
[2327,"NAGOU NOAH","POM","VILLEPINTE MA"]
[2328,"OUMEDDAH FAREL","POM","VILLEPINTE MA"]
[2329,"OUMEDDAH JENNA","MMOF","VILLEPINTE MA"]
[2330,"RAZAFINIMANANA ARTHUR","MOM","VILLEPINTE MA"]
[2331,"RAZAFINIMANANA MATTEO","POM","VILLEPINTE MA"]
[2332,"RAZAFINIMANANA TIANA","MMOF","VILLEPINTE MA"]
[2333,"SAID-NASSUR KOURRATA","CAM","VILLEPINTE MA"]
[2334,"SAID-NASSUR KOURRATA","JUM","VILLEPINTE MA"]
[2335,"SYLVESTRE SOPHIE","MOF","VILLEPINTE MA"]
[2336,"QUEMON ANAIS","S1F","USMA ST OUEN"]
[2337,"GUYOT ELSA","S1F","USMA ST OUEN"]
[2338,"MANUEL HERVE","V1M","USMA ST OUEN"]
[2339,"SENOUSSAOUI YAMINE","V2M","USMA ST OUEN"]
[2340,"GARCIA MAGALI","S2F","TREMBLAY AC"]
[2341,"DUBOIS AURELIE","V1F","TREMBLAY AC"]
[2342,"BARNA PATRICE","S2M","TREMBLAY AC"]
[2343,"CHABOUD BERNARD","V3M","TREMBLAY AC"]
[2344,"BETHRY NICOLAS","S1M","TREMBLAY AC"]
[2345,"QUEMENEUR ANAIS","S1F","TREMBLAY AC"]
[2346,"HAMMACHE ADEL","MOM","ATHLE LE BOURGET DRANCY DUGNY"]
[2347,"AKENNAD YOUSSEF","MMOG","COM ARGENTEUIL"]
[2348,"AKENNAD AYA","POF","COM ARGENTEUIL"]
[2349,"AKENNAD ASSIA","BEF","COM ARGENTEUIL"]
[2350,"AKENNAD SABRINA","MIF","COM ARGENTEUIL"]
[2351,"DEMAREST VERONIQUE","V1F","AMICALE BABYLONE"]
[2352,"THOMAS LOUIS-PAUL","V2M","US IVRY"]
[2353,"GOMBERT LAURENT","V1M","US IVRY"]
[2354,"MANSOURI MASSY","MOM","COM ARGENTEUIL"]
[2355,"MANSOURI YASMINE","MOF","COM ARGENTEUIL"]
[2356,"AKENNAD AYA","POF","COM ARGENTEUIL"]
[2357,"AKENNAD ASSIA","BEF","COM ARGENTEUIL"]
[2358,"AKENNAD SABRINA","MIF","COM ARGENTEUIL"]
[2359,"MARCOUS PIERRE","S1M","COM ARGENTEUIL"]
[2360,"BOULANGER BERNARD","V4M","US MERY AC"]
[2361,"ZOUHIR HASSAN (DEC)","V1M","DECLASSE","CSPTT 95"]
[2362,"DELBAERE VINCENT","V2M","US MERY AC"]
[2363,"BOUCHAIB KARIM (DEC)","S1M","DECLASSE","CSPTT 95"]
[2364,"RICHARD PASCAL (DEC)","V2M","DECLASSE","CSPTT 95"]
[2365,"IHAJARENE FREDERIC","S2M","ES VITRY","DOSSARD 2364"]
[2366,"PLANSON JEANINE","V1F","CSPTT 95"]
[2367,"DIDIER RUBYS","MOF","ES STAINS"]
[2368,"MBUYI HELOÏME","BEF","ES STAINS"]
[2369,"HADJ LARBI SADIA (DEC)","S2F","DECLASSE","ACM AUBERVILLIERS"]
[2370,"LIMAGE JESSY","BEF","ES STAINS"]
[2371,"HAMMACHE SELENA","POF","ATHLE LE BOURGET DRANCY DUGNY"]
[2372,"ADIFEDILOR DJAHAN","MOM","ATHLE LE BOURGET DRANCY DUGNY"]
[2373,"CORREIA DIARIE MELVIN","MOM","ES STAINS"]
[2375,"ADJAOUA AMILES","BEM","CS BRETIGNY ATHLETISME"]
[2376,"DESMARTIN VERONIQUE","V1F","AMICALE BABYLONE"]
[2377,"SOYANN PORGO","POM","NOISY LE SEC ATHLETISME"]
[2378,"DJEDJE DESANGE","POM","NOISY LE SEC ATHLETISME"]
[2379,"OMARDIKOKE CANDICE","POF","NOISY LE SEC ATHLETISME"]
[2380,"OUALI JULIEN","S1M","USO BEZONS"]
[2381,"KNOPF MALIKA","V1F","ACM AUBERVILLIERS"]
[2382,"PAULICAPE EMMANUEL","POM","NOISY LE SEC ATHLETISME"]
[2383,"DEMBELE AÏCHA","POF","TREMBLAY AC"]
[2384,"NABI BRAHIM","BEM","TREMBLAY AC"]
[2385,"OPET MATHIEU","BEM","ATHLE LE BOURGET DRANCY DUGNY"]
[2386,"ZIDANI NOE","BEM","ES VITRY"]
[2387,"BENRABAH HORIA","V2F","ACM AUBERVILLIERS"]
[2388,"VONGO MATU MARLENE","S2F","ACM AUBERVILLIERS"]
[2389,"PIN SAFA","S1F","ACM AUBERVILLIERS"]

{"sheet":"Equipe","index":2,"n_rows":15,"n_cols":44,"rows_kept":15,"cut":false,"hidden":false,"merged":[[1,22,1,23],[3,22,3,23],[1,24,1,25],[3,4,3,5],[3,0,3,1],[3,2,3,3],[3,8,3,9],[3,10,3,11],[1,0,1,1],[1,2,1,3],[1,4,1,5],[1,8,1,9],[1,10,1,11],[3,12,3,13],[3,14,3,15],[3,16,3,17],[3,18,3,19],[3,20,3,21],[1,12,1,13],[1,14,1,15],[1,16,1,17],[1,18,1,19],[1,20,1,21],[1,40,1,41],[1,28,1,29],[3,26,3,27],[3,28,3,29],[3,40,3,41],[1,42,1,43],[3,24,3,25],[1,26,1,27],[1,6,1,7],[3,42,3,43],[3,6,3,7],[1,30,1,31],[1,32,1,33],[3,30,3,31],[3,32,3,33],[1,34,1,35],[1,36,1,37],[3,34,3,35],[3,36,3,37],[1,38,1,39],[3,38,3,39]]}
[]
["Course n°1",null,"Course n°1",null,"Course n°1",null,"Course n°2",null,"Course n°3",null,"Course n°4",null,"Course n°3",null,"Course n°3",null,"Course n°7",null,"Course n°7",null,"Course n°8",null,"Course n°9",null,"Course n°9",null,"Course n°10",null,"Course n°10",null,"Course n°11",null,"Course n°11",null,"Course n°12",null,"Course n°12",null,"Course n°12",null,"Course n°12",null,"Course n°13"]
["C1 VM 2-3-4 JUM",3,"C1 VM 2-3-4 JUM",3,"C1 VM 2-3-4 JUM",3,"C2 V1M",4,"C3 MOF",3,"C4 MMOF",3,"C5 MOM",3,"C6 MMOM",null,"C7 POF POM",3,"C7 POF POM",3,"C8 BEF CC",3,"C9 BEM MIF",3,"C9 BEM MIF",3,"C10 CAF MIM",3,"C10 CAF MIM",3,"C11 CAM JUF",3,"C11 CAM JUF",3,"C12 SF VF",3,"C12 SF VF",3,"C12 SF VF",3,"C12 SF VF",3,"C 13 SEM",4]
["JUM",null,"V2M",null,"V3M V4M V5M",null,"V1M",null,"MOF",null,"MMOF",null,"MMOM",null,"MOM",null,"POF",null,"POM",null,"BEF",null,"BEM",null,"MIF",null,"CAF",null,"MIM",null,"CAM",null,"JUF",null,"S1F S2F",null,"V1F",null,"V2F",null,"V3F V4F V5F",null,"S1M S2M"]
["Clubs","Points","Clubs","Points","Clubs","Points","Clubs","Points","Clubs","Points","Clubs","Points","Clubs","Points","Clubs","Points","Clubs","Points","Clubs","Points","Clubs","Points","Clubs","Points","Clubs","Points","Clubs","Points","Clubs","Points","Clubs","Points","Clubs","Points","Clubs","Points","Clubs","Points","Clubs","Points","Clubs","Points","Clubs","Points"]
["COM ARGENTEUIL",12,"TREMBLAY AC",81,"CSPTT 95",9,"CSPTT 95",33,null,null,null,null,null,null,null,null,"BLANC MESNIL SA",22,"ES VITRY",31,"AC BOBIGNY",26,"NOISY LE SEC ATHLETISME",27,"ATHLE LE BOURGET DRANCY DUGNY",6,"ES STAINS",13,"BLANC MESNIL SA",17,"ES STAINS",10,null,null,"CSPTT 95",24,"USMA ST OUEN",21,"USMA ST OUEN",31,"US MERY AC",8,"ES STAINS",80]
[null,null,"US MERY AC",29,"US MERY AC",29,null,null,null,null,null,null,null,null,null,null,"TREMBLAY AC",23,"ATHLE LE BOURGET DRANCY DUGNY",42,"ES STAINS",27,"ATHLE LE BOURGET DRANCY DUGNY",28,"TREMBLAY AC",23,"TREMBLAY AC",18,"TREMBLAY AC",21,"TREMBLAY AC",27,null,null,"ES STAINS",38,"MA ST CYR",22,"US VIGNEUX",34,null,null,"US MERY AC",63]
[null,null,"CMA COUREURS DE FOND",34,"CMA COUREURS DE FOND",35,null,null,null,null,null,null,null,null,null,null,"ES STAINS",54,"TREMBLAY AC",43,"NOISY LE SEC ATHLETISME",32,"ST DENIS US",40,null,null,null,null,"ST DENIS US",37,null,null,null,null,"TREMBLAY AC",39,null,null,"ACM AUBERVILLIERS",35,null,null,"ATHLE LE BOURGET DRANCY DUGNY",66]
[null,null,"USMA ST OUEN",33,"ES VITRY",57,null,null,null,null,null,null,null,null,null,null,"ES VITRY",62,"NOISY LE SEC ATHLETISME",52,"USMA ST OUEN",37,"TREMBLAY AC",44,null,null,null,null,"CS BRETIGNY ATHLETISME",41,null,null,null,null,"USMA ST OUEN",43,null,null,null,null,null,null,"USO BEZONS",56]
[null,null,"ACM AUBERVILLIERS",61,null,null,null,null,null,null,null,null,null,null,null,null,"US VIGNEUX",80,"CS BRETIGNY ATHLETISME",62,"CSM GENNEVILLIERS",46,"CS BRETIGNY ATHLETISME",49,null,null,null,null,"ASG BAGNOLET",44,null,null,null,null,"ACM AUBERVILLIERS",50,null,null,null,null,null,null,"TREMBLAY AC",76]
[null,null,"ASC VITRY",75,null,null,null,null,null,null,null,null,null,null,null,null,"NOISY LE SEC ATHLETISME",84,"AC BOBIGNY",63,"ATHLE LE BOURGET DRANCY DUGNY",58,"ES STAINS",53,null,null,null,null,"ATHLE LE BOURGET DRANCY DUGNY",89]
[null,null,null,null,null,null,null,null,null,null,null,null,null,null,null,null,"ST DENIS US",85,"CSM GENNEVILLIERS",78,null,null,"US IVRY",74]
[null,null,null,null,null,null,null,null,null,null,null,null,null,null,null,null,null,null,"VILLEPINTE MA",83,null,null,"USMA ST OUEN",75]
[null,null,null,null,null,null,null,null,null,null,null,null,null,null,null,null,null,null,"USMA ST OUEN",87]
[null,null,null,null,null,null,null,null,null,null,null,null,null,null,null,null,null,null,"ES STAINS",88]

{"sheet":"C1 VM 2-3-4 JUM","index":3,"n_rows":354,"n_cols":16,"rows_kept":354,"cut":false,"hidden":false,"merged":[[2,5,2,6],[0,0,0,10],[1,0,1,10]]}
["CROSS REGIONAL FSGT - STAINS - 18/01/2015"]
["VETERANS 2-3-4-5 & JUNIORS masculins = 6 420 mètres"]
[]
["PLACE","DOSSARD","NOM / PRENOM","CAT","CLUB","JUM","V2M","V3M","V4M","V5M","TEMPS","h","m","s",6420,"m"]
[1,715,{"$f":"IF(ISBLANK($B5),\"\",LOOKUP($B5,Inscriptions!A$2:A$65496,Inscriptions!B$2:B$65498))","v":"KHATTABI MOURAD"},{"$f":"IF(ISBLANK($B5),\"\",LOOKUP($B5,Inscriptions!A$2:A$65496,Inscriptions!C$2:C$65498))","v":"JUM"},{"$f":"IF(ISBLANK($B5),\"\",LOOKUP($B5,Inscriptions!A$2:A$65496,Inscriptions!D$2:D$65498))","v":"COM ARGENTEUIL"},null,null,null,null,null,2153,{"$f":"ROUNDDOWN(K5/10000,0)","v":0},{"$f":"ROUNDDOWN((K5-L5*10000)/100,0)","v":21},{"$f":"ROUNDDOWN((K5-(L5*10000)-(M5*100)),0)","v":53},{"$f":"IF((L5+M5+N5)=0,\"\",ROUNDDOWN((O$4/((L5*3600)+(M5*60)+N5))*3.6,2))","v":17.600000000000001},{"$f":"IF(O5=\"\",\"\",\"km/h\")","v":"km/h"}]
[2,750,{"$f":"IF(ISBLANK($B6),\"\",LOOKUP($B6,Inscriptions!A$2:A$65496,Inscriptions!B$2:B$65498))","v":"MOREAU VINCENT"},{"$f":"IF(ISBLANK($B6),\"\",LOOKUP($B6,Inscriptions!A$2:A$65496,Inscriptions!C$2:C$65498))","v":"JUM"},{"$f":"IF(ISBLANK($B6),\"\",LOOKUP($B6,Inscriptions!A$2:A$65496,Inscriptions!D$2:D$65498))","v":"COURIR POUR LE PLAISIR"},null,null,null,null,null,2159,{"$f":"ROUNDDOWN(K6/10000,0)","v":0},{"$f":"ROUNDDOWN((K6-L6*10000)/100,0)","v":21},{"$f":"ROUNDDOWN((K6-(L6*10000)-(M6*100)),0)","v":59},{"$f":"IF((L6+M6+N6)=0,\"\",ROUNDDOWN((O$4/((L6*3600)+(M6*60)+N6))*3.6,2))","v":17.52},{"$f":"IF(O6=\"\",\"\",\"km/h\")","v":"km/h"}]
[3,1739,{"$f":"IF(ISBLANK($B7),\"\",LOOKUP($B7,Inscriptions!A$2:A$65496,Inscriptions!B$2:B$65498))","v":"TARMOUL HAKIM"},{"$f":"IF(ISBLANK($B7),\"\",LOOKUP($B7,Inscriptions!A$2:A$65496,Inscriptions!C$2:C$65498))","v":"JUM"},{"$f":"IF(ISBLANK($B7),\"\",LOOKUP($B7,Inscriptions!A$2:A$65496,Inscriptions!D$2:D$65498))","v":"TREMBLAY AC"},null,null,null,null,null,2325,0,23,25,16.440000000000001,"km/h"]
[4,1023,{"$f":"IF(ISBLANK($B8),\"\",LOOKUP($B8,Inscriptions!A$2:A$65496,Inscriptions!B$2:B$65498))","v":"NASCIMENTO ASWALDO"},{"$f":"IF(ISBLANK($B8),\"\",LOOKUP($B8,Inscriptions!A$2:A$65496,Inscriptions!C$2:C$65498))","v":"V2M"},{"$f":"IF(ISBLANK($B8),\"\",LOOKUP($B8,Inscriptions!A$2:A$65496,Inscriptions!D$2:D$65498))","v":"CSPTT 95"},null,null,null,null,null,2329,0,23,29,16.399999999999999,"km/h"]
[5,735,{"$f":"IF(ISBLANK($B9),\"\",LOOKUP($B9,Inscriptions!A$2:A$65496,Inscriptions!B$2:B$65498))","v":"OUALI LAMINE"},{"$f":"IF(ISBLANK($B9),\"\",LOOKUP($B9,Inscriptions!A$2:A$65496,Inscriptions!C$2:C$65498))","v":"JUM"},{"$f":"IF(ISBLANK($B9),\"\",LOOKUP($B9,Inscriptions!A$2:A$65496,Inscriptions!D$2:D$65498))","v":"COM ARGENTEUIL"},null,null,null,null,null,2359,0,23,59,16.059999999999999,"km/h"]
[6,1987,{"$f":"IF(ISBLANK($B10),\"\",LOOKUP($B10,Inscriptions!A$2:A$65496,Inscriptions!B$2:B$65498))","v":"DI PIERRO BRUNO"},{"$f":"IF(ISBLANK($B10),\"\",LOOKUP($B10,Inscriptions!A$2:A$65496,Inscriptions!C$2:C$65498))","v":"V2M"},{"$f":"IF(ISBLANK($B10),\"\",LOOKUP($B10,Inscriptions!A$2:A$65496,Inscriptions!D$2:D$65498))","v":"US MERY AC"},null,null,null,null,null,2405,0,24,5,15.99,"km/h"]
[7,1687,{"$f":"IF(ISBLANK($B11),\"\",LOOKUP($B11,Inscriptions!A$2:A$65496,Inscriptions!B$2:B$65498))","v":"KOUIDER AKIL ZINEDDINE"},{"$f":"IF(ISBLANK($B11),\"\",LOOKUP($B11,Inscriptions!A$2:A$65496,Inscriptions!C$2:C$65498))","v":"JUM"},{"$f":"IF(ISBLANK($B11),\"\",LOOKUP($B11,Inscriptions!A$2:A$65496,Inscriptions!D$2:D$65498))","v":"TREMBLAY AC"},null,null,null,null,null,2421,0,24,21,15.81,"km/h"]
[8,680,{"$f":"IF(ISBLANK($B12),\"\",LOOKUP($B12,Inscriptions!A$2:A$65496,Inscriptions!B$2:B$65498))","v":"DUDOUIT  OLIVIER"},{"$f":"IF(ISBLANK($B12),\"\",LOOKUP($B12,Inscriptions!A$2:A$65496,Inscriptions!C$2:C$65498))","v":"V2M"},{"$f":"IF(ISBLANK($B12),\"\",LOOKUP($B12,Inscriptions!A$2:A$65496,Inscriptions!D$2:D$65498))","v":"CMA COUREURS DE FOND"},null,null,null,null,null,2422,0,24,22,15.8,"km/h"]
[9,2183,{"$f":"IF(ISBLANK($B13),\"\",LOOKUP($B13,Inscriptions!A$2:A$65496,Inscriptions!B$2:B$65498))","v":"LEFORESTIER DIDIER"},{"$f":"IF(ISBLANK($B13),\"\",LOOKUP($B13,Inscriptions!A$2:A$65496,Inscriptions!C$2:C$65498))","v":"V2M"},{"$f":"IF(ISBLANK($B13),\"\",LOOKUP($B13,Inscriptions!A$2:A$65496,Inscriptions!D$2:D$65498))","v":"USMA ST OUEN"},null,null,null,null,null,2425,0,24,25,15.77,"km/h"]
[10,1021,{"$f":"IF(ISBLANK($B14),\"\",LOOKUP($B14,Inscriptions!A$2:A$65496,Inscriptions!B$2:B$65498))","v":"MOREAU YVES"},{"$f":"IF(ISBLANK($B14),\"\",LOOKUP($B14,Inscriptions!A$2:A$65496,Inscriptions!C$2:C$65498))","v":"V3M"},{"$f":"IF(ISBLANK($B14),\"\",LOOKUP($B14,Inscriptions!A$2:A$65496,Inscriptions!D$2:D$65498))","v":"CSPTT 95"},null,null,null,null,null,2455,0,24,55,15.45,"km/h"]
[11,1019,{"$f":"IF(ISBLANK($B15),\"\",LOOKUP($B15,Inscriptions!A$2:A$65496,Inscriptions!B$2:B$65498))","v":"MORANCAY STEPHANE"},{"$f":"IF(ISBLANK($B15),\"\",LOOKUP($B15,Inscriptions!A$2:A$65496,Inscriptions!C$2:C$65498))","v":"V2M"},{"$f":"IF(ISBLANK($B15),\"\",LOOKUP($B15,Inscriptions!A$2:A$65496,Inscriptions!D$2:D$65498))","v":"CSPTT 95"},null,null,null,null,null,2457,0,24,57,15.43,"km/h"]
[12,129,{"$f":"IF(ISBLANK($B16),\"\",LOOKUP($B16,Inscriptions!A$2:A$65496,Inscriptions!B$2:B$65498))","v":"MERAT JUAN"},{"$f":"IF(ISBLANK($B16),\"\",LOOKUP($B16,Inscriptions!A$2:A$65496,Inscriptions!C$2:C$65498))","v":"V2M"},{"$f":"IF(ISBLANK($B16),\"\",LOOKUP($B16,Inscriptions!A$2:A$65496,Inscriptions!D$2:D$65498))","v":"ACM AUBERVILLIERS"},null,null,null,null,null,2510,0,25,10,15.3,"km/h"]
[13,1207,{"$f":"IF(ISBLANK($B17),\"\",LOOKUP($B17,Inscriptions!A$2:A$65496,Inscriptions!B$2:B$65498))","v":"GUEGAN  ALAIN"},{"$f":"IF(ISBLANK($B17),\"\",LOOKUP($B17,Inscriptions!A$2:A$65496,Inscriptions!C$2:C$65498))","v":"V2M"},{"$f":"IF(ISBLANK($B17),\"\",LOOKUP($B17,Inscriptions!A$2:A$65496,Inscriptions!D$2:D$65498))","v":"ES VITRY"},null,null,null,null,null,2514,0,25,14,15.26,"km/h"]
[14,1026,{"$f":"IF(ISBLANK($B18),\"\",LOOKUP($B18,Inscriptions!A$2:A$65496,Inscriptions!B$2:B$65498))","v":"PRUDHOMME JEAN PHILIPPE"},{"$f":"IF(ISBLANK($B18),\"\",LOOKUP($B18,Inscriptions!A$2:A$65496,Inscriptions!C$2:C$65498))","v":"V3M"},{"$f":"IF(ISBLANK($B18),\"\",LOOKUP($B18,Inscriptions!A$2:A$65496,Inscriptions!D$2:D$65498))","v":"CSPTT 95"},null,null,null,null,null,2528,0,25,28,15.12,"km/h"]
[15,171,{"$f":"IF(ISBLANK($B19),\"\",LOOKUP($B19,Inscriptions!A$2:A$65496,Inscriptions!B$2:B$65498))","v":"DIDIER PIERRE"},{"$f":"IF(ISBLANK($B19),\"\",LOOKUP($B19,Inscriptions!A$2:A$65496,Inscriptions!C$2:C$65498))","v":"V2M"},{"$f":"IF(ISBLANK($B19),\"\",LOOKUP($B19,Inscriptions!A$2:A$65496,Inscriptions!D$2:D$65498))","v":"ASC VITRY"},null,null,null,null,null,2553,0,25,53,14.88,"km/h"]
[16,944,{"$f":"IF(ISBLANK($B20),\"\",LOOKUP($B20,Inscriptions!A$2:A$65496,Inscriptions!B$2:B$65498))","v":"BEN MOKTAR ALAIN"},{"$f":"IF(ISBLANK($B20),\"\",LOOKUP($B20,Inscriptions!A$2:A$65496,Inscriptions!C$2:C$65498))","v":"V3M"},{"$f":"IF(ISBLANK($B20),\"\",LOOKUP($B20,Inscriptions!A$2:A$65496,Inscriptions!D$2:D$65498))","v":"CSM GENNEVILLIERS"},null,null,null,null,null,2543,0,25,43,14.97,"km/h"]
[17,1666,{"$f":"IF(ISBLANK($B21),\"\",LOOKUP($B21,Inscriptions!A$2:A$65496,Inscriptions!B$2:B$65498))","v":"GROSSI MARIO"},{"$f":"IF(ISBLANK($B21),\"\",LOOKUP($B21,Inscriptions!A$2:A$65496,Inscriptions!C$2:C$65498))","v":"V2M"},{"$f":"IF(ISBLANK($B21),\"\",LOOKUP($B21,Inscriptions!A$2:A$65496,Inscriptions!D$2:D$65498))","v":"TREMBLAY AC"},null,null,null,null,null,2554,0,25,54,14.87,"km/h"]
[18,1304,{"$f":"IF(ISBLANK($B22),\"\",LOOKUP($B22,Inscriptions!A$2:A$65496,Inscriptions!B$2:B$65498))","v":"DROIN PHILIPPE"},{"$f":"IF(ISBLANK($B22),\"\",LOOKUP($B22,Inscriptions!A$2:A$65496,Inscriptions!C$2:C$65498))","v":"V2M"},{"$f":"IF(ISBLANK($B22),\"\",LOOKUP($B22,Inscriptions!A$2:A$65496,Inscriptions!D$2:D$65498))","v":"MA ST CYR"},null,null,null,null,null,2603,0,26,3,14.78,"km/h"]
[19,1775,{"$f":"IF(ISBLANK($B23),\"\",LOOKUP($B23,Inscriptions!A$2:A$65496,Inscriptions!B$2:B$65498))","v":"BOUABIB FARID"},{"$f":"IF(ISBLANK($B23),\"\",LOOKUP($B23,Inscriptions!A$2:A$65496,Inscriptions!C$2:C$65498))","v":"V2M"},{"$f":"IF(ISBLANK($B23),\"\",LOOKUP($B23,Inscriptions!A$2:A$65496,Inscriptions!D$2:D$65498))","v":"US IVRY"},null,null,null,null,null,2608,0,26,8,14.73,"km/h"]
[20,1995,{"$f":"IF(ISBLANK($B24),\"\",LOOKUP($B24,Inscriptions!A$2:A$65496,Inscriptions!B$2:B$65498))","v":"GUILLOU HERVE"},{"$f":"IF(ISBLANK($B24),\"\",LOOKUP($B24,Inscriptions!A$2:A$65496,Inscriptions!C$2:C$65498))","v":"V2M"},{"$f":"IF(ISBLANK($B24),\"\",LOOKUP($B24,Inscriptions!A$2:A$65496,Inscriptions!D$2:D$65498))","v":"US MERY AC"},null,null,null,null,null,2617,0,26,17,14.65,"km/h"]
[21,423,{"$f":"IF(ISBLANK($B25),\"\",LOOKUP($B25,Inscriptions!A$2:A$65496,Inscriptions!B$2:B$65498))","v":"KOVANDZIC ANTHONY"},{"$f":"IF(ISBLANK($B25),\"\",LOOKUP($B25,Inscriptions!A$2:A$65496,Inscriptions!C$2:C$65498))","v":"JUM"},{"$f":"IF(ISBLANK($B25),\"\",LOOKUP($B25,Inscriptions!A$2:A$65496,Inscriptions!D$2:D$65498))","v":"ATHLE LE BOURGET DRANCY DUGNY"},null,null,null,null,null,2630,0,26,30,14.53,"km/h"]
[22,2172,{"$f":"IF(ISBLANK($B26),\"\",LOOKUP($B26,Inscriptions!A$2:A$65496,Inscriptions!B$2:B$65498))","v":"HEMERY THIERRY"},{"$f":"IF(ISBLANK($B26),\"\",LOOKUP($B26,Inscriptions!A$2:A$65496,Inscriptions!C$2:C$65498))","v":"V2M"},{"$f":"IF(ISBLANK($B26),\"\",LOOKUP($B26,Inscriptions!A$2:A$65496,Inscriptions!D$2:D$65498))","v":"USMA ST OUEN"},null,null,null,null,null,2633,0,26,33,14.5,"km/h"]
[23,688,{"$f":"IF(ISBLANK($B27),\"\",LOOKUP($B27,Inscriptions!A$2:A$65496,Inscriptions!B$2:B$65498))","v":"STEPIEN  JEAN CLAUDE"},{"$f":"IF(ISBLANK($B27),\"\",LOOKUP($B27,Inscriptions!A$2:A$65496,Inscriptions!C$2:C$65498))","v":"V2M"},{"$f":"IF(ISBLANK($B27),\"\",LOOKUP($B27,Inscriptions!A$2:A$65496,Inscriptions!D$2:D$65498))","v":"CMA COUREURS DE FOND"},null,null,null,null,null,2644,0,26,44,14.4,"km/h"]
[24,2015,{"$f":"IF(ISBLANK($B28),\"\",LOOKUP($B28,Inscriptions!A$2:A$65496,Inscriptions!B$2:B$65498))","v":"VILLETTE DANIEL"},{"$f":"IF(ISBLANK($B28),\"\",LOOKUP($B28,Inscriptions!A$2:A$65496,Inscriptions!C$2:C$65498))","v":"V2M"},{"$f":"IF(ISBLANK($B28),\"\",LOOKUP($B28,Inscriptions!A$2:A$65496,Inscriptions!D$2:D$65498))","v":"US MERY AC"},null,null,null,null,null,2658,0,26,58,14.28,"km/h"]
[25,2339,{"$f":"IF(ISBLANK($B29),\"\",LOOKUP($B29,Inscriptions!A$2:A$65496,Inscriptions!B$2:B$65498))","v":"SENOUSSAOUI YAMINE"},{"$f":"IF(ISBLANK($B29),\"\",LOOKUP($B29,Inscriptions!A$2:A$65496,Inscriptions!C$2:C$65498))","v":"V2M"},{"$f":"IF(ISBLANK($B29),\"\",LOOKUP($B29,Inscriptions!A$2:A$65496,Inscriptions!D$2:D$65498))","v":"USMA ST OUEN"},null,null,null,null,null,2703,0,27,3,14.24,"km/h"]
[26,681,{"$f":"IF(ISBLANK($B30),\"\",LOOKUP($B30,Inscriptions!A$2:A$65496,Inscriptions!B$2:B$65498))","v":"EZELIS  FRANCELIN"},{"$f":"IF(ISBLANK($B30),\"\",LOOKUP($B30,Inscriptions!A$2:A$65496,Inscriptions!C$2:C$65498))","v":"V2M"},{"$f":"IF(ISBLANK($B30),\"\",LOOKUP($B30,Inscriptions!A$2:A$65496,Inscriptions!D$2:D$65498))","v":"CMA COUREURS DE FOND"},null,null,null,null,null,2706,0,27,6,14.21,"km/h"]
[27,673,{"$f":"IF(ISBLANK($B31),\"\",LOOKUP($B31,Inscriptions!A$2:A$65496,Inscriptions!B$2:B$65498))","v":"BAUX SERGE"},{"$f":"IF(ISBLANK($B31),\"\",LOOKUP($B31,Inscriptions!A$2:A$65496,Inscriptions!C$2:C$65498))","v":"V3M"},{"$f":"IF(ISBLANK($B31),\"\",LOOKUP($B31,Inscriptions!A$2:A$65496,Inscriptions!D$2:D$65498))","v":"CMA COUREURS DE FOND"},null,null,null,null,null,2708,0,27,8,14.19,"km/h"]
[28,412,{"$f":"IF(ISBLANK($B32),\"\",LOOKUP($B32,Inscriptions!A$2:A$65496,Inscriptions!B$2:B$65498))","v":"KADRI MESSAOUD"},{"$f":"IF(ISBLANK($B32),\"\",LOOKUP($B32,Inscriptions!A$2:A$65496,Inscriptions!C$2:C$65498))","v":"V2M"},{"$f":"IF(ISBLANK($B32),\"\",LOOKUP($B32,Inscriptions!A$2:A$65496,Inscriptions!D$2:D$65498))","v":"ATHLE LE BOURGET DRANCY DUGNY"},null,null,null,null,null,2710,0,27,10,14.17,"km/h"]
[29,126,{"$f":"IF(ISBLANK($B33),\"\",LOOKUP($B33,Inscriptions!A$2:A$65496,Inscriptions!B$2:B$65498))","v":"MACALUSO SYLVESTRE"},{"$f":"IF(ISBLANK($B33),\"\",LOOKUP($B33,Inscriptions!A$2:A$65496,Inscriptions!C$2:C$65498))","v":"V2M"},{"$f":"IF(ISBLANK($B33),\"\",LOOKUP($B33,Inscriptions!A$2:A$65496,Inscriptions!D$2:D$65498))","v":"ACM AUBERVILLIERS"},null,null,null,null,null,2722,0,27,22,14.07,"km/h"]
[30,1296,{"$f":"IF(ISBLANK($B34),\"\",LOOKUP($B34,Inscriptions!A$2:A$65496,Inscriptions!B$2:B$65498))","v":"BESSON FRANCOIS"},{"$f":"IF(ISBLANK($B34),\"\",LOOKUP($B34,Inscriptions!A$2:A$65496,Inscriptions!C$2:C$65498))","v":"V2M"},{"$f":"IF(ISBLANK($B34),\"\",LOOKUP($B34,Inscriptions!A$2:A$65496,Inscriptions!D$2:D$65498))","v":"ESC XVEME"},null,null,null,null,null,2724,0,27,24,14.05,"km/h"]
[31,1031,{"$f":"IF(ISBLANK($B35),\"\",LOOKUP($B35,Inscriptions!A$2:A$65496,Inscriptions!B$2:B$65498))","v":"LEBOEUF GEORGES"},{"$f":"IF(ISBLANK($B35),\"\",LOOKUP($B35,Inscriptions!A$2:A$65496,Inscriptions!C$2:C$65498))","v":"V3M"},{"$f":"IF(ISBLANK($B35),\"\",LOOKUP($B35,Inscriptions!A$2:A$65496,Inscriptions!D$2:D$65498))","v":"ES LEVALLOIS"},null,null,null,null,null,2730,0,27,30,14,"km/h"]
[32,1496,{"$f":"IF(ISBLANK($B36),\"\",LOOKUP($B36,Inscriptions!A$2:A$65496,Inscriptions!B$2:B$65498))","v":"GOFFIN DENIS"},{"$f":"IF(ISBLANK($B36),\"\",LOOKUP($B36,Inscriptions!A$2:A$65496,Inscriptions!C$2:C$65498))","v":"V2M"},{"$f":"IF(ISBLANK($B36),\"\",LOOKUP($B36,Inscriptions!A$2:A$65496,Inscriptions!D$2:D$65498))","v":"SAINT DENIS US"},null,null,null,null,null,2738,0,27,38,13.93,"km/h"]
[33,1182,{"$f":"IF(ISBLANK($B37),\"\",LOOKUP($B37,Inscriptions!A$2:A$65496,Inscriptions!B$2:B$65498))","v":"DESHAYES MICHEL"},{"$f":"IF(ISBLANK($B37),\"\",LOOKUP($B37,Inscriptions!A$2:A$65496,Inscriptions!C$2:C$65498))","v":"V2M"},{"$f":"IF(ISBLANK($B37),\"\",LOOKUP($B37,Inscriptions!A$2:A$65496,Inscriptions!D$2:D$65498))","v":"ES VITRY"},null,null,null,null,null,2749,0,27,49,13.84,"km/h"]
[34,811,{"$f":"IF(ISBLANK($B38),\"\",LOOKUP($B38,Inscriptions!A$2:A$65496,Inscriptions!B$2:B$65498))","v":"FONTENAY YVES"},{"$f":"IF(ISBLANK($B38),\"\",LOOKUP($B38,Inscriptions!A$2:A$65496,Inscriptions!C$2:C$65498))","v":"V2M"},{"$f":"IF(ISBLANK($B38),\"\",LOOKUP($B38,Inscriptions!A$2:A$65496,Inscriptions!D$2:D$65498))","v":"CS BRETIGNY ATHLETISME"},null,null,null,null,null,2820,0,28,20,13.59,"km/h"]
[35,708,{"$f":"IF(ISBLANK($B39),\"\",LOOKUP($B39,Inscriptions!A$2:A$65496,Inscriptions!B$2:B$65498))","v":"EL BOUHI ALI"},{"$f":"IF(ISBLANK($B39),\"\",LOOKUP($B39,Inscriptions!A$2:A$65496,Inscriptions!C$2:C$65498))","v":"JUM"},{"$f":"IF(ISBLANK($B39),\"\",LOOKUP($B39,Inscriptions!A$2:A$65496,Inscriptions!D$2:D$65498))","v":"COM ARGENTEUIL"},null,null,null,null,null,2841,{"$f":"ROUNDDOWN(K39/10000,0)","v":0},{"$f":"ROUNDDOWN((K39-L39*10000)/100,0)","v":28},{"$f":"ROUNDDOWN((K39-(L39*10000)-(M39*100)),0)","v":41},13.42,"km/h"]
[36,2011,{"$f":"IF(ISBLANK($B40),\"\",LOOKUP($B40,Inscriptions!A$2:A$65496,Inscriptions!B$2:B$65498))","v":"SMET MAXENCE"},{"$f":"IF(ISBLANK($B40),\"\",LOOKUP($B40,Inscriptions!A$2:A$65496,Inscriptions!C$2:C$65498))","v":"JUM"},{"$f":"IF(ISBLANK($B40),\"\",LOOKUP($B40,Inscriptions!A$2:A$65496,Inscriptions!D$2:D$65498))","v":"US MERY AC"},null,null,null,null,null,2845,0,28,45,13.39,"km/h"]
[37,2007,{"$f":"IF(ISBLANK($B41),\"\",LOOKUP($B41,Inscriptions!A$2:A$65496,Inscriptions!B$2:B$65498))","v":"RICHEL XAVIER"},{"$f":"IF(ISBLANK($B41),\"\",LOOKUP($B41,Inscriptions!A$2:A$65496,Inscriptions!C$2:C$65498))","v":"V2M"},{"$f":"IF(ISBLANK($B41),\"\",LOOKUP($B41,Inscriptions!A$2:A$65496,Inscriptions!D$2:D$65498))","v":"US MERY AC"},null,null,null,null,null,2848,0,28,48,13.37,"km/h"]
[38,1309,{"$f":"IF(ISBLANK($B42),\"\",LOOKUP($B42,Inscriptions!A$2:A$65496,Inscriptions!B$2:B$65498))","v":"LEGRAND GUY"},{"$f":"IF(ISBLANK($B42),\"\",LOOKUP($B42,Inscriptions!A$2:A$65496,Inscriptions!C$2:C$65498))","v":"V2M"},{"$f":"IF(ISBLANK($B42),\"\",LOOKUP($B42,Inscriptions!A$2:A$65496,Inscriptions!D$2:D$65498))","v":"MA ST CYR"},null,null,null,null,null,2855,0,28,55,13.32,"km/h"]
[39,1978,{"$f":"IF(ISBLANK($B43),\"\",LOOKUP($B43,Inscriptions!A$2:A$65496,Inscriptions!B$2:B$65498))","v":"BALLOT DIDIER"},{"$f":"IF(ISBLANK($B43),\"\",LOOKUP($B43,Inscriptions!A$2:A$65496,Inscriptions!C$2:C$65498))","v":"V2M"},{"$f":"IF(ISBLANK($B43),\"\",LOOKUP($B43,Inscriptions!A$2:A$65496,Inscriptions!D$2:D$65498))","v":"US MERY AC"},null,null,null,null,null,2859,0,28,59,13.29,"km/h"]
[40,1004,{"$f":"IF(ISBLANK($B44),\"\",LOOKUP($B44,Inscriptions!A$2:A$65496,Inscriptions!B$2:B$65498))","v":"CARE GERARD"},{"$f":"IF(ISBLANK($B44),\"\",LOOKUP($B44,Inscriptions!A$2:A$65496,Inscriptions!C$2:C$65498))","v":"V3M"},{"$f":"IF(ISBLANK($B44),\"\",LOOKUP($B44,Inscriptions!A$2:A$65496,Inscriptions!D$2:D$65498))","v":"CSPTT 95"},null,null,null,null,null,2922,0,29,22,13.11,"km/h"]
[41,2364,{"$f":"IF(ISBLANK($B45),\"\",LOOKUP($B45,Inscriptions!A$2:A$65496,Inscriptions!B$2:B$65498))","v":"RICHARD PASCAL (DEC)"},{"$f":"IF(ISBLANK($B45),\"\",LOOKUP($B45,Inscriptions!A$2:A$65496,Inscriptions!C$2:C$65498))","v":"V2M"},{"$f":"IF(ISBLANK($B45),\"\",LOOKUP($B45,Inscriptions!A$2:A$65496,Inscriptions!D$2:D$65498))","v":"DECLASSE"},null,null,null,null,null,2925,0,29,25,13.09,"km/h"]
[42,1010,{"$f":"IF(ISBLANK($B46),\"\",LOOKUP($B46,Inscriptions!A$2:A$65496,Inscriptions!B$2:B$65498))","v":"CRESPEL BERNARD"},{"$f":"IF(ISBLANK($B46),\"\",LOOKUP($B46,Inscriptions!A$2:A$65496,Inscriptions!C$2:C$65498))","v":"V3M"},{"$f":"IF(ISBLANK($B46),\"\",LOOKUP($B46,Inscriptions!A$2:A$65496,Inscriptions!D$2:D$65498))","v":"CSPTT 95"},null,null,null,null,null,2928,0,29,28,13.07,"km/h"]
[43,1977,{"$f":"IF(ISBLANK($B47),\"\",LOOKUP($B47,Inscriptions!A$2:A$65496,Inscriptions!B$2:B$65498))","v":"AZENHA ALVARO"},{"$f":"IF(ISBLANK($B47),\"\",LOOKUP($B47,Inscriptions!A$2:A$65496,Inscriptions!C$2:C$65498))","v":"V3M"},{"$f":"IF(ISBLANK($B47),\"\",LOOKUP($B47,Inscriptions!A$2:A$65496,Inscriptions!D$2:D$65498))","v":"US MERY AC"},null,null,null,null,null,2930,0,29,30,13.05,"km/h"]
[44,2013,{"$f":"IF(ISBLANK($B48),\"\",LOOKUP($B48,Inscriptions!A$2:A$65496,Inscriptions!B$2:B$65498))","v":"THOMAS PHILIPPE"},{"$f":"IF(ISBLANK($B48),\"\",LOOKUP($B48,Inscriptions!A$2:A$65496,Inscriptions!C$2:C$65498))","v":"V3M"},{"$f":"IF(ISBLANK($B48),\"\",LOOKUP($B48,Inscriptions!A$2:A$65496,Inscriptions!D$2:D$65498))","v":"US MERY AC"},null,null,null,null,null,2932,0,29,32,13.04,"km/h"]
[45,1205,{"$f":"IF(ISBLANK($B49),\"\",LOOKUP($B49,Inscriptions!A$2:A$65496,Inscriptions!B$2:B$65498))","v":"GOURDON ALAIN"},{"$f":"IF(ISBLANK($B49),\"\",LOOKUP($B49,Inscriptions!A$2:A$65496,Inscriptions!C$2:C$65498))","v":"V3M"},{"$f":"IF(ISBLANK($B49),\"\",LOOKUP($B49,Inscriptions!A$2:A$65496,Inscriptions!D$2:D$65498))","v":"ES VITRY"},null,null,null,null,null,2941,0,29,41,12.97,"km/h"]
[46,177,{"$f":"IF(ISBLANK($B50),\"\",LOOKUP($B50,Inscriptions!A$2:A$65496,Inscriptions!B$2:B$65498))","v":"VOREUX BRUNO"},{"$f":"IF(ISBLANK($B50),\"\",LOOKUP($B50,Inscriptions!A$2:A$65496,Inscriptions!C$2:C$65498))","v":"V2M"},{"$f":"IF(ISBLANK($B50),\"\",LOOKUP($B50,Inscriptions!A$2:A$65496,Inscriptions!D$2:D$65498))","v":"ASC VITRY"},null,null,null,null,null,3009,0,30,9,12.77,"km/h"]
[47,684,{"$f":"IF(ISBLANK($B51),\"\",LOOKUP($B51,Inscriptions!A$2:A$65496,Inscriptions!B$2:B$65498))","v":"LAVERGNE PATRICK"},{"$f":"IF(ISBLANK($B51),\"\",LOOKUP($B51,Inscriptions!A$2:A$65496,Inscriptions!C$2:C$65498))","v":"V3M"},{"$f":"IF(ISBLANK($B51),\"\",LOOKUP($B51,Inscriptions!A$2:A$65496,Inscriptions!D$2:D$65498))","v":"CMA COUREURS DE FOND"},null,null,null,null,null,3012,0,30,12,12.75,"km/h"]
[48,678,{"$f":"IF(ISBLANK($B52),\"\",LOOKUP($B52,Inscriptions!A$2:A$65496,Inscriptions!B$2:B$65498))","v":"CRISCONIO  JEAN BAPTISTE"},{"$f":"IF(ISBLANK($B52),\"\",LOOKUP($B52,Inscriptions!A$2:A$65496,Inscriptions!C$2:C$65498))","v":"V2M"},{"$f":"IF(ISBLANK($B52),\"\",LOOKUP($B52,Inscriptions!A$2:A$65496,Inscriptions!D$2:D$65498))","v":"CMA COUREURS DE FOND"},null,null,null,null,null,3015,0,30,15,12.73,"km/h"]
[49,2352,{"$f":"IF(ISBLANK($B53),\"\",LOOKUP($B53,Inscriptions!A$2:A$65496,Inscriptions!B$2:B$65498))","v":"THOMAS LOUIS-PAUL"},{"$f":"IF(ISBLANK($B53),\"\",LOOKUP($B53,Inscriptions!A$2:A$65496,Inscriptions!C$2:C$65498))","v":"V2M"},{"$f":"IF(ISBLANK($B53),\"\",LOOKUP($B53,Inscriptions!A$2:A$65496,Inscriptions!D$2:D$65498))","v":"US IVRY"},null,null,null,null,null,3050,0,30,50,12.49,"km/h"]
[50,1979,{"$f":"IF(ISBLANK($B54),\"\",LOOKUP($B54,Inscriptions!A$2:A$65496,Inscriptions!B$2:B$65498))","v":"BARBE DOMINIQUE"},{"$f":"IF(ISBLANK($B54),\"\",LOOKUP($B54,Inscriptions!A$2:A$65496,Inscriptions!C$2:C$65498))","v":"V3M"},{"$f":"IF(ISBLANK($B54),\"\",LOOKUP($B54,Inscriptions!A$2:A$65496,Inscriptions!D$2:D$65498))","v":"US MERY AC"},null,null,null,null,null,3053,0,30,53,12.47,"km/h"]
[51,679,{"$f":"IF(ISBLANK($B55),\"\",LOOKUP($B55,Inscriptions!A$2:A$65496,Inscriptions!B$2:B$65498))","v":"DAMAS  RICHARD"},{"$f":"IF(ISBLANK($B55),\"\",LOOKUP($B55,Inscriptions!A$2:A$65496,Inscriptions!C$2:C$65498))","v":"V2M"},{"$f":"IF(ISBLANK($B55),\"\",LOOKUP($B55,Inscriptions!A$2:A$65496,Inscriptions!D$2:D$65498))","v":"CMA COUREURS DE FOND"},null,null,null,null,null,3056,0,30,56,12.45,"km/h"]
[52,1690,{"$f":"IF(ISBLANK($B56),\"\",LOOKUP($B56,Inscriptions!A$2:A$65496,Inscriptions!B$2:B$65498))","v":"LEBEAU CLAUDE"},{"$f":"IF(ISBLANK($B56),\"\",LOOKUP($B56,Inscriptions!A$2:A$65496,Inscriptions!C$2:C$65498))","v":"V2M"},{"$f":"IF(ISBLANK($B56),\"\",LOOKUP($B56,Inscriptions!A$2:A$65496,Inscriptions!D$2:D$65498))","v":"TREMBLAY AC"},null,null,null,null,null,3102,0,31,2,12.41,"km/h"]
[53,362,{"$f":"IF(ISBLANK($B57),\"\",LOOKUP($B57,Inscriptions!A$2:A$65496,Inscriptions!B$2:B$65498))","v":"CARTIER PHILIPPE"},{"$f":"IF(ISBLANK($B57),\"\",LOOKUP($B57,Inscriptions!A$2:A$65496,Inscriptions!C$2:C$65498))","v":"V2M"},{"$f":"IF(ISBLANK($B57),\"\",LOOKUP($B57,Inscriptions!A$2:A$65496,Inscriptions!D$2:D$65498))","v":"ATHLE LE BOURGET DRANCY DUGNY"},null,null,null,null,null,3115,0,31,15,12.32,"km/h"]
[54,1085,{"$f":"IF(ISBLANK($B58),\"\",LOOKUP($B58,Inscriptions!A$2:A$65496,Inscriptions!B$2:B$65498))","v":"GAUMER YVES"},{"$f":"IF(ISBLANK($B58),\"\",LOOKUP($B58,Inscriptions!A$2:A$65496,Inscriptions!C$2:C$65498))","v":"V3M"},{"$f":"IF(ISBLANK($B58),\"\",LOOKUP($B58,Inscriptions!A$2:A$65496,Inscriptions!D$2:D$65498))","v":"ES STAINS"},null,null,null,null,null,3122,0,31,22,12.28,"km/h"]
[55,1028,{"$f":"IF(ISBLANK($B59),\"\",LOOKUP($B59,Inscriptions!A$2:A$65496,Inscriptions!B$2:B$65498))","v":"RICHER BERNARD"},{"$f":"IF(ISBLANK($B59),\"\",LOOKUP($B59,Inscriptions!A$2:A$65496,Inscriptions!C$2:C$65498))","v":"V3M"},{"$f":"IF(ISBLANK($B59),\"\",LOOKUP($B59,Inscriptions!A$2:A$65496,Inscriptions!D$2:D$65498))","v":"CSPTT 95"},null,null,null,null,null,3128,0,31,28,12.24,"km/h"]
[56,2000,{"$f":"IF(ISBLANK($B60),\"\",LOOKUP($B60,Inscriptions!A$2:A$65496,Inscriptions!B$2:B$65498))","v":"LOISEL ALAIN"},{"$f":"IF(ISBLANK($B60),\"\",LOOKUP($B60,Inscriptions!A$2:A$65496,Inscriptions!C$2:C$65498))","v":"V2M"},{"$f":"IF(ISBLANK($B60),\"\",LOOKUP($B60,Inscriptions!A$2:A$65496,Inscriptions!D$2:D$65498))","v":"US MERY AC"},null,null,null,null,null,3153,0,31,53,12.08,"km/h"]
[57,1008,{"$f":"IF(ISBLANK($B61),\"\",LOOKUP($B61,Inscriptions!A$2:A$65496,Inscriptions!B$2:B$65498))","v":"COLL JEAN"},{"$f":"IF(ISBLANK($B61),\"\",LOOKUP($B61,Inscriptions!A$2:A$65496,Inscriptions!C$2:C$65498))","v":"V3M"},{"$f":"IF(ISBLANK($B61),\"\",LOOKUP($B61,Inscriptions!A$2:A$65496,Inscriptions!D$2:D$65498))","v":"CSPTT 95"},null,null,null,null,null,3155,0,31,55,12.06,"km/h"]
[58,1505,{"$f":"IF(ISBLANK($B62),\"\",LOOKUP($B62,Inscriptions!A$2:A$65496,Inscriptions!B$2:B$65498))","v":"PALLOT FRANCOIS"},{"$f":"IF(ISBLANK($B62),\"\",LOOKUP($B62,Inscriptions!A$2:A$65496,Inscriptions!C$2:C$65498))","v":"V2M"},{"$f":"IF(ISBLANK($B62),\"\",LOOKUP($B62,Inscriptions!A$2:A$65496,Inscriptions!D$2:D$65498))","v":"SAINT DENIS US"},null,null,null,null,null,3200,0,32,0,12.03,"km/h"]
[59,1661,{"$f":"IF(ISBLANK($B63),\"\",LOOKUP($B63,Inscriptions!A$2:A$65496,Inscriptions!B$2:B$65498))","v":"GARCIA CRESCENTE"},{"$f":"IF(ISBLANK($B63),\"\",LOOKUP($B63,Inscriptions!A$2:A$65496,Inscriptions!C$2:C$65498))","v":"V3M"},{"$f":"IF(ISBLANK($B63),\"\",LOOKUP($B63,Inscriptions!A$2:A$65496,Inscriptions!D$2:D$65498))","v":"TREMBLAY AC"},null,null,null,null,null,3233,0,32,33,11.83,"km/h"]
[60,123,{"$f":"IF(ISBLANK($B64),\"\",LOOKUP($B64,Inscriptions!A$2:A$65496,Inscriptions!B$2:B$65498))","v":"KNOPF PHILIPPE"},{"$f":"IF(ISBLANK($B64),\"\",LOOKUP($B64,Inscriptions!A$2:A$65496,Inscriptions!C$2:C$65498))","v":"V2M"},{"$f":"IF(ISBLANK($B64),\"\",LOOKUP($B64,Inscriptions!A$2:A$65496,Inscriptions!D$2:D$65498))","v":"ACM AUBERVILLIERS"},null,null,null,null,null,3236,0,32,36,11.81,"km/h"]
[61,1998,{"$f":"IF(ISBLANK($B65),\"\",LOOKUP($B65,Inscriptions!A$2:A$65496,Inscriptions!B$2:B$65498))","v":"LEDAN JACQUES"},{"$f":"IF(ISBLANK($B65),\"\",LOOKUP($B65,Inscriptions!A$2:A$65496,Inscriptions!C$2:C$65498))","v":"V3M"},{"$f":"IF(ISBLANK($B65),\"\",LOOKUP($B65,Inscriptions!A$2:A$65496,Inscriptions!D$2:D$65498))","v":"US MERY AC"},null,null,null,null,null,3258,0,32,58,11.68,"km/h"]
[62,677,{"$f":"IF(ISBLANK($B66),\"\",LOOKUP($B66,Inscriptions!A$2:A$65496,Inscriptions!B$2:B$65498))","v":"CANIGUY  OLIVIER"},{"$f":"IF(ISBLANK($B66),\"\",LOOKUP($B66,Inscriptions!A$2:A$65496,Inscriptions!C$2:C$65498))","v":"V2M"},{"$f":"IF(ISBLANK($B66),\"\",LOOKUP($B66,Inscriptions!A$2:A$65496,Inscriptions!D$2:D$65498))","v":"CMA COUREURS DE FOND"},null,null,null,null,null,3303,0,33,3,11.65,"km/h"]
[63,381,{"$f":"IF(ISBLANK($B67),\"\",LOOKUP($B67,Inscriptions!A$2:A$65496,Inscriptions!B$2:B$65498))","v":"DORE BERNARD"},{"$f":"IF(ISBLANK($B67),\"\",LOOKUP($B67,Inscriptions!A$2:A$65496,Inscriptions!C$2:C$65498))","v":"V3M"},{"$f":"IF(ISBLANK($B67),\"\",LOOKUP($B67,Inscriptions!A$2:A$65496,Inscriptions!D$2:D$65498))","v":"ATHLE LE BOURGET DRANCY DUGNY"},null,null,null,null,null,3348,0,33,48,11.39,"km/h"]
[64,2362,{"$f":"IF(ISBLANK($B68),\"\",LOOKUP($B68,Inscriptions!A$2:A$65496,Inscriptions!B$2:B$65498))","v":"DELBAERE VINCENT"},{"$f":"IF(ISBLANK($B68),\"\",LOOKUP($B68,Inscriptions!A$2:A$65496,Inscriptions!C$2:C$65498))","v":"V2M"},{"$f":"IF(ISBLANK($B68),\"\",LOOKUP($B68,Inscriptions!A$2:A$65496,Inscriptions!D$2:D$65498))","v":"US MERY AC"},null,null,null,null,null,3401,0,34,1,11.32,"km/h"]
[65,2360,{"$f":"IF(ISBLANK($B69),\"\",LOOKUP($B69,Inscriptions!A$2:A$65496,Inscriptions!B$2:B$65498))","v":"BOULANGER BERNARD"},{"$f":"IF(ISBLANK($B69),\"\",LOOKUP($B69,Inscriptions!A$2:A$65496,Inscriptions!C$2:C$65498))","v":"V4M"},{"$f":"IF(ISBLANK($B69),\"\",LOOKUP($B69,Inscriptions!A$2:A$65496,Inscriptions!D$2:D$65498))","v":"US MERY AC"},null,null,null,null,null,3403,{"$f":"ROUNDDOWN(K69/10000,0)","v":0},34,3,{"$f":"IF((L69+M69+N69)=0,\"\",ROUNDDOWN((O$4/((L69*3600)+(M69*60)+N69))*3.6,2))","v":11.31},{"$f":"IF(O69=\"\",\"\",\"km/h\")","v":"km/h"}]
[66,166,{"$f":"IF(ISBLANK($B70),\"\",LOOKUP($B70,Inscriptions!A$2:A$65496,Inscriptions!B$2:B$65498))","v":"CATHALA DANIEL"},{"$f":"IF(ISBLANK($B70),\"\",LOOKUP($B70,Inscriptions!A$2:A$65496,Inscriptions!C$2:C$65498))","v":"V2M"},{"$f":"IF(ISBLANK($B70),\"\",LOOKUP($B70,Inscriptions!A$2:A$65496,Inscriptions!D$2:D$65498))","v":"ASC VITRY"},null,null,null,null,null,3411,0,34,11,11.26,"km/h"]
[67,689,{"$f":"IF(ISBLANK($B71),\"\",LOOKUP($B71,Inscriptions!A$2:A$65496,Inscriptions!B$2:B$65498))","v":"TOUCHART  DANIEL"},{"$f":"IF(ISBLANK($B71),\"\",LOOKUP($B71,Inscriptions!A$2:A$65496,Inscriptions!C$2:C$65498))","v":"V4M"},{"$f":"IF(ISBLANK($B71),\"\",LOOKUP($B71,Inscriptions!A$2:A$65496,Inscriptions!D$2:D$65498))","v":"CMA COUREURS DE FOND"},null,null,null,null,null,3418,0,34,18,11.23,"km/h"]
[68,1179,{"$f":"IF(ISBLANK($B72),\"\",LOOKUP($B72,Inscriptions!A$2:A$65496,Inscriptions!B$2:B$65498))","v":"DE ANTA  STEPHANE"},{"$f":"IF(ISBLANK($B72),\"\",LOOKUP($B72,Inscriptions!A$2:A$65496,Inscriptions!C$2:C$65498))","v":"V3M"},{"$f":"IF(ISBLANK($B72),\"\",LOOKUP($B72,Inscriptions!A$2:A$65496,Inscriptions!D$2:D$65498))","v":"ES VITRY"},null,null,null,null,null,3453,0,34,53,11.04,"km/h"]
[69,1638,{"$f":"IF(ISBLANK($B73),\"\",LOOKUP($B73,Inscriptions!A$2:A$65496,Inscriptions!B$2:B$65498))","v":"DELBOIS DANIEL"},{"$f":"IF(ISBLANK($B73),\"\",LOOKUP($B73,Inscriptions!A$2:A$65496,Inscriptions!C$2:C$65498))","v":"V2M"},{"$f":"IF(ISBLANK($B73),\"\",LOOKUP($B73,Inscriptions!A$2:A$65496,Inscriptions!D$2:D$65498))","v":"TREMBLAY AC"},null,null,null,null,null,3612,0,36,12,10.64,"km/h"]
[70,1140,{"$f":"IF(ISBLANK($B74),\"\",LOOKUP($B74,Inscriptions!A$2:A$65496,Inscriptions!B$2:B$65498))","v":"VORMESE ANTOINE"},{"$f":"IF(ISBLANK($B74),\"\",LOOKUP($B74,Inscriptions!A$2:A$65496,Inscriptions!C$2:C$65498))","v":"V2M"},{"$f":"IF(ISBLANK($B74),\"\",LOOKUP($B74,Inscriptions!A$2:A$65496,Inscriptions!D$2:D$65498))","v":"ES STAINS"},null,null,null,null,null,3617,0,36,17,10.61,"km/h"]
[71,2005,{"$f":"IF(ISBLANK($B75),\"\",LOOKUP($B75,Inscriptions!A$2:A$65496,Inscriptions!B$2:B$65498))","v":"PASI CHRISTIAN"},{"$f":"IF(ISBLANK($B75),\"\",LOOKUP($B75,Inscriptions!A$2:A$65496,Inscriptions!C$2:C$65498))","v":"V2M"},{"$f":"IF(ISBLANK($B75),\"\",LOOKUP($B75,Inscriptions!A$2:A$65496,Inscriptions!D$2:D$65498))","v":"US MERY AC"},null,null,null,null,null,3826,0,38,26,10.02,"km/h"]
[72,2001,{"$f":"IF(ISBLANK($B76),\"\",LOOKUP($B76,Inscriptions!A$2:A$65496,Inscriptions!B$2:B$65498))","v":"MARCON CLAUDE"},{"$f":"IF(ISBLANK($B76),\"\",LOOKUP($B76,Inscriptions!A$2:A$65496,Inscriptions!C$2:C$65498))","v":"V3M"},{"$f":"IF(ISBLANK($B76),\"\",LOOKUP($B76,Inscriptions!A$2:A$65496,Inscriptions!D$2:D$65498))","v":"US MERY AC"},null,null,null,null,null,3944,0,39,44,9.69,"km/h"]
[73,686,{"$f":"IF(ISBLANK($B77),\"\",LOOKUP($B77,Inscriptions!A$2:A$65496,Inscriptions!B$2:B$65498))","v":"NAVARRE  GILBERT"},{"$f":"IF(ISBLANK($B77),\"\",LOOKUP($B77,Inscriptions!A$2:A$65496,Inscriptions!C$2:C$65498))","v":"V5M"},{"$f":"IF(ISBLANK($B77),\"\",LOOKUP($B77,Inscriptions!A$2:A$65496,Inscriptions!D$2:D$65498))","v":"CMA COUREURS DE FOND"},null,null,null,null,null,4032,0,40,32,9.5,"km/h"]
[74,1996,{"$f":"IF(ISBLANK($B78),\"\",LOOKUP($B78,Inscriptions!A$2:A$65496,Inscriptions!B$2:B$65498))","v":"JOLY CLAUDE"},{"$f":"IF(ISBLANK($B78),\"\",LOOKUP($B78,Inscriptions!A$2:A$65496,Inscriptions!C$2:C$65498))","v":"V5M"},{"$f":"IF(ISBLANK($B78),\"\",LOOKUP($B78,Inscriptions!A$2:A$65496,Inscriptions!D$2:D$65498))","v":"US MERY AC"},null,null,null,null,null,4125,0,41,25,9.3000000000000007,"km/h"]
[75,740,{"$f":"IF(ISBLANK($B79),\"\",LOOKUP($B79,Inscriptions!A$2:A$65496,Inscriptions!B$2:B$65498))","v":"VARIN DANIEL"},{"$f":"IF(ISBLANK($B79),\"\",LOOKUP($B79,Inscriptions!A$2:A$65496,Inscriptions!C$2:C$65498))","v":"V4M"},{"$f":"IF(ISBLANK($B79),\"\",LOOKUP($B79,Inscriptions!A$2:A$65496,Inscriptions!D$2:D$65498))","v":"COM ARGENTEUIL"},null,null,null,null,null,4213,0,42,13,9.1199999999999992,"km/h"]
[76,1196,{"$f":"IF(ISBLANK($B80),\"\",LOOKUP($B80,Inscriptions!A$2:A$65496,Inscriptions!B$2:B$65498))","v":"FERAILLE CHRISTIAN"},{"$f":"IF(ISBLANK($B80),\"\",LOOKUP($B80,Inscriptions!A$2:A$65496,Inscriptions!C$2:C$65498))","v":"V3M"},{"$f":"IF(ISBLANK($B80),\"\",LOOKUP($B80,Inscriptions!A$2:A$65496,Inscriptions!D$2:D$65498))","v":"ES VITRY"},null,null,null,null,null,4214,0,42,14,9.1199999999999992,"km/h"]
[77,77,{"$f":"IF(ISBLANK($B81),\"\",LOOKUP($B81,Inscriptions!A$2:A$65496,Inscriptions!B$2:B$65498))","v":"BENYAHIA ABDALLAH"},{"$f":"IF(ISBLANK($B81),\"\",LOOKUP($B81,Inscriptions!A$2:A$65496,Inscriptions!C$2:C$65498))","v":"V4M"},{"$f":"IF(ISBLANK($B81),\"\",LOOKUP($B81,Inscriptions!A$2:A$65496,Inscriptions!D$2:D$65498))","v":"ACM AUBERVILLIERS"},null,null,null,null,null,5007,0,50,7,7.68,"km/h"]
[78,2009,{"$f":"IF(ISBLANK($B82),\"\",LOOKUP($B82,Inscriptions!A$2:A$65496,Inscriptions!B$2:B$65498))","v":"SECRETAIN JACQUES"},{"$f":"IF(ISBLANK($B82),\"\",LOOKUP($B82,Inscriptions!A$2:A$65496,Inscriptions!C$2:C$65498))","v":"V4M"},{"$f":"IF(ISBLANK($B82),\"\",LOOKUP($B82,Inscriptions!A$2:A$65496,Inscriptions!D$2:D$65498))","v":"US MERY AC"},null,null,null,null,null,5126,0,51,26,7.48,"km/h"]
["AB",2201,{"$f":"IF(ISBLANK($B83),\"\",LOOKUP($B83,Inscriptions!A$2:A$65496,Inscriptions!B$2:B$65498))","v":"RACHIDI MALIK"},{"$f":"IF(ISBLANK($B83),\"\",LOOKUP($B83,Inscriptions!A$2:A$65496,Inscriptions!C$2:C$65498))","v":"V2M"},{"$f":"IF(ISBLANK($B83),\"\",LOOKUP($B83,Inscriptions!A$2:A$65496,Inscriptions!D$2:D$65498))","v":"USMA ST OUEN"},null,null,null,null,null,null,0,0,0,"",""]
["AB",1011,{"$f":"IF(ISBLANK($B84),\"\",LOOKUP($B84,Inscriptions!A$2:A$65496,Inscriptions!B$2:B$65498))","v":"DURDIN LAURENT"},{"$f":"IF(ISBLANK($B84),\"\",LOOKUP($B84,Inscriptions!A$2:A$65496,Inscriptions!C$2:C$65498))","v":"V1M"},{"$f":"IF(ISBLANK($B84),\"\",LOOKUP($B84,Inscriptions!A$2:A$65496,Inscriptions!D$2:D$65498))","v":"CSPTT 95"},null,null,null,null,null,null,0,0,0,"",""]
["AB",1024,{"$f":"IF(ISBLANK($B85),\"\",LOOKUP($B85,Inscriptions!A$2:A$65496,Inscriptions!B$2:B$65498))","v":"PAYET BERNARD"},{"$f":"IF(ISBLANK($B85),\"\",LOOKUP($B85,Inscriptions!A$2:A$65496,Inscriptions!C$2:C$65498))","v":"V2M"},{"$f":"IF(ISBLANK($B85),\"\",LOOKUP($B85,Inscriptions!A$2:A$65496,Inscriptions!D$2:D$65498))","v":"CSPTT 95"},null,null,null,null,null,null,0,0,0,"",""]
[82,null,{"$f":"IF(ISBLANK($B86),\"\",LOOKUP($B86,Inscriptions!A$2:A$65496,Inscriptions!B$2:B$65498))","v":""},{"$f":"IF(ISBLANK($B86),\"\",LOOKUP($B86,Inscriptions!A$2:A$65496,Inscriptions!C$2:C$65498))","v":""},{"$f":"IF(ISBLANK($B86),\"\",LOOKUP($B86,Inscriptions!A$2:A$65496,Inscriptions!D$2:D$65498))","v":""},null,null,null,null,null,null,0,0,0,"",""]
[83,null,{"$f":"IF(ISBLANK($B87),\"\",LOOKUP($B87,Inscriptions!A$2:A$65496,Inscriptions!B$2:B$65498))","v":""},{"$f":"IF(ISBLANK($B87),\"\",LOOKUP($B87,Inscriptions!A$2:A$65496,Inscriptions!C$2:C$65498))","v":""},{"$f":"IF(ISBLANK($B87),\"\",LOOKUP($B87,Inscriptions!A$2:A$65496,Inscriptions!D$2:D$65498))","v":""},null,null,null,null,null,null,0,0,0,"",""]
[84,null,{"$f":"IF(ISBLANK($B88),\"\",LOOKUP($B88,Inscriptions!A$2:A$65496,Inscriptions!B$2:B$65498))","v":""},{"$f":"IF(ISBLANK($B88),\"\",LOOKUP($B88,Inscriptions!A$2:A$65496,Inscriptions!C$2:C$65498))","v":""},{"$f":"IF(ISBLANK($B88),\"\",LOOKUP($B88,Inscriptions!A$2:A$65496,Inscriptions!D$2:D$65498))","v":""},null,null,null,null,null,null,0,0,0,"",""]
[85,null,{"$f":"IF(ISBLANK($B89),\"\",LOOKUP($B89,Inscriptions!A$2:A$65496,Inscriptions!B$2:B$65498))","v":""},{"$f":"IF(ISBLANK($B89),\"\",LOOKUP($B89,Inscriptions!A$2:A$65496,Inscriptions!C$2:C$65498))","v":""},{"$f":"IF(ISBLANK($B89),\"\",LOOKUP($B89,Inscriptions!A$2:A$65496,Inscriptions!D$2:D$65498))","v":""},null,null,null,null,null,null,0,0,0,"",""]
[86,null,{"$f":"IF(ISBLANK($B90),\"\",LOOKUP($B90,Inscriptions!A$2:A$65496,Inscriptions!B$2:B$65498))","v":""},{"$f":"IF(ISBLANK($B90),\"\",LOOKUP($B90,Inscriptions!A$2:A$65496,Inscriptions!C$2:C$65498))","v":""},{"$f":"IF(ISBLANK($B90),\"\",LOOKUP($B90,Inscriptions!A$2:A$65496,Inscriptions!D$2:D$65498))","v":""},null,null,null,null,null,null,0,0,0,"",""]
[87,null,{"$f":"IF(ISBLANK($B91),\"\",LOOKUP($B91,Inscriptions!A$2:A$65496,Inscriptions!B$2:B$65498))","v":""},{"$f":"IF(ISBLANK($B91),\"\",LOOKUP($B91,Inscriptions!A$2:A$65496,Inscriptions!C$2:C$65498))","v":""},{"$f":"IF(ISBLANK($B91),\"\",LOOKUP($B91,Inscriptions!A$2:A$65496,Inscriptions!D$2:D$65498))","v":""},null,null,null,null,null,null,0,0,0,"",""]
[88,null,{"$f":"IF(ISBLANK($B92),\"\",LOOKUP($B92,Inscriptions!A$2:A$65496,Inscriptions!B$2:B$65498))","v":""},{"$f":"IF(ISBLANK($B92),\"\",LOOKUP($B92,Inscriptions!A$2:A$65496,Inscriptions!C$2:C$65498))","v":""},{"$f":"IF(ISBLANK($B92),\"\",LOOKUP($B92,Inscriptions!A$2:A$65496,Inscriptions!D$2:D$65498))","v":""},null,null,null,null,null,null,0,0,0,"",""]
[89,null,{"$f":"IF(ISBLANK($B93),\"\",LOOKUP($B93,Inscriptions!A$2:A$65496,Inscriptions!B$2:B$65498))","v":""},{"$f":"IF(ISBLANK($B93),\"\",LOOKUP($B93,Inscriptions!A$2:A$65496,Inscriptions!C$2:C$65498))","v":""},{"$f":"IF(ISBLANK($B93),\"\",LOOKUP($B93,Inscriptions!A$2:A$65496,Inscriptions!D$2:D$65498))","v":""},null,null,null,null,null,null,0,0,0,"",""]
[90,null,{"$f":"IF(ISBLANK($B94),\"\",LOOKUP($B94,Inscriptions!A$2:A$65496,Inscriptions!B$2:B$65498))","v":""},{"$f":"IF(ISBLANK($B94),\"\",LOOKUP($B94,Inscriptions!A$2:A$65496,Inscriptions!C$2:C$65498))","v":""},{"$f":"IF(ISBLANK($B94),\"\",LOOKUP($B94,Inscriptions!A$2:A$65496,Inscriptions!D$2:D$65498))","v":""},null,null,null,null,null,null,0,0,0,"",""]
[91,null,{"$f":"IF(ISBLANK($B95),\"\",LOOKUP($B95,Inscriptions!A$2:A$65496,Inscriptions!B$2:B$65498))","v":""},{"$f":"IF(ISBLANK($B95),\"\",LOOKUP($B95,Inscriptions!A$2:A$65496,Inscriptions!C$2:C$65498))","v":""},{"$f":"IF(ISBLANK($B95),\"\",LOOKUP($B95,Inscriptions!A$2:A$65496,Inscriptions!D$2:D$65498))","v":""},null,null,null,null,null,null,0,0,0,"",""]
[92,null,{"$f":"IF(ISBLANK($B96),\"\",LOOKUP($B96,Inscriptions!A$2:A$65496,Inscriptions!B$2:B$65498))","v":""},{"$f":"IF(ISBLANK($B96),\"\",LOOKUP($B96,Inscriptions!A$2:A$65496,Inscriptions!C$2:C$65498))","v":""},{"$f":"IF(ISBLANK($B96),\"\",LOOKUP($B96,Inscriptions!A$2:A$65496,Inscriptions!D$2:D$65498))","v":""},null,null,null,null,null,null,0,0,0,"",""]
[93,null,{"$f":"IF(ISBLANK($B97),\"\",LOOKUP($B97,Inscriptions!A$2:A$65496,Inscriptions!B$2:B$65498))","v":""},{"$f":"IF(ISBLANK($B97),\"\",LOOKUP($B97,Inscriptions!A$2:A$65496,Inscriptions!C$2:C$65498))","v":""},{"$f":"IF(ISBLANK($B97),\"\",LOOKUP($B97,Inscriptions!A$2:A$65496,Inscriptions!D$2:D$65498))","v":""},null,null,null,null,null,null,0,0,0,"",""]
[94,null,{"$f":"IF(ISBLANK($B98),\"\",LOOKUP($B98,Inscriptions!A$2:A$65496,Inscriptions!B$2:B$65498))","v":""},{"$f":"IF(ISBLANK($B98),\"\",LOOKUP($B98,Inscriptions!A$2:A$65496,Inscriptions!C$2:C$65498))","v":""},{"$f":"IF(ISBLANK($B98),\"\",LOOKUP($B98,Inscriptions!A$2:A$65496,Inscriptions!D$2:D$65498))","v":""},null,null,null,null,null,null,0,0,0,"",""]
[95,null,{"$f":"IF(ISBLANK($B99),\"\",LOOKUP($B99,Inscriptions!A$2:A$65496,Inscriptions!B$2:B$65498))","v":""},{"$f":"IF(ISBLANK($B99),\"\",LOOKUP($B99,Inscriptions!A$2:A$65496,Inscriptions!C$2:C$65498))","v":""},{"$f":"IF(ISBLANK($B99),\"\",LOOKUP($B99,Inscriptions!A$2:A$65496,Inscriptions!D$2:D$65498))","v":""},null,null,null,null,null,null,0,0,0,"",""]
[96,null,{"$f":"IF(ISBLANK($B100),\"\",LOOKUP($B100,Inscriptions!A$2:A$65496,Inscriptions!B$2:B$65498))","v":""},{"$f":"IF(ISBLANK($B100),\"\",LOOKUP($B100,Inscriptions!A$2:A$65496,Inscriptions!C$2:C$65498))","v":""},{"$f":"IF(ISBLANK($B100),\"\",LOOKUP($B100,Inscriptions!A$2:A$65496,Inscriptions!D$2:D$65498))","v":""},null,null,null,null,null,null,0,0,0,"",""]
[97,null,{"$f":"IF(ISBLANK($B101),\"\",LOOKUP($B101,Inscriptions!A$2:A$65496,Inscriptions!B$2:B$65498))","v":""},{"$f":"IF(ISBLANK($B101),\"\",LOOKUP($B101,Inscriptions!A$2:A$65496,Inscriptions!C$2:C$65498))","v":""},{"$f":"IF(ISBLANK($B101),\"\",LOOKUP($B101,Inscriptions!A$2:A$65496,Inscriptions!D$2:D$65498))","v":""},null,null,null,null,null,null,0,0,0,"",""]
[98,null,{"$f":"IF(ISBLANK($B102),\"\",LOOKUP($B102,Inscriptions!A$2:A$65496,Inscriptions!B$2:B$65498))","v":""},{"$f":"IF(ISBLANK($B102),\"\",LOOKUP($B102,Inscriptions!A$2:A$65496,Inscriptions!C$2:C$65498))","v":""},{"$f":"IF(ISBLANK($B102),\"\",LOOKUP($B102,Inscriptions!A$2:A$65496,Inscriptions!D$2:D$65498))","v":""},null,null,null,null,null,null,0,0,0,"",""]
[99,null,{"$f":"IF(ISBLANK($B103),\"\",LOOKUP($B103,Inscriptions!A$2:A$65496,Inscriptions!B$2:B$65498))","v":""},{"$f":"IF(ISBLANK($B103),\"\",LOOKUP($B103,Inscriptions!A$2:A$65496,Inscriptions!C$2:C$65498))","v":""},{"$f":"IF(ISBLANK($B103),\"\",LOOKUP($B103,Inscriptions!A$2:A$65496,Inscriptions!D$2:D$65498))","v":""},null,null,null,null,null,null,0,{"$f":"ROUNDDOWN((K103-L103*10000)/100,0)","v":0},{"$f":"ROUNDDOWN((K103-(L103*10000)-(M103*100)),0)","v":0},"",""]
[100,null,{"$f":"IF(ISBLANK($B104),\"\",LOOKUP($B104,Inscriptions!A$2:A$65496,Inscriptions!B$2:B$65498))","v":""},{"$f":"IF(ISBLANK($B104),\"\",LOOKUP($B104,Inscriptions!A$2:A$65496,Inscriptions!C$2:C$65498))","v":""},{"$f":"IF(ISBLANK($B104),\"\",LOOKUP($B104,Inscriptions!A$2:A$65496,Inscriptions!D$2:D$65498))","v":""},null,null,null,null,null,null,0,0,0,"",""]
[101,null,{"$f":"IF(ISBLANK($B105),\"\",LOOKUP($B105,Inscriptions!A$2:A$65496,Inscriptions!B$2:B$65498))","v":""},{"$f":"IF(ISBLANK($B105),\"\",LOOKUP($B105,Inscriptions!A$2:A$65496,Inscriptions!C$2:C$65498))","v":""},{"$f":"IF(ISBLANK($B105),\"\",LOOKUP($B105,Inscriptions!A$2:A$65496,Inscriptions!D$2:D$65498))","v":""},null,null,null,null,null,null,0,0,0,"",""]
[102,null,{"$f":"IF(ISBLANK($B106),\"\",LOOKUP($B106,Inscriptions!A$2:A$65496,Inscriptions!B$2:B$65498))","v":""},{"$f":"IF(ISBLANK($B106),\"\",LOOKUP($B106,Inscriptions!A$2:A$65496,Inscriptions!C$2:C$65498))","v":""},{"$f":"IF(ISBLANK($B106),\"\",LOOKUP($B106,Inscriptions!A$2:A$65496,Inscriptions!D$2:D$65498))","v":""},null,null,null,null,null,null,0,0,0,"",""]
[103,null,{"$f":"IF(ISBLANK($B107),\"\",LOOKUP($B107,Inscriptions!A$2:A$65496,Inscriptions!B$2:B$65498))","v":""},{"$f":"IF(ISBLANK($B107),\"\",LOOKUP($B107,Inscriptions!A$2:A$65496,Inscriptions!C$2:C$65498))","v":""},{"$f":"IF(ISBLANK($B107),\"\",LOOKUP($B107,Inscriptions!A$2:A$65496,Inscriptions!D$2:D$65498))","v":""},null,null,null,null,null,null,0,0,0,"",""]
[104,null,{"$f":"IF(ISBLANK($B108),\"\",LOOKUP($B108,Inscriptions!A$2:A$65496,Inscriptions!B$2:B$65498))","v":""},{"$f":"IF(ISBLANK($B108),\"\",LOOKUP($B108,Inscriptions!A$2:A$65496,Inscriptions!C$2:C$65498))","v":""},{"$f":"IF(ISBLANK($B108),\"\",LOOKUP($B108,Inscriptions!A$2:A$65496,Inscriptions!D$2:D$65498))","v":""},null,null,null,null,null,null,0,0,0,"",""]
[105,null,{"$f":"IF(ISBLANK($B109),\"\",LOOKUP($B109,Inscriptions!A$2:A$65496,Inscriptions!B$2:B$65498))","v":""},{"$f":"IF(ISBLANK($B109),\"\",LOOKUP($B109,Inscriptions!A$2:A$65496,Inscriptions!C$2:C$65498))","v":""},{"$f":"IF(ISBLANK($B109),\"\",LOOKUP($B109,Inscriptions!A$2:A$65496,Inscriptions!D$2:D$65498))","v":""},null,null,null,null,null,null,0,0,0,"",""]
[106,null,{"$f":"IF(ISBLANK($B110),\"\",LOOKUP($B110,Inscriptions!A$2:A$65496,Inscriptions!B$2:B$65498))","v":""},{"$f":"IF(ISBLANK($B110),\"\",LOOKUP($B110,Inscriptions!A$2:A$65496,Inscriptions!C$2:C$65498))","v":""},{"$f":"IF(ISBLANK($B110),\"\",LOOKUP($B110,Inscriptions!A$2:A$65496,Inscriptions!D$2:D$65498))","v":""},null,null,null,null,null,null,0,0,0,"",""]
[107,null,{"$f":"IF(ISBLANK($B111),\"\",LOOKUP($B111,Inscriptions!A$2:A$65496,Inscriptions!B$2:B$65498))","v":""},{"$f":"IF(ISBLANK($B111),\"\",LOOKUP($B111,Inscriptions!A$2:A$65496,Inscriptions!C$2:C$65498))","v":""},{"$f":"IF(ISBLANK($B111),\"\",LOOKUP($B111,Inscriptions!A$2:A$65496,Inscriptions!D$2:D$65498))","v":""},null,null,null,null,null,null,0,0,0,"",""]
[108,null,{"$f":"IF(ISBLANK($B112),\"\",LOOKUP($B112,Inscriptions!A$2:A$65496,Inscriptions!B$2:B$65498))","v":""},{"$f":"IF(ISBLANK($B112),\"\",LOOKUP($B112,Inscriptions!A$2:A$65496,Inscriptions!C$2:C$65498))","v":""},{"$f":"IF(ISBLANK($B112),\"\",LOOKUP($B112,Inscriptions!A$2:A$65496,Inscriptions!D$2:D$65498))","v":""},null,null,null,null,null,null,0,0,0,"",""]
[109,null,{"$f":"IF(ISBLANK($B113),\"\",LOOKUP($B113,Inscriptions!A$2:A$65496,Inscriptions!B$2:B$65498))","v":""},{"$f":"IF(ISBLANK($B113),\"\",LOOKUP($B113,Inscriptions!A$2:A$65496,Inscriptions!C$2:C$65498))","v":""},{"$f":"IF(ISBLANK($B113),\"\",LOOKUP($B113,Inscriptions!A$2:A$65496,Inscriptions!D$2:D$65498))","v":""},null,null,null,null,null,null,0,0,0,"",""]
[110,null,{"$f":"IF(ISBLANK($B114),\"\",LOOKUP($B114,Inscriptions!A$2:A$65496,Inscriptions!B$2:B$65498))","v":""},{"$f":"IF(ISBLANK($B114),\"\",LOOKUP($B114,Inscriptions!A$2:A$65496,Inscriptions!C$2:C$65498))","v":""},{"$f":"IF(ISBLANK($B114),\"\",LOOKUP($B114,Inscriptions!A$2:A$65496,Inscriptions!D$2:D$65498))","v":""},null,null,null,null,null,null,0,0,0,"",""]
[111,null,{"$f":"IF(ISBLANK($B115),\"\",LOOKUP($B115,Inscriptions!A$2:A$65496,Inscriptions!B$2:B$65498))","v":""},{"$f":"IF(ISBLANK($B115),\"\",LOOKUP($B115,Inscriptions!A$2:A$65496,Inscriptions!C$2:C$65498))","v":""},{"$f":"IF(ISBLANK($B115),\"\",LOOKUP($B115,Inscriptions!A$2:A$65496,Inscriptions!D$2:D$65498))","v":""},null,null,null,null,null,null,0,0,0,"",""]
[112,null,{"$f":"IF(ISBLANK($B116),\"\",LOOKUP($B116,Inscriptions!A$2:A$65496,Inscriptions!B$2:B$65498))","v":""},{"$f":"IF(ISBLANK($B116),\"\",LOOKUP($B116,Inscriptions!A$2:A$65496,Inscriptions!C$2:C$65498))","v":""},{"$f":"IF(ISBLANK($B116),\"\",LOOKUP($B116,Inscriptions!A$2:A$65496,Inscriptions!D$2:D$65498))","v":""},null,null,null,null,null,null,0,0,0,"",""]
[113,null,{"$f":"IF(ISBLANK($B117),\"\",LOOKUP($B117,Inscriptions!A$2:A$65496,Inscriptions!B$2:B$65498))","v":""},{"$f":"IF(ISBLANK($B117),\"\",LOOKUP($B117,Inscriptions!A$2:A$65496,Inscriptions!C$2:C$65498))","v":""},{"$f":"IF(ISBLANK($B117),\"\",LOOKUP($B117,Inscriptions!A$2:A$65496,Inscriptions!D$2:D$65498))","v":""},null,null,null,null,null,null,0,0,0,"",""]
[114,null,{"$f":"IF(ISBLANK($B118),\"\",LOOKUP($B118,Inscriptions!A$2:A$65496,Inscriptions!B$2:B$65498))","v":""},{"$f":"IF(ISBLANK($B118),\"\",LOOKUP($B118,Inscriptions!A$2:A$65496,Inscriptions!C$2:C$65498))","v":""},{"$f":"IF(ISBLANK($B118),\"\",LOOKUP($B118,Inscriptions!A$2:A$65496,Inscriptions!D$2:D$65498))","v":""},null,null,null,null,null,null,0,0,0,"",""]
[115,null,{"$f":"IF(ISBLANK($B119),\"\",LOOKUP($B119,Inscriptions!A$2:A$65496,Inscriptions!B$2:B$65498))","v":""},{"$f":"IF(ISBLANK($B119),\"\",LOOKUP($B119,Inscriptions!A$2:A$65496,Inscriptions!C$2:C$65498))","v":""},{"$f":"IF(ISBLANK($B119),\"\",LOOKUP($B119,Inscriptions!A$2:A$65496,Inscriptions!D$2:D$65498))","v":""},null,null,null,null,null,null,0,0,0,"",""]
[116,null,{"$f":"IF(ISBLANK($B120),\"\",LOOKUP($B120,Inscriptions!A$2:A$65496,Inscriptions!B$2:B$65498))","v":""},{"$f":"IF(ISBLANK($B120),\"\",LOOKUP($B120,Inscriptions!A$2:A$65496,Inscriptions!C$2:C$65498))","v":""},{"$f":"IF(ISBLANK($B120),\"\",LOOKUP($B120,Inscriptions!A$2:A$65496,Inscriptions!D$2:D$65498))","v":""},null,null,null,null,null,null,0,0,0,"",""]
[117,null,{"$f":"IF(ISBLANK($B121),\"\",LOOKUP($B121,Inscriptions!A$2:A$65496,Inscriptions!B$2:B$65498))","v":""},{"$f":"IF(ISBLANK($B121),\"\",LOOKUP($B121,Inscriptions!A$2:A$65496,Inscriptions!C$2:C$65498))","v":""},{"$f":"IF(ISBLANK($B121),\"\",LOOKUP($B121,Inscriptions!A$2:A$65496,Inscriptions!D$2:D$65498))","v":""},null,null,null,null,null,null,0,0,0,"",""]
[118,null,{"$f":"IF(ISBLANK($B122),\"\",LOOKUP($B122,Inscriptions!A$2:A$65496,Inscriptions!B$2:B$65498))","v":""},{"$f":"IF(ISBLANK($B122),\"\",LOOKUP($B122,Inscriptions!A$2:A$65496,Inscriptions!C$2:C$65498))","v":""},{"$f":"IF(ISBLANK($B122),\"\",LOOKUP($B122,Inscriptions!A$2:A$65496,Inscriptions!D$2:D$65498))","v":""},null,null,null,null,null,null,0,0,0,"",""]
[119,null,{"$f":"IF(ISBLANK($B123),\"\",LOOKUP($B123,Inscriptions!A$2:A$65496,Inscriptions!B$2:B$65498))","v":""},{"$f":"IF(ISBLANK($B123),\"\",LOOKUP($B123,Inscriptions!A$2:A$65496,Inscriptions!C$2:C$65498))","v":""},{"$f":"IF(ISBLANK($B123),\"\",LOOKUP($B123,Inscriptions!A$2:A$65496,Inscriptions!D$2:D$65498))","v":""},null,null,null,null,null,null,0,0,0,"",""]
[120,null,{"$f":"IF(ISBLANK($B124),\"\",LOOKUP($B124,Inscriptions!A$2:A$65496,Inscriptions!B$2:B$65498))","v":""},{"$f":"IF(ISBLANK($B124),\"\",LOOKUP($B124,Inscriptions!A$2:A$65496,Inscriptions!C$2:C$65498))","v":""},{"$f":"IF(ISBLANK($B124),\"\",LOOKUP($B124,Inscriptions!A$2:A$65496,Inscriptions!D$2:D$65498))","v":""},null,null,null,null,null,null,0,0,0,"",""]
[121,null,{"$f":"IF(ISBLANK($B125),\"\",LOOKUP($B125,Inscriptions!A$2:A$65496,Inscriptions!B$2:B$65498))","v":""},{"$f":"IF(ISBLANK($B125),\"\",LOOKUP($B125,Inscriptions!A$2:A$65496,Inscriptions!C$2:C$65498))","v":""},{"$f":"IF(ISBLANK($B125),\"\",LOOKUP($B125,Inscriptions!A$2:A$65496,Inscriptions!D$2:D$65498))","v":""},null,null,null,null,null,null,0,0,0,"",""]
[122,null,{"$f":"IF(ISBLANK($B126),\"\",LOOKUP($B126,Inscriptions!A$2:A$65496,Inscriptions!B$2:B$65498))","v":""},{"$f":"IF(ISBLANK($B126),\"\",LOOKUP($B126,Inscriptions!A$2:A$65496,Inscriptions!C$2:C$65498))","v":""},{"$f":"IF(ISBLANK($B126),\"\",LOOKUP($B126,Inscriptions!A$2:A$65496,Inscriptions!D$2:D$65498))","v":""},null,null,null,null,null,null,0,0,0,"",""]
[123,null,{"$f":"IF(ISBLANK($B127),\"\",LOOKUP($B127,Inscriptions!A$2:A$65496,Inscriptions!B$2:B$65498))","v":""},{"$f":"IF(ISBLANK($B127),\"\",LOOKUP($B127,Inscriptions!A$2:A$65496,Inscriptions!C$2:C$65498))","v":""},{"$f":"IF(ISBLANK($B127),\"\",LOOKUP($B127,Inscriptions!A$2:A$65496,Inscriptions!D$2:D$65498))","v":""},null,null,null,null,null,null,0,0,0,"",""]
[124,null,{"$f":"IF(ISBLANK($B128),\"\",LOOKUP($B128,Inscriptions!A$2:A$65496,Inscriptions!B$2:B$65498))","v":""},{"$f":"IF(ISBLANK($B128),\"\",LOOKUP($B128,Inscriptions!A$2:A$65496,Inscriptions!C$2:C$65498))","v":""},{"$f":"IF(ISBLANK($B128),\"\",LOOKUP($B128,Inscriptions!A$2:A$65496,Inscriptions!D$2:D$65498))","v":""},null,null,null,null,null,null,0,0,0,"",""]
[125,null,{"$f":"IF(ISBLANK($B129),\"\",LOOKUP($B129,Inscriptions!A$2:A$65496,Inscriptions!B$2:B$65498))","v":""},{"$f":"IF(ISBLANK($B129),\"\",LOOKUP($B129,Inscriptions!A$2:A$65496,Inscriptions!C$2:C$65498))","v":""},{"$f":"IF(ISBLANK($B129),\"\",LOOKUP($B129,Inscriptions!A$2:A$65496,Inscriptions!D$2:D$65498))","v":""},null,null,null,null,null,null,0,0,0,"",""]
[126,null,{"$f":"IF(ISBLANK($B130),\"\",LOOKUP($B130,Inscriptions!A$2:A$65496,Inscriptions!B$2:B$65498))","v":""},{"$f":"IF(ISBLANK($B130),\"\",LOOKUP($B130,Inscriptions!A$2:A$65496,Inscriptions!C$2:C$65498))","v":""},{"$f":"IF(ISBLANK($B130),\"\",LOOKUP($B130,Inscriptions!A$2:A$65496,Inscriptions!D$2:D$65498))","v":""},null,null,null,null,null,null,0,0,0,"",""]
[127,null,{"$f":"IF(ISBLANK($B131),\"\",LOOKUP($B131,Inscriptions!A$2:A$65496,Inscriptions!B$2:B$65498))","v":""},{"$f":"IF(ISBLANK($B131),\"\",LOOKUP($B131,Inscriptions!A$2:A$65496,Inscriptions!C$2:C$65498))","v":""},{"$f":"IF(ISBLANK($B131),\"\",LOOKUP($B131,Inscriptions!A$2:A$65496,Inscriptions!D$2:D$65498))","v":""},null,null,null,null,null,null,0,0,0,"",""]
[128,null,{"$f":"IF(ISBLANK($B132),\"\",LOOKUP($B132,Inscriptions!A$2:A$65496,Inscriptions!B$2:B$65498))","v":""},{"$f":"IF(ISBLANK($B132),\"\",LOOKUP($B132,Inscriptions!A$2:A$65496,Inscriptions!C$2:C$65498))","v":""},{"$f":"IF(ISBLANK($B132),\"\",LOOKUP($B132,Inscriptions!A$2:A$65496,Inscriptions!D$2:D$65498))","v":""},null,null,null,null,null,null,0,0,0,"",""]
[129,null,{"$f":"IF(ISBLANK($B133),\"\",LOOKUP($B133,Inscriptions!A$2:A$65496,Inscriptions!B$2:B$65498))","v":""},{"$f":"IF(ISBLANK($B133),\"\",LOOKUP($B133,Inscriptions!A$2:A$65496,Inscriptions!C$2:C$65498))","v":""},{"$f":"IF(ISBLANK($B133),\"\",LOOKUP($B133,Inscriptions!A$2:A$65496,Inscriptions!D$2:D$65498))","v":""},null,null,null,null,null,null,{"$f":"ROUNDDOWN(K133/10000,0)","v":0},0,0,{"$f":"IF((L133+M133+N133)=0,\"\",ROUNDDOWN((O$4/((L133*3600)+(M133*60)+N133))*3.6,2))","v":""},{"$f":"IF(O133=\"\",\"\",\"km/h\")","v":""}]
[130,null,{"$f":"IF(ISBLANK($B134),\"\",LOOKUP($B134,Inscriptions!A$2:A$65496,Inscriptions!B$2:B$65498))","v":""},{"$f":"IF(ISBLANK($B134),\"\",LOOKUP($B134,Inscriptions!A$2:A$65496,Inscriptions!C$2:C$65498))","v":""},{"$f":"IF(ISBLANK($B134),\"\",LOOKUP($B134,Inscriptions!A$2:A$65496,Inscriptions!D$2:D$65498))","v":""},null,null,null,null,null,null,0,0,0,"",""]
[131,null,{"$f":"IF(ISBLANK($B135),\"\",LOOKUP($B135,Inscriptions!A$2:A$65496,Inscriptions!B$2:B$65498))","v":""},{"$f":"IF(ISBLANK($B135),\"\",LOOKUP($B135,Inscriptions!A$2:A$65496,Inscriptions!C$2:C$65498))","v":""},{"$f":"IF(ISBLANK($B135),\"\",LOOKUP($B135,Inscriptions!A$2:A$65496,Inscriptions!D$2:D$65498))","v":""},null,null,null,null,null,null,0,0,0,"",""]
[132,null,{"$f":"IF(ISBLANK($B136),\"\",LOOKUP($B136,Inscriptions!A$2:A$65496,Inscriptions!B$2:B$65498))","v":""},{"$f":"IF(ISBLANK($B136),\"\",LOOKUP($B136,Inscriptions!A$2:A$65496,Inscriptions!C$2:C$65498))","v":""},{"$f":"IF(ISBLANK($B136),\"\",LOOKUP($B136,Inscriptions!A$2:A$65496,Inscriptions!D$2:D$65498))","v":""},null,null,null,null,null,null,0,0,0,"",""]
[133,null,{"$f":"IF(ISBLANK($B137),\"\",LOOKUP($B137,Inscriptions!A$2:A$65496,Inscriptions!B$2:B$65498))","v":""},{"$f":"IF(ISBLANK($B137),\"\",LOOKUP($B137,Inscriptions!A$2:A$65496,Inscriptions!C$2:C$65498))","v":""},{"$f":"IF(ISBLANK($B137),\"\",LOOKUP($B137,Inscriptions!A$2:A$65496,Inscriptions!D$2:D$65498))","v":""},null,null,null,null,null,null,0,0,0,"",""]
[134,null,{"$f":"IF(ISBLANK($B138),\"\",LOOKUP($B138,Inscriptions!A$2:A$65496,Inscriptions!B$2:B$65498))","v":""},{"$f":"IF(ISBLANK($B138),\"\",LOOKUP($B138,Inscriptions!A$2:A$65496,Inscriptions!C$2:C$65498))","v":""},{"$f":"IF(ISBLANK($B138),\"\",LOOKUP($B138,Inscriptions!A$2:A$65496,Inscriptions!D$2:D$65498))","v":""},null,null,null,null,null,null,0,0,0,"",""]
[135,null,{"$f":"IF(ISBLANK($B139),\"\",LOOKUP($B139,Inscriptions!A$2:A$65496,Inscriptions!B$2:B$65498))","v":""},{"$f":"IF(ISBLANK($B139),\"\",LOOKUP($B139,Inscriptions!A$2:A$65496,Inscriptions!C$2:C$65498))","v":""},{"$f":"IF(ISBLANK($B139),\"\",LOOKUP($B139,Inscriptions!A$2:A$65496,Inscriptions!D$2:D$65498))","v":""},null,null,null,null,null,null,0,0,0,"",""]
[136,null,{"$f":"IF(ISBLANK($B140),\"\",LOOKUP($B140,Inscriptions!A$2:A$65496,Inscriptions!B$2:B$65498))","v":""},{"$f":"IF(ISBLANK($B140),\"\",LOOKUP($B140,Inscriptions!A$2:A$65496,Inscriptions!C$2:C$65498))","v":""},{"$f":"IF(ISBLANK($B140),\"\",LOOKUP($B140,Inscriptions!A$2:A$65496,Inscriptions!D$2:D$65498))","v":""},null,null,null,null,null,null,0,0,0,"",""]
[137,null,{"$f":"IF(ISBLANK($B141),\"\",LOOKUP($B141,Inscriptions!A$2:A$65496,Inscriptions!B$2:B$65498))","v":""},{"$f":"IF(ISBLANK($B141),\"\",LOOKUP($B141,Inscriptions!A$2:A$65496,Inscriptions!C$2:C$65498))","v":""},{"$f":"IF(ISBLANK($B141),\"\",LOOKUP($B141,Inscriptions!A$2:A$65496,Inscriptions!D$2:D$65498))","v":""},null,null,null,null,null,null,0,0,0,"",""]
[138,null,{"$f":"IF(ISBLANK($B142),\"\",LOOKUP($B142,Inscriptions!A$2:A$65496,Inscriptions!B$2:B$65498))","v":""},{"$f":"IF(ISBLANK($B142),\"\",LOOKUP($B142,Inscriptions!A$2:A$65496,Inscriptions!C$2:C$65498))","v":""},{"$f":"IF(ISBLANK($B142),\"\",LOOKUP($B142,Inscriptions!A$2:A$65496,Inscriptions!D$2:D$65498))","v":""},null,null,null,null,null,null,0,0,0,"",""]
[139,null,{"$f":"IF(ISBLANK($B143),\"\",LOOKUP($B143,Inscriptions!A$2:A$65496,Inscriptions!B$2:B$65498))","v":""},{"$f":"IF(ISBLANK($B143),\"\",LOOKUP($B143,Inscriptions!A$2:A$65496,Inscriptions!C$2:C$65498))","v":""},{"$f":"IF(ISBLANK($B143),\"\",LOOKUP($B143,Inscriptions!A$2:A$65496,Inscriptions!D$2:D$65498))","v":""},null,null,null,null,null,null,0,0,0,"",""]
[140,null,{"$f":"IF(ISBLANK($B144),\"\",LOOKUP($B144,Inscriptions!A$2:A$65496,Inscriptions!B$2:B$65498))","v":""},{"$f":"IF(ISBLANK($B144),\"\",LOOKUP($B144,Inscriptions!A$2:A$65496,Inscriptions!C$2:C$65498))","v":""},{"$f":"IF(ISBLANK($B144),\"\",LOOKUP($B144,Inscriptions!A$2:A$65496,Inscriptions!D$2:D$65498))","v":""},null,null,null,null,null,null,0,0,0,"",""]
[141,null,{"$f":"IF(ISBLANK($B145),\"\",LOOKUP($B145,Inscriptions!A$2:A$65496,Inscriptions!B$2:B$65498))","v":""},{"$f":"IF(ISBLANK($B145),\"\",LOOKUP($B145,Inscriptions!A$2:A$65496,Inscriptions!C$2:C$65498))","v":""},{"$f":"IF(ISBLANK($B145),\"\",LOOKUP($B145,Inscriptions!A$2:A$65496,Inscriptions!D$2:D$65498))","v":""},null,null,null,null,null,null,0,0,0,"",""]
[142,null,{"$f":"IF(ISBLANK($B146),\"\",LOOKUP($B146,Inscriptions!A$2:A$65496,Inscriptions!B$2:B$65498))","v":""},{"$f":"IF(ISBLANK($B146),\"\",LOOKUP($B146,Inscriptions!A$2:A$65496,Inscriptions!C$2:C$65498))","v":""},{"$f":"IF(ISBLANK($B146),\"\",LOOKUP($B146,Inscriptions!A$2:A$65496,Inscriptions!D$2:D$65498))","v":""},null,null,null,null,null,null,0,0,0,"",""]
[143,null,{"$f":"IF(ISBLANK($B147),\"\",LOOKUP($B147,Inscriptions!A$2:A$65496,Inscriptions!B$2:B$65498))","v":""},{"$f":"IF(ISBLANK($B147),\"\",LOOKUP($B147,Inscriptions!A$2:A$65496,Inscriptions!C$2:C$65498))","v":""},{"$f":"IF(ISBLANK($B147),\"\",LOOKUP($B147,Inscriptions!A$2:A$65496,Inscriptions!D$2:D$65498))","v":""},null,null,null,null,null,null,0,0,0,"",""]
[144,null,{"$f":"IF(ISBLANK($B148),\"\",LOOKUP($B148,Inscriptions!A$2:A$65496,Inscriptions!B$2:B$65498))","v":""},{"$f":"IF(ISBLANK($B148),\"\",LOOKUP($B148,Inscriptions!A$2:A$65496,Inscriptions!C$2:C$65498))","v":""},{"$f":"IF(ISBLANK($B148),\"\",LOOKUP($B148,Inscriptions!A$2:A$65496,Inscriptions!D$2:D$65498))","v":""},null,null,null,null,null,null,0,0,0,"",""]
[145,null,{"$f":"IF(ISBLANK($B149),\"\",LOOKUP($B149,Inscriptions!A$2:A$65496,Inscriptions!B$2:B$65498))","v":""},{"$f":"IF(ISBLANK($B149),\"\",LOOKUP($B149,Inscriptions!A$2:A$65496,Inscriptions!C$2:C$65498))","v":""},{"$f":"IF(ISBLANK($B149),\"\",LOOKUP($B149,Inscriptions!A$2:A$65496,Inscriptions!D$2:D$65498))","v":""},null,null,null,null,null,null,0,0,0,"",""]
[146,null,{"$f":"IF(ISBLANK($B150),\"\",LOOKUP($B150,Inscriptions!A$2:A$65496,Inscriptions!B$2:B$65498))","v":""},{"$f":"IF(ISBLANK($B150),\"\",LOOKUP($B150,Inscriptions!A$2:A$65496,Inscriptions!C$2:C$65498))","v":""},{"$f":"IF(ISBLANK($B150),\"\",LOOKUP($B150,Inscriptions!A$2:A$65496,Inscriptions!D$2:D$65498))","v":""},null,null,null,null,null,null,0,0,0,"",""]
[147,null,{"$f":"IF(ISBLANK($B151),\"\",LOOKUP($B151,Inscriptions!A$2:A$65496,Inscriptions!B$2:B$65498))","v":""},{"$f":"IF(ISBLANK($B151),\"\",LOOKUP($B151,Inscriptions!A$2:A$65496,Inscriptions!C$2:C$65498))","v":""},{"$f":"IF(ISBLANK($B151),\"\",LOOKUP($B151,Inscriptions!A$2:A$65496,Inscriptions!D$2:D$65498))","v":""},null,null,null,null,null,null,0,0,0,"",""]
[148,null,{"$f":"IF(ISBLANK($B152),\"\",LOOKUP($B152,Inscriptions!A$2:A$65496,Inscriptions!B$2:B$65498))","v":""},{"$f":"IF(ISBLANK($B152),\"\",LOOKUP($B152,Inscriptions!A$2:A$65496,Inscriptions!C$2:C$65498))","v":""},{"$f":"IF(ISBLANK($B152),\"\",LOOKUP($B152,Inscriptions!A$2:A$65496,Inscriptions!D$2:D$65498))","v":""},null,null,null,null,null,null,0,0,0,"",""]
[149,null,{"$f":"IF(ISBLANK($B153),\"\",LOOKUP($B153,Inscriptions!A$2:A$65496,Inscriptions!B$2:B$65498))","v":""},{"$f":"IF(ISBLANK($B153),\"\",LOOKUP($B153,Inscriptions!A$2:A$65496,Inscriptions!C$2:C$65498))","v":""},{"$f":"IF(ISBLANK($B153),\"\",LOOKUP($B153,Inscriptions!A$2:A$65496,Inscriptions!D$2:D$65498))","v":""},null,null,null,null,null,null,0,0,0,"",""]
[150,null,{"$f":"IF(ISBLANK($B154),\"\",LOOKUP($B154,Inscriptions!A$2:A$65496,Inscriptions!B$2:B$65498))","v":""},{"$f":"IF(ISBLANK($B154),\"\",LOOKUP($B154,Inscriptions!A$2:A$65496,Inscriptions!C$2:C$65498))","v":""},{"$f":"IF(ISBLANK($B154),\"\",LOOKUP($B154,Inscriptions!A$2:A$65496,Inscriptions!D$2:D$65498))","v":""},null,null,null,null,null,null,0,0,0,"",""]
[151,null,{"$f":"IF(ISBLANK($B155),\"\",LOOKUP($B155,Inscriptions!A$2:A$65496,Inscriptions!B$2:B$65498))","v":""},{"$f":"IF(ISBLANK($B155),\"\",LOOKUP($B155,Inscriptions!A$2:A$65496,Inscriptions!C$2:C$65498))","v":""},{"$f":"IF(ISBLANK($B155),\"\",LOOKUP($B155,Inscriptions!A$2:A$65496,Inscriptions!D$2:D$65498))","v":""},null,null,null,null,null,null,0,0,0,"",""]
[152,null,{"$f":"IF(ISBLANK($B156),\"\",LOOKUP($B156,Inscriptions!A$2:A$65496,Inscriptions!B$2:B$65498))","v":""},{"$f":"IF(ISBLANK($B156),\"\",LOOKUP($B156,Inscriptions!A$2:A$65496,Inscriptions!C$2:C$65498))","v":""},{"$f":"IF(ISBLANK($B156),\"\",LOOKUP($B156,Inscriptions!A$2:A$65496,Inscriptions!D$2:D$65498))","v":""},null,null,null,null,null,null,0,0,0,"",""]
[153,null,{"$f":"IF(ISBLANK($B157),\"\",LOOKUP($B157,Inscriptions!A$2:A$65496,Inscriptions!B$2:B$65498))","v":""},{"$f":"IF(ISBLANK($B157),\"\",LOOKUP($B157,Inscriptions!A$2:A$65496,Inscriptions!C$2:C$65498))","v":""},{"$f":"IF(ISBLANK($B157),\"\",LOOKUP($B157,Inscriptions!A$2:A$65496,Inscriptions!D$2:D$65498))","v":""},null,null,null,null,null,null,0,0,0,"",""]
[154,null,{"$f":"IF(ISBLANK($B158),\"\",LOOKUP($B158,Inscriptions!A$2:A$65496,Inscriptions!B$2:B$65498))","v":""},{"$f":"IF(ISBLANK($B158),\"\",LOOKUP($B158,Inscriptions!A$2:A$65496,Inscriptions!C$2:C$65498))","v":""},{"$f":"IF(ISBLANK($B158),\"\",LOOKUP($B158,Inscriptions!A$2:A$65496,Inscriptions!D$2:D$65498))","v":""},null,null,null,null,null,null,0,0,0,"",""]
[155,null,{"$f":"IF(ISBLANK($B159),\"\",LOOKUP($B159,Inscriptions!A$2:A$65496,Inscriptions!B$2:B$65498))","v":""},{"$f":"IF(ISBLANK($B159),\"\",LOOKUP($B159,Inscriptions!A$2:A$65496,Inscriptions!C$2:C$65498))","v":""},{"$f":"IF(ISBLANK($B159),\"\",LOOKUP($B159,Inscriptions!A$2:A$65496,Inscriptions!D$2:D$65498))","v":""},null,null,null,null,null,null,0,0,0,"",""]
[156,null,{"$f":"IF(ISBLANK($B160),\"\",LOOKUP($B160,Inscriptions!A$2:A$65496,Inscriptions!B$2:B$65498))","v":""},{"$f":"IF(ISBLANK($B160),\"\",LOOKUP($B160,Inscriptions!A$2:A$65496,Inscriptions!C$2:C$65498))","v":""},{"$f":"IF(ISBLANK($B160),\"\",LOOKUP($B160,Inscriptions!A$2:A$65496,Inscriptions!D$2:D$65498))","v":""},null,null,null,null,null,null,0,0,0,"",""]
[157,null,{"$f":"IF(ISBLANK($B161),\"\",LOOKUP($B161,Inscriptions!A$2:A$65496,Inscriptions!B$2:B$65498))","v":""},{"$f":"IF(ISBLANK($B161),\"\",LOOKUP($B161,Inscriptions!A$2:A$65496,Inscriptions!C$2:C$65498))","v":""},{"$f":"IF(ISBLANK($B161),\"\",LOOKUP($B161,Inscriptions!A$2:A$65496,Inscriptions!D$2:D$65498))","v":""},null,null,null,null,null,null,0,0,0,"",""]
[158,null,{"$f":"IF(ISBLANK($B162),\"\",LOOKUP($B162,Inscriptions!A$2:A$65496,Inscriptions!B$2:B$65498))","v":""},{"$f":"IF(ISBLANK($B162),\"\",LOOKUP($B162,Inscriptions!A$2:A$65496,Inscriptions!C$2:C$65498))","v":""},{"$f":"IF(ISBLANK($B162),\"\",LOOKUP($B162,Inscriptions!A$2:A$65496,Inscriptions!D$2:D$65498))","v":""},null,null,null,null,null,null,0,0,0,"",""]
[159,null,{"$f":"IF(ISBLANK($B163),\"\",LOOKUP($B163,Inscriptions!A$2:A$65496,Inscriptions!B$2:B$65498))","v":""},{"$f":"IF(ISBLANK($B163),\"\",LOOKUP($B163,Inscriptions!A$2:A$65496,Inscriptions!C$2:C$65498))","v":""},{"$f":"IF(ISBLANK($B163),\"\",LOOKUP($B163,Inscriptions!A$2:A$65496,Inscriptions!D$2:D$65498))","v":""},null,null,null,null,null,null,0,0,0,"",""]
[160,null,{"$f":"IF(ISBLANK($B164),\"\",LOOKUP($B164,Inscriptions!A$2:A$65496,Inscriptions!B$2:B$65498))","v":""},{"$f":"IF(ISBLANK($B164),\"\",LOOKUP($B164,Inscriptions!A$2:A$65496,Inscriptions!C$2:C$65498))","v":""},{"$f":"IF(ISBLANK($B164),\"\",LOOKUP($B164,Inscriptions!A$2:A$65496,Inscriptions!D$2:D$65498))","v":""},null,null,null,null,null,null,0,0,0,"",""]
[161,null,{"$f":"IF(ISBLANK($B165),\"\",LOOKUP($B165,Inscriptions!A$2:A$65496,Inscriptions!B$2:B$65498))","v":""},{"$f":"IF(ISBLANK($B165),\"\",LOOKUP($B165,Inscriptions!A$2:A$65496,Inscriptions!C$2:C$65498))","v":""},{"$f":"IF(ISBLANK($B165),\"\",LOOKUP($B165,Inscriptions!A$2:A$65496,Inscriptions!D$2:D$65498))","v":""},null,null,null,null,null,null,0,0,0,"",""]
[162,null,{"$f":"IF(ISBLANK($B166),\"\",LOOKUP($B166,Inscriptions!A$2:A$65496,Inscriptions!B$2:B$65498))","v":""},{"$f":"IF(ISBLANK($B166),\"\",LOOKUP($B166,Inscriptions!A$2:A$65496,Inscriptions!C$2:C$65498))","v":""},{"$f":"IF(ISBLANK($B166),\"\",LOOKUP($B166,Inscriptions!A$2:A$65496,Inscriptions!D$2:D$65498))","v":""},null,null,null,null,null,null,0,0,0,"",""]
[163,null,{"$f":"IF(ISBLANK($B167),\"\",LOOKUP($B167,Inscriptions!A$2:A$65496,Inscriptions!B$2:B$65498))","v":""},{"$f":"IF(ISBLANK($B167),\"\",LOOKUP($B167,Inscriptions!A$2:A$65496,Inscriptions!C$2:C$65498))","v":""},{"$f":"IF(ISBLANK($B167),\"\",LOOKUP($B167,Inscriptions!A$2:A$65496,Inscriptions!D$2:D$65498))","v":""},null,null,null,null,null,null,0,{"$f":"ROUNDDOWN((K167-L167*10000)/100,0)","v":0},{"$f":"ROUNDDOWN((K167-(L167*10000)-(M167*100)),0)","v":0},"",""]
[164,null,{"$f":"IF(ISBLANK($B168),\"\",LOOKUP($B168,Inscriptions!A$2:A$65496,Inscriptions!B$2:B$65498))","v":""},{"$f":"IF(ISBLANK($B168),\"\",LOOKUP($B168,Inscriptions!A$2:A$65496,Inscriptions!C$2:C$65498))","v":""},{"$f":"IF(ISBLANK($B168),\"\",LOOKUP($B168,Inscriptions!A$2:A$65496,Inscriptions!D$2:D$65498))","v":""},null,null,null,null,null,null,0,0,0,"",""]
[165,null,{"$f":"IF(ISBLANK($B169),\"\",LOOKUP($B169,Inscriptions!A$2:A$65496,Inscriptions!B$2:B$65498))","v":""},{"$f":"IF(ISBLANK($B169),\"\",LOOKUP($B169,Inscriptions!A$2:A$65496,Inscriptions!C$2:C$65498))","v":""},{"$f":"IF(ISBLANK($B169),\"\",LOOKUP($B169,Inscriptions!A$2:A$65496,Inscriptions!D$2:D$65498))","v":""},null,null,null,null,null,null,0,0,0,"",""]
[166,null,{"$f":"IF(ISBLANK($B170),\"\",LOOKUP($B170,Inscriptions!A$2:A$65496,Inscriptions!B$2:B$65498))","v":""},{"$f":"IF(ISBLANK($B170),\"\",LOOKUP($B170,Inscriptions!A$2:A$65496,Inscriptions!C$2:C$65498))","v":""},{"$f":"IF(ISBLANK($B170),\"\",LOOKUP($B170,Inscriptions!A$2:A$65496,Inscriptions!D$2:D$65498))","v":""},null,null,null,null,null,null,0,0,0,"",""]
[167,null,{"$f":"IF(ISBLANK($B171),\"\",LOOKUP($B171,Inscriptions!A$2:A$65496,Inscriptions!B$2:B$65498))","v":""},{"$f":"IF(ISBLANK($B171),\"\",LOOKUP($B171,Inscriptions!A$2:A$65496,Inscriptions!C$2:C$65498))","v":""},{"$f":"IF(ISBLANK($B171),\"\",LOOKUP($B171,Inscriptions!A$2:A$65496,Inscriptions!D$2:D$65498))","v":""},null,null,null,null,null,null,0,0,0,"",""]
[168,null,{"$f":"IF(ISBLANK($B172),\"\",LOOKUP($B172,Inscriptions!A$2:A$65496,Inscriptions!B$2:B$65498))","v":""},{"$f":"IF(ISBLANK($B172),\"\",LOOKUP($B172,Inscriptions!A$2:A$65496,Inscriptions!C$2:C$65498))","v":""},{"$f":"IF(ISBLANK($B172),\"\",LOOKUP($B172,Inscriptions!A$2:A$65496,Inscriptions!D$2:D$65498))","v":""},null,null,null,null,null,null,0,0,0,"",""]
[169,null,{"$f":"IF(ISBLANK($B173),\"\",LOOKUP($B173,Inscriptions!A$2:A$65496,Inscriptions!B$2:B$65498))","v":""},{"$f":"IF(ISBLANK($B173),\"\",LOOKUP($B173,Inscriptions!A$2:A$65496,Inscriptions!C$2:C$65498))","v":""},{"$f":"IF(ISBLANK($B173),\"\",LOOKUP($B173,Inscriptions!A$2:A$65496,Inscriptions!D$2:D$65498))","v":""},null,null,null,null,null,null,0,0,0,"",""]
[170,null,{"$f":"IF(ISBLANK($B174),\"\",LOOKUP($B174,Inscriptions!A$2:A$65496,Inscriptions!B$2:B$65498))","v":""},{"$f":"IF(ISBLANK($B174),\"\",LOOKUP($B174,Inscriptions!A$2:A$65496,Inscriptions!C$2:C$65498))","v":""},{"$f":"IF(ISBLANK($B174),\"\",LOOKUP($B174,Inscriptions!A$2:A$65496,Inscriptions!D$2:D$65498))","v":""},null,null,null,null,null,null,0,0,0,"",""]
[171,null,{"$f":"IF(ISBLANK($B175),\"\",LOOKUP($B175,Inscriptions!A$2:A$65496,Inscriptions!B$2:B$65498))","v":""},{"$f":"IF(ISBLANK($B175),\"\",LOOKUP($B175,Inscriptions!A$2:A$65496,Inscriptions!C$2:C$65498))","v":""},{"$f":"IF(ISBLANK($B175),\"\",LOOKUP($B175,Inscriptions!A$2:A$65496,Inscriptions!D$2:D$65498))","v":""},null,null,null,null,null,null,0,0,0,"",""]
[172,null,{"$f":"IF(ISBLANK($B176),\"\",LOOKUP($B176,Inscriptions!A$2:A$65496,Inscriptions!B$2:B$65498))","v":""},{"$f":"IF(ISBLANK($B176),\"\",LOOKUP($B176,Inscriptions!A$2:A$65496,Inscriptions!C$2:C$65498))","v":""},{"$f":"IF(ISBLANK($B176),\"\",LOOKUP($B176,Inscriptions!A$2:A$65496,Inscriptions!D$2:D$65498))","v":""},null,null,null,null,null,null,0,0,0,"",""]
[173,null,{"$f":"IF(ISBLANK($B177),\"\",LOOKUP($B177,Inscriptions!A$2:A$65496,Inscriptions!B$2:B$65498))","v":""},{"$f":"IF(ISBLANK($B177),\"\",LOOKUP($B177,Inscriptions!A$2:A$65496,Inscriptions!C$2:C$65498))","v":""},{"$f":"IF(ISBLANK($B177),\"\",LOOKUP($B177,Inscriptions!A$2:A$65496,Inscriptions!D$2:D$65498))","v":""},null,null,null,null,null,null,0,0,0,"",""]
[174,null,{"$f":"IF(ISBLANK($B178),\"\",LOOKUP($B178,Inscriptions!A$2:A$65496,Inscriptions!B$2:B$65498))","v":""},{"$f":"IF(ISBLANK($B178),\"\",LOOKUP($B178,Inscriptions!A$2:A$65496,Inscriptions!C$2:C$65498))","v":""},{"$f":"IF(ISBLANK($B178),\"\",LOOKUP($B178,Inscriptions!A$2:A$65496,Inscriptions!D$2:D$65498))","v":""},null,null,null,null,null,null,0,0,0,"",""]
[175,null,{"$f":"IF(ISBLANK($B179),\"\",LOOKUP($B179,Inscriptions!A$2:A$65496,Inscriptions!B$2:B$65498))","v":""},{"$f":"IF(ISBLANK($B179),\"\",LOOKUP($B179,Inscriptions!A$2:A$65496,Inscriptions!C$2:C$65498))","v":""},{"$f":"IF(ISBLANK($B179),\"\",LOOKUP($B179,Inscriptions!A$2:A$65496,Inscriptions!D$2:D$65498))","v":""},null,null,null,null,null,null,0,0,0,"",""]
[176,null,{"$f":"IF(ISBLANK($B180),\"\",LOOKUP($B180,Inscriptions!A$2:A$65496,Inscriptions!B$2:B$65498))","v":""},{"$f":"IF(ISBLANK($B180),\"\",LOOKUP($B180,Inscriptions!A$2:A$65496,Inscriptions!C$2:C$65498))","v":""},{"$f":"IF(ISBLANK($B180),\"\",LOOKUP($B180,Inscriptions!A$2:A$65496,Inscriptions!D$2:D$65498))","v":""},null,null,null,null,null,null,0,0,0,"",""]
[177,null,{"$f":"IF(ISBLANK($B181),\"\",LOOKUP($B181,Inscriptions!A$2:A$65496,Inscriptions!B$2:B$65498))","v":""},{"$f":"IF(ISBLANK($B181),\"\",LOOKUP($B181,Inscriptions!A$2:A$65496,Inscriptions!C$2:C$65498))","v":""},{"$f":"IF(ISBLANK($B181),\"\",LOOKUP($B181,Inscriptions!A$2:A$65496,Inscriptions!D$2:D$65498))","v":""},null,null,null,null,null,null,0,0,0,"",""]
[178,null,{"$f":"IF(ISBLANK($B182),\"\",LOOKUP($B182,Inscriptions!A$2:A$65496,Inscriptions!B$2:B$65498))","v":""},{"$f":"IF(ISBLANK($B182),\"\",LOOKUP($B182,Inscriptions!A$2:A$65496,Inscriptions!C$2:C$65498))","v":""},{"$f":"IF(ISBLANK($B182),\"\",LOOKUP($B182,Inscriptions!A$2:A$65496,Inscriptions!D$2:D$65498))","v":""},null,null,null,null,null,null,0,0,0,"",""]
[179,null,{"$f":"IF(ISBLANK($B183),\"\",LOOKUP($B183,Inscriptions!A$2:A$65496,Inscriptions!B$2:B$65498))","v":""},{"$f":"IF(ISBLANK($B183),\"\",LOOKUP($B183,Inscriptions!A$2:A$65496,Inscriptions!C$2:C$65498))","v":""},{"$f":"IF(ISBLANK($B183),\"\",LOOKUP($B183,Inscriptions!A$2:A$65496,Inscriptions!D$2:D$65498))","v":""},null,null,null,null,null,null,0,0,0,"",""]
[180,null,{"$f":"IF(ISBLANK($B184),\"\",LOOKUP($B184,Inscriptions!A$2:A$65496,Inscriptions!B$2:B$65498))","v":""},{"$f":"IF(ISBLANK($B184),\"\",LOOKUP($B184,Inscriptions!A$2:A$65496,Inscriptions!C$2:C$65498))","v":""},{"$f":"IF(ISBLANK($B184),\"\",LOOKUP($B184,Inscriptions!A$2:A$65496,Inscriptions!D$2:D$65498))","v":""},null,null,null,null,null,null,0,0,0,"",""]
[181,null,{"$f":"IF(ISBLANK($B185),\"\",LOOKUP($B185,Inscriptions!A$2:A$65496,Inscriptions!B$2:B$65498))","v":""},{"$f":"IF(ISBLANK($B185),\"\",LOOKUP($B185,Inscriptions!A$2:A$65496,Inscriptions!C$2:C$65498))","v":""},{"$f":"IF(ISBLANK($B185),\"\",LOOKUP($B185,Inscriptions!A$2:A$65496,Inscriptions!D$2:D$65498))","v":""},null,null,null,null,null,null,0,0,0,"",""]
[182,null,{"$f":"IF(ISBLANK($B186),\"\",LOOKUP($B186,Inscriptions!A$2:A$65496,Inscriptions!B$2:B$65498))","v":""},{"$f":"IF(ISBLANK($B186),\"\",LOOKUP($B186,Inscriptions!A$2:A$65496,Inscriptions!C$2:C$65498))","v":""},{"$f":"IF(ISBLANK($B186),\"\",LOOKUP($B186,Inscriptions!A$2:A$65496,Inscriptions!D$2:D$65498))","v":""},null,null,null,null,null,null,0,0,0,"",""]
[183,null,{"$f":"IF(ISBLANK($B187),\"\",LOOKUP($B187,Inscriptions!A$2:A$65496,Inscriptions!B$2:B$65498))","v":""},{"$f":"IF(ISBLANK($B187),\"\",LOOKUP($B187,Inscriptions!A$2:A$65496,Inscriptions!C$2:C$65498))","v":""},{"$f":"IF(ISBLANK($B187),\"\",LOOKUP($B187,Inscriptions!A$2:A$65496,Inscriptions!D$2:D$65498))","v":""},null,null,null,null,null,null,0,0,0,"",""]
[184,null,{"$f":"IF(ISBLANK($B188),\"\",LOOKUP($B188,Inscriptions!A$2:A$65496,Inscriptions!B$2:B$65498))","v":""},{"$f":"IF(ISBLANK($B188),\"\",LOOKUP($B188,Inscriptions!A$2:A$65496,Inscriptions!C$2:C$65498))","v":""},{"$f":"IF(ISBLANK($B188),\"\",LOOKUP($B188,Inscriptions!A$2:A$65496,Inscriptions!D$2:D$65498))","v":""},null,null,null,null,null,null,0,0,0,"",""]
[185,null,{"$f":"IF(ISBLANK($B189),\"\",LOOKUP($B189,Inscriptions!A$2:A$65496,Inscriptions!B$2:B$65498))","v":""},{"$f":"IF(ISBLANK($B189),\"\",LOOKUP($B189,Inscriptions!A$2:A$65496,Inscriptions!C$2:C$65498))","v":""},{"$f":"IF(ISBLANK($B189),\"\",LOOKUP($B189,Inscriptions!A$2:A$65496,Inscriptions!D$2:D$65498))","v":""},null,null,null,null,null,null,0,0,0,"",""]
[186,null,{"$f":"IF(ISBLANK($B190),\"\",LOOKUP($B190,Inscriptions!A$2:A$65496,Inscriptions!B$2:B$65498))","v":""},{"$f":"IF(ISBLANK($B190),\"\",LOOKUP($B190,Inscriptions!A$2:A$65496,Inscriptions!C$2:C$65498))","v":""},{"$f":"IF(ISBLANK($B190),\"\",LOOKUP($B190,Inscriptions!A$2:A$65496,Inscriptions!D$2:D$65498))","v":""},null,null,null,null,null,null,0,0,0,"",""]
[187,null,{"$f":"IF(ISBLANK($B191),\"\",LOOKUP($B191,Inscriptions!A$2:A$65496,Inscriptions!B$2:B$65498))","v":""},{"$f":"IF(ISBLANK($B191),\"\",LOOKUP($B191,Inscriptions!A$2:A$65496,Inscriptions!C$2:C$65498))","v":""},{"$f":"IF(ISBLANK($B191),\"\",LOOKUP($B191,Inscriptions!A$2:A$65496,Inscriptions!D$2:D$65498))","v":""},null,null,null,null,null,null,0,0,0,"",""]
[188,null,{"$f":"IF(ISBLANK($B192),\"\",LOOKUP($B192,Inscriptions!A$2:A$65496,Inscriptions!B$2:B$65498))","v":""},{"$f":"IF(ISBLANK($B192),\"\",LOOKUP($B192,Inscriptions!A$2:A$65496,Inscriptions!C$2:C$65498))","v":""},{"$f":"IF(ISBLANK($B192),\"\",LOOKUP($B192,Inscriptions!A$2:A$65496,Inscriptions!D$2:D$65498))","v":""},null,null,null,null,null,null,0,0,0,"",""]
[189,null,{"$f":"IF(ISBLANK($B193),\"\",LOOKUP($B193,Inscriptions!A$2:A$65496,Inscriptions!B$2:B$65498))","v":""},{"$f":"IF(ISBLANK($B193),\"\",LOOKUP($B193,Inscriptions!A$2:A$65496,Inscriptions!C$2:C$65498))","v":""},{"$f":"IF(ISBLANK($B193),\"\",LOOKUP($B193,Inscriptions!A$2:A$65496,Inscriptions!D$2:D$65498))","v":""},null,null,null,null,null,null,0,0,0,"",""]
[190,null,{"$f":"IF(ISBLANK($B194),\"\",LOOKUP($B194,Inscriptions!A$2:A$65496,Inscriptions!B$2:B$65498))","v":""},{"$f":"IF(ISBLANK($B194),\"\",LOOKUP($B194,Inscriptions!A$2:A$65496,Inscriptions!C$2:C$65498))","v":""},{"$f":"IF(ISBLANK($B194),\"\",LOOKUP($B194,Inscriptions!A$2:A$65496,Inscriptions!D$2:D$65498))","v":""},null,null,null,null,null,null,0,0,0,"",""]
[191,null,{"$f":"IF(ISBLANK($B195),\"\",LOOKUP($B195,Inscriptions!A$2:A$65496,Inscriptions!B$2:B$65498))","v":""},{"$f":"IF(ISBLANK($B195),\"\",LOOKUP($B195,Inscriptions!A$2:A$65496,Inscriptions!C$2:C$65498))","v":""},{"$f":"IF(ISBLANK($B195),\"\",LOOKUP($B195,Inscriptions!A$2:A$65496,Inscriptions!D$2:D$65498))","v":""},null,null,null,null,null,null,0,0,0,"",""]
[192,null,{"$f":"IF(ISBLANK($B196),\"\",LOOKUP($B196,Inscriptions!A$2:A$65496,Inscriptions!B$2:B$65498))","v":""},{"$f":"IF(ISBLANK($B196),\"\",LOOKUP($B196,Inscriptions!A$2:A$65496,Inscriptions!C$2:C$65498))","v":""},{"$f":"IF(ISBLANK($B196),\"\",LOOKUP($B196,Inscriptions!A$2:A$65496,Inscriptions!D$2:D$65498))","v":""},null,null,null,null,null,null,0,0,0,"",""]
[193,null,{"$f":"IF(ISBLANK($B197),\"\",LOOKUP($B197,Inscriptions!A$2:A$65496,Inscriptions!B$2:B$65498))","v":""},{"$f":"IF(ISBLANK($B197),\"\",LOOKUP($B197,Inscriptions!A$2:A$65496,Inscriptions!C$2:C$65498))","v":""},{"$f":"IF(ISBLANK($B197),\"\",LOOKUP($B197,Inscriptions!A$2:A$65496,Inscriptions!D$2:D$65498))","v":""},null,null,null,null,null,null,{"$f":"ROUNDDOWN(K197/10000,0)","v":0},0,0,{"$f":"IF((L197+M197+N197)=0,\"\",ROUNDDOWN((O$4/((L197*3600)+(M197*60)+N197))*3.6,2))","v":""},{"$f":"IF(O197=\"\",\"\",\"km/h\")","v":""}]
[194,null,{"$f":"IF(ISBLANK($B198),\"\",LOOKUP($B198,Inscriptions!A$2:A$65496,Inscriptions!B$2:B$65498))","v":""},{"$f":"IF(ISBLANK($B198),\"\",LOOKUP($B198,Inscriptions!A$2:A$65496,Inscriptions!C$2:C$65498))","v":""},{"$f":"IF(ISBLANK($B198),\"\",LOOKUP($B198,Inscriptions!A$2:A$65496,Inscriptions!D$2:D$65498))","v":""},null,null,null,null,null,null,0,0,0,"",""]
[195,null,{"$f":"IF(ISBLANK($B199),\"\",LOOKUP($B199,Inscriptions!A$2:A$65496,Inscriptions!B$2:B$65498))","v":""},{"$f":"IF(ISBLANK($B199),\"\",LOOKUP($B199,Inscriptions!A$2:A$65496,Inscriptions!C$2:C$65498))","v":""},{"$f":"IF(ISBLANK($B199),\"\",LOOKUP($B199,Inscriptions!A$2:A$65496,Inscriptions!D$2:D$65498))","v":""},null,null,null,null,null,null,0,0,0,"",""]
[196,null,{"$f":"IF(ISBLANK($B200),\"\",LOOKUP($B200,Inscriptions!A$2:A$65496,Inscriptions!B$2:B$65498))","v":""},{"$f":"IF(ISBLANK($B200),\"\",LOOKUP($B200,Inscriptions!A$2:A$65496,Inscriptions!C$2:C$65498))","v":""},{"$f":"IF(ISBLANK($B200),\"\",LOOKUP($B200,Inscriptions!A$2:A$65496,Inscriptions!D$2:D$65498))","v":""},null,null,null,null,null,null,0,0,0,"",""]
[197,null,{"$f":"IF(ISBLANK($B201),\"\",LOOKUP($B201,Inscriptions!A$2:A$65496,Inscriptions!B$2:B$65498))","v":""},{"$f":"IF(ISBLANK($B201),\"\",LOOKUP($B201,Inscriptions!A$2:A$65496,Inscriptions!C$2:C$65498))","v":""},{"$f":"IF(ISBLANK($B201),\"\",LOOKUP($B201,Inscriptions!A$2:A$65496,Inscriptions!D$2:D$65498))","v":""},null,null,null,null,null,null,0,0,0,"",""]
[198,null,{"$f":"IF(ISBLANK($B202),\"\",LOOKUP($B202,Inscriptions!A$2:A$65496,Inscriptions!B$2:B$65498))","v":""},{"$f":"IF(ISBLANK($B202),\"\",LOOKUP($B202,Inscriptions!A$2:A$65496,Inscriptions!C$2:C$65498))","v":""},{"$f":"IF(ISBLANK($B202),\"\",LOOKUP($B202,Inscriptions!A$2:A$65496,Inscriptions!D$2:D$65498))","v":""},null,null,null,null,null,null,0,0,0,"",""]
[199,null,{"$f":"IF(ISBLANK($B203),\"\",LOOKUP($B203,Inscriptions!A$2:A$65496,Inscriptions!B$2:B$65498))","v":""},{"$f":"IF(ISBLANK($B203),\"\",LOOKUP($B203,Inscriptions!A$2:A$65496,Inscriptions!C$2:C$65498))","v":""},{"$f":"IF(ISBLANK($B203),\"\",LOOKUP($B203,Inscriptions!A$2:A$65496,Inscriptions!D$2:D$65498))","v":""},null,null,null,null,null,null,0,0,0,"",""]
[200,null,{"$f":"IF(ISBLANK($B204),\"\",LOOKUP($B204,Inscriptions!A$2:A$65496,Inscriptions!B$2:B$65498))","v":""},{"$f":"IF(ISBLANK($B204),\"\",LOOKUP($B204,Inscriptions!A$2:A$65496,Inscriptions!C$2:C$65498))","v":""},{"$f":"IF(ISBLANK($B204),\"\",LOOKUP($B204,Inscriptions!A$2:A$65496,Inscriptions!D$2:D$65498))","v":""},null,null,null,null,null,null,0,0,0,"",""]
[201,null,{"$f":"IF(ISBLANK($B205),\"\",LOOKUP($B205,Inscriptions!A$2:A$65496,Inscriptions!B$2:B$65498))","v":""},{"$f":"IF(ISBLANK($B205),\"\",LOOKUP($B205,Inscriptions!A$2:A$65496,Inscriptions!C$2:C$65498))","v":""},{"$f":"IF(ISBLANK($B205),\"\",LOOKUP($B205,Inscriptions!A$2:A$65496,Inscriptions!D$2:D$65498))","v":""},null,null,null,null,null,null,0,0,0,"",""]
[202,null,{"$f":"IF(ISBLANK($B206),\"\",LOOKUP($B206,Inscriptions!A$2:A$65496,Inscriptions!B$2:B$65498))","v":""},{"$f":"IF(ISBLANK($B206),\"\",LOOKUP($B206,Inscriptions!A$2:A$65496,Inscriptions!C$2:C$65498))","v":""},{"$f":"IF(ISBLANK($B206),\"\",LOOKUP($B206,Inscriptions!A$2:A$65496,Inscriptions!D$2:D$65498))","v":""},null,null,null,null,null,null,0,0,0,"",""]
[203,null,{"$f":"IF(ISBLANK($B207),\"\",LOOKUP($B207,Inscriptions!A$2:A$65496,Inscriptions!B$2:B$65498))","v":""},{"$f":"IF(ISBLANK($B207),\"\",LOOKUP($B207,Inscriptions!A$2:A$65496,Inscriptions!C$2:C$65498))","v":""},{"$f":"IF(ISBLANK($B207),\"\",LOOKUP($B207,Inscriptions!A$2:A$65496,Inscriptions!D$2:D$65498))","v":""},null,null,null,null,null,null,0,0,0,"",""]
[204,null,{"$f":"IF(ISBLANK($B208),\"\",LOOKUP($B208,Inscriptions!A$2:A$65496,Inscriptions!B$2:B$65498))","v":""},{"$f":"IF(ISBLANK($B208),\"\",LOOKUP($B208,Inscriptions!A$2:A$65496,Inscriptions!C$2:C$65498))","v":""},{"$f":"IF(ISBLANK($B208),\"\",LOOKUP($B208,Inscriptions!A$2:A$65496,Inscriptions!D$2:D$65498))","v":""},null,null,null,null,null,null,0,0,0,"",""]
[205,null,{"$f":"IF(ISBLANK($B209),\"\",LOOKUP($B209,Inscriptions!A$2:A$65496,Inscriptions!B$2:B$65498))","v":""},{"$f":"IF(ISBLANK($B209),\"\",LOOKUP($B209,Inscriptions!A$2:A$65496,Inscriptions!C$2:C$65498))","v":""},{"$f":"IF(ISBLANK($B209),\"\",LOOKUP($B209,Inscriptions!A$2:A$65496,Inscriptions!D$2:D$65498))","v":""},null,null,null,null,null,null,0,0,0,"",""]
[206,null,{"$f":"IF(ISBLANK($B210),\"\",LOOKUP($B210,Inscriptions!A$2:A$65496,Inscriptions!B$2:B$65498))","v":""},{"$f":"IF(ISBLANK($B210),\"\",LOOKUP($B210,Inscriptions!A$2:A$65496,Inscriptions!C$2:C$65498))","v":""},{"$f":"IF(ISBLANK($B210),\"\",LOOKUP($B210,Inscriptions!A$2:A$65496,Inscriptions!D$2:D$65498))","v":""},null,null,null,null,null,null,0,0,0,"",""]
[207,null,{"$f":"IF(ISBLANK($B211),\"\",LOOKUP($B211,Inscriptions!A$2:A$65496,Inscriptions!B$2:B$65498))","v":""},{"$f":"IF(ISBLANK($B211),\"\",LOOKUP($B211,Inscriptions!A$2:A$65496,Inscriptions!C$2:C$65498))","v":""},{"$f":"IF(ISBLANK($B211),\"\",LOOKUP($B211,Inscriptions!A$2:A$65496,Inscriptions!D$2:D$65498))","v":""},null,null,null,null,null,null,0,0,0,"",""]
[208,null,{"$f":"IF(ISBLANK($B212),\"\",LOOKUP($B212,Inscriptions!A$2:A$65496,Inscriptions!B$2:B$65498))","v":""},{"$f":"IF(ISBLANK($B212),\"\",LOOKUP($B212,Inscriptions!A$2:A$65496,Inscriptions!C$2:C$65498))","v":""},{"$f":"IF(ISBLANK($B212),\"\",LOOKUP($B212,Inscriptions!A$2:A$65496,Inscriptions!D$2:D$65498))","v":""},null,null,null,null,null,null,0,0,0,"",""]
[209,null,{"$f":"IF(ISBLANK($B213),\"\",LOOKUP($B213,Inscriptions!A$2:A$65496,Inscriptions!B$2:B$65498))","v":""},{"$f":"IF(ISBLANK($B213),\"\",LOOKUP($B213,Inscriptions!A$2:A$65496,Inscriptions!C$2:C$65498))","v":""},{"$f":"IF(ISBLANK($B213),\"\",LOOKUP($B213,Inscriptions!A$2:A$65496,Inscriptions!D$2:D$65498))","v":""},null,null,null,null,null,null,0,0,0,"",""]
[210,null,{"$f":"IF(ISBLANK($B214),\"\",LOOKUP($B214,Inscriptions!A$2:A$65496,Inscriptions!B$2:B$65498))","v":""},{"$f":"IF(ISBLANK($B214),\"\",LOOKUP($B214,Inscriptions!A$2:A$65496,Inscriptions!C$2:C$65498))","v":""},{"$f":"IF(ISBLANK($B214),\"\",LOOKUP($B214,Inscriptions!A$2:A$65496,Inscriptions!D$2:D$65498))","v":""},null,null,null,null,null,null,0,0,0,"",""]
[211,null,{"$f":"IF(ISBLANK($B215),\"\",LOOKUP($B215,Inscriptions!A$2:A$65496,Inscriptions!B$2:B$65498))","v":""},{"$f":"IF(ISBLANK($B215),\"\",LOOKUP($B215,Inscriptions!A$2:A$65496,Inscriptions!C$2:C$65498))","v":""},{"$f":"IF(ISBLANK($B215),\"\",LOOKUP($B215,Inscriptions!A$2:A$65496,Inscriptions!D$2:D$65498))","v":""},null,null,null,null,null,null,0,0,0,"",""]
[212,null,{"$f":"IF(ISBLANK($B216),\"\",LOOKUP($B216,Inscriptions!A$2:A$65496,Inscriptions!B$2:B$65498))","v":""},{"$f":"IF(ISBLANK($B216),\"\",LOOKUP($B216,Inscriptions!A$2:A$65496,Inscriptions!C$2:C$65498))","v":""},{"$f":"IF(ISBLANK($B216),\"\",LOOKUP($B216,Inscriptions!A$2:A$65496,Inscriptions!D$2:D$65498))","v":""},null,null,null,null,null,null,0,0,0,"",""]
[213,null,{"$f":"IF(ISBLANK($B217),\"\",LOOKUP($B217,Inscriptions!A$2:A$65496,Inscriptions!B$2:B$65498))","v":""},{"$f":"IF(ISBLANK($B217),\"\",LOOKUP($B217,Inscriptions!A$2:A$65496,Inscriptions!C$2:C$65498))","v":""},{"$f":"IF(ISBLANK($B217),\"\",LOOKUP($B217,Inscriptions!A$2:A$65496,Inscriptions!D$2:D$65498))","v":""},null,null,null,null,null,null,0,0,0,"",""]
[214,null,{"$f":"IF(ISBLANK($B218),\"\",LOOKUP($B218,Inscriptions!A$2:A$65496,Inscriptions!B$2:B$65498))","v":""},{"$f":"IF(ISBLANK($B218),\"\",LOOKUP($B218,Inscriptions!A$2:A$65496,Inscriptions!C$2:C$65498))","v":""},{"$f":"IF(ISBLANK($B218),\"\",LOOKUP($B218,Inscriptions!A$2:A$65496,Inscriptions!D$2:D$65498))","v":""},null,null,null,null,null,null,0,0,0,"",""]
[215,null,{"$f":"IF(ISBLANK($B219),\"\",LOOKUP($B219,Inscriptions!A$2:A$65496,Inscriptions!B$2:B$65498))","v":""},{"$f":"IF(ISBLANK($B219),\"\",LOOKUP($B219,Inscriptions!A$2:A$65496,Inscriptions!C$2:C$65498))","v":""},{"$f":"IF(ISBLANK($B219),\"\",LOOKUP($B219,Inscriptions!A$2:A$65496,Inscriptions!D$2:D$65498))","v":""},null,null,null,null,null,null,0,0,0,"",""]
[216,null,{"$f":"IF(ISBLANK($B220),\"\",LOOKUP($B220,Inscriptions!A$2:A$65496,Inscriptions!B$2:B$65498))","v":""},{"$f":"IF(ISBLANK($B220),\"\",LOOKUP($B220,Inscriptions!A$2:A$65496,Inscriptions!C$2:C$65498))","v":""},{"$f":"IF(ISBLANK($B220),\"\",LOOKUP($B220,Inscriptions!A$2:A$65496,Inscriptions!D$2:D$65498))","v":""},null,null,null,null,null,null,0,0,0,"",""]
[217,null,{"$f":"IF(ISBLANK($B221),\"\",LOOKUP($B221,Inscriptions!A$2:A$65496,Inscriptions!B$2:B$65498))","v":""},{"$f":"IF(ISBLANK($B221),\"\",LOOKUP($B221,Inscriptions!A$2:A$65496,Inscriptions!C$2:C$65498))","v":""},{"$f":"IF(ISBLANK($B221),\"\",LOOKUP($B221,Inscriptions!A$2:A$65496,Inscriptions!D$2:D$65498))","v":""},null,null,null,null,null,null,0,0,0,"",""]
[218,null,{"$f":"IF(ISBLANK($B222),\"\",LOOKUP($B222,Inscriptions!A$2:A$65496,Inscriptions!B$2:B$65498))","v":""},{"$f":"IF(ISBLANK($B222),\"\",LOOKUP($B222,Inscriptions!A$2:A$65496,Inscriptions!C$2:C$65498))","v":""},{"$f":"IF(ISBLANK($B222),\"\",LOOKUP($B222,Inscriptions!A$2:A$65496,Inscriptions!D$2:D$65498))","v":""},null,null,null,null,null,null,0,0,0,"",""]
[219,null,{"$f":"IF(ISBLANK($B223),\"\",LOOKUP($B223,Inscriptions!A$2:A$65496,Inscriptions!B$2:B$65498))","v":""},{"$f":"IF(ISBLANK($B223),\"\",LOOKUP($B223,Inscriptions!A$2:A$65496,Inscriptions!C$2:C$65498))","v":""},{"$f":"IF(ISBLANK($B223),\"\",LOOKUP($B223,Inscriptions!A$2:A$65496,Inscriptions!D$2:D$65498))","v":""},null,null,null,null,null,null,0,0,0,"",""]
[220,null,{"$f":"IF(ISBLANK($B224),\"\",LOOKUP($B224,Inscriptions!A$2:A$65496,Inscriptions!B$2:B$65498))","v":""},{"$f":"IF(ISBLANK($B224),\"\",LOOKUP($B224,Inscriptions!A$2:A$65496,Inscriptions!C$2:C$65498))","v":""},{"$f":"IF(ISBLANK($B224),\"\",LOOKUP($B224,Inscriptions!A$2:A$65496,Inscriptions!D$2:D$65498))","v":""},null,null,null,null,null,null,0,0,0,"",""]
[221,null,{"$f":"IF(ISBLANK($B225),\"\",LOOKUP($B225,Inscriptions!A$2:A$65496,Inscriptions!B$2:B$65498))","v":""},{"$f":"IF(ISBLANK($B225),\"\",LOOKUP($B225,Inscriptions!A$2:A$65496,Inscriptions!C$2:C$65498))","v":""},{"$f":"IF(ISBLANK($B225),\"\",LOOKUP($B225,Inscriptions!A$2:A$65496,Inscriptions!D$2:D$65498))","v":""},null,null,null,null,null,null,0,0,0,"",""]
[222,null,{"$f":"IF(ISBLANK($B226),\"\",LOOKUP($B226,Inscriptions!A$2:A$65496,Inscriptions!B$2:B$65498))","v":""},{"$f":"IF(ISBLANK($B226),\"\",LOOKUP($B226,Inscriptions!A$2:A$65496,Inscriptions!C$2:C$65498))","v":""},{"$f":"IF(ISBLANK($B226),\"\",LOOKUP($B226,Inscriptions!A$2:A$65496,Inscriptions!D$2:D$65498))","v":""},null,null,null,null,null,null,0,0,0,"",""]
[223,null,{"$f":"IF(ISBLANK($B227),\"\",LOOKUP($B227,Inscriptions!A$2:A$65496,Inscriptions!B$2:B$65498))","v":""},{"$f":"IF(ISBLANK($B227),\"\",LOOKUP($B227,Inscriptions!A$2:A$65496,Inscriptions!C$2:C$65498))","v":""},{"$f":"IF(ISBLANK($B227),\"\",LOOKUP($B227,Inscriptions!A$2:A$65496,Inscriptions!D$2:D$65498))","v":""},null,null,null,null,null,null,0,0,0,"",""]
[224,null,{"$f":"IF(ISBLANK($B228),\"\",LOOKUP($B228,Inscriptions!A$2:A$65496,Inscriptions!B$2:B$65498))","v":""},{"$f":"IF(ISBLANK($B228),\"\",LOOKUP($B228,Inscriptions!A$2:A$65496,Inscriptions!C$2:C$65498))","v":""},{"$f":"IF(ISBLANK($B228),\"\",LOOKUP($B228,Inscriptions!A$2:A$65496,Inscriptions!D$2:D$65498))","v":""},null,null,null,null,null,null,0,0,0,"",""]
[225,null,{"$f":"IF(ISBLANK($B229),\"\",LOOKUP($B229,Inscriptions!A$2:A$65496,Inscriptions!B$2:B$65498))","v":""},{"$f":"IF(ISBLANK($B229),\"\",LOOKUP($B229,Inscriptions!A$2:A$65496,Inscriptions!C$2:C$65498))","v":""},{"$f":"IF(ISBLANK($B229),\"\",LOOKUP($B229,Inscriptions!A$2:A$65496,Inscriptions!D$2:D$65498))","v":""},null,null,null,null,null,null,0,0,0,"",""]
[226,null,{"$f":"IF(ISBLANK($B230),\"\",LOOKUP($B230,Inscriptions!A$2:A$65496,Inscriptions!B$2:B$65498))","v":""},{"$f":"IF(ISBLANK($B230),\"\",LOOKUP($B230,Inscriptions!A$2:A$65496,Inscriptions!C$2:C$65498))","v":""},{"$f":"IF(ISBLANK($B230),\"\",LOOKUP($B230,Inscriptions!A$2:A$65496,Inscriptions!D$2:D$65498))","v":""},null,null,null,null,null,null,0,0,0,"",""]
[227,null,{"$f":"IF(ISBLANK($B231),\"\",LOOKUP($B231,Inscriptions!A$2:A$65496,Inscriptions!B$2:B$65498))","v":""},{"$f":"IF(ISBLANK($B231),\"\",LOOKUP($B231,Inscriptions!A$2:A$65496,Inscriptions!C$2:C$65498))","v":""},{"$f":"IF(ISBLANK($B231),\"\",LOOKUP($B231,Inscriptions!A$2:A$65496,Inscriptions!D$2:D$65498))","v":""},null,null,null,null,null,null,0,{"$f":"ROUNDDOWN((K231-L231*10000)/100,0)","v":0},{"$f":"ROUNDDOWN((K231-(L231*10000)-(M231*100)),0)","v":0},"",""]
[228,null,{"$f":"IF(ISBLANK($B232),\"\",LOOKUP($B232,Inscriptions!A$2:A$65496,Inscriptions!B$2:B$65498))","v":""},{"$f":"IF(ISBLANK($B232),\"\",LOOKUP($B232,Inscriptions!A$2:A$65496,Inscriptions!C$2:C$65498))","v":""},{"$f":"IF(ISBLANK($B232),\"\",LOOKUP($B232,Inscriptions!A$2:A$65496,Inscriptions!D$2:D$65498))","v":""},null,null,null,null,null,null,0,0,0,"",""]
[229,null,{"$f":"IF(ISBLANK($B233),\"\",LOOKUP($B233,Inscriptions!A$2:A$65496,Inscriptions!B$2:B$65498))","v":""},{"$f":"IF(ISBLANK($B233),\"\",LOOKUP($B233,Inscriptions!A$2:A$65496,Inscriptions!C$2:C$65498))","v":""},{"$f":"IF(ISBLANK($B233),\"\",LOOKUP($B233,Inscriptions!A$2:A$65496,Inscriptions!D$2:D$65498))","v":""},null,null,null,null,null,null,0,0,0,"",""]
[230,null,{"$f":"IF(ISBLANK($B234),\"\",LOOKUP($B234,Inscriptions!A$2:A$65496,Inscriptions!B$2:B$65498))","v":""},{"$f":"IF(ISBLANK($B234),\"\",LOOKUP($B234,Inscriptions!A$2:A$65496,Inscriptions!C$2:C$65498))","v":""},{"$f":"IF(ISBLANK($B234),\"\",LOOKUP($B234,Inscriptions!A$2:A$65496,Inscriptions!D$2:D$65498))","v":""},null,null,null,null,null,null,0,0,0,"",""]
[231,null,{"$f":"IF(ISBLANK($B235),\"\",LOOKUP($B235,Inscriptions!A$2:A$65496,Inscriptions!B$2:B$65498))","v":""},{"$f":"IF(ISBLANK($B235),\"\",LOOKUP($B235,Inscriptions!A$2:A$65496,Inscriptions!C$2:C$65498))","v":""},{"$f":"IF(ISBLANK($B235),\"\",LOOKUP($B235,Inscriptions!A$2:A$65496,Inscriptions!D$2:D$65498))","v":""},null,null,null,null,null,null,0,0,0,"",""]
[232,null,{"$f":"IF(ISBLANK($B236),\"\",LOOKUP($B236,Inscriptions!A$2:A$65496,Inscriptions!B$2:B$65498))","v":""},{"$f":"IF(ISBLANK($B236),\"\",LOOKUP($B236,Inscriptions!A$2:A$65496,Inscriptions!C$2:C$65498))","v":""},{"$f":"IF(ISBLANK($B236),\"\",LOOKUP($B236,Inscriptions!A$2:A$65496,Inscriptions!D$2:D$65498))","v":""},null,null,null,null,null,null,0,0,0,"",""]
[233,null,{"$f":"IF(ISBLANK($B237),\"\",LOOKUP($B237,Inscriptions!A$2:A$65496,Inscriptions!B$2:B$65498))","v":""},{"$f":"IF(ISBLANK($B237),\"\",LOOKUP($B237,Inscriptions!A$2:A$65496,Inscriptions!C$2:C$65498))","v":""},{"$f":"IF(ISBLANK($B237),\"\",LOOKUP($B237,Inscriptions!A$2:A$65496,Inscriptions!D$2:D$65498))","v":""},null,null,null,null,null,null,0,0,0,"",""]
[234,null,{"$f":"IF(ISBLANK($B238),\"\",LOOKUP($B238,Inscriptions!A$2:A$65496,Inscriptions!B$2:B$65498))","v":""},{"$f":"IF(ISBLANK($B238),\"\",LOOKUP($B238,Inscriptions!A$2:A$65496,Inscriptions!C$2:C$65498))","v":""},{"$f":"IF(ISBLANK($B238),\"\",LOOKUP($B238,Inscriptions!A$2:A$65496,Inscriptions!D$2:D$65498))","v":""},null,null,null,null,null,null,0,0,0,"",""]
[235,null,{"$f":"IF(ISBLANK($B239),\"\",LOOKUP($B239,Inscriptions!A$2:A$65496,Inscriptions!B$2:B$65498))","v":""},{"$f":"IF(ISBLANK($B239),\"\",LOOKUP($B239,Inscriptions!A$2:A$65496,Inscriptions!C$2:C$65498))","v":""},{"$f":"IF(ISBLANK($B239),\"\",LOOKUP($B239,Inscriptions!A$2:A$65496,Inscriptions!D$2:D$65498))","v":""},null,null,null,null,null,null,0,0,0,"",""]
[236,null,{"$f":"IF(ISBLANK($B240),\"\",LOOKUP($B240,Inscriptions!A$2:A$65496,Inscriptions!B$2:B$65498))","v":""},{"$f":"IF(ISBLANK($B240),\"\",LOOKUP($B240,Inscriptions!A$2:A$65496,Inscriptions!C$2:C$65498))","v":""},{"$f":"IF(ISBLANK($B240),\"\",LOOKUP($B240,Inscriptions!A$2:A$65496,Inscriptions!D$2:D$65498))","v":""},null,null,null,null,null,null,0,0,0,"",""]
[237,null,{"$f":"IF(ISBLANK($B241),\"\",LOOKUP($B241,Inscriptions!A$2:A$65496,Inscriptions!B$2:B$65498))","v":""},{"$f":"IF(ISBLANK($B241),\"\",LOOKUP($B241,Inscriptions!A$2:A$65496,Inscriptions!C$2:C$65498))","v":""},{"$f":"IF(ISBLANK($B241),\"\",LOOKUP($B241,Inscriptions!A$2:A$65496,Inscriptions!D$2:D$65498))","v":""},null,null,null,null,null,null,0,0,0,"",""]
[238,null,{"$f":"IF(ISBLANK($B242),\"\",LOOKUP($B242,Inscriptions!A$2:A$65496,Inscriptions!B$2:B$65498))","v":""},{"$f":"IF(ISBLANK($B242),\"\",LOOKUP($B242,Inscriptions!A$2:A$65496,Inscriptions!C$2:C$65498))","v":""},{"$f":"IF(ISBLANK($B242),\"\",LOOKUP($B242,Inscriptions!A$2:A$65496,Inscriptions!D$2:D$65498))","v":""},null,null,null,null,null,null,0,0,0,"",""]
[239,null,{"$f":"IF(ISBLANK($B243),\"\",LOOKUP($B243,Inscriptions!A$2:A$65496,Inscriptions!B$2:B$65498))","v":""},{"$f":"IF(ISBLANK($B243),\"\",LOOKUP($B243,Inscriptions!A$2:A$65496,Inscriptions!C$2:C$65498))","v":""},{"$f":"IF(ISBLANK($B243),\"\",LOOKUP($B243,Inscriptions!A$2:A$65496,Inscriptions!D$2:D$65498))","v":""},null,null,null,null,null,null,0,0,0,"",""]
[240,null,{"$f":"IF(ISBLANK($B244),\"\",LOOKUP($B244,Inscriptions!A$2:A$65496,Inscriptions!B$2:B$65498))","v":""},{"$f":"IF(ISBLANK($B244),\"\",LOOKUP($B244,Inscriptions!A$2:A$65496,Inscriptions!C$2:C$65498))","v":""},{"$f":"IF(ISBLANK($B244),\"\",LOOKUP($B244,Inscriptions!A$2:A$65496,Inscriptions!D$2:D$65498))","v":""},null,null,null,null,null,null,0,0,0,"",""]
[241,null,{"$f":"IF(ISBLANK($B245),\"\",LOOKUP($B245,Inscriptions!A$2:A$65496,Inscriptions!B$2:B$65498))","v":""},{"$f":"IF(ISBLANK($B245),\"\",LOOKUP($B245,Inscriptions!A$2:A$65496,Inscriptions!C$2:C$65498))","v":""},{"$f":"IF(ISBLANK($B245),\"\",LOOKUP($B245,Inscriptions!A$2:A$65496,Inscriptions!D$2:D$65498))","v":""},null,null,null,null,null,null,0,0,0,"",""]
[242,null,{"$f":"IF(ISBLANK($B246),\"\",LOOKUP($B246,Inscriptions!A$2:A$65496,Inscriptions!B$2:B$65498))","v":""},{"$f":"IF(ISBLANK($B246),\"\",LOOKUP($B246,Inscriptions!A$2:A$65496,Inscriptions!C$2:C$65498))","v":""},{"$f":"IF(ISBLANK($B246),\"\",LOOKUP($B246,Inscriptions!A$2:A$65496,Inscriptions!D$2:D$65498))","v":""},null,null,null,null,null,null,0,0,0,"",""]
[243,null,{"$f":"IF(ISBLANK($B247),\"\",LOOKUP($B247,Inscriptions!A$2:A$65496,Inscriptions!B$2:B$65498))","v":""},{"$f":"IF(ISBLANK($B247),\"\",LOOKUP($B247,Inscriptions!A$2:A$65496,Inscriptions!C$2:C$65498))","v":""},{"$f":"IF(ISBLANK($B247),\"\",LOOKUP($B247,Inscriptions!A$2:A$65496,Inscriptions!D$2:D$65498))","v":""},null,null,null,null,null,null,0,0,0,"",""]
[244,null,{"$f":"IF(ISBLANK($B248),\"\",LOOKUP($B248,Inscriptions!A$2:A$65496,Inscriptions!B$2:B$65498))","v":""},{"$f":"IF(ISBLANK($B248),\"\",LOOKUP($B248,Inscriptions!A$2:A$65496,Inscriptions!C$2:C$65498))","v":""},{"$f":"IF(ISBLANK($B248),\"\",LOOKUP($B248,Inscriptions!A$2:A$65496,Inscriptions!D$2:D$65498))","v":""},null,null,null,null,null,null,0,0,0,"",""]
[245,null,{"$f":"IF(ISBLANK($B249),\"\",LOOKUP($B249,Inscriptions!A$2:A$65496,Inscriptions!B$2:B$65498))","v":""},{"$f":"IF(ISBLANK($B249),\"\",LOOKUP($B249,Inscriptions!A$2:A$65496,Inscriptions!C$2:C$65498))","v":""},{"$f":"IF(ISBLANK($B249),\"\",LOOKUP($B249,Inscriptions!A$2:A$65496,Inscriptions!D$2:D$65498))","v":""},null,null,null,null,null,null,0,0,0,"",""]
[246,null,{"$f":"IF(ISBLANK($B250),\"\",LOOKUP($B250,Inscriptions!A$2:A$65496,Inscriptions!B$2:B$65498))","v":""},{"$f":"IF(ISBLANK($B250),\"\",LOOKUP($B250,Inscriptions!A$2:A$65496,Inscriptions!C$2:C$65498))","v":""},{"$f":"IF(ISBLANK($B250),\"\",LOOKUP($B250,Inscriptions!A$2:A$65496,Inscriptions!D$2:D$65498))","v":""},null,null,null,null,null,null,0,0,0,"",""]
[247,null,{"$f":"IF(ISBLANK($B251),\"\",LOOKUP($B251,Inscriptions!A$2:A$65496,Inscriptions!B$2:B$65498))","v":""},{"$f":"IF(ISBLANK($B251),\"\",LOOKUP($B251,Inscriptions!A$2:A$65496,Inscriptions!C$2:C$65498))","v":""},{"$f":"IF(ISBLANK($B251),\"\",LOOKUP($B251,Inscriptions!A$2:A$65496,Inscriptions!D$2:D$65498))","v":""},null,null,null,null,null,null,0,0,0,"",""]
[248,null,{"$f":"IF(ISBLANK($B252),\"\",LOOKUP($B252,Inscriptions!A$2:A$65496,Inscriptions!B$2:B$65498))","v":""},{"$f":"IF(ISBLANK($B252),\"\",LOOKUP($B252,Inscriptions!A$2:A$65496,Inscriptions!C$2:C$65498))","v":""},{"$f":"IF(ISBLANK($B252),\"\",LOOKUP($B252,Inscriptions!A$2:A$65496,Inscriptions!D$2:D$65498))","v":""},null,null,null,null,null,null,0,0,0,"",""]
[249,null,{"$f":"IF(ISBLANK($B253),\"\",LOOKUP($B253,Inscriptions!A$2:A$65496,Inscriptions!B$2:B$65498))","v":""},{"$f":"IF(ISBLANK($B253),\"\",LOOKUP($B253,Inscriptions!A$2:A$65496,Inscriptions!C$2:C$65498))","v":""},{"$f":"IF(ISBLANK($B253),\"\",LOOKUP($B253,Inscriptions!A$2:A$65496,Inscriptions!D$2:D$65498))","v":""},null,null,null,null,null,null,0,0,0,"",""]
[250,null,{"$f":"IF(ISBLANK($B254),\"\",LOOKUP($B254,Inscriptions!A$2:A$65496,Inscriptions!B$2:B$65498))","v":""},{"$f":"IF(ISBLANK($B254),\"\",LOOKUP($B254,Inscriptions!A$2:A$65496,Inscriptions!C$2:C$65498))","v":""},{"$f":"IF(ISBLANK($B254),\"\",LOOKUP($B254,Inscriptions!A$2:A$65496,Inscriptions!D$2:D$65498))","v":""},null,null,null,null,null,null,0,0,0,"",""]
[251,null,{"$f":"IF(ISBLANK($B255),\"\",LOOKUP($B255,Inscriptions!A$2:A$65496,Inscriptions!B$2:B$65498))","v":""},{"$f":"IF(ISBLANK($B255),\"\",LOOKUP($B255,Inscriptions!A$2:A$65496,Inscriptions!C$2:C$65498))","v":""},{"$f":"IF(ISBLANK($B255),\"\",LOOKUP($B255,Inscriptions!A$2:A$65496,Inscriptions!D$2:D$65498))","v":""},null,null,null,null,null,null,0,0,0,"",""]
[252,null,{"$f":"IF(ISBLANK($B256),\"\",LOOKUP($B256,Inscriptions!A$2:A$65496,Inscriptions!B$2:B$65498))","v":""},{"$f":"IF(ISBLANK($B256),\"\",LOOKUP($B256,Inscriptions!A$2:A$65496,Inscriptions!C$2:C$65498))","v":""},{"$f":"IF(ISBLANK($B256),\"\",LOOKUP($B256,Inscriptions!A$2:A$65496,Inscriptions!D$2:D$65498))","v":""},null,null,null,null,null,null,0,0,0,"",""]
[253,null,{"$f":"IF(ISBLANK($B257),\"\",LOOKUP($B257,Inscriptions!A$2:A$65496,Inscriptions!B$2:B$65498))","v":""},{"$f":"IF(ISBLANK($B257),\"\",LOOKUP($B257,Inscriptions!A$2:A$65496,Inscriptions!C$2:C$65498))","v":""},{"$f":"IF(ISBLANK($B257),\"\",LOOKUP($B257,Inscriptions!A$2:A$65496,Inscriptions!D$2:D$65498))","v":""},null,null,null,null,null,null,0,0,0,"",""]
[254,null,{"$f":"IF(ISBLANK($B258),\"\",LOOKUP($B258,Inscriptions!A$2:A$65496,Inscriptions!B$2:B$65498))","v":""},{"$f":"IF(ISBLANK($B258),\"\",LOOKUP($B258,Inscriptions!A$2:A$65496,Inscriptions!C$2:C$65498))","v":""},{"$f":"IF(ISBLANK($B258),\"\",LOOKUP($B258,Inscriptions!A$2:A$65496,Inscriptions!D$2:D$65498))","v":""},null,null,null,null,null,null,0,0,0,"",""]
[255,null,{"$f":"IF(ISBLANK($B259),\"\",LOOKUP($B259,Inscriptions!A$2:A$65496,Inscriptions!B$2:B$65498))","v":""},{"$f":"IF(ISBLANK($B259),\"\",LOOKUP($B259,Inscriptions!A$2:A$65496,Inscriptions!C$2:C$65498))","v":""},{"$f":"IF(ISBLANK($B259),\"\",LOOKUP($B259,Inscriptions!A$2:A$65496,Inscriptions!D$2:D$65498))","v":""},null,null,null,null,null,null,0,0,0,"",""]
[256,null,{"$f":"IF(ISBLANK($B260),\"\",LOOKUP($B260,Inscriptions!A$2:A$65496,Inscriptions!B$2:B$65498))","v":""},{"$f":"IF(ISBLANK($B260),\"\",LOOKUP($B260,Inscriptions!A$2:A$65496,Inscriptions!C$2:C$65498))","v":""},{"$f":"IF(ISBLANK($B260),\"\",LOOKUP($B260,Inscriptions!A$2:A$65496,Inscriptions!D$2:D$65498))","v":""},null,null,null,null,null,null,0,0,0,"",""]
[257,null,{"$f":"IF(ISBLANK($B261),\"\",LOOKUP($B261,Inscriptions!A$2:A$65496,Inscriptions!B$2:B$65498))","v":""},{"$f":"IF(ISBLANK($B261),\"\",LOOKUP($B261,Inscriptions!A$2:A$65496,Inscriptions!C$2:C$65498))","v":""},{"$f":"IF(ISBLANK($B261),\"\",LOOKUP($B261,Inscriptions!A$2:A$65496,Inscriptions!D$2:D$65498))","v":""},null,null,null,null,null,null,{"$f":"ROUNDDOWN(K261/10000,0)","v":0},0,0,{"$f":"IF((L261+M261+N261)=0,\"\",ROUNDDOWN((O$4/((L261*3600)+(M261*60)+N261))*3.6,2))","v":""},{"$f":"IF(O261=\"\",\"\",\"km/h\")","v":""}]
[258,null,{"$f":"IF(ISBLANK($B262),\"\",LOOKUP($B262,Inscriptions!A$2:A$65496,Inscriptions!B$2:B$65498))","v":""},{"$f":"IF(ISBLANK($B262),\"\",LOOKUP($B262,Inscriptions!A$2:A$65496,Inscriptions!C$2:C$65498))","v":""},{"$f":"IF(ISBLANK($B262),\"\",LOOKUP($B262,Inscriptions!A$2:A$65496,Inscriptions!D$2:D$65498))","v":""},null,null,null,null,null,null,0,0,0,"",""]
[259,null,{"$f":"IF(ISBLANK($B263),\"\",LOOKUP($B263,Inscriptions!A$2:A$65496,Inscriptions!B$2:B$65498))","v":""},{"$f":"IF(ISBLANK($B263),\"\",LOOKUP($B263,Inscriptions!A$2:A$65496,Inscriptions!C$2:C$65498))","v":""},{"$f":"IF(ISBLANK($B263),\"\",LOOKUP($B263,Inscriptions!A$2:A$65496,Inscriptions!D$2:D$65498))","v":""},null,null,null,null,null,null,0,0,0,"",""]
[260,null,{"$f":"IF(ISBLANK($B264),\"\",LOOKUP($B264,Inscriptions!A$2:A$65496,Inscriptions!B$2:B$65498))","v":""},{"$f":"IF(ISBLANK($B264),\"\",LOOKUP($B264,Inscriptions!A$2:A$65496,Inscriptions!C$2:C$65498))","v":""},{"$f":"IF(ISBLANK($B264),\"\",LOOKUP($B264,Inscriptions!A$2:A$65496,Inscriptions!D$2:D$65498))","v":""},null,null,null,null,null,null,0,0,0,"",""]
[261,null,{"$f":"IF(ISBLANK($B265),\"\",LOOKUP($B265,Inscriptions!A$2:A$65496,Inscriptions!B$2:B$65498))","v":""},{"$f":"IF(ISBLANK($B265),\"\",LOOKUP($B265,Inscriptions!A$2:A$65496,Inscriptions!C$2:C$65498))","v":""},{"$f":"IF(ISBLANK($B265),\"\",LOOKUP($B265,Inscriptions!A$2:A$65496,Inscriptions!D$2:D$65498))","v":""},null,null,null,null,null,null,0,0,0,"",""]
[262,null,{"$f":"IF(ISBLANK($B266),\"\",LOOKUP($B266,Inscriptions!A$2:A$65496,Inscriptions!B$2:B$65498))","v":""},{"$f":"IF(ISBLANK($B266),\"\",LOOKUP($B266,Inscriptions!A$2:A$65496,Inscriptions!C$2:C$65498))","v":""},{"$f":"IF(ISBLANK($B266),\"\",LOOKUP($B266,Inscriptions!A$2:A$65496,Inscriptions!D$2:D$65498))","v":""},null,null,null,null,null,null,0,0,0,"",""]
[263,null,{"$f":"IF(ISBLANK($B267),\"\",LOOKUP($B267,Inscriptions!A$2:A$65496,Inscriptions!B$2:B$65498))","v":""},{"$f":"IF(ISBLANK($B267),\"\",LOOKUP($B267,Inscriptions!A$2:A$65496,Inscriptions!C$2:C$65498))","v":""},{"$f":"IF(ISBLANK($B267),\"\",LOOKUP($B267,Inscriptions!A$2:A$65496,Inscriptions!D$2:D$65498))","v":""},null,null,null,null,null,null,0,0,0,"",""]
[264,null,{"$f":"IF(ISBLANK($B268),\"\",LOOKUP($B268,Inscriptions!A$2:A$65496,Inscriptions!B$2:B$65498))","v":""},{"$f":"IF(ISBLANK($B268),\"\",LOOKUP($B268,Inscriptions!A$2:A$65496,Inscriptions!C$2:C$65498))","v":""},{"$f":"IF(ISBLANK($B268),\"\",LOOKUP($B268,Inscriptions!A$2:A$65496,Inscriptions!D$2:D$65498))","v":""},null,null,null,null,null,null,0,0,0,"",""]
[265,null,{"$f":"IF(ISBLANK($B269),\"\",LOOKUP($B269,Inscriptions!A$2:A$65496,Inscriptions!B$2:B$65498))","v":""},{"$f":"IF(ISBLANK($B269),\"\",LOOKUP($B269,Inscriptions!A$2:A$65496,Inscriptions!C$2:C$65498))","v":""},{"$f":"IF(ISBLANK($B269),\"\",LOOKUP($B269,Inscriptions!A$2:A$65496,Inscriptions!D$2:D$65498))","v":""},null,null,null,null,null,null,0,0,0,"",""]
[266,null,{"$f":"IF(ISBLANK($B270),\"\",LOOKUP($B270,Inscriptions!A$2:A$65496,Inscriptions!B$2:B$65498))","v":""},{"$f":"IF(ISBLANK($B270),\"\",LOOKUP($B270,Inscriptions!A$2:A$65496,Inscriptions!C$2:C$65498))","v":""},{"$f":"IF(ISBLANK($B270),\"\",LOOKUP($B270,Inscriptions!A$2:A$65496,Inscriptions!D$2:D$65498))","v":""},null,null,null,null,null,null,0,0,0,"",""]
[267,null,{"$f":"IF(ISBLANK($B271),\"\",LOOKUP($B271,Inscriptions!A$2:A$65496,Inscriptions!B$2:B$65498))","v":""},{"$f":"IF(ISBLANK($B271),\"\",LOOKUP($B271,Inscriptions!A$2:A$65496,Inscriptions!C$2:C$65498))","v":""},{"$f":"IF(ISBLANK($B271),\"\",LOOKUP($B271,Inscriptions!A$2:A$65496,Inscriptions!D$2:D$65498))","v":""},null,null,null,null,null,null,0,0,0,"",""]
[268,null,{"$f":"IF(ISBLANK($B272),\"\",LOOKUP($B272,Inscriptions!A$2:A$65496,Inscriptions!B$2:B$65498))","v":""},{"$f":"IF(ISBLANK($B272),\"\",LOOKUP($B272,Inscriptions!A$2:A$65496,Inscriptions!C$2:C$65498))","v":""},{"$f":"IF(ISBLANK($B272),\"\",LOOKUP($B272,Inscriptions!A$2:A$65496,Inscriptions!D$2:D$65498))","v":""},null,null,null,null,null,null,0,0,0,"",""]
[269,null,{"$f":"IF(ISBLANK($B273),\"\",LOOKUP($B273,Inscriptions!A$2:A$65496,Inscriptions!B$2:B$65498))","v":""},{"$f":"IF(ISBLANK($B273),\"\",LOOKUP($B273,Inscriptions!A$2:A$65496,Inscriptions!C$2:C$65498))","v":""},{"$f":"IF(ISBLANK($B273),\"\",LOOKUP($B273,Inscriptions!A$2:A$65496,Inscriptions!D$2:D$65498))","v":""},null,null,null,null,null,null,0,0,0,"",""]
[270,null,{"$f":"IF(ISBLANK($B274),\"\",LOOKUP($B274,Inscriptions!A$2:A$65496,Inscriptions!B$2:B$65498))","v":""},{"$f":"IF(ISBLANK($B274),\"\",LOOKUP($B274,Inscriptions!A$2:A$65496,Inscriptions!C$2:C$65498))","v":""},{"$f":"IF(ISBLANK($B274),\"\",LOOKUP($B274,Inscriptions!A$2:A$65496,Inscriptions!D$2:D$65498))","v":""},null,null,null,null,null,null,0,0,0,"",""]
[271,null,{"$f":"IF(ISBLANK($B275),\"\",LOOKUP($B275,Inscriptions!A$2:A$65496,Inscriptions!B$2:B$65498))","v":""},{"$f":"IF(ISBLANK($B275),\"\",LOOKUP($B275,Inscriptions!A$2:A$65496,Inscriptions!C$2:C$65498))","v":""},{"$f":"IF(ISBLANK($B275),\"\",LOOKUP($B275,Inscriptions!A$2:A$65496,Inscriptions!D$2:D$65498))","v":""},null,null,null,null,null,null,0,0,0,"",""]
[272,null,{"$f":"IF(ISBLANK($B276),\"\",LOOKUP($B276,Inscriptions!A$2:A$65496,Inscriptions!B$2:B$65498))","v":""},{"$f":"IF(ISBLANK($B276),\"\",LOOKUP($B276,Inscriptions!A$2:A$65496,Inscriptions!C$2:C$65498))","v":""},{"$f":"IF(ISBLANK($B276),\"\",LOOKUP($B276,Inscriptions!A$2:A$65496,Inscriptions!D$2:D$65498))","v":""},null,null,null,null,null,null,0,0,0,"",""]
[273,null,{"$f":"IF(ISBLANK($B277),\"\",LOOKUP($B277,Inscriptions!A$2:A$65496,Inscriptions!B$2:B$65498))","v":""},{"$f":"IF(ISBLANK($B277),\"\",LOOKUP($B277,Inscriptions!A$2:A$65496,Inscriptions!C$2:C$65498))","v":""},{"$f":"IF(ISBLANK($B277),\"\",LOOKUP($B277,Inscriptions!A$2:A$65496,Inscriptions!D$2:D$65498))","v":""},null,null,null,null,null,null,0,0,0,"",""]
[274,null,{"$f":"IF(ISBLANK($B278),\"\",LOOKUP($B278,Inscriptions!A$2:A$65496,Inscriptions!B$2:B$65498))","v":""},{"$f":"IF(ISBLANK($B278),\"\",LOOKUP($B278,Inscriptions!A$2:A$65496,Inscriptions!C$2:C$65498))","v":""},{"$f":"IF(ISBLANK($B278),\"\",LOOKUP($B278,Inscriptions!A$2:A$65496,Inscriptions!D$2:D$65498))","v":""},null,null,null,null,null,null,0,0,0,"",""]
[275,null,{"$f":"IF(ISBLANK($B279),\"\",LOOKUP($B279,Inscriptions!A$2:A$65496,Inscriptions!B$2:B$65498))","v":""},{"$f":"IF(ISBLANK($B279),\"\",LOOKUP($B279,Inscriptions!A$2:A$65496,Inscriptions!C$2:C$65498))","v":""},{"$f":"IF(ISBLANK($B279),\"\",LOOKUP($B279,Inscriptions!A$2:A$65496,Inscriptions!D$2:D$65498))","v":""},null,null,null,null,null,null,0,0,0,"",""]
[276,null,{"$f":"IF(ISBLANK($B280),\"\",LOOKUP($B280,Inscriptions!A$2:A$65496,Inscriptions!B$2:B$65498))","v":""},{"$f":"IF(ISBLANK($B280),\"\",LOOKUP($B280,Inscriptions!A$2:A$65496,Inscriptions!C$2:C$65498))","v":""},{"$f":"IF(ISBLANK($B280),\"\",LOOKUP($B280,Inscriptions!A$2:A$65496,Inscriptions!D$2:D$65498))","v":""},null,null,null,null,null,null,0,0,0,"",""]
[277,null,{"$f":"IF(ISBLANK($B281),\"\",LOOKUP($B281,Inscriptions!A$2:A$65496,Inscriptions!B$2:B$65498))","v":""},{"$f":"IF(ISBLANK($B281),\"\",LOOKUP($B281,Inscriptions!A$2:A$65496,Inscriptions!C$2:C$65498))","v":""},{"$f":"IF(ISBLANK($B281),\"\",LOOKUP($B281,Inscriptions!A$2:A$65496,Inscriptions!D$2:D$65498))","v":""},null,null,null,null,null,null,0,0,0,"",""]
[278,null,{"$f":"IF(ISBLANK($B282),\"\",LOOKUP($B282,Inscriptions!A$2:A$65496,Inscriptions!B$2:B$65498))","v":""},{"$f":"IF(ISBLANK($B282),\"\",LOOKUP($B282,Inscriptions!A$2:A$65496,Inscriptions!C$2:C$65498))","v":""},{"$f":"IF(ISBLANK($B282),\"\",LOOKUP($B282,Inscriptions!A$2:A$65496,Inscriptions!D$2:D$65498))","v":""},null,null,null,null,null,null,0,0,0,"",""]
[279,null,{"$f":"IF(ISBLANK($B283),\"\",LOOKUP($B283,Inscriptions!A$2:A$65496,Inscriptions!B$2:B$65498))","v":""},{"$f":"IF(ISBLANK($B283),\"\",LOOKUP($B283,Inscriptions!A$2:A$65496,Inscriptions!C$2:C$65498))","v":""},{"$f":"IF(ISBLANK($B283),\"\",LOOKUP($B283,Inscriptions!A$2:A$65496,Inscriptions!D$2:D$65498))","v":""},null,null,null,null,null,null,0,0,0,"",""]
[280,null,{"$f":"IF(ISBLANK($B284),\"\",LOOKUP($B284,Inscriptions!A$2:A$65496,Inscriptions!B$2:B$65498))","v":""},{"$f":"IF(ISBLANK($B284),\"\",LOOKUP($B284,Inscriptions!A$2:A$65496,Inscriptions!C$2:C$65498))","v":""},{"$f":"IF(ISBLANK($B284),\"\",LOOKUP($B284,Inscriptions!A$2:A$65496,Inscriptions!D$2:D$65498))","v":""},null,null,null,null,null,null,0,0,0,"",""]
[281,null,{"$f":"IF(ISBLANK($B285),\"\",LOOKUP($B285,Inscriptions!A$2:A$65496,Inscriptions!B$2:B$65498))","v":""},{"$f":"IF(ISBLANK($B285),\"\",LOOKUP($B285,Inscriptions!A$2:A$65496,Inscriptions!C$2:C$65498))","v":""},{"$f":"IF(ISBLANK($B285),\"\",LOOKUP($B285,Inscriptions!A$2:A$65496,Inscriptions!D$2:D$65498))","v":""},null,null,null,null,null,null,0,0,0,"",""]
[282,null,{"$f":"IF(ISBLANK($B286),\"\",LOOKUP($B286,Inscriptions!A$2:A$65496,Inscriptions!B$2:B$65498))","v":""},{"$f":"IF(ISBLANK($B286),\"\",LOOKUP($B286,Inscriptions!A$2:A$65496,Inscriptions!C$2:C$65498))","v":""},{"$f":"IF(ISBLANK($B286),\"\",LOOKUP($B286,Inscriptions!A$2:A$65496,Inscriptions!D$2:D$65498))","v":""},null,null,null,null,null,null,0,0,0,"",""]
[283,null,{"$f":"IF(ISBLANK($B287),\"\",LOOKUP($B287,Inscriptions!A$2:A$65496,Inscriptions!B$2:B$65498))","v":""},{"$f":"IF(ISBLANK($B287),\"\",LOOKUP($B287,Inscriptions!A$2:A$65496,Inscriptions!C$2:C$65498))","v":""},{"$f":"IF(ISBLANK($B287),\"\",LOOKUP($B287,Inscriptions!A$2:A$65496,Inscriptions!D$2:D$65498))","v":""},null,null,null,null,null,null,0,0,0,"",""]
[284,null,{"$f":"IF(ISBLANK($B288),\"\",LOOKUP($B288,Inscriptions!A$2:A$65496,Inscriptions!B$2:B$65498))","v":""},{"$f":"IF(ISBLANK($B288),\"\",LOOKUP($B288,Inscriptions!A$2:A$65496,Inscriptions!C$2:C$65498))","v":""},{"$f":"IF(ISBLANK($B288),\"\",LOOKUP($B288,Inscriptions!A$2:A$65496,Inscriptions!D$2:D$65498))","v":""},null,null,null,null,null,null,0,0,0,"",""]
[285,null,{"$f":"IF(ISBLANK($B289),\"\",LOOKUP($B289,Inscriptions!A$2:A$65496,Inscriptions!B$2:B$65498))","v":""},{"$f":"IF(ISBLANK($B289),\"\",LOOKUP($B289,Inscriptions!A$2:A$65496,Inscriptions!C$2:C$65498))","v":""},{"$f":"IF(ISBLANK($B289),\"\",LOOKUP($B289,Inscriptions!A$2:A$65496,Inscriptions!D$2:D$65498))","v":""},null,null,null,null,null,null,0,0,0,"",""]
[286,null,{"$f":"IF(ISBLANK($B290),\"\",LOOKUP($B290,Inscriptions!A$2:A$65496,Inscriptions!B$2:B$65498))","v":""},{"$f":"IF(ISBLANK($B290),\"\",LOOKUP($B290,Inscriptions!A$2:A$65496,Inscriptions!C$2:C$65498))","v":""},{"$f":"IF(ISBLANK($B290),\"\",LOOKUP($B290,Inscriptions!A$2:A$65496,Inscriptions!D$2:D$65498))","v":""},null,null,null,null,null,null,0,0,0,"",""]
[287,null,{"$f":"IF(ISBLANK($B291),\"\",LOOKUP($B291,Inscriptions!A$2:A$65496,Inscriptions!B$2:B$65498))","v":""},{"$f":"IF(ISBLANK($B291),\"\",LOOKUP($B291,Inscriptions!A$2:A$65496,Inscriptions!C$2:C$65498))","v":""},{"$f":"IF(ISBLANK($B291),\"\",LOOKUP($B291,Inscriptions!A$2:A$65496,Inscriptions!D$2:D$65498))","v":""},null,null,null,null,null,null,0,0,0,"",""]
[288,null,{"$f":"IF(ISBLANK($B292),\"\",LOOKUP($B292,Inscriptions!A$2:A$65496,Inscriptions!B$2:B$65498))","v":""},{"$f":"IF(ISBLANK($B292),\"\",LOOKUP($B292,Inscriptions!A$2:A$65496,Inscriptions!C$2:C$65498))","v":""},{"$f":"IF(ISBLANK($B292),\"\",LOOKUP($B292,Inscriptions!A$2:A$65496,Inscriptions!D$2:D$65498))","v":""},null,null,null,null,null,null,0,0,0,"",""]
[289,null,{"$f":"IF(ISBLANK($B293),\"\",LOOKUP($B293,Inscriptions!A$2:A$65496,Inscriptions!B$2:B$65498))","v":""},{"$f":"IF(ISBLANK($B293),\"\",LOOKUP($B293,Inscriptions!A$2:A$65496,Inscriptions!C$2:C$65498))","v":""},{"$f":"IF(ISBLANK($B293),\"\",LOOKUP($B293,Inscriptions!A$2:A$65496,Inscriptions!D$2:D$65498))","v":""},null,null,null,null,null,null,0,0,0,"",""]
[290,null,{"$f":"IF(ISBLANK($B294),\"\",LOOKUP($B294,Inscriptions!A$2:A$65496,Inscriptions!B$2:B$65498))","v":""},{"$f":"IF(ISBLANK($B294),\"\",LOOKUP($B294,Inscriptions!A$2:A$65496,Inscriptions!C$2:C$65498))","v":""},{"$f":"IF(ISBLANK($B294),\"\",LOOKUP($B294,Inscriptions!A$2:A$65496,Inscriptions!D$2:D$65498))","v":""},null,null,null,null,null,null,0,0,0,"",""]
[291,null,{"$f":"IF(ISBLANK($B295),\"\",LOOKUP($B295,Inscriptions!A$2:A$65496,Inscriptions!B$2:B$65498))","v":""},{"$f":"IF(ISBLANK($B295),\"\",LOOKUP($B295,Inscriptions!A$2:A$65496,Inscriptions!C$2:C$65498))","v":""},{"$f":"IF(ISBLANK($B295),\"\",LOOKUP($B295,Inscriptions!A$2:A$65496,Inscriptions!D$2:D$65498))","v":""},null,null,null,null,null,null,0,{"$f":"ROUNDDOWN((K295-L295*10000)/100,0)","v":0},{"$f":"ROUNDDOWN((K295-(L295*10000)-(M295*100)),0)","v":0},"",""]
[292,null,{"$f":"IF(ISBLANK($B296),\"\",LOOKUP($B296,Inscriptions!A$2:A$65496,Inscriptions!B$2:B$65498))","v":""},{"$f":"IF(ISBLANK($B296),\"\",LOOKUP($B296,Inscriptions!A$2:A$65496,Inscriptions!C$2:C$65498))","v":""},{"$f":"IF(ISBLANK($B296),\"\",LOOKUP($B296,Inscriptions!A$2:A$65496,Inscriptions!D$2:D$65498))","v":""},null,null,null,null,null,null,0,0,0,"",""]
[293,null,{"$f":"IF(ISBLANK($B297),\"\",LOOKUP($B297,Inscriptions!A$2:A$65496,Inscriptions!B$2:B$65498))","v":""},{"$f":"IF(ISBLANK($B297),\"\",LOOKUP($B297,Inscriptions!A$2:A$65496,Inscriptions!C$2:C$65498))","v":""},{"$f":"IF(ISBLANK($B297),\"\",LOOKUP($B297,Inscriptions!A$2:A$65496,Inscriptions!D$2:D$65498))","v":""},null,null,null,null,null,null,0,0,0,"",""]
[294,null,{"$f":"IF(ISBLANK($B298),\"\",LOOKUP($B298,Inscriptions!A$2:A$65496,Inscriptions!B$2:B$65498))","v":""},{"$f":"IF(ISBLANK($B298),\"\",LOOKUP($B298,Inscriptions!A$2:A$65496,Inscriptions!C$2:C$65498))","v":""},{"$f":"IF(ISBLANK($B298),\"\",LOOKUP($B298,Inscriptions!A$2:A$65496,Inscriptions!D$2:D$65498))","v":""},null,null,null,null,null,null,0,0,0,"",""]
[295,null,{"$f":"IF(ISBLANK($B299),\"\",LOOKUP($B299,Inscriptions!A$2:A$65496,Inscriptions!B$2:B$65498))","v":""},{"$f":"IF(ISBLANK($B299),\"\",LOOKUP($B299,Inscriptions!A$2:A$65496,Inscriptions!C$2:C$65498))","v":""},{"$f":"IF(ISBLANK($B299),\"\",LOOKUP($B299,Inscriptions!A$2:A$65496,Inscriptions!D$2:D$65498))","v":""},null,null,null,null,null,null,0,0,0,"",""]
[296,null,{"$f":"IF(ISBLANK($B300),\"\",LOOKUP($B300,Inscriptions!A$2:A$65496,Inscriptions!B$2:B$65498))","v":""},{"$f":"IF(ISBLANK($B300),\"\",LOOKUP($B300,Inscriptions!A$2:A$65496,Inscriptions!C$2:C$65498))","v":""},{"$f":"IF(ISBLANK($B300),\"\",LOOKUP($B300,Inscriptions!A$2:A$65496,Inscriptions!D$2:D$65498))","v":""},null,null,null,null,null,null,0,0,0,"",""]
[297,null,{"$f":"IF(ISBLANK($B301),\"\",LOOKUP($B301,Inscriptions!A$2:A$65496,Inscriptions!B$2:B$65498))","v":""},{"$f":"IF(ISBLANK($B301),\"\",LOOKUP($B301,Inscriptions!A$2:A$65496,Inscriptions!C$2:C$65498))","v":""},{"$f":"IF(ISBLANK($B301),\"\",LOOKUP($B301,Inscriptions!A$2:A$65496,Inscriptions!D$2:D$65498))","v":""},null,null,null,null,null,null,0,0,0,"",""]
[298,null,{"$f":"IF(ISBLANK($B302),\"\",LOOKUP($B302,Inscriptions!A$2:A$65496,Inscriptions!B$2:B$65498))","v":""},{"$f":"IF(ISBLANK($B302),\"\",LOOKUP($B302,Inscriptions!A$2:A$65496,Inscriptions!C$2:C$65498))","v":""},{"$f":"IF(ISBLANK($B302),\"\",LOOKUP($B302,Inscriptions!A$2:A$65496,Inscriptions!D$2:D$65498))","v":""},null,null,null,null,null,null,0,0,0,"",""]
[299,null,{"$f":"IF(ISBLANK($B303),\"\",LOOKUP($B303,Inscriptions!A$2:A$65496,Inscriptions!B$2:B$65498))","v":""},{"$f":"IF(ISBLANK($B303),\"\",LOOKUP($B303,Inscriptions!A$2:A$65496,Inscriptions!C$2:C$65498))","v":""},{"$f":"IF(ISBLANK($B303),\"\",LOOKUP($B303,Inscriptions!A$2:A$65496,Inscriptions!D$2:D$65498))","v":""},null,null,null,null,null,null,0,0,0,"",""]
[300,null,{"$f":"IF(ISBLANK($B304),\"\",LOOKUP($B304,Inscriptions!A$2:A$65496,Inscriptions!B$2:B$65498))","v":""},{"$f":"IF(ISBLANK($B304),\"\",LOOKUP($B304,Inscriptions!A$2:A$65496,Inscriptions!C$2:C$65498))","v":""},{"$f":"IF(ISBLANK($B304),\"\",LOOKUP($B304,Inscriptions!A$2:A$65496,Inscriptions!D$2:D$65498))","v":""},null,null,null,null,null,null,0,0,0,"",""]
[301,null,{"$f":"IF(ISBLANK($B305),\"\",LOOKUP($B305,Inscriptions!A$2:A$65496,Inscriptions!B$2:B$65498))","v":""},{"$f":"IF(ISBLANK($B305),\"\",LOOKUP($B305,Inscriptions!A$2:A$65496,Inscriptions!C$2:C$65498))","v":""},{"$f":"IF(ISBLANK($B305),\"\",LOOKUP($B305,Inscriptions!A$2:A$65496,Inscriptions!D$2:D$65498))","v":""},null,null,null,null,null,null,0,0,0,"",""]
[302,null,{"$f":"IF(ISBLANK($B306),\"\",LOOKUP($B306,Inscriptions!A$2:A$65496,Inscriptions!B$2:B$65498))","v":""},{"$f":"IF(ISBLANK($B306),\"\",LOOKUP($B306,Inscriptions!A$2:A$65496,Inscriptions!C$2:C$65498))","v":""},{"$f":"IF(ISBLANK($B306),\"\",LOOKUP($B306,Inscriptions!A$2:A$65496,Inscriptions!D$2:D$65498))","v":""},null,null,null,null,null,null,0,0,0,"",""]
[303,null,{"$f":"IF(ISBLANK($B307),\"\",LOOKUP($B307,Inscriptions!A$2:A$65496,Inscriptions!B$2:B$65498))","v":""},{"$f":"IF(ISBLANK($B307),\"\",LOOKUP($B307,Inscriptions!A$2:A$65496,Inscriptions!C$2:C$65498))","v":""},{"$f":"IF(ISBLANK($B307),\"\",LOOKUP($B307,Inscriptions!A$2:A$65496,Inscriptions!D$2:D$65498))","v":""},null,null,null,null,null,null,0,0,0,"",""]
[304,null,{"$f":"IF(ISBLANK($B308),\"\",LOOKUP($B308,Inscriptions!A$2:A$65496,Inscriptions!B$2:B$65498))","v":""},{"$f":"IF(ISBLANK($B308),\"\",LOOKUP($B308,Inscriptions!A$2:A$65496,Inscriptions!C$2:C$65498))","v":""},{"$f":"IF(ISBLANK($B308),\"\",LOOKUP($B308,Inscriptions!A$2:A$65496,Inscriptions!D$2:D$65498))","v":""},null,null,null,null,null,null,0,0,0,"",""]
[305,null,{"$f":"IF(ISBLANK($B309),\"\",LOOKUP($B309,Inscriptions!A$2:A$65496,Inscriptions!B$2:B$65498))","v":""},{"$f":"IF(ISBLANK($B309),\"\",LOOKUP($B309,Inscriptions!A$2:A$65496,Inscriptions!C$2:C$65498))","v":""},{"$f":"IF(ISBLANK($B309),\"\",LOOKUP($B309,Inscriptions!A$2:A$65496,Inscriptions!D$2:D$65498))","v":""},null,null,null,null,null,null,0,0,0,"",""]
[306,null,{"$f":"IF(ISBLANK($B310),\"\",LOOKUP($B310,Inscriptions!A$2:A$65496,Inscriptions!B$2:B$65498))","v":""},{"$f":"IF(ISBLANK($B310),\"\",LOOKUP($B310,Inscriptions!A$2:A$65496,Inscriptions!C$2:C$65498))","v":""},{"$f":"IF(ISBLANK($B310),\"\",LOOKUP($B310,Inscriptions!A$2:A$65496,Inscriptions!D$2:D$65498))","v":""},null,null,null,null,null,null,0,0,0,"",""]
[307,null,{"$f":"IF(ISBLANK($B311),\"\",LOOKUP($B311,Inscriptions!A$2:A$65496,Inscriptions!B$2:B$65498))","v":""},{"$f":"IF(ISBLANK($B311),\"\",LOOKUP($B311,Inscriptions!A$2:A$65496,Inscriptions!C$2:C$65498))","v":""},{"$f":"IF(ISBLANK($B311),\"\",LOOKUP($B311,Inscriptions!A$2:A$65496,Inscriptions!D$2:D$65498))","v":""},null,null,null,null,null,null,0,0,0,"",""]
[308,null,{"$f":"IF(ISBLANK($B312),\"\",LOOKUP($B312,Inscriptions!A$2:A$65496,Inscriptions!B$2:B$65498))","v":""},{"$f":"IF(ISBLANK($B312),\"\",LOOKUP($B312,Inscriptions!A$2:A$65496,Inscriptions!C$2:C$65498))","v":""},{"$f":"IF(ISBLANK($B312),\"\",LOOKUP($B312,Inscriptions!A$2:A$65496,Inscriptions!D$2:D$65498))","v":""},null,null,null,null,null,null,0,0,0,"",""]
[309,null,{"$f":"IF(ISBLANK($B313),\"\",LOOKUP($B313,Inscriptions!A$2:A$65496,Inscriptions!B$2:B$65498))","v":""},{"$f":"IF(ISBLANK($B313),\"\",LOOKUP($B313,Inscriptions!A$2:A$65496,Inscriptions!C$2:C$65498))","v":""},{"$f":"IF(ISBLANK($B313),\"\",LOOKUP($B313,Inscriptions!A$2:A$65496,Inscriptions!D$2:D$65498))","v":""},null,null,null,null,null,null,0,0,0,"",""]
[310,null,{"$f":"IF(ISBLANK($B314),\"\",LOOKUP($B314,Inscriptions!A$2:A$65496,Inscriptions!B$2:B$65498))","v":""},{"$f":"IF(ISBLANK($B314),\"\",LOOKUP($B314,Inscriptions!A$2:A$65496,Inscriptions!C$2:C$65498))","v":""},{"$f":"IF(ISBLANK($B314),\"\",LOOKUP($B314,Inscriptions!A$2:A$65496,Inscriptions!D$2:D$65498))","v":""},null,null,null,null,null,null,0,0,0,"",""]
[311,null,{"$f":"IF(ISBLANK($B315),\"\",LOOKUP($B315,Inscriptions!A$2:A$65496,Inscriptions!B$2:B$65498))","v":""},{"$f":"IF(ISBLANK($B315),\"\",LOOKUP($B315,Inscriptions!A$2:A$65496,Inscriptions!C$2:C$65498))","v":""},{"$f":"IF(ISBLANK($B315),\"\",LOOKUP($B315,Inscriptions!A$2:A$65496,Inscriptions!D$2:D$65498))","v":""},null,null,null,null,null,null,0,0,0,"",""]
[312,null,{"$f":"IF(ISBLANK($B316),\"\",LOOKUP($B316,Inscriptions!A$2:A$65496,Inscriptions!B$2:B$65498))","v":""},{"$f":"IF(ISBLANK($B316),\"\",LOOKUP($B316,Inscriptions!A$2:A$65496,Inscriptions!C$2:C$65498))","v":""},{"$f":"IF(ISBLANK($B316),\"\",LOOKUP($B316,Inscriptions!A$2:A$65496,Inscriptions!D$2:D$65498))","v":""},null,null,null,null,null,null,0,0,0,"",""]
[313,null,{"$f":"IF(ISBLANK($B317),\"\",LOOKUP($B317,Inscriptions!A$2:A$65496,Inscriptions!B$2:B$65498))","v":""},{"$f":"IF(ISBLANK($B317),\"\",LOOKUP($B317,Inscriptions!A$2:A$65496,Inscriptions!C$2:C$65498))","v":""},{"$f":"IF(ISBLANK($B317),\"\",LOOKUP($B317,Inscriptions!A$2:A$65496,Inscriptions!D$2:D$65498))","v":""},null,null,null,null,null,null,0,0,0,"",""]
[314,null,{"$f":"IF(ISBLANK($B318),\"\",LOOKUP($B318,Inscriptions!A$2:A$65496,Inscriptions!B$2:B$65498))","v":""},{"$f":"IF(ISBLANK($B318),\"\",LOOKUP($B318,Inscriptions!A$2:A$65496,Inscriptions!C$2:C$65498))","v":""},{"$f":"IF(ISBLANK($B318),\"\",LOOKUP($B318,Inscriptions!A$2:A$65496,Inscriptions!D$2:D$65498))","v":""},null,null,null,null,null,null,0,0,0,"",""]
[315,null,{"$f":"IF(ISBLANK($B319),\"\",LOOKUP($B319,Inscriptions!A$2:A$65496,Inscriptions!B$2:B$65498))","v":""},{"$f":"IF(ISBLANK($B319),\"\",LOOKUP($B319,Inscriptions!A$2:A$65496,Inscriptions!C$2:C$65498))","v":""},{"$f":"IF(ISBLANK($B319),\"\",LOOKUP($B319,Inscriptions!A$2:A$65496,Inscriptions!D$2:D$65498))","v":""},null,null,null,null,null,null,0,0,0,"",""]
[316,null,{"$f":"IF(ISBLANK($B320),\"\",LOOKUP($B320,Inscriptions!A$2:A$65496,Inscriptions!B$2:B$65498))","v":""},{"$f":"IF(ISBLANK($B320),\"\",LOOKUP($B320,Inscriptions!A$2:A$65496,Inscriptions!C$2:C$65498))","v":""},{"$f":"IF(ISBLANK($B320),\"\",LOOKUP($B320,Inscriptions!A$2:A$65496,Inscriptions!D$2:D$65498))","v":""},null,null,null,null,null,null,0,0,0,"",""]
[317,null,{"$f":"IF(ISBLANK($B321),\"\",LOOKUP($B321,Inscriptions!A$2:A$65496,Inscriptions!B$2:B$65498))","v":""},{"$f":"IF(ISBLANK($B321),\"\",LOOKUP($B321,Inscriptions!A$2:A$65496,Inscriptions!C$2:C$65498))","v":""},{"$f":"IF(ISBLANK($B321),\"\",LOOKUP($B321,Inscriptions!A$2:A$65496,Inscriptions!D$2:D$65498))","v":""},null,null,null,null,null,null,0,0,0,"",""]
[318,null,{"$f":"IF(ISBLANK($B322),\"\",LOOKUP($B322,Inscriptions!A$2:A$65496,Inscriptions!B$2:B$65498))","v":""},{"$f":"IF(ISBLANK($B322),\"\",LOOKUP($B322,Inscriptions!A$2:A$65496,Inscriptions!C$2:C$65498))","v":""},{"$f":"IF(ISBLANK($B322),\"\",LOOKUP($B322,Inscriptions!A$2:A$65496,Inscriptions!D$2:D$65498))","v":""},null,null,null,null,null,null,0,0,0,"",""]
[319,null,{"$f":"IF(ISBLANK($B323),\"\",LOOKUP($B323,Inscriptions!A$2:A$65496,Inscriptions!B$2:B$65498))","v":""},{"$f":"IF(ISBLANK($B323),\"\",LOOKUP($B323,Inscriptions!A$2:A$65496,Inscriptions!C$2:C$65498))","v":""},{"$f":"IF(ISBLANK($B323),\"\",LOOKUP($B323,Inscriptions!A$2:A$65496,Inscriptions!D$2:D$65498))","v":""},null,null,null,null,null,null,0,0,0,"",""]
[320,null,{"$f":"IF(ISBLANK($B324),\"\",LOOKUP($B324,Inscriptions!A$2:A$65496,Inscriptions!B$2:B$65498))","v":""},{"$f":"IF(ISBLANK($B324),\"\",LOOKUP($B324,Inscriptions!A$2:A$65496,Inscriptions!C$2:C$65498))","v":""},{"$f":"IF(ISBLANK($B324),\"\",LOOKUP($B324,Inscriptions!A$2:A$65496,Inscriptions!D$2:D$65498))","v":""},null,null,null,null,null,null,0,0,0,"",""]
[321,null,{"$f":"IF(ISBLANK($B325),\"\",LOOKUP($B325,Inscriptions!A$2:A$65496,Inscriptions!B$2:B$65498))","v":""},{"$f":"IF(ISBLANK($B325),\"\",LOOKUP($B325,Inscriptions!A$2:A$65496,Inscriptions!C$2:C$65498))","v":""},{"$f":"IF(ISBLANK($B325),\"\",LOOKUP($B325,Inscriptions!A$2:A$65496,Inscriptions!D$2:D$65498))","v":""},null,null,null,null,null,null,{"$f":"ROUNDDOWN(K325/10000,0)","v":0},0,0,{"$f":"IF((L325+M325+N325)=0,\"\",ROUNDDOWN((O$4/((L325*3600)+(M325*60)+N325))*3.6,2))","v":""},{"$f":"IF(O325=\"\",\"\",\"km/h\")","v":""}]
[322,null,{"$f":"IF(ISBLANK($B326),\"\",LOOKUP($B326,Inscriptions!A$2:A$65496,Inscriptions!B$2:B$65498))","v":""},{"$f":"IF(ISBLANK($B326),\"\",LOOKUP($B326,Inscriptions!A$2:A$65496,Inscriptions!C$2:C$65498))","v":""},{"$f":"IF(ISBLANK($B326),\"\",LOOKUP($B326,Inscriptions!A$2:A$65496,Inscriptions!D$2:D$65498))","v":""},null,null,null,null,null,null,0,0,0,"",""]
[323,null,{"$f":"IF(ISBLANK($B327),\"\",LOOKUP($B327,Inscriptions!A$2:A$65496,Inscriptions!B$2:B$65498))","v":""},{"$f":"IF(ISBLANK($B327),\"\",LOOKUP($B327,Inscriptions!A$2:A$65496,Inscriptions!C$2:C$65498))","v":""},{"$f":"IF(ISBLANK($B327),\"\",LOOKUP($B327,Inscriptions!A$2:A$65496,Inscriptions!D$2:D$65498))","v":""},null,null,null,null,null,null,0,0,0,"",""]
[324,null,{"$f":"IF(ISBLANK($B328),\"\",LOOKUP($B328,Inscriptions!A$2:A$65496,Inscriptions!B$2:B$65498))","v":""},{"$f":"IF(ISBLANK($B328),\"\",LOOKUP($B328,Inscriptions!A$2:A$65496,Inscriptions!C$2:C$65498))","v":""},{"$f":"IF(ISBLANK($B328),\"\",LOOKUP($B328,Inscriptions!A$2:A$65496,Inscriptions!D$2:D$65498))","v":""},null,null,null,null,null,null,0,0,0,"",""]
[325,null,{"$f":"IF(ISBLANK($B329),\"\",LOOKUP($B329,Inscriptions!A$2:A$65496,Inscriptions!B$2:B$65498))","v":""},{"$f":"IF(ISBLANK($B329),\"\",LOOKUP($B329,Inscriptions!A$2:A$65496,Inscriptions!C$2:C$65498))","v":""},{"$f":"IF(ISBLANK($B329),\"\",LOOKUP($B329,Inscriptions!A$2:A$65496,Inscriptions!D$2:D$65498))","v":""},null,null,null,null,null,null,0,0,0,"",""]
[326,null,{"$f":"IF(ISBLANK($B330),\"\",LOOKUP($B330,Inscriptions!A$2:A$65496,Inscriptions!B$2:B$65498))","v":""},{"$f":"IF(ISBLANK($B330),\"\",LOOKUP($B330,Inscriptions!A$2:A$65496,Inscriptions!C$2:C$65498))","v":""},{"$f":"IF(ISBLANK($B330),\"\",LOOKUP($B330,Inscriptions!A$2:A$65496,Inscriptions!D$2:D$65498))","v":""},null,null,null,null,null,null,0,0,0,"",""]
[327,null,{"$f":"IF(ISBLANK($B331),\"\",LOOKUP($B331,Inscriptions!A$2:A$65496,Inscriptions!B$2:B$65498))","v":""},{"$f":"IF(ISBLANK($B331),\"\",LOOKUP($B331,Inscriptions!A$2:A$65496,Inscriptions!C$2:C$65498))","v":""},{"$f":"IF(ISBLANK($B331),\"\",LOOKUP($B331,Inscriptions!A$2:A$65496,Inscriptions!D$2:D$65498))","v":""},null,null,null,null,null,null,0,0,0,"",""]
[328,null,{"$f":"IF(ISBLANK($B332),\"\",LOOKUP($B332,Inscriptions!A$2:A$65496,Inscriptions!B$2:B$65498))","v":""},{"$f":"IF(ISBLANK($B332),\"\",LOOKUP($B332,Inscriptions!A$2:A$65496,Inscriptions!C$2:C$65498))","v":""},{"$f":"IF(ISBLANK($B332),\"\",LOOKUP($B332,Inscriptions!A$2:A$65496,Inscriptions!D$2:D$65498))","v":""},null,null,null,null,null,null,0,0,0,"",""]
[329,null,{"$f":"IF(ISBLANK($B333),\"\",LOOKUP($B333,Inscriptions!A$2:A$65496,Inscriptions!B$2:B$65498))","v":""},{"$f":"IF(ISBLANK($B333),\"\",LOOKUP($B333,Inscriptions!A$2:A$65496,Inscriptions!C$2:C$65498))","v":""},{"$f":"IF(ISBLANK($B333),\"\",LOOKUP($B333,Inscriptions!A$2:A$65496,Inscriptions!D$2:D$65498))","v":""},null,null,null,null,null,null,0,0,0,"",""]
[330,null,{"$f":"IF(ISBLANK($B334),\"\",LOOKUP($B334,Inscriptions!A$2:A$65496,Inscriptions!B$2:B$65498))","v":""},{"$f":"IF(ISBLANK($B334),\"\",LOOKUP($B334,Inscriptions!A$2:A$65496,Inscriptions!C$2:C$65498))","v":""},{"$f":"IF(ISBLANK($B334),\"\",LOOKUP($B334,Inscriptions!A$2:A$65496,Inscriptions!D$2:D$65498))","v":""},null,null,null,null,null,null,0,0,0,"",""]
[331,null,{"$f":"IF(ISBLANK($B335),\"\",LOOKUP($B335,Inscriptions!A$2:A$65496,Inscriptions!B$2:B$65498))","v":""},{"$f":"IF(ISBLANK($B335),\"\",LOOKUP($B335,Inscriptions!A$2:A$65496,Inscriptions!C$2:C$65498))","v":""},{"$f":"IF(ISBLANK($B335),\"\",LOOKUP($B335,Inscriptions!A$2:A$65496,Inscriptions!D$2:D$65498))","v":""},null,null,null,null,null,null,0,0,0,"",""]
[332,null,{"$f":"IF(ISBLANK($B336),\"\",LOOKUP($B336,Inscriptions!A$2:A$65496,Inscriptions!B$2:B$65498))","v":""},{"$f":"IF(ISBLANK($B336),\"\",LOOKUP($B336,Inscriptions!A$2:A$65496,Inscriptions!C$2:C$65498))","v":""},{"$f":"IF(ISBLANK($B336),\"\",LOOKUP($B336,Inscriptions!A$2:A$65496,Inscriptions!D$2:D$65498))","v":""},null,null,null,null,null,null,0,0,0,"",""]
[333,null,{"$f":"IF(ISBLANK($B337),\"\",LOOKUP($B337,Inscriptions!A$2:A$65496,Inscriptions!B$2:B$65498))","v":""},{"$f":"IF(ISBLANK($B337),\"\",LOOKUP($B337,Inscriptions!A$2:A$65496,Inscriptions!C$2:C$65498))","v":""},{"$f":"IF(ISBLANK($B337),\"\",LOOKUP($B337,Inscriptions!A$2:A$65496,Inscriptions!D$2:D$65498))","v":""},null,null,null,null,null,null,0,0,0,"",""]
[334,null,{"$f":"IF(ISBLANK($B338),\"\",LOOKUP($B338,Inscriptions!A$2:A$65496,Inscriptions!B$2:B$65498))","v":""},{"$f":"IF(ISBLANK($B338),\"\",LOOKUP($B338,Inscriptions!A$2:A$65496,Inscriptions!C$2:C$65498))","v":""},{"$f":"IF(ISBLANK($B338),\"\",LOOKUP($B338,Inscriptions!A$2:A$65496,Inscriptions!D$2:D$65498))","v":""},null,null,null,null,null,null,0,0,0,"",""]
[335,null,{"$f":"IF(ISBLANK($B339),\"\",LOOKUP($B339,Inscriptions!A$2:A$65496,Inscriptions!B$2:B$65498))","v":""},{"$f":"IF(ISBLANK($B339),\"\",LOOKUP($B339,Inscriptions!A$2:A$65496,Inscriptions!C$2:C$65498))","v":""},{"$f":"IF(ISBLANK($B339),\"\",LOOKUP($B339,Inscriptions!A$2:A$65496,Inscriptions!D$2:D$65498))","v":""},null,null,null,null,null,null,0,0,0,"",""]
[336,null,{"$f":"IF(ISBLANK($B340),\"\",LOOKUP($B340,Inscriptions!A$2:A$65496,Inscriptions!B$2:B$65498))","v":""},{"$f":"IF(ISBLANK($B340),\"\",LOOKUP($B340,Inscriptions!A$2:A$65496,Inscriptions!C$2:C$65498))","v":""},{"$f":"IF(ISBLANK($B340),\"\",LOOKUP($B340,Inscriptions!A$2:A$65496,Inscriptions!D$2:D$65498))","v":""},null,null,null,null,null,null,0,0,0,"",""]
[337,null,{"$f":"IF(ISBLANK($B341),\"\",LOOKUP($B341,Inscriptions!A$2:A$65496,Inscriptions!B$2:B$65498))","v":""},{"$f":"IF(ISBLANK($B341),\"\",LOOKUP($B341,Inscriptions!A$2:A$65496,Inscriptions!C$2:C$65498))","v":""},{"$f":"IF(ISBLANK($B341),\"\",LOOKUP($B341,Inscriptions!A$2:A$65496,Inscriptions!D$2:D$65498))","v":""},null,null,null,null,null,null,0,0,0,"",""]
[338,null,{"$f":"IF(ISBLANK($B342),\"\",LOOKUP($B342,Inscriptions!A$2:A$65496,Inscriptions!B$2:B$65498))","v":""},{"$f":"IF(ISBLANK($B342),\"\",LOOKUP($B342,Inscriptions!A$2:A$65496,Inscriptions!C$2:C$65498))","v":""},{"$f":"IF(ISBLANK($B342),\"\",LOOKUP($B342,Inscriptions!A$2:A$65496,Inscriptions!D$2:D$65498))","v":""},null,null,null,null,null,null,0,0,0,"",""]
[339,null,{"$f":"IF(ISBLANK($B343),\"\",LOOKUP($B343,Inscriptions!A$2:A$65496,Inscriptions!B$2:B$65498))","v":""},{"$f":"IF(ISBLANK($B343),\"\",LOOKUP($B343,Inscriptions!A$2:A$65496,Inscriptions!C$2:C$65498))","v":""},{"$f":"IF(ISBLANK($B343),\"\",LOOKUP($B343,Inscriptions!A$2:A$65496,Inscriptions!D$2:D$65498))","v":""},null,null,null,null,null,null,0,0,0,"",""]
[340,null,{"$f":"IF(ISBLANK($B344),\"\",LOOKUP($B344,Inscriptions!A$2:A$65496,Inscriptions!B$2:B$65498))","v":""},{"$f":"IF(ISBLANK($B344),\"\",LOOKUP($B344,Inscriptions!A$2:A$65496,Inscriptions!C$2:C$65498))","v":""},{"$f":"IF(ISBLANK($B344),\"\",LOOKUP($B344,Inscriptions!A$2:A$65496,Inscriptions!D$2:D$65498))","v":""},null,null,null,null,null,null,0,0,0,"",""]
[341,null,{"$f":"IF(ISBLANK($B345),\"\",LOOKUP($B345,Inscriptions!A$2:A$65496,Inscriptions!B$2:B$65498))","v":""},{"$f":"IF(ISBLANK($B345),\"\",LOOKUP($B345,Inscriptions!A$2:A$65496,Inscriptions!C$2:C$65498))","v":""},{"$f":"IF(ISBLANK($B345),\"\",LOOKUP($B345,Inscriptions!A$2:A$65496,Inscriptions!D$2:D$65498))","v":""},null,null,null,null,null,null,0,0,0,"",""]
[342,null,{"$f":"IF(ISBLANK($B346),\"\",LOOKUP($B346,Inscriptions!A$2:A$65496,Inscriptions!B$2:B$65498))","v":""},{"$f":"IF(ISBLANK($B346),\"\",LOOKUP($B346,Inscriptions!A$2:A$65496,Inscriptions!C$2:C$65498))","v":""},{"$f":"IF(ISBLANK($B346),\"\",LOOKUP($B346,Inscriptions!A$2:A$65496,Inscriptions!D$2:D$65498))","v":""},null,null,null,null,null,null,0,0,0,"",""]
[343,null,{"$f":"IF(ISBLANK($B347),\"\",LOOKUP($B347,Inscriptions!A$2:A$65496,Inscriptions!B$2:B$65498))","v":""},{"$f":"IF(ISBLANK($B347),\"\",LOOKUP($B347,Inscriptions!A$2:A$65496,Inscriptions!C$2:C$65498))","v":""},{"$f":"IF(ISBLANK($B347),\"\",LOOKUP($B347,Inscriptions!A$2:A$65496,Inscriptions!D$2:D$65498))","v":""},null,null,null,null,null,null,0,0,0,"",""]
[344,null,{"$f":"IF(ISBLANK($B348),\"\",LOOKUP($B348,Inscriptions!A$2:A$65496,Inscriptions!B$2:B$65498))","v":""},{"$f":"IF(ISBLANK($B348),\"\",LOOKUP($B348,Inscriptions!A$2:A$65496,Inscriptions!C$2:C$65498))","v":""},{"$f":"IF(ISBLANK($B348),\"\",LOOKUP($B348,Inscriptions!A$2:A$65496,Inscriptions!D$2:D$65498))","v":""},null,null,null,null,null,null,0,0,0,"",""]
[345,null,{"$f":"IF(ISBLANK($B349),\"\",LOOKUP($B349,Inscriptions!A$2:A$65496,Inscriptions!B$2:B$65498))","v":""},{"$f":"IF(ISBLANK($B349),\"\",LOOKUP($B349,Inscriptions!A$2:A$65496,Inscriptions!C$2:C$65498))","v":""},{"$f":"IF(ISBLANK($B349),\"\",LOOKUP($B349,Inscriptions!A$2:A$65496,Inscriptions!D$2:D$65498))","v":""},null,null,null,null,null,null,0,0,0,"",""]
[346,null,{"$f":"IF(ISBLANK($B350),\"\",LOOKUP($B350,Inscriptions!A$2:A$65496,Inscriptions!B$2:B$65498))","v":""},{"$f":"IF(ISBLANK($B350),\"\",LOOKUP($B350,Inscriptions!A$2:A$65496,Inscriptions!C$2:C$65498))","v":""},{"$f":"IF(ISBLANK($B350),\"\",LOOKUP($B350,Inscriptions!A$2:A$65496,Inscriptions!D$2:D$65498))","v":""},null,null,null,null,null,null,0,0,0,"",""]
[347,null,{"$f":"IF(ISBLANK($B351),\"\",LOOKUP($B351,Inscriptions!A$2:A$65496,Inscriptions!B$2:B$65498))","v":""},{"$f":"IF(ISBLANK($B351),\"\",LOOKUP($B351,Inscriptions!A$2:A$65496,Inscriptions!C$2:C$65498))","v":""},{"$f":"IF(ISBLANK($B351),\"\",LOOKUP($B351,Inscriptions!A$2:A$65496,Inscriptions!D$2:D$65498))","v":""},null,null,null,null,null,null,0,0,0,"",""]
[348,null,{"$f":"IF(ISBLANK($B352),\"\",LOOKUP($B352,Inscriptions!A$2:A$65496,Inscriptions!B$2:B$65498))","v":""},{"$f":"IF(ISBLANK($B352),\"\",LOOKUP($B352,Inscriptions!A$2:A$65496,Inscriptions!C$2:C$65498))","v":""},{"$f":"IF(ISBLANK($B352),\"\",LOOKUP($B352,Inscriptions!A$2:A$65496,Inscriptions!D$2:D$65498))","v":""},null,null,null,null,null,null,0,0,0,"",""]
[349,null,{"$f":"IF(ISBLANK($B353),\"\",LOOKUP($B353,Inscriptions!A$2:A$65496,Inscriptions!B$2:B$65498))","v":""},{"$f":"IF(ISBLANK($B353),\"\",LOOKUP($B353,Inscriptions!A$2:A$65496,Inscriptions!C$2:C$65498))","v":""},{"$f":"IF(ISBLANK($B353),\"\",LOOKUP($B353,Inscriptions!A$2:A$65496,Inscriptions!D$2:D$65498))","v":""},null,null,null,null,null,null,0,0,0,"",""]
[350,null,{"$f":"IF(ISBLANK($B354),\"\",LOOKUP($B354,Inscriptions!A$2:A$65496,Inscriptions!B$2:B$65498))","v":""},{"$f":"IF(ISBLANK($B354),\"\",LOOKUP($B354,Inscriptions!A$2:A$65496,Inscriptions!C$2:C$65498))","v":""},{"$f":"IF(ISBLANK($B354),\"\",LOOKUP($B354,Inscriptions!A$2:A$65496,Inscriptions!D$2:D$65498))","v":""}]

{"sheet":"C2 V1M","index":4,"n_rows":354,"n_cols":12,"rows_kept":354,"cut":false,"hidden":false,"merged":[[0,0,0,5],[1,0,1,5]]}
["CROSS REGIONAL FSGT - STAINS - 18/01/2015"]
["VETERANS 1  = 7 285 mètres"]
[]
["PLACE","DOSSARD","NOM / PRENOM","CAT","CLUB","V1M","TEMPS","h","m","s",7285,"m"]
[1,2248,{"$f":"IF(ISBLANK($B5),\"\",LOOKUP($B5,Inscriptions!A$2:A$65496,Inscriptions!B$2:B$65498))","v":"IKHOU AMIROUCHE"},{"$f":"IF(ISBLANK($B5),\"\",LOOKUP($B5,Inscriptions!A$2:A$65496,Inscriptions!C$2:C$65498))","v":"V1M"},{"$f":"IF(ISBLANK($B5),\"\",LOOKUP($B5,Inscriptions!A$2:A$65496,Inscriptions!D$2:D$65498))","v":"USO BEZONS"},null,2718,{"$f":"ROUNDDOWN(G5/10000,0)","v":0},{"$f":"ROUNDDOWN((G5-H5*10000)/100,0)","v":27},{"$f":"ROUNDDOWN((G5-(H5*10000)-(I5*100)),0)","v":18},{"$f":"IF((H5+I5+J5)=0,\"\",ROUNDDOWN((K$4/((H5*3600)+(I5*60)+J5))*3.6,2))","v":16.010000000000002},{"$f":"IF(K5=\"\",\"\",\"km/h\")","v":"km/h"}]
[2,2234,{"$f":"IF(ISBLANK($B6),\"\",LOOKUP($B6,Inscriptions!A$2:A$65496,Inscriptions!B$2:B$65498))","v":"DUBREUCQ STEPHANE"},{"$f":"IF(ISBLANK($B6),\"\",LOOKUP($B6,Inscriptions!A$2:A$65496,Inscriptions!C$2:C$65498))","v":"V1M"},{"$f":"IF(ISBLANK($B6),\"\",LOOKUP($B6,Inscriptions!A$2:A$65496,Inscriptions!D$2:D$65498))","v":"USMA ST OUEN"},null,2801,{"$f":"ROUNDDOWN(G6/10000,0)","v":0},{"$f":"ROUNDDOWN((G6-H6*10000)/100,0)","v":28},{"$f":"ROUNDDOWN((G6-(H6*10000)-(I6*100)),0)","v":1},{"$f":"IF((H6+I6+J6)=0,\"\",ROUNDDOWN((K$4/((H6*3600)+(I6*60)+J6))*3.6,2))","v":15.6},{"$f":"IF(K6=\"\",\"\",\"km/h\")","v":"km/h"}]
[3,1014,{"$f":"IF(ISBLANK($B7),\"\",LOOKUP($B7,Inscriptions!A$2:A$65496,Inscriptions!B$2:B$65498))","v":"FERNANDEZ JEAN-MARC"},{"$f":"IF(ISBLANK($B7),\"\",LOOKUP($B7,Inscriptions!A$2:A$65496,Inscriptions!C$2:C$65498))","v":"V1M"},{"$f":"IF(ISBLANK($B7),\"\",LOOKUP($B7,Inscriptions!A$2:A$65496,Inscriptions!D$2:D$65498))","v":"CSPTT 95"},null,2820,0,28,20,15.42,"km/h"]
[4,502,{"$f":"IF(ISBLANK($B8),\"\",LOOKUP($B8,Inscriptions!A$2:A$65496,Inscriptions!B$2:B$65498))","v":"CELESTE MAX"},{"$f":"IF(ISBLANK($B8),\"\",LOOKUP($B8,Inscriptions!A$2:A$65496,Inscriptions!C$2:C$65498))","v":"V1M"},{"$f":"IF(ISBLANK($B8),\"\",LOOKUP($B8,Inscriptions!A$2:A$65496,Inscriptions!D$2:D$65498))","v":"BLANC MESNIL SA"},null,2836,0,28,36,15.28,"km/h"]
[5,675,{"$f":"IF(ISBLANK($B9),\"\",LOOKUP($B9,Inscriptions!A$2:A$65496,Inscriptions!B$2:B$65498))","v":"BELZGAOU  PASCAL"},{"$f":"IF(ISBLANK($B9),\"\",LOOKUP($B9,Inscriptions!A$2:A$65496,Inscriptions!C$2:C$65498))","v":"V1M"},{"$f":"IF(ISBLANK($B9),\"\",LOOKUP($B9,Inscriptions!A$2:A$65496,Inscriptions!D$2:D$65498))","v":"CMA COUREURS DE FOND"},null,2839,0,28,39,15.25,"km/h"]
[6,2265,{"$f":"IF(ISBLANK($B10),\"\",LOOKUP($B10,Inscriptions!A$2:A$65496,Inscriptions!B$2:B$65498))","v":"REZZAG MILOUD"},{"$f":"IF(ISBLANK($B10),\"\",LOOKUP($B10,Inscriptions!A$2:A$65496,Inscriptions!C$2:C$65498))","v":"V1M"},{"$f":"IF(ISBLANK($B10),\"\",LOOKUP($B10,Inscriptions!A$2:A$65496,Inscriptions!D$2:D$65498))","v":"USO BEZONS"},null,2845,0,28,45,15.2,"km/h"]
[7,1013,{"$f":"IF(ISBLANK($B11),\"\",LOOKUP($B11,Inscriptions!A$2:A$65496,Inscriptions!B$2:B$65498))","v":"FERNANDES CARLOS"},{"$f":"IF(ISBLANK($B11),\"\",LOOKUP($B11,Inscriptions!A$2:A$65496,Inscriptions!C$2:C$65498))","v":"V1M"},{"$f":"IF(ISBLANK($B11),\"\",LOOKUP($B11,Inscriptions!A$2:A$65496,Inscriptions!D$2:D$65498))","v":"CSPTT 95"},null,2854,0,28,54,15.12,"km/h"]
[8,1015,{"$f":"IF(ISBLANK($B12),\"\",LOOKUP($B12,Inscriptions!A$2:A$65496,Inscriptions!B$2:B$65498))","v":"GUIDOUX FABRICE"},{"$f":"IF(ISBLANK($B12),\"\",LOOKUP($B12,Inscriptions!A$2:A$65496,Inscriptions!C$2:C$65498))","v":"V1M"},{"$f":"IF(ISBLANK($B12),\"\",LOOKUP($B12,Inscriptions!A$2:A$65496,Inscriptions!D$2:D$65498))","v":"CSPTT 95"},null,2857,0,28,57,15.09,"km/h"]
[9,955,{"$f":"IF(ISBLANK($B13),\"\",LOOKUP($B13,Inscriptions!A$2:A$65496,Inscriptions!B$2:B$65498))","v":"DITTGEN FLORIAN"},{"$f":"IF(ISBLANK($B13),\"\",LOOKUP($B13,Inscriptions!A$2:A$65496,Inscriptions!C$2:C$65498))","v":"V1M"},{"$f":"IF(ISBLANK($B13),\"\",LOOKUP($B13,Inscriptions!A$2:A$65496,Inscriptions!D$2:D$65498))","v":"CSM GENNEVILLIERS"},null,2910,0,29,10,14.98,"km/h"]
[10,1492,{"$f":"IF(ISBLANK($B14),\"\",LOOKUP($B14,Inscriptions!A$2:A$65496,Inscriptions!B$2:B$65498))","v":"DEBOBERT MAZURE"},{"$f":"IF(ISBLANK($B14),\"\",LOOKUP($B14,Inscriptions!A$2:A$65496,Inscriptions!C$2:C$65498))","v":"V1M"},{"$f":"IF(ISBLANK($B14),\"\",LOOKUP($B14,Inscriptions!A$2:A$65496,Inscriptions!D$2:D$65498))","v":"SAINT DENIS US"},null,2930,0,29,30,14.81,"km/h"]
[11,2361,{"$f":"IF(ISBLANK($B15),\"\",LOOKUP($B15,Inscriptions!A$2:A$65496,Inscriptions!B$2:B$65498))","v":"ZOUHIR HASSAN (DEC)"},{"$f":"IF(ISBLANK($B15),\"\",LOOKUP($B15,Inscriptions!A$2:A$65496,Inscriptions!C$2:C$65498))","v":"V1M"},{"$f":"IF(ISBLANK($B15),\"\",LOOKUP($B15,Inscriptions!A$2:A$65496,Inscriptions!D$2:D$65498))","v":"DECLASSE"},null,2946,0,29,46,14.68,"km/h"]
[12,165,{"$f":"IF(ISBLANK($B16),\"\",LOOKUP($B16,Inscriptions!A$2:A$65496,Inscriptions!B$2:B$65498))","v":"SACHE GREGORY"},{"$f":"IF(ISBLANK($B16),\"\",LOOKUP($B16,Inscriptions!A$2:A$65496,Inscriptions!C$2:C$65498))","v":"V1M"},{"$f":"IF(ISBLANK($B16),\"\",LOOKUP($B16,Inscriptions!A$2:A$65496,Inscriptions!D$2:D$65498))","v":"AS FOULEES VEXIN"},null,2956,0,29,56,14.6,"km/h"]
[13,1487,{"$f":"IF(ISBLANK($B17),\"\",LOOKUP($B17,Inscriptions!A$2:A$65496,Inscriptions!B$2:B$65498))","v":"BARADJI MOUSSA"},{"$f":"IF(ISBLANK($B17),\"\",LOOKUP($B17,Inscriptions!A$2:A$65496,Inscriptions!C$2:C$65498))","v":"V1M"},{"$f":"IF(ISBLANK($B17),\"\",LOOKUP($B17,Inscriptions!A$2:A$65496,Inscriptions!D$2:D$65498))","v":"SAINT DENIS US"},null,3049,0,30,49,14.18,"km/h"]
[14,374,{"$f":"IF(ISBLANK($B18),\"\",LOOKUP($B18,Inscriptions!A$2:A$65496,Inscriptions!B$2:B$65498))","v":"DA SILVA PHILIPPE"},{"$f":"IF(ISBLANK($B18),\"\",LOOKUP($B18,Inscriptions!A$2:A$65496,Inscriptions!C$2:C$65498))","v":"V1M"},{"$f":"IF(ISBLANK($B18),\"\",LOOKUP($B18,Inscriptions!A$2:A$65496,Inscriptions!D$2:D$65498))","v":"ATHLE LE BOURGET DRANCY DUGNY"},null,3104,0,31,4,14.06,"km/h"]
[15,1003,{"$f":"IF(ISBLANK($B19),\"\",LOOKUP($B19,Inscriptions!A$2:A$65496,Inscriptions!B$2:B$65498))","v":"CACAUT PATRICE"},{"$f":"IF(ISBLANK($B19),\"\",LOOKUP($B19,Inscriptions!A$2:A$65496,Inscriptions!C$2:C$65498))","v":"V1M"},{"$f":"IF(ISBLANK($B19),\"\",LOOKUP($B19,Inscriptions!A$2:A$65496,Inscriptions!D$2:D$65498))","v":"CSPTT 95"},null,3107,0,31,7,14.04,"km/h"]
[16,1311,{"$f":"IF(ISBLANK($B20),\"\",LOOKUP($B20,Inscriptions!A$2:A$65496,Inscriptions!B$2:B$65498))","v":"MOORE RICHARD"},{"$f":"IF(ISBLANK($B20),\"\",LOOKUP($B20,Inscriptions!A$2:A$65496,Inscriptions!C$2:C$65498))","v":"V1M"},{"$f":"IF(ISBLANK($B20),\"\",LOOKUP($B20,Inscriptions!A$2:A$65496,Inscriptions!D$2:D$65498))","v":"MA ST CYR"},null,3154,0,31,54,13.7,"km/h"]
[17,169,{"$f":"IF(ISBLANK($B21),\"\",LOOKUP($B21,Inscriptions!A$2:A$65496,Inscriptions!B$2:B$65498))","v":"DELAGE SEBASTIEN"},{"$f":"IF(ISBLANK($B21),\"\",LOOKUP($B21,Inscriptions!A$2:A$65496,Inscriptions!C$2:C$65498))","v":"V1M"},{"$f":"IF(ISBLANK($B21),\"\",LOOKUP($B21,Inscriptions!A$2:A$65496,Inscriptions!D$2:D$65498))","v":"ASC VITRY"},null,3214,0,32,14,13.56,"km/h"]
[18,1236,{"$f":"IF(ISBLANK($B22),\"\",LOOKUP($B22,Inscriptions!A$2:A$65496,Inscriptions!B$2:B$65498))","v":"MAHTAOUI  SAMIR"},{"$f":"IF(ISBLANK($B22),\"\",LOOKUP($B22,Inscriptions!A$2:A$65496,Inscriptions!C$2:C$65498))","v":"V1M"},{"$f":"IF(ISBLANK($B22),\"\",LOOKUP($B22,Inscriptions!A$2:A$65496,Inscriptions!D$2:D$65498))","v":"ES VITRY"},null,3231,0,32,31,13.44,"km/h"]
[19,2365,{"$f":"IF(ISBLANK($B23),\"\",LOOKUP($B23,Inscriptions!A$2:A$65496,Inscriptions!B$2:B$65498))","v":"IHAJARENE FREDERIC"},{"$f":"IF(ISBLANK($B23),\"\",LOOKUP($B23,Inscriptions!A$2:A$65496,Inscriptions!C$2:C$65498))","v":"S2M"},{"$f":"IF(ISBLANK($B23),\"\",LOOKUP($B23,Inscriptions!A$2:A$65496,Inscriptions!D$2:D$65498))","v":"ES VITRY"},null,3232,0,32,32,13.43,"km/h"]
[20,1156,{"$f":"IF(ISBLANK($B24),\"\",LOOKUP($B24,Inscriptions!A$2:A$65496,Inscriptions!B$2:B$65498))","v":"BIDAULT JEAN-PATRICK"},{"$f":"IF(ISBLANK($B24),\"\",LOOKUP($B24,Inscriptions!A$2:A$65496,Inscriptions!C$2:C$65498))","v":"V1M"},{"$f":"IF(ISBLANK($B24),\"\",LOOKUP($B24,Inscriptions!A$2:A$65496,Inscriptions!D$2:D$65498))","v":"ES VITRY"},null,3404,0,34,4,12.83,"km/h"]
[21,1826,{"$f":"IF(ISBLANK($B25),\"\",LOOKUP($B25,Inscriptions!A$2:A$65496,Inscriptions!B$2:B$65498))","v":"FOURDRIGNIER DAVID"},{"$f":"IF(ISBLANK($B25),\"\",LOOKUP($B25,Inscriptions!A$2:A$65496,Inscriptions!C$2:C$65498))","v":"V1M"},{"$f":"IF(ISBLANK($B25),\"\",LOOKUP($B25,Inscriptions!A$2:A$65496,Inscriptions!D$2:D$65498))","v":"US IVRY"},null,3525,0,35,25,12.34,"km/h"]
[22,1982,{"$f":"IF(ISBLANK($B26),\"\",LOOKUP($B26,Inscriptions!A$2:A$65496,Inscriptions!B$2:B$65498))","v":"BONIFACIO ERIC"},{"$f":"IF(ISBLANK($B26),\"\",LOOKUP($B26,Inscriptions!A$2:A$65496,Inscriptions!C$2:C$65498))","v":"V1M"},{"$f":"IF(ISBLANK($B26),\"\",LOOKUP($B26,Inscriptions!A$2:A$65496,Inscriptions!D$2:D$65498))","v":"US MERY AC"},null,3535,0,35,35,12.28,"km/h"]
[23,1648,{"$f":"IF(ISBLANK($B27),\"\",LOOKUP($B27,Inscriptions!A$2:A$65496,Inscriptions!B$2:B$65498))","v":"DUFAIT PATRICE"},{"$f":"IF(ISBLANK($B27),\"\",LOOKUP($B27,Inscriptions!A$2:A$65496,Inscriptions!C$2:C$65498))","v":"V1M"},{"$f":"IF(ISBLANK($B27),\"\",LOOKUP($B27,Inscriptions!A$2:A$65496,Inscriptions!D$2:D$65498))","v":"TREMBLAY AC"},null,3618,0,36,18,12.04,"km/h"]
[24,1657,{"$f":"IF(ISBLANK($B28),\"\",LOOKUP($B28,Inscriptions!A$2:A$65496,Inscriptions!B$2:B$65498))","v":"FETTAH MOHAMED"},{"$f":"IF(ISBLANK($B28),\"\",LOOKUP($B28,Inscriptions!A$2:A$65496,Inscriptions!C$2:C$65498))","v":"V1M"},{"$f":"IF(ISBLANK($B28),\"\",LOOKUP($B28,Inscriptions!A$2:A$65496,Inscriptions!D$2:D$65498))","v":"TREMBLAY AC"},null,3619,0,36,19,12.03,"km/h"]
[25,1896,{"$f":"IF(ISBLANK($B29),\"\",LOOKUP($B29,Inscriptions!A$2:A$65496,Inscriptions!B$2:B$65498))","v":"MARTINEZ MATIAS"},{"$f":"IF(ISBLANK($B29),\"\",LOOKUP($B29,Inscriptions!A$2:A$65496,Inscriptions!C$2:C$65498))","v":"V1M"},{"$f":"IF(ISBLANK($B29),\"\",LOOKUP($B29,Inscriptions!A$2:A$65496,Inscriptions!D$2:D$65498))","v":"US IVRY"},null,3626,0,36,26,11.99,"km/h"]
[26,2353,{"$f":"IF(ISBLANK($B30),\"\",LOOKUP($B30,Inscriptions!A$2:A$65496,Inscriptions!B$2:B$65498))","v":"GOMBERT LAURENT"},{"$f":"IF(ISBLANK($B30),\"\",LOOKUP($B30,Inscriptions!A$2:A$65496,Inscriptions!C$2:C$65498))","v":"V1M"},{"$f":"IF(ISBLANK($B30),\"\",LOOKUP($B30,Inscriptions!A$2:A$65496,Inscriptions!D$2:D$65498))","v":"US IVRY"},null,3701,0,37,1,11.8,"km/h"]
[27,791,{"$f":"IF(ISBLANK($B31),\"\",LOOKUP($B31,Inscriptions!A$2:A$65496,Inscriptions!B$2:B$65498))","v":"CONTREIRAS JOSE"},{"$f":"IF(ISBLANK($B31),\"\",LOOKUP($B31,Inscriptions!A$2:A$65496,Inscriptions!C$2:C$65498))","v":"V1M"},{"$f":"IF(ISBLANK($B31),\"\",LOOKUP($B31,Inscriptions!A$2:A$65496,Inscriptions!D$2:D$65498))","v":"CS BRETIGNY ATHLETISME"},null,4327,0,43,27,10.050000000000001,"km/h"]
[28,null,{"$f":"IF(ISBLANK($B32),\"\",LOOKUP($B32,Inscriptions!A$2:A$65496,Inscriptions!B$2:B$65498))","v":""},{"$f":"IF(ISBLANK($B32),\"\",LOOKUP($B32,Inscriptions!A$2:A$65496,Inscriptions!C$2:C$65498))","v":""},{"$f":"IF(ISBLANK($B32),\"\",LOOKUP($B32,Inscriptions!A$2:A$65496,Inscriptions!D$2:D$65498))","v":""},null,null,0,0,0,"",""]
[29,null,{"$f":"IF(ISBLANK($B33),\"\",LOOKUP($B33,Inscriptions!A$2:A$65496,Inscriptions!B$2:B$65498))","v":""},{"$f":"IF(ISBLANK($B33),\"\",LOOKUP($B33,Inscriptions!A$2:A$65496,Inscriptions!C$2:C$65498))","v":""},{"$f":"IF(ISBLANK($B33),\"\",LOOKUP($B33,Inscriptions!A$2:A$65496,Inscriptions!D$2:D$65498))","v":""},null,null,0,0,0,"",""]
[30,null,{"$f":"IF(ISBLANK($B34),\"\",LOOKUP($B34,Inscriptions!A$2:A$65496,Inscriptions!B$2:B$65498))","v":""},{"$f":"IF(ISBLANK($B34),\"\",LOOKUP($B34,Inscriptions!A$2:A$65496,Inscriptions!C$2:C$65498))","v":""},{"$f":"IF(ISBLANK($B34),\"\",LOOKUP($B34,Inscriptions!A$2:A$65496,Inscriptions!D$2:D$65498))","v":""},null,null,0,0,0,"",""]
[31,null,{"$f":"IF(ISBLANK($B35),\"\",LOOKUP($B35,Inscriptions!A$2:A$65496,Inscriptions!B$2:B$65498))","v":""},{"$f":"IF(ISBLANK($B35),\"\",LOOKUP($B35,Inscriptions!A$2:A$65496,Inscriptions!C$2:C$65498))","v":""},{"$f":"IF(ISBLANK($B35),\"\",LOOKUP($B35,Inscriptions!A$2:A$65496,Inscriptions!D$2:D$65498))","v":""},null,null,0,0,0,"",""]
[32,null,{"$f":"IF(ISBLANK($B36),\"\",LOOKUP($B36,Inscriptions!A$2:A$65496,Inscriptions!B$2:B$65498))","v":""},{"$f":"IF(ISBLANK($B36),\"\",LOOKUP($B36,Inscriptions!A$2:A$65496,Inscriptions!C$2:C$65498))","v":""},{"$f":"IF(ISBLANK($B36),\"\",LOOKUP($B36,Inscriptions!A$2:A$65496,Inscriptions!D$2:D$65498))","v":""},null,null,0,0,0,"",""]
[33,null,{"$f":"IF(ISBLANK($B37),\"\",LOOKUP($B37,Inscriptions!A$2:A$65496,Inscriptions!B$2:B$65498))","v":""},{"$f":"IF(ISBLANK($B37),\"\",LOOKUP($B37,Inscriptions!A$2:A$65496,Inscriptions!C$2:C$65498))","v":""},{"$f":"IF(ISBLANK($B37),\"\",LOOKUP($B37,Inscriptions!A$2:A$65496,Inscriptions!D$2:D$65498))","v":""},null,null,0,0,0,"",""]
[34,null,{"$f":"IF(ISBLANK($B38),\"\",LOOKUP($B38,Inscriptions!A$2:A$65496,Inscriptions!B$2:B$65498))","v":""},{"$f":"IF(ISBLANK($B38),\"\",LOOKUP($B38,Inscriptions!A$2:A$65496,Inscriptions!C$2:C$65498))","v":""},{"$f":"IF(ISBLANK($B38),\"\",LOOKUP($B38,Inscriptions!A$2:A$65496,Inscriptions!D$2:D$65498))","v":""},null,null,0,0,0,"",""]
[35,null,{"$f":"IF(ISBLANK($B39),\"\",LOOKUP($B39,Inscriptions!A$2:A$65496,Inscriptions!B$2:B$65498))","v":""},{"$f":"IF(ISBLANK($B39),\"\",LOOKUP($B39,Inscriptions!A$2:A$65496,Inscriptions!C$2:C$65498))","v":""},{"$f":"IF(ISBLANK($B39),\"\",LOOKUP($B39,Inscriptions!A$2:A$65496,Inscriptions!D$2:D$65498))","v":""},null,null,0,0,0,"",""]
[36,null,{"$f":"IF(ISBLANK($B40),\"\",LOOKUP($B40,Inscriptions!A$2:A$65496,Inscriptions!B$2:B$65498))","v":""},{"$f":"IF(ISBLANK($B40),\"\",LOOKUP($B40,Inscriptions!A$2:A$65496,Inscriptions!C$2:C$65498))","v":""},{"$f":"IF(ISBLANK($B40),\"\",LOOKUP($B40,Inscriptions!A$2:A$65496,Inscriptions!D$2:D$65498))","v":""},null,null,0,0,0,"",""]
[37,null,{"$f":"IF(ISBLANK($B41),\"\",LOOKUP($B41,Inscriptions!A$2:A$65496,Inscriptions!B$2:B$65498))","v":""},{"$f":"IF(ISBLANK($B41),\"\",LOOKUP($B41,Inscriptions!A$2:A$65496,Inscriptions!C$2:C$65498))","v":""},{"$f":"IF(ISBLANK($B41),\"\",LOOKUP($B41,Inscriptions!A$2:A$65496,Inscriptions!D$2:D$65498))","v":""},null,null,0,0,0,"",""]
[38,null,{"$f":"IF(ISBLANK($B42),\"\",LOOKUP($B42,Inscriptions!A$2:A$65496,Inscriptions!B$2:B$65498))","v":""},{"$f":"IF(ISBLANK($B42),\"\",LOOKUP($B42,Inscriptions!A$2:A$65496,Inscriptions!C$2:C$65498))","v":""},{"$f":"IF(ISBLANK($B42),\"\",LOOKUP($B42,Inscriptions!A$2:A$65496,Inscriptions!D$2:D$65498))","v":""},null,null,0,0,0,"",""]
[39,null,{"$f":"IF(ISBLANK($B43),\"\",LOOKUP($B43,Inscriptions!A$2:A$65496,Inscriptions!B$2:B$65498))","v":""},{"$f":"IF(ISBLANK($B43),\"\",LOOKUP($B43,Inscriptions!A$2:A$65496,Inscriptions!C$2:C$65498))","v":""},{"$f":"IF(ISBLANK($B43),\"\",LOOKUP($B43,Inscriptions!A$2:A$65496,Inscriptions!D$2:D$65498))","v":""},null,null,0,0,0,"",""]
[40,null,{"$f":"IF(ISBLANK($B44),\"\",LOOKUP($B44,Inscriptions!A$2:A$65496,Inscriptions!B$2:B$65498))","v":""},{"$f":"IF(ISBLANK($B44),\"\",LOOKUP($B44,Inscriptions!A$2:A$65496,Inscriptions!C$2:C$65498))","v":""},{"$f":"IF(ISBLANK($B44),\"\",LOOKUP($B44,Inscriptions!A$2:A$65496,Inscriptions!D$2:D$65498))","v":""},null,null,0,0,0,"",""]
[41,null,{"$f":"IF(ISBLANK($B45),\"\",LOOKUP($B45,Inscriptions!A$2:A$65496,Inscriptions!B$2:B$65498))","v":""},{"$f":"IF(ISBLANK($B45),\"\",LOOKUP($B45,Inscriptions!A$2:A$65496,Inscriptions!C$2:C$65498))","v":""},{"$f":"IF(ISBLANK($B45),\"\",LOOKUP($B45,Inscriptions!A$2:A$65496,Inscriptions!D$2:D$65498))","v":""},null,null,0,0,0,"",""]
[42,null,{"$f":"IF(ISBLANK($B46),\"\",LOOKUP($B46,Inscriptions!A$2:A$65496,Inscriptions!B$2:B$65498))","v":""},{"$f":"IF(ISBLANK($B46),\"\",LOOKUP($B46,Inscriptions!A$2:A$65496,Inscriptions!C$2:C$65498))","v":""},{"$f":"IF(ISBLANK($B46),\"\",LOOKUP($B46,Inscriptions!A$2:A$65496,Inscriptions!D$2:D$65498))","v":""},null,null,0,0,0,"",""]
[43,null,{"$f":"IF(ISBLANK($B47),\"\",LOOKUP($B47,Inscriptions!A$2:A$65496,Inscriptions!B$2:B$65498))","v":""},{"$f":"IF(ISBLANK($B47),\"\",LOOKUP($B47,Inscriptions!A$2:A$65496,Inscriptions!C$2:C$65498))","v":""},{"$f":"IF(ISBLANK($B47),\"\",LOOKUP($B47,Inscriptions!A$2:A$65496,Inscriptions!D$2:D$65498))","v":""},null,null,0,0,0,"",""]
[44,null,{"$f":"IF(ISBLANK($B48),\"\",LOOKUP($B48,Inscriptions!A$2:A$65496,Inscriptions!B$2:B$65498))","v":""},{"$f":"IF(ISBLANK($B48),\"\",LOOKUP($B48,Inscriptions!A$2:A$65496,Inscriptions!C$2:C$65498))","v":""},{"$f":"IF(ISBLANK($B48),\"\",LOOKUP($B48,Inscriptions!A$2:A$65496,Inscriptions!D$2:D$65498))","v":""},null,null,0,0,0,"",""]
[45,null,{"$f":"IF(ISBLANK($B49),\"\",LOOKUP($B49,Inscriptions!A$2:A$65496,Inscriptions!B$2:B$65498))","v":""},{"$f":"IF(ISBLANK($B49),\"\",LOOKUP($B49,Inscriptions!A$2:A$65496,Inscriptions!C$2:C$65498))","v":""},{"$f":"IF(ISBLANK($B49),\"\",LOOKUP($B49,Inscriptions!A$2:A$65496,Inscriptions!D$2:D$65498))","v":""},null,null,0,0,0,"",""]
[46,null,{"$f":"IF(ISBLANK($B50),\"\",LOOKUP($B50,Inscriptions!A$2:A$65496,Inscriptions!B$2:B$65498))","v":""},{"$f":"IF(ISBLANK($B50),\"\",LOOKUP($B50,Inscriptions!A$2:A$65496,Inscriptions!C$2:C$65498))","v":""},{"$f":"IF(ISBLANK($B50),\"\",LOOKUP($B50,Inscriptions!A$2:A$65496,Inscriptions!D$2:D$65498))","v":""},null,null,0,0,0,"",""]
[47,null,{"$f":"IF(ISBLANK($B51),\"\",LOOKUP($B51,Inscriptions!A$2:A$65496,Inscriptions!B$2:B$65498))","v":""},{"$f":"IF(ISBLANK($B51),\"\",LOOKUP($B51,Inscriptions!A$2:A$65496,Inscriptions!C$2:C$65498))","v":""},{"$f":"IF(ISBLANK($B51),\"\",LOOKUP($B51,Inscriptions!A$2:A$65496,Inscriptions!D$2:D$65498))","v":""},null,null,0,0,0,"",""]
[48,null,{"$f":"IF(ISBLANK($B52),\"\",LOOKUP($B52,Inscriptions!A$2:A$65496,Inscriptions!B$2:B$65498))","v":""},{"$f":"IF(ISBLANK($B52),\"\",LOOKUP($B52,Inscriptions!A$2:A$65496,Inscriptions!C$2:C$65498))","v":""},{"$f":"IF(ISBLANK($B52),\"\",LOOKUP($B52,Inscriptions!A$2:A$65496,Inscriptions!D$2:D$65498))","v":""},null,null,0,0,0,"",""]
[49,null,{"$f":"IF(ISBLANK($B53),\"\",LOOKUP($B53,Inscriptions!A$2:A$65496,Inscriptions!B$2:B$65498))","v":""},{"$f":"IF(ISBLANK($B53),\"\",LOOKUP($B53,Inscriptions!A$2:A$65496,Inscriptions!C$2:C$65498))","v":""},{"$f":"IF(ISBLANK($B53),\"\",LOOKUP($B53,Inscriptions!A$2:A$65496,Inscriptions!D$2:D$65498))","v":""},null,null,0,0,0,"",""]
[50,null,{"$f":"IF(ISBLANK($B54),\"\",LOOKUP($B54,Inscriptions!A$2:A$65496,Inscriptions!B$2:B$65498))","v":""},{"$f":"IF(ISBLANK($B54),\"\",LOOKUP($B54,Inscriptions!A$2:A$65496,Inscriptions!C$2:C$65498))","v":""},{"$f":"IF(ISBLANK($B54),\"\",LOOKUP($B54,Inscriptions!A$2:A$65496,Inscriptions!D$2:D$65498))","v":""},null,null,0,0,0,"",""]
[51,null,{"$f":"IF(ISBLANK($B55),\"\",LOOKUP($B55,Inscriptions!A$2:A$65496,Inscriptions!B$2:B$65498))","v":""},{"$f":"IF(ISBLANK($B55),\"\",LOOKUP($B55,Inscriptions!A$2:A$65496,Inscriptions!C$2:C$65498))","v":""},{"$f":"IF(ISBLANK($B55),\"\",LOOKUP($B55,Inscriptions!A$2:A$65496,Inscriptions!D$2:D$65498))","v":""},null,null,0,0,0,"",""]
[52,null,{"$f":"IF(ISBLANK($B56),\"\",LOOKUP($B56,Inscriptions!A$2:A$65496,Inscriptions!B$2:B$65498))","v":""},{"$f":"IF(ISBLANK($B56),\"\",LOOKUP($B56,Inscriptions!A$2:A$65496,Inscriptions!C$2:C$65498))","v":""},{"$f":"IF(ISBLANK($B56),\"\",LOOKUP($B56,Inscriptions!A$2:A$65496,Inscriptions!D$2:D$65498))","v":""},null,null,0,0,0,"",""]
[53,null,{"$f":"IF(ISBLANK($B57),\"\",LOOKUP($B57,Inscriptions!A$2:A$65496,Inscriptions!B$2:B$65498))","v":""},{"$f":"IF(ISBLANK($B57),\"\",LOOKUP($B57,Inscriptions!A$2:A$65496,Inscriptions!C$2:C$65498))","v":""},{"$f":"IF(ISBLANK($B57),\"\",LOOKUP($B57,Inscriptions!A$2:A$65496,Inscriptions!D$2:D$65498))","v":""},null,null,0,0,0,"",""]
[54,null,{"$f":"IF(ISBLANK($B58),\"\",LOOKUP($B58,Inscriptions!A$2:A$65496,Inscriptions!B$2:B$65498))","v":""},{"$f":"IF(ISBLANK($B58),\"\",LOOKUP($B58,Inscriptions!A$2:A$65496,Inscriptions!C$2:C$65498))","v":""},{"$f":"IF(ISBLANK($B58),\"\",LOOKUP($B58,Inscriptions!A$2:A$65496,Inscriptions!D$2:D$65498))","v":""},null,null,0,0,0,"",""]
[55,null,{"$f":"IF(ISBLANK($B59),\"\",LOOKUP($B59,Inscriptions!A$2:A$65496,Inscriptions!B$2:B$65498))","v":""},{"$f":"IF(ISBLANK($B59),\"\",LOOKUP($B59,Inscriptions!A$2:A$65496,Inscriptions!C$2:C$65498))","v":""},{"$f":"IF(ISBLANK($B59),\"\",LOOKUP($B59,Inscriptions!A$2:A$65496,Inscriptions!D$2:D$65498))","v":""},null,null,0,0,0,"",""]
[56,null,{"$f":"IF(ISBLANK($B60),\"\",LOOKUP($B60,Inscriptions!A$2:A$65496,Inscriptions!B$2:B$65498))","v":""},{"$f":"IF(ISBLANK($B60),\"\",LOOKUP($B60,Inscriptions!A$2:A$65496,Inscriptions!C$2:C$65498))","v":""},{"$f":"IF(ISBLANK($B60),\"\",LOOKUP($B60,Inscriptions!A$2:A$65496,Inscriptions!D$2:D$65498))","v":""},null,null,0,0,0,"",""]
[57,null,{"$f":"IF(ISBLANK($B61),\"\",LOOKUP($B61,Inscriptions!A$2:A$65496,Inscriptions!B$2:B$65498))","v":""},{"$f":"IF(ISBLANK($B61),\"\",LOOKUP($B61,Inscriptions!A$2:A$65496,Inscriptions!C$2:C$65498))","v":""},{"$f":"IF(ISBLANK($B61),\"\",LOOKUP($B61,Inscriptions!A$2:A$65496,Inscriptions!D$2:D$65498))","v":""},null,null,0,0,0,"",""]
[58,null,{"$f":"IF(ISBLANK($B62),\"\",LOOKUP($B62,Inscriptions!A$2:A$65496,Inscriptions!B$2:B$65498))","v":""},{"$f":"IF(ISBLANK($B62),\"\",LOOKUP($B62,Inscriptions!A$2:A$65496,Inscriptions!C$2:C$65498))","v":""},{"$f":"IF(ISBLANK($B62),\"\",LOOKUP($B62,Inscriptions!A$2:A$65496,Inscriptions!D$2:D$65498))","v":""},null,null,0,0,0,"",""]
[59,null,{"$f":"IF(ISBLANK($B63),\"\",LOOKUP($B63,Inscriptions!A$2:A$65496,Inscriptions!B$2:B$65498))","v":""},{"$f":"IF(ISBLANK($B63),\"\",LOOKUP($B63,Inscriptions!A$2:A$65496,Inscriptions!C$2:C$65498))","v":""},{"$f":"IF(ISBLANK($B63),\"\",LOOKUP($B63,Inscriptions!A$2:A$65496,Inscriptions!D$2:D$65498))","v":""},null,null,0,0,0,"",""]
[60,null,{"$f":"IF(ISBLANK($B64),\"\",LOOKUP($B64,Inscriptions!A$2:A$65496,Inscriptions!B$2:B$65498))","v":""},{"$f":"IF(ISBLANK($B64),\"\",LOOKUP($B64,Inscriptions!A$2:A$65496,Inscriptions!C$2:C$65498))","v":""},{"$f":"IF(ISBLANK($B64),\"\",LOOKUP($B64,Inscriptions!A$2:A$65496,Inscriptions!D$2:D$65498))","v":""},null,null,0,0,0,"",""]
[61,null,{"$f":"IF(ISBLANK($B65),\"\",LOOKUP($B65,Inscriptions!A$2:A$65496,Inscriptions!B$2:B$65498))","v":""},{"$f":"IF(ISBLANK($B65),\"\",LOOKUP($B65,Inscriptions!A$2:A$65496,Inscriptions!C$2:C$65498))","v":""},{"$f":"IF(ISBLANK($B65),\"\",LOOKUP($B65,Inscriptions!A$2:A$65496,Inscriptions!D$2:D$65498))","v":""},null,null,0,0,0,"",""]
[62,null,{"$f":"IF(ISBLANK($B66),\"\",LOOKUP($B66,Inscriptions!A$2:A$65496,Inscriptions!B$2:B$65498))","v":""},{"$f":"IF(ISBLANK($B66),\"\",LOOKUP($B66,Inscriptions!A$2:A$65496,Inscriptions!C$2:C$65498))","v":""},{"$f":"IF(ISBLANK($B66),\"\",LOOKUP($B66,Inscriptions!A$2:A$65496,Inscriptions!D$2:D$65498))","v":""},null,null,0,0,0,"",""]
[63,null,{"$f":"IF(ISBLANK($B67),\"\",LOOKUP($B67,Inscriptions!A$2:A$65496,Inscriptions!B$2:B$65498))","v":""},{"$f":"IF(ISBLANK($B67),\"\",LOOKUP($B67,Inscriptions!A$2:A$65496,Inscriptions!C$2:C$65498))","v":""},{"$f":"IF(ISBLANK($B67),\"\",LOOKUP($B67,Inscriptions!A$2:A$65496,Inscriptions!D$2:D$65498))","v":""},null,null,0,0,0,"",""]
[64,null,{"$f":"IF(ISBLANK($B68),\"\",LOOKUP($B68,Inscriptions!A$2:A$65496,Inscriptions!B$2:B$65498))","v":""},{"$f":"IF(ISBLANK($B68),\"\",LOOKUP($B68,Inscriptions!A$2:A$65496,Inscriptions!C$2:C$65498))","v":""},{"$f":"IF(ISBLANK($B68),\"\",LOOKUP($B68,Inscriptions!A$2:A$65496,Inscriptions!D$2:D$65498))","v":""},null,null,0,0,0,"",""]
[65,null,{"$f":"IF(ISBLANK($B69),\"\",LOOKUP($B69,Inscriptions!A$2:A$65496,Inscriptions!B$2:B$65498))","v":""},{"$f":"IF(ISBLANK($B69),\"\",LOOKUP($B69,Inscriptions!A$2:A$65496,Inscriptions!C$2:C$65498))","v":""},{"$f":"IF(ISBLANK($B69),\"\",LOOKUP($B69,Inscriptions!A$2:A$65496,Inscriptions!D$2:D$65498))","v":""},null,null,0,0,0,"",""]
[66,null,{"$f":"IF(ISBLANK($B70),\"\",LOOKUP($B70,Inscriptions!A$2:A$65496,Inscriptions!B$2:B$65498))","v":""},{"$f":"IF(ISBLANK($B70),\"\",LOOKUP($B70,Inscriptions!A$2:A$65496,Inscriptions!C$2:C$65498))","v":""},{"$f":"IF(ISBLANK($B70),\"\",LOOKUP($B70,Inscriptions!A$2:A$65496,Inscriptions!D$2:D$65498))","v":""},null,null,{"$f":"ROUNDDOWN(G70/10000,0)","v":0},{"$f":"ROUNDDOWN((G70-H70*10000)/100,0)","v":0},{"$f":"ROUNDDOWN((G70-(H70*10000)-(I70*100)),0)","v":0},{"$f":"IF((H70+I70+J70)=0,\"\",ROUNDDOWN((K$4/((H70*3600)+(I70*60)+J70))*3.6,2))","v":""},{"$f":"IF(K70=\"\",\"\",\"km/h\")","v":""}]
[67,null,{"$f":"IF(ISBLANK($B71),\"\",LOOKUP($B71,Inscriptions!A$2:A$65496,Inscriptions!B$2:B$65498))","v":""},{"$f":"IF(ISBLANK($B71),\"\",LOOKUP($B71,Inscriptions!A$2:A$65496,Inscriptions!C$2:C$65498))","v":""},{"$f":"IF(ISBLANK($B71),\"\",LOOKUP($B71,Inscriptions!A$2:A$65496,Inscriptions!D$2:D$65498))","v":""},null,null,0,0,0,"",""]
[68,null,{"$f":"IF(ISBLANK($B72),\"\",LOOKUP($B72,Inscriptions!A$2:A$65496,Inscriptions!B$2:B$65498))","v":""},{"$f":"IF(ISBLANK($B72),\"\",LOOKUP($B72,Inscriptions!A$2:A$65496,Inscriptions!C$2:C$65498))","v":""},{"$f":"IF(ISBLANK($B72),\"\",LOOKUP($B72,Inscriptions!A$2:A$65496,Inscriptions!D$2:D$65498))","v":""},null,null,0,0,0,"",""]
[69,null,{"$f":"IF(ISBLANK($B73),\"\",LOOKUP($B73,Inscriptions!A$2:A$65496,Inscriptions!B$2:B$65498))","v":""},{"$f":"IF(ISBLANK($B73),\"\",LOOKUP($B73,Inscriptions!A$2:A$65496,Inscriptions!C$2:C$65498))","v":""},{"$f":"IF(ISBLANK($B73),\"\",LOOKUP($B73,Inscriptions!A$2:A$65496,Inscriptions!D$2:D$65498))","v":""},null,null,0,0,0,"",""]
[70,null,{"$f":"IF(ISBLANK($B74),\"\",LOOKUP($B74,Inscriptions!A$2:A$65496,Inscriptions!B$2:B$65498))","v":""},{"$f":"IF(ISBLANK($B74),\"\",LOOKUP($B74,Inscriptions!A$2:A$65496,Inscriptions!C$2:C$65498))","v":""},{"$f":"IF(ISBLANK($B74),\"\",LOOKUP($B74,Inscriptions!A$2:A$65496,Inscriptions!D$2:D$65498))","v":""},null,null,0,0,0,"",""]
[71,null,{"$f":"IF(ISBLANK($B75),\"\",LOOKUP($B75,Inscriptions!A$2:A$65496,Inscriptions!B$2:B$65498))","v":""},{"$f":"IF(ISBLANK($B75),\"\",LOOKUP($B75,Inscriptions!A$2:A$65496,Inscriptions!C$2:C$65498))","v":""},{"$f":"IF(ISBLANK($B75),\"\",LOOKUP($B75,Inscriptions!A$2:A$65496,Inscriptions!D$2:D$65498))","v":""},null,null,0,0,0,"",""]
[72,null,{"$f":"IF(ISBLANK($B76),\"\",LOOKUP($B76,Inscriptions!A$2:A$65496,Inscriptions!B$2:B$65498))","v":""},{"$f":"IF(ISBLANK($B76),\"\",LOOKUP($B76,Inscriptions!A$2:A$65496,Inscriptions!C$2:C$65498))","v":""},{"$f":"IF(ISBLANK($B76),\"\",LOOKUP($B76,Inscriptions!A$2:A$65496,Inscriptions!D$2:D$65498))","v":""},null,null,0,0,0,"",""]
[73,null,{"$f":"IF(ISBLANK($B77),\"\",LOOKUP($B77,Inscriptions!A$2:A$65496,Inscriptions!B$2:B$65498))","v":""},{"$f":"IF(ISBLANK($B77),\"\",LOOKUP($B77,Inscriptions!A$2:A$65496,Inscriptions!C$2:C$65498))","v":""},{"$f":"IF(ISBLANK($B77),\"\",LOOKUP($B77,Inscriptions!A$2:A$65496,Inscriptions!D$2:D$65498))","v":""},null,null,0,0,0,"",""]
[74,null,{"$f":"IF(ISBLANK($B78),\"\",LOOKUP($B78,Inscriptions!A$2:A$65496,Inscriptions!B$2:B$65498))","v":""},{"$f":"IF(ISBLANK($B78),\"\",LOOKUP($B78,Inscriptions!A$2:A$65496,Inscriptions!C$2:C$65498))","v":""},{"$f":"IF(ISBLANK($B78),\"\",LOOKUP($B78,Inscriptions!A$2:A$65496,Inscriptions!D$2:D$65498))","v":""},null,null,0,0,0,"",""]
[75,null,{"$f":"IF(ISBLANK($B79),\"\",LOOKUP($B79,Inscriptions!A$2:A$65496,Inscriptions!B$2:B$65498))","v":""},{"$f":"IF(ISBLANK($B79),\"\",LOOKUP($B79,Inscriptions!A$2:A$65496,Inscriptions!C$2:C$65498))","v":""},{"$f":"IF(ISBLANK($B79),\"\",LOOKUP($B79,Inscriptions!A$2:A$65496,Inscriptions!D$2:D$65498))","v":""},null,null,0,0,0,"",""]
[76,null,{"$f":"IF(ISBLANK($B80),\"\",LOOKUP($B80,Inscriptions!A$2:A$65496,Inscriptions!B$2:B$65498))","v":""},{"$f":"IF(ISBLANK($B80),\"\",LOOKUP($B80,Inscriptions!A$2:A$65496,Inscriptions!C$2:C$65498))","v":""},{"$f":"IF(ISBLANK($B80),\"\",LOOKUP($B80,Inscriptions!A$2:A$65496,Inscriptions!D$2:D$65498))","v":""},null,null,0,0,0,"",""]
[77,null,{"$f":"IF(ISBLANK($B81),\"\",LOOKUP($B81,Inscriptions!A$2:A$65496,Inscriptions!B$2:B$65498))","v":""},{"$f":"IF(ISBLANK($B81),\"\",LOOKUP($B81,Inscriptions!A$2:A$65496,Inscriptions!C$2:C$65498))","v":""},{"$f":"IF(ISBLANK($B81),\"\",LOOKUP($B81,Inscriptions!A$2:A$65496,Inscriptions!D$2:D$65498))","v":""},null,null,0,0,0,"",""]
[78,null,{"$f":"IF(ISBLANK($B82),\"\",LOOKUP($B82,Inscriptions!A$2:A$65496,Inscriptions!B$2:B$65498))","v":""},{"$f":"IF(ISBLANK($B82),\"\",LOOKUP($B82,Inscriptions!A$2:A$65496,Inscriptions!C$2:C$65498))","v":""},{"$f":"IF(ISBLANK($B82),\"\",LOOKUP($B82,Inscriptions!A$2:A$65496,Inscriptions!D$2:D$65498))","v":""},null,null,0,0,0,"",""]
[79,null,{"$f":"IF(ISBLANK($B83),\"\",LOOKUP($B83,Inscriptions!A$2:A$65496,Inscriptions!B$2:B$65498))","v":""},{"$f":"IF(ISBLANK($B83),\"\",LOOKUP($B83,Inscriptions!A$2:A$65496,Inscriptions!C$2:C$65498))","v":""},{"$f":"IF(ISBLANK($B83),\"\",LOOKUP($B83,Inscriptions!A$2:A$65496,Inscriptions!D$2:D$65498))","v":""},null,null,0,0,0,"",""]
[80,null,{"$f":"IF(ISBLANK($B84),\"\",LOOKUP($B84,Inscriptions!A$2:A$65496,Inscriptions!B$2:B$65498))","v":""},{"$f":"IF(ISBLANK($B84),\"\",LOOKUP($B84,Inscriptions!A$2:A$65496,Inscriptions!C$2:C$65498))","v":""},{"$f":"IF(ISBLANK($B84),\"\",LOOKUP($B84,Inscriptions!A$2:A$65496,Inscriptions!D$2:D$65498))","v":""},null,null,0,0,0,"",""]
[81,null,{"$f":"IF(ISBLANK($B85),\"\",LOOKUP($B85,Inscriptions!A$2:A$65496,Inscriptions!B$2:B$65498))","v":""},{"$f":"IF(ISBLANK($B85),\"\",LOOKUP($B85,Inscriptions!A$2:A$65496,Inscriptions!C$2:C$65498))","v":""},{"$f":"IF(ISBLANK($B85),\"\",LOOKUP($B85,Inscriptions!A$2:A$65496,Inscriptions!D$2:D$65498))","v":""},null,null,0,0,0,"",""]
[82,null,{"$f":"IF(ISBLANK($B86),\"\",LOOKUP($B86,Inscriptions!A$2:A$65496,Inscriptions!B$2:B$65498))","v":""},{"$f":"IF(ISBLANK($B86),\"\",LOOKUP($B86,Inscriptions!A$2:A$65496,Inscriptions!C$2:C$65498))","v":""},{"$f":"IF(ISBLANK($B86),\"\",LOOKUP($B86,Inscriptions!A$2:A$65496,Inscriptions!D$2:D$65498))","v":""},null,null,0,0,0,"",""]
[83,null,{"$f":"IF(ISBLANK($B87),\"\",LOOKUP($B87,Inscriptions!A$2:A$65496,Inscriptions!B$2:B$65498))","v":""},{"$f":"IF(ISBLANK($B87),\"\",LOOKUP($B87,Inscriptions!A$2:A$65496,Inscriptions!C$2:C$65498))","v":""},{"$f":"IF(ISBLANK($B87),\"\",LOOKUP($B87,Inscriptions!A$2:A$65496,Inscriptions!D$2:D$65498))","v":""},null,null,0,0,0,"",""]
[84,null,{"$f":"IF(ISBLANK($B88),\"\",LOOKUP($B88,Inscriptions!A$2:A$65496,Inscriptions!B$2:B$65498))","v":""},{"$f":"IF(ISBLANK($B88),\"\",LOOKUP($B88,Inscriptions!A$2:A$65496,Inscriptions!C$2:C$65498))","v":""},{"$f":"IF(ISBLANK($B88),\"\",LOOKUP($B88,Inscriptions!A$2:A$65496,Inscriptions!D$2:D$65498))","v":""},null,null,0,0,0,"",""]
[85,null,{"$f":"IF(ISBLANK($B89),\"\",LOOKUP($B89,Inscriptions!A$2:A$65496,Inscriptions!B$2:B$65498))","v":""},{"$f":"IF(ISBLANK($B89),\"\",LOOKUP($B89,Inscriptions!A$2:A$65496,Inscriptions!C$2:C$65498))","v":""},{"$f":"IF(ISBLANK($B89),\"\",LOOKUP($B89,Inscriptions!A$2:A$65496,Inscriptions!D$2:D$65498))","v":""},null,null,0,0,0,"",""]
[86,null,{"$f":"IF(ISBLANK($B90),\"\",LOOKUP($B90,Inscriptions!A$2:A$65496,Inscriptions!B$2:B$65498))","v":""},{"$f":"IF(ISBLANK($B90),\"\",LOOKUP($B90,Inscriptions!A$2:A$65496,Inscriptions!C$2:C$65498))","v":""},{"$f":"IF(ISBLANK($B90),\"\",LOOKUP($B90,Inscriptions!A$2:A$65496,Inscriptions!D$2:D$65498))","v":""},null,null,0,0,0,"",""]
[87,null,{"$f":"IF(ISBLANK($B91),\"\",LOOKUP($B91,Inscriptions!A$2:A$65496,Inscriptions!B$2:B$65498))","v":""},{"$f":"IF(ISBLANK($B91),\"\",LOOKUP($B91,Inscriptions!A$2:A$65496,Inscriptions!C$2:C$65498))","v":""},{"$f":"IF(ISBLANK($B91),\"\",LOOKUP($B91,Inscriptions!A$2:A$65496,Inscriptions!D$2:D$65498))","v":""},null,null,0,0,0,"",""]
[88,null,{"$f":"IF(ISBLANK($B92),\"\",LOOKUP($B92,Inscriptions!A$2:A$65496,Inscriptions!B$2:B$65498))","v":""},{"$f":"IF(ISBLANK($B92),\"\",LOOKUP($B92,Inscriptions!A$2:A$65496,Inscriptions!C$2:C$65498))","v":""},{"$f":"IF(ISBLANK($B92),\"\",LOOKUP($B92,Inscriptions!A$2:A$65496,Inscriptions!D$2:D$65498))","v":""},null,null,0,0,0,"",""]
[89,null,{"$f":"IF(ISBLANK($B93),\"\",LOOKUP($B93,Inscriptions!A$2:A$65496,Inscriptions!B$2:B$65498))","v":""},{"$f":"IF(ISBLANK($B93),\"\",LOOKUP($B93,Inscriptions!A$2:A$65496,Inscriptions!C$2:C$65498))","v":""},{"$f":"IF(ISBLANK($B93),\"\",LOOKUP($B93,Inscriptions!A$2:A$65496,Inscriptions!D$2:D$65498))","v":""},null,null,0,0,0,"",""]
[90,null,{"$f":"IF(ISBLANK($B94),\"\",LOOKUP($B94,Inscriptions!A$2:A$65496,Inscriptions!B$2:B$65498))","v":""},{"$f":"IF(ISBLANK($B94),\"\",LOOKUP($B94,Inscriptions!A$2:A$65496,Inscriptions!C$2:C$65498))","v":""},{"$f":"IF(ISBLANK($B94),\"\",LOOKUP($B94,Inscriptions!A$2:A$65496,Inscriptions!D$2:D$65498))","v":""},null,null,0,0,0,"",""]
[91,null,{"$f":"IF(ISBLANK($B95),\"\",LOOKUP($B95,Inscriptions!A$2:A$65496,Inscriptions!B$2:B$65498))","v":""},{"$f":"IF(ISBLANK($B95),\"\",LOOKUP($B95,Inscriptions!A$2:A$65496,Inscriptions!C$2:C$65498))","v":""},{"$f":"IF(ISBLANK($B95),\"\",LOOKUP($B95,Inscriptions!A$2:A$65496,Inscriptions!D$2:D$65498))","v":""},null,null,0,0,0,"",""]
[92,null,{"$f":"IF(ISBLANK($B96),\"\",LOOKUP($B96,Inscriptions!A$2:A$65496,Inscriptions!B$2:B$65498))","v":""},{"$f":"IF(ISBLANK($B96),\"\",LOOKUP($B96,Inscriptions!A$2:A$65496,Inscriptions!C$2:C$65498))","v":""},{"$f":"IF(ISBLANK($B96),\"\",LOOKUP($B96,Inscriptions!A$2:A$65496,Inscriptions!D$2:D$65498))","v":""},null,null,0,0,0,"",""]
[93,null,{"$f":"IF(ISBLANK($B97),\"\",LOOKUP($B97,Inscriptions!A$2:A$65496,Inscriptions!B$2:B$65498))","v":""},{"$f":"IF(ISBLANK($B97),\"\",LOOKUP($B97,Inscriptions!A$2:A$65496,Inscriptions!C$2:C$65498))","v":""},{"$f":"IF(ISBLANK($B97),\"\",LOOKUP($B97,Inscriptions!A$2:A$65496,Inscriptions!D$2:D$65498))","v":""},null,null,0,0,0,"",""]
[94,null,{"$f":"IF(ISBLANK($B98),\"\",LOOKUP($B98,Inscriptions!A$2:A$65496,Inscriptions!B$2:B$65498))","v":""},{"$f":"IF(ISBLANK($B98),\"\",LOOKUP($B98,Inscriptions!A$2:A$65496,Inscriptions!C$2:C$65498))","v":""},{"$f":"IF(ISBLANK($B98),\"\",LOOKUP($B98,Inscriptions!A$2:A$65496,Inscriptions!D$2:D$65498))","v":""},null,null,0,0,0,"",""]
[95,null,{"$f":"IF(ISBLANK($B99),\"\",LOOKUP($B99,Inscriptions!A$2:A$65496,Inscriptions!B$2:B$65498))","v":""},{"$f":"IF(ISBLANK($B99),\"\",LOOKUP($B99,Inscriptions!A$2:A$65496,Inscriptions!C$2:C$65498))","v":""},{"$f":"IF(ISBLANK($B99),\"\",LOOKUP($B99,Inscriptions!A$2:A$65496,Inscriptions!D$2:D$65498))","v":""},null,null,0,0,0,"",""]
[96,null,{"$f":"IF(ISBLANK($B100),\"\",LOOKUP($B100,Inscriptions!A$2:A$65496,Inscriptions!B$2:B$65498))","v":""},{"$f":"IF(ISBLANK($B100),\"\",LOOKUP($B100,Inscriptions!A$2:A$65496,Inscriptions!C$2:C$65498))","v":""},{"$f":"IF(ISBLANK($B100),\"\",LOOKUP($B100,Inscriptions!A$2:A$65496,Inscriptions!D$2:D$65498))","v":""},null,null,0,0,0,"",""]
[97,null,{"$f":"IF(ISBLANK($B101),\"\",LOOKUP($B101,Inscriptions!A$2:A$65496,Inscriptions!B$2:B$65498))","v":""},{"$f":"IF(ISBLANK($B101),\"\",LOOKUP($B101,Inscriptions!A$2:A$65496,Inscriptions!C$2:C$65498))","v":""},{"$f":"IF(ISBLANK($B101),\"\",LOOKUP($B101,Inscriptions!A$2:A$65496,Inscriptions!D$2:D$65498))","v":""},null,null,0,0,0,"",""]
[98,null,{"$f":"IF(ISBLANK($B102),\"\",LOOKUP($B102,Inscriptions!A$2:A$65496,Inscriptions!B$2:B$65498))","v":""},{"$f":"IF(ISBLANK($B102),\"\",LOOKUP($B102,Inscriptions!A$2:A$65496,Inscriptions!C$2:C$65498))","v":""},{"$f":"IF(ISBLANK($B102),\"\",LOOKUP($B102,Inscriptions!A$2:A$65496,Inscriptions!D$2:D$65498))","v":""},null,null,0,0,0,"",""]
[99,null,{"$f":"IF(ISBLANK($B103),\"\",LOOKUP($B103,Inscriptions!A$2:A$65496,Inscriptions!B$2:B$65498))","v":""},{"$f":"IF(ISBLANK($B103),\"\",LOOKUP($B103,Inscriptions!A$2:A$65496,Inscriptions!C$2:C$65498))","v":""},{"$f":"IF(ISBLANK($B103),\"\",LOOKUP($B103,Inscriptions!A$2:A$65496,Inscriptions!D$2:D$65498))","v":""},null,null,0,0,0,"",""]
[100,null,{"$f":"IF(ISBLANK($B104),\"\",LOOKUP($B104,Inscriptions!A$2:A$65496,Inscriptions!B$2:B$65498))","v":""},{"$f":"IF(ISBLANK($B104),\"\",LOOKUP($B104,Inscriptions!A$2:A$65496,Inscriptions!C$2:C$65498))","v":""},{"$f":"IF(ISBLANK($B104),\"\",LOOKUP($B104,Inscriptions!A$2:A$65496,Inscriptions!D$2:D$65498))","v":""},null,null,0,0,0,"",""]
[101,null,{"$f":"IF(ISBLANK($B105),\"\",LOOKUP($B105,Inscriptions!A$2:A$65496,Inscriptions!B$2:B$65498))","v":""},{"$f":"IF(ISBLANK($B105),\"\",LOOKUP($B105,Inscriptions!A$2:A$65496,Inscriptions!C$2:C$65498))","v":""},{"$f":"IF(ISBLANK($B105),\"\",LOOKUP($B105,Inscriptions!A$2:A$65496,Inscriptions!D$2:D$65498))","v":""},null,null,0,0,0,"",""]
[102,null,{"$f":"IF(ISBLANK($B106),\"\",LOOKUP($B106,Inscriptions!A$2:A$65496,Inscriptions!B$2:B$65498))","v":""},{"$f":"IF(ISBLANK($B106),\"\",LOOKUP($B106,Inscriptions!A$2:A$65496,Inscriptions!C$2:C$65498))","v":""},{"$f":"IF(ISBLANK($B106),\"\",LOOKUP($B106,Inscriptions!A$2:A$65496,Inscriptions!D$2:D$65498))","v":""},null,null,0,0,0,"",""]
[103,null,{"$f":"IF(ISBLANK($B107),\"\",LOOKUP($B107,Inscriptions!A$2:A$65496,Inscriptions!B$2:B$65498))","v":""},{"$f":"IF(ISBLANK($B107),\"\",LOOKUP($B107,Inscriptions!A$2:A$65496,Inscriptions!C$2:C$65498))","v":""},{"$f":"IF(ISBLANK($B107),\"\",LOOKUP($B107,Inscriptions!A$2:A$65496,Inscriptions!D$2:D$65498))","v":""},null,null,0,0,0,"",""]
[104,null,{"$f":"IF(ISBLANK($B108),\"\",LOOKUP($B108,Inscriptions!A$2:A$65496,Inscriptions!B$2:B$65498))","v":""},{"$f":"IF(ISBLANK($B108),\"\",LOOKUP($B108,Inscriptions!A$2:A$65496,Inscriptions!C$2:C$65498))","v":""},{"$f":"IF(ISBLANK($B108),\"\",LOOKUP($B108,Inscriptions!A$2:A$65496,Inscriptions!D$2:D$65498))","v":""},null,null,0,0,0,"",""]
[105,null,{"$f":"IF(ISBLANK($B109),\"\",LOOKUP($B109,Inscriptions!A$2:A$65496,Inscriptions!B$2:B$65498))","v":""},{"$f":"IF(ISBLANK($B109),\"\",LOOKUP($B109,Inscriptions!A$2:A$65496,Inscriptions!C$2:C$65498))","v":""},{"$f":"IF(ISBLANK($B109),\"\",LOOKUP($B109,Inscriptions!A$2:A$65496,Inscriptions!D$2:D$65498))","v":""},null,null,0,0,0,"",""]
[106,null,{"$f":"IF(ISBLANK($B110),\"\",LOOKUP($B110,Inscriptions!A$2:A$65496,Inscriptions!B$2:B$65498))","v":""},{"$f":"IF(ISBLANK($B110),\"\",LOOKUP($B110,Inscriptions!A$2:A$65496,Inscriptions!C$2:C$65498))","v":""},{"$f":"IF(ISBLANK($B110),\"\",LOOKUP($B110,Inscriptions!A$2:A$65496,Inscriptions!D$2:D$65498))","v":""},null,null,0,0,0,"",""]
[107,null,{"$f":"IF(ISBLANK($B111),\"\",LOOKUP($B111,Inscriptions!A$2:A$65496,Inscriptions!B$2:B$65498))","v":""},{"$f":"IF(ISBLANK($B111),\"\",LOOKUP($B111,Inscriptions!A$2:A$65496,Inscriptions!C$2:C$65498))","v":""},{"$f":"IF(ISBLANK($B111),\"\",LOOKUP($B111,Inscriptions!A$2:A$65496,Inscriptions!D$2:D$65498))","v":""},null,null,0,0,0,"",""]
[108,null,{"$f":"IF(ISBLANK($B112),\"\",LOOKUP($B112,Inscriptions!A$2:A$65496,Inscriptions!B$2:B$65498))","v":""},{"$f":"IF(ISBLANK($B112),\"\",LOOKUP($B112,Inscriptions!A$2:A$65496,Inscriptions!C$2:C$65498))","v":""},{"$f":"IF(ISBLANK($B112),\"\",LOOKUP($B112,Inscriptions!A$2:A$65496,Inscriptions!D$2:D$65498))","v":""},null,null,0,0,0,"",""]
[109,null,{"$f":"IF(ISBLANK($B113),\"\",LOOKUP($B113,Inscriptions!A$2:A$65496,Inscriptions!B$2:B$65498))","v":""},{"$f":"IF(ISBLANK($B113),\"\",LOOKUP($B113,Inscriptions!A$2:A$65496,Inscriptions!C$2:C$65498))","v":""},{"$f":"IF(ISBLANK($B113),\"\",LOOKUP($B113,Inscriptions!A$2:A$65496,Inscriptions!D$2:D$65498))","v":""},null,null,0,0,0,"",""]
[110,null,{"$f":"IF(ISBLANK($B114),\"\",LOOKUP($B114,Inscriptions!A$2:A$65496,Inscriptions!B$2:B$65498))","v":""},{"$f":"IF(ISBLANK($B114),\"\",LOOKUP($B114,Inscriptions!A$2:A$65496,Inscriptions!C$2:C$65498))","v":""},{"$f":"IF(ISBLANK($B114),\"\",LOOKUP($B114,Inscriptions!A$2:A$65496,Inscriptions!D$2:D$65498))","v":""},null,null,0,0,0,"",""]
[111,null,{"$f":"IF(ISBLANK($B115),\"\",LOOKUP($B115,Inscriptions!A$2:A$65496,Inscriptions!B$2:B$65498))","v":""},{"$f":"IF(ISBLANK($B115),\"\",LOOKUP($B115,Inscriptions!A$2:A$65496,Inscriptions!C$2:C$65498))","v":""},{"$f":"IF(ISBLANK($B115),\"\",LOOKUP($B115,Inscriptions!A$2:A$65496,Inscriptions!D$2:D$65498))","v":""},null,null,0,0,0,"",""]
[112,null,{"$f":"IF(ISBLANK($B116),\"\",LOOKUP($B116,Inscriptions!A$2:A$65496,Inscriptions!B$2:B$65498))","v":""},{"$f":"IF(ISBLANK($B116),\"\",LOOKUP($B116,Inscriptions!A$2:A$65496,Inscriptions!C$2:C$65498))","v":""},{"$f":"IF(ISBLANK($B116),\"\",LOOKUP($B116,Inscriptions!A$2:A$65496,Inscriptions!D$2:D$65498))","v":""},null,null,0,0,0,"",""]
[113,null,{"$f":"IF(ISBLANK($B117),\"\",LOOKUP($B117,Inscriptions!A$2:A$65496,Inscriptions!B$2:B$65498))","v":""},{"$f":"IF(ISBLANK($B117),\"\",LOOKUP($B117,Inscriptions!A$2:A$65496,Inscriptions!C$2:C$65498))","v":""},{"$f":"IF(ISBLANK($B117),\"\",LOOKUP($B117,Inscriptions!A$2:A$65496,Inscriptions!D$2:D$65498))","v":""},null,null,0,0,0,"",""]
[114,null,{"$f":"IF(ISBLANK($B118),\"\",LOOKUP($B118,Inscriptions!A$2:A$65496,Inscriptions!B$2:B$65498))","v":""},{"$f":"IF(ISBLANK($B118),\"\",LOOKUP($B118,Inscriptions!A$2:A$65496,Inscriptions!C$2:C$65498))","v":""},{"$f":"IF(ISBLANK($B118),\"\",LOOKUP($B118,Inscriptions!A$2:A$65496,Inscriptions!D$2:D$65498))","v":""},null,null,0,0,0,"",""]
[115,null,{"$f":"IF(ISBLANK($B119),\"\",LOOKUP($B119,Inscriptions!A$2:A$65496,Inscriptions!B$2:B$65498))","v":""},{"$f":"IF(ISBLANK($B119),\"\",LOOKUP($B119,Inscriptions!A$2:A$65496,Inscriptions!C$2:C$65498))","v":""},{"$f":"IF(ISBLANK($B119),\"\",LOOKUP($B119,Inscriptions!A$2:A$65496,Inscriptions!D$2:D$65498))","v":""},null,null,0,0,0,"",""]
[116,null,{"$f":"IF(ISBLANK($B120),\"\",LOOKUP($B120,Inscriptions!A$2:A$65496,Inscriptions!B$2:B$65498))","v":""},{"$f":"IF(ISBLANK($B120),\"\",LOOKUP($B120,Inscriptions!A$2:A$65496,Inscriptions!C$2:C$65498))","v":""},{"$f":"IF(ISBLANK($B120),\"\",LOOKUP($B120,Inscriptions!A$2:A$65496,Inscriptions!D$2:D$65498))","v":""},null,null,0,0,0,"",""]
[117,null,{"$f":"IF(ISBLANK($B121),\"\",LOOKUP($B121,Inscriptions!A$2:A$65496,Inscriptions!B$2:B$65498))","v":""},{"$f":"IF(ISBLANK($B121),\"\",LOOKUP($B121,Inscriptions!A$2:A$65496,Inscriptions!C$2:C$65498))","v":""},{"$f":"IF(ISBLANK($B121),\"\",LOOKUP($B121,Inscriptions!A$2:A$65496,Inscriptions!D$2:D$65498))","v":""},null,null,0,0,0,"",""]
[118,null,{"$f":"IF(ISBLANK($B122),\"\",LOOKUP($B122,Inscriptions!A$2:A$65496,Inscriptions!B$2:B$65498))","v":""},{"$f":"IF(ISBLANK($B122),\"\",LOOKUP($B122,Inscriptions!A$2:A$65496,Inscriptions!C$2:C$65498))","v":""},{"$f":"IF(ISBLANK($B122),\"\",LOOKUP($B122,Inscriptions!A$2:A$65496,Inscriptions!D$2:D$65498))","v":""},null,null,0,0,0,"",""]
[119,null,{"$f":"IF(ISBLANK($B123),\"\",LOOKUP($B123,Inscriptions!A$2:A$65496,Inscriptions!B$2:B$65498))","v":""},{"$f":"IF(ISBLANK($B123),\"\",LOOKUP($B123,Inscriptions!A$2:A$65496,Inscriptions!C$2:C$65498))","v":""},{"$f":"IF(ISBLANK($B123),\"\",LOOKUP($B123,Inscriptions!A$2:A$65496,Inscriptions!D$2:D$65498))","v":""},null,null,0,0,0,"",""]
[120,null,{"$f":"IF(ISBLANK($B124),\"\",LOOKUP($B124,Inscriptions!A$2:A$65496,Inscriptions!B$2:B$65498))","v":""},{"$f":"IF(ISBLANK($B124),\"\",LOOKUP($B124,Inscriptions!A$2:A$65496,Inscriptions!C$2:C$65498))","v":""},{"$f":"IF(ISBLANK($B124),\"\",LOOKUP($B124,Inscriptions!A$2:A$65496,Inscriptions!D$2:D$65498))","v":""},null,null,0,0,0,"",""]
[121,null,{"$f":"IF(ISBLANK($B125),\"\",LOOKUP($B125,Inscriptions!A$2:A$65496,Inscriptions!B$2:B$65498))","v":""},{"$f":"IF(ISBLANK($B125),\"\",LOOKUP($B125,Inscriptions!A$2:A$65496,Inscriptions!C$2:C$65498))","v":""},{"$f":"IF(ISBLANK($B125),\"\",LOOKUP($B125,Inscriptions!A$2:A$65496,Inscriptions!D$2:D$65498))","v":""},null,null,0,0,0,"",""]
[122,null,{"$f":"IF(ISBLANK($B126),\"\",LOOKUP($B126,Inscriptions!A$2:A$65496,Inscriptions!B$2:B$65498))","v":""},{"$f":"IF(ISBLANK($B126),\"\",LOOKUP($B126,Inscriptions!A$2:A$65496,Inscriptions!C$2:C$65498))","v":""},{"$f":"IF(ISBLANK($B126),\"\",LOOKUP($B126,Inscriptions!A$2:A$65496,Inscriptions!D$2:D$65498))","v":""},null,null,0,0,0,"",""]
[123,null,{"$f":"IF(ISBLANK($B127),\"\",LOOKUP($B127,Inscriptions!A$2:A$65496,Inscriptions!B$2:B$65498))","v":""},{"$f":"IF(ISBLANK($B127),\"\",LOOKUP($B127,Inscriptions!A$2:A$65496,Inscriptions!C$2:C$65498))","v":""},{"$f":"IF(ISBLANK($B127),\"\",LOOKUP($B127,Inscriptions!A$2:A$65496,Inscriptions!D$2:D$65498))","v":""},null,null,0,0,0,"",""]
[124,null,{"$f":"IF(ISBLANK($B128),\"\",LOOKUP($B128,Inscriptions!A$2:A$65496,Inscriptions!B$2:B$65498))","v":""},{"$f":"IF(ISBLANK($B128),\"\",LOOKUP($B128,Inscriptions!A$2:A$65496,Inscriptions!C$2:C$65498))","v":""},{"$f":"IF(ISBLANK($B128),\"\",LOOKUP($B128,Inscriptions!A$2:A$65496,Inscriptions!D$2:D$65498))","v":""},null,null,0,0,0,"",""]
[125,null,{"$f":"IF(ISBLANK($B129),\"\",LOOKUP($B129,Inscriptions!A$2:A$65496,Inscriptions!B$2:B$65498))","v":""},{"$f":"IF(ISBLANK($B129),\"\",LOOKUP($B129,Inscriptions!A$2:A$65496,Inscriptions!C$2:C$65498))","v":""},{"$f":"IF(ISBLANK($B129),\"\",LOOKUP($B129,Inscriptions!A$2:A$65496,Inscriptions!D$2:D$65498))","v":""},null,null,0,0,0,"",""]
[126,null,{"$f":"IF(ISBLANK($B130),\"\",LOOKUP($B130,Inscriptions!A$2:A$65496,Inscriptions!B$2:B$65498))","v":""},{"$f":"IF(ISBLANK($B130),\"\",LOOKUP($B130,Inscriptions!A$2:A$65496,Inscriptions!C$2:C$65498))","v":""},{"$f":"IF(ISBLANK($B130),\"\",LOOKUP($B130,Inscriptions!A$2:A$65496,Inscriptions!D$2:D$65498))","v":""},null,null,0,0,0,"",""]
[127,null,{"$f":"IF(ISBLANK($B131),\"\",LOOKUP($B131,Inscriptions!A$2:A$65496,Inscriptions!B$2:B$65498))","v":""},{"$f":"IF(ISBLANK($B131),\"\",LOOKUP($B131,Inscriptions!A$2:A$65496,Inscriptions!C$2:C$65498))","v":""},{"$f":"IF(ISBLANK($B131),\"\",LOOKUP($B131,Inscriptions!A$2:A$65496,Inscriptions!D$2:D$65498))","v":""},null,null,0,0,0,"",""]
[128,null,{"$f":"IF(ISBLANK($B132),\"\",LOOKUP($B132,Inscriptions!A$2:A$65496,Inscriptions!B$2:B$65498))","v":""},{"$f":"IF(ISBLANK($B132),\"\",LOOKUP($B132,Inscriptions!A$2:A$65496,Inscriptions!C$2:C$65498))","v":""},{"$f":"IF(ISBLANK($B132),\"\",LOOKUP($B132,Inscriptions!A$2:A$65496,Inscriptions!D$2:D$65498))","v":""},null,null,0,0,0,"",""]
[129,null,{"$f":"IF(ISBLANK($B133),\"\",LOOKUP($B133,Inscriptions!A$2:A$65496,Inscriptions!B$2:B$65498))","v":""},{"$f":"IF(ISBLANK($B133),\"\",LOOKUP($B133,Inscriptions!A$2:A$65496,Inscriptions!C$2:C$65498))","v":""},{"$f":"IF(ISBLANK($B133),\"\",LOOKUP($B133,Inscriptions!A$2:A$65496,Inscriptions!D$2:D$65498))","v":""},null,null,0,0,0,"",""]
[130,null,{"$f":"IF(ISBLANK($B134),\"\",LOOKUP($B134,Inscriptions!A$2:A$65496,Inscriptions!B$2:B$65498))","v":""},{"$f":"IF(ISBLANK($B134),\"\",LOOKUP($B134,Inscriptions!A$2:A$65496,Inscriptions!C$2:C$65498))","v":""},{"$f":"IF(ISBLANK($B134),\"\",LOOKUP($B134,Inscriptions!A$2:A$65496,Inscriptions!D$2:D$65498))","v":""},null,null,{"$f":"ROUNDDOWN(G134/10000,0)","v":0},{"$f":"ROUNDDOWN((G134-H134*10000)/100,0)","v":0},{"$f":"ROUNDDOWN((G134-(H134*10000)-(I134*100)),0)","v":0},{"$f":"IF((H134+I134+J134)=0,\"\",ROUNDDOWN((K$4/((H134*3600)+(I134*60)+J134))*3.6,2))","v":""},{"$f":"IF(K134=\"\",\"\",\"km/h\")","v":""}]
[131,null,{"$f":"IF(ISBLANK($B135),\"\",LOOKUP($B135,Inscriptions!A$2:A$65496,Inscriptions!B$2:B$65498))","v":""},{"$f":"IF(ISBLANK($B135),\"\",LOOKUP($B135,Inscriptions!A$2:A$65496,Inscriptions!C$2:C$65498))","v":""},{"$f":"IF(ISBLANK($B135),\"\",LOOKUP($B135,Inscriptions!A$2:A$65496,Inscriptions!D$2:D$65498))","v":""},null,null,0,0,0,"",""]
[132,null,{"$f":"IF(ISBLANK($B136),\"\",LOOKUP($B136,Inscriptions!A$2:A$65496,Inscriptions!B$2:B$65498))","v":""},{"$f":"IF(ISBLANK($B136),\"\",LOOKUP($B136,Inscriptions!A$2:A$65496,Inscriptions!C$2:C$65498))","v":""},{"$f":"IF(ISBLANK($B136),\"\",LOOKUP($B136,Inscriptions!A$2:A$65496,Inscriptions!D$2:D$65498))","v":""},null,null,0,0,0,"",""]
[133,null,{"$f":"IF(ISBLANK($B137),\"\",LOOKUP($B137,Inscriptions!A$2:A$65496,Inscriptions!B$2:B$65498))","v":""},{"$f":"IF(ISBLANK($B137),\"\",LOOKUP($B137,Inscriptions!A$2:A$65496,Inscriptions!C$2:C$65498))","v":""},{"$f":"IF(ISBLANK($B137),\"\",LOOKUP($B137,Inscriptions!A$2:A$65496,Inscriptions!D$2:D$65498))","v":""},null,null,0,0,0,"",""]
[134,null,{"$f":"IF(ISBLANK($B138),\"\",LOOKUP($B138,Inscriptions!A$2:A$65496,Inscriptions!B$2:B$65498))","v":""},{"$f":"IF(ISBLANK($B138),\"\",LOOKUP($B138,Inscriptions!A$2:A$65496,Inscriptions!C$2:C$65498))","v":""},{"$f":"IF(ISBLANK($B138),\"\",LOOKUP($B138,Inscriptions!A$2:A$65496,Inscriptions!D$2:D$65498))","v":""},null,null,0,0,0,"",""]
[135,null,{"$f":"IF(ISBLANK($B139),\"\",LOOKUP($B139,Inscriptions!A$2:A$65496,Inscriptions!B$2:B$65498))","v":""},{"$f":"IF(ISBLANK($B139),\"\",LOOKUP($B139,Inscriptions!A$2:A$65496,Inscriptions!C$2:C$65498))","v":""},{"$f":"IF(ISBLANK($B139),\"\",LOOKUP($B139,Inscriptions!A$2:A$65496,Inscriptions!D$2:D$65498))","v":""},null,null,0,0,0,"",""]
[136,null,{"$f":"IF(ISBLANK($B140),\"\",LOOKUP($B140,Inscriptions!A$2:A$65496,Inscriptions!B$2:B$65498))","v":""},{"$f":"IF(ISBLANK($B140),\"\",LOOKUP($B140,Inscriptions!A$2:A$65496,Inscriptions!C$2:C$65498))","v":""},{"$f":"IF(ISBLANK($B140),\"\",LOOKUP($B140,Inscriptions!A$2:A$65496,Inscriptions!D$2:D$65498))","v":""},null,null,0,0,0,"",""]
[137,null,{"$f":"IF(ISBLANK($B141),\"\",LOOKUP($B141,Inscriptions!A$2:A$65496,Inscriptions!B$2:B$65498))","v":""},{"$f":"IF(ISBLANK($B141),\"\",LOOKUP($B141,Inscriptions!A$2:A$65496,Inscriptions!C$2:C$65498))","v":""},{"$f":"IF(ISBLANK($B141),\"\",LOOKUP($B141,Inscriptions!A$2:A$65496,Inscriptions!D$2:D$65498))","v":""},null,null,0,0,0,"",""]
[138,null,{"$f":"IF(ISBLANK($B142),\"\",LOOKUP($B142,Inscriptions!A$2:A$65496,Inscriptions!B$2:B$65498))","v":""},{"$f":"IF(ISBLANK($B142),\"\",LOOKUP($B142,Inscriptions!A$2:A$65496,Inscriptions!C$2:C$65498))","v":""},{"$f":"IF(ISBLANK($B142),\"\",LOOKUP($B142,Inscriptions!A$2:A$65496,Inscriptions!D$2:D$65498))","v":""},null,null,0,0,0,"",""]
[139,null,{"$f":"IF(ISBLANK($B143),\"\",LOOKUP($B143,Inscriptions!A$2:A$65496,Inscriptions!B$2:B$65498))","v":""},{"$f":"IF(ISBLANK($B143),\"\",LOOKUP($B143,Inscriptions!A$2:A$65496,Inscriptions!C$2:C$65498))","v":""},{"$f":"IF(ISBLANK($B143),\"\",LOOKUP($B143,Inscriptions!A$2:A$65496,Inscriptions!D$2:D$65498))","v":""},null,null,0,0,0,"",""]
[140,null,{"$f":"IF(ISBLANK($B144),\"\",LOOKUP($B144,Inscriptions!A$2:A$65496,Inscriptions!B$2:B$65498))","v":""},{"$f":"IF(ISBLANK($B144),\"\",LOOKUP($B144,Inscriptions!A$2:A$65496,Inscriptions!C$2:C$65498))","v":""},{"$f":"IF(ISBLANK($B144),\"\",LOOKUP($B144,Inscriptions!A$2:A$65496,Inscriptions!D$2:D$65498))","v":""},null,null,0,0,0,"",""]
[141,null,{"$f":"IF(ISBLANK($B145),\"\",LOOKUP($B145,Inscriptions!A$2:A$65496,Inscriptions!B$2:B$65498))","v":""},{"$f":"IF(ISBLANK($B145),\"\",LOOKUP($B145,Inscriptions!A$2:A$65496,Inscriptions!C$2:C$65498))","v":""},{"$f":"IF(ISBLANK($B145),\"\",LOOKUP($B145,Inscriptions!A$2:A$65496,Inscriptions!D$2:D$65498))","v":""},null,null,0,0,0,"",""]
[142,null,{"$f":"IF(ISBLANK($B146),\"\",LOOKUP($B146,Inscriptions!A$2:A$65496,Inscriptions!B$2:B$65498))","v":""},{"$f":"IF(ISBLANK($B146),\"\",LOOKUP($B146,Inscriptions!A$2:A$65496,Inscriptions!C$2:C$65498))","v":""},{"$f":"IF(ISBLANK($B146),\"\",LOOKUP($B146,Inscriptions!A$2:A$65496,Inscriptions!D$2:D$65498))","v":""},null,null,0,0,0,"",""]
[143,null,{"$f":"IF(ISBLANK($B147),\"\",LOOKUP($B147,Inscriptions!A$2:A$65496,Inscriptions!B$2:B$65498))","v":""},{"$f":"IF(ISBLANK($B147),\"\",LOOKUP($B147,Inscriptions!A$2:A$65496,Inscriptions!C$2:C$65498))","v":""},{"$f":"IF(ISBLANK($B147),\"\",LOOKUP($B147,Inscriptions!A$2:A$65496,Inscriptions!D$2:D$65498))","v":""},null,null,0,0,0,"",""]
[144,null,{"$f":"IF(ISBLANK($B148),\"\",LOOKUP($B148,Inscriptions!A$2:A$65496,Inscriptions!B$2:B$65498))","v":""},{"$f":"IF(ISBLANK($B148),\"\",LOOKUP($B148,Inscriptions!A$2:A$65496,Inscriptions!C$2:C$65498))","v":""},{"$f":"IF(ISBLANK($B148),\"\",LOOKUP($B148,Inscriptions!A$2:A$65496,Inscriptions!D$2:D$65498))","v":""},null,null,0,0,0,"",""]
[145,null,{"$f":"IF(ISBLANK($B149),\"\",LOOKUP($B149,Inscriptions!A$2:A$65496,Inscriptions!B$2:B$65498))","v":""},{"$f":"IF(ISBLANK($B149),\"\",LOOKUP($B149,Inscriptions!A$2:A$65496,Inscriptions!C$2:C$65498))","v":""},{"$f":"IF(ISBLANK($B149),\"\",LOOKUP($B149,Inscriptions!A$2:A$65496,Inscriptions!D$2:D$65498))","v":""},null,null,0,0,0,"",""]
[146,null,{"$f":"IF(ISBLANK($B150),\"\",LOOKUP($B150,Inscriptions!A$2:A$65496,Inscriptions!B$2:B$65498))","v":""},{"$f":"IF(ISBLANK($B150),\"\",LOOKUP($B150,Inscriptions!A$2:A$65496,Inscriptions!C$2:C$65498))","v":""},{"$f":"IF(ISBLANK($B150),\"\",LOOKUP($B150,Inscriptions!A$2:A$65496,Inscriptions!D$2:D$65498))","v":""},null,null,0,0,0,"",""]
[147,null,{"$f":"IF(ISBLANK($B151),\"\",LOOKUP($B151,Inscriptions!A$2:A$65496,Inscriptions!B$2:B$65498))","v":""},{"$f":"IF(ISBLANK($B151),\"\",LOOKUP($B151,Inscriptions!A$2:A$65496,Inscriptions!C$2:C$65498))","v":""},{"$f":"IF(ISBLANK($B151),\"\",LOOKUP($B151,Inscriptions!A$2:A$65496,Inscriptions!D$2:D$65498))","v":""},null,null,0,0,0,"",""]
[148,null,{"$f":"IF(ISBLANK($B152),\"\",LOOKUP($B152,Inscriptions!A$2:A$65496,Inscriptions!B$2:B$65498))","v":""},{"$f":"IF(ISBLANK($B152),\"\",LOOKUP($B152,Inscriptions!A$2:A$65496,Inscriptions!C$2:C$65498))","v":""},{"$f":"IF(ISBLANK($B152),\"\",LOOKUP($B152,Inscriptions!A$2:A$65496,Inscriptions!D$2:D$65498))","v":""},null,null,0,0,0,"",""]
[149,null,{"$f":"IF(ISBLANK($B153),\"\",LOOKUP($B153,Inscriptions!A$2:A$65496,Inscriptions!B$2:B$65498))","v":""},{"$f":"IF(ISBLANK($B153),\"\",LOOKUP($B153,Inscriptions!A$2:A$65496,Inscriptions!C$2:C$65498))","v":""},{"$f":"IF(ISBLANK($B153),\"\",LOOKUP($B153,Inscriptions!A$2:A$65496,Inscriptions!D$2:D$65498))","v":""},null,null,0,0,0,"",""]
[150,null,{"$f":"IF(ISBLANK($B154),\"\",LOOKUP($B154,Inscriptions!A$2:A$65496,Inscriptions!B$2:B$65498))","v":""},{"$f":"IF(ISBLANK($B154),\"\",LOOKUP($B154,Inscriptions!A$2:A$65496,Inscriptions!C$2:C$65498))","v":""},{"$f":"IF(ISBLANK($B154),\"\",LOOKUP($B154,Inscriptions!A$2:A$65496,Inscriptions!D$2:D$65498))","v":""},null,null,0,0,0,"",""]
[151,null,{"$f":"IF(ISBLANK($B155),\"\",LOOKUP($B155,Inscriptions!A$2:A$65496,Inscriptions!B$2:B$65498))","v":""},{"$f":"IF(ISBLANK($B155),\"\",LOOKUP($B155,Inscriptions!A$2:A$65496,Inscriptions!C$2:C$65498))","v":""},{"$f":"IF(ISBLANK($B155),\"\",LOOKUP($B155,Inscriptions!A$2:A$65496,Inscriptions!D$2:D$65498))","v":""},null,null,0,0,0,"",""]
[152,null,{"$f":"IF(ISBLANK($B156),\"\",LOOKUP($B156,Inscriptions!A$2:A$65496,Inscriptions!B$2:B$65498))","v":""},{"$f":"IF(ISBLANK($B156),\"\",LOOKUP($B156,Inscriptions!A$2:A$65496,Inscriptions!C$2:C$65498))","v":""},{"$f":"IF(ISBLANK($B156),\"\",LOOKUP($B156,Inscriptions!A$2:A$65496,Inscriptions!D$2:D$65498))","v":""},null,null,0,0,0,"",""]
[153,null,{"$f":"IF(ISBLANK($B157),\"\",LOOKUP($B157,Inscriptions!A$2:A$65496,Inscriptions!B$2:B$65498))","v":""},{"$f":"IF(ISBLANK($B157),\"\",LOOKUP($B157,Inscriptions!A$2:A$65496,Inscriptions!C$2:C$65498))","v":""},{"$f":"IF(ISBLANK($B157),\"\",LOOKUP($B157,Inscriptions!A$2:A$65496,Inscriptions!D$2:D$65498))","v":""},null,null,0,0,0,"",""]
[154,null,{"$f":"IF(ISBLANK($B158),\"\",LOOKUP($B158,Inscriptions!A$2:A$65496,Inscriptions!B$2:B$65498))","v":""},{"$f":"IF(ISBLANK($B158),\"\",LOOKUP($B158,Inscriptions!A$2:A$65496,Inscriptions!C$2:C$65498))","v":""},{"$f":"IF(ISBLANK($B158),\"\",LOOKUP($B158,Inscriptions!A$2:A$65496,Inscriptions!D$2:D$65498))","v":""},null,null,0,0,0,"",""]
[155,null,{"$f":"IF(ISBLANK($B159),\"\",LOOKUP($B159,Inscriptions!A$2:A$65496,Inscriptions!B$2:B$65498))","v":""},{"$f":"IF(ISBLANK($B159),\"\",LOOKUP($B159,Inscriptions!A$2:A$65496,Inscriptions!C$2:C$65498))","v":""},{"$f":"IF(ISBLANK($B159),\"\",LOOKUP($B159,Inscriptions!A$2:A$65496,Inscriptions!D$2:D$65498))","v":""},null,null,0,0,0,"",""]
[156,null,{"$f":"IF(ISBLANK($B160),\"\",LOOKUP($B160,Inscriptions!A$2:A$65496,Inscriptions!B$2:B$65498))","v":""},{"$f":"IF(ISBLANK($B160),\"\",LOOKUP($B160,Inscriptions!A$2:A$65496,Inscriptions!C$2:C$65498))","v":""},{"$f":"IF(ISBLANK($B160),\"\",LOOKUP($B160,Inscriptions!A$2:A$65496,Inscriptions!D$2:D$65498))","v":""},null,null,0,0,0,"",""]
[157,null,{"$f":"IF(ISBLANK($B161),\"\",LOOKUP($B161,Inscriptions!A$2:A$65496,Inscriptions!B$2:B$65498))","v":""},{"$f":"IF(ISBLANK($B161),\"\",LOOKUP($B161,Inscriptions!A$2:A$65496,Inscriptions!C$2:C$65498))","v":""},{"$f":"IF(ISBLANK($B161),\"\",LOOKUP($B161,Inscriptions!A$2:A$65496,Inscriptions!D$2:D$65498))","v":""},null,null,0,0,0,"",""]
[158,null,{"$f":"IF(ISBLANK($B162),\"\",LOOKUP($B162,Inscriptions!A$2:A$65496,Inscriptions!B$2:B$65498))","v":""},{"$f":"IF(ISBLANK($B162),\"\",LOOKUP($B162,Inscriptions!A$2:A$65496,Inscriptions!C$2:C$65498))","v":""},{"$f":"IF(ISBLANK($B162),\"\",LOOKUP($B162,Inscriptions!A$2:A$65496,Inscriptions!D$2:D$65498))","v":""},null,null,0,0,0,"",""]
[159,null,{"$f":"IF(ISBLANK($B163),\"\",LOOKUP($B163,Inscriptions!A$2:A$65496,Inscriptions!B$2:B$65498))","v":""},{"$f":"IF(ISBLANK($B163),\"\",LOOKUP($B163,Inscriptions!A$2:A$65496,Inscriptions!C$2:C$65498))","v":""},{"$f":"IF(ISBLANK($B163),\"\",LOOKUP($B163,Inscriptions!A$2:A$65496,Inscriptions!D$2:D$65498))","v":""},null,null,0,0,0,"",""]
[160,null,{"$f":"IF(ISBLANK($B164),\"\",LOOKUP($B164,Inscriptions!A$2:A$65496,Inscriptions!B$2:B$65498))","v":""},{"$f":"IF(ISBLANK($B164),\"\",LOOKUP($B164,Inscriptions!A$2:A$65496,Inscriptions!C$2:C$65498))","v":""},{"$f":"IF(ISBLANK($B164),\"\",LOOKUP($B164,Inscriptions!A$2:A$65496,Inscriptions!D$2:D$65498))","v":""},null,null,0,0,0,"",""]
[161,null,{"$f":"IF(ISBLANK($B165),\"\",LOOKUP($B165,Inscriptions!A$2:A$65496,Inscriptions!B$2:B$65498))","v":""},{"$f":"IF(ISBLANK($B165),\"\",LOOKUP($B165,Inscriptions!A$2:A$65496,Inscriptions!C$2:C$65498))","v":""},{"$f":"IF(ISBLANK($B165),\"\",LOOKUP($B165,Inscriptions!A$2:A$65496,Inscriptions!D$2:D$65498))","v":""},null,null,0,0,0,"",""]
[162,null,{"$f":"IF(ISBLANK($B166),\"\",LOOKUP($B166,Inscriptions!A$2:A$65496,Inscriptions!B$2:B$65498))","v":""},{"$f":"IF(ISBLANK($B166),\"\",LOOKUP($B166,Inscriptions!A$2:A$65496,Inscriptions!C$2:C$65498))","v":""},{"$f":"IF(ISBLANK($B166),\"\",LOOKUP($B166,Inscriptions!A$2:A$65496,Inscriptions!D$2:D$65498))","v":""},null,null,0,0,0,"",""]
[163,null,{"$f":"IF(ISBLANK($B167),\"\",LOOKUP($B167,Inscriptions!A$2:A$65496,Inscriptions!B$2:B$65498))","v":""},{"$f":"IF(ISBLANK($B167),\"\",LOOKUP($B167,Inscriptions!A$2:A$65496,Inscriptions!C$2:C$65498))","v":""},{"$f":"IF(ISBLANK($B167),\"\",LOOKUP($B167,Inscriptions!A$2:A$65496,Inscriptions!D$2:D$65498))","v":""},null,null,0,0,0,"",""]
[164,null,{"$f":"IF(ISBLANK($B168),\"\",LOOKUP($B168,Inscriptions!A$2:A$65496,Inscriptions!B$2:B$65498))","v":""},{"$f":"IF(ISBLANK($B168),\"\",LOOKUP($B168,Inscriptions!A$2:A$65496,Inscriptions!C$2:C$65498))","v":""},{"$f":"IF(ISBLANK($B168),\"\",LOOKUP($B168,Inscriptions!A$2:A$65496,Inscriptions!D$2:D$65498))","v":""},null,null,0,0,0,"",""]
[165,null,{"$f":"IF(ISBLANK($B169),\"\",LOOKUP($B169,Inscriptions!A$2:A$65496,Inscriptions!B$2:B$65498))","v":""},{"$f":"IF(ISBLANK($B169),\"\",LOOKUP($B169,Inscriptions!A$2:A$65496,Inscriptions!C$2:C$65498))","v":""},{"$f":"IF(ISBLANK($B169),\"\",LOOKUP($B169,Inscriptions!A$2:A$65496,Inscriptions!D$2:D$65498))","v":""},null,null,0,0,0,"",""]
[166,null,{"$f":"IF(ISBLANK($B170),\"\",LOOKUP($B170,Inscriptions!A$2:A$65496,Inscriptions!B$2:B$65498))","v":""},{"$f":"IF(ISBLANK($B170),\"\",LOOKUP($B170,Inscriptions!A$2:A$65496,Inscriptions!C$2:C$65498))","v":""},{"$f":"IF(ISBLANK($B170),\"\",LOOKUP($B170,Inscriptions!A$2:A$65496,Inscriptions!D$2:D$65498))","v":""},null,null,0,0,0,"",""]
[167,null,{"$f":"IF(ISBLANK($B171),\"\",LOOKUP($B171,Inscriptions!A$2:A$65496,Inscriptions!B$2:B$65498))","v":""},{"$f":"IF(ISBLANK($B171),\"\",LOOKUP($B171,Inscriptions!A$2:A$65496,Inscriptions!C$2:C$65498))","v":""},{"$f":"IF(ISBLANK($B171),\"\",LOOKUP($B171,Inscriptions!A$2:A$65496,Inscriptions!D$2:D$65498))","v":""},null,null,0,0,0,"",""]
[168,null,{"$f":"IF(ISBLANK($B172),\"\",LOOKUP($B172,Inscriptions!A$2:A$65496,Inscriptions!B$2:B$65498))","v":""},{"$f":"IF(ISBLANK($B172),\"\",LOOKUP($B172,Inscriptions!A$2:A$65496,Inscriptions!C$2:C$65498))","v":""},{"$f":"IF(ISBLANK($B172),\"\",LOOKUP($B172,Inscriptions!A$2:A$65496,Inscriptions!D$2:D$65498))","v":""},null,null,0,0,0,"",""]
[169,null,{"$f":"IF(ISBLANK($B173),\"\",LOOKUP($B173,Inscriptions!A$2:A$65496,Inscriptions!B$2:B$65498))","v":""},{"$f":"IF(ISBLANK($B173),\"\",LOOKUP($B173,Inscriptions!A$2:A$65496,Inscriptions!C$2:C$65498))","v":""},{"$f":"IF(ISBLANK($B173),\"\",LOOKUP($B173,Inscriptions!A$2:A$65496,Inscriptions!D$2:D$65498))","v":""},null,null,0,0,0,"",""]
[170,null,{"$f":"IF(ISBLANK($B174),\"\",LOOKUP($B174,Inscriptions!A$2:A$65496,Inscriptions!B$2:B$65498))","v":""},{"$f":"IF(ISBLANK($B174),\"\",LOOKUP($B174,Inscriptions!A$2:A$65496,Inscriptions!C$2:C$65498))","v":""},{"$f":"IF(ISBLANK($B174),\"\",LOOKUP($B174,Inscriptions!A$2:A$65496,Inscriptions!D$2:D$65498))","v":""},null,null,0,0,0,"",""]
[171,null,{"$f":"IF(ISBLANK($B175),\"\",LOOKUP($B175,Inscriptions!A$2:A$65496,Inscriptions!B$2:B$65498))","v":""},{"$f":"IF(ISBLANK($B175),\"\",LOOKUP($B175,Inscriptions!A$2:A$65496,Inscriptions!C$2:C$65498))","v":""},{"$f":"IF(ISBLANK($B175),\"\",LOOKUP($B175,Inscriptions!A$2:A$65496,Inscriptions!D$2:D$65498))","v":""},null,null,0,0,0,"",""]
[172,null,{"$f":"IF(ISBLANK($B176),\"\",LOOKUP($B176,Inscriptions!A$2:A$65496,Inscriptions!B$2:B$65498))","v":""},{"$f":"IF(ISBLANK($B176),\"\",LOOKUP($B176,Inscriptions!A$2:A$65496,Inscriptions!C$2:C$65498))","v":""},{"$f":"IF(ISBLANK($B176),\"\",LOOKUP($B176,Inscriptions!A$2:A$65496,Inscriptions!D$2:D$65498))","v":""},null,null,0,0,0,"",""]
[173,null,{"$f":"IF(ISBLANK($B177),\"\",LOOKUP($B177,Inscriptions!A$2:A$65496,Inscriptions!B$2:B$65498))","v":""},{"$f":"IF(ISBLANK($B177),\"\",LOOKUP($B177,Inscriptions!A$2:A$65496,Inscriptions!C$2:C$65498))","v":""},{"$f":"IF(ISBLANK($B177),\"\",LOOKUP($B177,Inscriptions!A$2:A$65496,Inscriptions!D$2:D$65498))","v":""},null,null,0,0,0,"",""]
[174,null,{"$f":"IF(ISBLANK($B178),\"\",LOOKUP($B178,Inscriptions!A$2:A$65496,Inscriptions!B$2:B$65498))","v":""},{"$f":"IF(ISBLANK($B178),\"\",LOOKUP($B178,Inscriptions!A$2:A$65496,Inscriptions!C$2:C$65498))","v":""},{"$f":"IF(ISBLANK($B178),\"\",LOOKUP($B178,Inscriptions!A$2:A$65496,Inscriptions!D$2:D$65498))","v":""},null,null,0,0,0,"",""]
[175,null,{"$f":"IF(ISBLANK($B179),\"\",LOOKUP($B179,Inscriptions!A$2:A$65496,Inscriptions!B$2:B$65498))","v":""},{"$f":"IF(ISBLANK($B179),\"\",LOOKUP($B179,Inscriptions!A$2:A$65496,Inscriptions!C$2:C$65498))","v":""},{"$f":"IF(ISBLANK($B179),\"\",LOOKUP($B179,Inscriptions!A$2:A$65496,Inscriptions!D$2:D$65498))","v":""},null,null,0,0,0,"",""]
[176,null,{"$f":"IF(ISBLANK($B180),\"\",LOOKUP($B180,Inscriptions!A$2:A$65496,Inscriptions!B$2:B$65498))","v":""},{"$f":"IF(ISBLANK($B180),\"\",LOOKUP($B180,Inscriptions!A$2:A$65496,Inscriptions!C$2:C$65498))","v":""},{"$f":"IF(ISBLANK($B180),\"\",LOOKUP($B180,Inscriptions!A$2:A$65496,Inscriptions!D$2:D$65498))","v":""},null,null,0,0,0,"",""]
[177,null,{"$f":"IF(ISBLANK($B181),\"\",LOOKUP($B181,Inscriptions!A$2:A$65496,Inscriptions!B$2:B$65498))","v":""},{"$f":"IF(ISBLANK($B181),\"\",LOOKUP($B181,Inscriptions!A$2:A$65496,Inscriptions!C$2:C$65498))","v":""},{"$f":"IF(ISBLANK($B181),\"\",LOOKUP($B181,Inscriptions!A$2:A$65496,Inscriptions!D$2:D$65498))","v":""},null,null,0,0,0,"",""]
[178,null,{"$f":"IF(ISBLANK($B182),\"\",LOOKUP($B182,Inscriptions!A$2:A$65496,Inscriptions!B$2:B$65498))","v":""},{"$f":"IF(ISBLANK($B182),\"\",LOOKUP($B182,Inscriptions!A$2:A$65496,Inscriptions!C$2:C$65498))","v":""},{"$f":"IF(ISBLANK($B182),\"\",LOOKUP($B182,Inscriptions!A$2:A$65496,Inscriptions!D$2:D$65498))","v":""},null,null,0,0,0,"",""]
[179,null,{"$f":"IF(ISBLANK($B183),\"\",LOOKUP($B183,Inscriptions!A$2:A$65496,Inscriptions!B$2:B$65498))","v":""},{"$f":"IF(ISBLANK($B183),\"\",LOOKUP($B183,Inscriptions!A$2:A$65496,Inscriptions!C$2:C$65498))","v":""},{"$f":"IF(ISBLANK($B183),\"\",LOOKUP($B183,Inscriptions!A$2:A$65496,Inscriptions!D$2:D$65498))","v":""},null,null,0,0,0,"",""]
[180,null,{"$f":"IF(ISBLANK($B184),\"\",LOOKUP($B184,Inscriptions!A$2:A$65496,Inscriptions!B$2:B$65498))","v":""},{"$f":"IF(ISBLANK($B184),\"\",LOOKUP($B184,Inscriptions!A$2:A$65496,Inscriptions!C$2:C$65498))","v":""},{"$f":"IF(ISBLANK($B184),\"\",LOOKUP($B184,Inscriptions!A$2:A$65496,Inscriptions!D$2:D$65498))","v":""},null,null,0,0,0,"",""]
[181,null,{"$f":"IF(ISBLANK($B185),\"\",LOOKUP($B185,Inscriptions!A$2:A$65496,Inscriptions!B$2:B$65498))","v":""},{"$f":"IF(ISBLANK($B185),\"\",LOOKUP($B185,Inscriptions!A$2:A$65496,Inscriptions!C$2:C$65498))","v":""},{"$f":"IF(ISBLANK($B185),\"\",LOOKUP($B185,Inscriptions!A$2:A$65496,Inscriptions!D$2:D$65498))","v":""},null,null,0,0,0,"",""]
[182,null,{"$f":"IF(ISBLANK($B186),\"\",LOOKUP($B186,Inscriptions!A$2:A$65496,Inscriptions!B$2:B$65498))","v":""},{"$f":"IF(ISBLANK($B186),\"\",LOOKUP($B186,Inscriptions!A$2:A$65496,Inscriptions!C$2:C$65498))","v":""},{"$f":"IF(ISBLANK($B186),\"\",LOOKUP($B186,Inscriptions!A$2:A$65496,Inscriptions!D$2:D$65498))","v":""},null,null,0,0,0,"",""]
[183,null,{"$f":"IF(ISBLANK($B187),\"\",LOOKUP($B187,Inscriptions!A$2:A$65496,Inscriptions!B$2:B$65498))","v":""},{"$f":"IF(ISBLANK($B187),\"\",LOOKUP($B187,Inscriptions!A$2:A$65496,Inscriptions!C$2:C$65498))","v":""},{"$f":"IF(ISBLANK($B187),\"\",LOOKUP($B187,Inscriptions!A$2:A$65496,Inscriptions!D$2:D$65498))","v":""},null,null,0,0,0,"",""]
[184,null,{"$f":"IF(ISBLANK($B188),\"\",LOOKUP($B188,Inscriptions!A$2:A$65496,Inscriptions!B$2:B$65498))","v":""},{"$f":"IF(ISBLANK($B188),\"\",LOOKUP($B188,Inscriptions!A$2:A$65496,Inscriptions!C$2:C$65498))","v":""},{"$f":"IF(ISBLANK($B188),\"\",LOOKUP($B188,Inscriptions!A$2:A$65496,Inscriptions!D$2:D$65498))","v":""},null,null,0,0,0,"",""]
[185,null,{"$f":"IF(ISBLANK($B189),\"\",LOOKUP($B189,Inscriptions!A$2:A$65496,Inscriptions!B$2:B$65498))","v":""},{"$f":"IF(ISBLANK($B189),\"\",LOOKUP($B189,Inscriptions!A$2:A$65496,Inscriptions!C$2:C$65498))","v":""},{"$f":"IF(ISBLANK($B189),\"\",LOOKUP($B189,Inscriptions!A$2:A$65496,Inscriptions!D$2:D$65498))","v":""},null,null,0,0,0,"",""]
[186,null,{"$f":"IF(ISBLANK($B190),\"\",LOOKUP($B190,Inscriptions!A$2:A$65496,Inscriptions!B$2:B$65498))","v":""},{"$f":"IF(ISBLANK($B190),\"\",LOOKUP($B190,Inscriptions!A$2:A$65496,Inscriptions!C$2:C$65498))","v":""},{"$f":"IF(ISBLANK($B190),\"\",LOOKUP($B190,Inscriptions!A$2:A$65496,Inscriptions!D$2:D$65498))","v":""},null,null,0,0,0,"",""]
[187,null,{"$f":"IF(ISBLANK($B191),\"\",LOOKUP($B191,Inscriptions!A$2:A$65496,Inscriptions!B$2:B$65498))","v":""},{"$f":"IF(ISBLANK($B191),\"\",LOOKUP($B191,Inscriptions!A$2:A$65496,Inscriptions!C$2:C$65498))","v":""},{"$f":"IF(ISBLANK($B191),\"\",LOOKUP($B191,Inscriptions!A$2:A$65496,Inscriptions!D$2:D$65498))","v":""},null,null,0,0,0,"",""]
[188,null,{"$f":"IF(ISBLANK($B192),\"\",LOOKUP($B192,Inscriptions!A$2:A$65496,Inscriptions!B$2:B$65498))","v":""},{"$f":"IF(ISBLANK($B192),\"\",LOOKUP($B192,Inscriptions!A$2:A$65496,Inscriptions!C$2:C$65498))","v":""},{"$f":"IF(ISBLANK($B192),\"\",LOOKUP($B192,Inscriptions!A$2:A$65496,Inscriptions!D$2:D$65498))","v":""},null,null,0,0,0,"",""]
[189,null,{"$f":"IF(ISBLANK($B193),\"\",LOOKUP($B193,Inscriptions!A$2:A$65496,Inscriptions!B$2:B$65498))","v":""},{"$f":"IF(ISBLANK($B193),\"\",LOOKUP($B193,Inscriptions!A$2:A$65496,Inscriptions!C$2:C$65498))","v":""},{"$f":"IF(ISBLANK($B193),\"\",LOOKUP($B193,Inscriptions!A$2:A$65496,Inscriptions!D$2:D$65498))","v":""},null,null,0,0,0,"",""]
[190,null,{"$f":"IF(ISBLANK($B194),\"\",LOOKUP($B194,Inscriptions!A$2:A$65496,Inscriptions!B$2:B$65498))","v":""},{"$f":"IF(ISBLANK($B194),\"\",LOOKUP($B194,Inscriptions!A$2:A$65496,Inscriptions!C$2:C$65498))","v":""},{"$f":"IF(ISBLANK($B194),\"\",LOOKUP($B194,Inscriptions!A$2:A$65496,Inscriptions!D$2:D$65498))","v":""},null,null,0,0,0,"",""]
[191,null,{"$f":"IF(ISBLANK($B195),\"\",LOOKUP($B195,Inscriptions!A$2:A$65496,Inscriptions!B$2:B$65498))","v":""},{"$f":"IF(ISBLANK($B195),\"\",LOOKUP($B195,Inscriptions!A$2:A$65496,Inscriptions!C$2:C$65498))","v":""},{"$f":"IF(ISBLANK($B195),\"\",LOOKUP($B195,Inscriptions!A$2:A$65496,Inscriptions!D$2:D$65498))","v":""},null,null,0,0,0,"",""]
[192,null,{"$f":"IF(ISBLANK($B196),\"\",LOOKUP($B196,Inscriptions!A$2:A$65496,Inscriptions!B$2:B$65498))","v":""},{"$f":"IF(ISBLANK($B196),\"\",LOOKUP($B196,Inscriptions!A$2:A$65496,Inscriptions!C$2:C$65498))","v":""},{"$f":"IF(ISBLANK($B196),\"\",LOOKUP($B196,Inscriptions!A$2:A$65496,Inscriptions!D$2:D$65498))","v":""},null,null,0,0,0,"",""]
[193,null,{"$f":"IF(ISBLANK($B197),\"\",LOOKUP($B197,Inscriptions!A$2:A$65496,Inscriptions!B$2:B$65498))","v":""},{"$f":"IF(ISBLANK($B197),\"\",LOOKUP($B197,Inscriptions!A$2:A$65496,Inscriptions!C$2:C$65498))","v":""},{"$f":"IF(ISBLANK($B197),\"\",LOOKUP($B197,Inscriptions!A$2:A$65496,Inscriptions!D$2:D$65498))","v":""},null,null,0,0,0,"",""]
[194,null,{"$f":"IF(ISBLANK($B198),\"\",LOOKUP($B198,Inscriptions!A$2:A$65496,Inscriptions!B$2:B$65498))","v":""},{"$f":"IF(ISBLANK($B198),\"\",LOOKUP($B198,Inscriptions!A$2:A$65496,Inscriptions!C$2:C$65498))","v":""},{"$f":"IF(ISBLANK($B198),\"\",LOOKUP($B198,Inscriptions!A$2:A$65496,Inscriptions!D$2:D$65498))","v":""},null,null,{"$f":"ROUNDDOWN(G198/10000,0)","v":0},{"$f":"ROUNDDOWN((G198-H198*10000)/100,0)","v":0},{"$f":"ROUNDDOWN((G198-(H198*10000)-(I198*100)),0)","v":0},{"$f":"IF((H198+I198+J198)=0,\"\",ROUNDDOWN((K$4/((H198*3600)+(I198*60)+J198))*3.6,2))","v":""},{"$f":"IF(K198=\"\",\"\",\"km/h\")","v":""}]
[195,null,{"$f":"IF(ISBLANK($B199),\"\",LOOKUP($B199,Inscriptions!A$2:A$65496,Inscriptions!B$2:B$65498))","v":""},{"$f":"IF(ISBLANK($B199),\"\",LOOKUP($B199,Inscriptions!A$2:A$65496,Inscriptions!C$2:C$65498))","v":""},{"$f":"IF(ISBLANK($B199),\"\",LOOKUP($B199,Inscriptions!A$2:A$65496,Inscriptions!D$2:D$65498))","v":""},null,null,0,0,0,"",""]
[196,null,{"$f":"IF(ISBLANK($B200),\"\",LOOKUP($B200,Inscriptions!A$2:A$65496,Inscriptions!B$2:B$65498))","v":""},{"$f":"IF(ISBLANK($B200),\"\",LOOKUP($B200,Inscriptions!A$2:A$65496,Inscriptions!C$2:C$65498))","v":""},{"$f":"IF(ISBLANK($B200),\"\",LOOKUP($B200,Inscriptions!A$2:A$65496,Inscriptions!D$2:D$65498))","v":""},null,null,0,0,0,"",""]
[197,null,{"$f":"IF(ISBLANK($B201),\"\",LOOKUP($B201,Inscriptions!A$2:A$65496,Inscriptions!B$2:B$65498))","v":""},{"$f":"IF(ISBLANK($B201),\"\",LOOKUP($B201,Inscriptions!A$2:A$65496,Inscriptions!C$2:C$65498))","v":""},{"$f":"IF(ISBLANK($B201),\"\",LOOKUP($B201,Inscriptions!A$2:A$65496,Inscriptions!D$2:D$65498))","v":""},null,null,0,0,0,"",""]
[198,null,{"$f":"IF(ISBLANK($B202),\"\",LOOKUP($B202,Inscriptions!A$2:A$65496,Inscriptions!B$2:B$65498))","v":""},{"$f":"IF(ISBLANK($B202),\"\",LOOKUP($B202,Inscriptions!A$2:A$65496,Inscriptions!C$2:C$65498))","v":""},{"$f":"IF(ISBLANK($B202),\"\",LOOKUP($B202,Inscriptions!A$2:A$65496,Inscriptions!D$2:D$65498))","v":""},null,null,0,0,0,"",""]
[199,null,{"$f":"IF(ISBLANK($B203),\"\",LOOKUP($B203,Inscriptions!A$2:A$65496,Inscriptions!B$2:B$65498))","v":""},{"$f":"IF(ISBLANK($B203),\"\",LOOKUP($B203,Inscriptions!A$2:A$65496,Inscriptions!C$2:C$65498))","v":""},{"$f":"IF(ISBLANK($B203),\"\",LOOKUP($B203,Inscriptions!A$2:A$65496,Inscriptions!D$2:D$65498))","v":""},null,null,0,0,0,"",""]
[200,null,{"$f":"IF(ISBLANK($B204),\"\",LOOKUP($B204,Inscriptions!A$2:A$65496,Inscriptions!B$2:B$65498))","v":""},{"$f":"IF(ISBLANK($B204),\"\",LOOKUP($B204,Inscriptions!A$2:A$65496,Inscriptions!C$2:C$65498))","v":""},{"$f":"IF(ISBLANK($B204),\"\",LOOKUP($B204,Inscriptions!A$2:A$65496,Inscriptions!D$2:D$65498))","v":""},null,null,0,0,0,"",""]
[201,null,{"$f":"IF(ISBLANK($B205),\"\",LOOKUP($B205,Inscriptions!A$2:A$65496,Inscriptions!B$2:B$65498))","v":""},{"$f":"IF(ISBLANK($B205),\"\",LOOKUP($B205,Inscriptions!A$2:A$65496,Inscriptions!C$2:C$65498))","v":""},{"$f":"IF(ISBLANK($B205),\"\",LOOKUP($B205,Inscriptions!A$2:A$65496,Inscriptions!D$2:D$65498))","v":""},null,null,0,0,0,"",""]
[202,null,{"$f":"IF(ISBLANK($B206),\"\",LOOKUP($B206,Inscriptions!A$2:A$65496,Inscriptions!B$2:B$65498))","v":""},{"$f":"IF(ISBLANK($B206),\"\",LOOKUP($B206,Inscriptions!A$2:A$65496,Inscriptions!C$2:C$65498))","v":""},{"$f":"IF(ISBLANK($B206),\"\",LOOKUP($B206,Inscriptions!A$2:A$65496,Inscriptions!D$2:D$65498))","v":""},null,null,0,0,0,"",""]
[203,null,{"$f":"IF(ISBLANK($B207),\"\",LOOKUP($B207,Inscriptions!A$2:A$65496,Inscriptions!B$2:B$65498))","v":""},{"$f":"IF(ISBLANK($B207),\"\",LOOKUP($B207,Inscriptions!A$2:A$65496,Inscriptions!C$2:C$65498))","v":""},{"$f":"IF(ISBLANK($B207),\"\",LOOKUP($B207,Inscriptions!A$2:A$65496,Inscriptions!D$2:D$65498))","v":""},null,null,0,0,0,"",""]
[204,null,{"$f":"IF(ISBLANK($B208),\"\",LOOKUP($B208,Inscriptions!A$2:A$65496,Inscriptions!B$2:B$65498))","v":""},{"$f":"IF(ISBLANK($B208),\"\",LOOKUP($B208,Inscriptions!A$2:A$65496,Inscriptions!C$2:C$65498))","v":""},{"$f":"IF(ISBLANK($B208),\"\",LOOKUP($B208,Inscriptions!A$2:A$65496,Inscriptions!D$2:D$65498))","v":""},null,null,0,0,0,"",""]
[205,null,{"$f":"IF(ISBLANK($B209),\"\",LOOKUP($B209,Inscriptions!A$2:A$65496,Inscriptions!B$2:B$65498))","v":""},{"$f":"IF(ISBLANK($B209),\"\",LOOKUP($B209,Inscriptions!A$2:A$65496,Inscriptions!C$2:C$65498))","v":""},{"$f":"IF(ISBLANK($B209),\"\",LOOKUP($B209,Inscriptions!A$2:A$65496,Inscriptions!D$2:D$65498))","v":""},null,null,0,0,0,"",""]
[206,null,{"$f":"IF(ISBLANK($B210),\"\",LOOKUP($B210,Inscriptions!A$2:A$65496,Inscriptions!B$2:B$65498))","v":""},{"$f":"IF(ISBLANK($B210),\"\",LOOKUP($B210,Inscriptions!A$2:A$65496,Inscriptions!C$2:C$65498))","v":""},{"$f":"IF(ISBLANK($B210),\"\",LOOKUP($B210,Inscriptions!A$2:A$65496,Inscriptions!D$2:D$65498))","v":""},null,null,0,0,0,"",""]
[207,null,{"$f":"IF(ISBLANK($B211),\"\",LOOKUP($B211,Inscriptions!A$2:A$65496,Inscriptions!B$2:B$65498))","v":""},{"$f":"IF(ISBLANK($B211),\"\",LOOKUP($B211,Inscriptions!A$2:A$65496,Inscriptions!C$2:C$65498))","v":""},{"$f":"IF(ISBLANK($B211),\"\",LOOKUP($B211,Inscriptions!A$2:A$65496,Inscriptions!D$2:D$65498))","v":""},null,null,0,0,0,"",""]
[208,null,{"$f":"IF(ISBLANK($B212),\"\",LOOKUP($B212,Inscriptions!A$2:A$65496,Inscriptions!B$2:B$65498))","v":""},{"$f":"IF(ISBLANK($B212),\"\",LOOKUP($B212,Inscriptions!A$2:A$65496,Inscriptions!C$2:C$65498))","v":""},{"$f":"IF(ISBLANK($B212),\"\",LOOKUP($B212,Inscriptions!A$2:A$65496,Inscriptions!D$2:D$65498))","v":""},null,null,0,0,0,"",""]
[209,null,{"$f":"IF(ISBLANK($B213),\"\",LOOKUP($B213,Inscriptions!A$2:A$65496,Inscriptions!B$2:B$65498))","v":""},{"$f":"IF(ISBLANK($B213),\"\",LOOKUP($B213,Inscriptions!A$2:A$65496,Inscriptions!C$2:C$65498))","v":""},{"$f":"IF(ISBLANK($B213),\"\",LOOKUP($B213,Inscriptions!A$2:A$65496,Inscriptions!D$2:D$65498))","v":""},null,null,0,0,0,"",""]
[210,null,{"$f":"IF(ISBLANK($B214),\"\",LOOKUP($B214,Inscriptions!A$2:A$65496,Inscriptions!B$2:B$65498))","v":""},{"$f":"IF(ISBLANK($B214),\"\",LOOKUP($B214,Inscriptions!A$2:A$65496,Inscriptions!C$2:C$65498))","v":""},{"$f":"IF(ISBLANK($B214),\"\",LOOKUP($B214,Inscriptions!A$2:A$65496,Inscriptions!D$2:D$65498))","v":""},null,null,0,0,0,"",""]
[211,null,{"$f":"IF(ISBLANK($B215),\"\",LOOKUP($B215,Inscriptions!A$2:A$65496,Inscriptions!B$2:B$65498))","v":""},{"$f":"IF(ISBLANK($B215),\"\",LOOKUP($B215,Inscriptions!A$2:A$65496,Inscriptions!C$2:C$65498))","v":""},{"$f":"IF(ISBLANK($B215),\"\",LOOKUP($B215,Inscriptions!A$2:A$65496,Inscriptions!D$2:D$65498))","v":""},null,null,0,0,0,"",""]
[212,null,{"$f":"IF(ISBLANK($B216),\"\",LOOKUP($B216,Inscriptions!A$2:A$65496,Inscriptions!B$2:B$65498))","v":""},{"$f":"IF(ISBLANK($B216),\"\",LOOKUP($B216,Inscriptions!A$2:A$65496,Inscriptions!C$2:C$65498))","v":""},{"$f":"IF(ISBLANK($B216),\"\",LOOKUP($B216,Inscriptions!A$2:A$65496,Inscriptions!D$2:D$65498))","v":""},null,null,0,0,0,"",""]
[213,null,{"$f":"IF(ISBLANK($B217),\"\",LOOKUP($B217,Inscriptions!A$2:A$65496,Inscriptions!B$2:B$65498))","v":""},{"$f":"IF(ISBLANK($B217),\"\",LOOKUP($B217,Inscriptions!A$2:A$65496,Inscriptions!C$2:C$65498))","v":""},{"$f":"IF(ISBLANK($B217),\"\",LOOKUP($B217,Inscriptions!A$2:A$65496,Inscriptions!D$2:D$65498))","v":""},null,null,0,0,0,"",""]
[214,null,{"$f":"IF(ISBLANK($B218),\"\",LOOKUP($B218,Inscriptions!A$2:A$65496,Inscriptions!B$2:B$65498))","v":""},{"$f":"IF(ISBLANK($B218),\"\",LOOKUP($B218,Inscriptions!A$2:A$65496,Inscriptions!C$2:C$65498))","v":""},{"$f":"IF(ISBLANK($B218),\"\",LOOKUP($B218,Inscriptions!A$2:A$65496,Inscriptions!D$2:D$65498))","v":""},null,null,0,0,0,"",""]
[215,null,{"$f":"IF(ISBLANK($B219),\"\",LOOKUP($B219,Inscriptions!A$2:A$65496,Inscriptions!B$2:B$65498))","v":""},{"$f":"IF(ISBLANK($B219),\"\",LOOKUP($B219,Inscriptions!A$2:A$65496,Inscriptions!C$2:C$65498))","v":""},{"$f":"IF(ISBLANK($B219),\"\",LOOKUP($B219,Inscriptions!A$2:A$65496,Inscriptions!D$2:D$65498))","v":""},null,null,0,0,0,"",""]
[216,null,{"$f":"IF(ISBLANK($B220),\"\",LOOKUP($B220,Inscriptions!A$2:A$65496,Inscriptions!B$2:B$65498))","v":""},{"$f":"IF(ISBLANK($B220),\"\",LOOKUP($B220,Inscriptions!A$2:A$65496,Inscriptions!C$2:C$65498))","v":""},{"$f":"IF(ISBLANK($B220),\"\",LOOKUP($B220,Inscriptions!A$2:A$65496,Inscriptions!D$2:D$65498))","v":""},null,null,0,0,0,"",""]
[217,null,{"$f":"IF(ISBLANK($B221),\"\",LOOKUP($B221,Inscriptions!A$2:A$65496,Inscriptions!B$2:B$65498))","v":""},{"$f":"IF(ISBLANK($B221),\"\",LOOKUP($B221,Inscriptions!A$2:A$65496,Inscriptions!C$2:C$65498))","v":""},{"$f":"IF(ISBLANK($B221),\"\",LOOKUP($B221,Inscriptions!A$2:A$65496,Inscriptions!D$2:D$65498))","v":""},null,null,0,0,0,"",""]
[218,null,{"$f":"IF(ISBLANK($B222),\"\",LOOKUP($B222,Inscriptions!A$2:A$65496,Inscriptions!B$2:B$65498))","v":""},{"$f":"IF(ISBLANK($B222),\"\",LOOKUP($B222,Inscriptions!A$2:A$65496,Inscriptions!C$2:C$65498))","v":""},{"$f":"IF(ISBLANK($B222),\"\",LOOKUP($B222,Inscriptions!A$2:A$65496,Inscriptions!D$2:D$65498))","v":""},null,null,0,0,0,"",""]
[219,null,{"$f":"IF(ISBLANK($B223),\"\",LOOKUP($B223,Inscriptions!A$2:A$65496,Inscriptions!B$2:B$65498))","v":""},{"$f":"IF(ISBLANK($B223),\"\",LOOKUP($B223,Inscriptions!A$2:A$65496,Inscriptions!C$2:C$65498))","v":""},{"$f":"IF(ISBLANK($B223),\"\",LOOKUP($B223,Inscriptions!A$2:A$65496,Inscriptions!D$2:D$65498))","v":""},null,null,0,0,0,"",""]
[220,null,{"$f":"IF(ISBLANK($B224),\"\",LOOKUP($B224,Inscriptions!A$2:A$65496,Inscriptions!B$2:B$65498))","v":""},{"$f":"IF(ISBLANK($B224),\"\",LOOKUP($B224,Inscriptions!A$2:A$65496,Inscriptions!C$2:C$65498))","v":""},{"$f":"IF(ISBLANK($B224),\"\",LOOKUP($B224,Inscriptions!A$2:A$65496,Inscriptions!D$2:D$65498))","v":""},null,null,0,0,0,"",""]
[221,null,{"$f":"IF(ISBLANK($B225),\"\",LOOKUP($B225,Inscriptions!A$2:A$65496,Inscriptions!B$2:B$65498))","v":""},{"$f":"IF(ISBLANK($B225),\"\",LOOKUP($B225,Inscriptions!A$2:A$65496,Inscriptions!C$2:C$65498))","v":""},{"$f":"IF(ISBLANK($B225),\"\",LOOKUP($B225,Inscriptions!A$2:A$65496,Inscriptions!D$2:D$65498))","v":""},null,null,0,0,0,"",""]
[222,null,{"$f":"IF(ISBLANK($B226),\"\",LOOKUP($B226,Inscriptions!A$2:A$65496,Inscriptions!B$2:B$65498))","v":""},{"$f":"IF(ISBLANK($B226),\"\",LOOKUP($B226,Inscriptions!A$2:A$65496,Inscriptions!C$2:C$65498))","v":""},{"$f":"IF(ISBLANK($B226),\"\",LOOKUP($B226,Inscriptions!A$2:A$65496,Inscriptions!D$2:D$65498))","v":""},null,null,0,0,0,"",""]
[223,null,{"$f":"IF(ISBLANK($B227),\"\",LOOKUP($B227,Inscriptions!A$2:A$65496,Inscriptions!B$2:B$65498))","v":""},{"$f":"IF(ISBLANK($B227),\"\",LOOKUP($B227,Inscriptions!A$2:A$65496,Inscriptions!C$2:C$65498))","v":""},{"$f":"IF(ISBLANK($B227),\"\",LOOKUP($B227,Inscriptions!A$2:A$65496,Inscriptions!D$2:D$65498))","v":""},null,null,0,0,0,"",""]
[224,null,{"$f":"IF(ISBLANK($B228),\"\",LOOKUP($B228,Inscriptions!A$2:A$65496,Inscriptions!B$2:B$65498))","v":""},{"$f":"IF(ISBLANK($B228),\"\",LOOKUP($B228,Inscriptions!A$2:A$65496,Inscriptions!C$2:C$65498))","v":""},{"$f":"IF(ISBLANK($B228),\"\",LOOKUP($B228,Inscriptions!A$2:A$65496,Inscriptions!D$2:D$65498))","v":""},null,null,0,0,0,"",""]
[225,null,{"$f":"IF(ISBLANK($B229),\"\",LOOKUP($B229,Inscriptions!A$2:A$65496,Inscriptions!B$2:B$65498))","v":""},{"$f":"IF(ISBLANK($B229),\"\",LOOKUP($B229,Inscriptions!A$2:A$65496,Inscriptions!C$2:C$65498))","v":""},{"$f":"IF(ISBLANK($B229),\"\",LOOKUP($B229,Inscriptions!A$2:A$65496,Inscriptions!D$2:D$65498))","v":""},null,null,0,0,0,"",""]
[226,null,{"$f":"IF(ISBLANK($B230),\"\",LOOKUP($B230,Inscriptions!A$2:A$65496,Inscriptions!B$2:B$65498))","v":""},{"$f":"IF(ISBLANK($B230),\"\",LOOKUP($B230,Inscriptions!A$2:A$65496,Inscriptions!C$2:C$65498))","v":""},{"$f":"IF(ISBLANK($B230),\"\",LOOKUP($B230,Inscriptions!A$2:A$65496,Inscriptions!D$2:D$65498))","v":""},null,null,0,0,0,"",""]
[227,null,{"$f":"IF(ISBLANK($B231),\"\",LOOKUP($B231,Inscriptions!A$2:A$65496,Inscriptions!B$2:B$65498))","v":""},{"$f":"IF(ISBLANK($B231),\"\",LOOKUP($B231,Inscriptions!A$2:A$65496,Inscriptions!C$2:C$65498))","v":""},{"$f":"IF(ISBLANK($B231),\"\",LOOKUP($B231,Inscriptions!A$2:A$65496,Inscriptions!D$2:D$65498))","v":""},null,null,0,0,0,"",""]
[228,null,{"$f":"IF(ISBLANK($B232),\"\",LOOKUP($B232,Inscriptions!A$2:A$65496,Inscriptions!B$2:B$65498))","v":""},{"$f":"IF(ISBLANK($B232),\"\",LOOKUP($B232,Inscriptions!A$2:A$65496,Inscriptions!C$2:C$65498))","v":""},{"$f":"IF(ISBLANK($B232),\"\",LOOKUP($B232,Inscriptions!A$2:A$65496,Inscriptions!D$2:D$65498))","v":""},null,null,0,0,0,"",""]
[229,null,{"$f":"IF(ISBLANK($B233),\"\",LOOKUP($B233,Inscriptions!A$2:A$65496,Inscriptions!B$2:B$65498))","v":""},{"$f":"IF(ISBLANK($B233),\"\",LOOKUP($B233,Inscriptions!A$2:A$65496,Inscriptions!C$2:C$65498))","v":""},{"$f":"IF(ISBLANK($B233),\"\",LOOKUP($B233,Inscriptions!A$2:A$65496,Inscriptions!D$2:D$65498))","v":""},null,null,0,0,0,"",""]
[230,null,{"$f":"IF(ISBLANK($B234),\"\",LOOKUP($B234,Inscriptions!A$2:A$65496,Inscriptions!B$2:B$65498))","v":""},{"$f":"IF(ISBLANK($B234),\"\",LOOKUP($B234,Inscriptions!A$2:A$65496,Inscriptions!C$2:C$65498))","v":""},{"$f":"IF(ISBLANK($B234),\"\",LOOKUP($B234,Inscriptions!A$2:A$65496,Inscriptions!D$2:D$65498))","v":""},null,null,0,0,0,"",""]
[231,null,{"$f":"IF(ISBLANK($B235),\"\",LOOKUP($B235,Inscriptions!A$2:A$65496,Inscriptions!B$2:B$65498))","v":""},{"$f":"IF(ISBLANK($B235),\"\",LOOKUP($B235,Inscriptions!A$2:A$65496,Inscriptions!C$2:C$65498))","v":""},{"$f":"IF(ISBLANK($B235),\"\",LOOKUP($B235,Inscriptions!A$2:A$65496,Inscriptions!D$2:D$65498))","v":""},null,null,0,0,0,"",""]
[232,null,{"$f":"IF(ISBLANK($B236),\"\",LOOKUP($B236,Inscriptions!A$2:A$65496,Inscriptions!B$2:B$65498))","v":""},{"$f":"IF(ISBLANK($B236),\"\",LOOKUP($B236,Inscriptions!A$2:A$65496,Inscriptions!C$2:C$65498))","v":""},{"$f":"IF(ISBLANK($B236),\"\",LOOKUP($B236,Inscriptions!A$2:A$65496,Inscriptions!D$2:D$65498))","v":""},null,null,0,0,0,"",""]
[233,null,{"$f":"IF(ISBLANK($B237),\"\",LOOKUP($B237,Inscriptions!A$2:A$65496,Inscriptions!B$2:B$65498))","v":""},{"$f":"IF(ISBLANK($B237),\"\",LOOKUP($B237,Inscriptions!A$2:A$65496,Inscriptions!C$2:C$65498))","v":""},{"$f":"IF(ISBLANK($B237),\"\",LOOKUP($B237,Inscriptions!A$2:A$65496,Inscriptions!D$2:D$65498))","v":""},null,null,0,0,0,"",""]
[234,null,{"$f":"IF(ISBLANK($B238),\"\",LOOKUP($B238,Inscriptions!A$2:A$65496,Inscriptions!B$2:B$65498))","v":""},{"$f":"IF(ISBLANK($B238),\"\",LOOKUP($B238,Inscriptions!A$2:A$65496,Inscriptions!C$2:C$65498))","v":""},{"$f":"IF(ISBLANK($B238),\"\",LOOKUP($B238,Inscriptions!A$2:A$65496,Inscriptions!D$2:D$65498))","v":""},null,null,0,0,0,"",""]
[235,null,{"$f":"IF(ISBLANK($B239),\"\",LOOKUP($B239,Inscriptions!A$2:A$65496,Inscriptions!B$2:B$65498))","v":""},{"$f":"IF(ISBLANK($B239),\"\",LOOKUP($B239,Inscriptions!A$2:A$65496,Inscriptions!C$2:C$65498))","v":""},{"$f":"IF(ISBLANK($B239),\"\",LOOKUP($B239,Inscriptions!A$2:A$65496,Inscriptions!D$2:D$65498))","v":""},null,null,0,0,0,"",""]
[236,null,{"$f":"IF(ISBLANK($B240),\"\",LOOKUP($B240,Inscriptions!A$2:A$65496,Inscriptions!B$2:B$65498))","v":""},{"$f":"IF(ISBLANK($B240),\"\",LOOKUP($B240,Inscriptions!A$2:A$65496,Inscriptions!C$2:C$65498))","v":""},{"$f":"IF(ISBLANK($B240),\"\",LOOKUP($B240,Inscriptions!A$2:A$65496,Inscriptions!D$2:D$65498))","v":""},null,null,0,0,0,"",""]
[237,null,{"$f":"IF(ISBLANK($B241),\"\",LOOKUP($B241,Inscriptions!A$2:A$65496,Inscriptions!B$2:B$65498))","v":""},{"$f":"IF(ISBLANK($B241),\"\",LOOKUP($B241,Inscriptions!A$2:A$65496,Inscriptions!C$2:C$65498))","v":""},{"$f":"IF(ISBLANK($B241),\"\",LOOKUP($B241,Inscriptions!A$2:A$65496,Inscriptions!D$2:D$65498))","v":""},null,null,0,0,0,"",""]
[238,null,{"$f":"IF(ISBLANK($B242),\"\",LOOKUP($B242,Inscriptions!A$2:A$65496,Inscriptions!B$2:B$65498))","v":""},{"$f":"IF(ISBLANK($B242),\"\",LOOKUP($B242,Inscriptions!A$2:A$65496,Inscriptions!C$2:C$65498))","v":""},{"$f":"IF(ISBLANK($B242),\"\",LOOKUP($B242,Inscriptions!A$2:A$65496,Inscriptions!D$2:D$65498))","v":""},null,null,0,0,0,"",""]
[239,null,{"$f":"IF(ISBLANK($B243),\"\",LOOKUP($B243,Inscriptions!A$2:A$65496,Inscriptions!B$2:B$65498))","v":""},{"$f":"IF(ISBLANK($B243),\"\",LOOKUP($B243,Inscriptions!A$2:A$65496,Inscriptions!C$2:C$65498))","v":""},{"$f":"IF(ISBLANK($B243),\"\",LOOKUP($B243,Inscriptions!A$2:A$65496,Inscriptions!D$2:D$65498))","v":""},null,null,0,0,0,"",""]
[240,null,{"$f":"IF(ISBLANK($B244),\"\",LOOKUP($B244,Inscriptions!A$2:A$65496,Inscriptions!B$2:B$65498))","v":""},{"$f":"IF(ISBLANK($B244),\"\",LOOKUP($B244,Inscriptions!A$2:A$65496,Inscriptions!C$2:C$65498))","v":""},{"$f":"IF(ISBLANK($B244),\"\",LOOKUP($B244,Inscriptions!A$2:A$65496,Inscriptions!D$2:D$65498))","v":""},null,null,0,0,0,"",""]
[241,null,{"$f":"IF(ISBLANK($B245),\"\",LOOKUP($B245,Inscriptions!A$2:A$65496,Inscriptions!B$2:B$65498))","v":""},{"$f":"IF(ISBLANK($B245),\"\",LOOKUP($B245,Inscriptions!A$2:A$65496,Inscriptions!C$2:C$65498))","v":""},{"$f":"IF(ISBLANK($B245),\"\",LOOKUP($B245,Inscriptions!A$2:A$65496,Inscriptions!D$2:D$65498))","v":""},null,null,0,0,0,"",""]
[242,null,{"$f":"IF(ISBLANK($B246),\"\",LOOKUP($B246,Inscriptions!A$2:A$65496,Inscriptions!B$2:B$65498))","v":""},{"$f":"IF(ISBLANK($B246),\"\",LOOKUP($B246,Inscriptions!A$2:A$65496,Inscriptions!C$2:C$65498))","v":""},{"$f":"IF(ISBLANK($B246),\"\",LOOKUP($B246,Inscriptions!A$2:A$65496,Inscriptions!D$2:D$65498))","v":""},null,null,0,0,0,"",""]
[243,null,{"$f":"IF(ISBLANK($B247),\"\",LOOKUP($B247,Inscriptions!A$2:A$65496,Inscriptions!B$2:B$65498))","v":""},{"$f":"IF(ISBLANK($B247),\"\",LOOKUP($B247,Inscriptions!A$2:A$65496,Inscriptions!C$2:C$65498))","v":""},{"$f":"IF(ISBLANK($B247),\"\",LOOKUP($B247,Inscriptions!A$2:A$65496,Inscriptions!D$2:D$65498))","v":""},null,null,0,0,0,"",""]
[244,null,{"$f":"IF(ISBLANK($B248),\"\",LOOKUP($B248,Inscriptions!A$2:A$65496,Inscriptions!B$2:B$65498))","v":""},{"$f":"IF(ISBLANK($B248),\"\",LOOKUP($B248,Inscriptions!A$2:A$65496,Inscriptions!C$2:C$65498))","v":""},{"$f":"IF(ISBLANK($B248),\"\",LOOKUP($B248,Inscriptions!A$2:A$65496,Inscriptions!D$2:D$65498))","v":""},null,null,0,0,0,"",""]
[245,null,{"$f":"IF(ISBLANK($B249),\"\",LOOKUP($B249,Inscriptions!A$2:A$65496,Inscriptions!B$2:B$65498))","v":""},{"$f":"IF(ISBLANK($B249),\"\",LOOKUP($B249,Inscriptions!A$2:A$65496,Inscriptions!C$2:C$65498))","v":""},{"$f":"IF(ISBLANK($B249),\"\",LOOKUP($B249,Inscriptions!A$2:A$65496,Inscriptions!D$2:D$65498))","v":""},null,null,0,0,0,"",""]
[246,null,{"$f":"IF(ISBLANK($B250),\"\",LOOKUP($B250,Inscriptions!A$2:A$65496,Inscriptions!B$2:B$65498))","v":""},{"$f":"IF(ISBLANK($B250),\"\",LOOKUP($B250,Inscriptions!A$2:A$65496,Inscriptions!C$2:C$65498))","v":""},{"$f":"IF(ISBLANK($B250),\"\",LOOKUP($B250,Inscriptions!A$2:A$65496,Inscriptions!D$2:D$65498))","v":""},null,null,0,0,0,"",""]
[247,null,{"$f":"IF(ISBLANK($B251),\"\",LOOKUP($B251,Inscriptions!A$2:A$65496,Inscriptions!B$2:B$65498))","v":""},{"$f":"IF(ISBLANK($B251),\"\",LOOKUP($B251,Inscriptions!A$2:A$65496,Inscriptions!C$2:C$65498))","v":""},{"$f":"IF(ISBLANK($B251),\"\",LOOKUP($B251,Inscriptions!A$2:A$65496,Inscriptions!D$2:D$65498))","v":""},null,null,0,0,0,"",""]
[248,null,{"$f":"IF(ISBLANK($B252),\"\",LOOKUP($B252,Inscriptions!A$2:A$65496,Inscriptions!B$2:B$65498))","v":""},{"$f":"IF(ISBLANK($B252),\"\",LOOKUP($B252,Inscriptions!A$2:A$65496,Inscriptions!C$2:C$65498))","v":""},{"$f":"IF(ISBLANK($B252),\"\",LOOKUP($B252,Inscriptions!A$2:A$65496,Inscriptions!D$2:D$65498))","v":""},null,null,0,0,0,"",""]
[249,null,{"$f":"IF(ISBLANK($B253),\"\",LOOKUP($B253,Inscriptions!A$2:A$65496,Inscriptions!B$2:B$65498))","v":""},{"$f":"IF(ISBLANK($B253),\"\",LOOKUP($B253,Inscriptions!A$2:A$65496,Inscriptions!C$2:C$65498))","v":""},{"$f":"IF(ISBLANK($B253),\"\",LOOKUP($B253,Inscriptions!A$2:A$65496,Inscriptions!D$2:D$65498))","v":""},null,null,0,0,0,"",""]
[250,null,{"$f":"IF(ISBLANK($B254),\"\",LOOKUP($B254,Inscriptions!A$2:A$65496,Inscriptions!B$2:B$65498))","v":""},{"$f":"IF(ISBLANK($B254),\"\",LOOKUP($B254,Inscriptions!A$2:A$65496,Inscriptions!C$2:C$65498))","v":""},{"$f":"IF(ISBLANK($B254),\"\",LOOKUP($B254,Inscriptions!A$2:A$65496,Inscriptions!D$2:D$65498))","v":""},null,null,0,0,0,"",""]
[251,null,{"$f":"IF(ISBLANK($B255),\"\",LOOKUP($B255,Inscriptions!A$2:A$65496,Inscriptions!B$2:B$65498))","v":""},{"$f":"IF(ISBLANK($B255),\"\",LOOKUP($B255,Inscriptions!A$2:A$65496,Inscriptions!C$2:C$65498))","v":""},{"$f":"IF(ISBLANK($B255),\"\",LOOKUP($B255,Inscriptions!A$2:A$65496,Inscriptions!D$2:D$65498))","v":""},null,null,0,0,0,"",""]
[252,null,{"$f":"IF(ISBLANK($B256),\"\",LOOKUP($B256,Inscriptions!A$2:A$65496,Inscriptions!B$2:B$65498))","v":""},{"$f":"IF(ISBLANK($B256),\"\",LOOKUP($B256,Inscriptions!A$2:A$65496,Inscriptions!C$2:C$65498))","v":""},{"$f":"IF(ISBLANK($B256),\"\",LOOKUP($B256,Inscriptions!A$2:A$65496,Inscriptions!D$2:D$65498))","v":""},null,null,0,0,0,"",""]
[253,null,{"$f":"IF(ISBLANK($B257),\"\",LOOKUP($B257,Inscriptions!A$2:A$65496,Inscriptions!B$2:B$65498))","v":""},{"$f":"IF(ISBLANK($B257),\"\",LOOKUP($B257,Inscriptions!A$2:A$65496,Inscriptions!C$2:C$65498))","v":""},{"$f":"IF(ISBLANK($B257),\"\",LOOKUP($B257,Inscriptions!A$2:A$65496,Inscriptions!D$2:D$65498))","v":""},null,null,0,0,0,"",""]
[254,null,{"$f":"IF(ISBLANK($B258),\"\",LOOKUP($B258,Inscriptions!A$2:A$65496,Inscriptions!B$2:B$65498))","v":""},{"$f":"IF(ISBLANK($B258),\"\",LOOKUP($B258,Inscriptions!A$2:A$65496,Inscriptions!C$2:C$65498))","v":""},{"$f":"IF(ISBLANK($B258),\"\",LOOKUP($B258,Inscriptions!A$2:A$65496,Inscriptions!D$2:D$65498))","v":""},null,null,0,0,0,"",""]
[255,null,{"$f":"IF(ISBLANK($B259),\"\",LOOKUP($B259,Inscriptions!A$2:A$65496,Inscriptions!B$2:B$65498))","v":""},{"$f":"IF(ISBLANK($B259),\"\",LOOKUP($B259,Inscriptions!A$2:A$65496,Inscriptions!C$2:C$65498))","v":""},{"$f":"IF(ISBLANK($B259),\"\",LOOKUP($B259,Inscriptions!A$2:A$65496,Inscriptions!D$2:D$65498))","v":""},null,null,0,0,0,"",""]
[256,null,{"$f":"IF(ISBLANK($B260),\"\",LOOKUP($B260,Inscriptions!A$2:A$65496,Inscriptions!B$2:B$65498))","v":""},{"$f":"IF(ISBLANK($B260),\"\",LOOKUP($B260,Inscriptions!A$2:A$65496,Inscriptions!C$2:C$65498))","v":""},{"$f":"IF(ISBLANK($B260),\"\",LOOKUP($B260,Inscriptions!A$2:A$65496,Inscriptions!D$2:D$65498))","v":""},null,null,0,0,0,"",""]
[257,null,{"$f":"IF(ISBLANK($B261),\"\",LOOKUP($B261,Inscriptions!A$2:A$65496,Inscriptions!B$2:B$65498))","v":""},{"$f":"IF(ISBLANK($B261),\"\",LOOKUP($B261,Inscriptions!A$2:A$65496,Inscriptions!C$2:C$65498))","v":""},{"$f":"IF(ISBLANK($B261),\"\",LOOKUP($B261,Inscriptions!A$2:A$65496,Inscriptions!D$2:D$65498))","v":""},null,null,0,0,0,"",""]
[258,null,{"$f":"IF(ISBLANK($B262),\"\",LOOKUP($B262,Inscriptions!A$2:A$65496,Inscriptions!B$2:B$65498))","v":""},{"$f":"IF(ISBLANK($B262),\"\",LOOKUP($B262,Inscriptions!A$2:A$65496,Inscriptions!C$2:C$65498))","v":""},{"$f":"IF(ISBLANK($B262),\"\",LOOKUP($B262,Inscriptions!A$2:A$65496,Inscriptions!D$2:D$65498))","v":""},null,null,{"$f":"ROUNDDOWN(G262/10000,0)","v":0},{"$f":"ROUNDDOWN((G262-H262*10000)/100,0)","v":0},{"$f":"ROUNDDOWN((G262-(H262*10000)-(I262*100)),0)","v":0},{"$f":"IF((H262+I262+J262)=0,\"\",ROUNDDOWN((K$4/((H262*3600)+(I262*60)+J262))*3.6,2))","v":""},{"$f":"IF(K262=\"\",\"\",\"km/h\")","v":""}]
[259,null,{"$f":"IF(ISBLANK($B263),\"\",LOOKUP($B263,Inscriptions!A$2:A$65496,Inscriptions!B$2:B$65498))","v":""},{"$f":"IF(ISBLANK($B263),\"\",LOOKUP($B263,Inscriptions!A$2:A$65496,Inscriptions!C$2:C$65498))","v":""},{"$f":"IF(ISBLANK($B263),\"\",LOOKUP($B263,Inscriptions!A$2:A$65496,Inscriptions!D$2:D$65498))","v":""},null,null,0,0,0,"",""]
[260,null,{"$f":"IF(ISBLANK($B264),\"\",LOOKUP($B264,Inscriptions!A$2:A$65496,Inscriptions!B$2:B$65498))","v":""},{"$f":"IF(ISBLANK($B264),\"\",LOOKUP($B264,Inscriptions!A$2:A$65496,Inscriptions!C$2:C$65498))","v":""},{"$f":"IF(ISBLANK($B264),\"\",LOOKUP($B264,Inscriptions!A$2:A$65496,Inscriptions!D$2:D$65498))","v":""},null,null,0,0,0,"",""]
[261,null,{"$f":"IF(ISBLANK($B265),\"\",LOOKUP($B265,Inscriptions!A$2:A$65496,Inscriptions!B$2:B$65498))","v":""},{"$f":"IF(ISBLANK($B265),\"\",LOOKUP($B265,Inscriptions!A$2:A$65496,Inscriptions!C$2:C$65498))","v":""},{"$f":"IF(ISBLANK($B265),\"\",LOOKUP($B265,Inscriptions!A$2:A$65496,Inscriptions!D$2:D$65498))","v":""},null,null,0,0,0,"",""]
[262,null,{"$f":"IF(ISBLANK($B266),\"\",LOOKUP($B266,Inscriptions!A$2:A$65496,Inscriptions!B$2:B$65498))","v":""},{"$f":"IF(ISBLANK($B266),\"\",LOOKUP($B266,Inscriptions!A$2:A$65496,Inscriptions!C$2:C$65498))","v":""},{"$f":"IF(ISBLANK($B266),\"\",LOOKUP($B266,Inscriptions!A$2:A$65496,Inscriptions!D$2:D$65498))","v":""},null,null,0,0,0,"",""]
[263,null,{"$f":"IF(ISBLANK($B267),\"\",LOOKUP($B267,Inscriptions!A$2:A$65496,Inscriptions!B$2:B$65498))","v":""},{"$f":"IF(ISBLANK($B267),\"\",LOOKUP($B267,Inscriptions!A$2:A$65496,Inscriptions!C$2:C$65498))","v":""},{"$f":"IF(ISBLANK($B267),\"\",LOOKUP($B267,Inscriptions!A$2:A$65496,Inscriptions!D$2:D$65498))","v":""},null,null,0,0,0,"",""]
[264,null,{"$f":"IF(ISBLANK($B268),\"\",LOOKUP($B268,Inscriptions!A$2:A$65496,Inscriptions!B$2:B$65498))","v":""},{"$f":"IF(ISBLANK($B268),\"\",LOOKUP($B268,Inscriptions!A$2:A$65496,Inscriptions!C$2:C$65498))","v":""},{"$f":"IF(ISBLANK($B268),\"\",LOOKUP($B268,Inscriptions!A$2:A$65496,Inscriptions!D$2:D$65498))","v":""},null,null,0,0,0,"",""]
[265,null,{"$f":"IF(ISBLANK($B269),\"\",LOOKUP($B269,Inscriptions!A$2:A$65496,Inscriptions!B$2:B$65498))","v":""},{"$f":"IF(ISBLANK($B269),\"\",LOOKUP($B269,Inscriptions!A$2:A$65496,Inscriptions!C$2:C$65498))","v":""},{"$f":"IF(ISBLANK($B269),\"\",LOOKUP($B269,Inscriptions!A$2:A$65496,Inscriptions!D$2:D$65498))","v":""},null,null,0,0,0,"",""]
[266,null,{"$f":"IF(ISBLANK($B270),\"\",LOOKUP($B270,Inscriptions!A$2:A$65496,Inscriptions!B$2:B$65498))","v":""},{"$f":"IF(ISBLANK($B270),\"\",LOOKUP($B270,Inscriptions!A$2:A$65496,Inscriptions!C$2:C$65498))","v":""},{"$f":"IF(ISBLANK($B270),\"\",LOOKUP($B270,Inscriptions!A$2:A$65496,Inscriptions!D$2:D$65498))","v":""},null,null,0,0,0,"",""]
[267,null,{"$f":"IF(ISBLANK($B271),\"\",LOOKUP($B271,Inscriptions!A$2:A$65496,Inscriptions!B$2:B$65498))","v":""},{"$f":"IF(ISBLANK($B271),\"\",LOOKUP($B271,Inscriptions!A$2:A$65496,Inscriptions!C$2:C$65498))","v":""},{"$f":"IF(ISBLANK($B271),\"\",LOOKUP($B271,Inscriptions!A$2:A$65496,Inscriptions!D$2:D$65498))","v":""},null,null,0,0,0,"",""]
[268,null,{"$f":"IF(ISBLANK($B272),\"\",LOOKUP($B272,Inscriptions!A$2:A$65496,Inscriptions!B$2:B$65498))","v":""},{"$f":"IF(ISBLANK($B272),\"\",LOOKUP($B272,Inscriptions!A$2:A$65496,Inscriptions!C$2:C$65498))","v":""},{"$f":"IF(ISBLANK($B272),\"\",LOOKUP($B272,Inscriptions!A$2:A$65496,Inscriptions!D$2:D$65498))","v":""},null,null,0,0,0,"",""]
[269,null,{"$f":"IF(ISBLANK($B273),\"\",LOOKUP($B273,Inscriptions!A$2:A$65496,Inscriptions!B$2:B$65498))","v":""},{"$f":"IF(ISBLANK($B273),\"\",LOOKUP($B273,Inscriptions!A$2:A$65496,Inscriptions!C$2:C$65498))","v":""},{"$f":"IF(ISBLANK($B273),\"\",LOOKUP($B273,Inscriptions!A$2:A$65496,Inscriptions!D$2:D$65498))","v":""},null,null,0,0,0,"",""]
[270,null,{"$f":"IF(ISBLANK($B274),\"\",LOOKUP($B274,Inscriptions!A$2:A$65496,Inscriptions!B$2:B$65498))","v":""},{"$f":"IF(ISBLANK($B274),\"\",LOOKUP($B274,Inscriptions!A$2:A$65496,Inscriptions!C$2:C$65498))","v":""},{"$f":"IF(ISBLANK($B274),\"\",LOOKUP($B274,Inscriptions!A$2:A$65496,Inscriptions!D$2:D$65498))","v":""},null,null,0,0,0,"",""]
[271,null,{"$f":"IF(ISBLANK($B275),\"\",LOOKUP($B275,Inscriptions!A$2:A$65496,Inscriptions!B$2:B$65498))","v":""},{"$f":"IF(ISBLANK($B275),\"\",LOOKUP($B275,Inscriptions!A$2:A$65496,Inscriptions!C$2:C$65498))","v":""},{"$f":"IF(ISBLANK($B275),\"\",LOOKUP($B275,Inscriptions!A$2:A$65496,Inscriptions!D$2:D$65498))","v":""},null,null,0,0,0,"",""]
[272,null,{"$f":"IF(ISBLANK($B276),\"\",LOOKUP($B276,Inscriptions!A$2:A$65496,Inscriptions!B$2:B$65498))","v":""},{"$f":"IF(ISBLANK($B276),\"\",LOOKUP($B276,Inscriptions!A$2:A$65496,Inscriptions!C$2:C$65498))","v":""},{"$f":"IF(ISBLANK($B276),\"\",LOOKUP($B276,Inscriptions!A$2:A$65496,Inscriptions!D$2:D$65498))","v":""},null,null,0,0,0,"",""]
[273,null,{"$f":"IF(ISBLANK($B277),\"\",LOOKUP($B277,Inscriptions!A$2:A$65496,Inscriptions!B$2:B$65498))","v":""},{"$f":"IF(ISBLANK($B277),\"\",LOOKUP($B277,Inscriptions!A$2:A$65496,Inscriptions!C$2:C$65498))","v":""},{"$f":"IF(ISBLANK($B277),\"\",LOOKUP($B277,Inscriptions!A$2:A$65496,Inscriptions!D$2:D$65498))","v":""},null,null,0,0,0,"",""]
[274,null,{"$f":"IF(ISBLANK($B278),\"\",LOOKUP($B278,Inscriptions!A$2:A$65496,Inscriptions!B$2:B$65498))","v":""},{"$f":"IF(ISBLANK($B278),\"\",LOOKUP($B278,Inscriptions!A$2:A$65496,Inscriptions!C$2:C$65498))","v":""},{"$f":"IF(ISBLANK($B278),\"\",LOOKUP($B278,Inscriptions!A$2:A$65496,Inscriptions!D$2:D$65498))","v":""},null,null,0,0,0,"",""]
[275,null,{"$f":"IF(ISBLANK($B279),\"\",LOOKUP($B279,Inscriptions!A$2:A$65496,Inscriptions!B$2:B$65498))","v":""},{"$f":"IF(ISBLANK($B279),\"\",LOOKUP($B279,Inscriptions!A$2:A$65496,Inscriptions!C$2:C$65498))","v":""},{"$f":"IF(ISBLANK($B279),\"\",LOOKUP($B279,Inscriptions!A$2:A$65496,Inscriptions!D$2:D$65498))","v":""},null,null,0,0,0,"",""]
[276,null,{"$f":"IF(ISBLANK($B280),\"\",LOOKUP($B280,Inscriptions!A$2:A$65496,Inscriptions!B$2:B$65498))","v":""},{"$f":"IF(ISBLANK($B280),\"\",LOOKUP($B280,Inscriptions!A$2:A$65496,Inscriptions!C$2:C$65498))","v":""},{"$f":"IF(ISBLANK($B280),\"\",LOOKUP($B280,Inscriptions!A$2:A$65496,Inscriptions!D$2:D$65498))","v":""},null,null,0,0,0,"",""]
[277,null,{"$f":"IF(ISBLANK($B281),\"\",LOOKUP($B281,Inscriptions!A$2:A$65496,Inscriptions!B$2:B$65498))","v":""},{"$f":"IF(ISBLANK($B281),\"\",LOOKUP($B281,Inscriptions!A$2:A$65496,Inscriptions!C$2:C$65498))","v":""},{"$f":"IF(ISBLANK($B281),\"\",LOOKUP($B281,Inscriptions!A$2:A$65496,Inscriptions!D$2:D$65498))","v":""},null,null,0,0,0,"",""]
[278,null,{"$f":"IF(ISBLANK($B282),\"\",LOOKUP($B282,Inscriptions!A$2:A$65496,Inscriptions!B$2:B$65498))","v":""},{"$f":"IF(ISBLANK($B282),\"\",LOOKUP($B282,Inscriptions!A$2:A$65496,Inscriptions!C$2:C$65498))","v":""},{"$f":"IF(ISBLANK($B282),\"\",LOOKUP($B282,Inscriptions!A$2:A$65496,Inscriptions!D$2:D$65498))","v":""},null,null,0,0,0,"",""]
[279,null,{"$f":"IF(ISBLANK($B283),\"\",LOOKUP($B283,Inscriptions!A$2:A$65496,Inscriptions!B$2:B$65498))","v":""},{"$f":"IF(ISBLANK($B283),\"\",LOOKUP($B283,Inscriptions!A$2:A$65496,Inscriptions!C$2:C$65498))","v":""},{"$f":"IF(ISBLANK($B283),\"\",LOOKUP($B283,Inscriptions!A$2:A$65496,Inscriptions!D$2:D$65498))","v":""},null,null,0,0,0,"",""]
[280,null,{"$f":"IF(ISBLANK($B284),\"\",LOOKUP($B284,Inscriptions!A$2:A$65496,Inscriptions!B$2:B$65498))","v":""},{"$f":"IF(ISBLANK($B284),\"\",LOOKUP($B284,Inscriptions!A$2:A$65496,Inscriptions!C$2:C$65498))","v":""},{"$f":"IF(ISBLANK($B284),\"\",LOOKUP($B284,Inscriptions!A$2:A$65496,Inscriptions!D$2:D$65498))","v":""},null,null,0,0,0,"",""]
[281,null,{"$f":"IF(ISBLANK($B285),\"\",LOOKUP($B285,Inscriptions!A$2:A$65496,Inscriptions!B$2:B$65498))","v":""},{"$f":"IF(ISBLANK($B285),\"\",LOOKUP($B285,Inscriptions!A$2:A$65496,Inscriptions!C$2:C$65498))","v":""},{"$f":"IF(ISBLANK($B285),\"\",LOOKUP($B285,Inscriptions!A$2:A$65496,Inscriptions!D$2:D$65498))","v":""},null,null,0,0,0,"",""]
[282,null,{"$f":"IF(ISBLANK($B286),\"\",LOOKUP($B286,Inscriptions!A$2:A$65496,Inscriptions!B$2:B$65498))","v":""},{"$f":"IF(ISBLANK($B286),\"\",LOOKUP($B286,Inscriptions!A$2:A$65496,Inscriptions!C$2:C$65498))","v":""},{"$f":"IF(ISBLANK($B286),\"\",LOOKUP($B286,Inscriptions!A$2:A$65496,Inscriptions!D$2:D$65498))","v":""},null,null,0,0,0,"",""]
[283,null,{"$f":"IF(ISBLANK($B287),\"\",LOOKUP($B287,Inscriptions!A$2:A$65496,Inscriptions!B$2:B$65498))","v":""},{"$f":"IF(ISBLANK($B287),\"\",LOOKUP($B287,Inscriptions!A$2:A$65496,Inscriptions!C$2:C$65498))","v":""},{"$f":"IF(ISBLANK($B287),\"\",LOOKUP($B287,Inscriptions!A$2:A$65496,Inscriptions!D$2:D$65498))","v":""},null,null,0,0,0,"",""]
[284,null,{"$f":"IF(ISBLANK($B288),\"\",LOOKUP($B288,Inscriptions!A$2:A$65496,Inscriptions!B$2:B$65498))","v":""},{"$f":"IF(ISBLANK($B288),\"\",LOOKUP($B288,Inscriptions!A$2:A$65496,Inscriptions!C$2:C$65498))","v":""},{"$f":"IF(ISBLANK($B288),\"\",LOOKUP($B288,Inscriptions!A$2:A$65496,Inscriptions!D$2:D$65498))","v":""},null,null,0,0,0,"",""]
[285,null,{"$f":"IF(ISBLANK($B289),\"\",LOOKUP($B289,Inscriptions!A$2:A$65496,Inscriptions!B$2:B$65498))","v":""},{"$f":"IF(ISBLANK($B289),\"\",LOOKUP($B289,Inscriptions!A$2:A$65496,Inscriptions!C$2:C$65498))","v":""},{"$f":"IF(ISBLANK($B289),\"\",LOOKUP($B289,Inscriptions!A$2:A$65496,Inscriptions!D$2:D$65498))","v":""},null,null,0,0,0,"",""]
[286,null,{"$f":"IF(ISBLANK($B290),\"\",LOOKUP($B290,Inscriptions!A$2:A$65496,Inscriptions!B$2:B$65498))","v":""},{"$f":"IF(ISBLANK($B290),\"\",LOOKUP($B290,Inscriptions!A$2:A$65496,Inscriptions!C$2:C$65498))","v":""},{"$f":"IF(ISBLANK($B290),\"\",LOOKUP($B290,Inscriptions!A$2:A$65496,Inscriptions!D$2:D$65498))","v":""},null,null,0,0,0,"",""]
[287,null,{"$f":"IF(ISBLANK($B291),\"\",LOOKUP($B291,Inscriptions!A$2:A$65496,Inscriptions!B$2:B$65498))","v":""},{"$f":"IF(ISBLANK($B291),\"\",LOOKUP($B291,Inscriptions!A$2:A$65496,Inscriptions!C$2:C$65498))","v":""},{"$f":"IF(ISBLANK($B291),\"\",LOOKUP($B291,Inscriptions!A$2:A$65496,Inscriptions!D$2:D$65498))","v":""},null,null,0,0,0,"",""]
[288,null,{"$f":"IF(ISBLANK($B292),\"\",LOOKUP($B292,Inscriptions!A$2:A$65496,Inscriptions!B$2:B$65498))","v":""},{"$f":"IF(ISBLANK($B292),\"\",LOOKUP($B292,Inscriptions!A$2:A$65496,Inscriptions!C$2:C$65498))","v":""},{"$f":"IF(ISBLANK($B292),\"\",LOOKUP($B292,Inscriptions!A$2:A$65496,Inscriptions!D$2:D$65498))","v":""},null,null,0,0,0,"",""]
[289,null,{"$f":"IF(ISBLANK($B293),\"\",LOOKUP($B293,Inscriptions!A$2:A$65496,Inscriptions!B$2:B$65498))","v":""},{"$f":"IF(ISBLANK($B293),\"\",LOOKUP($B293,Inscriptions!A$2:A$65496,Inscriptions!C$2:C$65498))","v":""},{"$f":"IF(ISBLANK($B293),\"\",LOOKUP($B293,Inscriptions!A$2:A$65496,Inscriptions!D$2:D$65498))","v":""},null,null,0,0,0,"",""]
[290,null,{"$f":"IF(ISBLANK($B294),\"\",LOOKUP($B294,Inscriptions!A$2:A$65496,Inscriptions!B$2:B$65498))","v":""},{"$f":"IF(ISBLANK($B294),\"\",LOOKUP($B294,Inscriptions!A$2:A$65496,Inscriptions!C$2:C$65498))","v":""},{"$f":"IF(ISBLANK($B294),\"\",LOOKUP($B294,Inscriptions!A$2:A$65496,Inscriptions!D$2:D$65498))","v":""},null,null,0,0,0,"",""]
[291,null,{"$f":"IF(ISBLANK($B295),\"\",LOOKUP($B295,Inscriptions!A$2:A$65496,Inscriptions!B$2:B$65498))","v":""},{"$f":"IF(ISBLANK($B295),\"\",LOOKUP($B295,Inscriptions!A$2:A$65496,Inscriptions!C$2:C$65498))","v":""},{"$f":"IF(ISBLANK($B295),\"\",LOOKUP($B295,Inscriptions!A$2:A$65496,Inscriptions!D$2:D$65498))","v":""},null,null,0,0,0,"",""]
[292,null,{"$f":"IF(ISBLANK($B296),\"\",LOOKUP($B296,Inscriptions!A$2:A$65496,Inscriptions!B$2:B$65498))","v":""},{"$f":"IF(ISBLANK($B296),\"\",LOOKUP($B296,Inscriptions!A$2:A$65496,Inscriptions!C$2:C$65498))","v":""},{"$f":"IF(ISBLANK($B296),\"\",LOOKUP($B296,Inscriptions!A$2:A$65496,Inscriptions!D$2:D$65498))","v":""},null,null,0,0,0,"",""]
[293,null,{"$f":"IF(ISBLANK($B297),\"\",LOOKUP($B297,Inscriptions!A$2:A$65496,Inscriptions!B$2:B$65498))","v":""},{"$f":"IF(ISBLANK($B297),\"\",LOOKUP($B297,Inscriptions!A$2:A$65496,Inscriptions!C$2:C$65498))","v":""},{"$f":"IF(ISBLANK($B297),\"\",LOOKUP($B297,Inscriptions!A$2:A$65496,Inscriptions!D$2:D$65498))","v":""},null,null,0,0,0,"",""]
[294,null,{"$f":"IF(ISBLANK($B298),\"\",LOOKUP($B298,Inscriptions!A$2:A$65496,Inscriptions!B$2:B$65498))","v":""},{"$f":"IF(ISBLANK($B298),\"\",LOOKUP($B298,Inscriptions!A$2:A$65496,Inscriptions!C$2:C$65498))","v":""},{"$f":"IF(ISBLANK($B298),\"\",LOOKUP($B298,Inscriptions!A$2:A$65496,Inscriptions!D$2:D$65498))","v":""},null,null,0,0,0,"",""]
[295,null,{"$f":"IF(ISBLANK($B299),\"\",LOOKUP($B299,Inscriptions!A$2:A$65496,Inscriptions!B$2:B$65498))","v":""},{"$f":"IF(ISBLANK($B299),\"\",LOOKUP($B299,Inscriptions!A$2:A$65496,Inscriptions!C$2:C$65498))","v":""},{"$f":"IF(ISBLANK($B299),\"\",LOOKUP($B299,Inscriptions!A$2:A$65496,Inscriptions!D$2:D$65498))","v":""},null,null,0,0,0,"",""]
[296,null,{"$f":"IF(ISBLANK($B300),\"\",LOOKUP($B300,Inscriptions!A$2:A$65496,Inscriptions!B$2:B$65498))","v":""},{"$f":"IF(ISBLANK($B300),\"\",LOOKUP($B300,Inscriptions!A$2:A$65496,Inscriptions!C$2:C$65498))","v":""},{"$f":"IF(ISBLANK($B300),\"\",LOOKUP($B300,Inscriptions!A$2:A$65496,Inscriptions!D$2:D$65498))","v":""},null,null,0,0,0,"",""]
[297,null,{"$f":"IF(ISBLANK($B301),\"\",LOOKUP($B301,Inscriptions!A$2:A$65496,Inscriptions!B$2:B$65498))","v":""},{"$f":"IF(ISBLANK($B301),\"\",LOOKUP($B301,Inscriptions!A$2:A$65496,Inscriptions!C$2:C$65498))","v":""},{"$f":"IF(ISBLANK($B301),\"\",LOOKUP($B301,Inscriptions!A$2:A$65496,Inscriptions!D$2:D$65498))","v":""},null,null,0,0,0,"",""]
[298,null,{"$f":"IF(ISBLANK($B302),\"\",LOOKUP($B302,Inscriptions!A$2:A$65496,Inscriptions!B$2:B$65498))","v":""},{"$f":"IF(ISBLANK($B302),\"\",LOOKUP($B302,Inscriptions!A$2:A$65496,Inscriptions!C$2:C$65498))","v":""},{"$f":"IF(ISBLANK($B302),\"\",LOOKUP($B302,Inscriptions!A$2:A$65496,Inscriptions!D$2:D$65498))","v":""},null,null,0,0,0,"",""]
[299,null,{"$f":"IF(ISBLANK($B303),\"\",LOOKUP($B303,Inscriptions!A$2:A$65496,Inscriptions!B$2:B$65498))","v":""},{"$f":"IF(ISBLANK($B303),\"\",LOOKUP($B303,Inscriptions!A$2:A$65496,Inscriptions!C$2:C$65498))","v":""},{"$f":"IF(ISBLANK($B303),\"\",LOOKUP($B303,Inscriptions!A$2:A$65496,Inscriptions!D$2:D$65498))","v":""},null,null,0,0,0,"",""]
[300,null,{"$f":"IF(ISBLANK($B304),\"\",LOOKUP($B304,Inscriptions!A$2:A$65496,Inscriptions!B$2:B$65498))","v":""},{"$f":"IF(ISBLANK($B304),\"\",LOOKUP($B304,Inscriptions!A$2:A$65496,Inscriptions!C$2:C$65498))","v":""},{"$f":"IF(ISBLANK($B304),\"\",LOOKUP($B304,Inscriptions!A$2:A$65496,Inscriptions!D$2:D$65498))","v":""},null,null,0,0,0,"",""]
[301,null,{"$f":"IF(ISBLANK($B305),\"\",LOOKUP($B305,Inscriptions!A$2:A$65496,Inscriptions!B$2:B$65498))","v":""},{"$f":"IF(ISBLANK($B305),\"\",LOOKUP($B305,Inscriptions!A$2:A$65496,Inscriptions!C$2:C$65498))","v":""},{"$f":"IF(ISBLANK($B305),\"\",LOOKUP($B305,Inscriptions!A$2:A$65496,Inscriptions!D$2:D$65498))","v":""},null,null,0,0,0,"",""]
[302,null,{"$f":"IF(ISBLANK($B306),\"\",LOOKUP($B306,Inscriptions!A$2:A$65496,Inscriptions!B$2:B$65498))","v":""},{"$f":"IF(ISBLANK($B306),\"\",LOOKUP($B306,Inscriptions!A$2:A$65496,Inscriptions!C$2:C$65498))","v":""},{"$f":"IF(ISBLANK($B306),\"\",LOOKUP($B306,Inscriptions!A$2:A$65496,Inscriptions!D$2:D$65498))","v":""},null,null,0,0,0,"",""]
[303,null,{"$f":"IF(ISBLANK($B307),\"\",LOOKUP($B307,Inscriptions!A$2:A$65496,Inscriptions!B$2:B$65498))","v":""},{"$f":"IF(ISBLANK($B307),\"\",LOOKUP($B307,Inscriptions!A$2:A$65496,Inscriptions!C$2:C$65498))","v":""},{"$f":"IF(ISBLANK($B307),\"\",LOOKUP($B307,Inscriptions!A$2:A$65496,Inscriptions!D$2:D$65498))","v":""},null,null,0,0,0,"",""]
[304,null,{"$f":"IF(ISBLANK($B308),\"\",LOOKUP($B308,Inscriptions!A$2:A$65496,Inscriptions!B$2:B$65498))","v":""},{"$f":"IF(ISBLANK($B308),\"\",LOOKUP($B308,Inscriptions!A$2:A$65496,Inscriptions!C$2:C$65498))","v":""},{"$f":"IF(ISBLANK($B308),\"\",LOOKUP($B308,Inscriptions!A$2:A$65496,Inscriptions!D$2:D$65498))","v":""},null,null,0,0,0,"",""]
[305,null,{"$f":"IF(ISBLANK($B309),\"\",LOOKUP($B309,Inscriptions!A$2:A$65496,Inscriptions!B$2:B$65498))","v":""},{"$f":"IF(ISBLANK($B309),\"\",LOOKUP($B309,Inscriptions!A$2:A$65496,Inscriptions!C$2:C$65498))","v":""},{"$f":"IF(ISBLANK($B309),\"\",LOOKUP($B309,Inscriptions!A$2:A$65496,Inscriptions!D$2:D$65498))","v":""},null,null,0,0,0,"",""]
[306,null,{"$f":"IF(ISBLANK($B310),\"\",LOOKUP($B310,Inscriptions!A$2:A$65496,Inscriptions!B$2:B$65498))","v":""},{"$f":"IF(ISBLANK($B310),\"\",LOOKUP($B310,Inscriptions!A$2:A$65496,Inscriptions!C$2:C$65498))","v":""},{"$f":"IF(ISBLANK($B310),\"\",LOOKUP($B310,Inscriptions!A$2:A$65496,Inscriptions!D$2:D$65498))","v":""},null,null,0,0,0,"",""]
[307,null,{"$f":"IF(ISBLANK($B311),\"\",LOOKUP($B311,Inscriptions!A$2:A$65496,Inscriptions!B$2:B$65498))","v":""},{"$f":"IF(ISBLANK($B311),\"\",LOOKUP($B311,Inscriptions!A$2:A$65496,Inscriptions!C$2:C$65498))","v":""},{"$f":"IF(ISBLANK($B311),\"\",LOOKUP($B311,Inscriptions!A$2:A$65496,Inscriptions!D$2:D$65498))","v":""},null,null,0,0,0,"",""]
[308,null,{"$f":"IF(ISBLANK($B312),\"\",LOOKUP($B312,Inscriptions!A$2:A$65496,Inscriptions!B$2:B$65498))","v":""},{"$f":"IF(ISBLANK($B312),\"\",LOOKUP($B312,Inscriptions!A$2:A$65496,Inscriptions!C$2:C$65498))","v":""},{"$f":"IF(ISBLANK($B312),\"\",LOOKUP($B312,Inscriptions!A$2:A$65496,Inscriptions!D$2:D$65498))","v":""},null,null,0,0,0,"",""]
[309,null,{"$f":"IF(ISBLANK($B313),\"\",LOOKUP($B313,Inscriptions!A$2:A$65496,Inscriptions!B$2:B$65498))","v":""},{"$f":"IF(ISBLANK($B313),\"\",LOOKUP($B313,Inscriptions!A$2:A$65496,Inscriptions!C$2:C$65498))","v":""},{"$f":"IF(ISBLANK($B313),\"\",LOOKUP($B313,Inscriptions!A$2:A$65496,Inscriptions!D$2:D$65498))","v":""},null,null,0,0,0,"",""]
[310,null,{"$f":"IF(ISBLANK($B314),\"\",LOOKUP($B314,Inscriptions!A$2:A$65496,Inscriptions!B$2:B$65498))","v":""},{"$f":"IF(ISBLANK($B314),\"\",LOOKUP($B314,Inscriptions!A$2:A$65496,Inscriptions!C$2:C$65498))","v":""},{"$f":"IF(ISBLANK($B314),\"\",LOOKUP($B314,Inscriptions!A$2:A$65496,Inscriptions!D$2:D$65498))","v":""},null,null,0,0,0,"",""]
[311,null,{"$f":"IF(ISBLANK($B315),\"\",LOOKUP($B315,Inscriptions!A$2:A$65496,Inscriptions!B$2:B$65498))","v":""},{"$f":"IF(ISBLANK($B315),\"\",LOOKUP($B315,Inscriptions!A$2:A$65496,Inscriptions!C$2:C$65498))","v":""},{"$f":"IF(ISBLANK($B315),\"\",LOOKUP($B315,Inscriptions!A$2:A$65496,Inscriptions!D$2:D$65498))","v":""},null,null,0,0,0,"",""]
[312,null,{"$f":"IF(ISBLANK($B316),\"\",LOOKUP($B316,Inscriptions!A$2:A$65496,Inscriptions!B$2:B$65498))","v":""},{"$f":"IF(ISBLANK($B316),\"\",LOOKUP($B316,Inscriptions!A$2:A$65496,Inscriptions!C$2:C$65498))","v":""},{"$f":"IF(ISBLANK($B316),\"\",LOOKUP($B316,Inscriptions!A$2:A$65496,Inscriptions!D$2:D$65498))","v":""},null,null,0,0,0,"",""]
[313,null,{"$f":"IF(ISBLANK($B317),\"\",LOOKUP($B317,Inscriptions!A$2:A$65496,Inscriptions!B$2:B$65498))","v":""},{"$f":"IF(ISBLANK($B317),\"\",LOOKUP($B317,Inscriptions!A$2:A$65496,Inscriptions!C$2:C$65498))","v":""},{"$f":"IF(ISBLANK($B317),\"\",LOOKUP($B317,Inscriptions!A$2:A$65496,Inscriptions!D$2:D$65498))","v":""},null,null,0,0,0,"",""]
[314,null,{"$f":"IF(ISBLANK($B318),\"\",LOOKUP($B318,Inscriptions!A$2:A$65496,Inscriptions!B$2:B$65498))","v":""},{"$f":"IF(ISBLANK($B318),\"\",LOOKUP($B318,Inscriptions!A$2:A$65496,Inscriptions!C$2:C$65498))","v":""},{"$f":"IF(ISBLANK($B318),\"\",LOOKUP($B318,Inscriptions!A$2:A$65496,Inscriptions!D$2:D$65498))","v":""},null,null,0,0,0,"",""]
[315,null,{"$f":"IF(ISBLANK($B319),\"\",LOOKUP($B319,Inscriptions!A$2:A$65496,Inscriptions!B$2:B$65498))","v":""},{"$f":"IF(ISBLANK($B319),\"\",LOOKUP($B319,Inscriptions!A$2:A$65496,Inscriptions!C$2:C$65498))","v":""},{"$f":"IF(ISBLANK($B319),\"\",LOOKUP($B319,Inscriptions!A$2:A$65496,Inscriptions!D$2:D$65498))","v":""},null,null,0,0,0,"",""]
[316,null,{"$f":"IF(ISBLANK($B320),\"\",LOOKUP($B320,Inscriptions!A$2:A$65496,Inscriptions!B$2:B$65498))","v":""},{"$f":"IF(ISBLANK($B320),\"\",LOOKUP($B320,Inscriptions!A$2:A$65496,Inscriptions!C$2:C$65498))","v":""},{"$f":"IF(ISBLANK($B320),\"\",LOOKUP($B320,Inscriptions!A$2:A$65496,Inscriptions!D$2:D$65498))","v":""},null,null,0,0,0,"",""]
[317,null,{"$f":"IF(ISBLANK($B321),\"\",LOOKUP($B321,Inscriptions!A$2:A$65496,Inscriptions!B$2:B$65498))","v":""},{"$f":"IF(ISBLANK($B321),\"\",LOOKUP($B321,Inscriptions!A$2:A$65496,Inscriptions!C$2:C$65498))","v":""},{"$f":"IF(ISBLANK($B321),\"\",LOOKUP($B321,Inscriptions!A$2:A$65496,Inscriptions!D$2:D$65498))","v":""},null,null,0,0,0,"",""]
[318,null,{"$f":"IF(ISBLANK($B322),\"\",LOOKUP($B322,Inscriptions!A$2:A$65496,Inscriptions!B$2:B$65498))","v":""},{"$f":"IF(ISBLANK($B322),\"\",LOOKUP($B322,Inscriptions!A$2:A$65496,Inscriptions!C$2:C$65498))","v":""},{"$f":"IF(ISBLANK($B322),\"\",LOOKUP($B322,Inscriptions!A$2:A$65496,Inscriptions!D$2:D$65498))","v":""},null,null,0,0,0,"",""]
[319,null,{"$f":"IF(ISBLANK($B323),\"\",LOOKUP($B323,Inscriptions!A$2:A$65496,Inscriptions!B$2:B$65498))","v":""},{"$f":"IF(ISBLANK($B323),\"\",LOOKUP($B323,Inscriptions!A$2:A$65496,Inscriptions!C$2:C$65498))","v":""},{"$f":"IF(ISBLANK($B323),\"\",LOOKUP($B323,Inscriptions!A$2:A$65496,Inscriptions!D$2:D$65498))","v":""},null,null,0,0,0,"",""]
[320,null,{"$f":"IF(ISBLANK($B324),\"\",LOOKUP($B324,Inscriptions!A$2:A$65496,Inscriptions!B$2:B$65498))","v":""},{"$f":"IF(ISBLANK($B324),\"\",LOOKUP($B324,Inscriptions!A$2:A$65496,Inscriptions!C$2:C$65498))","v":""},{"$f":"IF(ISBLANK($B324),\"\",LOOKUP($B324,Inscriptions!A$2:A$65496,Inscriptions!D$2:D$65498))","v":""},null,null,0,0,0,"",""]
[321,null,{"$f":"IF(ISBLANK($B325),\"\",LOOKUP($B325,Inscriptions!A$2:A$65496,Inscriptions!B$2:B$65498))","v":""},{"$f":"IF(ISBLANK($B325),\"\",LOOKUP($B325,Inscriptions!A$2:A$65496,Inscriptions!C$2:C$65498))","v":""},{"$f":"IF(ISBLANK($B325),\"\",LOOKUP($B325,Inscriptions!A$2:A$65496,Inscriptions!D$2:D$65498))","v":""},null,null,0,0,0,"",""]
[322,null,{"$f":"IF(ISBLANK($B326),\"\",LOOKUP($B326,Inscriptions!A$2:A$65496,Inscriptions!B$2:B$65498))","v":""},{"$f":"IF(ISBLANK($B326),\"\",LOOKUP($B326,Inscriptions!A$2:A$65496,Inscriptions!C$2:C$65498))","v":""},{"$f":"IF(ISBLANK($B326),\"\",LOOKUP($B326,Inscriptions!A$2:A$65496,Inscriptions!D$2:D$65498))","v":""},null,null,{"$f":"ROUNDDOWN(G326/10000,0)","v":0},{"$f":"ROUNDDOWN((G326-H326*10000)/100,0)","v":0},{"$f":"ROUNDDOWN((G326-(H326*10000)-(I326*100)),0)","v":0},{"$f":"IF((H326+I326+J326)=0,\"\",ROUNDDOWN((K$4/((H326*3600)+(I326*60)+J326))*3.6,2))","v":""},{"$f":"IF(K326=\"\",\"\",\"km/h\")","v":""}]
[323,null,{"$f":"IF(ISBLANK($B327),\"\",LOOKUP($B327,Inscriptions!A$2:A$65496,Inscriptions!B$2:B$65498))","v":""},{"$f":"IF(ISBLANK($B327),\"\",LOOKUP($B327,Inscriptions!A$2:A$65496,Inscriptions!C$2:C$65498))","v":""},{"$f":"IF(ISBLANK($B327),\"\",LOOKUP($B327,Inscriptions!A$2:A$65496,Inscriptions!D$2:D$65498))","v":""},null,null,0,0,0,"",""]
[324,null,{"$f":"IF(ISBLANK($B328),\"\",LOOKUP($B328,Inscriptions!A$2:A$65496,Inscriptions!B$2:B$65498))","v":""},{"$f":"IF(ISBLANK($B328),\"\",LOOKUP($B328,Inscriptions!A$2:A$65496,Inscriptions!C$2:C$65498))","v":""},{"$f":"IF(ISBLANK($B328),\"\",LOOKUP($B328,Inscriptions!A$2:A$65496,Inscriptions!D$2:D$65498))","v":""},null,null,0,0,0,"",""]
[325,null,{"$f":"IF(ISBLANK($B329),\"\",LOOKUP($B329,Inscriptions!A$2:A$65496,Inscriptions!B$2:B$65498))","v":""},{"$f":"IF(ISBLANK($B329),\"\",LOOKUP($B329,Inscriptions!A$2:A$65496,Inscriptions!C$2:C$65498))","v":""},{"$f":"IF(ISBLANK($B329),\"\",LOOKUP($B329,Inscriptions!A$2:A$65496,Inscriptions!D$2:D$65498))","v":""},null,null,0,0,0,"",""]
[326,null,{"$f":"IF(ISBLANK($B330),\"\",LOOKUP($B330,Inscriptions!A$2:A$65496,Inscriptions!B$2:B$65498))","v":""},{"$f":"IF(ISBLANK($B330),\"\",LOOKUP($B330,Inscriptions!A$2:A$65496,Inscriptions!C$2:C$65498))","v":""},{"$f":"IF(ISBLANK($B330),\"\",LOOKUP($B330,Inscriptions!A$2:A$65496,Inscriptions!D$2:D$65498))","v":""},null,null,0,0,0,"",""]
[327,null,{"$f":"IF(ISBLANK($B331),\"\",LOOKUP($B331,Inscriptions!A$2:A$65496,Inscriptions!B$2:B$65498))","v":""},{"$f":"IF(ISBLANK($B331),\"\",LOOKUP($B331,Inscriptions!A$2:A$65496,Inscriptions!C$2:C$65498))","v":""},{"$f":"IF(ISBLANK($B331),\"\",LOOKUP($B331,Inscriptions!A$2:A$65496,Inscriptions!D$2:D$65498))","v":""},null,null,0,0,0,"",""]
[328,null,{"$f":"IF(ISBLANK($B332),\"\",LOOKUP($B332,Inscriptions!A$2:A$65496,Inscriptions!B$2:B$65498))","v":""},{"$f":"IF(ISBLANK($B332),\"\",LOOKUP($B332,Inscriptions!A$2:A$65496,Inscriptions!C$2:C$65498))","v":""},{"$f":"IF(ISBLANK($B332),\"\",LOOKUP($B332,Inscriptions!A$2:A$65496,Inscriptions!D$2:D$65498))","v":""},null,null,0,0,0,"",""]
[329,null,{"$f":"IF(ISBLANK($B333),\"\",LOOKUP($B333,Inscriptions!A$2:A$65496,Inscriptions!B$2:B$65498))","v":""},{"$f":"IF(ISBLANK($B333),\"\",LOOKUP($B333,Inscriptions!A$2:A$65496,Inscriptions!C$2:C$65498))","v":""},{"$f":"IF(ISBLANK($B333),\"\",LOOKUP($B333,Inscriptions!A$2:A$65496,Inscriptions!D$2:D$65498))","v":""},null,null,0,0,0,"",""]
[330,null,{"$f":"IF(ISBLANK($B334),\"\",LOOKUP($B334,Inscriptions!A$2:A$65496,Inscriptions!B$2:B$65498))","v":""},{"$f":"IF(ISBLANK($B334),\"\",LOOKUP($B334,Inscriptions!A$2:A$65496,Inscriptions!C$2:C$65498))","v":""},{"$f":"IF(ISBLANK($B334),\"\",LOOKUP($B334,Inscriptions!A$2:A$65496,Inscriptions!D$2:D$65498))","v":""},null,null,0,0,0,"",""]
[331,null,{"$f":"IF(ISBLANK($B335),\"\",LOOKUP($B335,Inscriptions!A$2:A$65496,Inscriptions!B$2:B$65498))","v":""},{"$f":"IF(ISBLANK($B335),\"\",LOOKUP($B335,Inscriptions!A$2:A$65496,Inscriptions!C$2:C$65498))","v":""},{"$f":"IF(ISBLANK($B335),\"\",LOOKUP($B335,Inscriptions!A$2:A$65496,Inscriptions!D$2:D$65498))","v":""},null,null,0,0,0,"",""]
[332,null,{"$f":"IF(ISBLANK($B336),\"\",LOOKUP($B336,Inscriptions!A$2:A$65496,Inscriptions!B$2:B$65498))","v":""},{"$f":"IF(ISBLANK($B336),\"\",LOOKUP($B336,Inscriptions!A$2:A$65496,Inscriptions!C$2:C$65498))","v":""},{"$f":"IF(ISBLANK($B336),\"\",LOOKUP($B336,Inscriptions!A$2:A$65496,Inscriptions!D$2:D$65498))","v":""},null,null,0,0,0,"",""]
[333,null,{"$f":"IF(ISBLANK($B337),\"\",LOOKUP($B337,Inscriptions!A$2:A$65496,Inscriptions!B$2:B$65498))","v":""},{"$f":"IF(ISBLANK($B337),\"\",LOOKUP($B337,Inscriptions!A$2:A$65496,Inscriptions!C$2:C$65498))","v":""},{"$f":"IF(ISBLANK($B337),\"\",LOOKUP($B337,Inscriptions!A$2:A$65496,Inscriptions!D$2:D$65498))","v":""},null,null,0,0,0,"",""]
[334,null,{"$f":"IF(ISBLANK($B338),\"\",LOOKUP($B338,Inscriptions!A$2:A$65496,Inscriptions!B$2:B$65498))","v":""},{"$f":"IF(ISBLANK($B338),\"\",LOOKUP($B338,Inscriptions!A$2:A$65496,Inscriptions!C$2:C$65498))","v":""},{"$f":"IF(ISBLANK($B338),\"\",LOOKUP($B338,Inscriptions!A$2:A$65496,Inscriptions!D$2:D$65498))","v":""},null,null,0,0,0,"",""]
[335,null,{"$f":"IF(ISBLANK($B339),\"\",LOOKUP($B339,Inscriptions!A$2:A$65496,Inscriptions!B$2:B$65498))","v":""},{"$f":"IF(ISBLANK($B339),\"\",LOOKUP($B339,Inscriptions!A$2:A$65496,Inscriptions!C$2:C$65498))","v":""},{"$f":"IF(ISBLANK($B339),\"\",LOOKUP($B339,Inscriptions!A$2:A$65496,Inscriptions!D$2:D$65498))","v":""},null,null,0,0,0,"",""]
[336,null,{"$f":"IF(ISBLANK($B340),\"\",LOOKUP($B340,Inscriptions!A$2:A$65496,Inscriptions!B$2:B$65498))","v":""},{"$f":"IF(ISBLANK($B340),\"\",LOOKUP($B340,Inscriptions!A$2:A$65496,Inscriptions!C$2:C$65498))","v":""},{"$f":"IF(ISBLANK($B340),\"\",LOOKUP($B340,Inscriptions!A$2:A$65496,Inscriptions!D$2:D$65498))","v":""},null,null,0,0,0,"",""]
[337,null,{"$f":"IF(ISBLANK($B341),\"\",LOOKUP($B341,Inscriptions!A$2:A$65496,Inscriptions!B$2:B$65498))","v":""},{"$f":"IF(ISBLANK($B341),\"\",LOOKUP($B341,Inscriptions!A$2:A$65496,Inscriptions!C$2:C$65498))","v":""},{"$f":"IF(ISBLANK($B341),\"\",LOOKUP($B341,Inscriptions!A$2:A$65496,Inscriptions!D$2:D$65498))","v":""},null,null,0,0,0,"",""]
[338,null,{"$f":"IF(ISBLANK($B342),\"\",LOOKUP($B342,Inscriptions!A$2:A$65496,Inscriptions!B$2:B$65498))","v":""},{"$f":"IF(ISBLANK($B342),\"\",LOOKUP($B342,Inscriptions!A$2:A$65496,Inscriptions!C$2:C$65498))","v":""},{"$f":"IF(ISBLANK($B342),\"\",LOOKUP($B342,Inscriptions!A$2:A$65496,Inscriptions!D$2:D$65498))","v":""},null,null,0,0,0,"",""]
[339,null,{"$f":"IF(ISBLANK($B343),\"\",LOOKUP($B343,Inscriptions!A$2:A$65496,Inscriptions!B$2:B$65498))","v":""},{"$f":"IF(ISBLANK($B343),\"\",LOOKUP($B343,Inscriptions!A$2:A$65496,Inscriptions!C$2:C$65498))","v":""},{"$f":"IF(ISBLANK($B343),\"\",LOOKUP($B343,Inscriptions!A$2:A$65496,Inscriptions!D$2:D$65498))","v":""},null,null,0,0,0,"",""]
[340,null,{"$f":"IF(ISBLANK($B344),\"\",LOOKUP($B344,Inscriptions!A$2:A$65496,Inscriptions!B$2:B$65498))","v":""},{"$f":"IF(ISBLANK($B344),\"\",LOOKUP($B344,Inscriptions!A$2:A$65496,Inscriptions!C$2:C$65498))","v":""},{"$f":"IF(ISBLANK($B344),\"\",LOOKUP($B344,Inscriptions!A$2:A$65496,Inscriptions!D$2:D$65498))","v":""},null,null,0,0,0,"",""]
[341,null,{"$f":"IF(ISBLANK($B345),\"\",LOOKUP($B345,Inscriptions!A$2:A$65496,Inscriptions!B$2:B$65498))","v":""},{"$f":"IF(ISBLANK($B345),\"\",LOOKUP($B345,Inscriptions!A$2:A$65496,Inscriptions!C$2:C$65498))","v":""},{"$f":"IF(ISBLANK($B345),\"\",LOOKUP($B345,Inscriptions!A$2:A$65496,Inscriptions!D$2:D$65498))","v":""},null,null,0,0,0,"",""]
[342,null,{"$f":"IF(ISBLANK($B346),\"\",LOOKUP($B346,Inscriptions!A$2:A$65496,Inscriptions!B$2:B$65498))","v":""},{"$f":"IF(ISBLANK($B346),\"\",LOOKUP($B346,Inscriptions!A$2:A$65496,Inscriptions!C$2:C$65498))","v":""},{"$f":"IF(ISBLANK($B346),\"\",LOOKUP($B346,Inscriptions!A$2:A$65496,Inscriptions!D$2:D$65498))","v":""},null,null,0,0,0,"",""]
[343,null,{"$f":"IF(ISBLANK($B347),\"\",LOOKUP($B347,Inscriptions!A$2:A$65496,Inscriptions!B$2:B$65498))","v":""},{"$f":"IF(ISBLANK($B347),\"\",LOOKUP($B347,Inscriptions!A$2:A$65496,Inscriptions!C$2:C$65498))","v":""},{"$f":"IF(ISBLANK($B347),\"\",LOOKUP($B347,Inscriptions!A$2:A$65496,Inscriptions!D$2:D$65498))","v":""},null,null,0,0,0,"",""]
[344,null,{"$f":"IF(ISBLANK($B348),\"\",LOOKUP($B348,Inscriptions!A$2:A$65496,Inscriptions!B$2:B$65498))","v":""},{"$f":"IF(ISBLANK($B348),\"\",LOOKUP($B348,Inscriptions!A$2:A$65496,Inscriptions!C$2:C$65498))","v":""},{"$f":"IF(ISBLANK($B348),\"\",LOOKUP($B348,Inscriptions!A$2:A$65496,Inscriptions!D$2:D$65498))","v":""},null,null,0,0,0,"",""]
[345,null,{"$f":"IF(ISBLANK($B349),\"\",LOOKUP($B349,Inscriptions!A$2:A$65496,Inscriptions!B$2:B$65498))","v":""},{"$f":"IF(ISBLANK($B349),\"\",LOOKUP($B349,Inscriptions!A$2:A$65496,Inscriptions!C$2:C$65498))","v":""},{"$f":"IF(ISBLANK($B349),\"\",LOOKUP($B349,Inscriptions!A$2:A$65496,Inscriptions!D$2:D$65498))","v":""},null,null,0,0,0,"",""]
[346,null,{"$f":"IF(ISBLANK($B350),\"\",LOOKUP($B350,Inscriptions!A$2:A$65496,Inscriptions!B$2:B$65498))","v":""},{"$f":"IF(ISBLANK($B350),\"\",LOOKUP($B350,Inscriptions!A$2:A$65496,Inscriptions!C$2:C$65498))","v":""},{"$f":"IF(ISBLANK($B350),\"\",LOOKUP($B350,Inscriptions!A$2:A$65496,Inscriptions!D$2:D$65498))","v":""},null,null,0,0,0,"",""]
[347,null,{"$f":"IF(ISBLANK($B351),\"\",LOOKUP($B351,Inscriptions!A$2:A$65496,Inscriptions!B$2:B$65498))","v":""},{"$f":"IF(ISBLANK($B351),\"\",LOOKUP($B351,Inscriptions!A$2:A$65496,Inscriptions!C$2:C$65498))","v":""},{"$f":"IF(ISBLANK($B351),\"\",LOOKUP($B351,Inscriptions!A$2:A$65496,Inscriptions!D$2:D$65498))","v":""},null,null,0,0,0,"",""]
[348,null,{"$f":"IF(ISBLANK($B352),\"\",LOOKUP($B352,Inscriptions!A$2:A$65496,Inscriptions!B$2:B$65498))","v":""},{"$f":"IF(ISBLANK($B352),\"\",LOOKUP($B352,Inscriptions!A$2:A$65496,Inscriptions!C$2:C$65498))","v":""},{"$f":"IF(ISBLANK($B352),\"\",LOOKUP($B352,Inscriptions!A$2:A$65496,Inscriptions!D$2:D$65498))","v":""},null,null,0,0,0,"",""]
[349,null,{"$f":"IF(ISBLANK($B353),\"\",LOOKUP($B353,Inscriptions!A$2:A$65496,Inscriptions!B$2:B$65498))","v":""},{"$f":"IF(ISBLANK($B353),\"\",LOOKUP($B353,Inscriptions!A$2:A$65496,Inscriptions!C$2:C$65498))","v":""},{"$f":"IF(ISBLANK($B353),\"\",LOOKUP($B353,Inscriptions!A$2:A$65496,Inscriptions!D$2:D$65498))","v":""},null,null,0,0,0,"",""]
[350,null,{"$f":"IF(ISBLANK($B354),\"\",LOOKUP($B354,Inscriptions!A$2:A$65496,Inscriptions!B$2:B$65498))","v":""},{"$f":"IF(ISBLANK($B354),\"\",LOOKUP($B354,Inscriptions!A$2:A$65496,Inscriptions!C$2:C$65498))","v":""},{"$f":"IF(ISBLANK($B354),\"\",LOOKUP($B354,Inscriptions!A$2:A$65496,Inscriptions!D$2:D$65498))","v":""},null,null,0,0,0,"",""]

{"sheet":"C3 MOF","index":5,"n_rows":354,"n_cols":13,"rows_kept":354,"cut":false,"hidden":false,"merged":[[0,0,0,7],[1,0,1,7],[2,5,2,6]]}
["CROSS REGIONAL FSGT - STAINS - 18/01/2015"]
["MOUSTIQUES féminines = 1 050 mètres"]
[]
["PLACE","DOSSARD","NOM / PRENOM","CAT","CLUB","MMOF","MOF","TEMPS","h","m","s",1050,"m"]
[1,1283,{"$f":"IF(ISBLANK($B5),\"\",LOOKUP($B5,Inscriptions!A$2:A$65496,Inscriptions!B$2:B$65498))","v":"TRAORE FATOUMATA"},{"$f":"IF(ISBLANK($B5),\"\",LOOKUP($B5,Inscriptions!A$2:A$65496,Inscriptions!C$2:C$65498))","v":"MOF"},{"$f":"IF(ISBLANK($B5),\"\",LOOKUP($B5,Inscriptions!A$2:A$65496,Inscriptions!D$2:D$65498))","v":"ES VITRY"},null,null,506,{"$f":"ROUNDDOWN(H5/10000,0)","v":0},{"$f":"ROUNDDOWN((H5-I5*10000)/100,0)","v":5},{"$f":"ROUNDDOWN((H5-(I5*10000)-(J5*100)),0)","v":6},{"$f":"IF((I5+J5+K5)=0,\"\",ROUNDDOWN((L$4/((I5*3600)+(J5*60)+K5))*3.6,2))","v":12.35},{"$f":"IF(L5=\"\",\"\",\"km/h\")","v":"km/h"}]
[2,1185,{"$f":"IF(ISBLANK($B6),\"\",LOOKUP($B6,Inscriptions!A$2:A$65496,Inscriptions!B$2:B$65498))","v":"DIARRA AMINATA"},{"$f":"IF(ISBLANK($B6),\"\",LOOKUP($B6,Inscriptions!A$2:A$65496,Inscriptions!C$2:C$65498))","v":"MOF"},{"$f":"IF(ISBLANK($B6),\"\",LOOKUP($B6,Inscriptions!A$2:A$65496,Inscriptions!D$2:D$65498))","v":"ES VITRY"},null,null,507,{"$f":"ROUNDDOWN(H6/10000,0)","v":0},{"$f":"ROUNDDOWN((H6-I6*10000)/100,0)","v":5},{"$f":"ROUNDDOWN((H6-(I6*10000)-(J6*100)),0)","v":7},{"$f":"IF((I6+J6+K6)=0,\"\",ROUNDDOWN((L$4/((I6*3600)+(J6*60)+K6))*3.6,2))","v":12.31},{"$f":"IF(L6=\"\",\"\",\"km/h\")","v":"km/h"}]
[3,2315,{"$f":"IF(ISBLANK($B7),\"\",LOOKUP($B7,Inscriptions!A$2:A$65496,Inscriptions!B$2:B$65498))","v":"KATENDI- NSOUKOULA ANAELLE"},{"$f":"IF(ISBLANK($B7),\"\",LOOKUP($B7,Inscriptions!A$2:A$65496,Inscriptions!C$2:C$65498))","v":"MOF"},{"$f":"IF(ISBLANK($B7),\"\",LOOKUP($B7,Inscriptions!A$2:A$65496,Inscriptions!D$2:D$65498))","v":"VILLEPINTE MA"},null,null,524,0,5,24,11.66,"km/h"]
[4,1827,{"$f":"IF(ISBLANK($B8),\"\",LOOKUP($B8,Inscriptions!A$2:A$65496,Inscriptions!B$2:B$65498))","v":"FOURDRIGNIER EVORA"},{"$f":"IF(ISBLANK($B8),\"\",LOOKUP($B8,Inscriptions!A$2:A$65496,Inscriptions!C$2:C$65498))","v":"MOF"},{"$f":"IF(ISBLANK($B8),\"\",LOOKUP($B8,Inscriptions!A$2:A$65496,Inscriptions!D$2:D$65498))","v":"US IVRY"},null,null,527,0,5,27,11.55,"km/h"]
[5,1430,{"$f":"IF(ISBLANK($B9),\"\",LOOKUP($B9,Inscriptions!A$2:A$65496,Inscriptions!B$2:B$65498))","v":"MILOVAN CLAIRE"},{"$f":"IF(ISBLANK($B9),\"\",LOOKUP($B9,Inscriptions!A$2:A$65496,Inscriptions!C$2:C$65498))","v":"MMOF"},{"$f":"IF(ISBLANK($B9),\"\",LOOKUP($B9,Inscriptions!A$2:A$65496,Inscriptions!D$2:D$65498))","v":"NOISY LE SEC ATHLETISME"},null,null,537,0,5,37,11.21,"km/h"]
[6,2251,{"$f":"IF(ISBLANK($B10),\"\",LOOKUP($B10,Inscriptions!A$2:A$65496,Inscriptions!B$2:B$65498))","v":"JACQUEMINET MAELLYS"},{"$f":"IF(ISBLANK($B10),\"\",LOOKUP($B10,Inscriptions!A$2:A$65496,Inscriptions!C$2:C$65498))","v":"MOF"},{"$f":"IF(ISBLANK($B10),\"\",LOOKUP($B10,Inscriptions!A$2:A$65496,Inscriptions!D$2:D$65498))","v":"USO BEZONS"},null,null,541,0,5,41,11.08,"km/h"]
[7,1719,{"$f":"IF(ISBLANK($B11),\"\",LOOKUP($B11,Inscriptions!A$2:A$65496,Inscriptions!B$2:B$65498))","v":"RAHMOUNE NAWEL"},{"$f":"IF(ISBLANK($B11),\"\",LOOKUP($B11,Inscriptions!A$2:A$65496,Inscriptions!C$2:C$65498))","v":"MOF"},{"$f":"IF(ISBLANK($B11),\"\",LOOKUP($B11,Inscriptions!A$2:A$65496,Inscriptions!D$2:D$65498))","v":"TREMBLAY AC"},null,null,545,0,5,45,10.95,"km/h"]
[8,1640,{"$f":"IF(ISBLANK($B12),\"\",LOOKUP($B12,Inscriptions!A$2:A$65496,Inscriptions!B$2:B$65498))","v":"DEMBELE HABY"},{"$f":"IF(ISBLANK($B12),\"\",LOOKUP($B12,Inscriptions!A$2:A$65496,Inscriptions!C$2:C$65498))","v":"MOF"},{"$f":"IF(ISBLANK($B12),\"\",LOOKUP($B12,Inscriptions!A$2:A$65496,Inscriptions!D$2:D$65498))","v":"TREMBLAY AC"},null,null,546,0,5,46,10.92,"km/h"]
[9,1032,{"$f":"IF(ISBLANK($B13),\"\",LOOKUP($B13,Inscriptions!A$2:A$65496,Inscriptions!B$2:B$65498))","v":"ACTUS ELISA"},{"$f":"IF(ISBLANK($B13),\"\",LOOKUP($B13,Inscriptions!A$2:A$65496,Inscriptions!C$2:C$65498))","v":"MOF"},{"$f":"IF(ISBLANK($B13),\"\",LOOKUP($B13,Inscriptions!A$2:A$65496,Inscriptions!D$2:D$65498))","v":"ES STAINS"},null,null,550,0,5,50,10.8,"km/h"]
[10,2355,{"$f":"IF(ISBLANK($B14),\"\",LOOKUP($B14,Inscriptions!A$2:A$65496,Inscriptions!B$2:B$65498))","v":"MANSOURI YASMINE"},{"$f":"IF(ISBLANK($B14),\"\",LOOKUP($B14,Inscriptions!A$2:A$65496,Inscriptions!C$2:C$65498))","v":"MOF"},{"$f":"IF(ISBLANK($B14),\"\",LOOKUP($B14,Inscriptions!A$2:A$65496,Inscriptions!D$2:D$65498))","v":"COM ARGENTEUIL"},null,null,554,0,5,54,10.67,"km/h"]
[11,1841,{"$f":"IF(ISBLANK($B15),\"\",LOOKUP($B15,Inscriptions!A$2:A$65496,Inscriptions!B$2:B$65498))","v":"GRAL STELLA"},{"$f":"IF(ISBLANK($B15),\"\",LOOKUP($B15,Inscriptions!A$2:A$65496,Inscriptions!C$2:C$65498))","v":"MOF"},{"$f":"IF(ISBLANK($B15),\"\",LOOKUP($B15,Inscriptions!A$2:A$65496,Inscriptions!D$2:D$65498))","v":"US IVRY"},null,null,604,0,6,4,10.38,"km/h"]
[12,2133,{"$f":"IF(ISBLANK($B16),\"\",LOOKUP($B16,Inscriptions!A$2:A$65496,Inscriptions!B$2:B$65498))","v":"ACHOUCHE MELINA"},{"$f":"IF(ISBLANK($B16),\"\",LOOKUP($B16,Inscriptions!A$2:A$65496,Inscriptions!C$2:C$65498))","v":"MMOF"},{"$f":"IF(ISBLANK($B16),\"\",LOOKUP($B16,Inscriptions!A$2:A$65496,Inscriptions!D$2:D$65498))","v":"USMA ST OUEN"},null,null,607,0,6,7,10.29,"km/h"]
[13,1655,{"$f":"IF(ISBLANK($B17),\"\",LOOKUP($B17,Inscriptions!A$2:A$65496,Inscriptions!B$2:B$65498))","v":"FETTAH FARAH"},{"$f":"IF(ISBLANK($B17),\"\",LOOKUP($B17,Inscriptions!A$2:A$65496,Inscriptions!C$2:C$65498))","v":"MOF"},{"$f":"IF(ISBLANK($B17),\"\",LOOKUP($B17,Inscriptions!A$2:A$65496,Inscriptions!D$2:D$65498))","v":"TREMBLAY AC"},null,null,611,0,6,11,10.18,"km/h"]
[14,2311,{"$f":"IF(ISBLANK($B18),\"\",LOOKUP($B18,Inscriptions!A$2:A$65496,Inscriptions!B$2:B$65498))","v":"GRILO LEA"},{"$f":"IF(ISBLANK($B18),\"\",LOOKUP($B18,Inscriptions!A$2:A$65496,Inscriptions!C$2:C$65498))","v":"MOF"},{"$f":"IF(ISBLANK($B18),\"\",LOOKUP($B18,Inscriptions!A$2:A$65496,Inscriptions!D$2:D$65498))","v":"VILLEPINTE MA"},null,null,616,0,6,16,10.050000000000001,"km/h"]
[15,2326,{"$f":"IF(ISBLANK($B19),\"\",LOOKUP($B19,Inscriptions!A$2:A$65496,Inscriptions!B$2:B$65498))","v":"NAGOU LEHNA"},{"$f":"IF(ISBLANK($B19),\"\",LOOKUP($B19,Inscriptions!A$2:A$65496,Inscriptions!C$2:C$65498))","v":"MOF"},{"$f":"IF(ISBLANK($B19),\"\",LOOKUP($B19,Inscriptions!A$2:A$65496,Inscriptions!D$2:D$65498))","v":"VILLEPINTE MA"},null,null,617,0,6,17,10.02,"km/h"]
[16,1516,{"$f":"IF(ISBLANK($B20),\"\",LOOKUP($B20,Inscriptions!A$2:A$65496,Inscriptions!B$2:B$65498))","v":"BATHILY KANDY"},{"$f":"IF(ISBLANK($B20),\"\",LOOKUP($B20,Inscriptions!A$2:A$65496,Inscriptions!C$2:C$65498))","v":"MOF"},{"$f":"IF(ISBLANK($B20),\"\",LOOKUP($B20,Inscriptions!A$2:A$65496,Inscriptions!D$2:D$65498))","v":"ST DENIS US"},null,null,622,0,6,22,9.89,"km/h"]
[17,355,{"$f":"IF(ISBLANK($B21),\"\",LOOKUP($B21,Inscriptions!A$2:A$65496,Inscriptions!B$2:B$65498))","v":"BOUGHAZI RIZLAINE"},{"$f":"IF(ISBLANK($B21),\"\",LOOKUP($B21,Inscriptions!A$2:A$65496,Inscriptions!C$2:C$65498))","v":"MOF"},{"$f":"IF(ISBLANK($B21),\"\",LOOKUP($B21,Inscriptions!A$2:A$65496,Inscriptions!D$2:D$65498))","v":"ATHLE LE BOURGET DRANCY DUGNY"},null,null,626,0,6,26,9.7899999999999991,"km/h"]
[18,91,{"$f":"IF(ISBLANK($B22),\"\",LOOKUP($B22,Inscriptions!A$2:A$65496,Inscriptions!B$2:B$65498))","v":"BUTON SARAH"},{"$f":"IF(ISBLANK($B22),\"\",LOOKUP($B22,Inscriptions!A$2:A$65496,Inscriptions!C$2:C$65498))","v":"MOF"},{"$f":"IF(ISBLANK($B22),\"\",LOOKUP($B22,Inscriptions!A$2:A$65496,Inscriptions!D$2:D$65498))","v":"ACM AUBERVILLIERS"},null,null,628,0,6,28,9.74,"km/h"]
[19,899,{"$f":"IF(ISBLANK($B23),\"\",LOOKUP($B23,Inscriptions!A$2:A$65496,Inscriptions!B$2:B$65498))","v":"POUQUET LOUISE"},{"$f":"IF(ISBLANK($B23),\"\",LOOKUP($B23,Inscriptions!A$2:A$65496,Inscriptions!C$2:C$65498))","v":"MOF"},{"$f":"IF(ISBLANK($B23),\"\",LOOKUP($B23,Inscriptions!A$2:A$65496,Inscriptions!D$2:D$65498))","v":"CS BRETIGNY ATHLETISME"},null,null,632,0,6,32,9.64,"km/h"]
[20,819,{"$f":"IF(ISBLANK($B24),\"\",LOOKUP($B24,Inscriptions!A$2:A$65496,Inscriptions!B$2:B$65498))","v":"GOUTAL ZINA"},{"$f":"IF(ISBLANK($B24),\"\",LOOKUP($B24,Inscriptions!A$2:A$65496,Inscriptions!C$2:C$65498))","v":"MOF"},{"$f":"IF(ISBLANK($B24),\"\",LOOKUP($B24,Inscriptions!A$2:A$65496,Inscriptions!D$2:D$65498))","v":"CS BRETIGNY ATHLETISME"},null,null,634,0,6,34,9.59,"km/h"]
[21,100,{"$f":"IF(ISBLANK($B25),\"\",LOOKUP($B25,Inscriptions!A$2:A$65496,Inscriptions!B$2:B$65498))","v":"DJOULAIT LEA"},{"$f":"IF(ISBLANK($B25),\"\",LOOKUP($B25,Inscriptions!A$2:A$65496,Inscriptions!C$2:C$65498))","v":"MOF"},{"$f":"IF(ISBLANK($B25),\"\",LOOKUP($B25,Inscriptions!A$2:A$65496,Inscriptions!D$2:D$65498))","v":"ACM AUBERVILLIERS"},null,null,639,0,6,39,9.4700000000000006,"km/h"]
[22,87,{"$f":"IF(ISBLANK($B26),\"\",LOOKUP($B26,Inscriptions!A$2:A$65496,Inscriptions!B$2:B$65498))","v":"BUTON MARGO"},{"$f":"IF(ISBLANK($B26),\"\",LOOKUP($B26,Inscriptions!A$2:A$65496,Inscriptions!C$2:C$65498))","v":"MOF"},{"$f":"IF(ISBLANK($B26),\"\",LOOKUP($B26,Inscriptions!A$2:A$65496,Inscriptions!D$2:D$65498))","v":"ACM AUBERVILLIERS"},null,null,642,0,6,42,9.4,"km/h"]
[23,2155,{"$f":"IF(ISBLANK($B27),\"\",LOOKUP($B27,Inscriptions!A$2:A$65496,Inscriptions!B$2:B$65498))","v":"DEMBELE KOBODING"},{"$f":"IF(ISBLANK($B27),\"\",LOOKUP($B27,Inscriptions!A$2:A$65496,Inscriptions!C$2:C$65498))","v":"MOF"},{"$f":"IF(ISBLANK($B27),\"\",LOOKUP($B27,Inscriptions!A$2:A$65496,Inscriptions!D$2:D$65498))","v":"USMA ST OUEN"},null,null,642,0,6,42,9.4,"km/h"]
[24,2335,{"$f":"IF(ISBLANK($B28),\"\",LOOKUP($B28,Inscriptions!A$2:A$65496,Inscriptions!B$2:B$65498))","v":"SYLVESTRE SOPHIE"},{"$f":"IF(ISBLANK($B28),\"\",LOOKUP($B28,Inscriptions!A$2:A$65496,Inscriptions!C$2:C$65498))","v":"MOF"},{"$f":"IF(ISBLANK($B28),\"\",LOOKUP($B28,Inscriptions!A$2:A$65496,Inscriptions!D$2:D$65498))","v":"VILLEPINTE MA"},null,null,646,0,6,46,9.31,"km/h"]
[25,1043,{"$f":"IF(ISBLANK($B29),\"\",LOOKUP($B29,Inscriptions!A$2:A$65496,Inscriptions!B$2:B$65498))","v":"BENSSOUM MANELLE"},{"$f":"IF(ISBLANK($B29),\"\",LOOKUP($B29,Inscriptions!A$2:A$65496,Inscriptions!C$2:C$65498))","v":"MMOF"},{"$f":"IF(ISBLANK($B29),\"\",LOOKUP($B29,Inscriptions!A$2:A$65496,Inscriptions!D$2:D$65498))","v":"ES STAINS"},null,null,647,0,6,47,9.2799999999999994,"km/h"]
[26,1079,{"$f":"IF(ISBLANK($B30),\"\",LOOKUP($B30,Inscriptions!A$2:A$65496,Inscriptions!B$2:B$65498))","v":"FIDELE LOU"},{"$f":"IF(ISBLANK($B30),\"\",LOOKUP($B30,Inscriptions!A$2:A$65496,Inscriptions!C$2:C$65498))","v":"MOF"},{"$f":"IF(ISBLANK($B30),\"\",LOOKUP($B30,Inscriptions!A$2:A$65496,Inscriptions!D$2:D$65498))","v":"ES STAINS"},null,null,648,0,6,48,9.26,"km/h"]
[27,411,{"$f":"IF(ISBLANK($B31),\"\",LOOKUP($B31,Inscriptions!A$2:A$65496,Inscriptions!B$2:B$65498))","v":"KADRI INES"},{"$f":"IF(ISBLANK($B31),\"\",LOOKUP($B31,Inscriptions!A$2:A$65496,Inscriptions!C$2:C$65498))","v":"MOF"},{"$f":"IF(ISBLANK($B31),\"\",LOOKUP($B31,Inscriptions!A$2:A$65496,Inscriptions!D$2:D$65498))","v":"ATHLE LE BOURGET DRANCY DUGNY"},null,null,649,0,6,49,9.24,"km/h"]
[28,1380,{"$f":"IF(ISBLANK($B32),\"\",LOOKUP($B32,Inscriptions!A$2:A$65496,Inscriptions!B$2:B$65498))","v":"FERET ELODIE"},{"$f":"IF(ISBLANK($B32),\"\",LOOKUP($B32,Inscriptions!A$2:A$65496,Inscriptions!C$2:C$65498))","v":"MOF"},{"$f":"IF(ISBLANK($B32),\"\",LOOKUP($B32,Inscriptions!A$2:A$65496,Inscriptions!D$2:D$65498))","v":"NOISY LE SEC ATHLETISME"},null,null,650,0,6,50,9.2100000000000009,"km/h"]
[29,985,{"$f":"IF(ISBLANK($B33),\"\",LOOKUP($B33,Inscriptions!A$2:A$65496,Inscriptions!B$2:B$65498))","v":"PERSEIL EMILIE"},{"$f":"IF(ISBLANK($B33),\"\",LOOKUP($B33,Inscriptions!A$2:A$65496,Inscriptions!C$2:C$65498))","v":"MOF"},{"$f":"IF(ISBLANK($B33),\"\",LOOKUP($B33,Inscriptions!A$2:A$65496,Inscriptions!D$2:D$65498))","v":"CSM GENNEVILLIERS"},null,null,656,0,6,56,9.08,"km/h"]
[30,1656,{"$f":"IF(ISBLANK($B34),\"\",LOOKUP($B34,Inscriptions!A$2:A$65496,Inscriptions!B$2:B$65498))","v":"FETTAH MELINA"},{"$f":"IF(ISBLANK($B34),\"\",LOOKUP($B34,Inscriptions!A$2:A$65496,Inscriptions!C$2:C$65498))","v":"MOF"},{"$f":"IF(ISBLANK($B34),\"\",LOOKUP($B34,Inscriptions!A$2:A$65496,Inscriptions!D$2:D$65498))","v":"TREMBLAY AC"},null,null,657,0,6,57,9.06,"km/h"]
[31,1117,{"$f":"IF(ISBLANK($B35),\"\",LOOKUP($B35,Inscriptions!A$2:A$65496,Inscriptions!B$2:B$65498))","v":"PROMENEUR HAELYS"},{"$f":"IF(ISBLANK($B35),\"\",LOOKUP($B35,Inscriptions!A$2:A$65496,Inscriptions!C$2:C$65498))","v":"MOF"},{"$f":"IF(ISBLANK($B35),\"\",LOOKUP($B35,Inscriptions!A$2:A$65496,Inscriptions!D$2:D$65498))","v":"ES STAINS"},null,null,700,0,7,0,9,"km/h"]
[32,1461,{"$f":"IF(ISBLANK($B36),\"\",LOOKUP($B36,Inscriptions!A$2:A$65496,Inscriptions!B$2:B$65498))","v":"SIMEON MELINA"},{"$f":"IF(ISBLANK($B36),\"\",LOOKUP($B36,Inscriptions!A$2:A$65496,Inscriptions!C$2:C$65498))","v":"MMOF"},{"$f":"IF(ISBLANK($B36),\"\",LOOKUP($B36,Inscriptions!A$2:A$65496,Inscriptions!D$2:D$65498))","v":"NOISY LE SEC ATHLETISME"},null,null,704,0,7,4,8.91,"km/h"]
[33,495,{"$f":"IF(ISBLANK($B37),\"\",LOOKUP($B37,Inscriptions!A$2:A$65496,Inscriptions!B$2:B$65498))","v":"BOUMEDJANE DARYNE"},{"$f":"IF(ISBLANK($B37),\"\",LOOKUP($B37,Inscriptions!A$2:A$65496,Inscriptions!C$2:C$65498))","v":"MOF"},{"$f":"IF(ISBLANK($B37),\"\",LOOKUP($B37,Inscriptions!A$2:A$65496,Inscriptions!D$2:D$65498))","v":"BLANC MESNIL SA"},null,null,707,0,7,7,8.85,"km/h"]
[34,1555,{"$f":"IF(ISBLANK($B38),\"\",LOOKUP($B38,Inscriptions!A$2:A$65496,Inscriptions!B$2:B$65498))","v":"EXANTUS MICHAELLA"},{"$f":"IF(ISBLANK($B38),\"\",LOOKUP($B38,Inscriptions!A$2:A$65496,Inscriptions!C$2:C$65498))","v":"MOF"},{"$f":"IF(ISBLANK($B38),\"\",LOOKUP($B38,Inscriptions!A$2:A$65496,Inscriptions!D$2:D$65498))","v":"ST DENIS US"},null,null,715,0,7,15,8.68,"km/h"]
[35,1133,{"$f":"IF(ISBLANK($B39),\"\",LOOKUP($B39,Inscriptions!A$2:A$65496,Inscriptions!B$2:B$65498))","v":"TAHRAT CAMELIA"},{"$f":"IF(ISBLANK($B39),\"\",LOOKUP($B39,Inscriptions!A$2:A$65496,Inscriptions!C$2:C$65498))","v":"MOF"},{"$f":"IF(ISBLANK($B39),\"\",LOOKUP($B39,Inscriptions!A$2:A$65496,Inscriptions!D$2:D$65498))","v":"ES STAINS"},null,null,723,0,7,23,8.5299999999999994,"km/h"]
[36,1387,{"$f":"IF(ISBLANK($B40),\"\",LOOKUP($B40,Inscriptions!A$2:A$65496,Inscriptions!B$2:B$65498))","v":"GOMIS SHANA"},{"$f":"IF(ISBLANK($B40),\"\",LOOKUP($B40,Inscriptions!A$2:A$65496,Inscriptions!C$2:C$65498))","v":"MOF"},{"$f":"IF(ISBLANK($B40),\"\",LOOKUP($B40,Inscriptions!A$2:A$65496,Inscriptions!D$2:D$65498))","v":"NOISY LE SEC ATHLETISME"},null,null,730,0,7,30,8.4,"km/h"]
[37,2367,{"$f":"IF(ISBLANK($B41),\"\",LOOKUP($B41,Inscriptions!A$2:A$65496,Inscriptions!B$2:B$65498))","v":"DIDIER RUBYS"},{"$f":"IF(ISBLANK($B41),\"\",LOOKUP($B41,Inscriptions!A$2:A$65496,Inscriptions!C$2:C$65498))","v":"MOF"},{"$f":"IF(ISBLANK($B41),\"\",LOOKUP($B41,Inscriptions!A$2:A$65496,Inscriptions!D$2:D$65498))","v":"ES STAINS"},null,null,734,0,7,34,8.32,"km/h"]
[38,101,{"$f":"IF(ISBLANK($B42),\"\",LOOKUP($B42,Inscriptions!A$2:A$65496,Inscriptions!B$2:B$65498))","v":"DJOULAIT LISA"},{"$f":"IF(ISBLANK($B42),\"\",LOOKUP($B42,Inscriptions!A$2:A$65496,Inscriptions!C$2:C$65498))","v":"MOF"},{"$f":"IF(ISBLANK($B42),\"\",LOOKUP($B42,Inscriptions!A$2:A$65496,Inscriptions!D$2:D$65498))","v":"ACM AUBERVILLIERS"},null,null,735,0,7,35,8.3000000000000007,"km/h"]
[39,368,{"$f":"IF(ISBLANK($B43),\"\",LOOKUP($B43,Inscriptions!A$2:A$65496,Inscriptions!B$2:B$65498))","v":"CHERIFI MANEL YOUSRA"},{"$f":"IF(ISBLANK($B43),\"\",LOOKUP($B43,Inscriptions!A$2:A$65496,Inscriptions!C$2:C$65498))","v":"MOF"},{"$f":"IF(ISBLANK($B43),\"\",LOOKUP($B43,Inscriptions!A$2:A$65496,Inscriptions!D$2:D$65498))","v":"ATHLE LE BOURGET DRANCY DUGNY"},null,null,736,0,7,36,8.2799999999999994,"km/h"]
[40,1062,{"$f":"IF(ISBLANK($B44),\"\",LOOKUP($B44,Inscriptions!A$2:A$65496,Inscriptions!B$2:B$65498))","v":"DAOUDI KAHINA"},{"$f":"IF(ISBLANK($B44),\"\",LOOKUP($B44,Inscriptions!A$2:A$65496,Inscriptions!C$2:C$65498))","v":"MOF"},{"$f":"IF(ISBLANK($B44),\"\",LOOKUP($B44,Inscriptions!A$2:A$65496,Inscriptions!D$2:D$65498))","v":"ES STAINS"},null,null,742,0,7,42,8.18,"km/h"]
[41,1383,{"$f":"IF(ISBLANK($B45),\"\",LOOKUP($B45,Inscriptions!A$2:A$65496,Inscriptions!B$2:B$65498))","v":"GACEM YASMINE"},{"$f":"IF(ISBLANK($B45),\"\",LOOKUP($B45,Inscriptions!A$2:A$65496,Inscriptions!C$2:C$65498))","v":"MOF"},{"$f":"IF(ISBLANK($B45),\"\",LOOKUP($B45,Inscriptions!A$2:A$65496,Inscriptions!D$2:D$65498))","v":"NOISY LE SEC ATHLETISME"},null,null,752,0,7,52,8,"km/h"]
[42,97,{"$f":"IF(ISBLANK($B46),\"\",LOOKUP($B46,Inscriptions!A$2:A$65496,Inscriptions!B$2:B$65498))","v":"DIABY KONE OUMOU"},{"$f":"IF(ISBLANK($B46),\"\",LOOKUP($B46,Inscriptions!A$2:A$65496,Inscriptions!C$2:C$65498))","v":"MOF"},{"$f":"IF(ISBLANK($B46),\"\",LOOKUP($B46,Inscriptions!A$2:A$65496,Inscriptions!D$2:D$65498))","v":"ACM AUBERVILLIERS"},null,null,753,0,7,53,7.99,"km/h"]
[43,2288,{"$f":"IF(ISBLANK($B47),\"\",LOOKUP($B47,Inscriptions!A$2:A$65496,Inscriptions!B$2:B$65498))","v":"CAMBIER TASNIM"},{"$f":"IF(ISBLANK($B47),\"\",LOOKUP($B47,Inscriptions!A$2:A$65496,Inscriptions!C$2:C$65498))","v":"MMOM"},{"$f":"IF(ISBLANK($B47),\"\",LOOKUP($B47,Inscriptions!A$2:A$65496,Inscriptions!D$2:D$65498))","v":"VILLEPINTE MA"},null,null,754,0,7,54,7.97,"km/h"]
[44,1454,{"$f":"IF(ISBLANK($B48),\"\",LOOKUP($B48,Inscriptions!A$2:A$65496,Inscriptions!B$2:B$65498))","v":"SAGNET CHETRATE MAELIA"},{"$f":"IF(ISBLANK($B48),\"\",LOOKUP($B48,Inscriptions!A$2:A$65496,Inscriptions!C$2:C$65498))","v":"MOF"},{"$f":"IF(ISBLANK($B48),\"\",LOOKUP($B48,Inscriptions!A$2:A$65496,Inscriptions!D$2:D$65498))","v":"NOISY LE SEC ATHLETISME"},null,null,755,0,7,55,7.95,"km/h"]
[45,110,{"$f":"IF(ISBLANK($B49),\"\",LOOKUP($B49,Inscriptions!A$2:A$65496,Inscriptions!B$2:B$65498))","v":"HAMADOUCHE LILA"},{"$f":"IF(ISBLANK($B49),\"\",LOOKUP($B49,Inscriptions!A$2:A$65496,Inscriptions!C$2:C$65498))","v":"MOF"},{"$f":"IF(ISBLANK($B49),\"\",LOOKUP($B49,Inscriptions!A$2:A$65496,Inscriptions!D$2:D$65498))","v":"ACM AUBERVILLIERS"},null,null,757,0,7,57,7.92,"km/h"]
[46,null,{"$f":"IF(ISBLANK($B50),\"\",LOOKUP($B50,Inscriptions!A$2:A$65496,Inscriptions!B$2:B$65498))","v":""},{"$f":"IF(ISBLANK($B50),\"\",LOOKUP($B50,Inscriptions!A$2:A$65496,Inscriptions!C$2:C$65498))","v":""},{"$f":"IF(ISBLANK($B50),\"\",LOOKUP($B50,Inscriptions!A$2:A$65496,Inscriptions!D$2:D$65498))","v":""},null,null,null,0,0,0,"",""]
[47,null,{"$f":"IF(ISBLANK($B51),\"\",LOOKUP($B51,Inscriptions!A$2:A$65496,Inscriptions!B$2:B$65498))","v":""},{"$f":"IF(ISBLANK($B51),\"\",LOOKUP($B51,Inscriptions!A$2:A$65496,Inscriptions!C$2:C$65498))","v":""},{"$f":"IF(ISBLANK($B51),\"\",LOOKUP($B51,Inscriptions!A$2:A$65496,Inscriptions!D$2:D$65498))","v":""},null,null,null,0,0,0,"",""]
[48,null,{"$f":"IF(ISBLANK($B52),\"\",LOOKUP($B52,Inscriptions!A$2:A$65496,Inscriptions!B$2:B$65498))","v":""},{"$f":"IF(ISBLANK($B52),\"\",LOOKUP($B52,Inscriptions!A$2:A$65496,Inscriptions!C$2:C$65498))","v":""},{"$f":"IF(ISBLANK($B52),\"\",LOOKUP($B52,Inscriptions!A$2:A$65496,Inscriptions!D$2:D$65498))","v":""},null,null,null,0,0,0,"",""]
[49,null,{"$f":"IF(ISBLANK($B53),\"\",LOOKUP($B53,Inscriptions!A$2:A$65496,Inscriptions!B$2:B$65498))","v":""},{"$f":"IF(ISBLANK($B53),\"\",LOOKUP($B53,Inscriptions!A$2:A$65496,Inscriptions!C$2:C$65498))","v":""},{"$f":"IF(ISBLANK($B53),\"\",LOOKUP($B53,Inscriptions!A$2:A$65496,Inscriptions!D$2:D$65498))","v":""},null,null,null,0,0,0,"",""]
[50,null,{"$f":"IF(ISBLANK($B54),\"\",LOOKUP($B54,Inscriptions!A$2:A$65496,Inscriptions!B$2:B$65498))","v":""},{"$f":"IF(ISBLANK($B54),\"\",LOOKUP($B54,Inscriptions!A$2:A$65496,Inscriptions!C$2:C$65498))","v":""},{"$f":"IF(ISBLANK($B54),\"\",LOOKUP($B54,Inscriptions!A$2:A$65496,Inscriptions!D$2:D$65498))","v":""},null,null,null,0,0,0,"",""]
[51,null,{"$f":"IF(ISBLANK($B55),\"\",LOOKUP($B55,Inscriptions!A$2:A$65496,Inscriptions!B$2:B$65498))","v":""},{"$f":"IF(ISBLANK($B55),\"\",LOOKUP($B55,Inscriptions!A$2:A$65496,Inscriptions!C$2:C$65498))","v":""},{"$f":"IF(ISBLANK($B55),\"\",LOOKUP($B55,Inscriptions!A$2:A$65496,Inscriptions!D$2:D$65498))","v":""},null,null,null,0,0,0,"",""]
[52,null,{"$f":"IF(ISBLANK($B56),\"\",LOOKUP($B56,Inscriptions!A$2:A$65496,Inscriptions!B$2:B$65498))","v":""},{"$f":"IF(ISBLANK($B56),\"\",LOOKUP($B56,Inscriptions!A$2:A$65496,Inscriptions!C$2:C$65498))","v":""},{"$f":"IF(ISBLANK($B56),\"\",LOOKUP($B56,Inscriptions!A$2:A$65496,Inscriptions!D$2:D$65498))","v":""},null,null,null,0,0,0,"",""]
[53,null,{"$f":"IF(ISBLANK($B57),\"\",LOOKUP($B57,Inscriptions!A$2:A$65496,Inscriptions!B$2:B$65498))","v":""},{"$f":"IF(ISBLANK($B57),\"\",LOOKUP($B57,Inscriptions!A$2:A$65496,Inscriptions!C$2:C$65498))","v":""},{"$f":"IF(ISBLANK($B57),\"\",LOOKUP($B57,Inscriptions!A$2:A$65496,Inscriptions!D$2:D$65498))","v":""},null,null,null,0,0,0,"",""]
[54,null,{"$f":"IF(ISBLANK($B58),\"\",LOOKUP($B58,Inscriptions!A$2:A$65496,Inscriptions!B$2:B$65498))","v":""},{"$f":"IF(ISBLANK($B58),\"\",LOOKUP($B58,Inscriptions!A$2:A$65496,Inscriptions!C$2:C$65498))","v":""},{"$f":"IF(ISBLANK($B58),\"\",LOOKUP($B58,Inscriptions!A$2:A$65496,Inscriptions!D$2:D$65498))","v":""},null,null,null,0,0,0,"",""]
[55,null,{"$f":"IF(ISBLANK($B59),\"\",LOOKUP($B59,Inscriptions!A$2:A$65496,Inscriptions!B$2:B$65498))","v":""},{"$f":"IF(ISBLANK($B59),\"\",LOOKUP($B59,Inscriptions!A$2:A$65496,Inscriptions!C$2:C$65498))","v":""},{"$f":"IF(ISBLANK($B59),\"\",LOOKUP($B59,Inscriptions!A$2:A$65496,Inscriptions!D$2:D$65498))","v":""},null,null,null,0,0,0,"",""]
[56,null,{"$f":"IF(ISBLANK($B60),\"\",LOOKUP($B60,Inscriptions!A$2:A$65496,Inscriptions!B$2:B$65498))","v":""},{"$f":"IF(ISBLANK($B60),\"\",LOOKUP($B60,Inscriptions!A$2:A$65496,Inscriptions!C$2:C$65498))","v":""},{"$f":"IF(ISBLANK($B60),\"\",LOOKUP($B60,Inscriptions!A$2:A$65496,Inscriptions!D$2:D$65498))","v":""},null,null,null,0,0,0,"",""]
[57,null,{"$f":"IF(ISBLANK($B61),\"\",LOOKUP($B61,Inscriptions!A$2:A$65496,Inscriptions!B$2:B$65498))","v":""},{"$f":"IF(ISBLANK($B61),\"\",LOOKUP($B61,Inscriptions!A$2:A$65496,Inscriptions!C$2:C$65498))","v":""},{"$f":"IF(ISBLANK($B61),\"\",LOOKUP($B61,Inscriptions!A$2:A$65496,Inscriptions!D$2:D$65498))","v":""},null,null,null,0,0,0,"",""]
[58,null,{"$f":"IF(ISBLANK($B62),\"\",LOOKUP($B62,Inscriptions!A$2:A$65496,Inscriptions!B$2:B$65498))","v":""},{"$f":"IF(ISBLANK($B62),\"\",LOOKUP($B62,Inscriptions!A$2:A$65496,Inscriptions!C$2:C$65498))","v":""},{"$f":"IF(ISBLANK($B62),\"\",LOOKUP($B62,Inscriptions!A$2:A$65496,Inscriptions!D$2:D$65498))","v":""},null,null,null,0,0,0,"",""]
[59,null,{"$f":"IF(ISBLANK($B63),\"\",LOOKUP($B63,Inscriptions!A$2:A$65496,Inscriptions!B$2:B$65498))","v":""},{"$f":"IF(ISBLANK($B63),\"\",LOOKUP($B63,Inscriptions!A$2:A$65496,Inscriptions!C$2:C$65498))","v":""},{"$f":"IF(ISBLANK($B63),\"\",LOOKUP($B63,Inscriptions!A$2:A$65496,Inscriptions!D$2:D$65498))","v":""},null,null,null,0,0,0,"",""]
[60,null,{"$f":"IF(ISBLANK($B64),\"\",LOOKUP($B64,Inscriptions!A$2:A$65496,Inscriptions!B$2:B$65498))","v":""},{"$f":"IF(ISBLANK($B64),\"\",LOOKUP($B64,Inscriptions!A$2:A$65496,Inscriptions!C$2:C$65498))","v":""},{"$f":"IF(ISBLANK($B64),\"\",LOOKUP($B64,Inscriptions!A$2:A$65496,Inscriptions!D$2:D$65498))","v":""},null,null,null,0,0,0,"",""]
[61,null,{"$f":"IF(ISBLANK($B65),\"\",LOOKUP($B65,Inscriptions!A$2:A$65496,Inscriptions!B$2:B$65498))","v":""},{"$f":"IF(ISBLANK($B65),\"\",LOOKUP($B65,Inscriptions!A$2:A$65496,Inscriptions!C$2:C$65498))","v":""},{"$f":"IF(ISBLANK($B65),\"\",LOOKUP($B65,Inscriptions!A$2:A$65496,Inscriptions!D$2:D$65498))","v":""},null,null,null,0,0,0,"",""]
[62,null,{"$f":"IF(ISBLANK($B66),\"\",LOOKUP($B66,Inscriptions!A$2:A$65496,Inscriptions!B$2:B$65498))","v":""},{"$f":"IF(ISBLANK($B66),\"\",LOOKUP($B66,Inscriptions!A$2:A$65496,Inscriptions!C$2:C$65498))","v":""},{"$f":"IF(ISBLANK($B66),\"\",LOOKUP($B66,Inscriptions!A$2:A$65496,Inscriptions!D$2:D$65498))","v":""},null,null,null,0,0,0,"",""]
[63,null,{"$f":"IF(ISBLANK($B67),\"\",LOOKUP($B67,Inscriptions!A$2:A$65496,Inscriptions!B$2:B$65498))","v":""},{"$f":"IF(ISBLANK($B67),\"\",LOOKUP($B67,Inscriptions!A$2:A$65496,Inscriptions!C$2:C$65498))","v":""},{"$f":"IF(ISBLANK($B67),\"\",LOOKUP($B67,Inscriptions!A$2:A$65496,Inscriptions!D$2:D$65498))","v":""},null,null,null,0,0,0,"",""]
[64,null,{"$f":"IF(ISBLANK($B68),\"\",LOOKUP($B68,Inscriptions!A$2:A$65496,Inscriptions!B$2:B$65498))","v":""},{"$f":"IF(ISBLANK($B68),\"\",LOOKUP($B68,Inscriptions!A$2:A$65496,Inscriptions!C$2:C$65498))","v":""},{"$f":"IF(ISBLANK($B68),\"\",LOOKUP($B68,Inscriptions!A$2:A$65496,Inscriptions!D$2:D$65498))","v":""},null,null,null,0,0,0,"",""]
[65,null,{"$f":"IF(ISBLANK($B69),\"\",LOOKUP($B69,Inscriptions!A$2:A$65496,Inscriptions!B$2:B$65498))","v":""},{"$f":"IF(ISBLANK($B69),\"\",LOOKUP($B69,Inscriptions!A$2:A$65496,Inscriptions!C$2:C$65498))","v":""},{"$f":"IF(ISBLANK($B69),\"\",LOOKUP($B69,Inscriptions!A$2:A$65496,Inscriptions!D$2:D$65498))","v":""},null,null,null,{"$f":"ROUNDDOWN(H69/10000,0)","v":0},{"$f":"ROUNDDOWN((H69-I69*10000)/100,0)","v":0},{"$f":"ROUNDDOWN((H69-(I69*10000)-(J69*100)),0)","v":0},{"$f":"IF((I69+J69+K69)=0,\"\",ROUNDDOWN((L$4/((I69*3600)+(J69*60)+K69))*3.6,2))","v":""},{"$f":"IF(L69=\"\",\"\",\"km/h\")","v":""}]
[66,null,{"$f":"IF(ISBLANK($B70),\"\",LOOKUP($B70,Inscriptions!A$2:A$65496,Inscriptions!B$2:B$65498))","v":""},{"$f":"IF(ISBLANK($B70),\"\",LOOKUP($B70,Inscriptions!A$2:A$65496,Inscriptions!C$2:C$65498))","v":""},{"$f":"IF(ISBLANK($B70),\"\",LOOKUP($B70,Inscriptions!A$2:A$65496,Inscriptions!D$2:D$65498))","v":""},null,null,null,0,0,0,"",""]
[67,null,{"$f":"IF(ISBLANK($B71),\"\",LOOKUP($B71,Inscriptions!A$2:A$65496,Inscriptions!B$2:B$65498))","v":""},{"$f":"IF(ISBLANK($B71),\"\",LOOKUP($B71,Inscriptions!A$2:A$65496,Inscriptions!C$2:C$65498))","v":""},{"$f":"IF(ISBLANK($B71),\"\",LOOKUP($B71,Inscriptions!A$2:A$65496,Inscriptions!D$2:D$65498))","v":""},null,null,null,0,0,0,"",""]
[68,null,{"$f":"IF(ISBLANK($B72),\"\",LOOKUP($B72,Inscriptions!A$2:A$65496,Inscriptions!B$2:B$65498))","v":""},{"$f":"IF(ISBLANK($B72),\"\",LOOKUP($B72,Inscriptions!A$2:A$65496,Inscriptions!C$2:C$65498))","v":""},{"$f":"IF(ISBLANK($B72),\"\",LOOKUP($B72,Inscriptions!A$2:A$65496,Inscriptions!D$2:D$65498))","v":""},null,null,null,0,0,0,"",""]
[69,null,{"$f":"IF(ISBLANK($B73),\"\",LOOKUP($B73,Inscriptions!A$2:A$65496,Inscriptions!B$2:B$65498))","v":""},{"$f":"IF(ISBLANK($B73),\"\",LOOKUP($B73,Inscriptions!A$2:A$65496,Inscriptions!C$2:C$65498))","v":""},{"$f":"IF(ISBLANK($B73),\"\",LOOKUP($B73,Inscriptions!A$2:A$65496,Inscriptions!D$2:D$65498))","v":""},null,null,null,0,0,0,"",""]
[70,null,{"$f":"IF(ISBLANK($B74),\"\",LOOKUP($B74,Inscriptions!A$2:A$65496,Inscriptions!B$2:B$65498))","v":""},{"$f":"IF(ISBLANK($B74),\"\",LOOKUP($B74,Inscriptions!A$2:A$65496,Inscriptions!C$2:C$65498))","v":""},{"$f":"IF(ISBLANK($B74),\"\",LOOKUP($B74,Inscriptions!A$2:A$65496,Inscriptions!D$2:D$65498))","v":""},null,null,null,0,0,0,"",""]
[71,null,{"$f":"IF(ISBLANK($B75),\"\",LOOKUP($B75,Inscriptions!A$2:A$65496,Inscriptions!B$2:B$65498))","v":""},{"$f":"IF(ISBLANK($B75),\"\",LOOKUP($B75,Inscriptions!A$2:A$65496,Inscriptions!C$2:C$65498))","v":""},{"$f":"IF(ISBLANK($B75),\"\",LOOKUP($B75,Inscriptions!A$2:A$65496,Inscriptions!D$2:D$65498))","v":""},null,null,null,0,0,0,"",""]
[72,null,{"$f":"IF(ISBLANK($B76),\"\",LOOKUP($B76,Inscriptions!A$2:A$65496,Inscriptions!B$2:B$65498))","v":""},{"$f":"IF(ISBLANK($B76),\"\",LOOKUP($B76,Inscriptions!A$2:A$65496,Inscriptions!C$2:C$65498))","v":""},{"$f":"IF(ISBLANK($B76),\"\",LOOKUP($B76,Inscriptions!A$2:A$65496,Inscriptions!D$2:D$65498))","v":""},null,null,null,0,0,0,"",""]
[73,null,{"$f":"IF(ISBLANK($B77),\"\",LOOKUP($B77,Inscriptions!A$2:A$65496,Inscriptions!B$2:B$65498))","v":""},{"$f":"IF(ISBLANK($B77),\"\",LOOKUP($B77,Inscriptions!A$2:A$65496,Inscriptions!C$2:C$65498))","v":""},{"$f":"IF(ISBLANK($B77),\"\",LOOKUP($B77,Inscriptions!A$2:A$65496,Inscriptions!D$2:D$65498))","v":""},null,null,null,0,0,0,"",""]
[74,null,{"$f":"IF(ISBLANK($B78),\"\",LOOKUP($B78,Inscriptions!A$2:A$65496,Inscriptions!B$2:B$65498))","v":""},{"$f":"IF(ISBLANK($B78),\"\",LOOKUP($B78,Inscriptions!A$2:A$65496,Inscriptions!C$2:C$65498))","v":""},{"$f":"IF(ISBLANK($B78),\"\",LOOKUP($B78,Inscriptions!A$2:A$65496,Inscriptions!D$2:D$65498))","v":""},null,null,null,0,0,0,"",""]
[75,null,{"$f":"IF(ISBLANK($B79),\"\",LOOKUP($B79,Inscriptions!A$2:A$65496,Inscriptions!B$2:B$65498))","v":""},{"$f":"IF(ISBLANK($B79),\"\",LOOKUP($B79,Inscriptions!A$2:A$65496,Inscriptions!C$2:C$65498))","v":""},{"$f":"IF(ISBLANK($B79),\"\",LOOKUP($B79,Inscriptions!A$2:A$65496,Inscriptions!D$2:D$65498))","v":""},null,null,null,0,0,0,"",""]
[76,null,{"$f":"IF(ISBLANK($B80),\"\",LOOKUP($B80,Inscriptions!A$2:A$65496,Inscriptions!B$2:B$65498))","v":""},{"$f":"IF(ISBLANK($B80),\"\",LOOKUP($B80,Inscriptions!A$2:A$65496,Inscriptions!C$2:C$65498))","v":""},{"$f":"IF(ISBLANK($B80),\"\",LOOKUP($B80,Inscriptions!A$2:A$65496,Inscriptions!D$2:D$65498))","v":""},null,null,null,0,0,0,"",""]
[77,null,{"$f":"IF(ISBLANK($B81),\"\",LOOKUP($B81,Inscriptions!A$2:A$65496,Inscriptions!B$2:B$65498))","v":""},{"$f":"IF(ISBLANK($B81),\"\",LOOKUP($B81,Inscriptions!A$2:A$65496,Inscriptions!C$2:C$65498))","v":""},{"$f":"IF(ISBLANK($B81),\"\",LOOKUP($B81,Inscriptions!A$2:A$65496,Inscriptions!D$2:D$65498))","v":""},null,null,null,0,0,0,"",""]
[78,null,{"$f":"IF(ISBLANK($B82),\"\",LOOKUP($B82,Inscriptions!A$2:A$65496,Inscriptions!B$2:B$65498))","v":""},{"$f":"IF(ISBLANK($B82),\"\",LOOKUP($B82,Inscriptions!A$2:A$65496,Inscriptions!C$2:C$65498))","v":""},{"$f":"IF(ISBLANK($B82),\"\",LOOKUP($B82,Inscriptions!A$2:A$65496,Inscriptions!D$2:D$65498))","v":""},null,null,null,0,0,0,"",""]
[79,null,{"$f":"IF(ISBLANK($B83),\"\",LOOKUP($B83,Inscriptions!A$2:A$65496,Inscriptions!B$2:B$65498))","v":""},{"$f":"IF(ISBLANK($B83),\"\",LOOKUP($B83,Inscriptions!A$2:A$65496,Inscriptions!C$2:C$65498))","v":""},{"$f":"IF(ISBLANK($B83),\"\",LOOKUP($B83,Inscriptions!A$2:A$65496,Inscriptions!D$2:D$65498))","v":""},null,null,null,0,0,0,"",""]
[80,null,{"$f":"IF(ISBLANK($B84),\"\",LOOKUP($B84,Inscriptions!A$2:A$65496,Inscriptions!B$2:B$65498))","v":""},{"$f":"IF(ISBLANK($B84),\"\",LOOKUP($B84,Inscriptions!A$2:A$65496,Inscriptions!C$2:C$65498))","v":""},{"$f":"IF(ISBLANK($B84),\"\",LOOKUP($B84,Inscriptions!A$2:A$65496,Inscriptions!D$2:D$65498))","v":""},null,null,null,0,0,0,"",""]
[81,null,{"$f":"IF(ISBLANK($B85),\"\",LOOKUP($B85,Inscriptions!A$2:A$65496,Inscriptions!B$2:B$65498))","v":""},{"$f":"IF(ISBLANK($B85),\"\",LOOKUP($B85,Inscriptions!A$2:A$65496,Inscriptions!C$2:C$65498))","v":""},{"$f":"IF(ISBLANK($B85),\"\",LOOKUP($B85,Inscriptions!A$2:A$65496,Inscriptions!D$2:D$65498))","v":""},null,null,null,0,0,0,"",""]
[82,null,{"$f":"IF(ISBLANK($B86),\"\",LOOKUP($B86,Inscriptions!A$2:A$65496,Inscriptions!B$2:B$65498))","v":""},{"$f":"IF(ISBLANK($B86),\"\",LOOKUP($B86,Inscriptions!A$2:A$65496,Inscriptions!C$2:C$65498))","v":""},{"$f":"IF(ISBLANK($B86),\"\",LOOKUP($B86,Inscriptions!A$2:A$65496,Inscriptions!D$2:D$65498))","v":""},null,null,null,0,0,0,"",""]
[83,null,{"$f":"IF(ISBLANK($B87),\"\",LOOKUP($B87,Inscriptions!A$2:A$65496,Inscriptions!B$2:B$65498))","v":""},{"$f":"IF(ISBLANK($B87),\"\",LOOKUP($B87,Inscriptions!A$2:A$65496,Inscriptions!C$2:C$65498))","v":""},{"$f":"IF(ISBLANK($B87),\"\",LOOKUP($B87,Inscriptions!A$2:A$65496,Inscriptions!D$2:D$65498))","v":""},null,null,null,0,0,0,"",""]
[84,null,{"$f":"IF(ISBLANK($B88),\"\",LOOKUP($B88,Inscriptions!A$2:A$65496,Inscriptions!B$2:B$65498))","v":""},{"$f":"IF(ISBLANK($B88),\"\",LOOKUP($B88,Inscriptions!A$2:A$65496,Inscriptions!C$2:C$65498))","v":""},{"$f":"IF(ISBLANK($B88),\"\",LOOKUP($B88,Inscriptions!A$2:A$65496,Inscriptions!D$2:D$65498))","v":""},null,null,null,0,0,0,"",""]
[85,null,{"$f":"IF(ISBLANK($B89),\"\",LOOKUP($B89,Inscriptions!A$2:A$65496,Inscriptions!B$2:B$65498))","v":""},{"$f":"IF(ISBLANK($B89),\"\",LOOKUP($B89,Inscriptions!A$2:A$65496,Inscriptions!C$2:C$65498))","v":""},{"$f":"IF(ISBLANK($B89),\"\",LOOKUP($B89,Inscriptions!A$2:A$65496,Inscriptions!D$2:D$65498))","v":""},null,null,null,0,0,0,"",""]
[86,null,{"$f":"IF(ISBLANK($B90),\"\",LOOKUP($B90,Inscriptions!A$2:A$65496,Inscriptions!B$2:B$65498))","v":""},{"$f":"IF(ISBLANK($B90),\"\",LOOKUP($B90,Inscriptions!A$2:A$65496,Inscriptions!C$2:C$65498))","v":""},{"$f":"IF(ISBLANK($B90),\"\",LOOKUP($B90,Inscriptions!A$2:A$65496,Inscriptions!D$2:D$65498))","v":""},null,null,null,0,0,0,"",""]
[87,null,{"$f":"IF(ISBLANK($B91),\"\",LOOKUP($B91,Inscriptions!A$2:A$65496,Inscriptions!B$2:B$65498))","v":""},{"$f":"IF(ISBLANK($B91),\"\",LOOKUP($B91,Inscriptions!A$2:A$65496,Inscriptions!C$2:C$65498))","v":""},{"$f":"IF(ISBLANK($B91),\"\",LOOKUP($B91,Inscriptions!A$2:A$65496,Inscriptions!D$2:D$65498))","v":""},null,null,null,0,0,0,"",""]
[88,null,{"$f":"IF(ISBLANK($B92),\"\",LOOKUP($B92,Inscriptions!A$2:A$65496,Inscriptions!B$2:B$65498))","v":""},{"$f":"IF(ISBLANK($B92),\"\",LOOKUP($B92,Inscriptions!A$2:A$65496,Inscriptions!C$2:C$65498))","v":""},{"$f":"IF(ISBLANK($B92),\"\",LOOKUP($B92,Inscriptions!A$2:A$65496,Inscriptions!D$2:D$65498))","v":""},null,null,null,0,0,0,"",""]
[89,null,{"$f":"IF(ISBLANK($B93),\"\",LOOKUP($B93,Inscriptions!A$2:A$65496,Inscriptions!B$2:B$65498))","v":""},{"$f":"IF(ISBLANK($B93),\"\",LOOKUP($B93,Inscriptions!A$2:A$65496,Inscriptions!C$2:C$65498))","v":""},{"$f":"IF(ISBLANK($B93),\"\",LOOKUP($B93,Inscriptions!A$2:A$65496,Inscriptions!D$2:D$65498))","v":""},null,null,null,0,0,0,"",""]
[90,null,{"$f":"IF(ISBLANK($B94),\"\",LOOKUP($B94,Inscriptions!A$2:A$65496,Inscriptions!B$2:B$65498))","v":""},{"$f":"IF(ISBLANK($B94),\"\",LOOKUP($B94,Inscriptions!A$2:A$65496,Inscriptions!C$2:C$65498))","v":""},{"$f":"IF(ISBLANK($B94),\"\",LOOKUP($B94,Inscriptions!A$2:A$65496,Inscriptions!D$2:D$65498))","v":""},null,null,null,0,0,0,"",""]
[91,null,{"$f":"IF(ISBLANK($B95),\"\",LOOKUP($B95,Inscriptions!A$2:A$65496,Inscriptions!B$2:B$65498))","v":""},{"$f":"IF(ISBLANK($B95),\"\",LOOKUP($B95,Inscriptions!A$2:A$65496,Inscriptions!C$2:C$65498))","v":""},{"$f":"IF(ISBLANK($B95),\"\",LOOKUP($B95,Inscriptions!A$2:A$65496,Inscriptions!D$2:D$65498))","v":""},null,null,null,0,0,0,"",""]
[92,null,{"$f":"IF(ISBLANK($B96),\"\",LOOKUP($B96,Inscriptions!A$2:A$65496,Inscriptions!B$2:B$65498))","v":""},{"$f":"IF(ISBLANK($B96),\"\",LOOKUP($B96,Inscriptions!A$2:A$65496,Inscriptions!C$2:C$65498))","v":""},{"$f":"IF(ISBLANK($B96),\"\",LOOKUP($B96,Inscriptions!A$2:A$65496,Inscriptions!D$2:D$65498))","v":""},null,null,null,0,0,0,"",""]
[93,null,{"$f":"IF(ISBLANK($B97),\"\",LOOKUP($B97,Inscriptions!A$2:A$65496,Inscriptions!B$2:B$65498))","v":""},{"$f":"IF(ISBLANK($B97),\"\",LOOKUP($B97,Inscriptions!A$2:A$65496,Inscriptions!C$2:C$65498))","v":""},{"$f":"IF(ISBLANK($B97),\"\",LOOKUP($B97,Inscriptions!A$2:A$65496,Inscriptions!D$2:D$65498))","v":""},null,null,null,0,0,0,"",""]
[94,null,{"$f":"IF(ISBLANK($B98),\"\",LOOKUP($B98,Inscriptions!A$2:A$65496,Inscriptions!B$2:B$65498))","v":""},{"$f":"IF(ISBLANK($B98),\"\",LOOKUP($B98,Inscriptions!A$2:A$65496,Inscriptions!C$2:C$65498))","v":""},{"$f":"IF(ISBLANK($B98),\"\",LOOKUP($B98,Inscriptions!A$2:A$65496,Inscriptions!D$2:D$65498))","v":""},null,null,null,0,0,0,"",""]
[95,null,{"$f":"IF(ISBLANK($B99),\"\",LOOKUP($B99,Inscriptions!A$2:A$65496,Inscriptions!B$2:B$65498))","v":""},{"$f":"IF(ISBLANK($B99),\"\",LOOKUP($B99,Inscriptions!A$2:A$65496,Inscriptions!C$2:C$65498))","v":""},{"$f":"IF(ISBLANK($B99),\"\",LOOKUP($B99,Inscriptions!A$2:A$65496,Inscriptions!D$2:D$65498))","v":""},null,null,null,0,0,0,"",""]
[96,null,{"$f":"IF(ISBLANK($B100),\"\",LOOKUP($B100,Inscriptions!A$2:A$65496,Inscriptions!B$2:B$65498))","v":""},{"$f":"IF(ISBLANK($B100),\"\",LOOKUP($B100,Inscriptions!A$2:A$65496,Inscriptions!C$2:C$65498))","v":""},{"$f":"IF(ISBLANK($B100),\"\",LOOKUP($B100,Inscriptions!A$2:A$65496,Inscriptions!D$2:D$65498))","v":""},null,null,null,0,0,0,"",""]
[97,null,{"$f":"IF(ISBLANK($B101),\"\",LOOKUP($B101,Inscriptions!A$2:A$65496,Inscriptions!B$2:B$65498))","v":""},{"$f":"IF(ISBLANK($B101),\"\",LOOKUP($B101,Inscriptions!A$2:A$65496,Inscriptions!C$2:C$65498))","v":""},{"$f":"IF(ISBLANK($B101),\"\",LOOKUP($B101,Inscriptions!A$2:A$65496,Inscriptions!D$2:D$65498))","v":""},null,null,null,0,0,0,"",""]
[98,null,{"$f":"IF(ISBLANK($B102),\"\",LOOKUP($B102,Inscriptions!A$2:A$65496,Inscriptions!B$2:B$65498))","v":""},{"$f":"IF(ISBLANK($B102),\"\",LOOKUP($B102,Inscriptions!A$2:A$65496,Inscriptions!C$2:C$65498))","v":""},{"$f":"IF(ISBLANK($B102),\"\",LOOKUP($B102,Inscriptions!A$2:A$65496,Inscriptions!D$2:D$65498))","v":""},null,null,null,0,0,0,"",""]
[99,null,{"$f":"IF(ISBLANK($B103),\"\",LOOKUP($B103,Inscriptions!A$2:A$65496,Inscriptions!B$2:B$65498))","v":""},{"$f":"IF(ISBLANK($B103),\"\",LOOKUP($B103,Inscriptions!A$2:A$65496,Inscriptions!C$2:C$65498))","v":""},{"$f":"IF(ISBLANK($B103),\"\",LOOKUP($B103,Inscriptions!A$2:A$65496,Inscriptions!D$2:D$65498))","v":""},null,null,null,0,0,0,"",""]
[100,null,{"$f":"IF(ISBLANK($B104),\"\",LOOKUP($B104,Inscriptions!A$2:A$65496,Inscriptions!B$2:B$65498))","v":""},{"$f":"IF(ISBLANK($B104),\"\",LOOKUP($B104,Inscriptions!A$2:A$65496,Inscriptions!C$2:C$65498))","v":""},{"$f":"IF(ISBLANK($B104),\"\",LOOKUP($B104,Inscriptions!A$2:A$65496,Inscriptions!D$2:D$65498))","v":""},null,null,null,0,0,0,"",""]
[101,null,{"$f":"IF(ISBLANK($B105),\"\",LOOKUP($B105,Inscriptions!A$2:A$65496,Inscriptions!B$2:B$65498))","v":""},{"$f":"IF(ISBLANK($B105),\"\",LOOKUP($B105,Inscriptions!A$2:A$65496,Inscriptions!C$2:C$65498))","v":""},{"$f":"IF(ISBLANK($B105),\"\",LOOKUP($B105,Inscriptions!A$2:A$65496,Inscriptions!D$2:D$65498))","v":""},null,null,null,0,0,0,"",""]
[102,null,{"$f":"IF(ISBLANK($B106),\"\",LOOKUP($B106,Inscriptions!A$2:A$65496,Inscriptions!B$2:B$65498))","v":""},{"$f":"IF(ISBLANK($B106),\"\",LOOKUP($B106,Inscriptions!A$2:A$65496,Inscriptions!C$2:C$65498))","v":""},{"$f":"IF(ISBLANK($B106),\"\",LOOKUP($B106,Inscriptions!A$2:A$65496,Inscriptions!D$2:D$65498))","v":""},null,null,null,0,0,0,"",""]
[103,null,{"$f":"IF(ISBLANK($B107),\"\",LOOKUP($B107,Inscriptions!A$2:A$65496,Inscriptions!B$2:B$65498))","v":""},{"$f":"IF(ISBLANK($B107),\"\",LOOKUP($B107,Inscriptions!A$2:A$65496,Inscriptions!C$2:C$65498))","v":""},{"$f":"IF(ISBLANK($B107),\"\",LOOKUP($B107,Inscriptions!A$2:A$65496,Inscriptions!D$2:D$65498))","v":""},null,null,null,0,0,0,"",""]
[104,null,{"$f":"IF(ISBLANK($B108),\"\",LOOKUP($B108,Inscriptions!A$2:A$65496,Inscriptions!B$2:B$65498))","v":""},{"$f":"IF(ISBLANK($B108),\"\",LOOKUP($B108,Inscriptions!A$2:A$65496,Inscriptions!C$2:C$65498))","v":""},{"$f":"IF(ISBLANK($B108),\"\",LOOKUP($B108,Inscriptions!A$2:A$65496,Inscriptions!D$2:D$65498))","v":""},null,null,null,0,0,0,"",""]
[105,null,{"$f":"IF(ISBLANK($B109),\"\",LOOKUP($B109,Inscriptions!A$2:A$65496,Inscriptions!B$2:B$65498))","v":""},{"$f":"IF(ISBLANK($B109),\"\",LOOKUP($B109,Inscriptions!A$2:A$65496,Inscriptions!C$2:C$65498))","v":""},{"$f":"IF(ISBLANK($B109),\"\",LOOKUP($B109,Inscriptions!A$2:A$65496,Inscriptions!D$2:D$65498))","v":""},null,null,null,0,0,0,"",""]
[106,null,{"$f":"IF(ISBLANK($B110),\"\",LOOKUP($B110,Inscriptions!A$2:A$65496,Inscriptions!B$2:B$65498))","v":""},{"$f":"IF(ISBLANK($B110),\"\",LOOKUP($B110,Inscriptions!A$2:A$65496,Inscriptions!C$2:C$65498))","v":""},{"$f":"IF(ISBLANK($B110),\"\",LOOKUP($B110,Inscriptions!A$2:A$65496,Inscriptions!D$2:D$65498))","v":""},null,null,null,0,0,0,"",""]
[107,null,{"$f":"IF(ISBLANK($B111),\"\",LOOKUP($B111,Inscriptions!A$2:A$65496,Inscriptions!B$2:B$65498))","v":""},{"$f":"IF(ISBLANK($B111),\"\",LOOKUP($B111,Inscriptions!A$2:A$65496,Inscriptions!C$2:C$65498))","v":""},{"$f":"IF(ISBLANK($B111),\"\",LOOKUP($B111,Inscriptions!A$2:A$65496,Inscriptions!D$2:D$65498))","v":""},null,null,null,0,0,0,"",""]
[108,null,{"$f":"IF(ISBLANK($B112),\"\",LOOKUP($B112,Inscriptions!A$2:A$65496,Inscriptions!B$2:B$65498))","v":""},{"$f":"IF(ISBLANK($B112),\"\",LOOKUP($B112,Inscriptions!A$2:A$65496,Inscriptions!C$2:C$65498))","v":""},{"$f":"IF(ISBLANK($B112),\"\",LOOKUP($B112,Inscriptions!A$2:A$65496,Inscriptions!D$2:D$65498))","v":""},null,null,null,0,0,0,"",""]
[109,null,{"$f":"IF(ISBLANK($B113),\"\",LOOKUP($B113,Inscriptions!A$2:A$65496,Inscriptions!B$2:B$65498))","v":""},{"$f":"IF(ISBLANK($B113),\"\",LOOKUP($B113,Inscriptions!A$2:A$65496,Inscriptions!C$2:C$65498))","v":""},{"$f":"IF(ISBLANK($B113),\"\",LOOKUP($B113,Inscriptions!A$2:A$65496,Inscriptions!D$2:D$65498))","v":""},null,null,null,0,0,0,"",""]
[110,null,{"$f":"IF(ISBLANK($B114),\"\",LOOKUP($B114,Inscriptions!A$2:A$65496,Inscriptions!B$2:B$65498))","v":""},{"$f":"IF(ISBLANK($B114),\"\",LOOKUP($B114,Inscriptions!A$2:A$65496,Inscriptions!C$2:C$65498))","v":""},{"$f":"IF(ISBLANK($B114),\"\",LOOKUP($B114,Inscriptions!A$2:A$65496,Inscriptions!D$2:D$65498))","v":""},null,null,null,0,0,0,"",""]
[111,null,{"$f":"IF(ISBLANK($B115),\"\",LOOKUP($B115,Inscriptions!A$2:A$65496,Inscriptions!B$2:B$65498))","v":""},{"$f":"IF(ISBLANK($B115),\"\",LOOKUP($B115,Inscriptions!A$2:A$65496,Inscriptions!C$2:C$65498))","v":""},{"$f":"IF(ISBLANK($B115),\"\",LOOKUP($B115,Inscriptions!A$2:A$65496,Inscriptions!D$2:D$65498))","v":""},null,null,null,0,0,0,"",""]
[112,null,{"$f":"IF(ISBLANK($B116),\"\",LOOKUP($B116,Inscriptions!A$2:A$65496,Inscriptions!B$2:B$65498))","v":""},{"$f":"IF(ISBLANK($B116),\"\",LOOKUP($B116,Inscriptions!A$2:A$65496,Inscriptions!C$2:C$65498))","v":""},{"$f":"IF(ISBLANK($B116),\"\",LOOKUP($B116,Inscriptions!A$2:A$65496,Inscriptions!D$2:D$65498))","v":""},null,null,null,0,0,0,"",""]
[113,null,{"$f":"IF(ISBLANK($B117),\"\",LOOKUP($B117,Inscriptions!A$2:A$65496,Inscriptions!B$2:B$65498))","v":""},{"$f":"IF(ISBLANK($B117),\"\",LOOKUP($B117,Inscriptions!A$2:A$65496,Inscriptions!C$2:C$65498))","v":""},{"$f":"IF(ISBLANK($B117),\"\",LOOKUP($B117,Inscriptions!A$2:A$65496,Inscriptions!D$2:D$65498))","v":""},null,null,null,0,0,0,"",""]
[114,null,{"$f":"IF(ISBLANK($B118),\"\",LOOKUP($B118,Inscriptions!A$2:A$65496,Inscriptions!B$2:B$65498))","v":""},{"$f":"IF(ISBLANK($B118),\"\",LOOKUP($B118,Inscriptions!A$2:A$65496,Inscriptions!C$2:C$65498))","v":""},{"$f":"IF(ISBLANK($B118),\"\",LOOKUP($B118,Inscriptions!A$2:A$65496,Inscriptions!D$2:D$65498))","v":""},null,null,null,0,0,0,"",""]
[115,null,{"$f":"IF(ISBLANK($B119),\"\",LOOKUP($B119,Inscriptions!A$2:A$65496,Inscriptions!B$2:B$65498))","v":""},{"$f":"IF(ISBLANK($B119),\"\",LOOKUP($B119,Inscriptions!A$2:A$65496,Inscriptions!C$2:C$65498))","v":""},{"$f":"IF(ISBLANK($B119),\"\",LOOKUP($B119,Inscriptions!A$2:A$65496,Inscriptions!D$2:D$65498))","v":""},null,null,null,0,0,0,"",""]
[116,null,{"$f":"IF(ISBLANK($B120),\"\",LOOKUP($B120,Inscriptions!A$2:A$65496,Inscriptions!B$2:B$65498))","v":""},{"$f":"IF(ISBLANK($B120),\"\",LOOKUP($B120,Inscriptions!A$2:A$65496,Inscriptions!C$2:C$65498))","v":""},{"$f":"IF(ISBLANK($B120),\"\",LOOKUP($B120,Inscriptions!A$2:A$65496,Inscriptions!D$2:D$65498))","v":""},null,null,null,0,0,0,"",""]
[117,null,{"$f":"IF(ISBLANK($B121),\"\",LOOKUP($B121,Inscriptions!A$2:A$65496,Inscriptions!B$2:B$65498))","v":""},{"$f":"IF(ISBLANK($B121),\"\",LOOKUP($B121,Inscriptions!A$2:A$65496,Inscriptions!C$2:C$65498))","v":""},{"$f":"IF(ISBLANK($B121),\"\",LOOKUP($B121,Inscriptions!A$2:A$65496,Inscriptions!D$2:D$65498))","v":""},null,null,null,0,0,0,"",""]
[118,null,{"$f":"IF(ISBLANK($B122),\"\",LOOKUP($B122,Inscriptions!A$2:A$65496,Inscriptions!B$2:B$65498))","v":""},{"$f":"IF(ISBLANK($B122),\"\",LOOKUP($B122,Inscriptions!A$2:A$65496,Inscriptions!C$2:C$65498))","v":""},{"$f":"IF(ISBLANK($B122),\"\",LOOKUP($B122,Inscriptions!A$2:A$65496,Inscriptions!D$2:D$65498))","v":""},null,null,null,0,0,0,"",""]
[119,null,{"$f":"IF(ISBLANK($B123),\"\",LOOKUP($B123,Inscriptions!A$2:A$65496,Inscriptions!B$2:B$65498))","v":""},{"$f":"IF(ISBLANK($B123),\"\",LOOKUP($B123,Inscriptions!A$2:A$65496,Inscriptions!C$2:C$65498))","v":""},{"$f":"IF(ISBLANK($B123),\"\",LOOKUP($B123,Inscriptions!A$2:A$65496,Inscriptions!D$2:D$65498))","v":""},null,null,null,0,0,0,"",""]
[120,null,{"$f":"IF(ISBLANK($B124),\"\",LOOKUP($B124,Inscriptions!A$2:A$65496,Inscriptions!B$2:B$65498))","v":""},{"$f":"IF(ISBLANK($B124),\"\",LOOKUP($B124,Inscriptions!A$2:A$65496,Inscriptions!C$2:C$65498))","v":""},{"$f":"IF(ISBLANK($B124),\"\",LOOKUP($B124,Inscriptions!A$2:A$65496,Inscriptions!D$2:D$65498))","v":""},null,null,null,0,0,0,"",""]
[121,null,{"$f":"IF(ISBLANK($B125),\"\",LOOKUP($B125,Inscriptions!A$2:A$65496,Inscriptions!B$2:B$65498))","v":""},{"$f":"IF(ISBLANK($B125),\"\",LOOKUP($B125,Inscriptions!A$2:A$65496,Inscriptions!C$2:C$65498))","v":""},{"$f":"IF(ISBLANK($B125),\"\",LOOKUP($B125,Inscriptions!A$2:A$65496,Inscriptions!D$2:D$65498))","v":""},null,null,null,0,0,0,"",""]
[122,null,{"$f":"IF(ISBLANK($B126),\"\",LOOKUP($B126,Inscriptions!A$2:A$65496,Inscriptions!B$2:B$65498))","v":""},{"$f":"IF(ISBLANK($B126),\"\",LOOKUP($B126,Inscriptions!A$2:A$65496,Inscriptions!C$2:C$65498))","v":""},{"$f":"IF(ISBLANK($B126),\"\",LOOKUP($B126,Inscriptions!A$2:A$65496,Inscriptions!D$2:D$65498))","v":""},null,null,null,0,0,0,"",""]
[123,null,{"$f":"IF(ISBLANK($B127),\"\",LOOKUP($B127,Inscriptions!A$2:A$65496,Inscriptions!B$2:B$65498))","v":""},{"$f":"IF(ISBLANK($B127),\"\",LOOKUP($B127,Inscriptions!A$2:A$65496,Inscriptions!C$2:C$65498))","v":""},{"$f":"IF(ISBLANK($B127),\"\",LOOKUP($B127,Inscriptions!A$2:A$65496,Inscriptions!D$2:D$65498))","v":""},null,null,null,0,0,0,"",""]
[124,null,{"$f":"IF(ISBLANK($B128),\"\",LOOKUP($B128,Inscriptions!A$2:A$65496,Inscriptions!B$2:B$65498))","v":""},{"$f":"IF(ISBLANK($B128),\"\",LOOKUP($B128,Inscriptions!A$2:A$65496,Inscriptions!C$2:C$65498))","v":""},{"$f":"IF(ISBLANK($B128),\"\",LOOKUP($B128,Inscriptions!A$2:A$65496,Inscriptions!D$2:D$65498))","v":""},null,null,null,0,0,0,"",""]
[125,null,{"$f":"IF(ISBLANK($B129),\"\",LOOKUP($B129,Inscriptions!A$2:A$65496,Inscriptions!B$2:B$65498))","v":""},{"$f":"IF(ISBLANK($B129),\"\",LOOKUP($B129,Inscriptions!A$2:A$65496,Inscriptions!C$2:C$65498))","v":""},{"$f":"IF(ISBLANK($B129),\"\",LOOKUP($B129,Inscriptions!A$2:A$65496,Inscriptions!D$2:D$65498))","v":""},null,null,null,0,0,0,"",""]
[126,null,{"$f":"IF(ISBLANK($B130),\"\",LOOKUP($B130,Inscriptions!A$2:A$65496,Inscriptions!B$2:B$65498))","v":""},{"$f":"IF(ISBLANK($B130),\"\",LOOKUP($B130,Inscriptions!A$2:A$65496,Inscriptions!C$2:C$65498))","v":""},{"$f":"IF(ISBLANK($B130),\"\",LOOKUP($B130,Inscriptions!A$2:A$65496,Inscriptions!D$2:D$65498))","v":""},null,null,null,0,0,0,"",""]
[127,null,{"$f":"IF(ISBLANK($B131),\"\",LOOKUP($B131,Inscriptions!A$2:A$65496,Inscriptions!B$2:B$65498))","v":""},{"$f":"IF(ISBLANK($B131),\"\",LOOKUP($B131,Inscriptions!A$2:A$65496,Inscriptions!C$2:C$65498))","v":""},{"$f":"IF(ISBLANK($B131),\"\",LOOKUP($B131,Inscriptions!A$2:A$65496,Inscriptions!D$2:D$65498))","v":""},null,null,null,0,0,0,"",""]
[128,null,{"$f":"IF(ISBLANK($B132),\"\",LOOKUP($B132,Inscriptions!A$2:A$65496,Inscriptions!B$2:B$65498))","v":""},{"$f":"IF(ISBLANK($B132),\"\",LOOKUP($B132,Inscriptions!A$2:A$65496,Inscriptions!C$2:C$65498))","v":""},{"$f":"IF(ISBLANK($B132),\"\",LOOKUP($B132,Inscriptions!A$2:A$65496,Inscriptions!D$2:D$65498))","v":""},null,null,null,0,0,0,"",""]
[129,null,{"$f":"IF(ISBLANK($B133),\"\",LOOKUP($B133,Inscriptions!A$2:A$65496,Inscriptions!B$2:B$65498))","v":""},{"$f":"IF(ISBLANK($B133),\"\",LOOKUP($B133,Inscriptions!A$2:A$65496,Inscriptions!C$2:C$65498))","v":""},{"$f":"IF(ISBLANK($B133),\"\",LOOKUP($B133,Inscriptions!A$2:A$65496,Inscriptions!D$2:D$65498))","v":""},null,null,null,{"$f":"ROUNDDOWN(H133/10000,0)","v":0},{"$f":"ROUNDDOWN((H133-I133*10000)/100,0)","v":0},{"$f":"ROUNDDOWN((H133-(I133*10000)-(J133*100)),0)","v":0},{"$f":"IF((I133+J133+K133)=0,\"\",ROUNDDOWN((L$4/((I133*3600)+(J133*60)+K133))*3.6,2))","v":""},{"$f":"IF(L133=\"\",\"\",\"km/h\")","v":""}]
[130,null,{"$f":"IF(ISBLANK($B134),\"\",LOOKUP($B134,Inscriptions!A$2:A$65496,Inscriptions!B$2:B$65498))","v":""},{"$f":"IF(ISBLANK($B134),\"\",LOOKUP($B134,Inscriptions!A$2:A$65496,Inscriptions!C$2:C$65498))","v":""},{"$f":"IF(ISBLANK($B134),\"\",LOOKUP($B134,Inscriptions!A$2:A$65496,Inscriptions!D$2:D$65498))","v":""},null,null,null,0,0,0,"",""]
[131,null,{"$f":"IF(ISBLANK($B135),\"\",LOOKUP($B135,Inscriptions!A$2:A$65496,Inscriptions!B$2:B$65498))","v":""},{"$f":"IF(ISBLANK($B135),\"\",LOOKUP($B135,Inscriptions!A$2:A$65496,Inscriptions!C$2:C$65498))","v":""},{"$f":"IF(ISBLANK($B135),\"\",LOOKUP($B135,Inscriptions!A$2:A$65496,Inscriptions!D$2:D$65498))","v":""},null,null,null,0,0,0,"",""]
[132,null,{"$f":"IF(ISBLANK($B136),\"\",LOOKUP($B136,Inscriptions!A$2:A$65496,Inscriptions!B$2:B$65498))","v":""},{"$f":"IF(ISBLANK($B136),\"\",LOOKUP($B136,Inscriptions!A$2:A$65496,Inscriptions!C$2:C$65498))","v":""},{"$f":"IF(ISBLANK($B136),\"\",LOOKUP($B136,Inscriptions!A$2:A$65496,Inscriptions!D$2:D$65498))","v":""},null,null,null,0,0,0,"",""]
[133,null,{"$f":"IF(ISBLANK($B137),\"\",LOOKUP($B137,Inscriptions!A$2:A$65496,Inscriptions!B$2:B$65498))","v":""},{"$f":"IF(ISBLANK($B137),\"\",LOOKUP($B137,Inscriptions!A$2:A$65496,Inscriptions!C$2:C$65498))","v":""},{"$f":"IF(ISBLANK($B137),\"\",LOOKUP($B137,Inscriptions!A$2:A$65496,Inscriptions!D$2:D$65498))","v":""},null,null,null,0,0,0,"",""]
[134,null,{"$f":"IF(ISBLANK($B138),\"\",LOOKUP($B138,Inscriptions!A$2:A$65496,Inscriptions!B$2:B$65498))","v":""},{"$f":"IF(ISBLANK($B138),\"\",LOOKUP($B138,Inscriptions!A$2:A$65496,Inscriptions!C$2:C$65498))","v":""},{"$f":"IF(ISBLANK($B138),\"\",LOOKUP($B138,Inscriptions!A$2:A$65496,Inscriptions!D$2:D$65498))","v":""},null,null,null,0,0,0,"",""]
[135,null,{"$f":"IF(ISBLANK($B139),\"\",LOOKUP($B139,Inscriptions!A$2:A$65496,Inscriptions!B$2:B$65498))","v":""},{"$f":"IF(ISBLANK($B139),\"\",LOOKUP($B139,Inscriptions!A$2:A$65496,Inscriptions!C$2:C$65498))","v":""},{"$f":"IF(ISBLANK($B139),\"\",LOOKUP($B139,Inscriptions!A$2:A$65496,Inscriptions!D$2:D$65498))","v":""},null,null,null,0,0,0,"",""]
[136,null,{"$f":"IF(ISBLANK($B140),\"\",LOOKUP($B140,Inscriptions!A$2:A$65496,Inscriptions!B$2:B$65498))","v":""},{"$f":"IF(ISBLANK($B140),\"\",LOOKUP($B140,Inscriptions!A$2:A$65496,Inscriptions!C$2:C$65498))","v":""},{"$f":"IF(ISBLANK($B140),\"\",LOOKUP($B140,Inscriptions!A$2:A$65496,Inscriptions!D$2:D$65498))","v":""},null,null,null,0,0,0,"",""]
[137,null,{"$f":"IF(ISBLANK($B141),\"\",LOOKUP($B141,Inscriptions!A$2:A$65496,Inscriptions!B$2:B$65498))","v":""},{"$f":"IF(ISBLANK($B141),\"\",LOOKUP($B141,Inscriptions!A$2:A$65496,Inscriptions!C$2:C$65498))","v":""},{"$f":"IF(ISBLANK($B141),\"\",LOOKUP($B141,Inscriptions!A$2:A$65496,Inscriptions!D$2:D$65498))","v":""},null,null,null,0,0,0,"",""]
[138,null,{"$f":"IF(ISBLANK($B142),\"\",LOOKUP($B142,Inscriptions!A$2:A$65496,Inscriptions!B$2:B$65498))","v":""},{"$f":"IF(ISBLANK($B142),\"\",LOOKUP($B142,Inscriptions!A$2:A$65496,Inscriptions!C$2:C$65498))","v":""},{"$f":"IF(ISBLANK($B142),\"\",LOOKUP($B142,Inscriptions!A$2:A$65496,Inscriptions!D$2:D$65498))","v":""},null,null,null,0,0,0,"",""]
[139,null,{"$f":"IF(ISBLANK($B143),\"\",LOOKUP($B143,Inscriptions!A$2:A$65496,Inscriptions!B$2:B$65498))","v":""},{"$f":"IF(ISBLANK($B143),\"\",LOOKUP($B143,Inscriptions!A$2:A$65496,Inscriptions!C$2:C$65498))","v":""},{"$f":"IF(ISBLANK($B143),\"\",LOOKUP($B143,Inscriptions!A$2:A$65496,Inscriptions!D$2:D$65498))","v":""},null,null,null,0,0,0,"",""]
[140,null,{"$f":"IF(ISBLANK($B144),\"\",LOOKUP($B144,Inscriptions!A$2:A$65496,Inscriptions!B$2:B$65498))","v":""},{"$f":"IF(ISBLANK($B144),\"\",LOOKUP($B144,Inscriptions!A$2:A$65496,Inscriptions!C$2:C$65498))","v":""},{"$f":"IF(ISBLANK($B144),\"\",LOOKUP($B144,Inscriptions!A$2:A$65496,Inscriptions!D$2:D$65498))","v":""},null,null,null,0,0,0,"",""]
[141,null,{"$f":"IF(ISBLANK($B145),\"\",LOOKUP($B145,Inscriptions!A$2:A$65496,Inscriptions!B$2:B$65498))","v":""},{"$f":"IF(ISBLANK($B145),\"\",LOOKUP($B145,Inscriptions!A$2:A$65496,Inscriptions!C$2:C$65498))","v":""},{"$f":"IF(ISBLANK($B145),\"\",LOOKUP($B145,Inscriptions!A$2:A$65496,Inscriptions!D$2:D$65498))","v":""},null,null,null,0,0,0,"",""]
[142,null,{"$f":"IF(ISBLANK($B146),\"\",LOOKUP($B146,Inscriptions!A$2:A$65496,Inscriptions!B$2:B$65498))","v":""},{"$f":"IF(ISBLANK($B146),\"\",LOOKUP($B146,Inscriptions!A$2:A$65496,Inscriptions!C$2:C$65498))","v":""},{"$f":"IF(ISBLANK($B146),\"\",LOOKUP($B146,Inscriptions!A$2:A$65496,Inscriptions!D$2:D$65498))","v":""},null,null,null,0,0,0,"",""]
[143,null,{"$f":"IF(ISBLANK($B147),\"\",LOOKUP($B147,Inscriptions!A$2:A$65496,Inscriptions!B$2:B$65498))","v":""},{"$f":"IF(ISBLANK($B147),\"\",LOOKUP($B147,Inscriptions!A$2:A$65496,Inscriptions!C$2:C$65498))","v":""},{"$f":"IF(ISBLANK($B147),\"\",LOOKUP($B147,Inscriptions!A$2:A$65496,Inscriptions!D$2:D$65498))","v":""},null,null,null,0,0,0,"",""]
[144,null,{"$f":"IF(ISBLANK($B148),\"\",LOOKUP($B148,Inscriptions!A$2:A$65496,Inscriptions!B$2:B$65498))","v":""},{"$f":"IF(ISBLANK($B148),\"\",LOOKUP($B148,Inscriptions!A$2:A$65496,Inscriptions!C$2:C$65498))","v":""},{"$f":"IF(ISBLANK($B148),\"\",LOOKUP($B148,Inscriptions!A$2:A$65496,Inscriptions!D$2:D$65498))","v":""},null,null,null,0,0,0,"",""]
[145,null,{"$f":"IF(ISBLANK($B149),\"\",LOOKUP($B149,Inscriptions!A$2:A$65496,Inscriptions!B$2:B$65498))","v":""},{"$f":"IF(ISBLANK($B149),\"\",LOOKUP($B149,Inscriptions!A$2:A$65496,Inscriptions!C$2:C$65498))","v":""},{"$f":"IF(ISBLANK($B149),\"\",LOOKUP($B149,Inscriptions!A$2:A$65496,Inscriptions!D$2:D$65498))","v":""},null,null,null,0,0,0,"",""]
[146,null,{"$f":"IF(ISBLANK($B150),\"\",LOOKUP($B150,Inscriptions!A$2:A$65496,Inscriptions!B$2:B$65498))","v":""},{"$f":"IF(ISBLANK($B150),\"\",LOOKUP($B150,Inscriptions!A$2:A$65496,Inscriptions!C$2:C$65498))","v":""},{"$f":"IF(ISBLANK($B150),\"\",LOOKUP($B150,Inscriptions!A$2:A$65496,Inscriptions!D$2:D$65498))","v":""},null,null,null,0,0,0,"",""]
[147,null,{"$f":"IF(ISBLANK($B151),\"\",LOOKUP($B151,Inscriptions!A$2:A$65496,Inscriptions!B$2:B$65498))","v":""},{"$f":"IF(ISBLANK($B151),\"\",LOOKUP($B151,Inscriptions!A$2:A$65496,Inscriptions!C$2:C$65498))","v":""},{"$f":"IF(ISBLANK($B151),\"\",LOOKUP($B151,Inscriptions!A$2:A$65496,Inscriptions!D$2:D$65498))","v":""},null,null,null,0,0,0,"",""]
[148,null,{"$f":"IF(ISBLANK($B152),\"\",LOOKUP($B152,Inscriptions!A$2:A$65496,Inscriptions!B$2:B$65498))","v":""},{"$f":"IF(ISBLANK($B152),\"\",LOOKUP($B152,Inscriptions!A$2:A$65496,Inscriptions!C$2:C$65498))","v":""},{"$f":"IF(ISBLANK($B152),\"\",LOOKUP($B152,Inscriptions!A$2:A$65496,Inscriptions!D$2:D$65498))","v":""},null,null,null,0,0,0,"",""]
[149,null,{"$f":"IF(ISBLANK($B153),\"\",LOOKUP($B153,Inscriptions!A$2:A$65496,Inscriptions!B$2:B$65498))","v":""},{"$f":"IF(ISBLANK($B153),\"\",LOOKUP($B153,Inscriptions!A$2:A$65496,Inscriptions!C$2:C$65498))","v":""},{"$f":"IF(ISBLANK($B153),\"\",LOOKUP($B153,Inscriptions!A$2:A$65496,Inscriptions!D$2:D$65498))","v":""},null,null,null,0,0,0,"",""]
[150,null,{"$f":"IF(ISBLANK($B154),\"\",LOOKUP($B154,Inscriptions!A$2:A$65496,Inscriptions!B$2:B$65498))","v":""},{"$f":"IF(ISBLANK($B154),\"\",LOOKUP($B154,Inscriptions!A$2:A$65496,Inscriptions!C$2:C$65498))","v":""},{"$f":"IF(ISBLANK($B154),\"\",LOOKUP($B154,Inscriptions!A$2:A$65496,Inscriptions!D$2:D$65498))","v":""},null,null,null,0,0,0,"",""]
[151,null,{"$f":"IF(ISBLANK($B155),\"\",LOOKUP($B155,Inscriptions!A$2:A$65496,Inscriptions!B$2:B$65498))","v":""},{"$f":"IF(ISBLANK($B155),\"\",LOOKUP($B155,Inscriptions!A$2:A$65496,Inscriptions!C$2:C$65498))","v":""},{"$f":"IF(ISBLANK($B155),\"\",LOOKUP($B155,Inscriptions!A$2:A$65496,Inscriptions!D$2:D$65498))","v":""},null,null,null,0,0,0,"",""]
[152,null,{"$f":"IF(ISBLANK($B156),\"\",LOOKUP($B156,Inscriptions!A$2:A$65496,Inscriptions!B$2:B$65498))","v":""},{"$f":"IF(ISBLANK($B156),\"\",LOOKUP($B156,Inscriptions!A$2:A$65496,Inscriptions!C$2:C$65498))","v":""},{"$f":"IF(ISBLANK($B156),\"\",LOOKUP($B156,Inscriptions!A$2:A$65496,Inscriptions!D$2:D$65498))","v":""},null,null,null,0,0,0,"",""]
[153,null,{"$f":"IF(ISBLANK($B157),\"\",LOOKUP($B157,Inscriptions!A$2:A$65496,Inscriptions!B$2:B$65498))","v":""},{"$f":"IF(ISBLANK($B157),\"\",LOOKUP($B157,Inscriptions!A$2:A$65496,Inscriptions!C$2:C$65498))","v":""},{"$f":"IF(ISBLANK($B157),\"\",LOOKUP($B157,Inscriptions!A$2:A$65496,Inscriptions!D$2:D$65498))","v":""},null,null,null,0,0,0,"",""]
[154,null,{"$f":"IF(ISBLANK($B158),\"\",LOOKUP($B158,Inscriptions!A$2:A$65496,Inscriptions!B$2:B$65498))","v":""},{"$f":"IF(ISBLANK($B158),\"\",LOOKUP($B158,Inscriptions!A$2:A$65496,Inscriptions!C$2:C$65498))","v":""},{"$f":"IF(ISBLANK($B158),\"\",LOOKUP($B158,Inscriptions!A$2:A$65496,Inscriptions!D$2:D$65498))","v":""},null,null,null,0,0,0,"",""]
[155,null,{"$f":"IF(ISBLANK($B159),\"\",LOOKUP($B159,Inscriptions!A$2:A$65496,Inscriptions!B$2:B$65498))","v":""},{"$f":"IF(ISBLANK($B159),\"\",LOOKUP($B159,Inscriptions!A$2:A$65496,Inscriptions!C$2:C$65498))","v":""},{"$f":"IF(ISBLANK($B159),\"\",LOOKUP($B159,Inscriptions!A$2:A$65496,Inscriptions!D$2:D$65498))","v":""},null,null,null,0,0,0,"",""]
[156,null,{"$f":"IF(ISBLANK($B160),\"\",LOOKUP($B160,Inscriptions!A$2:A$65496,Inscriptions!B$2:B$65498))","v":""},{"$f":"IF(ISBLANK($B160),\"\",LOOKUP($B160,Inscriptions!A$2:A$65496,Inscriptions!C$2:C$65498))","v":""},{"$f":"IF(ISBLANK($B160),\"\",LOOKUP($B160,Inscriptions!A$2:A$65496,Inscriptions!D$2:D$65498))","v":""},null,null,null,0,0,0,"",""]
[157,null,{"$f":"IF(ISBLANK($B161),\"\",LOOKUP($B161,Inscriptions!A$2:A$65496,Inscriptions!B$2:B$65498))","v":""},{"$f":"IF(ISBLANK($B161),\"\",LOOKUP($B161,Inscriptions!A$2:A$65496,Inscriptions!C$2:C$65498))","v":""},{"$f":"IF(ISBLANK($B161),\"\",LOOKUP($B161,Inscriptions!A$2:A$65496,Inscriptions!D$2:D$65498))","v":""},null,null,null,0,0,0,"",""]
[158,null,{"$f":"IF(ISBLANK($B162),\"\",LOOKUP($B162,Inscriptions!A$2:A$65496,Inscriptions!B$2:B$65498))","v":""},{"$f":"IF(ISBLANK($B162),\"\",LOOKUP($B162,Inscriptions!A$2:A$65496,Inscriptions!C$2:C$65498))","v":""},{"$f":"IF(ISBLANK($B162),\"\",LOOKUP($B162,Inscriptions!A$2:A$65496,Inscriptions!D$2:D$65498))","v":""},null,null,null,0,0,0,"",""]
[159,null,{"$f":"IF(ISBLANK($B163),\"\",LOOKUP($B163,Inscriptions!A$2:A$65496,Inscriptions!B$2:B$65498))","v":""},{"$f":"IF(ISBLANK($B163),\"\",LOOKUP($B163,Inscriptions!A$2:A$65496,Inscriptions!C$2:C$65498))","v":""},{"$f":"IF(ISBLANK($B163),\"\",LOOKUP($B163,Inscriptions!A$2:A$65496,Inscriptions!D$2:D$65498))","v":""},null,null,null,0,0,0,"",""]
[160,null,{"$f":"IF(ISBLANK($B164),\"\",LOOKUP($B164,Inscriptions!A$2:A$65496,Inscriptions!B$2:B$65498))","v":""},{"$f":"IF(ISBLANK($B164),\"\",LOOKUP($B164,Inscriptions!A$2:A$65496,Inscriptions!C$2:C$65498))","v":""},{"$f":"IF(ISBLANK($B164),\"\",LOOKUP($B164,Inscriptions!A$2:A$65496,Inscriptions!D$2:D$65498))","v":""},null,null,null,0,0,0,"",""]
[161,null,{"$f":"IF(ISBLANK($B165),\"\",LOOKUP($B165,Inscriptions!A$2:A$65496,Inscriptions!B$2:B$65498))","v":""},{"$f":"IF(ISBLANK($B165),\"\",LOOKUP($B165,Inscriptions!A$2:A$65496,Inscriptions!C$2:C$65498))","v":""},{"$f":"IF(ISBLANK($B165),\"\",LOOKUP($B165,Inscriptions!A$2:A$65496,Inscriptions!D$2:D$65498))","v":""},null,null,null,0,0,0,"",""]
[162,null,{"$f":"IF(ISBLANK($B166),\"\",LOOKUP($B166,Inscriptions!A$2:A$65496,Inscriptions!B$2:B$65498))","v":""},{"$f":"IF(ISBLANK($B166),\"\",LOOKUP($B166,Inscriptions!A$2:A$65496,Inscriptions!C$2:C$65498))","v":""},{"$f":"IF(ISBLANK($B166),\"\",LOOKUP($B166,Inscriptions!A$2:A$65496,Inscriptions!D$2:D$65498))","v":""},null,null,null,0,0,0,"",""]
[163,null,{"$f":"IF(ISBLANK($B167),\"\",LOOKUP($B167,Inscriptions!A$2:A$65496,Inscriptions!B$2:B$65498))","v":""},{"$f":"IF(ISBLANK($B167),\"\",LOOKUP($B167,Inscriptions!A$2:A$65496,Inscriptions!C$2:C$65498))","v":""},{"$f":"IF(ISBLANK($B167),\"\",LOOKUP($B167,Inscriptions!A$2:A$65496,Inscriptions!D$2:D$65498))","v":""},null,null,null,0,0,0,"",""]
[164,null,{"$f":"IF(ISBLANK($B168),\"\",LOOKUP($B168,Inscriptions!A$2:A$65496,Inscriptions!B$2:B$65498))","v":""},{"$f":"IF(ISBLANK($B168),\"\",LOOKUP($B168,Inscriptions!A$2:A$65496,Inscriptions!C$2:C$65498))","v":""},{"$f":"IF(ISBLANK($B168),\"\",LOOKUP($B168,Inscriptions!A$2:A$65496,Inscriptions!D$2:D$65498))","v":""},null,null,null,0,0,0,"",""]
[165,null,{"$f":"IF(ISBLANK($B169),\"\",LOOKUP($B169,Inscriptions!A$2:A$65496,Inscriptions!B$2:B$65498))","v":""},{"$f":"IF(ISBLANK($B169),\"\",LOOKUP($B169,Inscriptions!A$2:A$65496,Inscriptions!C$2:C$65498))","v":""},{"$f":"IF(ISBLANK($B169),\"\",LOOKUP($B169,Inscriptions!A$2:A$65496,Inscriptions!D$2:D$65498))","v":""},null,null,null,0,0,0,"",""]
[166,null,{"$f":"IF(ISBLANK($B170),\"\",LOOKUP($B170,Inscriptions!A$2:A$65496,Inscriptions!B$2:B$65498))","v":""},{"$f":"IF(ISBLANK($B170),\"\",LOOKUP($B170,Inscriptions!A$2:A$65496,Inscriptions!C$2:C$65498))","v":""},{"$f":"IF(ISBLANK($B170),\"\",LOOKUP($B170,Inscriptions!A$2:A$65496,Inscriptions!D$2:D$65498))","v":""},null,null,null,0,0,0,"",""]
[167,null,{"$f":"IF(ISBLANK($B171),\"\",LOOKUP($B171,Inscriptions!A$2:A$65496,Inscriptions!B$2:B$65498))","v":""},{"$f":"IF(ISBLANK($B171),\"\",LOOKUP($B171,Inscriptions!A$2:A$65496,Inscriptions!C$2:C$65498))","v":""},{"$f":"IF(ISBLANK($B171),\"\",LOOKUP($B171,Inscriptions!A$2:A$65496,Inscriptions!D$2:D$65498))","v":""},null,null,null,0,0,0,"",""]
[168,null,{"$f":"IF(ISBLANK($B172),\"\",LOOKUP($B172,Inscriptions!A$2:A$65496,Inscriptions!B$2:B$65498))","v":""},{"$f":"IF(ISBLANK($B172),\"\",LOOKUP($B172,Inscriptions!A$2:A$65496,Inscriptions!C$2:C$65498))","v":""},{"$f":"IF(ISBLANK($B172),\"\",LOOKUP($B172,Inscriptions!A$2:A$65496,Inscriptions!D$2:D$65498))","v":""},null,null,null,0,0,0,"",""]
[169,null,{"$f":"IF(ISBLANK($B173),\"\",LOOKUP($B173,Inscriptions!A$2:A$65496,Inscriptions!B$2:B$65498))","v":""},{"$f":"IF(ISBLANK($B173),\"\",LOOKUP($B173,Inscriptions!A$2:A$65496,Inscriptions!C$2:C$65498))","v":""},{"$f":"IF(ISBLANK($B173),\"\",LOOKUP($B173,Inscriptions!A$2:A$65496,Inscriptions!D$2:D$65498))","v":""},null,null,null,0,0,0,"",""]
[170,null,{"$f":"IF(ISBLANK($B174),\"\",LOOKUP($B174,Inscriptions!A$2:A$65496,Inscriptions!B$2:B$65498))","v":""},{"$f":"IF(ISBLANK($B174),\"\",LOOKUP($B174,Inscriptions!A$2:A$65496,Inscriptions!C$2:C$65498))","v":""},{"$f":"IF(ISBLANK($B174),\"\",LOOKUP($B174,Inscriptions!A$2:A$65496,Inscriptions!D$2:D$65498))","v":""},null,null,null,0,0,0,"",""]
[171,null,{"$f":"IF(ISBLANK($B175),\"\",LOOKUP($B175,Inscriptions!A$2:A$65496,Inscriptions!B$2:B$65498))","v":""},{"$f":"IF(ISBLANK($B175),\"\",LOOKUP($B175,Inscriptions!A$2:A$65496,Inscriptions!C$2:C$65498))","v":""},{"$f":"IF(ISBLANK($B175),\"\",LOOKUP($B175,Inscriptions!A$2:A$65496,Inscriptions!D$2:D$65498))","v":""},null,null,null,0,0,0,"",""]
[172,null,{"$f":"IF(ISBLANK($B176),\"\",LOOKUP($B176,Inscriptions!A$2:A$65496,Inscriptions!B$2:B$65498))","v":""},{"$f":"IF(ISBLANK($B176),\"\",LOOKUP($B176,Inscriptions!A$2:A$65496,Inscriptions!C$2:C$65498))","v":""},{"$f":"IF(ISBLANK($B176),\"\",LOOKUP($B176,Inscriptions!A$2:A$65496,Inscriptions!D$2:D$65498))","v":""},null,null,null,0,0,0,"",""]
[173,null,{"$f":"IF(ISBLANK($B177),\"\",LOOKUP($B177,Inscriptions!A$2:A$65496,Inscriptions!B$2:B$65498))","v":""},{"$f":"IF(ISBLANK($B177),\"\",LOOKUP($B177,Inscriptions!A$2:A$65496,Inscriptions!C$2:C$65498))","v":""},{"$f":"IF(ISBLANK($B177),\"\",LOOKUP($B177,Inscriptions!A$2:A$65496,Inscriptions!D$2:D$65498))","v":""},null,null,null,0,0,0,"",""]
[174,null,{"$f":"IF(ISBLANK($B178),\"\",LOOKUP($B178,Inscriptions!A$2:A$65496,Inscriptions!B$2:B$65498))","v":""},{"$f":"IF(ISBLANK($B178),\"\",LOOKUP($B178,Inscriptions!A$2:A$65496,Inscriptions!C$2:C$65498))","v":""},{"$f":"IF(ISBLANK($B178),\"\",LOOKUP($B178,Inscriptions!A$2:A$65496,Inscriptions!D$2:D$65498))","v":""},null,null,null,0,0,0,"",""]
[175,null,{"$f":"IF(ISBLANK($B179),\"\",LOOKUP($B179,Inscriptions!A$2:A$65496,Inscriptions!B$2:B$65498))","v":""},{"$f":"IF(ISBLANK($B179),\"\",LOOKUP($B179,Inscriptions!A$2:A$65496,Inscriptions!C$2:C$65498))","v":""},{"$f":"IF(ISBLANK($B179),\"\",LOOKUP($B179,Inscriptions!A$2:A$65496,Inscriptions!D$2:D$65498))","v":""},null,null,null,0,0,0,"",""]
[176,null,{"$f":"IF(ISBLANK($B180),\"\",LOOKUP($B180,Inscriptions!A$2:A$65496,Inscriptions!B$2:B$65498))","v":""},{"$f":"IF(ISBLANK($B180),\"\",LOOKUP($B180,Inscriptions!A$2:A$65496,Inscriptions!C$2:C$65498))","v":""},{"$f":"IF(ISBLANK($B180),\"\",LOOKUP($B180,Inscriptions!A$2:A$65496,Inscriptions!D$2:D$65498))","v":""},null,null,null,0,0,0,"",""]
[177,null,{"$f":"IF(ISBLANK($B181),\"\",LOOKUP($B181,Inscriptions!A$2:A$65496,Inscriptions!B$2:B$65498))","v":""},{"$f":"IF(ISBLANK($B181),\"\",LOOKUP($B181,Inscriptions!A$2:A$65496,Inscriptions!C$2:C$65498))","v":""},{"$f":"IF(ISBLANK($B181),\"\",LOOKUP($B181,Inscriptions!A$2:A$65496,Inscriptions!D$2:D$65498))","v":""},null,null,null,0,0,0,"",""]
[178,null,{"$f":"IF(ISBLANK($B182),\"\",LOOKUP($B182,Inscriptions!A$2:A$65496,Inscriptions!B$2:B$65498))","v":""},{"$f":"IF(ISBLANK($B182),\"\",LOOKUP($B182,Inscriptions!A$2:A$65496,Inscriptions!C$2:C$65498))","v":""},{"$f":"IF(ISBLANK($B182),\"\",LOOKUP($B182,Inscriptions!A$2:A$65496,Inscriptions!D$2:D$65498))","v":""},null,null,null,0,0,0,"",""]
[179,null,{"$f":"IF(ISBLANK($B183),\"\",LOOKUP($B183,Inscriptions!A$2:A$65496,Inscriptions!B$2:B$65498))","v":""},{"$f":"IF(ISBLANK($B183),\"\",LOOKUP($B183,Inscriptions!A$2:A$65496,Inscriptions!C$2:C$65498))","v":""},{"$f":"IF(ISBLANK($B183),\"\",LOOKUP($B183,Inscriptions!A$2:A$65496,Inscriptions!D$2:D$65498))","v":""},null,null,null,0,0,0,"",""]
[180,null,{"$f":"IF(ISBLANK($B184),\"\",LOOKUP($B184,Inscriptions!A$2:A$65496,Inscriptions!B$2:B$65498))","v":""},{"$f":"IF(ISBLANK($B184),\"\",LOOKUP($B184,Inscriptions!A$2:A$65496,Inscriptions!C$2:C$65498))","v":""},{"$f":"IF(ISBLANK($B184),\"\",LOOKUP($B184,Inscriptions!A$2:A$65496,Inscriptions!D$2:D$65498))","v":""},null,null,null,0,0,0,"",""]
[181,null,{"$f":"IF(ISBLANK($B185),\"\",LOOKUP($B185,Inscriptions!A$2:A$65496,Inscriptions!B$2:B$65498))","v":""},{"$f":"IF(ISBLANK($B185),\"\",LOOKUP($B185,Inscriptions!A$2:A$65496,Inscriptions!C$2:C$65498))","v":""},{"$f":"IF(ISBLANK($B185),\"\",LOOKUP($B185,Inscriptions!A$2:A$65496,Inscriptions!D$2:D$65498))","v":""},null,null,null,0,0,0,"",""]
[182,null,{"$f":"IF(ISBLANK($B186),\"\",LOOKUP($B186,Inscriptions!A$2:A$65496,Inscriptions!B$2:B$65498))","v":""},{"$f":"IF(ISBLANK($B186),\"\",LOOKUP($B186,Inscriptions!A$2:A$65496,Inscriptions!C$2:C$65498))","v":""},{"$f":"IF(ISBLANK($B186),\"\",LOOKUP($B186,Inscriptions!A$2:A$65496,Inscriptions!D$2:D$65498))","v":""},null,null,null,0,0,0,"",""]
[183,null,{"$f":"IF(ISBLANK($B187),\"\",LOOKUP($B187,Inscriptions!A$2:A$65496,Inscriptions!B$2:B$65498))","v":""},{"$f":"IF(ISBLANK($B187),\"\",LOOKUP($B187,Inscriptions!A$2:A$65496,Inscriptions!C$2:C$65498))","v":""},{"$f":"IF(ISBLANK($B187),\"\",LOOKUP($B187,Inscriptions!A$2:A$65496,Inscriptions!D$2:D$65498))","v":""},null,null,null,0,0,0,"",""]
[184,null,{"$f":"IF(ISBLANK($B188),\"\",LOOKUP($B188,Inscriptions!A$2:A$65496,Inscriptions!B$2:B$65498))","v":""},{"$f":"IF(ISBLANK($B188),\"\",LOOKUP($B188,Inscriptions!A$2:A$65496,Inscriptions!C$2:C$65498))","v":""},{"$f":"IF(ISBLANK($B188),\"\",LOOKUP($B188,Inscriptions!A$2:A$65496,Inscriptions!D$2:D$65498))","v":""},null,null,null,0,0,0,"",""]
[185,null,{"$f":"IF(ISBLANK($B189),\"\",LOOKUP($B189,Inscriptions!A$2:A$65496,Inscriptions!B$2:B$65498))","v":""},{"$f":"IF(ISBLANK($B189),\"\",LOOKUP($B189,Inscriptions!A$2:A$65496,Inscriptions!C$2:C$65498))","v":""},{"$f":"IF(ISBLANK($B189),\"\",LOOKUP($B189,Inscriptions!A$2:A$65496,Inscriptions!D$2:D$65498))","v":""},null,null,null,0,0,0,"",""]
[186,null,{"$f":"IF(ISBLANK($B190),\"\",LOOKUP($B190,Inscriptions!A$2:A$65496,Inscriptions!B$2:B$65498))","v":""},{"$f":"IF(ISBLANK($B190),\"\",LOOKUP($B190,Inscriptions!A$2:A$65496,Inscriptions!C$2:C$65498))","v":""},{"$f":"IF(ISBLANK($B190),\"\",LOOKUP($B190,Inscriptions!A$2:A$65496,Inscriptions!D$2:D$65498))","v":""},null,null,null,0,0,0,"",""]
[187,null,{"$f":"IF(ISBLANK($B191),\"\",LOOKUP($B191,Inscriptions!A$2:A$65496,Inscriptions!B$2:B$65498))","v":""},{"$f":"IF(ISBLANK($B191),\"\",LOOKUP($B191,Inscriptions!A$2:A$65496,Inscriptions!C$2:C$65498))","v":""},{"$f":"IF(ISBLANK($B191),\"\",LOOKUP($B191,Inscriptions!A$2:A$65496,Inscriptions!D$2:D$65498))","v":""},null,null,null,0,0,0,"",""]
[188,null,{"$f":"IF(ISBLANK($B192),\"\",LOOKUP($B192,Inscriptions!A$2:A$65496,Inscriptions!B$2:B$65498))","v":""},{"$f":"IF(ISBLANK($B192),\"\",LOOKUP($B192,Inscriptions!A$2:A$65496,Inscriptions!C$2:C$65498))","v":""},{"$f":"IF(ISBLANK($B192),\"\",LOOKUP($B192,Inscriptions!A$2:A$65496,Inscriptions!D$2:D$65498))","v":""},null,null,null,0,0,0,"",""]
[189,null,{"$f":"IF(ISBLANK($B193),\"\",LOOKUP($B193,Inscriptions!A$2:A$65496,Inscriptions!B$2:B$65498))","v":""},{"$f":"IF(ISBLANK($B193),\"\",LOOKUP($B193,Inscriptions!A$2:A$65496,Inscriptions!C$2:C$65498))","v":""},{"$f":"IF(ISBLANK($B193),\"\",LOOKUP($B193,Inscriptions!A$2:A$65496,Inscriptions!D$2:D$65498))","v":""},null,null,null,0,0,0,"",""]
[190,null,{"$f":"IF(ISBLANK($B194),\"\",LOOKUP($B194,Inscriptions!A$2:A$65496,Inscriptions!B$2:B$65498))","v":""},{"$f":"IF(ISBLANK($B194),\"\",LOOKUP($B194,Inscriptions!A$2:A$65496,Inscriptions!C$2:C$65498))","v":""},{"$f":"IF(ISBLANK($B194),\"\",LOOKUP($B194,Inscriptions!A$2:A$65496,Inscriptions!D$2:D$65498))","v":""},null,null,null,0,0,0,"",""]
[191,null,{"$f":"IF(ISBLANK($B195),\"\",LOOKUP($B195,Inscriptions!A$2:A$65496,Inscriptions!B$2:B$65498))","v":""},{"$f":"IF(ISBLANK($B195),\"\",LOOKUP($B195,Inscriptions!A$2:A$65496,Inscriptions!C$2:C$65498))","v":""},{"$f":"IF(ISBLANK($B195),\"\",LOOKUP($B195,Inscriptions!A$2:A$65496,Inscriptions!D$2:D$65498))","v":""},null,null,null,0,0,0,"",""]
[192,null,{"$f":"IF(ISBLANK($B196),\"\",LOOKUP($B196,Inscriptions!A$2:A$65496,Inscriptions!B$2:B$65498))","v":""},{"$f":"IF(ISBLANK($B196),\"\",LOOKUP($B196,Inscriptions!A$2:A$65496,Inscriptions!C$2:C$65498))","v":""},{"$f":"IF(ISBLANK($B196),\"\",LOOKUP($B196,Inscriptions!A$2:A$65496,Inscriptions!D$2:D$65498))","v":""},null,null,null,0,0,0,"",""]
[193,null,{"$f":"IF(ISBLANK($B197),\"\",LOOKUP($B197,Inscriptions!A$2:A$65496,Inscriptions!B$2:B$65498))","v":""},{"$f":"IF(ISBLANK($B197),\"\",LOOKUP($B197,Inscriptions!A$2:A$65496,Inscriptions!C$2:C$65498))","v":""},{"$f":"IF(ISBLANK($B197),\"\",LOOKUP($B197,Inscriptions!A$2:A$65496,Inscriptions!D$2:D$65498))","v":""},null,null,null,{"$f":"ROUNDDOWN(H197/10000,0)","v":0},{"$f":"ROUNDDOWN((H197-I197*10000)/100,0)","v":0},{"$f":"ROUNDDOWN((H197-(I197*10000)-(J197*100)),0)","v":0},{"$f":"IF((I197+J197+K197)=0,\"\",ROUNDDOWN((L$4/((I197*3600)+(J197*60)+K197))*3.6,2))","v":""},{"$f":"IF(L197=\"\",\"\",\"km/h\")","v":""}]
[194,null,{"$f":"IF(ISBLANK($B198),\"\",LOOKUP($B198,Inscriptions!A$2:A$65496,Inscriptions!B$2:B$65498))","v":""},{"$f":"IF(ISBLANK($B198),\"\",LOOKUP($B198,Inscriptions!A$2:A$65496,Inscriptions!C$2:C$65498))","v":""},{"$f":"IF(ISBLANK($B198),\"\",LOOKUP($B198,Inscriptions!A$2:A$65496,Inscriptions!D$2:D$65498))","v":""},null,null,null,0,0,0,"",""]
[195,null,{"$f":"IF(ISBLANK($B199),\"\",LOOKUP($B199,Inscriptions!A$2:A$65496,Inscriptions!B$2:B$65498))","v":""},{"$f":"IF(ISBLANK($B199),\"\",LOOKUP($B199,Inscriptions!A$2:A$65496,Inscriptions!C$2:C$65498))","v":""},{"$f":"IF(ISBLANK($B199),\"\",LOOKUP($B199,Inscriptions!A$2:A$65496,Inscriptions!D$2:D$65498))","v":""},null,null,null,0,0,0,"",""]
[196,null,{"$f":"IF(ISBLANK($B200),\"\",LOOKUP($B200,Inscriptions!A$2:A$65496,Inscriptions!B$2:B$65498))","v":""},{"$f":"IF(ISBLANK($B200),\"\",LOOKUP($B200,Inscriptions!A$2:A$65496,Inscriptions!C$2:C$65498))","v":""},{"$f":"IF(ISBLANK($B200),\"\",LOOKUP($B200,Inscriptions!A$2:A$65496,Inscriptions!D$2:D$65498))","v":""},null,null,null,0,0,0,"",""]
[197,null,{"$f":"IF(ISBLANK($B201),\"\",LOOKUP($B201,Inscriptions!A$2:A$65496,Inscriptions!B$2:B$65498))","v":""},{"$f":"IF(ISBLANK($B201),\"\",LOOKUP($B201,Inscriptions!A$2:A$65496,Inscriptions!C$2:C$65498))","v":""},{"$f":"IF(ISBLANK($B201),\"\",LOOKUP($B201,Inscriptions!A$2:A$65496,Inscriptions!D$2:D$65498))","v":""},null,null,null,0,0,0,"",""]
[198,null,{"$f":"IF(ISBLANK($B202),\"\",LOOKUP($B202,Inscriptions!A$2:A$65496,Inscriptions!B$2:B$65498))","v":""},{"$f":"IF(ISBLANK($B202),\"\",LOOKUP($B202,Inscriptions!A$2:A$65496,Inscriptions!C$2:C$65498))","v":""},{"$f":"IF(ISBLANK($B202),\"\",LOOKUP($B202,Inscriptions!A$2:A$65496,Inscriptions!D$2:D$65498))","v":""},null,null,null,0,0,0,"",""]
[199,null,{"$f":"IF(ISBLANK($B203),\"\",LOOKUP($B203,Inscriptions!A$2:A$65496,Inscriptions!B$2:B$65498))","v":""},{"$f":"IF(ISBLANK($B203),\"\",LOOKUP($B203,Inscriptions!A$2:A$65496,Inscriptions!C$2:C$65498))","v":""},{"$f":"IF(ISBLANK($B203),\"\",LOOKUP($B203,Inscriptions!A$2:A$65496,Inscriptions!D$2:D$65498))","v":""},null,null,null,0,0,0,"",""]
[200,null,{"$f":"IF(ISBLANK($B204),\"\",LOOKUP($B204,Inscriptions!A$2:A$65496,Inscriptions!B$2:B$65498))","v":""},{"$f":"IF(ISBLANK($B204),\"\",LOOKUP($B204,Inscriptions!A$2:A$65496,Inscriptions!C$2:C$65498))","v":""},{"$f":"IF(ISBLANK($B204),\"\",LOOKUP($B204,Inscriptions!A$2:A$65496,Inscriptions!D$2:D$65498))","v":""},null,null,null,0,0,0,"",""]
[201,null,{"$f":"IF(ISBLANK($B205),\"\",LOOKUP($B205,Inscriptions!A$2:A$65496,Inscriptions!B$2:B$65498))","v":""},{"$f":"IF(ISBLANK($B205),\"\",LOOKUP($B205,Inscriptions!A$2:A$65496,Inscriptions!C$2:C$65498))","v":""},{"$f":"IF(ISBLANK($B205),\"\",LOOKUP($B205,Inscriptions!A$2:A$65496,Inscriptions!D$2:D$65498))","v":""},null,null,null,0,0,0,"",""]
[202,null,{"$f":"IF(ISBLANK($B206),\"\",LOOKUP($B206,Inscriptions!A$2:A$65496,Inscriptions!B$2:B$65498))","v":""},{"$f":"IF(ISBLANK($B206),\"\",LOOKUP($B206,Inscriptions!A$2:A$65496,Inscriptions!C$2:C$65498))","v":""},{"$f":"IF(ISBLANK($B206),\"\",LOOKUP($B206,Inscriptions!A$2:A$65496,Inscriptions!D$2:D$65498))","v":""},null,null,null,0,0,0,"",""]
[203,null,{"$f":"IF(ISBLANK($B207),\"\",LOOKUP($B207,Inscriptions!A$2:A$65496,Inscriptions!B$2:B$65498))","v":""},{"$f":"IF(ISBLANK($B207),\"\",LOOKUP($B207,Inscriptions!A$2:A$65496,Inscriptions!C$2:C$65498))","v":""},{"$f":"IF(ISBLANK($B207),\"\",LOOKUP($B207,Inscriptions!A$2:A$65496,Inscriptions!D$2:D$65498))","v":""},null,null,null,0,0,0,"",""]
[204,null,{"$f":"IF(ISBLANK($B208),\"\",LOOKUP($B208,Inscriptions!A$2:A$65496,Inscriptions!B$2:B$65498))","v":""},{"$f":"IF(ISBLANK($B208),\"\",LOOKUP($B208,Inscriptions!A$2:A$65496,Inscriptions!C$2:C$65498))","v":""},{"$f":"IF(ISBLANK($B208),\"\",LOOKUP($B208,Inscriptions!A$2:A$65496,Inscriptions!D$2:D$65498))","v":""},null,null,null,0,0,0,"",""]
[205,null,{"$f":"IF(ISBLANK($B209),\"\",LOOKUP($B209,Inscriptions!A$2:A$65496,Inscriptions!B$2:B$65498))","v":""},{"$f":"IF(ISBLANK($B209),\"\",LOOKUP($B209,Inscriptions!A$2:A$65496,Inscriptions!C$2:C$65498))","v":""},{"$f":"IF(ISBLANK($B209),\"\",LOOKUP($B209,Inscriptions!A$2:A$65496,Inscriptions!D$2:D$65498))","v":""},null,null,null,0,0,0,"",""]
[206,null,{"$f":"IF(ISBLANK($B210),\"\",LOOKUP($B210,Inscriptions!A$2:A$65496,Inscriptions!B$2:B$65498))","v":""},{"$f":"IF(ISBLANK($B210),\"\",LOOKUP($B210,Inscriptions!A$2:A$65496,Inscriptions!C$2:C$65498))","v":""},{"$f":"IF(ISBLANK($B210),\"\",LOOKUP($B210,Inscriptions!A$2:A$65496,Inscriptions!D$2:D$65498))","v":""},null,null,null,0,0,0,"",""]
[207,null,{"$f":"IF(ISBLANK($B211),\"\",LOOKUP($B211,Inscriptions!A$2:A$65496,Inscriptions!B$2:B$65498))","v":""},{"$f":"IF(ISBLANK($B211),\"\",LOOKUP($B211,Inscriptions!A$2:A$65496,Inscriptions!C$2:C$65498))","v":""},{"$f":"IF(ISBLANK($B211),\"\",LOOKUP($B211,Inscriptions!A$2:A$65496,Inscriptions!D$2:D$65498))","v":""},null,null,null,0,0,0,"",""]
[208,null,{"$f":"IF(ISBLANK($B212),\"\",LOOKUP($B212,Inscriptions!A$2:A$65496,Inscriptions!B$2:B$65498))","v":""},{"$f":"IF(ISBLANK($B212),\"\",LOOKUP($B212,Inscriptions!A$2:A$65496,Inscriptions!C$2:C$65498))","v":""},{"$f":"IF(ISBLANK($B212),\"\",LOOKUP($B212,Inscriptions!A$2:A$65496,Inscriptions!D$2:D$65498))","v":""},null,null,null,0,0,0,"",""]
[209,null,{"$f":"IF(ISBLANK($B213),\"\",LOOKUP($B213,Inscriptions!A$2:A$65496,Inscriptions!B$2:B$65498))","v":""},{"$f":"IF(ISBLANK($B213),\"\",LOOKUP($B213,Inscriptions!A$2:A$65496,Inscriptions!C$2:C$65498))","v":""},{"$f":"IF(ISBLANK($B213),\"\",LOOKUP($B213,Inscriptions!A$2:A$65496,Inscriptions!D$2:D$65498))","v":""},null,null,null,0,0,0,"",""]
[210,null,{"$f":"IF(ISBLANK($B214),\"\",LOOKUP($B214,Inscriptions!A$2:A$65496,Inscriptions!B$2:B$65498))","v":""},{"$f":"IF(ISBLANK($B214),\"\",LOOKUP($B214,Inscriptions!A$2:A$65496,Inscriptions!C$2:C$65498))","v":""},{"$f":"IF(ISBLANK($B214),\"\",LOOKUP($B214,Inscriptions!A$2:A$65496,Inscriptions!D$2:D$65498))","v":""},null,null,null,0,0,0,"",""]
[211,null,{"$f":"IF(ISBLANK($B215),\"\",LOOKUP($B215,Inscriptions!A$2:A$65496,Inscriptions!B$2:B$65498))","v":""},{"$f":"IF(ISBLANK($B215),\"\",LOOKUP($B215,Inscriptions!A$2:A$65496,Inscriptions!C$2:C$65498))","v":""},{"$f":"IF(ISBLANK($B215),\"\",LOOKUP($B215,Inscriptions!A$2:A$65496,Inscriptions!D$2:D$65498))","v":""},null,null,null,0,0,0,"",""]
[212,null,{"$f":"IF(ISBLANK($B216),\"\",LOOKUP($B216,Inscriptions!A$2:A$65496,Inscriptions!B$2:B$65498))","v":""},{"$f":"IF(ISBLANK($B216),\"\",LOOKUP($B216,Inscriptions!A$2:A$65496,Inscriptions!C$2:C$65498))","v":""},{"$f":"IF(ISBLANK($B216),\"\",LOOKUP($B216,Inscriptions!A$2:A$65496,Inscriptions!D$2:D$65498))","v":""},null,null,null,0,0,0,"",""]
[213,null,{"$f":"IF(ISBLANK($B217),\"\",LOOKUP($B217,Inscriptions!A$2:A$65496,Inscriptions!B$2:B$65498))","v":""},{"$f":"IF(ISBLANK($B217),\"\",LOOKUP($B217,Inscriptions!A$2:A$65496,Inscriptions!C$2:C$65498))","v":""},{"$f":"IF(ISBLANK($B217),\"\",LOOKUP($B217,Inscriptions!A$2:A$65496,Inscriptions!D$2:D$65498))","v":""},null,null,null,0,0,0,"",""]
[214,null,{"$f":"IF(ISBLANK($B218),\"\",LOOKUP($B218,Inscriptions!A$2:A$65496,Inscriptions!B$2:B$65498))","v":""},{"$f":"IF(ISBLANK($B218),\"\",LOOKUP($B218,Inscriptions!A$2:A$65496,Inscriptions!C$2:C$65498))","v":""},{"$f":"IF(ISBLANK($B218),\"\",LOOKUP($B218,Inscriptions!A$2:A$65496,Inscriptions!D$2:D$65498))","v":""},null,null,null,0,0,0,"",""]
[215,null,{"$f":"IF(ISBLANK($B219),\"\",LOOKUP($B219,Inscriptions!A$2:A$65496,Inscriptions!B$2:B$65498))","v":""},{"$f":"IF(ISBLANK($B219),\"\",LOOKUP($B219,Inscriptions!A$2:A$65496,Inscriptions!C$2:C$65498))","v":""},{"$f":"IF(ISBLANK($B219),\"\",LOOKUP($B219,Inscriptions!A$2:A$65496,Inscriptions!D$2:D$65498))","v":""},null,null,null,0,0,0,"",""]
[216,null,{"$f":"IF(ISBLANK($B220),\"\",LOOKUP($B220,Inscriptions!A$2:A$65496,Inscriptions!B$2:B$65498))","v":""},{"$f":"IF(ISBLANK($B220),\"\",LOOKUP($B220,Inscriptions!A$2:A$65496,Inscriptions!C$2:C$65498))","v":""},{"$f":"IF(ISBLANK($B220),\"\",LOOKUP($B220,Inscriptions!A$2:A$65496,Inscriptions!D$2:D$65498))","v":""},null,null,null,0,0,0,"",""]
[217,null,{"$f":"IF(ISBLANK($B221),\"\",LOOKUP($B221,Inscriptions!A$2:A$65496,Inscriptions!B$2:B$65498))","v":""},{"$f":"IF(ISBLANK($B221),\"\",LOOKUP($B221,Inscriptions!A$2:A$65496,Inscriptions!C$2:C$65498))","v":""},{"$f":"IF(ISBLANK($B221),\"\",LOOKUP($B221,Inscriptions!A$2:A$65496,Inscriptions!D$2:D$65498))","v":""},null,null,null,0,0,0,"",""]
[218,null,{"$f":"IF(ISBLANK($B222),\"\",LOOKUP($B222,Inscriptions!A$2:A$65496,Inscriptions!B$2:B$65498))","v":""},{"$f":"IF(ISBLANK($B222),\"\",LOOKUP($B222,Inscriptions!A$2:A$65496,Inscriptions!C$2:C$65498))","v":""},{"$f":"IF(ISBLANK($B222),\"\",LOOKUP($B222,Inscriptions!A$2:A$65496,Inscriptions!D$2:D$65498))","v":""},null,null,null,0,0,0,"",""]
[219,null,{"$f":"IF(ISBLANK($B223),\"\",LOOKUP($B223,Inscriptions!A$2:A$65496,Inscriptions!B$2:B$65498))","v":""},{"$f":"IF(ISBLANK($B223),\"\",LOOKUP($B223,Inscriptions!A$2:A$65496,Inscriptions!C$2:C$65498))","v":""},{"$f":"IF(ISBLANK($B223),\"\",LOOKUP($B223,Inscriptions!A$2:A$65496,Inscriptions!D$2:D$65498))","v":""},null,null,null,0,0,0,"",""]
[220,null,{"$f":"IF(ISBLANK($B224),\"\",LOOKUP($B224,Inscriptions!A$2:A$65496,Inscriptions!B$2:B$65498))","v":""},{"$f":"IF(ISBLANK($B224),\"\",LOOKUP($B224,Inscriptions!A$2:A$65496,Inscriptions!C$2:C$65498))","v":""},{"$f":"IF(ISBLANK($B224),\"\",LOOKUP($B224,Inscriptions!A$2:A$65496,Inscriptions!D$2:D$65498))","v":""},null,null,null,0,0,0,"",""]
[221,null,{"$f":"IF(ISBLANK($B225),\"\",LOOKUP($B225,Inscriptions!A$2:A$65496,Inscriptions!B$2:B$65498))","v":""},{"$f":"IF(ISBLANK($B225),\"\",LOOKUP($B225,Inscriptions!A$2:A$65496,Inscriptions!C$2:C$65498))","v":""},{"$f":"IF(ISBLANK($B225),\"\",LOOKUP($B225,Inscriptions!A$2:A$65496,Inscriptions!D$2:D$65498))","v":""},null,null,null,0,0,0,"",""]
[222,null,{"$f":"IF(ISBLANK($B226),\"\",LOOKUP($B226,Inscriptions!A$2:A$65496,Inscriptions!B$2:B$65498))","v":""},{"$f":"IF(ISBLANK($B226),\"\",LOOKUP($B226,Inscriptions!A$2:A$65496,Inscriptions!C$2:C$65498))","v":""},{"$f":"IF(ISBLANK($B226),\"\",LOOKUP($B226,Inscriptions!A$2:A$65496,Inscriptions!D$2:D$65498))","v":""},null,null,null,0,0,0,"",""]
[223,null,{"$f":"IF(ISBLANK($B227),\"\",LOOKUP($B227,Inscriptions!A$2:A$65496,Inscriptions!B$2:B$65498))","v":""},{"$f":"IF(ISBLANK($B227),\"\",LOOKUP($B227,Inscriptions!A$2:A$65496,Inscriptions!C$2:C$65498))","v":""},{"$f":"IF(ISBLANK($B227),\"\",LOOKUP($B227,Inscriptions!A$2:A$65496,Inscriptions!D$2:D$65498))","v":""},null,null,null,0,0,0,"",""]
[224,null,{"$f":"IF(ISBLANK($B228),\"\",LOOKUP($B228,Inscriptions!A$2:A$65496,Inscriptions!B$2:B$65498))","v":""},{"$f":"IF(ISBLANK($B228),\"\",LOOKUP($B228,Inscriptions!A$2:A$65496,Inscriptions!C$2:C$65498))","v":""},{"$f":"IF(ISBLANK($B228),\"\",LOOKUP($B228,Inscriptions!A$2:A$65496,Inscriptions!D$2:D$65498))","v":""},null,null,null,0,0,0,"",""]
[225,null,{"$f":"IF(ISBLANK($B229),\"\",LOOKUP($B229,Inscriptions!A$2:A$65496,Inscriptions!B$2:B$65498))","v":""},{"$f":"IF(ISBLANK($B229),\"\",LOOKUP($B229,Inscriptions!A$2:A$65496,Inscriptions!C$2:C$65498))","v":""},{"$f":"IF(ISBLANK($B229),\"\",LOOKUP($B229,Inscriptions!A$2:A$65496,Inscriptions!D$2:D$65498))","v":""},null,null,null,0,0,0,"",""]
[226,null,{"$f":"IF(ISBLANK($B230),\"\",LOOKUP($B230,Inscriptions!A$2:A$65496,Inscriptions!B$2:B$65498))","v":""},{"$f":"IF(ISBLANK($B230),\"\",LOOKUP($B230,Inscriptions!A$2:A$65496,Inscriptions!C$2:C$65498))","v":""},{"$f":"IF(ISBLANK($B230),\"\",LOOKUP($B230,Inscriptions!A$2:A$65496,Inscriptions!D$2:D$65498))","v":""},null,null,null,0,0,0,"",""]
[227,null,{"$f":"IF(ISBLANK($B231),\"\",LOOKUP($B231,Inscriptions!A$2:A$65496,Inscriptions!B$2:B$65498))","v":""},{"$f":"IF(ISBLANK($B231),\"\",LOOKUP($B231,Inscriptions!A$2:A$65496,Inscriptions!C$2:C$65498))","v":""},{"$f":"IF(ISBLANK($B231),\"\",LOOKUP($B231,Inscriptions!A$2:A$65496,Inscriptions!D$2:D$65498))","v":""},null,null,null,0,0,0,"",""]
[228,null,{"$f":"IF(ISBLANK($B232),\"\",LOOKUP($B232,Inscriptions!A$2:A$65496,Inscriptions!B$2:B$65498))","v":""},{"$f":"IF(ISBLANK($B232),\"\",LOOKUP($B232,Inscriptions!A$2:A$65496,Inscriptions!C$2:C$65498))","v":""},{"$f":"IF(ISBLANK($B232),\"\",LOOKUP($B232,Inscriptions!A$2:A$65496,Inscriptions!D$2:D$65498))","v":""},null,null,null,0,0,0,"",""]
[229,null,{"$f":"IF(ISBLANK($B233),\"\",LOOKUP($B233,Inscriptions!A$2:A$65496,Inscriptions!B$2:B$65498))","v":""},{"$f":"IF(ISBLANK($B233),\"\",LOOKUP($B233,Inscriptions!A$2:A$65496,Inscriptions!C$2:C$65498))","v":""},{"$f":"IF(ISBLANK($B233),\"\",LOOKUP($B233,Inscriptions!A$2:A$65496,Inscriptions!D$2:D$65498))","v":""},null,null,null,0,0,0,"",""]
[230,null,{"$f":"IF(ISBLANK($B234),\"\",LOOKUP($B234,Inscriptions!A$2:A$65496,Inscriptions!B$2:B$65498))","v":""},{"$f":"IF(ISBLANK($B234),\"\",LOOKUP($B234,Inscriptions!A$2:A$65496,Inscriptions!C$2:C$65498))","v":""},{"$f":"IF(ISBLANK($B234),\"\",LOOKUP($B234,Inscriptions!A$2:A$65496,Inscriptions!D$2:D$65498))","v":""},null,null,null,0,0,0,"",""]
[231,null,{"$f":"IF(ISBLANK($B235),\"\",LOOKUP($B235,Inscriptions!A$2:A$65496,Inscriptions!B$2:B$65498))","v":""},{"$f":"IF(ISBLANK($B235),\"\",LOOKUP($B235,Inscriptions!A$2:A$65496,Inscriptions!C$2:C$65498))","v":""},{"$f":"IF(ISBLANK($B235),\"\",LOOKUP($B235,Inscriptions!A$2:A$65496,Inscriptions!D$2:D$65498))","v":""},null,null,null,0,0,0,"",""]
[232,null,{"$f":"IF(ISBLANK($B236),\"\",LOOKUP($B236,Inscriptions!A$2:A$65496,Inscriptions!B$2:B$65498))","v":""},{"$f":"IF(ISBLANK($B236),\"\",LOOKUP($B236,Inscriptions!A$2:A$65496,Inscriptions!C$2:C$65498))","v":""},{"$f":"IF(ISBLANK($B236),\"\",LOOKUP($B236,Inscriptions!A$2:A$65496,Inscriptions!D$2:D$65498))","v":""},null,null,null,0,0,0,"",""]
[233,null,{"$f":"IF(ISBLANK($B237),\"\",LOOKUP($B237,Inscriptions!A$2:A$65496,Inscriptions!B$2:B$65498))","v":""},{"$f":"IF(ISBLANK($B237),\"\",LOOKUP($B237,Inscriptions!A$2:A$65496,Inscriptions!C$2:C$65498))","v":""},{"$f":"IF(ISBLANK($B237),\"\",LOOKUP($B237,Inscriptions!A$2:A$65496,Inscriptions!D$2:D$65498))","v":""},null,null,null,0,0,0,"",""]
[234,null,{"$f":"IF(ISBLANK($B238),\"\",LOOKUP($B238,Inscriptions!A$2:A$65496,Inscriptions!B$2:B$65498))","v":""},{"$f":"IF(ISBLANK($B238),\"\",LOOKUP($B238,Inscriptions!A$2:A$65496,Inscriptions!C$2:C$65498))","v":""},{"$f":"IF(ISBLANK($B238),\"\",LOOKUP($B238,Inscriptions!A$2:A$65496,Inscriptions!D$2:D$65498))","v":""},null,null,null,0,0,0,"",""]
[235,null,{"$f":"IF(ISBLANK($B239),\"\",LOOKUP($B239,Inscriptions!A$2:A$65496,Inscriptions!B$2:B$65498))","v":""},{"$f":"IF(ISBLANK($B239),\"\",LOOKUP($B239,Inscriptions!A$2:A$65496,Inscriptions!C$2:C$65498))","v":""},{"$f":"IF(ISBLANK($B239),\"\",LOOKUP($B239,Inscriptions!A$2:A$65496,Inscriptions!D$2:D$65498))","v":""},null,null,null,0,0,0,"",""]
[236,null,{"$f":"IF(ISBLANK($B240),\"\",LOOKUP($B240,Inscriptions!A$2:A$65496,Inscriptions!B$2:B$65498))","v":""},{"$f":"IF(ISBLANK($B240),\"\",LOOKUP($B240,Inscriptions!A$2:A$65496,Inscriptions!C$2:C$65498))","v":""},{"$f":"IF(ISBLANK($B240),\"\",LOOKUP($B240,Inscriptions!A$2:A$65496,Inscriptions!D$2:D$65498))","v":""},null,null,null,0,0,0,"",""]
[237,null,{"$f":"IF(ISBLANK($B241),\"\",LOOKUP($B241,Inscriptions!A$2:A$65496,Inscriptions!B$2:B$65498))","v":""},{"$f":"IF(ISBLANK($B241),\"\",LOOKUP($B241,Inscriptions!A$2:A$65496,Inscriptions!C$2:C$65498))","v":""},{"$f":"IF(ISBLANK($B241),\"\",LOOKUP($B241,Inscriptions!A$2:A$65496,Inscriptions!D$2:D$65498))","v":""},null,null,null,0,0,0,"",""]
[238,null,{"$f":"IF(ISBLANK($B242),\"\",LOOKUP($B242,Inscriptions!A$2:A$65496,Inscriptions!B$2:B$65498))","v":""},{"$f":"IF(ISBLANK($B242),\"\",LOOKUP($B242,Inscriptions!A$2:A$65496,Inscriptions!C$2:C$65498))","v":""},{"$f":"IF(ISBLANK($B242),\"\",LOOKUP($B242,Inscriptions!A$2:A$65496,Inscriptions!D$2:D$65498))","v":""},null,null,null,0,0,0,"",""]
[239,null,{"$f":"IF(ISBLANK($B243),\"\",LOOKUP($B243,Inscriptions!A$2:A$65496,Inscriptions!B$2:B$65498))","v":""},{"$f":"IF(ISBLANK($B243),\"\",LOOKUP($B243,Inscriptions!A$2:A$65496,Inscriptions!C$2:C$65498))","v":""},{"$f":"IF(ISBLANK($B243),\"\",LOOKUP($B243,Inscriptions!A$2:A$65496,Inscriptions!D$2:D$65498))","v":""},null,null,null,0,0,0,"",""]
[240,null,{"$f":"IF(ISBLANK($B244),\"\",LOOKUP($B244,Inscriptions!A$2:A$65496,Inscriptions!B$2:B$65498))","v":""},{"$f":"IF(ISBLANK($B244),\"\",LOOKUP($B244,Inscriptions!A$2:A$65496,Inscriptions!C$2:C$65498))","v":""},{"$f":"IF(ISBLANK($B244),\"\",LOOKUP($B244,Inscriptions!A$2:A$65496,Inscriptions!D$2:D$65498))","v":""},null,null,null,0,0,0,"",""]
[241,null,{"$f":"IF(ISBLANK($B245),\"\",LOOKUP($B245,Inscriptions!A$2:A$65496,Inscriptions!B$2:B$65498))","v":""},{"$f":"IF(ISBLANK($B245),\"\",LOOKUP($B245,Inscriptions!A$2:A$65496,Inscriptions!C$2:C$65498))","v":""},{"$f":"IF(ISBLANK($B245),\"\",LOOKUP($B245,Inscriptions!A$2:A$65496,Inscriptions!D$2:D$65498))","v":""},null,null,null,0,0,0,"",""]
[242,null,{"$f":"IF(ISBLANK($B246),\"\",LOOKUP($B246,Inscriptions!A$2:A$65496,Inscriptions!B$2:B$65498))","v":""},{"$f":"IF(ISBLANK($B246),\"\",LOOKUP($B246,Inscriptions!A$2:A$65496,Inscriptions!C$2:C$65498))","v":""},{"$f":"IF(ISBLANK($B246),\"\",LOOKUP($B246,Inscriptions!A$2:A$65496,Inscriptions!D$2:D$65498))","v":""},null,null,null,0,0,0,"",""]
[243,null,{"$f":"IF(ISBLANK($B247),\"\",LOOKUP($B247,Inscriptions!A$2:A$65496,Inscriptions!B$2:B$65498))","v":""},{"$f":"IF(ISBLANK($B247),\"\",LOOKUP($B247,Inscriptions!A$2:A$65496,Inscriptions!C$2:C$65498))","v":""},{"$f":"IF(ISBLANK($B247),\"\",LOOKUP($B247,Inscriptions!A$2:A$65496,Inscriptions!D$2:D$65498))","v":""},null,null,null,0,0,0,"",""]
[244,null,{"$f":"IF(ISBLANK($B248),\"\",LOOKUP($B248,Inscriptions!A$2:A$65496,Inscriptions!B$2:B$65498))","v":""},{"$f":"IF(ISBLANK($B248),\"\",LOOKUP($B248,Inscriptions!A$2:A$65496,Inscriptions!C$2:C$65498))","v":""},{"$f":"IF(ISBLANK($B248),\"\",LOOKUP($B248,Inscriptions!A$2:A$65496,Inscriptions!D$2:D$65498))","v":""},null,null,null,0,0,0,"",""]
[245,null,{"$f":"IF(ISBLANK($B249),\"\",LOOKUP($B249,Inscriptions!A$2:A$65496,Inscriptions!B$2:B$65498))","v":""},{"$f":"IF(ISBLANK($B249),\"\",LOOKUP($B249,Inscriptions!A$2:A$65496,Inscriptions!C$2:C$65498))","v":""},{"$f":"IF(ISBLANK($B249),\"\",LOOKUP($B249,Inscriptions!A$2:A$65496,Inscriptions!D$2:D$65498))","v":""},null,null,null,0,0,0,"",""]
[246,null,{"$f":"IF(ISBLANK($B250),\"\",LOOKUP($B250,Inscriptions!A$2:A$65496,Inscriptions!B$2:B$65498))","v":""},{"$f":"IF(ISBLANK($B250),\"\",LOOKUP($B250,Inscriptions!A$2:A$65496,Inscriptions!C$2:C$65498))","v":""},{"$f":"IF(ISBLANK($B250),\"\",LOOKUP($B250,Inscriptions!A$2:A$65496,Inscriptions!D$2:D$65498))","v":""},null,null,null,0,0,0,"",""]
[247,null,{"$f":"IF(ISBLANK($B251),\"\",LOOKUP($B251,Inscriptions!A$2:A$65496,Inscriptions!B$2:B$65498))","v":""},{"$f":"IF(ISBLANK($B251),\"\",LOOKUP($B251,Inscriptions!A$2:A$65496,Inscriptions!C$2:C$65498))","v":""},{"$f":"IF(ISBLANK($B251),\"\",LOOKUP($B251,Inscriptions!A$2:A$65496,Inscriptions!D$2:D$65498))","v":""},null,null,null,0,0,0,"",""]
[248,null,{"$f":"IF(ISBLANK($B252),\"\",LOOKUP($B252,Inscriptions!A$2:A$65496,Inscriptions!B$2:B$65498))","v":""},{"$f":"IF(ISBLANK($B252),\"\",LOOKUP($B252,Inscriptions!A$2:A$65496,Inscriptions!C$2:C$65498))","v":""},{"$f":"IF(ISBLANK($B252),\"\",LOOKUP($B252,Inscriptions!A$2:A$65496,Inscriptions!D$2:D$65498))","v":""},null,null,null,0,0,0,"",""]
[249,null,{"$f":"IF(ISBLANK($B253),\"\",LOOKUP($B253,Inscriptions!A$2:A$65496,Inscriptions!B$2:B$65498))","v":""},{"$f":"IF(ISBLANK($B253),\"\",LOOKUP($B253,Inscriptions!A$2:A$65496,Inscriptions!C$2:C$65498))","v":""},{"$f":"IF(ISBLANK($B253),\"\",LOOKUP($B253,Inscriptions!A$2:A$65496,Inscriptions!D$2:D$65498))","v":""},null,null,null,0,0,0,"",""]
[250,null,{"$f":"IF(ISBLANK($B254),\"\",LOOKUP($B254,Inscriptions!A$2:A$65496,Inscriptions!B$2:B$65498))","v":""},{"$f":"IF(ISBLANK($B254),\"\",LOOKUP($B254,Inscriptions!A$2:A$65496,Inscriptions!C$2:C$65498))","v":""},{"$f":"IF(ISBLANK($B254),\"\",LOOKUP($B254,Inscriptions!A$2:A$65496,Inscriptions!D$2:D$65498))","v":""},null,null,null,0,0,0,"",""]
[251,null,{"$f":"IF(ISBLANK($B255),\"\",LOOKUP($B255,Inscriptions!A$2:A$65496,Inscriptions!B$2:B$65498))","v":""},{"$f":"IF(ISBLANK($B255),\"\",LOOKUP($B255,Inscriptions!A$2:A$65496,Inscriptions!C$2:C$65498))","v":""},{"$f":"IF(ISBLANK($B255),\"\",LOOKUP($B255,Inscriptions!A$2:A$65496,Inscriptions!D$2:D$65498))","v":""},null,null,null,0,0,0,"",""]
[252,null,{"$f":"IF(ISBLANK($B256),\"\",LOOKUP($B256,Inscriptions!A$2:A$65496,Inscriptions!B$2:B$65498))","v":""},{"$f":"IF(ISBLANK($B256),\"\",LOOKUP($B256,Inscriptions!A$2:A$65496,Inscriptions!C$2:C$65498))","v":""},{"$f":"IF(ISBLANK($B256),\"\",LOOKUP($B256,Inscriptions!A$2:A$65496,Inscriptions!D$2:D$65498))","v":""},null,null,null,0,0,0,"",""]
[253,null,{"$f":"IF(ISBLANK($B257),\"\",LOOKUP($B257,Inscriptions!A$2:A$65496,Inscriptions!B$2:B$65498))","v":""},{"$f":"IF(ISBLANK($B257),\"\",LOOKUP($B257,Inscriptions!A$2:A$65496,Inscriptions!C$2:C$65498))","v":""},{"$f":"IF(ISBLANK($B257),\"\",LOOKUP($B257,Inscriptions!A$2:A$65496,Inscriptions!D$2:D$65498))","v":""},null,null,null,0,0,0,"",""]
[254,null,{"$f":"IF(ISBLANK($B258),\"\",LOOKUP($B258,Inscriptions!A$2:A$65496,Inscriptions!B$2:B$65498))","v":""},{"$f":"IF(ISBLANK($B258),\"\",LOOKUP($B258,Inscriptions!A$2:A$65496,Inscriptions!C$2:C$65498))","v":""},{"$f":"IF(ISBLANK($B258),\"\",LOOKUP($B258,Inscriptions!A$2:A$65496,Inscriptions!D$2:D$65498))","v":""},null,null,null,0,0,0,"",""]
[255,null,{"$f":"IF(ISBLANK($B259),\"\",LOOKUP($B259,Inscriptions!A$2:A$65496,Inscriptions!B$2:B$65498))","v":""},{"$f":"IF(ISBLANK($B259),\"\",LOOKUP($B259,Inscriptions!A$2:A$65496,Inscriptions!C$2:C$65498))","v":""},{"$f":"IF(ISBLANK($B259),\"\",LOOKUP($B259,Inscriptions!A$2:A$65496,Inscriptions!D$2:D$65498))","v":""},null,null,null,0,0,0,"",""]
[256,null,{"$f":"IF(ISBLANK($B260),\"\",LOOKUP($B260,Inscriptions!A$2:A$65496,Inscriptions!B$2:B$65498))","v":""},{"$f":"IF(ISBLANK($B260),\"\",LOOKUP($B260,Inscriptions!A$2:A$65496,Inscriptions!C$2:C$65498))","v":""},{"$f":"IF(ISBLANK($B260),\"\",LOOKUP($B260,Inscriptions!A$2:A$65496,Inscriptions!D$2:D$65498))","v":""},null,null,null,0,0,0,"",""]
[257,null,{"$f":"IF(ISBLANK($B261),\"\",LOOKUP($B261,Inscriptions!A$2:A$65496,Inscriptions!B$2:B$65498))","v":""},{"$f":"IF(ISBLANK($B261),\"\",LOOKUP($B261,Inscriptions!A$2:A$65496,Inscriptions!C$2:C$65498))","v":""},{"$f":"IF(ISBLANK($B261),\"\",LOOKUP($B261,Inscriptions!A$2:A$65496,Inscriptions!D$2:D$65498))","v":""},null,null,null,{"$f":"ROUNDDOWN(H261/10000,0)","v":0},{"$f":"ROUNDDOWN((H261-I261*10000)/100,0)","v":0},{"$f":"ROUNDDOWN((H261-(I261*10000)-(J261*100)),0)","v":0},{"$f":"IF((I261+J261+K261)=0,\"\",ROUNDDOWN((L$4/((I261*3600)+(J261*60)+K261))*3.6,2))","v":""},{"$f":"IF(L261=\"\",\"\",\"km/h\")","v":""}]
[258,null,{"$f":"IF(ISBLANK($B262),\"\",LOOKUP($B262,Inscriptions!A$2:A$65496,Inscriptions!B$2:B$65498))","v":""},{"$f":"IF(ISBLANK($B262),\"\",LOOKUP($B262,Inscriptions!A$2:A$65496,Inscriptions!C$2:C$65498))","v":""},{"$f":"IF(ISBLANK($B262),\"\",LOOKUP($B262,Inscriptions!A$2:A$65496,Inscriptions!D$2:D$65498))","v":""},null,null,null,0,0,0,"",""]
[259,null,{"$f":"IF(ISBLANK($B263),\"\",LOOKUP($B263,Inscriptions!A$2:A$65496,Inscriptions!B$2:B$65498))","v":""},{"$f":"IF(ISBLANK($B263),\"\",LOOKUP($B263,Inscriptions!A$2:A$65496,Inscriptions!C$2:C$65498))","v":""},{"$f":"IF(ISBLANK($B263),\"\",LOOKUP($B263,Inscriptions!A$2:A$65496,Inscriptions!D$2:D$65498))","v":""},null,null,null,0,0,0,"",""]
[260,null,{"$f":"IF(ISBLANK($B264),\"\",LOOKUP($B264,Inscriptions!A$2:A$65496,Inscriptions!B$2:B$65498))","v":""},{"$f":"IF(ISBLANK($B264),\"\",LOOKUP($B264,Inscriptions!A$2:A$65496,Inscriptions!C$2:C$65498))","v":""},{"$f":"IF(ISBLANK($B264),\"\",LOOKUP($B264,Inscriptions!A$2:A$65496,Inscriptions!D$2:D$65498))","v":""},null,null,null,0,0,0,"",""]
[261,null,{"$f":"IF(ISBLANK($B265),\"\",LOOKUP($B265,Inscriptions!A$2:A$65496,Inscriptions!B$2:B$65498))","v":""},{"$f":"IF(ISBLANK($B265),\"\",LOOKUP($B265,Inscriptions!A$2:A$65496,Inscriptions!C$2:C$65498))","v":""},{"$f":"IF(ISBLANK($B265),\"\",LOOKUP($B265,Inscriptions!A$2:A$65496,Inscriptions!D$2:D$65498))","v":""},null,null,null,0,0,0,"",""]
[262,null,{"$f":"IF(ISBLANK($B266),\"\",LOOKUP($B266,Inscriptions!A$2:A$65496,Inscriptions!B$2:B$65498))","v":""},{"$f":"IF(ISBLANK($B266),\"\",LOOKUP($B266,Inscriptions!A$2:A$65496,Inscriptions!C$2:C$65498))","v":""},{"$f":"IF(ISBLANK($B266),\"\",LOOKUP($B266,Inscriptions!A$2:A$65496,Inscriptions!D$2:D$65498))","v":""},null,null,null,0,0,0,"",""]
[263,null,{"$f":"IF(ISBLANK($B267),\"\",LOOKUP($B267,Inscriptions!A$2:A$65496,Inscriptions!B$2:B$65498))","v":""},{"$f":"IF(ISBLANK($B267),\"\",LOOKUP($B267,Inscriptions!A$2:A$65496,Inscriptions!C$2:C$65498))","v":""},{"$f":"IF(ISBLANK($B267),\"\",LOOKUP($B267,Inscriptions!A$2:A$65496,Inscriptions!D$2:D$65498))","v":""},null,null,null,0,0,0,"",""]
[264,null,{"$f":"IF(ISBLANK($B268),\"\",LOOKUP($B268,Inscriptions!A$2:A$65496,Inscriptions!B$2:B$65498))","v":""},{"$f":"IF(ISBLANK($B268),\"\",LOOKUP($B268,Inscriptions!A$2:A$65496,Inscriptions!C$2:C$65498))","v":""},{"$f":"IF(ISBLANK($B268),\"\",LOOKUP($B268,Inscriptions!A$2:A$65496,Inscriptions!D$2:D$65498))","v":""},null,null,null,0,0,0,"",""]
[265,null,{"$f":"IF(ISBLANK($B269),\"\",LOOKUP($B269,Inscriptions!A$2:A$65496,Inscriptions!B$2:B$65498))","v":""},{"$f":"IF(ISBLANK($B269),\"\",LOOKUP($B269,Inscriptions!A$2:A$65496,Inscriptions!C$2:C$65498))","v":""},{"$f":"IF(ISBLANK($B269),\"\",LOOKUP($B269,Inscriptions!A$2:A$65496,Inscriptions!D$2:D$65498))","v":""},null,null,null,0,0,0,"",""]
[266,null,{"$f":"IF(ISBLANK($B270),\"\",LOOKUP($B270,Inscriptions!A$2:A$65496,Inscriptions!B$2:B$65498))","v":""},{"$f":"IF(ISBLANK($B270),\"\",LOOKUP($B270,Inscriptions!A$2:A$65496,Inscriptions!C$2:C$65498))","v":""},{"$f":"IF(ISBLANK($B270),\"\",LOOKUP($B270,Inscriptions!A$2:A$65496,Inscriptions!D$2:D$65498))","v":""},null,null,null,0,0,0,"",""]
[267,null,{"$f":"IF(ISBLANK($B271),\"\",LOOKUP($B271,Inscriptions!A$2:A$65496,Inscriptions!B$2:B$65498))","v":""},{"$f":"IF(ISBLANK($B271),\"\",LOOKUP($B271,Inscriptions!A$2:A$65496,Inscriptions!C$2:C$65498))","v":""},{"$f":"IF(ISBLANK($B271),\"\",LOOKUP($B271,Inscriptions!A$2:A$65496,Inscriptions!D$2:D$65498))","v":""},null,null,null,0,0,0,"",""]
[268,null,{"$f":"IF(ISBLANK($B272),\"\",LOOKUP($B272,Inscriptions!A$2:A$65496,Inscriptions!B$2:B$65498))","v":""},{"$f":"IF(ISBLANK($B272),\"\",LOOKUP($B272,Inscriptions!A$2:A$65496,Inscriptions!C$2:C$65498))","v":""},{"$f":"IF(ISBLANK($B272),\"\",LOOKUP($B272,Inscriptions!A$2:A$65496,Inscriptions!D$2:D$65498))","v":""},null,null,null,0,0,0,"",""]
[269,null,{"$f":"IF(ISBLANK($B273),\"\",LOOKUP($B273,Inscriptions!A$2:A$65496,Inscriptions!B$2:B$65498))","v":""},{"$f":"IF(ISBLANK($B273),\"\",LOOKUP($B273,Inscriptions!A$2:A$65496,Inscriptions!C$2:C$65498))","v":""},{"$f":"IF(ISBLANK($B273),\"\",LOOKUP($B273,Inscriptions!A$2:A$65496,Inscriptions!D$2:D$65498))","v":""},null,null,null,0,0,0,"",""]
[270,null,{"$f":"IF(ISBLANK($B274),\"\",LOOKUP($B274,Inscriptions!A$2:A$65496,Inscriptions!B$2:B$65498))","v":""},{"$f":"IF(ISBLANK($B274),\"\",LOOKUP($B274,Inscriptions!A$2:A$65496,Inscriptions!C$2:C$65498))","v":""},{"$f":"IF(ISBLANK($B274),\"\",LOOKUP($B274,Inscriptions!A$2:A$65496,Inscriptions!D$2:D$65498))","v":""},null,null,null,0,0,0,"",""]
[271,null,{"$f":"IF(ISBLANK($B275),\"\",LOOKUP($B275,Inscriptions!A$2:A$65496,Inscriptions!B$2:B$65498))","v":""},{"$f":"IF(ISBLANK($B275),\"\",LOOKUP($B275,Inscriptions!A$2:A$65496,Inscriptions!C$2:C$65498))","v":""},{"$f":"IF(ISBLANK($B275),\"\",LOOKUP($B275,Inscriptions!A$2:A$65496,Inscriptions!D$2:D$65498))","v":""},null,null,null,0,0,0,"",""]
[272,null,{"$f":"IF(ISBLANK($B276),\"\",LOOKUP($B276,Inscriptions!A$2:A$65496,Inscriptions!B$2:B$65498))","v":""},{"$f":"IF(ISBLANK($B276),\"\",LOOKUP($B276,Inscriptions!A$2:A$65496,Inscriptions!C$2:C$65498))","v":""},{"$f":"IF(ISBLANK($B276),\"\",LOOKUP($B276,Inscriptions!A$2:A$65496,Inscriptions!D$2:D$65498))","v":""},null,null,null,0,0,0,"",""]
[273,null,{"$f":"IF(ISBLANK($B277),\"\",LOOKUP($B277,Inscriptions!A$2:A$65496,Inscriptions!B$2:B$65498))","v":""},{"$f":"IF(ISBLANK($B277),\"\",LOOKUP($B277,Inscriptions!A$2:A$65496,Inscriptions!C$2:C$65498))","v":""},{"$f":"IF(ISBLANK($B277),\"\",LOOKUP($B277,Inscriptions!A$2:A$65496,Inscriptions!D$2:D$65498))","v":""},null,null,null,0,0,0,"",""]
[274,null,{"$f":"IF(ISBLANK($B278),\"\",LOOKUP($B278,Inscriptions!A$2:A$65496,Inscriptions!B$2:B$65498))","v":""},{"$f":"IF(ISBLANK($B278),\"\",LOOKUP($B278,Inscriptions!A$2:A$65496,Inscriptions!C$2:C$65498))","v":""},{"$f":"IF(ISBLANK($B278),\"\",LOOKUP($B278,Inscriptions!A$2:A$65496,Inscriptions!D$2:D$65498))","v":""},null,null,null,0,0,0,"",""]
[275,null,{"$f":"IF(ISBLANK($B279),\"\",LOOKUP($B279,Inscriptions!A$2:A$65496,Inscriptions!B$2:B$65498))","v":""},{"$f":"IF(ISBLANK($B279),\"\",LOOKUP($B279,Inscriptions!A$2:A$65496,Inscriptions!C$2:C$65498))","v":""},{"$f":"IF(ISBLANK($B279),\"\",LOOKUP($B279,Inscriptions!A$2:A$65496,Inscriptions!D$2:D$65498))","v":""},null,null,null,0,0,0,"",""]
[276,null,{"$f":"IF(ISBLANK($B280),\"\",LOOKUP($B280,Inscriptions!A$2:A$65496,Inscriptions!B$2:B$65498))","v":""},{"$f":"IF(ISBLANK($B280),\"\",LOOKUP($B280,Inscriptions!A$2:A$65496,Inscriptions!C$2:C$65498))","v":""},{"$f":"IF(ISBLANK($B280),\"\",LOOKUP($B280,Inscriptions!A$2:A$65496,Inscriptions!D$2:D$65498))","v":""},null,null,null,0,0,0,"",""]
[277,null,{"$f":"IF(ISBLANK($B281),\"\",LOOKUP($B281,Inscriptions!A$2:A$65496,Inscriptions!B$2:B$65498))","v":""},{"$f":"IF(ISBLANK($B281),\"\",LOOKUP($B281,Inscriptions!A$2:A$65496,Inscriptions!C$2:C$65498))","v":""},{"$f":"IF(ISBLANK($B281),\"\",LOOKUP($B281,Inscriptions!A$2:A$65496,Inscriptions!D$2:D$65498))","v":""},null,null,null,0,0,0,"",""]
[278,null,{"$f":"IF(ISBLANK($B282),\"\",LOOKUP($B282,Inscriptions!A$2:A$65496,Inscriptions!B$2:B$65498))","v":""},{"$f":"IF(ISBLANK($B282),\"\",LOOKUP($B282,Inscriptions!A$2:A$65496,Inscriptions!C$2:C$65498))","v":""},{"$f":"IF(ISBLANK($B282),\"\",LOOKUP($B282,Inscriptions!A$2:A$65496,Inscriptions!D$2:D$65498))","v":""},null,null,null,0,0,0,"",""]
[279,null,{"$f":"IF(ISBLANK($B283),\"\",LOOKUP($B283,Inscriptions!A$2:A$65496,Inscriptions!B$2:B$65498))","v":""},{"$f":"IF(ISBLANK($B283),\"\",LOOKUP($B283,Inscriptions!A$2:A$65496,Inscriptions!C$2:C$65498))","v":""},{"$f":"IF(ISBLANK($B283),\"\",LOOKUP($B283,Inscriptions!A$2:A$65496,Inscriptions!D$2:D$65498))","v":""},null,null,null,0,0,0,"",""]
[280,null,{"$f":"IF(ISBLANK($B284),\"\",LOOKUP($B284,Inscriptions!A$2:A$65496,Inscriptions!B$2:B$65498))","v":""},{"$f":"IF(ISBLANK($B284),\"\",LOOKUP($B284,Inscriptions!A$2:A$65496,Inscriptions!C$2:C$65498))","v":""},{"$f":"IF(ISBLANK($B284),\"\",LOOKUP($B284,Inscriptions!A$2:A$65496,Inscriptions!D$2:D$65498))","v":""},null,null,null,0,0,0,"",""]
[281,null,{"$f":"IF(ISBLANK($B285),\"\",LOOKUP($B285,Inscriptions!A$2:A$65496,Inscriptions!B$2:B$65498))","v":""},{"$f":"IF(ISBLANK($B285),\"\",LOOKUP($B285,Inscriptions!A$2:A$65496,Inscriptions!C$2:C$65498))","v":""},{"$f":"IF(ISBLANK($B285),\"\",LOOKUP($B285,Inscriptions!A$2:A$65496,Inscriptions!D$2:D$65498))","v":""},null,null,null,0,0,0,"",""]
[282,null,{"$f":"IF(ISBLANK($B286),\"\",LOOKUP($B286,Inscriptions!A$2:A$65496,Inscriptions!B$2:B$65498))","v":""},{"$f":"IF(ISBLANK($B286),\"\",LOOKUP($B286,Inscriptions!A$2:A$65496,Inscriptions!C$2:C$65498))","v":""},{"$f":"IF(ISBLANK($B286),\"\",LOOKUP($B286,Inscriptions!A$2:A$65496,Inscriptions!D$2:D$65498))","v":""},null,null,null,0,0,0,"",""]
[283,null,{"$f":"IF(ISBLANK($B287),\"\",LOOKUP($B287,Inscriptions!A$2:A$65496,Inscriptions!B$2:B$65498))","v":""},{"$f":"IF(ISBLANK($B287),\"\",LOOKUP($B287,Inscriptions!A$2:A$65496,Inscriptions!C$2:C$65498))","v":""},{"$f":"IF(ISBLANK($B287),\"\",LOOKUP($B287,Inscriptions!A$2:A$65496,Inscriptions!D$2:D$65498))","v":""},null,null,null,0,0,0,"",""]
[284,null,{"$f":"IF(ISBLANK($B288),\"\",LOOKUP($B288,Inscriptions!A$2:A$65496,Inscriptions!B$2:B$65498))","v":""},{"$f":"IF(ISBLANK($B288),\"\",LOOKUP($B288,Inscriptions!A$2:A$65496,Inscriptions!C$2:C$65498))","v":""},{"$f":"IF(ISBLANK($B288),\"\",LOOKUP($B288,Inscriptions!A$2:A$65496,Inscriptions!D$2:D$65498))","v":""},null,null,null,0,0,0,"",""]
[285,null,{"$f":"IF(ISBLANK($B289),\"\",LOOKUP($B289,Inscriptions!A$2:A$65496,Inscriptions!B$2:B$65498))","v":""},{"$f":"IF(ISBLANK($B289),\"\",LOOKUP($B289,Inscriptions!A$2:A$65496,Inscriptions!C$2:C$65498))","v":""},{"$f":"IF(ISBLANK($B289),\"\",LOOKUP($B289,Inscriptions!A$2:A$65496,Inscriptions!D$2:D$65498))","v":""},null,null,null,0,0,0,"",""]
[286,null,{"$f":"IF(ISBLANK($B290),\"\",LOOKUP($B290,Inscriptions!A$2:A$65496,Inscriptions!B$2:B$65498))","v":""},{"$f":"IF(ISBLANK($B290),\"\",LOOKUP($B290,Inscriptions!A$2:A$65496,Inscriptions!C$2:C$65498))","v":""},{"$f":"IF(ISBLANK($B290),\"\",LOOKUP($B290,Inscriptions!A$2:A$65496,Inscriptions!D$2:D$65498))","v":""},null,null,null,0,0,0,"",""]
[287,null,{"$f":"IF(ISBLANK($B291),\"\",LOOKUP($B291,Inscriptions!A$2:A$65496,Inscriptions!B$2:B$65498))","v":""},{"$f":"IF(ISBLANK($B291),\"\",LOOKUP($B291,Inscriptions!A$2:A$65496,Inscriptions!C$2:C$65498))","v":""},{"$f":"IF(ISBLANK($B291),\"\",LOOKUP($B291,Inscriptions!A$2:A$65496,Inscriptions!D$2:D$65498))","v":""},null,null,null,0,0,0,"",""]
[288,null,{"$f":"IF(ISBLANK($B292),\"\",LOOKUP($B292,Inscriptions!A$2:A$65496,Inscriptions!B$2:B$65498))","v":""},{"$f":"IF(ISBLANK($B292),\"\",LOOKUP($B292,Inscriptions!A$2:A$65496,Inscriptions!C$2:C$65498))","v":""},{"$f":"IF(ISBLANK($B292),\"\",LOOKUP($B292,Inscriptions!A$2:A$65496,Inscriptions!D$2:D$65498))","v":""},null,null,null,0,0,0,"",""]
[289,null,{"$f":"IF(ISBLANK($B293),\"\",LOOKUP($B293,Inscriptions!A$2:A$65496,Inscriptions!B$2:B$65498))","v":""},{"$f":"IF(ISBLANK($B293),\"\",LOOKUP($B293,Inscriptions!A$2:A$65496,Inscriptions!C$2:C$65498))","v":""},{"$f":"IF(ISBLANK($B293),\"\",LOOKUP($B293,Inscriptions!A$2:A$65496,Inscriptions!D$2:D$65498))","v":""},null,null,null,0,0,0,"",""]
[290,null,{"$f":"IF(ISBLANK($B294),\"\",LOOKUP($B294,Inscriptions!A$2:A$65496,Inscriptions!B$2:B$65498))","v":""},{"$f":"IF(ISBLANK($B294),\"\",LOOKUP($B294,Inscriptions!A$2:A$65496,Inscriptions!C$2:C$65498))","v":""},{"$f":"IF(ISBLANK($B294),\"\",LOOKUP($B294,Inscriptions!A$2:A$65496,Inscriptions!D$2:D$65498))","v":""},null,null,null,0,0,0,"",""]
[291,null,{"$f":"IF(ISBLANK($B295),\"\",LOOKUP($B295,Inscriptions!A$2:A$65496,Inscriptions!B$2:B$65498))","v":""},{"$f":"IF(ISBLANK($B295),\"\",LOOKUP($B295,Inscriptions!A$2:A$65496,Inscriptions!C$2:C$65498))","v":""},{"$f":"IF(ISBLANK($B295),\"\",LOOKUP($B295,Inscriptions!A$2:A$65496,Inscriptions!D$2:D$65498))","v":""},null,null,null,0,0,0,"",""]
[292,null,{"$f":"IF(ISBLANK($B296),\"\",LOOKUP($B296,Inscriptions!A$2:A$65496,Inscriptions!B$2:B$65498))","v":""},{"$f":"IF(ISBLANK($B296),\"\",LOOKUP($B296,Inscriptions!A$2:A$65496,Inscriptions!C$2:C$65498))","v":""},{"$f":"IF(ISBLANK($B296),\"\",LOOKUP($B296,Inscriptions!A$2:A$65496,Inscriptions!D$2:D$65498))","v":""},null,null,null,0,0,0,"",""]
[293,null,{"$f":"IF(ISBLANK($B297),\"\",LOOKUP($B297,Inscriptions!A$2:A$65496,Inscriptions!B$2:B$65498))","v":""},{"$f":"IF(ISBLANK($B297),\"\",LOOKUP($B297,Inscriptions!A$2:A$65496,Inscriptions!C$2:C$65498))","v":""},{"$f":"IF(ISBLANK($B297),\"\",LOOKUP($B297,Inscriptions!A$2:A$65496,Inscriptions!D$2:D$65498))","v":""},null,null,null,0,0,0,"",""]
[294,null,{"$f":"IF(ISBLANK($B298),\"\",LOOKUP($B298,Inscriptions!A$2:A$65496,Inscriptions!B$2:B$65498))","v":""},{"$f":"IF(ISBLANK($B298),\"\",LOOKUP($B298,Inscriptions!A$2:A$65496,Inscriptions!C$2:C$65498))","v":""},{"$f":"IF(ISBLANK($B298),\"\",LOOKUP($B298,Inscriptions!A$2:A$65496,Inscriptions!D$2:D$65498))","v":""},null,null,null,0,0,0,"",""]
[295,null,{"$f":"IF(ISBLANK($B299),\"\",LOOKUP($B299,Inscriptions!A$2:A$65496,Inscriptions!B$2:B$65498))","v":""},{"$f":"IF(ISBLANK($B299),\"\",LOOKUP($B299,Inscriptions!A$2:A$65496,Inscriptions!C$2:C$65498))","v":""},{"$f":"IF(ISBLANK($B299),\"\",LOOKUP($B299,Inscriptions!A$2:A$65496,Inscriptions!D$2:D$65498))","v":""},null,null,null,0,0,0,"",""]
[296,null,{"$f":"IF(ISBLANK($B300),\"\",LOOKUP($B300,Inscriptions!A$2:A$65496,Inscriptions!B$2:B$65498))","v":""},{"$f":"IF(ISBLANK($B300),\"\",LOOKUP($B300,Inscriptions!A$2:A$65496,Inscriptions!C$2:C$65498))","v":""},{"$f":"IF(ISBLANK($B300),\"\",LOOKUP($B300,Inscriptions!A$2:A$65496,Inscriptions!D$2:D$65498))","v":""},null,null,null,0,0,0,"",""]
[297,null,{"$f":"IF(ISBLANK($B301),\"\",LOOKUP($B301,Inscriptions!A$2:A$65496,Inscriptions!B$2:B$65498))","v":""},{"$f":"IF(ISBLANK($B301),\"\",LOOKUP($B301,Inscriptions!A$2:A$65496,Inscriptions!C$2:C$65498))","v":""},{"$f":"IF(ISBLANK($B301),\"\",LOOKUP($B301,Inscriptions!A$2:A$65496,Inscriptions!D$2:D$65498))","v":""},null,null,null,0,{"$f":"ROUNDDOWN((H301-I301*10000)/100,0)","v":0},{"$f":"ROUNDDOWN((H301-(I301*10000)-(J301*100)),0)","v":0},{"$f":"IF((I301+J301+K301)=0,\"\",ROUNDDOWN((L$4/((I301*3600)+(J301*60)+K301))*3.6,2))","v":""},""]
[298,null,{"$f":"IF(ISBLANK($B302),\"\",LOOKUP($B302,Inscriptions!A$2:A$65496,Inscriptions!B$2:B$65498))","v":""},{"$f":"IF(ISBLANK($B302),\"\",LOOKUP($B302,Inscriptions!A$2:A$65496,Inscriptions!C$2:C$65498))","v":""},{"$f":"IF(ISBLANK($B302),\"\",LOOKUP($B302,Inscriptions!A$2:A$65496,Inscriptions!D$2:D$65498))","v":""},null,null,null,0,0,0,"",""]
[299,null,{"$f":"IF(ISBLANK($B303),\"\",LOOKUP($B303,Inscriptions!A$2:A$65496,Inscriptions!B$2:B$65498))","v":""},{"$f":"IF(ISBLANK($B303),\"\",LOOKUP($B303,Inscriptions!A$2:A$65496,Inscriptions!C$2:C$65498))","v":""},{"$f":"IF(ISBLANK($B303),\"\",LOOKUP($B303,Inscriptions!A$2:A$65496,Inscriptions!D$2:D$65498))","v":""},null,null,null,0,0,0,"",""]
[300,null,{"$f":"IF(ISBLANK($B304),\"\",LOOKUP($B304,Inscriptions!A$2:A$65496,Inscriptions!B$2:B$65498))","v":""},{"$f":"IF(ISBLANK($B304),\"\",LOOKUP($B304,Inscriptions!A$2:A$65496,Inscriptions!C$2:C$65498))","v":""},{"$f":"IF(ISBLANK($B304),\"\",LOOKUP($B304,Inscriptions!A$2:A$65496,Inscriptions!D$2:D$65498))","v":""},null,null,null,0,0,0,"",""]
[301,null,{"$f":"IF(ISBLANK($B305),\"\",LOOKUP($B305,Inscriptions!A$2:A$65496,Inscriptions!B$2:B$65498))","v":""},{"$f":"IF(ISBLANK($B305),\"\",LOOKUP($B305,Inscriptions!A$2:A$65496,Inscriptions!C$2:C$65498))","v":""},{"$f":"IF(ISBLANK($B305),\"\",LOOKUP($B305,Inscriptions!A$2:A$65496,Inscriptions!D$2:D$65498))","v":""},null,null,null,0,0,0,"",""]
[302,null,{"$f":"IF(ISBLANK($B306),\"\",LOOKUP($B306,Inscriptions!A$2:A$65496,Inscriptions!B$2:B$65498))","v":""},{"$f":"IF(ISBLANK($B306),\"\",LOOKUP($B306,Inscriptions!A$2:A$65496,Inscriptions!C$2:C$65498))","v":""},{"$f":"IF(ISBLANK($B306),\"\",LOOKUP($B306,Inscriptions!A$2:A$65496,Inscriptions!D$2:D$65498))","v":""},null,null,null,0,0,0,"",""]
[303,null,{"$f":"IF(ISBLANK($B307),\"\",LOOKUP($B307,Inscriptions!A$2:A$65496,Inscriptions!B$2:B$65498))","v":""},{"$f":"IF(ISBLANK($B307),\"\",LOOKUP($B307,Inscriptions!A$2:A$65496,Inscriptions!C$2:C$65498))","v":""},{"$f":"IF(ISBLANK($B307),\"\",LOOKUP($B307,Inscriptions!A$2:A$65496,Inscriptions!D$2:D$65498))","v":""},null,null,null,0,0,0,"",""]
[304,null,{"$f":"IF(ISBLANK($B308),\"\",LOOKUP($B308,Inscriptions!A$2:A$65496,Inscriptions!B$2:B$65498))","v":""},{"$f":"IF(ISBLANK($B308),\"\",LOOKUP($B308,Inscriptions!A$2:A$65496,Inscriptions!C$2:C$65498))","v":""},{"$f":"IF(ISBLANK($B308),\"\",LOOKUP($B308,Inscriptions!A$2:A$65496,Inscriptions!D$2:D$65498))","v":""},null,null,null,0,0,0,"",""]
[305,null,{"$f":"IF(ISBLANK($B309),\"\",LOOKUP($B309,Inscriptions!A$2:A$65496,Inscriptions!B$2:B$65498))","v":""},{"$f":"IF(ISBLANK($B309),\"\",LOOKUP($B309,Inscriptions!A$2:A$65496,Inscriptions!C$2:C$65498))","v":""},{"$f":"IF(ISBLANK($B309),\"\",LOOKUP($B309,Inscriptions!A$2:A$65496,Inscriptions!D$2:D$65498))","v":""},null,null,null,0,0,0,"",""]
[306,null,{"$f":"IF(ISBLANK($B310),\"\",LOOKUP($B310,Inscriptions!A$2:A$65496,Inscriptions!B$2:B$65498))","v":""},{"$f":"IF(ISBLANK($B310),\"\",LOOKUP($B310,Inscriptions!A$2:A$65496,Inscriptions!C$2:C$65498))","v":""},{"$f":"IF(ISBLANK($B310),\"\",LOOKUP($B310,Inscriptions!A$2:A$65496,Inscriptions!D$2:D$65498))","v":""},null,null,null,0,0,0,"",""]
[307,null,{"$f":"IF(ISBLANK($B311),\"\",LOOKUP($B311,Inscriptions!A$2:A$65496,Inscriptions!B$2:B$65498))","v":""},{"$f":"IF(ISBLANK($B311),\"\",LOOKUP($B311,Inscriptions!A$2:A$65496,Inscriptions!C$2:C$65498))","v":""},{"$f":"IF(ISBLANK($B311),\"\",LOOKUP($B311,Inscriptions!A$2:A$65496,Inscriptions!D$2:D$65498))","v":""},null,null,null,0,0,0,"",""]
[308,null,{"$f":"IF(ISBLANK($B312),\"\",LOOKUP($B312,Inscriptions!A$2:A$65496,Inscriptions!B$2:B$65498))","v":""},{"$f":"IF(ISBLANK($B312),\"\",LOOKUP($B312,Inscriptions!A$2:A$65496,Inscriptions!C$2:C$65498))","v":""},{"$f":"IF(ISBLANK($B312),\"\",LOOKUP($B312,Inscriptions!A$2:A$65496,Inscriptions!D$2:D$65498))","v":""},null,null,null,0,0,0,"",""]
[309,null,{"$f":"IF(ISBLANK($B313),\"\",LOOKUP($B313,Inscriptions!A$2:A$65496,Inscriptions!B$2:B$65498))","v":""},{"$f":"IF(ISBLANK($B313),\"\",LOOKUP($B313,Inscriptions!A$2:A$65496,Inscriptions!C$2:C$65498))","v":""},{"$f":"IF(ISBLANK($B313),\"\",LOOKUP($B313,Inscriptions!A$2:A$65496,Inscriptions!D$2:D$65498))","v":""},null,null,null,0,0,0,"",""]
[310,null,{"$f":"IF(ISBLANK($B314),\"\",LOOKUP($B314,Inscriptions!A$2:A$65496,Inscriptions!B$2:B$65498))","v":""},{"$f":"IF(ISBLANK($B314),\"\",LOOKUP($B314,Inscriptions!A$2:A$65496,Inscriptions!C$2:C$65498))","v":""},{"$f":"IF(ISBLANK($B314),\"\",LOOKUP($B314,Inscriptions!A$2:A$65496,Inscriptions!D$2:D$65498))","v":""},null,null,null,0,0,0,"",""]
[311,null,{"$f":"IF(ISBLANK($B315),\"\",LOOKUP($B315,Inscriptions!A$2:A$65496,Inscriptions!B$2:B$65498))","v":""},{"$f":"IF(ISBLANK($B315),\"\",LOOKUP($B315,Inscriptions!A$2:A$65496,Inscriptions!C$2:C$65498))","v":""},{"$f":"IF(ISBLANK($B315),\"\",LOOKUP($B315,Inscriptions!A$2:A$65496,Inscriptions!D$2:D$65498))","v":""},null,null,null,0,0,0,"",""]
[312,null,{"$f":"IF(ISBLANK($B316),\"\",LOOKUP($B316,Inscriptions!A$2:A$65496,Inscriptions!B$2:B$65498))","v":""},{"$f":"IF(ISBLANK($B316),\"\",LOOKUP($B316,Inscriptions!A$2:A$65496,Inscriptions!C$2:C$65498))","v":""},{"$f":"IF(ISBLANK($B316),\"\",LOOKUP($B316,Inscriptions!A$2:A$65496,Inscriptions!D$2:D$65498))","v":""},null,null,null,0,0,0,"",""]
[313,null,{"$f":"IF(ISBLANK($B317),\"\",LOOKUP($B317,Inscriptions!A$2:A$65496,Inscriptions!B$2:B$65498))","v":""},{"$f":"IF(ISBLANK($B317),\"\",LOOKUP($B317,Inscriptions!A$2:A$65496,Inscriptions!C$2:C$65498))","v":""},{"$f":"IF(ISBLANK($B317),\"\",LOOKUP($B317,Inscriptions!A$2:A$65496,Inscriptions!D$2:D$65498))","v":""},null,null,null,0,0,0,"",""]
[314,null,{"$f":"IF(ISBLANK($B318),\"\",LOOKUP($B318,Inscriptions!A$2:A$65496,Inscriptions!B$2:B$65498))","v":""},{"$f":"IF(ISBLANK($B318),\"\",LOOKUP($B318,Inscriptions!A$2:A$65496,Inscriptions!C$2:C$65498))","v":""},{"$f":"IF(ISBLANK($B318),\"\",LOOKUP($B318,Inscriptions!A$2:A$65496,Inscriptions!D$2:D$65498))","v":""},null,null,null,0,0,0,"",""]
[315,null,{"$f":"IF(ISBLANK($B319),\"\",LOOKUP($B319,Inscriptions!A$2:A$65496,Inscriptions!B$2:B$65498))","v":""},{"$f":"IF(ISBLANK($B319),\"\",LOOKUP($B319,Inscriptions!A$2:A$65496,Inscriptions!C$2:C$65498))","v":""},{"$f":"IF(ISBLANK($B319),\"\",LOOKUP($B319,Inscriptions!A$2:A$65496,Inscriptions!D$2:D$65498))","v":""},null,null,null,0,0,0,"",""]
[316,null,{"$f":"IF(ISBLANK($B320),\"\",LOOKUP($B320,Inscriptions!A$2:A$65496,Inscriptions!B$2:B$65498))","v":""},{"$f":"IF(ISBLANK($B320),\"\",LOOKUP($B320,Inscriptions!A$2:A$65496,Inscriptions!C$2:C$65498))","v":""},{"$f":"IF(ISBLANK($B320),\"\",LOOKUP($B320,Inscriptions!A$2:A$65496,Inscriptions!D$2:D$65498))","v":""},null,null,null,0,0,0,"",""]
[317,null,{"$f":"IF(ISBLANK($B321),\"\",LOOKUP($B321,Inscriptions!A$2:A$65496,Inscriptions!B$2:B$65498))","v":""},{"$f":"IF(ISBLANK($B321),\"\",LOOKUP($B321,Inscriptions!A$2:A$65496,Inscriptions!C$2:C$65498))","v":""},{"$f":"IF(ISBLANK($B321),\"\",LOOKUP($B321,Inscriptions!A$2:A$65496,Inscriptions!D$2:D$65498))","v":""},null,null,null,0,0,0,"",""]
[318,null,{"$f":"IF(ISBLANK($B322),\"\",LOOKUP($B322,Inscriptions!A$2:A$65496,Inscriptions!B$2:B$65498))","v":""},{"$f":"IF(ISBLANK($B322),\"\",LOOKUP($B322,Inscriptions!A$2:A$65496,Inscriptions!C$2:C$65498))","v":""},{"$f":"IF(ISBLANK($B322),\"\",LOOKUP($B322,Inscriptions!A$2:A$65496,Inscriptions!D$2:D$65498))","v":""},null,null,null,0,0,0,"",""]
[319,null,{"$f":"IF(ISBLANK($B323),\"\",LOOKUP($B323,Inscriptions!A$2:A$65496,Inscriptions!B$2:B$65498))","v":""},{"$f":"IF(ISBLANK($B323),\"\",LOOKUP($B323,Inscriptions!A$2:A$65496,Inscriptions!C$2:C$65498))","v":""},{"$f":"IF(ISBLANK($B323),\"\",LOOKUP($B323,Inscriptions!A$2:A$65496,Inscriptions!D$2:D$65498))","v":""},null,null,null,0,0,0,"",""]
[320,null,{"$f":"IF(ISBLANK($B324),\"\",LOOKUP($B324,Inscriptions!A$2:A$65496,Inscriptions!B$2:B$65498))","v":""},{"$f":"IF(ISBLANK($B324),\"\",LOOKUP($B324,Inscriptions!A$2:A$65496,Inscriptions!C$2:C$65498))","v":""},{"$f":"IF(ISBLANK($B324),\"\",LOOKUP($B324,Inscriptions!A$2:A$65496,Inscriptions!D$2:D$65498))","v":""},null,null,null,0,0,0,"",""]
[321,null,{"$f":"IF(ISBLANK($B325),\"\",LOOKUP($B325,Inscriptions!A$2:A$65496,Inscriptions!B$2:B$65498))","v":""},{"$f":"IF(ISBLANK($B325),\"\",LOOKUP($B325,Inscriptions!A$2:A$65496,Inscriptions!C$2:C$65498))","v":""},{"$f":"IF(ISBLANK($B325),\"\",LOOKUP($B325,Inscriptions!A$2:A$65496,Inscriptions!D$2:D$65498))","v":""},null,null,null,{"$f":"ROUNDDOWN(H325/10000,0)","v":0},0,0,"",{"$f":"IF(L325=\"\",\"\",\"km/h\")","v":""}]
[322,null,{"$f":"IF(ISBLANK($B326),\"\",LOOKUP($B326,Inscriptions!A$2:A$65496,Inscriptions!B$2:B$65498))","v":""},{"$f":"IF(ISBLANK($B326),\"\",LOOKUP($B326,Inscriptions!A$2:A$65496,Inscriptions!C$2:C$65498))","v":""},{"$f":"IF(ISBLANK($B326),\"\",LOOKUP($B326,Inscriptions!A$2:A$65496,Inscriptions!D$2:D$65498))","v":""},null,null,null,0,0,0,"",""]
[323,null,{"$f":"IF(ISBLANK($B327),\"\",LOOKUP($B327,Inscriptions!A$2:A$65496,Inscriptions!B$2:B$65498))","v":""},{"$f":"IF(ISBLANK($B327),\"\",LOOKUP($B327,Inscriptions!A$2:A$65496,Inscriptions!C$2:C$65498))","v":""},{"$f":"IF(ISBLANK($B327),\"\",LOOKUP($B327,Inscriptions!A$2:A$65496,Inscriptions!D$2:D$65498))","v":""},null,null,null,0,0,0,"",""]
[324,null,{"$f":"IF(ISBLANK($B328),\"\",LOOKUP($B328,Inscriptions!A$2:A$65496,Inscriptions!B$2:B$65498))","v":""},{"$f":"IF(ISBLANK($B328),\"\",LOOKUP($B328,Inscriptions!A$2:A$65496,Inscriptions!C$2:C$65498))","v":""},{"$f":"IF(ISBLANK($B328),\"\",LOOKUP($B328,Inscriptions!A$2:A$65496,Inscriptions!D$2:D$65498))","v":""},null,null,null,0,0,0,"",""]
[325,null,{"$f":"IF(ISBLANK($B329),\"\",LOOKUP($B329,Inscriptions!A$2:A$65496,Inscriptions!B$2:B$65498))","v":""},{"$f":"IF(ISBLANK($B329),\"\",LOOKUP($B329,Inscriptions!A$2:A$65496,Inscriptions!C$2:C$65498))","v":""},{"$f":"IF(ISBLANK($B329),\"\",LOOKUP($B329,Inscriptions!A$2:A$65496,Inscriptions!D$2:D$65498))","v":""},null,null,null,0,0,0,"",""]
[326,null,{"$f":"IF(ISBLANK($B330),\"\",LOOKUP($B330,Inscriptions!A$2:A$65496,Inscriptions!B$2:B$65498))","v":""},{"$f":"IF(ISBLANK($B330),\"\",LOOKUP($B330,Inscriptions!A$2:A$65496,Inscriptions!C$2:C$65498))","v":""},{"$f":"IF(ISBLANK($B330),\"\",LOOKUP($B330,Inscriptions!A$2:A$65496,Inscriptions!D$2:D$65498))","v":""},null,null,null,0,0,0,"",""]
[327,null,{"$f":"IF(ISBLANK($B331),\"\",LOOKUP($B331,Inscriptions!A$2:A$65496,Inscriptions!B$2:B$65498))","v":""},{"$f":"IF(ISBLANK($B331),\"\",LOOKUP($B331,Inscriptions!A$2:A$65496,Inscriptions!C$2:C$65498))","v":""},{"$f":"IF(ISBLANK($B331),\"\",LOOKUP($B331,Inscriptions!A$2:A$65496,Inscriptions!D$2:D$65498))","v":""},null,null,null,0,0,0,"",""]
[328,null,{"$f":"IF(ISBLANK($B332),\"\",LOOKUP($B332,Inscriptions!A$2:A$65496,Inscriptions!B$2:B$65498))","v":""},{"$f":"IF(ISBLANK($B332),\"\",LOOKUP($B332,Inscriptions!A$2:A$65496,Inscriptions!C$2:C$65498))","v":""},{"$f":"IF(ISBLANK($B332),\"\",LOOKUP($B332,Inscriptions!A$2:A$65496,Inscriptions!D$2:D$65498))","v":""},null,null,null,0,0,0,"",""]
[329,null,{"$f":"IF(ISBLANK($B333),\"\",LOOKUP($B333,Inscriptions!A$2:A$65496,Inscriptions!B$2:B$65498))","v":""},{"$f":"IF(ISBLANK($B333),\"\",LOOKUP($B333,Inscriptions!A$2:A$65496,Inscriptions!C$2:C$65498))","v":""},{"$f":"IF(ISBLANK($B333),\"\",LOOKUP($B333,Inscriptions!A$2:A$65496,Inscriptions!D$2:D$65498))","v":""},null,null,null,0,0,0,"",""]
[330,null,{"$f":"IF(ISBLANK($B334),\"\",LOOKUP($B334,Inscriptions!A$2:A$65496,Inscriptions!B$2:B$65498))","v":""},{"$f":"IF(ISBLANK($B334),\"\",LOOKUP($B334,Inscriptions!A$2:A$65496,Inscriptions!C$2:C$65498))","v":""},{"$f":"IF(ISBLANK($B334),\"\",LOOKUP($B334,Inscriptions!A$2:A$65496,Inscriptions!D$2:D$65498))","v":""},null,null,null,0,0,0,"",""]
[331,null,{"$f":"IF(ISBLANK($B335),\"\",LOOKUP($B335,Inscriptions!A$2:A$65496,Inscriptions!B$2:B$65498))","v":""},{"$f":"IF(ISBLANK($B335),\"\",LOOKUP($B335,Inscriptions!A$2:A$65496,Inscriptions!C$2:C$65498))","v":""},{"$f":"IF(ISBLANK($B335),\"\",LOOKUP($B335,Inscriptions!A$2:A$65496,Inscriptions!D$2:D$65498))","v":""},null,null,null,0,0,0,"",""]
[332,null,{"$f":"IF(ISBLANK($B336),\"\",LOOKUP($B336,Inscriptions!A$2:A$65496,Inscriptions!B$2:B$65498))","v":""},{"$f":"IF(ISBLANK($B336),\"\",LOOKUP($B336,Inscriptions!A$2:A$65496,Inscriptions!C$2:C$65498))","v":""},{"$f":"IF(ISBLANK($B336),\"\",LOOKUP($B336,Inscriptions!A$2:A$65496,Inscriptions!D$2:D$65498))","v":""},null,null,null,0,0,0,"",""]
[333,null,{"$f":"IF(ISBLANK($B337),\"\",LOOKUP($B337,Inscriptions!A$2:A$65496,Inscriptions!B$2:B$65498))","v":""},{"$f":"IF(ISBLANK($B337),\"\",LOOKUP($B337,Inscriptions!A$2:A$65496,Inscriptions!C$2:C$65498))","v":""},{"$f":"IF(ISBLANK($B337),\"\",LOOKUP($B337,Inscriptions!A$2:A$65496,Inscriptions!D$2:D$65498))","v":""},null,null,null,0,0,0,"",""]
[334,null,{"$f":"IF(ISBLANK($B338),\"\",LOOKUP($B338,Inscriptions!A$2:A$65496,Inscriptions!B$2:B$65498))","v":""},{"$f":"IF(ISBLANK($B338),\"\",LOOKUP($B338,Inscriptions!A$2:A$65496,Inscriptions!C$2:C$65498))","v":""},{"$f":"IF(ISBLANK($B338),\"\",LOOKUP($B338,Inscriptions!A$2:A$65496,Inscriptions!D$2:D$65498))","v":""},null,null,null,0,0,0,"",""]
[335,null,{"$f":"IF(ISBLANK($B339),\"\",LOOKUP($B339,Inscriptions!A$2:A$65496,Inscriptions!B$2:B$65498))","v":""},{"$f":"IF(ISBLANK($B339),\"\",LOOKUP($B339,Inscriptions!A$2:A$65496,Inscriptions!C$2:C$65498))","v":""},{"$f":"IF(ISBLANK($B339),\"\",LOOKUP($B339,Inscriptions!A$2:A$65496,Inscriptions!D$2:D$65498))","v":""},null,null,null,0,0,0,"",""]
[336,null,{"$f":"IF(ISBLANK($B340),\"\",LOOKUP($B340,Inscriptions!A$2:A$65496,Inscriptions!B$2:B$65498))","v":""},{"$f":"IF(ISBLANK($B340),\"\",LOOKUP($B340,Inscriptions!A$2:A$65496,Inscriptions!C$2:C$65498))","v":""},{"$f":"IF(ISBLANK($B340),\"\",LOOKUP($B340,Inscriptions!A$2:A$65496,Inscriptions!D$2:D$65498))","v":""},null,null,null,0,0,0,"",""]
[337,null,{"$f":"IF(ISBLANK($B341),\"\",LOOKUP($B341,Inscriptions!A$2:A$65496,Inscriptions!B$2:B$65498))","v":""},{"$f":"IF(ISBLANK($B341),\"\",LOOKUP($B341,Inscriptions!A$2:A$65496,Inscriptions!C$2:C$65498))","v":""},{"$f":"IF(ISBLANK($B341),\"\",LOOKUP($B341,Inscriptions!A$2:A$65496,Inscriptions!D$2:D$65498))","v":""},null,null,null,0,0,0,"",""]
[338,null,{"$f":"IF(ISBLANK($B342),\"\",LOOKUP($B342,Inscriptions!A$2:A$65496,Inscriptions!B$2:B$65498))","v":""},{"$f":"IF(ISBLANK($B342),\"\",LOOKUP($B342,Inscriptions!A$2:A$65496,Inscriptions!C$2:C$65498))","v":""},{"$f":"IF(ISBLANK($B342),\"\",LOOKUP($B342,Inscriptions!A$2:A$65496,Inscriptions!D$2:D$65498))","v":""},null,null,null,0,0,0,"",""]
[339,null,{"$f":"IF(ISBLANK($B343),\"\",LOOKUP($B343,Inscriptions!A$2:A$65496,Inscriptions!B$2:B$65498))","v":""},{"$f":"IF(ISBLANK($B343),\"\",LOOKUP($B343,Inscriptions!A$2:A$65496,Inscriptions!C$2:C$65498))","v":""},{"$f":"IF(ISBLANK($B343),\"\",LOOKUP($B343,Inscriptions!A$2:A$65496,Inscriptions!D$2:D$65498))","v":""},null,null,null,0,0,0,"",""]
[340,null,{"$f":"IF(ISBLANK($B344),\"\",LOOKUP($B344,Inscriptions!A$2:A$65496,Inscriptions!B$2:B$65498))","v":""},{"$f":"IF(ISBLANK($B344),\"\",LOOKUP($B344,Inscriptions!A$2:A$65496,Inscriptions!C$2:C$65498))","v":""},{"$f":"IF(ISBLANK($B344),\"\",LOOKUP($B344,Inscriptions!A$2:A$65496,Inscriptions!D$2:D$65498))","v":""},null,null,null,0,0,0,"",""]
[341,null,{"$f":"IF(ISBLANK($B345),\"\",LOOKUP($B345,Inscriptions!A$2:A$65496,Inscriptions!B$2:B$65498))","v":""},{"$f":"IF(ISBLANK($B345),\"\",LOOKUP($B345,Inscriptions!A$2:A$65496,Inscriptions!C$2:C$65498))","v":""},{"$f":"IF(ISBLANK($B345),\"\",LOOKUP($B345,Inscriptions!A$2:A$65496,Inscriptions!D$2:D$65498))","v":""},null,null,null,0,0,0,"",""]
[342,null,{"$f":"IF(ISBLANK($B346),\"\",LOOKUP($B346,Inscriptions!A$2:A$65496,Inscriptions!B$2:B$65498))","v":""},{"$f":"IF(ISBLANK($B346),\"\",LOOKUP($B346,Inscriptions!A$2:A$65496,Inscriptions!C$2:C$65498))","v":""},{"$f":"IF(ISBLANK($B346),\"\",LOOKUP($B346,Inscriptions!A$2:A$65496,Inscriptions!D$2:D$65498))","v":""},null,null,null,0,0,0,"",""]
[343,null,{"$f":"IF(ISBLANK($B347),\"\",LOOKUP($B347,Inscriptions!A$2:A$65496,Inscriptions!B$2:B$65498))","v":""},{"$f":"IF(ISBLANK($B347),\"\",LOOKUP($B347,Inscriptions!A$2:A$65496,Inscriptions!C$2:C$65498))","v":""},{"$f":"IF(ISBLANK($B347),\"\",LOOKUP($B347,Inscriptions!A$2:A$65496,Inscriptions!D$2:D$65498))","v":""},null,null,null,0,0,0,"",""]
[344,null,{"$f":"IF(ISBLANK($B348),\"\",LOOKUP($B348,Inscriptions!A$2:A$65496,Inscriptions!B$2:B$65498))","v":""},{"$f":"IF(ISBLANK($B348),\"\",LOOKUP($B348,Inscriptions!A$2:A$65496,Inscriptions!C$2:C$65498))","v":""},{"$f":"IF(ISBLANK($B348),\"\",LOOKUP($B348,Inscriptions!A$2:A$65496,Inscriptions!D$2:D$65498))","v":""},null,null,null,0,0,0,"",""]
[345,null,{"$f":"IF(ISBLANK($B349),\"\",LOOKUP($B349,Inscriptions!A$2:A$65496,Inscriptions!B$2:B$65498))","v":""},{"$f":"IF(ISBLANK($B349),\"\",LOOKUP($B349,Inscriptions!A$2:A$65496,Inscriptions!C$2:C$65498))","v":""},{"$f":"IF(ISBLANK($B349),\"\",LOOKUP($B349,Inscriptions!A$2:A$65496,Inscriptions!D$2:D$65498))","v":""},null,null,null,0,0,0,"",""]
[346,null,{"$f":"IF(ISBLANK($B350),\"\",LOOKUP($B350,Inscriptions!A$2:A$65496,Inscriptions!B$2:B$65498))","v":""},{"$f":"IF(ISBLANK($B350),\"\",LOOKUP($B350,Inscriptions!A$2:A$65496,Inscriptions!C$2:C$65498))","v":""},{"$f":"IF(ISBLANK($B350),\"\",LOOKUP($B350,Inscriptions!A$2:A$65496,Inscriptions!D$2:D$65498))","v":""},null,null,null,0,0,0,"",""]
[347,null,{"$f":"IF(ISBLANK($B351),\"\",LOOKUP($B351,Inscriptions!A$2:A$65496,Inscriptions!B$2:B$65498))","v":""},{"$f":"IF(ISBLANK($B351),\"\",LOOKUP($B351,Inscriptions!A$2:A$65496,Inscriptions!C$2:C$65498))","v":""},{"$f":"IF(ISBLANK($B351),\"\",LOOKUP($B351,Inscriptions!A$2:A$65496,Inscriptions!D$2:D$65498))","v":""},null,null,null,0,0,0,"",""]
[348,null,{"$f":"IF(ISBLANK($B352),\"\",LOOKUP($B352,Inscriptions!A$2:A$65496,Inscriptions!B$2:B$65498))","v":""},{"$f":"IF(ISBLANK($B352),\"\",LOOKUP($B352,Inscriptions!A$2:A$65496,Inscriptions!C$2:C$65498))","v":""},{"$f":"IF(ISBLANK($B352),\"\",LOOKUP($B352,Inscriptions!A$2:A$65496,Inscriptions!D$2:D$65498))","v":""},null,null,null,0,0,0,"",""]
[349,null,{"$f":"IF(ISBLANK($B353),\"\",LOOKUP($B353,Inscriptions!A$2:A$65496,Inscriptions!B$2:B$65498))","v":""},{"$f":"IF(ISBLANK($B353),\"\",LOOKUP($B353,Inscriptions!A$2:A$65496,Inscriptions!C$2:C$65498))","v":""},{"$f":"IF(ISBLANK($B353),\"\",LOOKUP($B353,Inscriptions!A$2:A$65496,Inscriptions!D$2:D$65498))","v":""},null,null,null,0,0,0,"",""]
[350,null,{"$f":"IF(ISBLANK($B354),\"\",LOOKUP($B354,Inscriptions!A$2:A$65496,Inscriptions!B$2:B$65498))","v":""},{"$f":"IF(ISBLANK($B354),\"\",LOOKUP($B354,Inscriptions!A$2:A$65496,Inscriptions!C$2:C$65498))","v":""},{"$f":"IF(ISBLANK($B354),\"\",LOOKUP($B354,Inscriptions!A$2:A$65496,Inscriptions!D$2:D$65498))","v":""}]

{"sheet":"C4 MMOF","index":6,"n_rows":354,"n_cols":13,"rows_kept":354,"cut":false,"hidden":false,"merged":[[0,0,0,7],[1,0,1,7],[2,5,2,6]]}
["CROSS REGIONAL FSGT - STAINS - 18/01/2015"]
["MINIMOUS féminines = 850 mètres"]
[]
["PLACE","DOSSARD","NOM / PRENOM","CAT","CLUB","MMOF","MOF","TEMPS","h","m","s",850,"m"]
[1,86,{"$f":"IF(ISBLANK($B5),\"\",LOOKUP($B5,Inscriptions!A$2:A$65496,Inscriptions!B$2:B$65498))","v":"BUTON LISA"},{"$f":"IF(ISBLANK($B5),\"\",LOOKUP($B5,Inscriptions!A$2:A$65496,Inscriptions!C$2:C$65498))","v":"MMOF"},{"$f":"IF(ISBLANK($B5),\"\",LOOKUP($B5,Inscriptions!A$2:A$65496,Inscriptions!D$2:D$65498))","v":"ACM AUBERVILLIERS"},null,null,454,{"$f":"ROUNDDOWN(H5/10000,0)","v":0},{"$f":"ROUNDDOWN((H5-I5*10000)/100,0)","v":4},{"$f":"ROUNDDOWN((H5-(I5*10000)-(J5*100)),0)","v":54},{"$f":"IF((I5+J5+K5)=0,\"\",ROUNDDOWN((L$4/((I5*3600)+(J5*60)+K5))*3.6,2))","v":10.4},{"$f":"IF(L5=\"\",\"\",\"km/h\")","v":"km/h"}]
[2,353,{"$f":"IF(ISBLANK($B6),\"\",LOOKUP($B6,Inscriptions!A$2:A$65496,Inscriptions!B$2:B$65498))","v":"BOUGHAZI INSAF"},{"$f":"IF(ISBLANK($B6),\"\",LOOKUP($B6,Inscriptions!A$2:A$65496,Inscriptions!C$2:C$65498))","v":"MMOF"},{"$f":"IF(ISBLANK($B6),\"\",LOOKUP($B6,Inscriptions!A$2:A$65496,Inscriptions!D$2:D$65498))","v":"ATHLE LE BOURGET DRANCY DUGNY"},null,null,454,{"$f":"ROUNDDOWN(H6/10000,0)","v":0},{"$f":"ROUNDDOWN((H6-I6*10000)/100,0)","v":4},{"$f":"ROUNDDOWN((H6-(I6*10000)-(J6*100)),0)","v":54},{"$f":"IF((I6+J6+K6)=0,\"\",ROUNDDOWN((L$4/((I6*3600)+(J6*60)+K6))*3.6,2))","v":10.4},{"$f":"IF(L6=\"\",\"\",\"km/h\")","v":"km/h"}]
[3,1159,{"$f":"IF(ISBLANK($B7),\"\",LOOKUP($B7,Inscriptions!A$2:A$65496,Inscriptions!B$2:B$65498))","v":"BOLUDA LOU"},{"$f":"IF(ISBLANK($B7),\"\",LOOKUP($B7,Inscriptions!A$2:A$65496,Inscriptions!C$2:C$65498))","v":"MMOF"},{"$f":"IF(ISBLANK($B7),\"\",LOOKUP($B7,Inscriptions!A$2:A$65496,Inscriptions!D$2:D$65498))","v":"ES VITRY"},null,null,455,0,4,55,10.37,"km/h"]
[4,1618,{"$f":"IF(ISBLANK($B8),\"\",LOOKUP($B8,Inscriptions!A$2:A$65496,Inscriptions!B$2:B$65498))","v":"BOST SARAH"},{"$f":"IF(ISBLANK($B8),\"\",LOOKUP($B8,Inscriptions!A$2:A$65496,Inscriptions!C$2:C$65498))","v":"MMOF"},{"$f":"IF(ISBLANK($B8),\"\",LOOKUP($B8,Inscriptions!A$2:A$65496,Inscriptions!D$2:D$65498))","v":"TREMBLAY AC"},null,null,502,0,5,2,10.130000000000001,"km/h"]
[5,447,{"$f":"IF(ISBLANK($B9),\"\",LOOKUP($B9,Inscriptions!A$2:A$65496,Inscriptions!B$2:B$65498))","v":"NEVES SIMOES LUDIMILA"},{"$f":"IF(ISBLANK($B9),\"\",LOOKUP($B9,Inscriptions!A$2:A$65496,Inscriptions!C$2:C$65498))","v":"MMOF"},{"$f":"IF(ISBLANK($B9),\"\",LOOKUP($B9,Inscriptions!A$2:A$65496,Inscriptions!D$2:D$65498))","v":"ATHLE LE BOURGET DRANCY DUGNY"},null,null,529,0,5,29,9.3000000000000007,"km/h"]
[6,2332,{"$f":"IF(ISBLANK($B10),\"\",LOOKUP($B10,Inscriptions!A$2:A$65496,Inscriptions!B$2:B$65498))","v":"RAZAFINIMANANA TIANA"},{"$f":"IF(ISBLANK($B10),\"\",LOOKUP($B10,Inscriptions!A$2:A$65496,Inscriptions!C$2:C$65498))","v":"MMOF"},{"$f":"IF(ISBLANK($B10),\"\",LOOKUP($B10,Inscriptions!A$2:A$65496,Inscriptions!D$2:D$65498))","v":"VILLEPINTE MA"},null,null,533,0,5,33,9.18,"km/h"]
[7,1097,{"$f":"IF(ISBLANK($B11),\"\",LOOKUP($B11,Inscriptions!A$2:A$65496,Inscriptions!B$2:B$65498))","v":"KARAMOKO TAHIRA"},{"$f":"IF(ISBLANK($B11),\"\",LOOKUP($B11,Inscriptions!A$2:A$65496,Inscriptions!C$2:C$65498))","v":"MMOF"},{"$f":"IF(ISBLANK($B11),\"\",LOOKUP($B11,Inscriptions!A$2:A$65496,Inscriptions!D$2:D$65498))","v":"ES STAINS"},null,null,536,0,5,36,9.1,"km/h"]
[8,951,{"$f":"IF(ISBLANK($B12),\"\",LOOKUP($B12,Inscriptions!A$2:A$65496,Inscriptions!B$2:B$65498))","v":"DAPOLON KYLIAH"},{"$f":"IF(ISBLANK($B12),\"\",LOOKUP($B12,Inscriptions!A$2:A$65496,Inscriptions!C$2:C$65498))","v":"MMOF"},{"$f":"IF(ISBLANK($B12),\"\",LOOKUP($B12,Inscriptions!A$2:A$65496,Inscriptions!D$2:D$65498))","v":"CSM GENNEVILLIERS"},null,null,537,0,5,37,9.08,"km/h"]
[9,85,{"$f":"IF(ISBLANK($B13),\"\",LOOKUP($B13,Inscriptions!A$2:A$65496,Inscriptions!B$2:B$65498))","v":"BUTON JULIETTE"},{"$f":"IF(ISBLANK($B13),\"\",LOOKUP($B13,Inscriptions!A$2:A$65496,Inscriptions!C$2:C$65498))","v":"MMOF"},{"$f":"IF(ISBLANK($B13),\"\",LOOKUP($B13,Inscriptions!A$2:A$65496,Inscriptions!D$2:D$65498))","v":"ACM AUBERVILLIERS"},null,null,546,0,5,46,8.84,"km/h"]
[10,1063,{"$f":"IF(ISBLANK($B14),\"\",LOOKUP($B14,Inscriptions!A$2:A$65496,Inscriptions!B$2:B$65498))","v":"DAOUDI KENZA"},{"$f":"IF(ISBLANK($B14),\"\",LOOKUP($B14,Inscriptions!A$2:A$65496,Inscriptions!C$2:C$65498))","v":"MMOF"},{"$f":"IF(ISBLANK($B14),\"\",LOOKUP($B14,Inscriptions!A$2:A$65496,Inscriptions!D$2:D$65498))","v":"ES STAINS"},null,null,605,0,6,5,8.3800000000000008,"km/h"]
[11,76,{"$f":"IF(ISBLANK($B15),\"\",LOOKUP($B15,Inscriptions!A$2:A$65496,Inscriptions!B$2:B$65498))","v":"BELLAHMER EVA"},{"$f":"IF(ISBLANK($B15),\"\",LOOKUP($B15,Inscriptions!A$2:A$65496,Inscriptions!C$2:C$65498))","v":"MMOF"},{"$f":"IF(ISBLANK($B15),\"\",LOOKUP($B15,Inscriptions!A$2:A$65496,Inscriptions!D$2:D$65498))","v":"ACM AUBERVILLIERS"},null,null,613,0,6,13,8.1999999999999993,"km/h"]
[12,99,{"$f":"IF(ISBLANK($B16),\"\",LOOKUP($B16,Inscriptions!A$2:A$65496,Inscriptions!B$2:B$65498))","v":"DJOULAIT LAURA"},{"$f":"IF(ISBLANK($B16),\"\",LOOKUP($B16,Inscriptions!A$2:A$65496,Inscriptions!C$2:C$65498))","v":"MMOF"},{"$f":"IF(ISBLANK($B16),\"\",LOOKUP($B16,Inscriptions!A$2:A$65496,Inscriptions!D$2:D$65498))","v":"ACM AUBERVILLIERS"},null,null,616,0,6,16,8.1300000000000008,"km/h"]
[13,88,{"$f":"IF(ISBLANK($B17),\"\",LOOKUP($B17,Inscriptions!A$2:A$65496,Inscriptions!B$2:B$65498))","v":"BUTON MAYA"},{"$f":"IF(ISBLANK($B17),\"\",LOOKUP($B17,Inscriptions!A$2:A$65496,Inscriptions!C$2:C$65498))","v":"MMOF"},{"$f":"IF(ISBLANK($B17),\"\",LOOKUP($B17,Inscriptions!A$2:A$65496,Inscriptions!D$2:D$65498))","v":"ACM AUBERVILLIERS"},null,null,619,0,6,19,8.07,"km/h"]
[14,434,{"$f":"IF(ISBLANK($B18),\"\",LOOKUP($B18,Inscriptions!A$2:A$65496,Inscriptions!B$2:B$65498))","v":"MALETIC EMILI"},{"$f":"IF(ISBLANK($B18),\"\",LOOKUP($B18,Inscriptions!A$2:A$65496,Inscriptions!C$2:C$65498))","v":"MMOF"},{"$f":"IF(ISBLANK($B18),\"\",LOOKUP($B18,Inscriptions!A$2:A$65496,Inscriptions!D$2:D$65498))","v":"ATHLE LE BOURGET DRANCY DUGNY"},null,null,621,0,6,21,8.0299999999999994,"km/h"]
[15,117,{"$f":"IF(ISBLANK($B19),\"\",LOOKUP($B19,Inscriptions!A$2:A$65496,Inscriptions!B$2:B$65498))","v":"JOSEPH JAHDE"},{"$f":"IF(ISBLANK($B19),\"\",LOOKUP($B19,Inscriptions!A$2:A$65496,Inscriptions!C$2:C$65498))","v":"MMOF"},{"$f":"IF(ISBLANK($B19),\"\",LOOKUP($B19,Inscriptions!A$2:A$65496,Inscriptions!D$2:D$65498))","v":"ACM AUBERVILLIERS"},null,null,622,0,6,22,8.01,"km/h"]
[16,360,{"$f":"IF(ISBLANK($B20),\"\",LOOKUP($B20,Inscriptions!A$2:A$65496,Inscriptions!B$2:B$65498))","v":"CAMUS ELYJAH"},{"$f":"IF(ISBLANK($B20),\"\",LOOKUP($B20,Inscriptions!A$2:A$65496,Inscriptions!C$2:C$65498))","v":"MMOF"},{"$f":"IF(ISBLANK($B20),\"\",LOOKUP($B20,Inscriptions!A$2:A$65496,Inscriptions!D$2:D$65498))","v":"ATHLE LE BOURGET DRANCY DUGNY"},null,null,625,0,6,25,7.94,"km/h"]
[17,null,{"$f":"IF(ISBLANK($B21),\"\",LOOKUP($B21,Inscriptions!A$2:A$65496,Inscriptions!B$2:B$65498))","v":""},{"$f":"IF(ISBLANK($B21),\"\",LOOKUP($B21,Inscriptions!A$2:A$65496,Inscriptions!C$2:C$65498))","v":""},{"$f":"IF(ISBLANK($B21),\"\",LOOKUP($B21,Inscriptions!A$2:A$65496,Inscriptions!D$2:D$65498))","v":""},null,null,null,0,0,0,"",""]
[18,null,{"$f":"IF(ISBLANK($B22),\"\",LOOKUP($B22,Inscriptions!A$2:A$65496,Inscriptions!B$2:B$65498))","v":""},{"$f":"IF(ISBLANK($B22),\"\",LOOKUP($B22,Inscriptions!A$2:A$65496,Inscriptions!C$2:C$65498))","v":""},{"$f":"IF(ISBLANK($B22),\"\",LOOKUP($B22,Inscriptions!A$2:A$65496,Inscriptions!D$2:D$65498))","v":""},null,null,null,0,0,0,"",""]
[19,null,{"$f":"IF(ISBLANK($B23),\"\",LOOKUP($B23,Inscriptions!A$2:A$65496,Inscriptions!B$2:B$65498))","v":""},{"$f":"IF(ISBLANK($B23),\"\",LOOKUP($B23,Inscriptions!A$2:A$65496,Inscriptions!C$2:C$65498))","v":""},{"$f":"IF(ISBLANK($B23),\"\",LOOKUP($B23,Inscriptions!A$2:A$65496,Inscriptions!D$2:D$65498))","v":""},null,null,null,0,0,0,"",""]
[20,null,{"$f":"IF(ISBLANK($B24),\"\",LOOKUP($B24,Inscriptions!A$2:A$65496,Inscriptions!B$2:B$65498))","v":""},{"$f":"IF(ISBLANK($B24),\"\",LOOKUP($B24,Inscriptions!A$2:A$65496,Inscriptions!C$2:C$65498))","v":""},{"$f":"IF(ISBLANK($B24),\"\",LOOKUP($B24,Inscriptions!A$2:A$65496,Inscriptions!D$2:D$65498))","v":""},null,null,null,0,0,0,"",""]
[21,null,{"$f":"IF(ISBLANK($B25),\"\",LOOKUP($B25,Inscriptions!A$2:A$65496,Inscriptions!B$2:B$65498))","v":""},{"$f":"IF(ISBLANK($B25),\"\",LOOKUP($B25,Inscriptions!A$2:A$65496,Inscriptions!C$2:C$65498))","v":""},{"$f":"IF(ISBLANK($B25),\"\",LOOKUP($B25,Inscriptions!A$2:A$65496,Inscriptions!D$2:D$65498))","v":""},null,null,null,0,0,0,"",""]
[22,null,{"$f":"IF(ISBLANK($B26),\"\",LOOKUP($B26,Inscriptions!A$2:A$65496,Inscriptions!B$2:B$65498))","v":""},{"$f":"IF(ISBLANK($B26),\"\",LOOKUP($B26,Inscriptions!A$2:A$65496,Inscriptions!C$2:C$65498))","v":""},{"$f":"IF(ISBLANK($B26),\"\",LOOKUP($B26,Inscriptions!A$2:A$65496,Inscriptions!D$2:D$65498))","v":""},null,null,null,0,0,0,"",""]
[23,null,{"$f":"IF(ISBLANK($B27),\"\",LOOKUP($B27,Inscriptions!A$2:A$65496,Inscriptions!B$2:B$65498))","v":""},{"$f":"IF(ISBLANK($B27),\"\",LOOKUP($B27,Inscriptions!A$2:A$65496,Inscriptions!C$2:C$65498))","v":""},{"$f":"IF(ISBLANK($B27),\"\",LOOKUP($B27,Inscriptions!A$2:A$65496,Inscriptions!D$2:D$65498))","v":""},null,null,null,0,0,0,"",""]
[24,null,{"$f":"IF(ISBLANK($B28),\"\",LOOKUP($B28,Inscriptions!A$2:A$65496,Inscriptions!B$2:B$65498))","v":""},{"$f":"IF(ISBLANK($B28),\"\",LOOKUP($B28,Inscriptions!A$2:A$65496,Inscriptions!C$2:C$65498))","v":""},{"$f":"IF(ISBLANK($B28),\"\",LOOKUP($B28,Inscriptions!A$2:A$65496,Inscriptions!D$2:D$65498))","v":""},null,null,null,0,0,0,"",""]
[25,null,{"$f":"IF(ISBLANK($B29),\"\",LOOKUP($B29,Inscriptions!A$2:A$65496,Inscriptions!B$2:B$65498))","v":""},{"$f":"IF(ISBLANK($B29),\"\",LOOKUP($B29,Inscriptions!A$2:A$65496,Inscriptions!C$2:C$65498))","v":""},{"$f":"IF(ISBLANK($B29),\"\",LOOKUP($B29,Inscriptions!A$2:A$65496,Inscriptions!D$2:D$65498))","v":""},null,null,null,0,0,0,"",""]
[26,null,{"$f":"IF(ISBLANK($B30),\"\",LOOKUP($B30,Inscriptions!A$2:A$65496,Inscriptions!B$2:B$65498))","v":""},{"$f":"IF(ISBLANK($B30),\"\",LOOKUP($B30,Inscriptions!A$2:A$65496,Inscriptions!C$2:C$65498))","v":""},{"$f":"IF(ISBLANK($B30),\"\",LOOKUP($B30,Inscriptions!A$2:A$65496,Inscriptions!D$2:D$65498))","v":""},null,null,null,0,0,0,"",""]
[27,null,{"$f":"IF(ISBLANK($B31),\"\",LOOKUP($B31,Inscriptions!A$2:A$65496,Inscriptions!B$2:B$65498))","v":""},{"$f":"IF(ISBLANK($B31),\"\",LOOKUP($B31,Inscriptions!A$2:A$65496,Inscriptions!C$2:C$65498))","v":""},{"$f":"IF(ISBLANK($B31),\"\",LOOKUP($B31,Inscriptions!A$2:A$65496,Inscriptions!D$2:D$65498))","v":""},null,null,null,0,0,0,"",""]
[28,null,{"$f":"IF(ISBLANK($B32),\"\",LOOKUP($B32,Inscriptions!A$2:A$65496,Inscriptions!B$2:B$65498))","v":""},{"$f":"IF(ISBLANK($B32),\"\",LOOKUP($B32,Inscriptions!A$2:A$65496,Inscriptions!C$2:C$65498))","v":""},{"$f":"IF(ISBLANK($B32),\"\",LOOKUP($B32,Inscriptions!A$2:A$65496,Inscriptions!D$2:D$65498))","v":""},null,null,null,0,0,0,"",""]
[29,null,{"$f":"IF(ISBLANK($B33),\"\",LOOKUP($B33,Inscriptions!A$2:A$65496,Inscriptions!B$2:B$65498))","v":""},{"$f":"IF(ISBLANK($B33),\"\",LOOKUP($B33,Inscriptions!A$2:A$65496,Inscriptions!C$2:C$65498))","v":""},{"$f":"IF(ISBLANK($B33),\"\",LOOKUP($B33,Inscriptions!A$2:A$65496,Inscriptions!D$2:D$65498))","v":""},null,null,null,0,0,0,"",""]
[30,null,{"$f":"IF(ISBLANK($B34),\"\",LOOKUP($B34,Inscriptions!A$2:A$65496,Inscriptions!B$2:B$65498))","v":""},{"$f":"IF(ISBLANK($B34),\"\",LOOKUP($B34,Inscriptions!A$2:A$65496,Inscriptions!C$2:C$65498))","v":""},{"$f":"IF(ISBLANK($B34),\"\",LOOKUP($B34,Inscriptions!A$2:A$65496,Inscriptions!D$2:D$65498))","v":""},null,null,null,0,0,0,"",""]
[31,null,{"$f":"IF(ISBLANK($B35),\"\",LOOKUP($B35,Inscriptions!A$2:A$65496,Inscriptions!B$2:B$65498))","v":""},{"$f":"IF(ISBLANK($B35),\"\",LOOKUP($B35,Inscriptions!A$2:A$65496,Inscriptions!C$2:C$65498))","v":""},{"$f":"IF(ISBLANK($B35),\"\",LOOKUP($B35,Inscriptions!A$2:A$65496,Inscriptions!D$2:D$65498))","v":""},null,null,null,0,0,0,"",""]
[32,null,{"$f":"IF(ISBLANK($B36),\"\",LOOKUP($B36,Inscriptions!A$2:A$65496,Inscriptions!B$2:B$65498))","v":""},{"$f":"IF(ISBLANK($B36),\"\",LOOKUP($B36,Inscriptions!A$2:A$65496,Inscriptions!C$2:C$65498))","v":""},{"$f":"IF(ISBLANK($B36),\"\",LOOKUP($B36,Inscriptions!A$2:A$65496,Inscriptions!D$2:D$65498))","v":""},null,null,null,0,0,0,"",""]
[33,null,{"$f":"IF(ISBLANK($B37),\"\",LOOKUP($B37,Inscriptions!A$2:A$65496,Inscriptions!B$2:B$65498))","v":""},{"$f":"IF(ISBLANK($B37),\"\",LOOKUP($B37,Inscriptions!A$2:A$65496,Inscriptions!C$2:C$65498))","v":""},{"$f":"IF(ISBLANK($B37),\"\",LOOKUP($B37,Inscriptions!A$2:A$65496,Inscriptions!D$2:D$65498))","v":""},null,null,null,0,0,0,"",""]
[34,null,{"$f":"IF(ISBLANK($B38),\"\",LOOKUP($B38,Inscriptions!A$2:A$65496,Inscriptions!B$2:B$65498))","v":""},{"$f":"IF(ISBLANK($B38),\"\",LOOKUP($B38,Inscriptions!A$2:A$65496,Inscriptions!C$2:C$65498))","v":""},{"$f":"IF(ISBLANK($B38),\"\",LOOKUP($B38,Inscriptions!A$2:A$65496,Inscriptions!D$2:D$65498))","v":""},null,null,null,0,0,0,"",""]
[35,null,{"$f":"IF(ISBLANK($B39),\"\",LOOKUP($B39,Inscriptions!A$2:A$65496,Inscriptions!B$2:B$65498))","v":""},{"$f":"IF(ISBLANK($B39),\"\",LOOKUP($B39,Inscriptions!A$2:A$65496,Inscriptions!C$2:C$65498))","v":""},{"$f":"IF(ISBLANK($B39),\"\",LOOKUP($B39,Inscriptions!A$2:A$65496,Inscriptions!D$2:D$65498))","v":""},null,null,null,0,0,0,"",""]
[36,null,{"$f":"IF(ISBLANK($B40),\"\",LOOKUP($B40,Inscriptions!A$2:A$65496,Inscriptions!B$2:B$65498))","v":""},{"$f":"IF(ISBLANK($B40),\"\",LOOKUP($B40,Inscriptions!A$2:A$65496,Inscriptions!C$2:C$65498))","v":""},{"$f":"IF(ISBLANK($B40),\"\",LOOKUP($B40,Inscriptions!A$2:A$65496,Inscriptions!D$2:D$65498))","v":""},null,null,null,0,0,0,"",""]
[37,null,{"$f":"IF(ISBLANK($B41),\"\",LOOKUP($B41,Inscriptions!A$2:A$65496,Inscriptions!B$2:B$65498))","v":""},{"$f":"IF(ISBLANK($B41),\"\",LOOKUP($B41,Inscriptions!A$2:A$65496,Inscriptions!C$2:C$65498))","v":""},{"$f":"IF(ISBLANK($B41),\"\",LOOKUP($B41,Inscriptions!A$2:A$65496,Inscriptions!D$2:D$65498))","v":""},null,null,null,0,0,0,"",""]
[38,null,{"$f":"IF(ISBLANK($B42),\"\",LOOKUP($B42,Inscriptions!A$2:A$65496,Inscriptions!B$2:B$65498))","v":""},{"$f":"IF(ISBLANK($B42),\"\",LOOKUP($B42,Inscriptions!A$2:A$65496,Inscriptions!C$2:C$65498))","v":""},{"$f":"IF(ISBLANK($B42),\"\",LOOKUP($B42,Inscriptions!A$2:A$65496,Inscriptions!D$2:D$65498))","v":""},null,null,null,0,0,0,"",""]
[39,null,{"$f":"IF(ISBLANK($B43),\"\",LOOKUP($B43,Inscriptions!A$2:A$65496,Inscriptions!B$2:B$65498))","v":""},{"$f":"IF(ISBLANK($B43),\"\",LOOKUP($B43,Inscriptions!A$2:A$65496,Inscriptions!C$2:C$65498))","v":""},{"$f":"IF(ISBLANK($B43),\"\",LOOKUP($B43,Inscriptions!A$2:A$65496,Inscriptions!D$2:D$65498))","v":""},null,null,null,0,0,0,"",""]
[40,null,{"$f":"IF(ISBLANK($B44),\"\",LOOKUP($B44,Inscriptions!A$2:A$65496,Inscriptions!B$2:B$65498))","v":""},{"$f":"IF(ISBLANK($B44),\"\",LOOKUP($B44,Inscriptions!A$2:A$65496,Inscriptions!C$2:C$65498))","v":""},{"$f":"IF(ISBLANK($B44),\"\",LOOKUP($B44,Inscriptions!A$2:A$65496,Inscriptions!D$2:D$65498))","v":""},null,null,null,0,0,0,"",""]
[41,null,{"$f":"IF(ISBLANK($B45),\"\",LOOKUP($B45,Inscriptions!A$2:A$65496,Inscriptions!B$2:B$65498))","v":""},{"$f":"IF(ISBLANK($B45),\"\",LOOKUP($B45,Inscriptions!A$2:A$65496,Inscriptions!C$2:C$65498))","v":""},{"$f":"IF(ISBLANK($B45),\"\",LOOKUP($B45,Inscriptions!A$2:A$65496,Inscriptions!D$2:D$65498))","v":""},null,null,null,0,0,0,"",""]
[42,null,{"$f":"IF(ISBLANK($B46),\"\",LOOKUP($B46,Inscriptions!A$2:A$65496,Inscriptions!B$2:B$65498))","v":""},{"$f":"IF(ISBLANK($B46),\"\",LOOKUP($B46,Inscriptions!A$2:A$65496,Inscriptions!C$2:C$65498))","v":""},{"$f":"IF(ISBLANK($B46),\"\",LOOKUP($B46,Inscriptions!A$2:A$65496,Inscriptions!D$2:D$65498))","v":""},null,null,null,0,0,0,"",""]
[43,null,{"$f":"IF(ISBLANK($B47),\"\",LOOKUP($B47,Inscriptions!A$2:A$65496,Inscriptions!B$2:B$65498))","v":""},{"$f":"IF(ISBLANK($B47),\"\",LOOKUP($B47,Inscriptions!A$2:A$65496,Inscriptions!C$2:C$65498))","v":""},{"$f":"IF(ISBLANK($B47),\"\",LOOKUP($B47,Inscriptions!A$2:A$65496,Inscriptions!D$2:D$65498))","v":""},null,null,null,0,0,0,"",""]
[44,null,{"$f":"IF(ISBLANK($B48),\"\",LOOKUP($B48,Inscriptions!A$2:A$65496,Inscriptions!B$2:B$65498))","v":""},{"$f":"IF(ISBLANK($B48),\"\",LOOKUP($B48,Inscriptions!A$2:A$65496,Inscriptions!C$2:C$65498))","v":""},{"$f":"IF(ISBLANK($B48),\"\",LOOKUP($B48,Inscriptions!A$2:A$65496,Inscriptions!D$2:D$65498))","v":""},null,null,null,0,0,0,"",""]
[45,null,{"$f":"IF(ISBLANK($B49),\"\",LOOKUP($B49,Inscriptions!A$2:A$65496,Inscriptions!B$2:B$65498))","v":""},{"$f":"IF(ISBLANK($B49),\"\",LOOKUP($B49,Inscriptions!A$2:A$65496,Inscriptions!C$2:C$65498))","v":""},{"$f":"IF(ISBLANK($B49),\"\",LOOKUP($B49,Inscriptions!A$2:A$65496,Inscriptions!D$2:D$65498))","v":""},null,null,null,0,0,0,"",""]
[46,null,{"$f":"IF(ISBLANK($B50),\"\",LOOKUP($B50,Inscriptions!A$2:A$65496,Inscriptions!B$2:B$65498))","v":""},{"$f":"IF(ISBLANK($B50),\"\",LOOKUP($B50,Inscriptions!A$2:A$65496,Inscriptions!C$2:C$65498))","v":""},{"$f":"IF(ISBLANK($B50),\"\",LOOKUP($B50,Inscriptions!A$2:A$65496,Inscriptions!D$2:D$65498))","v":""},null,null,null,0,0,0,"",""]
[47,null,{"$f":"IF(ISBLANK($B51),\"\",LOOKUP($B51,Inscriptions!A$2:A$65496,Inscriptions!B$2:B$65498))","v":""},{"$f":"IF(ISBLANK($B51),\"\",LOOKUP($B51,Inscriptions!A$2:A$65496,Inscriptions!C$2:C$65498))","v":""},{"$f":"IF(ISBLANK($B51),\"\",LOOKUP($B51,Inscriptions!A$2:A$65496,Inscriptions!D$2:D$65498))","v":""},null,null,null,0,0,0,"",""]
[48,null,{"$f":"IF(ISBLANK($B52),\"\",LOOKUP($B52,Inscriptions!A$2:A$65496,Inscriptions!B$2:B$65498))","v":""},{"$f":"IF(ISBLANK($B52),\"\",LOOKUP($B52,Inscriptions!A$2:A$65496,Inscriptions!C$2:C$65498))","v":""},{"$f":"IF(ISBLANK($B52),\"\",LOOKUP($B52,Inscriptions!A$2:A$65496,Inscriptions!D$2:D$65498))","v":""},null,null,null,0,0,0,"",""]
[49,null,{"$f":"IF(ISBLANK($B53),\"\",LOOKUP($B53,Inscriptions!A$2:A$65496,Inscriptions!B$2:B$65498))","v":""},{"$f":"IF(ISBLANK($B53),\"\",LOOKUP($B53,Inscriptions!A$2:A$65496,Inscriptions!C$2:C$65498))","v":""},{"$f":"IF(ISBLANK($B53),\"\",LOOKUP($B53,Inscriptions!A$2:A$65496,Inscriptions!D$2:D$65498))","v":""},null,null,null,0,0,0,"",""]
[50,null,{"$f":"IF(ISBLANK($B54),\"\",LOOKUP($B54,Inscriptions!A$2:A$65496,Inscriptions!B$2:B$65498))","v":""},{"$f":"IF(ISBLANK($B54),\"\",LOOKUP($B54,Inscriptions!A$2:A$65496,Inscriptions!C$2:C$65498))","v":""},{"$f":"IF(ISBLANK($B54),\"\",LOOKUP($B54,Inscriptions!A$2:A$65496,Inscriptions!D$2:D$65498))","v":""},null,null,null,0,0,0,"",""]
[51,null,{"$f":"IF(ISBLANK($B55),\"\",LOOKUP($B55,Inscriptions!A$2:A$65496,Inscriptions!B$2:B$65498))","v":""},{"$f":"IF(ISBLANK($B55),\"\",LOOKUP($B55,Inscriptions!A$2:A$65496,Inscriptions!C$2:C$65498))","v":""},{"$f":"IF(ISBLANK($B55),\"\",LOOKUP($B55,Inscriptions!A$2:A$65496,Inscriptions!D$2:D$65498))","v":""},null,null,null,0,0,0,"",""]
[52,null,{"$f":"IF(ISBLANK($B56),\"\",LOOKUP($B56,Inscriptions!A$2:A$65496,Inscriptions!B$2:B$65498))","v":""},{"$f":"IF(ISBLANK($B56),\"\",LOOKUP($B56,Inscriptions!A$2:A$65496,Inscriptions!C$2:C$65498))","v":""},{"$f":"IF(ISBLANK($B56),\"\",LOOKUP($B56,Inscriptions!A$2:A$65496,Inscriptions!D$2:D$65498))","v":""},null,null,null,0,0,0,"",""]
[53,null,{"$f":"IF(ISBLANK($B57),\"\",LOOKUP($B57,Inscriptions!A$2:A$65496,Inscriptions!B$2:B$65498))","v":""},{"$f":"IF(ISBLANK($B57),\"\",LOOKUP($B57,Inscriptions!A$2:A$65496,Inscriptions!C$2:C$65498))","v":""},{"$f":"IF(ISBLANK($B57),\"\",LOOKUP($B57,Inscriptions!A$2:A$65496,Inscriptions!D$2:D$65498))","v":""},null,null,null,0,0,0,"",""]
[54,null,{"$f":"IF(ISBLANK($B58),\"\",LOOKUP($B58,Inscriptions!A$2:A$65496,Inscriptions!B$2:B$65498))","v":""},{"$f":"IF(ISBLANK($B58),\"\",LOOKUP($B58,Inscriptions!A$2:A$65496,Inscriptions!C$2:C$65498))","v":""},{"$f":"IF(ISBLANK($B58),\"\",LOOKUP($B58,Inscriptions!A$2:A$65496,Inscriptions!D$2:D$65498))","v":""},null,null,null,0,0,0,"",""]
[55,null,{"$f":"IF(ISBLANK($B59),\"\",LOOKUP($B59,Inscriptions!A$2:A$65496,Inscriptions!B$2:B$65498))","v":""},{"$f":"IF(ISBLANK($B59),\"\",LOOKUP($B59,Inscriptions!A$2:A$65496,Inscriptions!C$2:C$65498))","v":""},{"$f":"IF(ISBLANK($B59),\"\",LOOKUP($B59,Inscriptions!A$2:A$65496,Inscriptions!D$2:D$65498))","v":""},null,null,null,0,0,0,"",""]
[56,null,{"$f":"IF(ISBLANK($B60),\"\",LOOKUP($B60,Inscriptions!A$2:A$65496,Inscriptions!B$2:B$65498))","v":""},{"$f":"IF(ISBLANK($B60),\"\",LOOKUP($B60,Inscriptions!A$2:A$65496,Inscriptions!C$2:C$65498))","v":""},{"$f":"IF(ISBLANK($B60),\"\",LOOKUP($B60,Inscriptions!A$2:A$65496,Inscriptions!D$2:D$65498))","v":""},null,null,null,0,0,0,"",""]
[57,null,{"$f":"IF(ISBLANK($B61),\"\",LOOKUP($B61,Inscriptions!A$2:A$65496,Inscriptions!B$2:B$65498))","v":""},{"$f":"IF(ISBLANK($B61),\"\",LOOKUP($B61,Inscriptions!A$2:A$65496,Inscriptions!C$2:C$65498))","v":""},{"$f":"IF(ISBLANK($B61),\"\",LOOKUP($B61,Inscriptions!A$2:A$65496,Inscriptions!D$2:D$65498))","v":""},null,null,null,0,0,0,"",""]
[58,null,{"$f":"IF(ISBLANK($B62),\"\",LOOKUP($B62,Inscriptions!A$2:A$65496,Inscriptions!B$2:B$65498))","v":""},{"$f":"IF(ISBLANK($B62),\"\",LOOKUP($B62,Inscriptions!A$2:A$65496,Inscriptions!C$2:C$65498))","v":""},{"$f":"IF(ISBLANK($B62),\"\",LOOKUP($B62,Inscriptions!A$2:A$65496,Inscriptions!D$2:D$65498))","v":""},null,null,null,0,0,0,"",""]
[59,null,{"$f":"IF(ISBLANK($B63),\"\",LOOKUP($B63,Inscriptions!A$2:A$65496,Inscriptions!B$2:B$65498))","v":""},{"$f":"IF(ISBLANK($B63),\"\",LOOKUP($B63,Inscriptions!A$2:A$65496,Inscriptions!C$2:C$65498))","v":""},{"$f":"IF(ISBLANK($B63),\"\",LOOKUP($B63,Inscriptions!A$2:A$65496,Inscriptions!D$2:D$65498))","v":""},null,null,null,0,0,0,"",""]
[60,null,{"$f":"IF(ISBLANK($B64),\"\",LOOKUP($B64,Inscriptions!A$2:A$65496,Inscriptions!B$2:B$65498))","v":""},{"$f":"IF(ISBLANK($B64),\"\",LOOKUP($B64,Inscriptions!A$2:A$65496,Inscriptions!C$2:C$65498))","v":""},{"$f":"IF(ISBLANK($B64),\"\",LOOKUP($B64,Inscriptions!A$2:A$65496,Inscriptions!D$2:D$65498))","v":""},null,null,null,0,0,0,"",""]
[61,null,{"$f":"IF(ISBLANK($B65),\"\",LOOKUP($B65,Inscriptions!A$2:A$65496,Inscriptions!B$2:B$65498))","v":""},{"$f":"IF(ISBLANK($B65),\"\",LOOKUP($B65,Inscriptions!A$2:A$65496,Inscriptions!C$2:C$65498))","v":""},{"$f":"IF(ISBLANK($B65),\"\",LOOKUP($B65,Inscriptions!A$2:A$65496,Inscriptions!D$2:D$65498))","v":""},null,null,null,0,0,0,"",""]
[62,null,{"$f":"IF(ISBLANK($B66),\"\",LOOKUP($B66,Inscriptions!A$2:A$65496,Inscriptions!B$2:B$65498))","v":""},{"$f":"IF(ISBLANK($B66),\"\",LOOKUP($B66,Inscriptions!A$2:A$65496,Inscriptions!C$2:C$65498))","v":""},{"$f":"IF(ISBLANK($B66),\"\",LOOKUP($B66,Inscriptions!A$2:A$65496,Inscriptions!D$2:D$65498))","v":""},null,null,null,0,0,0,"",""]
[63,null,{"$f":"IF(ISBLANK($B67),\"\",LOOKUP($B67,Inscriptions!A$2:A$65496,Inscriptions!B$2:B$65498))","v":""},{"$f":"IF(ISBLANK($B67),\"\",LOOKUP($B67,Inscriptions!A$2:A$65496,Inscriptions!C$2:C$65498))","v":""},{"$f":"IF(ISBLANK($B67),\"\",LOOKUP($B67,Inscriptions!A$2:A$65496,Inscriptions!D$2:D$65498))","v":""},null,null,null,0,0,0,"",""]
[64,null,{"$f":"IF(ISBLANK($B68),\"\",LOOKUP($B68,Inscriptions!A$2:A$65496,Inscriptions!B$2:B$65498))","v":""},{"$f":"IF(ISBLANK($B68),\"\",LOOKUP($B68,Inscriptions!A$2:A$65496,Inscriptions!C$2:C$65498))","v":""},{"$f":"IF(ISBLANK($B68),\"\",LOOKUP($B68,Inscriptions!A$2:A$65496,Inscriptions!D$2:D$65498))","v":""},null,null,null,0,0,0,"",""]
[65,null,{"$f":"IF(ISBLANK($B69),\"\",LOOKUP($B69,Inscriptions!A$2:A$65496,Inscriptions!B$2:B$65498))","v":""},{"$f":"IF(ISBLANK($B69),\"\",LOOKUP($B69,Inscriptions!A$2:A$65496,Inscriptions!C$2:C$65498))","v":""},{"$f":"IF(ISBLANK($B69),\"\",LOOKUP($B69,Inscriptions!A$2:A$65496,Inscriptions!D$2:D$65498))","v":""},null,null,null,0,0,0,"",""]
[66,null,{"$f":"IF(ISBLANK($B70),\"\",LOOKUP($B70,Inscriptions!A$2:A$65496,Inscriptions!B$2:B$65498))","v":""},{"$f":"IF(ISBLANK($B70),\"\",LOOKUP($B70,Inscriptions!A$2:A$65496,Inscriptions!C$2:C$65498))","v":""},{"$f":"IF(ISBLANK($B70),\"\",LOOKUP($B70,Inscriptions!A$2:A$65496,Inscriptions!D$2:D$65498))","v":""},null,null,null,{"$f":"ROUNDDOWN(H70/10000,0)","v":0},{"$f":"ROUNDDOWN((H70-I70*10000)/100,0)","v":0},{"$f":"ROUNDDOWN((H70-(I70*10000)-(J70*100)),0)","v":0},{"$f":"IF((I70+J70+K70)=0,\"\",ROUNDDOWN((L$4/((I70*3600)+(J70*60)+K70))*3.6,2))","v":""},{"$f":"IF(L70=\"\",\"\",\"km/h\")","v":""}]
[67,null,{"$f":"IF(ISBLANK($B71),\"\",LOOKUP($B71,Inscriptions!A$2:A$65496,Inscriptions!B$2:B$65498))","v":""},{"$f":"IF(ISBLANK($B71),\"\",LOOKUP($B71,Inscriptions!A$2:A$65496,Inscriptions!C$2:C$65498))","v":""},{"$f":"IF(ISBLANK($B71),\"\",LOOKUP($B71,Inscriptions!A$2:A$65496,Inscriptions!D$2:D$65498))","v":""},null,null,null,0,0,0,"",""]
[68,null,{"$f":"IF(ISBLANK($B72),\"\",LOOKUP($B72,Inscriptions!A$2:A$65496,Inscriptions!B$2:B$65498))","v":""},{"$f":"IF(ISBLANK($B72),\"\",LOOKUP($B72,Inscriptions!A$2:A$65496,Inscriptions!C$2:C$65498))","v":""},{"$f":"IF(ISBLANK($B72),\"\",LOOKUP($B72,Inscriptions!A$2:A$65496,Inscriptions!D$2:D$65498))","v":""},null,null,null,0,0,0,"",""]
[69,null,{"$f":"IF(ISBLANK($B73),\"\",LOOKUP($B73,Inscriptions!A$2:A$65496,Inscriptions!B$2:B$65498))","v":""},{"$f":"IF(ISBLANK($B73),\"\",LOOKUP($B73,Inscriptions!A$2:A$65496,Inscriptions!C$2:C$65498))","v":""},{"$f":"IF(ISBLANK($B73),\"\",LOOKUP($B73,Inscriptions!A$2:A$65496,Inscriptions!D$2:D$65498))","v":""},null,null,null,0,0,0,"",""]
[70,null,{"$f":"IF(ISBLANK($B74),\"\",LOOKUP($B74,Inscriptions!A$2:A$65496,Inscriptions!B$2:B$65498))","v":""},{"$f":"IF(ISBLANK($B74),\"\",LOOKUP($B74,Inscriptions!A$2:A$65496,Inscriptions!C$2:C$65498))","v":""},{"$f":"IF(ISBLANK($B74),\"\",LOOKUP($B74,Inscriptions!A$2:A$65496,Inscriptions!D$2:D$65498))","v":""},null,null,null,0,0,0,"",""]
[71,null,{"$f":"IF(ISBLANK($B75),\"\",LOOKUP($B75,Inscriptions!A$2:A$65496,Inscriptions!B$2:B$65498))","v":""},{"$f":"IF(ISBLANK($B75),\"\",LOOKUP($B75,Inscriptions!A$2:A$65496,Inscriptions!C$2:C$65498))","v":""},{"$f":"IF(ISBLANK($B75),\"\",LOOKUP($B75,Inscriptions!A$2:A$65496,Inscriptions!D$2:D$65498))","v":""},null,null,null,0,0,0,"",""]
[72,null,{"$f":"IF(ISBLANK($B76),\"\",LOOKUP($B76,Inscriptions!A$2:A$65496,Inscriptions!B$2:B$65498))","v":""},{"$f":"IF(ISBLANK($B76),\"\",LOOKUP($B76,Inscriptions!A$2:A$65496,Inscriptions!C$2:C$65498))","v":""},{"$f":"IF(ISBLANK($B76),\"\",LOOKUP($B76,Inscriptions!A$2:A$65496,Inscriptions!D$2:D$65498))","v":""},null,null,null,0,0,0,"",""]
[73,null,{"$f":"IF(ISBLANK($B77),\"\",LOOKUP($B77,Inscriptions!A$2:A$65496,Inscriptions!B$2:B$65498))","v":""},{"$f":"IF(ISBLANK($B77),\"\",LOOKUP($B77,Inscriptions!A$2:A$65496,Inscriptions!C$2:C$65498))","v":""},{"$f":"IF(ISBLANK($B77),\"\",LOOKUP($B77,Inscriptions!A$2:A$65496,Inscriptions!D$2:D$65498))","v":""},null,null,null,0,0,0,"",""]
[74,null,{"$f":"IF(ISBLANK($B78),\"\",LOOKUP($B78,Inscriptions!A$2:A$65496,Inscriptions!B$2:B$65498))","v":""},{"$f":"IF(ISBLANK($B78),\"\",LOOKUP($B78,Inscriptions!A$2:A$65496,Inscriptions!C$2:C$65498))","v":""},{"$f":"IF(ISBLANK($B78),\"\",LOOKUP($B78,Inscriptions!A$2:A$65496,Inscriptions!D$2:D$65498))","v":""},null,null,null,0,0,0,"",""]
[75,null,{"$f":"IF(ISBLANK($B79),\"\",LOOKUP($B79,Inscriptions!A$2:A$65496,Inscriptions!B$2:B$65498))","v":""},{"$f":"IF(ISBLANK($B79),\"\",LOOKUP($B79,Inscriptions!A$2:A$65496,Inscriptions!C$2:C$65498))","v":""},{"$f":"IF(ISBLANK($B79),\"\",LOOKUP($B79,Inscriptions!A$2:A$65496,Inscriptions!D$2:D$65498))","v":""},null,null,null,0,0,0,"",""]
[76,null,{"$f":"IF(ISBLANK($B80),\"\",LOOKUP($B80,Inscriptions!A$2:A$65496,Inscriptions!B$2:B$65498))","v":""},{"$f":"IF(ISBLANK($B80),\"\",LOOKUP($B80,Inscriptions!A$2:A$65496,Inscriptions!C$2:C$65498))","v":""},{"$f":"IF(ISBLANK($B80),\"\",LOOKUP($B80,Inscriptions!A$2:A$65496,Inscriptions!D$2:D$65498))","v":""},null,null,null,0,0,0,"",""]
[77,null,{"$f":"IF(ISBLANK($B81),\"\",LOOKUP($B81,Inscriptions!A$2:A$65496,Inscriptions!B$2:B$65498))","v":""},{"$f":"IF(ISBLANK($B81),\"\",LOOKUP($B81,Inscriptions!A$2:A$65496,Inscriptions!C$2:C$65498))","v":""},{"$f":"IF(ISBLANK($B81),\"\",LOOKUP($B81,Inscriptions!A$2:A$65496,Inscriptions!D$2:D$65498))","v":""},null,null,null,0,0,0,"",""]
[78,null,{"$f":"IF(ISBLANK($B82),\"\",LOOKUP($B82,Inscriptions!A$2:A$65496,Inscriptions!B$2:B$65498))","v":""},{"$f":"IF(ISBLANK($B82),\"\",LOOKUP($B82,Inscriptions!A$2:A$65496,Inscriptions!C$2:C$65498))","v":""},{"$f":"IF(ISBLANK($B82),\"\",LOOKUP($B82,Inscriptions!A$2:A$65496,Inscriptions!D$2:D$65498))","v":""},null,null,null,0,0,0,"",""]
[79,null,{"$f":"IF(ISBLANK($B83),\"\",LOOKUP($B83,Inscriptions!A$2:A$65496,Inscriptions!B$2:B$65498))","v":""},{"$f":"IF(ISBLANK($B83),\"\",LOOKUP($B83,Inscriptions!A$2:A$65496,Inscriptions!C$2:C$65498))","v":""},{"$f":"IF(ISBLANK($B83),\"\",LOOKUP($B83,Inscriptions!A$2:A$65496,Inscriptions!D$2:D$65498))","v":""},null,null,null,0,0,0,"",""]
[80,null,{"$f":"IF(ISBLANK($B84),\"\",LOOKUP($B84,Inscriptions!A$2:A$65496,Inscriptions!B$2:B$65498))","v":""},{"$f":"IF(ISBLANK($B84),\"\",LOOKUP($B84,Inscriptions!A$2:A$65496,Inscriptions!C$2:C$65498))","v":""},{"$f":"IF(ISBLANK($B84),\"\",LOOKUP($B84,Inscriptions!A$2:A$65496,Inscriptions!D$2:D$65498))","v":""},null,null,null,0,0,0,"",""]
[81,null,{"$f":"IF(ISBLANK($B85),\"\",LOOKUP($B85,Inscriptions!A$2:A$65496,Inscriptions!B$2:B$65498))","v":""},{"$f":"IF(ISBLANK($B85),\"\",LOOKUP($B85,Inscriptions!A$2:A$65496,Inscriptions!C$2:C$65498))","v":""},{"$f":"IF(ISBLANK($B85),\"\",LOOKUP($B85,Inscriptions!A$2:A$65496,Inscriptions!D$2:D$65498))","v":""},null,null,null,0,0,0,"",""]
[82,null,{"$f":"IF(ISBLANK($B86),\"\",LOOKUP($B86,Inscriptions!A$2:A$65496,Inscriptions!B$2:B$65498))","v":""},{"$f":"IF(ISBLANK($B86),\"\",LOOKUP($B86,Inscriptions!A$2:A$65496,Inscriptions!C$2:C$65498))","v":""},{"$f":"IF(ISBLANK($B86),\"\",LOOKUP($B86,Inscriptions!A$2:A$65496,Inscriptions!D$2:D$65498))","v":""},null,null,null,0,0,0,"",""]
[83,null,{"$f":"IF(ISBLANK($B87),\"\",LOOKUP($B87,Inscriptions!A$2:A$65496,Inscriptions!B$2:B$65498))","v":""},{"$f":"IF(ISBLANK($B87),\"\",LOOKUP($B87,Inscriptions!A$2:A$65496,Inscriptions!C$2:C$65498))","v":""},{"$f":"IF(ISBLANK($B87),\"\",LOOKUP($B87,Inscriptions!A$2:A$65496,Inscriptions!D$2:D$65498))","v":""},null,null,null,0,0,0,"",""]
[84,null,{"$f":"IF(ISBLANK($B88),\"\",LOOKUP($B88,Inscriptions!A$2:A$65496,Inscriptions!B$2:B$65498))","v":""},{"$f":"IF(ISBLANK($B88),\"\",LOOKUP($B88,Inscriptions!A$2:A$65496,Inscriptions!C$2:C$65498))","v":""},{"$f":"IF(ISBLANK($B88),\"\",LOOKUP($B88,Inscriptions!A$2:A$65496,Inscriptions!D$2:D$65498))","v":""},null,null,null,0,0,0,"",""]
[85,null,{"$f":"IF(ISBLANK($B89),\"\",LOOKUP($B89,Inscriptions!A$2:A$65496,Inscriptions!B$2:B$65498))","v":""},{"$f":"IF(ISBLANK($B89),\"\",LOOKUP($B89,Inscriptions!A$2:A$65496,Inscriptions!C$2:C$65498))","v":""},{"$f":"IF(ISBLANK($B89),\"\",LOOKUP($B89,Inscriptions!A$2:A$65496,Inscriptions!D$2:D$65498))","v":""},null,null,null,0,0,0,"",""]
[86,null,{"$f":"IF(ISBLANK($B90),\"\",LOOKUP($B90,Inscriptions!A$2:A$65496,Inscriptions!B$2:B$65498))","v":""},{"$f":"IF(ISBLANK($B90),\"\",LOOKUP($B90,Inscriptions!A$2:A$65496,Inscriptions!C$2:C$65498))","v":""},{"$f":"IF(ISBLANK($B90),\"\",LOOKUP($B90,Inscriptions!A$2:A$65496,Inscriptions!D$2:D$65498))","v":""},null,null,null,0,0,0,"",""]
[87,null,{"$f":"IF(ISBLANK($B91),\"\",LOOKUP($B91,Inscriptions!A$2:A$65496,Inscriptions!B$2:B$65498))","v":""},{"$f":"IF(ISBLANK($B91),\"\",LOOKUP($B91,Inscriptions!A$2:A$65496,Inscriptions!C$2:C$65498))","v":""},{"$f":"IF(ISBLANK($B91),\"\",LOOKUP($B91,Inscriptions!A$2:A$65496,Inscriptions!D$2:D$65498))","v":""},null,null,null,0,0,0,"",""]
[88,null,{"$f":"IF(ISBLANK($B92),\"\",LOOKUP($B92,Inscriptions!A$2:A$65496,Inscriptions!B$2:B$65498))","v":""},{"$f":"IF(ISBLANK($B92),\"\",LOOKUP($B92,Inscriptions!A$2:A$65496,Inscriptions!C$2:C$65498))","v":""},{"$f":"IF(ISBLANK($B92),\"\",LOOKUP($B92,Inscriptions!A$2:A$65496,Inscriptions!D$2:D$65498))","v":""},null,null,null,0,0,0,"",""]
[89,null,{"$f":"IF(ISBLANK($B93),\"\",LOOKUP($B93,Inscriptions!A$2:A$65496,Inscriptions!B$2:B$65498))","v":""},{"$f":"IF(ISBLANK($B93),\"\",LOOKUP($B93,Inscriptions!A$2:A$65496,Inscriptions!C$2:C$65498))","v":""},{"$f":"IF(ISBLANK($B93),\"\",LOOKUP($B93,Inscriptions!A$2:A$65496,Inscriptions!D$2:D$65498))","v":""},null,null,null,0,0,0,"",""]
[90,null,{"$f":"IF(ISBLANK($B94),\"\",LOOKUP($B94,Inscriptions!A$2:A$65496,Inscriptions!B$2:B$65498))","v":""},{"$f":"IF(ISBLANK($B94),\"\",LOOKUP($B94,Inscriptions!A$2:A$65496,Inscriptions!C$2:C$65498))","v":""},{"$f":"IF(ISBLANK($B94),\"\",LOOKUP($B94,Inscriptions!A$2:A$65496,Inscriptions!D$2:D$65498))","v":""},null,null,null,0,0,0,"",""]
[91,null,{"$f":"IF(ISBLANK($B95),\"\",LOOKUP($B95,Inscriptions!A$2:A$65496,Inscriptions!B$2:B$65498))","v":""},{"$f":"IF(ISBLANK($B95),\"\",LOOKUP($B95,Inscriptions!A$2:A$65496,Inscriptions!C$2:C$65498))","v":""},{"$f":"IF(ISBLANK($B95),\"\",LOOKUP($B95,Inscriptions!A$2:A$65496,Inscriptions!D$2:D$65498))","v":""},null,null,null,0,0,0,"",""]
[92,null,{"$f":"IF(ISBLANK($B96),\"\",LOOKUP($B96,Inscriptions!A$2:A$65496,Inscriptions!B$2:B$65498))","v":""},{"$f":"IF(ISBLANK($B96),\"\",LOOKUP($B96,Inscriptions!A$2:A$65496,Inscriptions!C$2:C$65498))","v":""},{"$f":"IF(ISBLANK($B96),\"\",LOOKUP($B96,Inscriptions!A$2:A$65496,Inscriptions!D$2:D$65498))","v":""},null,null,null,0,0,0,"",""]
[93,null,{"$f":"IF(ISBLANK($B97),\"\",LOOKUP($B97,Inscriptions!A$2:A$65496,Inscriptions!B$2:B$65498))","v":""},{"$f":"IF(ISBLANK($B97),\"\",LOOKUP($B97,Inscriptions!A$2:A$65496,Inscriptions!C$2:C$65498))","v":""},{"$f":"IF(ISBLANK($B97),\"\",LOOKUP($B97,Inscriptions!A$2:A$65496,Inscriptions!D$2:D$65498))","v":""},null,null,null,0,0,0,"",""]
[94,null,{"$f":"IF(ISBLANK($B98),\"\",LOOKUP($B98,Inscriptions!A$2:A$65496,Inscriptions!B$2:B$65498))","v":""},{"$f":"IF(ISBLANK($B98),\"\",LOOKUP($B98,Inscriptions!A$2:A$65496,Inscriptions!C$2:C$65498))","v":""},{"$f":"IF(ISBLANK($B98),\"\",LOOKUP($B98,Inscriptions!A$2:A$65496,Inscriptions!D$2:D$65498))","v":""},null,null,null,0,0,0,"",""]
[95,null,{"$f":"IF(ISBLANK($B99),\"\",LOOKUP($B99,Inscriptions!A$2:A$65496,Inscriptions!B$2:B$65498))","v":""},{"$f":"IF(ISBLANK($B99),\"\",LOOKUP($B99,Inscriptions!A$2:A$65496,Inscriptions!C$2:C$65498))","v":""},{"$f":"IF(ISBLANK($B99),\"\",LOOKUP($B99,Inscriptions!A$2:A$65496,Inscriptions!D$2:D$65498))","v":""},null,null,null,0,0,0,"",""]
[96,null,{"$f":"IF(ISBLANK($B100),\"\",LOOKUP($B100,Inscriptions!A$2:A$65496,Inscriptions!B$2:B$65498))","v":""},{"$f":"IF(ISBLANK($B100),\"\",LOOKUP($B100,Inscriptions!A$2:A$65496,Inscriptions!C$2:C$65498))","v":""},{"$f":"IF(ISBLANK($B100),\"\",LOOKUP($B100,Inscriptions!A$2:A$65496,Inscriptions!D$2:D$65498))","v":""},null,null,null,0,0,0,"",""]
[97,null,{"$f":"IF(ISBLANK($B101),\"\",LOOKUP($B101,Inscriptions!A$2:A$65496,Inscriptions!B$2:B$65498))","v":""},{"$f":"IF(ISBLANK($B101),\"\",LOOKUP($B101,Inscriptions!A$2:A$65496,Inscriptions!C$2:C$65498))","v":""},{"$f":"IF(ISBLANK($B101),\"\",LOOKUP($B101,Inscriptions!A$2:A$65496,Inscriptions!D$2:D$65498))","v":""},null,null,null,0,0,0,"",""]
[98,null,{"$f":"IF(ISBLANK($B102),\"\",LOOKUP($B102,Inscriptions!A$2:A$65496,Inscriptions!B$2:B$65498))","v":""},{"$f":"IF(ISBLANK($B102),\"\",LOOKUP($B102,Inscriptions!A$2:A$65496,Inscriptions!C$2:C$65498))","v":""},{"$f":"IF(ISBLANK($B102),\"\",LOOKUP($B102,Inscriptions!A$2:A$65496,Inscriptions!D$2:D$65498))","v":""},null,null,null,0,0,0,"",""]
[99,null,{"$f":"IF(ISBLANK($B103),\"\",LOOKUP($B103,Inscriptions!A$2:A$65496,Inscriptions!B$2:B$65498))","v":""},{"$f":"IF(ISBLANK($B103),\"\",LOOKUP($B103,Inscriptions!A$2:A$65496,Inscriptions!C$2:C$65498))","v":""},{"$f":"IF(ISBLANK($B103),\"\",LOOKUP($B103,Inscriptions!A$2:A$65496,Inscriptions!D$2:D$65498))","v":""},null,null,null,0,0,0,"",""]
[100,null,{"$f":"IF(ISBLANK($B104),\"\",LOOKUP($B104,Inscriptions!A$2:A$65496,Inscriptions!B$2:B$65498))","v":""},{"$f":"IF(ISBLANK($B104),\"\",LOOKUP($B104,Inscriptions!A$2:A$65496,Inscriptions!C$2:C$65498))","v":""},{"$f":"IF(ISBLANK($B104),\"\",LOOKUP($B104,Inscriptions!A$2:A$65496,Inscriptions!D$2:D$65498))","v":""},null,null,null,0,0,0,"",""]
[101,null,{"$f":"IF(ISBLANK($B105),\"\",LOOKUP($B105,Inscriptions!A$2:A$65496,Inscriptions!B$2:B$65498))","v":""},{"$f":"IF(ISBLANK($B105),\"\",LOOKUP($B105,Inscriptions!A$2:A$65496,Inscriptions!C$2:C$65498))","v":""},{"$f":"IF(ISBLANK($B105),\"\",LOOKUP($B105,Inscriptions!A$2:A$65496,Inscriptions!D$2:D$65498))","v":""},null,null,null,0,0,0,"",""]
[102,null,{"$f":"IF(ISBLANK($B106),\"\",LOOKUP($B106,Inscriptions!A$2:A$65496,Inscriptions!B$2:B$65498))","v":""},{"$f":"IF(ISBLANK($B106),\"\",LOOKUP($B106,Inscriptions!A$2:A$65496,Inscriptions!C$2:C$65498))","v":""},{"$f":"IF(ISBLANK($B106),\"\",LOOKUP($B106,Inscriptions!A$2:A$65496,Inscriptions!D$2:D$65498))","v":""},null,null,null,0,0,0,"",""]
[103,null,{"$f":"IF(ISBLANK($B107),\"\",LOOKUP($B107,Inscriptions!A$2:A$65496,Inscriptions!B$2:B$65498))","v":""},{"$f":"IF(ISBLANK($B107),\"\",LOOKUP($B107,Inscriptions!A$2:A$65496,Inscriptions!C$2:C$65498))","v":""},{"$f":"IF(ISBLANK($B107),\"\",LOOKUP($B107,Inscriptions!A$2:A$65496,Inscriptions!D$2:D$65498))","v":""},null,null,null,0,0,0,"",""]
[104,null,{"$f":"IF(ISBLANK($B108),\"\",LOOKUP($B108,Inscriptions!A$2:A$65496,Inscriptions!B$2:B$65498))","v":""},{"$f":"IF(ISBLANK($B108),\"\",LOOKUP($B108,Inscriptions!A$2:A$65496,Inscriptions!C$2:C$65498))","v":""},{"$f":"IF(ISBLANK($B108),\"\",LOOKUP($B108,Inscriptions!A$2:A$65496,Inscriptions!D$2:D$65498))","v":""},null,null,null,0,0,0,"",""]
[105,null,{"$f":"IF(ISBLANK($B109),\"\",LOOKUP($B109,Inscriptions!A$2:A$65496,Inscriptions!B$2:B$65498))","v":""},{"$f":"IF(ISBLANK($B109),\"\",LOOKUP($B109,Inscriptions!A$2:A$65496,Inscriptions!C$2:C$65498))","v":""},{"$f":"IF(ISBLANK($B109),\"\",LOOKUP($B109,Inscriptions!A$2:A$65496,Inscriptions!D$2:D$65498))","v":""},null,null,null,0,0,0,"",""]
[106,null,{"$f":"IF(ISBLANK($B110),\"\",LOOKUP($B110,Inscriptions!A$2:A$65496,Inscriptions!B$2:B$65498))","v":""},{"$f":"IF(ISBLANK($B110),\"\",LOOKUP($B110,Inscriptions!A$2:A$65496,Inscriptions!C$2:C$65498))","v":""},{"$f":"IF(ISBLANK($B110),\"\",LOOKUP($B110,Inscriptions!A$2:A$65496,Inscriptions!D$2:D$65498))","v":""},null,null,null,0,0,0,"",""]
[107,null,{"$f":"IF(ISBLANK($B111),\"\",LOOKUP($B111,Inscriptions!A$2:A$65496,Inscriptions!B$2:B$65498))","v":""},{"$f":"IF(ISBLANK($B111),\"\",LOOKUP($B111,Inscriptions!A$2:A$65496,Inscriptions!C$2:C$65498))","v":""},{"$f":"IF(ISBLANK($B111),\"\",LOOKUP($B111,Inscriptions!A$2:A$65496,Inscriptions!D$2:D$65498))","v":""},null,null,null,0,0,0,"",""]
[108,null,{"$f":"IF(ISBLANK($B112),\"\",LOOKUP($B112,Inscriptions!A$2:A$65496,Inscriptions!B$2:B$65498))","v":""},{"$f":"IF(ISBLANK($B112),\"\",LOOKUP($B112,Inscriptions!A$2:A$65496,Inscriptions!C$2:C$65498))","v":""},{"$f":"IF(ISBLANK($B112),\"\",LOOKUP($B112,Inscriptions!A$2:A$65496,Inscriptions!D$2:D$65498))","v":""},null,null,null,0,0,0,"",""]
[109,null,{"$f":"IF(ISBLANK($B113),\"\",LOOKUP($B113,Inscriptions!A$2:A$65496,Inscriptions!B$2:B$65498))","v":""},{"$f":"IF(ISBLANK($B113),\"\",LOOKUP($B113,Inscriptions!A$2:A$65496,Inscriptions!C$2:C$65498))","v":""},{"$f":"IF(ISBLANK($B113),\"\",LOOKUP($B113,Inscriptions!A$2:A$65496,Inscriptions!D$2:D$65498))","v":""},null,null,null,0,0,0,"",""]
[110,null,{"$f":"IF(ISBLANK($B114),\"\",LOOKUP($B114,Inscriptions!A$2:A$65496,Inscriptions!B$2:B$65498))","v":""},{"$f":"IF(ISBLANK($B114),\"\",LOOKUP($B114,Inscriptions!A$2:A$65496,Inscriptions!C$2:C$65498))","v":""},{"$f":"IF(ISBLANK($B114),\"\",LOOKUP($B114,Inscriptions!A$2:A$65496,Inscriptions!D$2:D$65498))","v":""},null,null,null,0,0,0,"",""]
[111,null,{"$f":"IF(ISBLANK($B115),\"\",LOOKUP($B115,Inscriptions!A$2:A$65496,Inscriptions!B$2:B$65498))","v":""},{"$f":"IF(ISBLANK($B115),\"\",LOOKUP($B115,Inscriptions!A$2:A$65496,Inscriptions!C$2:C$65498))","v":""},{"$f":"IF(ISBLANK($B115),\"\",LOOKUP($B115,Inscriptions!A$2:A$65496,Inscriptions!D$2:D$65498))","v":""},null,null,null,0,0,0,"",""]
[112,null,{"$f":"IF(ISBLANK($B116),\"\",LOOKUP($B116,Inscriptions!A$2:A$65496,Inscriptions!B$2:B$65498))","v":""},{"$f":"IF(ISBLANK($B116),\"\",LOOKUP($B116,Inscriptions!A$2:A$65496,Inscriptions!C$2:C$65498))","v":""},{"$f":"IF(ISBLANK($B116),\"\",LOOKUP($B116,Inscriptions!A$2:A$65496,Inscriptions!D$2:D$65498))","v":""},null,null,null,0,0,0,"",""]
[113,null,{"$f":"IF(ISBLANK($B117),\"\",LOOKUP($B117,Inscriptions!A$2:A$65496,Inscriptions!B$2:B$65498))","v":""},{"$f":"IF(ISBLANK($B117),\"\",LOOKUP($B117,Inscriptions!A$2:A$65496,Inscriptions!C$2:C$65498))","v":""},{"$f":"IF(ISBLANK($B117),\"\",LOOKUP($B117,Inscriptions!A$2:A$65496,Inscriptions!D$2:D$65498))","v":""},null,null,null,0,0,0,"",""]
[114,null,{"$f":"IF(ISBLANK($B118),\"\",LOOKUP($B118,Inscriptions!A$2:A$65496,Inscriptions!B$2:B$65498))","v":""},{"$f":"IF(ISBLANK($B118),\"\",LOOKUP($B118,Inscriptions!A$2:A$65496,Inscriptions!C$2:C$65498))","v":""},{"$f":"IF(ISBLANK($B118),\"\",LOOKUP($B118,Inscriptions!A$2:A$65496,Inscriptions!D$2:D$65498))","v":""},null,null,null,0,0,0,"",""]
[115,null,{"$f":"IF(ISBLANK($B119),\"\",LOOKUP($B119,Inscriptions!A$2:A$65496,Inscriptions!B$2:B$65498))","v":""},{"$f":"IF(ISBLANK($B119),\"\",LOOKUP($B119,Inscriptions!A$2:A$65496,Inscriptions!C$2:C$65498))","v":""},{"$f":"IF(ISBLANK($B119),\"\",LOOKUP($B119,Inscriptions!A$2:A$65496,Inscriptions!D$2:D$65498))","v":""},null,null,null,0,0,0,"",""]
[116,null,{"$f":"IF(ISBLANK($B120),\"\",LOOKUP($B120,Inscriptions!A$2:A$65496,Inscriptions!B$2:B$65498))","v":""},{"$f":"IF(ISBLANK($B120),\"\",LOOKUP($B120,Inscriptions!A$2:A$65496,Inscriptions!C$2:C$65498))","v":""},{"$f":"IF(ISBLANK($B120),\"\",LOOKUP($B120,Inscriptions!A$2:A$65496,Inscriptions!D$2:D$65498))","v":""},null,null,null,0,0,0,"",""]
[117,null,{"$f":"IF(ISBLANK($B121),\"\",LOOKUP($B121,Inscriptions!A$2:A$65496,Inscriptions!B$2:B$65498))","v":""},{"$f":"IF(ISBLANK($B121),\"\",LOOKUP($B121,Inscriptions!A$2:A$65496,Inscriptions!C$2:C$65498))","v":""},{"$f":"IF(ISBLANK($B121),\"\",LOOKUP($B121,Inscriptions!A$2:A$65496,Inscriptions!D$2:D$65498))","v":""},null,null,null,0,0,0,"",""]
[118,null,{"$f":"IF(ISBLANK($B122),\"\",LOOKUP($B122,Inscriptions!A$2:A$65496,Inscriptions!B$2:B$65498))","v":""},{"$f":"IF(ISBLANK($B122),\"\",LOOKUP($B122,Inscriptions!A$2:A$65496,Inscriptions!C$2:C$65498))","v":""},{"$f":"IF(ISBLANK($B122),\"\",LOOKUP($B122,Inscriptions!A$2:A$65496,Inscriptions!D$2:D$65498))","v":""},null,null,null,0,0,0,"",""]
[119,null,{"$f":"IF(ISBLANK($B123),\"\",LOOKUP($B123,Inscriptions!A$2:A$65496,Inscriptions!B$2:B$65498))","v":""},{"$f":"IF(ISBLANK($B123),\"\",LOOKUP($B123,Inscriptions!A$2:A$65496,Inscriptions!C$2:C$65498))","v":""},{"$f":"IF(ISBLANK($B123),\"\",LOOKUP($B123,Inscriptions!A$2:A$65496,Inscriptions!D$2:D$65498))","v":""},null,null,null,0,0,0,"",""]
[120,null,{"$f":"IF(ISBLANK($B124),\"\",LOOKUP($B124,Inscriptions!A$2:A$65496,Inscriptions!B$2:B$65498))","v":""},{"$f":"IF(ISBLANK($B124),\"\",LOOKUP($B124,Inscriptions!A$2:A$65496,Inscriptions!C$2:C$65498))","v":""},{"$f":"IF(ISBLANK($B124),\"\",LOOKUP($B124,Inscriptions!A$2:A$65496,Inscriptions!D$2:D$65498))","v":""},null,null,null,0,0,0,"",""]
[121,null,{"$f":"IF(ISBLANK($B125),\"\",LOOKUP($B125,Inscriptions!A$2:A$65496,Inscriptions!B$2:B$65498))","v":""},{"$f":"IF(ISBLANK($B125),\"\",LOOKUP($B125,Inscriptions!A$2:A$65496,Inscriptions!C$2:C$65498))","v":""},{"$f":"IF(ISBLANK($B125),\"\",LOOKUP($B125,Inscriptions!A$2:A$65496,Inscriptions!D$2:D$65498))","v":""},null,null,null,0,0,0,"",""]
[122,null,{"$f":"IF(ISBLANK($B126),\"\",LOOKUP($B126,Inscriptions!A$2:A$65496,Inscriptions!B$2:B$65498))","v":""},{"$f":"IF(ISBLANK($B126),\"\",LOOKUP($B126,Inscriptions!A$2:A$65496,Inscriptions!C$2:C$65498))","v":""},{"$f":"IF(ISBLANK($B126),\"\",LOOKUP($B126,Inscriptions!A$2:A$65496,Inscriptions!D$2:D$65498))","v":""},null,null,null,0,0,0,"",""]
[123,null,{"$f":"IF(ISBLANK($B127),\"\",LOOKUP($B127,Inscriptions!A$2:A$65496,Inscriptions!B$2:B$65498))","v":""},{"$f":"IF(ISBLANK($B127),\"\",LOOKUP($B127,Inscriptions!A$2:A$65496,Inscriptions!C$2:C$65498))","v":""},{"$f":"IF(ISBLANK($B127),\"\",LOOKUP($B127,Inscriptions!A$2:A$65496,Inscriptions!D$2:D$65498))","v":""},null,null,null,0,0,0,"",""]
[124,null,{"$f":"IF(ISBLANK($B128),\"\",LOOKUP($B128,Inscriptions!A$2:A$65496,Inscriptions!B$2:B$65498))","v":""},{"$f":"IF(ISBLANK($B128),\"\",LOOKUP($B128,Inscriptions!A$2:A$65496,Inscriptions!C$2:C$65498))","v":""},{"$f":"IF(ISBLANK($B128),\"\",LOOKUP($B128,Inscriptions!A$2:A$65496,Inscriptions!D$2:D$65498))","v":""},null,null,null,0,0,0,"",""]
[125,null,{"$f":"IF(ISBLANK($B129),\"\",LOOKUP($B129,Inscriptions!A$2:A$65496,Inscriptions!B$2:B$65498))","v":""},{"$f":"IF(ISBLANK($B129),\"\",LOOKUP($B129,Inscriptions!A$2:A$65496,Inscriptions!C$2:C$65498))","v":""},{"$f":"IF(ISBLANK($B129),\"\",LOOKUP($B129,Inscriptions!A$2:A$65496,Inscriptions!D$2:D$65498))","v":""},null,null,null,0,0,0,"",""]
[126,null,{"$f":"IF(ISBLANK($B130),\"\",LOOKUP($B130,Inscriptions!A$2:A$65496,Inscriptions!B$2:B$65498))","v":""},{"$f":"IF(ISBLANK($B130),\"\",LOOKUP($B130,Inscriptions!A$2:A$65496,Inscriptions!C$2:C$65498))","v":""},{"$f":"IF(ISBLANK($B130),\"\",LOOKUP($B130,Inscriptions!A$2:A$65496,Inscriptions!D$2:D$65498))","v":""},null,null,null,0,0,0,"",""]
[127,null,{"$f":"IF(ISBLANK($B131),\"\",LOOKUP($B131,Inscriptions!A$2:A$65496,Inscriptions!B$2:B$65498))","v":""},{"$f":"IF(ISBLANK($B131),\"\",LOOKUP($B131,Inscriptions!A$2:A$65496,Inscriptions!C$2:C$65498))","v":""},{"$f":"IF(ISBLANK($B131),\"\",LOOKUP($B131,Inscriptions!A$2:A$65496,Inscriptions!D$2:D$65498))","v":""},null,null,null,0,0,0,"",""]
[128,null,{"$f":"IF(ISBLANK($B132),\"\",LOOKUP($B132,Inscriptions!A$2:A$65496,Inscriptions!B$2:B$65498))","v":""},{"$f":"IF(ISBLANK($B132),\"\",LOOKUP($B132,Inscriptions!A$2:A$65496,Inscriptions!C$2:C$65498))","v":""},{"$f":"IF(ISBLANK($B132),\"\",LOOKUP($B132,Inscriptions!A$2:A$65496,Inscriptions!D$2:D$65498))","v":""},null,null,null,0,0,0,"",""]
[129,null,{"$f":"IF(ISBLANK($B133),\"\",LOOKUP($B133,Inscriptions!A$2:A$65496,Inscriptions!B$2:B$65498))","v":""},{"$f":"IF(ISBLANK($B133),\"\",LOOKUP($B133,Inscriptions!A$2:A$65496,Inscriptions!C$2:C$65498))","v":""},{"$f":"IF(ISBLANK($B133),\"\",LOOKUP($B133,Inscriptions!A$2:A$65496,Inscriptions!D$2:D$65498))","v":""},null,null,null,0,0,0,"",""]
[130,null,{"$f":"IF(ISBLANK($B134),\"\",LOOKUP($B134,Inscriptions!A$2:A$65496,Inscriptions!B$2:B$65498))","v":""},{"$f":"IF(ISBLANK($B134),\"\",LOOKUP($B134,Inscriptions!A$2:A$65496,Inscriptions!C$2:C$65498))","v":""},{"$f":"IF(ISBLANK($B134),\"\",LOOKUP($B134,Inscriptions!A$2:A$65496,Inscriptions!D$2:D$65498))","v":""},null,null,null,{"$f":"ROUNDDOWN(H134/10000,0)","v":0},{"$f":"ROUNDDOWN((H134-I134*10000)/100,0)","v":0},{"$f":"ROUNDDOWN((H134-(I134*10000)-(J134*100)),0)","v":0},{"$f":"IF((I134+J134+K134)=0,\"\",ROUNDDOWN((L$4/((I134*3600)+(J134*60)+K134))*3.6,2))","v":""},{"$f":"IF(L134=\"\",\"\",\"km/h\")","v":""}]
[131,null,{"$f":"IF(ISBLANK($B135),\"\",LOOKUP($B135,Inscriptions!A$2:A$65496,Inscriptions!B$2:B$65498))","v":""},{"$f":"IF(ISBLANK($B135),\"\",LOOKUP($B135,Inscriptions!A$2:A$65496,Inscriptions!C$2:C$65498))","v":""},{"$f":"IF(ISBLANK($B135),\"\",LOOKUP($B135,Inscriptions!A$2:A$65496,Inscriptions!D$2:D$65498))","v":""},null,null,null,0,0,0,"",""]
[132,null,{"$f":"IF(ISBLANK($B136),\"\",LOOKUP($B136,Inscriptions!A$2:A$65496,Inscriptions!B$2:B$65498))","v":""},{"$f":"IF(ISBLANK($B136),\"\",LOOKUP($B136,Inscriptions!A$2:A$65496,Inscriptions!C$2:C$65498))","v":""},{"$f":"IF(ISBLANK($B136),\"\",LOOKUP($B136,Inscriptions!A$2:A$65496,Inscriptions!D$2:D$65498))","v":""},null,null,null,0,0,0,"",""]
[133,null,{"$f":"IF(ISBLANK($B137),\"\",LOOKUP($B137,Inscriptions!A$2:A$65496,Inscriptions!B$2:B$65498))","v":""},{"$f":"IF(ISBLANK($B137),\"\",LOOKUP($B137,Inscriptions!A$2:A$65496,Inscriptions!C$2:C$65498))","v":""},{"$f":"IF(ISBLANK($B137),\"\",LOOKUP($B137,Inscriptions!A$2:A$65496,Inscriptions!D$2:D$65498))","v":""},null,null,null,0,0,0,"",""]
[134,null,{"$f":"IF(ISBLANK($B138),\"\",LOOKUP($B138,Inscriptions!A$2:A$65496,Inscriptions!B$2:B$65498))","v":""},{"$f":"IF(ISBLANK($B138),\"\",LOOKUP($B138,Inscriptions!A$2:A$65496,Inscriptions!C$2:C$65498))","v":""},{"$f":"IF(ISBLANK($B138),\"\",LOOKUP($B138,Inscriptions!A$2:A$65496,Inscriptions!D$2:D$65498))","v":""},null,null,null,0,0,0,"",""]
[135,null,{"$f":"IF(ISBLANK($B139),\"\",LOOKUP($B139,Inscriptions!A$2:A$65496,Inscriptions!B$2:B$65498))","v":""},{"$f":"IF(ISBLANK($B139),\"\",LOOKUP($B139,Inscriptions!A$2:A$65496,Inscriptions!C$2:C$65498))","v":""},{"$f":"IF(ISBLANK($B139),\"\",LOOKUP($B139,Inscriptions!A$2:A$65496,Inscriptions!D$2:D$65498))","v":""},null,null,null,0,0,0,"",""]
[136,null,{"$f":"IF(ISBLANK($B140),\"\",LOOKUP($B140,Inscriptions!A$2:A$65496,Inscriptions!B$2:B$65498))","v":""},{"$f":"IF(ISBLANK($B140),\"\",LOOKUP($B140,Inscriptions!A$2:A$65496,Inscriptions!C$2:C$65498))","v":""},{"$f":"IF(ISBLANK($B140),\"\",LOOKUP($B140,Inscriptions!A$2:A$65496,Inscriptions!D$2:D$65498))","v":""},null,null,null,0,0,0,"",""]
[137,null,{"$f":"IF(ISBLANK($B141),\"\",LOOKUP($B141,Inscriptions!A$2:A$65496,Inscriptions!B$2:B$65498))","v":""},{"$f":"IF(ISBLANK($B141),\"\",LOOKUP($B141,Inscriptions!A$2:A$65496,Inscriptions!C$2:C$65498))","v":""},{"$f":"IF(ISBLANK($B141),\"\",LOOKUP($B141,Inscriptions!A$2:A$65496,Inscriptions!D$2:D$65498))","v":""},null,null,null,0,0,0,"",""]
[138,null,{"$f":"IF(ISBLANK($B142),\"\",LOOKUP($B142,Inscriptions!A$2:A$65496,Inscriptions!B$2:B$65498))","v":""},{"$f":"IF(ISBLANK($B142),\"\",LOOKUP($B142,Inscriptions!A$2:A$65496,Inscriptions!C$2:C$65498))","v":""},{"$f":"IF(ISBLANK($B142),\"\",LOOKUP($B142,Inscriptions!A$2:A$65496,Inscriptions!D$2:D$65498))","v":""},null,null,null,0,0,0,"",""]
[139,null,{"$f":"IF(ISBLANK($B143),\"\",LOOKUP($B143,Inscriptions!A$2:A$65496,Inscriptions!B$2:B$65498))","v":""},{"$f":"IF(ISBLANK($B143),\"\",LOOKUP($B143,Inscriptions!A$2:A$65496,Inscriptions!C$2:C$65498))","v":""},{"$f":"IF(ISBLANK($B143),\"\",LOOKUP($B143,Inscriptions!A$2:A$65496,Inscriptions!D$2:D$65498))","v":""},null,null,null,0,0,0,"",""]
[140,null,{"$f":"IF(ISBLANK($B144),\"\",LOOKUP($B144,Inscriptions!A$2:A$65496,Inscriptions!B$2:B$65498))","v":""},{"$f":"IF(ISBLANK($B144),\"\",LOOKUP($B144,Inscriptions!A$2:A$65496,Inscriptions!C$2:C$65498))","v":""},{"$f":"IF(ISBLANK($B144),\"\",LOOKUP($B144,Inscriptions!A$2:A$65496,Inscriptions!D$2:D$65498))","v":""},null,null,null,0,0,0,"",""]
[141,null,{"$f":"IF(ISBLANK($B145),\"\",LOOKUP($B145,Inscriptions!A$2:A$65496,Inscriptions!B$2:B$65498))","v":""},{"$f":"IF(ISBLANK($B145),\"\",LOOKUP($B145,Inscriptions!A$2:A$65496,Inscriptions!C$2:C$65498))","v":""},{"$f":"IF(ISBLANK($B145),\"\",LOOKUP($B145,Inscriptions!A$2:A$65496,Inscriptions!D$2:D$65498))","v":""},null,null,null,0,0,0,"",""]
[142,null,{"$f":"IF(ISBLANK($B146),\"\",LOOKUP($B146,Inscriptions!A$2:A$65496,Inscriptions!B$2:B$65498))","v":""},{"$f":"IF(ISBLANK($B146),\"\",LOOKUP($B146,Inscriptions!A$2:A$65496,Inscriptions!C$2:C$65498))","v":""},{"$f":"IF(ISBLANK($B146),\"\",LOOKUP($B146,Inscriptions!A$2:A$65496,Inscriptions!D$2:D$65498))","v":""},null,null,null,0,0,0,"",""]
[143,null,{"$f":"IF(ISBLANK($B147),\"\",LOOKUP($B147,Inscriptions!A$2:A$65496,Inscriptions!B$2:B$65498))","v":""},{"$f":"IF(ISBLANK($B147),\"\",LOOKUP($B147,Inscriptions!A$2:A$65496,Inscriptions!C$2:C$65498))","v":""},{"$f":"IF(ISBLANK($B147),\"\",LOOKUP($B147,Inscriptions!A$2:A$65496,Inscriptions!D$2:D$65498))","v":""},null,null,null,0,0,0,"",""]
[144,null,{"$f":"IF(ISBLANK($B148),\"\",LOOKUP($B148,Inscriptions!A$2:A$65496,Inscriptions!B$2:B$65498))","v":""},{"$f":"IF(ISBLANK($B148),\"\",LOOKUP($B148,Inscriptions!A$2:A$65496,Inscriptions!C$2:C$65498))","v":""},{"$f":"IF(ISBLANK($B148),\"\",LOOKUP($B148,Inscriptions!A$2:A$65496,Inscriptions!D$2:D$65498))","v":""},null,null,null,0,0,0,"",""]
[145,null,{"$f":"IF(ISBLANK($B149),\"\",LOOKUP($B149,Inscriptions!A$2:A$65496,Inscriptions!B$2:B$65498))","v":""},{"$f":"IF(ISBLANK($B149),\"\",LOOKUP($B149,Inscriptions!A$2:A$65496,Inscriptions!C$2:C$65498))","v":""},{"$f":"IF(ISBLANK($B149),\"\",LOOKUP($B149,Inscriptions!A$2:A$65496,Inscriptions!D$2:D$65498))","v":""},null,null,null,0,0,0,"",""]
[146,null,{"$f":"IF(ISBLANK($B150),\"\",LOOKUP($B150,Inscriptions!A$2:A$65496,Inscriptions!B$2:B$65498))","v":""},{"$f":"IF(ISBLANK($B150),\"\",LOOKUP($B150,Inscriptions!A$2:A$65496,Inscriptions!C$2:C$65498))","v":""},{"$f":"IF(ISBLANK($B150),\"\",LOOKUP($B150,Inscriptions!A$2:A$65496,Inscriptions!D$2:D$65498))","v":""},null,null,null,0,0,0,"",""]
[147,null,{"$f":"IF(ISBLANK($B151),\"\",LOOKUP($B151,Inscriptions!A$2:A$65496,Inscriptions!B$2:B$65498))","v":""},{"$f":"IF(ISBLANK($B151),\"\",LOOKUP($B151,Inscriptions!A$2:A$65496,Inscriptions!C$2:C$65498))","v":""},{"$f":"IF(ISBLANK($B151),\"\",LOOKUP($B151,Inscriptions!A$2:A$65496,Inscriptions!D$2:D$65498))","v":""},null,null,null,0,0,0,"",""]
[148,null,{"$f":"IF(ISBLANK($B152),\"\",LOOKUP($B152,Inscriptions!A$2:A$65496,Inscriptions!B$2:B$65498))","v":""},{"$f":"IF(ISBLANK($B152),\"\",LOOKUP($B152,Inscriptions!A$2:A$65496,Inscriptions!C$2:C$65498))","v":""},{"$f":"IF(ISBLANK($B152),\"\",LOOKUP($B152,Inscriptions!A$2:A$65496,Inscriptions!D$2:D$65498))","v":""},null,null,null,0,0,0,"",""]
[149,null,{"$f":"IF(ISBLANK($B153),\"\",LOOKUP($B153,Inscriptions!A$2:A$65496,Inscriptions!B$2:B$65498))","v":""},{"$f":"IF(ISBLANK($B153),\"\",LOOKUP($B153,Inscriptions!A$2:A$65496,Inscriptions!C$2:C$65498))","v":""},{"$f":"IF(ISBLANK($B153),\"\",LOOKUP($B153,Inscriptions!A$2:A$65496,Inscriptions!D$2:D$65498))","v":""},null,null,null,0,0,0,"",""]
[150,null,{"$f":"IF(ISBLANK($B154),\"\",LOOKUP($B154,Inscriptions!A$2:A$65496,Inscriptions!B$2:B$65498))","v":""},{"$f":"IF(ISBLANK($B154),\"\",LOOKUP($B154,Inscriptions!A$2:A$65496,Inscriptions!C$2:C$65498))","v":""},{"$f":"IF(ISBLANK($B154),\"\",LOOKUP($B154,Inscriptions!A$2:A$65496,Inscriptions!D$2:D$65498))","v":""},null,null,null,0,0,0,"",""]
[151,null,{"$f":"IF(ISBLANK($B155),\"\",LOOKUP($B155,Inscriptions!A$2:A$65496,Inscriptions!B$2:B$65498))","v":""},{"$f":"IF(ISBLANK($B155),\"\",LOOKUP($B155,Inscriptions!A$2:A$65496,Inscriptions!C$2:C$65498))","v":""},{"$f":"IF(ISBLANK($B155),\"\",LOOKUP($B155,Inscriptions!A$2:A$65496,Inscriptions!D$2:D$65498))","v":""},null,null,null,0,0,0,"",""]
[152,null,{"$f":"IF(ISBLANK($B156),\"\",LOOKUP($B156,Inscriptions!A$2:A$65496,Inscriptions!B$2:B$65498))","v":""},{"$f":"IF(ISBLANK($B156),\"\",LOOKUP($B156,Inscriptions!A$2:A$65496,Inscriptions!C$2:C$65498))","v":""},{"$f":"IF(ISBLANK($B156),\"\",LOOKUP($B156,Inscriptions!A$2:A$65496,Inscriptions!D$2:D$65498))","v":""},null,null,null,0,0,0,"",""]
[153,null,{"$f":"IF(ISBLANK($B157),\"\",LOOKUP($B157,Inscriptions!A$2:A$65496,Inscriptions!B$2:B$65498))","v":""},{"$f":"IF(ISBLANK($B157),\"\",LOOKUP($B157,Inscriptions!A$2:A$65496,Inscriptions!C$2:C$65498))","v":""},{"$f":"IF(ISBLANK($B157),\"\",LOOKUP($B157,Inscriptions!A$2:A$65496,Inscriptions!D$2:D$65498))","v":""},null,null,null,0,0,0,"",""]
[154,null,{"$f":"IF(ISBLANK($B158),\"\",LOOKUP($B158,Inscriptions!A$2:A$65496,Inscriptions!B$2:B$65498))","v":""},{"$f":"IF(ISBLANK($B158),\"\",LOOKUP($B158,Inscriptions!A$2:A$65496,Inscriptions!C$2:C$65498))","v":""},{"$f":"IF(ISBLANK($B158),\"\",LOOKUP($B158,Inscriptions!A$2:A$65496,Inscriptions!D$2:D$65498))","v":""},null,null,null,0,0,0,"",""]
[155,null,{"$f":"IF(ISBLANK($B159),\"\",LOOKUP($B159,Inscriptions!A$2:A$65496,Inscriptions!B$2:B$65498))","v":""},{"$f":"IF(ISBLANK($B159),\"\",LOOKUP($B159,Inscriptions!A$2:A$65496,Inscriptions!C$2:C$65498))","v":""},{"$f":"IF(ISBLANK($B159),\"\",LOOKUP($B159,Inscriptions!A$2:A$65496,Inscriptions!D$2:D$65498))","v":""},null,null,null,0,0,0,"",""]
[156,null,{"$f":"IF(ISBLANK($B160),\"\",LOOKUP($B160,Inscriptions!A$2:A$65496,Inscriptions!B$2:B$65498))","v":""},{"$f":"IF(ISBLANK($B160),\"\",LOOKUP($B160,Inscriptions!A$2:A$65496,Inscriptions!C$2:C$65498))","v":""},{"$f":"IF(ISBLANK($B160),\"\",LOOKUP($B160,Inscriptions!A$2:A$65496,Inscriptions!D$2:D$65498))","v":""},null,null,null,0,0,0,"",""]
[157,null,{"$f":"IF(ISBLANK($B161),\"\",LOOKUP($B161,Inscriptions!A$2:A$65496,Inscriptions!B$2:B$65498))","v":""},{"$f":"IF(ISBLANK($B161),\"\",LOOKUP($B161,Inscriptions!A$2:A$65496,Inscriptions!C$2:C$65498))","v":""},{"$f":"IF(ISBLANK($B161),\"\",LOOKUP($B161,Inscriptions!A$2:A$65496,Inscriptions!D$2:D$65498))","v":""},null,null,null,0,0,0,"",""]
[158,null,{"$f":"IF(ISBLANK($B162),\"\",LOOKUP($B162,Inscriptions!A$2:A$65496,Inscriptions!B$2:B$65498))","v":""},{"$f":"IF(ISBLANK($B162),\"\",LOOKUP($B162,Inscriptions!A$2:A$65496,Inscriptions!C$2:C$65498))","v":""},{"$f":"IF(ISBLANK($B162),\"\",LOOKUP($B162,Inscriptions!A$2:A$65496,Inscriptions!D$2:D$65498))","v":""},null,null,null,0,0,0,"",""]
[159,null,{"$f":"IF(ISBLANK($B163),\"\",LOOKUP($B163,Inscriptions!A$2:A$65496,Inscriptions!B$2:B$65498))","v":""},{"$f":"IF(ISBLANK($B163),\"\",LOOKUP($B163,Inscriptions!A$2:A$65496,Inscriptions!C$2:C$65498))","v":""},{"$f":"IF(ISBLANK($B163),\"\",LOOKUP($B163,Inscriptions!A$2:A$65496,Inscriptions!D$2:D$65498))","v":""},null,null,null,0,0,0,"",""]
[160,null,{"$f":"IF(ISBLANK($B164),\"\",LOOKUP($B164,Inscriptions!A$2:A$65496,Inscriptions!B$2:B$65498))","v":""},{"$f":"IF(ISBLANK($B164),\"\",LOOKUP($B164,Inscriptions!A$2:A$65496,Inscriptions!C$2:C$65498))","v":""},{"$f":"IF(ISBLANK($B164),\"\",LOOKUP($B164,Inscriptions!A$2:A$65496,Inscriptions!D$2:D$65498))","v":""},null,null,null,0,0,0,"",""]
[161,null,{"$f":"IF(ISBLANK($B165),\"\",LOOKUP($B165,Inscriptions!A$2:A$65496,Inscriptions!B$2:B$65498))","v":""},{"$f":"IF(ISBLANK($B165),\"\",LOOKUP($B165,Inscriptions!A$2:A$65496,Inscriptions!C$2:C$65498))","v":""},{"$f":"IF(ISBLANK($B165),\"\",LOOKUP($B165,Inscriptions!A$2:A$65496,Inscriptions!D$2:D$65498))","v":""},null,null,null,0,0,0,"",""]
[162,null,{"$f":"IF(ISBLANK($B166),\"\",LOOKUP($B166,Inscriptions!A$2:A$65496,Inscriptions!B$2:B$65498))","v":""},{"$f":"IF(ISBLANK($B166),\"\",LOOKUP($B166,Inscriptions!A$2:A$65496,Inscriptions!C$2:C$65498))","v":""},{"$f":"IF(ISBLANK($B166),\"\",LOOKUP($B166,Inscriptions!A$2:A$65496,Inscriptions!D$2:D$65498))","v":""},null,null,null,0,0,0,"",""]
[163,null,{"$f":"IF(ISBLANK($B167),\"\",LOOKUP($B167,Inscriptions!A$2:A$65496,Inscriptions!B$2:B$65498))","v":""},{"$f":"IF(ISBLANK($B167),\"\",LOOKUP($B167,Inscriptions!A$2:A$65496,Inscriptions!C$2:C$65498))","v":""},{"$f":"IF(ISBLANK($B167),\"\",LOOKUP($B167,Inscriptions!A$2:A$65496,Inscriptions!D$2:D$65498))","v":""},null,null,null,0,0,0,"",""]
[164,null,{"$f":"IF(ISBLANK($B168),\"\",LOOKUP($B168,Inscriptions!A$2:A$65496,Inscriptions!B$2:B$65498))","v":""},{"$f":"IF(ISBLANK($B168),\"\",LOOKUP($B168,Inscriptions!A$2:A$65496,Inscriptions!C$2:C$65498))","v":""},{"$f":"IF(ISBLANK($B168),\"\",LOOKUP($B168,Inscriptions!A$2:A$65496,Inscriptions!D$2:D$65498))","v":""},null,null,null,0,0,0,"",""]
[165,null,{"$f":"IF(ISBLANK($B169),\"\",LOOKUP($B169,Inscriptions!A$2:A$65496,Inscriptions!B$2:B$65498))","v":""},{"$f":"IF(ISBLANK($B169),\"\",LOOKUP($B169,Inscriptions!A$2:A$65496,Inscriptions!C$2:C$65498))","v":""},{"$f":"IF(ISBLANK($B169),\"\",LOOKUP($B169,Inscriptions!A$2:A$65496,Inscriptions!D$2:D$65498))","v":""},null,null,null,0,0,0,"",""]
[166,null,{"$f":"IF(ISBLANK($B170),\"\",LOOKUP($B170,Inscriptions!A$2:A$65496,Inscriptions!B$2:B$65498))","v":""},{"$f":"IF(ISBLANK($B170),\"\",LOOKUP($B170,Inscriptions!A$2:A$65496,Inscriptions!C$2:C$65498))","v":""},{"$f":"IF(ISBLANK($B170),\"\",LOOKUP($B170,Inscriptions!A$2:A$65496,Inscriptions!D$2:D$65498))","v":""},null,null,null,0,0,0,"",""]
[167,null,{"$f":"IF(ISBLANK($B171),\"\",LOOKUP($B171,Inscriptions!A$2:A$65496,Inscriptions!B$2:B$65498))","v":""},{"$f":"IF(ISBLANK($B171),\"\",LOOKUP($B171,Inscriptions!A$2:A$65496,Inscriptions!C$2:C$65498))","v":""},{"$f":"IF(ISBLANK($B171),\"\",LOOKUP($B171,Inscriptions!A$2:A$65496,Inscriptions!D$2:D$65498))","v":""},null,null,null,0,0,0,"",""]
[168,null,{"$f":"IF(ISBLANK($B172),\"\",LOOKUP($B172,Inscriptions!A$2:A$65496,Inscriptions!B$2:B$65498))","v":""},{"$f":"IF(ISBLANK($B172),\"\",LOOKUP($B172,Inscriptions!A$2:A$65496,Inscriptions!C$2:C$65498))","v":""},{"$f":"IF(ISBLANK($B172),\"\",LOOKUP($B172,Inscriptions!A$2:A$65496,Inscriptions!D$2:D$65498))","v":""},null,null,null,0,0,0,"",""]
[169,null,{"$f":"IF(ISBLANK($B173),\"\",LOOKUP($B173,Inscriptions!A$2:A$65496,Inscriptions!B$2:B$65498))","v":""},{"$f":"IF(ISBLANK($B173),\"\",LOOKUP($B173,Inscriptions!A$2:A$65496,Inscriptions!C$2:C$65498))","v":""},{"$f":"IF(ISBLANK($B173),\"\",LOOKUP($B173,Inscriptions!A$2:A$65496,Inscriptions!D$2:D$65498))","v":""},null,null,null,0,0,0,"",""]
[170,null,{"$f":"IF(ISBLANK($B174),\"\",LOOKUP($B174,Inscriptions!A$2:A$65496,Inscriptions!B$2:B$65498))","v":""},{"$f":"IF(ISBLANK($B174),\"\",LOOKUP($B174,Inscriptions!A$2:A$65496,Inscriptions!C$2:C$65498))","v":""},{"$f":"IF(ISBLANK($B174),\"\",LOOKUP($B174,Inscriptions!A$2:A$65496,Inscriptions!D$2:D$65498))","v":""},null,null,null,0,0,0,"",""]
[171,null,{"$f":"IF(ISBLANK($B175),\"\",LOOKUP($B175,Inscriptions!A$2:A$65496,Inscriptions!B$2:B$65498))","v":""},{"$f":"IF(ISBLANK($B175),\"\",LOOKUP($B175,Inscriptions!A$2:A$65496,Inscriptions!C$2:C$65498))","v":""},{"$f":"IF(ISBLANK($B175),\"\",LOOKUP($B175,Inscriptions!A$2:A$65496,Inscriptions!D$2:D$65498))","v":""},null,null,null,0,0,0,"",""]
[172,null,{"$f":"IF(ISBLANK($B176),\"\",LOOKUP($B176,Inscriptions!A$2:A$65496,Inscriptions!B$2:B$65498))","v":""},{"$f":"IF(ISBLANK($B176),\"\",LOOKUP($B176,Inscriptions!A$2:A$65496,Inscriptions!C$2:C$65498))","v":""},{"$f":"IF(ISBLANK($B176),\"\",LOOKUP($B176,Inscriptions!A$2:A$65496,Inscriptions!D$2:D$65498))","v":""},null,null,null,0,0,0,"",""]
[173,null,{"$f":"IF(ISBLANK($B177),\"\",LOOKUP($B177,Inscriptions!A$2:A$65496,Inscriptions!B$2:B$65498))","v":""},{"$f":"IF(ISBLANK($B177),\"\",LOOKUP($B177,Inscriptions!A$2:A$65496,Inscriptions!C$2:C$65498))","v":""},{"$f":"IF(ISBLANK($B177),\"\",LOOKUP($B177,Inscriptions!A$2:A$65496,Inscriptions!D$2:D$65498))","v":""},null,null,null,0,0,0,"",""]
[174,null,{"$f":"IF(ISBLANK($B178),\"\",LOOKUP($B178,Inscriptions!A$2:A$65496,Inscriptions!B$2:B$65498))","v":""},{"$f":"IF(ISBLANK($B178),\"\",LOOKUP($B178,Inscriptions!A$2:A$65496,Inscriptions!C$2:C$65498))","v":""},{"$f":"IF(ISBLANK($B178),\"\",LOOKUP($B178,Inscriptions!A$2:A$65496,Inscriptions!D$2:D$65498))","v":""},null,null,null,0,0,0,"",""]
[175,null,{"$f":"IF(ISBLANK($B179),\"\",LOOKUP($B179,Inscriptions!A$2:A$65496,Inscriptions!B$2:B$65498))","v":""},{"$f":"IF(ISBLANK($B179),\"\",LOOKUP($B179,Inscriptions!A$2:A$65496,Inscriptions!C$2:C$65498))","v":""},{"$f":"IF(ISBLANK($B179),\"\",LOOKUP($B179,Inscriptions!A$2:A$65496,Inscriptions!D$2:D$65498))","v":""},null,null,null,0,0,0,"",""]
[176,null,{"$f":"IF(ISBLANK($B180),\"\",LOOKUP($B180,Inscriptions!A$2:A$65496,Inscriptions!B$2:B$65498))","v":""},{"$f":"IF(ISBLANK($B180),\"\",LOOKUP($B180,Inscriptions!A$2:A$65496,Inscriptions!C$2:C$65498))","v":""},{"$f":"IF(ISBLANK($B180),\"\",LOOKUP($B180,Inscriptions!A$2:A$65496,Inscriptions!D$2:D$65498))","v":""},null,null,null,0,0,0,"",""]
[177,null,{"$f":"IF(ISBLANK($B181),\"\",LOOKUP($B181,Inscriptions!A$2:A$65496,Inscriptions!B$2:B$65498))","v":""},{"$f":"IF(ISBLANK($B181),\"\",LOOKUP($B181,Inscriptions!A$2:A$65496,Inscriptions!C$2:C$65498))","v":""},{"$f":"IF(ISBLANK($B181),\"\",LOOKUP($B181,Inscriptions!A$2:A$65496,Inscriptions!D$2:D$65498))","v":""},null,null,null,0,0,0,"",""]
[178,null,{"$f":"IF(ISBLANK($B182),\"\",LOOKUP($B182,Inscriptions!A$2:A$65496,Inscriptions!B$2:B$65498))","v":""},{"$f":"IF(ISBLANK($B182),\"\",LOOKUP($B182,Inscriptions!A$2:A$65496,Inscriptions!C$2:C$65498))","v":""},{"$f":"IF(ISBLANK($B182),\"\",LOOKUP($B182,Inscriptions!A$2:A$65496,Inscriptions!D$2:D$65498))","v":""},null,null,null,0,0,0,"",""]
[179,null,{"$f":"IF(ISBLANK($B183),\"\",LOOKUP($B183,Inscriptions!A$2:A$65496,Inscriptions!B$2:B$65498))","v":""},{"$f":"IF(ISBLANK($B183),\"\",LOOKUP($B183,Inscriptions!A$2:A$65496,Inscriptions!C$2:C$65498))","v":""},{"$f":"IF(ISBLANK($B183),\"\",LOOKUP($B183,Inscriptions!A$2:A$65496,Inscriptions!D$2:D$65498))","v":""},null,null,null,0,0,0,"",""]
[180,null,{"$f":"IF(ISBLANK($B184),\"\",LOOKUP($B184,Inscriptions!A$2:A$65496,Inscriptions!B$2:B$65498))","v":""},{"$f":"IF(ISBLANK($B184),\"\",LOOKUP($B184,Inscriptions!A$2:A$65496,Inscriptions!C$2:C$65498))","v":""},{"$f":"IF(ISBLANK($B184),\"\",LOOKUP($B184,Inscriptions!A$2:A$65496,Inscriptions!D$2:D$65498))","v":""},null,null,null,0,0,0,"",""]
[181,null,{"$f":"IF(ISBLANK($B185),\"\",LOOKUP($B185,Inscriptions!A$2:A$65496,Inscriptions!B$2:B$65498))","v":""},{"$f":"IF(ISBLANK($B185),\"\",LOOKUP($B185,Inscriptions!A$2:A$65496,Inscriptions!C$2:C$65498))","v":""},{"$f":"IF(ISBLANK($B185),\"\",LOOKUP($B185,Inscriptions!A$2:A$65496,Inscriptions!D$2:D$65498))","v":""},null,null,null,0,0,0,"",""]
[182,null,{"$f":"IF(ISBLANK($B186),\"\",LOOKUP($B186,Inscriptions!A$2:A$65496,Inscriptions!B$2:B$65498))","v":""},{"$f":"IF(ISBLANK($B186),\"\",LOOKUP($B186,Inscriptions!A$2:A$65496,Inscriptions!C$2:C$65498))","v":""},{"$f":"IF(ISBLANK($B186),\"\",LOOKUP($B186,Inscriptions!A$2:A$65496,Inscriptions!D$2:D$65498))","v":""},null,null,null,0,0,0,"",""]
[183,null,{"$f":"IF(ISBLANK($B187),\"\",LOOKUP($B187,Inscriptions!A$2:A$65496,Inscriptions!B$2:B$65498))","v":""},{"$f":"IF(ISBLANK($B187),\"\",LOOKUP($B187,Inscriptions!A$2:A$65496,Inscriptions!C$2:C$65498))","v":""},{"$f":"IF(ISBLANK($B187),\"\",LOOKUP($B187,Inscriptions!A$2:A$65496,Inscriptions!D$2:D$65498))","v":""},null,null,null,0,0,0,"",""]
[184,null,{"$f":"IF(ISBLANK($B188),\"\",LOOKUP($B188,Inscriptions!A$2:A$65496,Inscriptions!B$2:B$65498))","v":""},{"$f":"IF(ISBLANK($B188),\"\",LOOKUP($B188,Inscriptions!A$2:A$65496,Inscriptions!C$2:C$65498))","v":""},{"$f":"IF(ISBLANK($B188),\"\",LOOKUP($B188,Inscriptions!A$2:A$65496,Inscriptions!D$2:D$65498))","v":""},null,null,null,0,0,0,"",""]
[185,null,{"$f":"IF(ISBLANK($B189),\"\",LOOKUP($B189,Inscriptions!A$2:A$65496,Inscriptions!B$2:B$65498))","v":""},{"$f":"IF(ISBLANK($B189),\"\",LOOKUP($B189,Inscriptions!A$2:A$65496,Inscriptions!C$2:C$65498))","v":""},{"$f":"IF(ISBLANK($B189),\"\",LOOKUP($B189,Inscriptions!A$2:A$65496,Inscriptions!D$2:D$65498))","v":""},null,null,null,0,0,0,"",""]
[186,null,{"$f":"IF(ISBLANK($B190),\"\",LOOKUP($B190,Inscriptions!A$2:A$65496,Inscriptions!B$2:B$65498))","v":""},{"$f":"IF(ISBLANK($B190),\"\",LOOKUP($B190,Inscriptions!A$2:A$65496,Inscriptions!C$2:C$65498))","v":""},{"$f":"IF(ISBLANK($B190),\"\",LOOKUP($B190,Inscriptions!A$2:A$65496,Inscriptions!D$2:D$65498))","v":""},null,null,null,0,0,0,"",""]
[187,null,{"$f":"IF(ISBLANK($B191),\"\",LOOKUP($B191,Inscriptions!A$2:A$65496,Inscriptions!B$2:B$65498))","v":""},{"$f":"IF(ISBLANK($B191),\"\",LOOKUP($B191,Inscriptions!A$2:A$65496,Inscriptions!C$2:C$65498))","v":""},{"$f":"IF(ISBLANK($B191),\"\",LOOKUP($B191,Inscriptions!A$2:A$65496,Inscriptions!D$2:D$65498))","v":""},null,null,null,0,0,0,"",""]
[188,null,{"$f":"IF(ISBLANK($B192),\"\",LOOKUP($B192,Inscriptions!A$2:A$65496,Inscriptions!B$2:B$65498))","v":""},{"$f":"IF(ISBLANK($B192),\"\",LOOKUP($B192,Inscriptions!A$2:A$65496,Inscriptions!C$2:C$65498))","v":""},{"$f":"IF(ISBLANK($B192),\"\",LOOKUP($B192,Inscriptions!A$2:A$65496,Inscriptions!D$2:D$65498))","v":""},null,null,null,0,0,0,"",""]
[189,null,{"$f":"IF(ISBLANK($B193),\"\",LOOKUP($B193,Inscriptions!A$2:A$65496,Inscriptions!B$2:B$65498))","v":""},{"$f":"IF(ISBLANK($B193),\"\",LOOKUP($B193,Inscriptions!A$2:A$65496,Inscriptions!C$2:C$65498))","v":""},{"$f":"IF(ISBLANK($B193),\"\",LOOKUP($B193,Inscriptions!A$2:A$65496,Inscriptions!D$2:D$65498))","v":""},null,null,null,0,0,0,"",""]
[190,null,{"$f":"IF(ISBLANK($B194),\"\",LOOKUP($B194,Inscriptions!A$2:A$65496,Inscriptions!B$2:B$65498))","v":""},{"$f":"IF(ISBLANK($B194),\"\",LOOKUP($B194,Inscriptions!A$2:A$65496,Inscriptions!C$2:C$65498))","v":""},{"$f":"IF(ISBLANK($B194),\"\",LOOKUP($B194,Inscriptions!A$2:A$65496,Inscriptions!D$2:D$65498))","v":""},null,null,null,0,0,0,"",""]
[191,null,{"$f":"IF(ISBLANK($B195),\"\",LOOKUP($B195,Inscriptions!A$2:A$65496,Inscriptions!B$2:B$65498))","v":""},{"$f":"IF(ISBLANK($B195),\"\",LOOKUP($B195,Inscriptions!A$2:A$65496,Inscriptions!C$2:C$65498))","v":""},{"$f":"IF(ISBLANK($B195),\"\",LOOKUP($B195,Inscriptions!A$2:A$65496,Inscriptions!D$2:D$65498))","v":""},null,null,null,0,0,0,"",""]
[192,null,{"$f":"IF(ISBLANK($B196),\"\",LOOKUP($B196,Inscriptions!A$2:A$65496,Inscriptions!B$2:B$65498))","v":""},{"$f":"IF(ISBLANK($B196),\"\",LOOKUP($B196,Inscriptions!A$2:A$65496,Inscriptions!C$2:C$65498))","v":""},{"$f":"IF(ISBLANK($B196),\"\",LOOKUP($B196,Inscriptions!A$2:A$65496,Inscriptions!D$2:D$65498))","v":""},null,null,null,0,0,0,"",""]
[193,null,{"$f":"IF(ISBLANK($B197),\"\",LOOKUP($B197,Inscriptions!A$2:A$65496,Inscriptions!B$2:B$65498))","v":""},{"$f":"IF(ISBLANK($B197),\"\",LOOKUP($B197,Inscriptions!A$2:A$65496,Inscriptions!C$2:C$65498))","v":""},{"$f":"IF(ISBLANK($B197),\"\",LOOKUP($B197,Inscriptions!A$2:A$65496,Inscriptions!D$2:D$65498))","v":""},null,null,null,0,0,0,"",""]
[194,null,{"$f":"IF(ISBLANK($B198),\"\",LOOKUP($B198,Inscriptions!A$2:A$65496,Inscriptions!B$2:B$65498))","v":""},{"$f":"IF(ISBLANK($B198),\"\",LOOKUP($B198,Inscriptions!A$2:A$65496,Inscriptions!C$2:C$65498))","v":""},{"$f":"IF(ISBLANK($B198),\"\",LOOKUP($B198,Inscriptions!A$2:A$65496,Inscriptions!D$2:D$65498))","v":""},null,null,null,{"$f":"ROUNDDOWN(H198/10000,0)","v":0},{"$f":"ROUNDDOWN((H198-I198*10000)/100,0)","v":0},{"$f":"ROUNDDOWN((H198-(I198*10000)-(J198*100)),0)","v":0},{"$f":"IF((I198+J198+K198)=0,\"\",ROUNDDOWN((L$4/((I198*3600)+(J198*60)+K198))*3.6,2))","v":""},{"$f":"IF(L198=\"\",\"\",\"km/h\")","v":""}]
[195,null,{"$f":"IF(ISBLANK($B199),\"\",LOOKUP($B199,Inscriptions!A$2:A$65496,Inscriptions!B$2:B$65498))","v":""},{"$f":"IF(ISBLANK($B199),\"\",LOOKUP($B199,Inscriptions!A$2:A$65496,Inscriptions!C$2:C$65498))","v":""},{"$f":"IF(ISBLANK($B199),\"\",LOOKUP($B199,Inscriptions!A$2:A$65496,Inscriptions!D$2:D$65498))","v":""},null,null,null,0,0,0,"",""]
[196,null,{"$f":"IF(ISBLANK($B200),\"\",LOOKUP($B200,Inscriptions!A$2:A$65496,Inscriptions!B$2:B$65498))","v":""},{"$f":"IF(ISBLANK($B200),\"\",LOOKUP($B200,Inscriptions!A$2:A$65496,Inscriptions!C$2:C$65498))","v":""},{"$f":"IF(ISBLANK($B200),\"\",LOOKUP($B200,Inscriptions!A$2:A$65496,Inscriptions!D$2:D$65498))","v":""},null,null,null,0,0,0,"",""]
[197,null,{"$f":"IF(ISBLANK($B201),\"\",LOOKUP($B201,Inscriptions!A$2:A$65496,Inscriptions!B$2:B$65498))","v":""},{"$f":"IF(ISBLANK($B201),\"\",LOOKUP($B201,Inscriptions!A$2:A$65496,Inscriptions!C$2:C$65498))","v":""},{"$f":"IF(ISBLANK($B201),\"\",LOOKUP($B201,Inscriptions!A$2:A$65496,Inscriptions!D$2:D$65498))","v":""},null,null,null,0,0,0,"",""]
[198,null,{"$f":"IF(ISBLANK($B202),\"\",LOOKUP($B202,Inscriptions!A$2:A$65496,Inscriptions!B$2:B$65498))","v":""},{"$f":"IF(ISBLANK($B202),\"\",LOOKUP($B202,Inscriptions!A$2:A$65496,Inscriptions!C$2:C$65498))","v":""},{"$f":"IF(ISBLANK($B202),\"\",LOOKUP($B202,Inscriptions!A$2:A$65496,Inscriptions!D$2:D$65498))","v":""},null,null,null,0,0,0,"",""]
[199,null,{"$f":"IF(ISBLANK($B203),\"\",LOOKUP($B203,Inscriptions!A$2:A$65496,Inscriptions!B$2:B$65498))","v":""},{"$f":"IF(ISBLANK($B203),\"\",LOOKUP($B203,Inscriptions!A$2:A$65496,Inscriptions!C$2:C$65498))","v":""},{"$f":"IF(ISBLANK($B203),\"\",LOOKUP($B203,Inscriptions!A$2:A$65496,Inscriptions!D$2:D$65498))","v":""},null,null,null,0,0,0,"",""]
[200,null,{"$f":"IF(ISBLANK($B204),\"\",LOOKUP($B204,Inscriptions!A$2:A$65496,Inscriptions!B$2:B$65498))","v":""},{"$f":"IF(ISBLANK($B204),\"\",LOOKUP($B204,Inscriptions!A$2:A$65496,Inscriptions!C$2:C$65498))","v":""},{"$f":"IF(ISBLANK($B204),\"\",LOOKUP($B204,Inscriptions!A$2:A$65496,Inscriptions!D$2:D$65498))","v":""},null,null,null,0,0,0,"",""]
[201,null,{"$f":"IF(ISBLANK($B205),\"\",LOOKUP($B205,Inscriptions!A$2:A$65496,Inscriptions!B$2:B$65498))","v":""},{"$f":"IF(ISBLANK($B205),\"\",LOOKUP($B205,Inscriptions!A$2:A$65496,Inscriptions!C$2:C$65498))","v":""},{"$f":"IF(ISBLANK($B205),\"\",LOOKUP($B205,Inscriptions!A$2:A$65496,Inscriptions!D$2:D$65498))","v":""},null,null,null,0,0,0,"",""]
[202,null,{"$f":"IF(ISBLANK($B206),\"\",LOOKUP($B206,Inscriptions!A$2:A$65496,Inscriptions!B$2:B$65498))","v":""},{"$f":"IF(ISBLANK($B206),\"\",LOOKUP($B206,Inscriptions!A$2:A$65496,Inscriptions!C$2:C$65498))","v":""},{"$f":"IF(ISBLANK($B206),\"\",LOOKUP($B206,Inscriptions!A$2:A$65496,Inscriptions!D$2:D$65498))","v":""},null,null,null,0,0,0,"",""]
[203,null,{"$f":"IF(ISBLANK($B207),\"\",LOOKUP($B207,Inscriptions!A$2:A$65496,Inscriptions!B$2:B$65498))","v":""},{"$f":"IF(ISBLANK($B207),\"\",LOOKUP($B207,Inscriptions!A$2:A$65496,Inscriptions!C$2:C$65498))","v":""},{"$f":"IF(ISBLANK($B207),\"\",LOOKUP($B207,Inscriptions!A$2:A$65496,Inscriptions!D$2:D$65498))","v":""},null,null,null,0,0,0,"",""]
[204,null,{"$f":"IF(ISBLANK($B208),\"\",LOOKUP($B208,Inscriptions!A$2:A$65496,Inscriptions!B$2:B$65498))","v":""},{"$f":"IF(ISBLANK($B208),\"\",LOOKUP($B208,Inscriptions!A$2:A$65496,Inscriptions!C$2:C$65498))","v":""},{"$f":"IF(ISBLANK($B208),\"\",LOOKUP($B208,Inscriptions!A$2:A$65496,Inscriptions!D$2:D$65498))","v":""},null,null,null,0,0,0,"",""]
[205,null,{"$f":"IF(ISBLANK($B209),\"\",LOOKUP($B209,Inscriptions!A$2:A$65496,Inscriptions!B$2:B$65498))","v":""},{"$f":"IF(ISBLANK($B209),\"\",LOOKUP($B209,Inscriptions!A$2:A$65496,Inscriptions!C$2:C$65498))","v":""},{"$f":"IF(ISBLANK($B209),\"\",LOOKUP($B209,Inscriptions!A$2:A$65496,Inscriptions!D$2:D$65498))","v":""},null,null,null,0,0,0,"",""]
[206,null,{"$f":"IF(ISBLANK($B210),\"\",LOOKUP($B210,Inscriptions!A$2:A$65496,Inscriptions!B$2:B$65498))","v":""},{"$f":"IF(ISBLANK($B210),\"\",LOOKUP($B210,Inscriptions!A$2:A$65496,Inscriptions!C$2:C$65498))","v":""},{"$f":"IF(ISBLANK($B210),\"\",LOOKUP($B210,Inscriptions!A$2:A$65496,Inscriptions!D$2:D$65498))","v":""},null,null,null,0,0,0,"",""]
[207,null,{"$f":"IF(ISBLANK($B211),\"\",LOOKUP($B211,Inscriptions!A$2:A$65496,Inscriptions!B$2:B$65498))","v":""},{"$f":"IF(ISBLANK($B211),\"\",LOOKUP($B211,Inscriptions!A$2:A$65496,Inscriptions!C$2:C$65498))","v":""},{"$f":"IF(ISBLANK($B211),\"\",LOOKUP($B211,Inscriptions!A$2:A$65496,Inscriptions!D$2:D$65498))","v":""},null,null,null,0,0,0,"",""]
[208,null,{"$f":"IF(ISBLANK($B212),\"\",LOOKUP($B212,Inscriptions!A$2:A$65496,Inscriptions!B$2:B$65498))","v":""},{"$f":"IF(ISBLANK($B212),\"\",LOOKUP($B212,Inscriptions!A$2:A$65496,Inscriptions!C$2:C$65498))","v":""},{"$f":"IF(ISBLANK($B212),\"\",LOOKUP($B212,Inscriptions!A$2:A$65496,Inscriptions!D$2:D$65498))","v":""},null,null,null,0,0,0,"",""]
[209,null,{"$f":"IF(ISBLANK($B213),\"\",LOOKUP($B213,Inscriptions!A$2:A$65496,Inscriptions!B$2:B$65498))","v":""},{"$f":"IF(ISBLANK($B213),\"\",LOOKUP($B213,Inscriptions!A$2:A$65496,Inscriptions!C$2:C$65498))","v":""},{"$f":"IF(ISBLANK($B213),\"\",LOOKUP($B213,Inscriptions!A$2:A$65496,Inscriptions!D$2:D$65498))","v":""},null,null,null,0,0,0,"",""]
[210,null,{"$f":"IF(ISBLANK($B214),\"\",LOOKUP($B214,Inscriptions!A$2:A$65496,Inscriptions!B$2:B$65498))","v":""},{"$f":"IF(ISBLANK($B214),\"\",LOOKUP($B214,Inscriptions!A$2:A$65496,Inscriptions!C$2:C$65498))","v":""},{"$f":"IF(ISBLANK($B214),\"\",LOOKUP($B214,Inscriptions!A$2:A$65496,Inscriptions!D$2:D$65498))","v":""},null,null,null,0,0,0,"",""]
[211,null,{"$f":"IF(ISBLANK($B215),\"\",LOOKUP($B215,Inscriptions!A$2:A$65496,Inscriptions!B$2:B$65498))","v":""},{"$f":"IF(ISBLANK($B215),\"\",LOOKUP($B215,Inscriptions!A$2:A$65496,Inscriptions!C$2:C$65498))","v":""},{"$f":"IF(ISBLANK($B215),\"\",LOOKUP($B215,Inscriptions!A$2:A$65496,Inscriptions!D$2:D$65498))","v":""},null,null,null,0,0,0,"",""]
[212,null,{"$f":"IF(ISBLANK($B216),\"\",LOOKUP($B216,Inscriptions!A$2:A$65496,Inscriptions!B$2:B$65498))","v":""},{"$f":"IF(ISBLANK($B216),\"\",LOOKUP($B216,Inscriptions!A$2:A$65496,Inscriptions!C$2:C$65498))","v":""},{"$f":"IF(ISBLANK($B216),\"\",LOOKUP($B216,Inscriptions!A$2:A$65496,Inscriptions!D$2:D$65498))","v":""},null,null,null,0,0,0,"",""]
[213,null,{"$f":"IF(ISBLANK($B217),\"\",LOOKUP($B217,Inscriptions!A$2:A$65496,Inscriptions!B$2:B$65498))","v":""},{"$f":"IF(ISBLANK($B217),\"\",LOOKUP($B217,Inscriptions!A$2:A$65496,Inscriptions!C$2:C$65498))","v":""},{"$f":"IF(ISBLANK($B217),\"\",LOOKUP($B217,Inscriptions!A$2:A$65496,Inscriptions!D$2:D$65498))","v":""},null,null,null,0,0,0,"",""]
[214,null,{"$f":"IF(ISBLANK($B218),\"\",LOOKUP($B218,Inscriptions!A$2:A$65496,Inscriptions!B$2:B$65498))","v":""},{"$f":"IF(ISBLANK($B218),\"\",LOOKUP($B218,Inscriptions!A$2:A$65496,Inscriptions!C$2:C$65498))","v":""},{"$f":"IF(ISBLANK($B218),\"\",LOOKUP($B218,Inscriptions!A$2:A$65496,Inscriptions!D$2:D$65498))","v":""},null,null,null,0,0,0,"",""]
[215,null,{"$f":"IF(ISBLANK($B219),\"\",LOOKUP($B219,Inscriptions!A$2:A$65496,Inscriptions!B$2:B$65498))","v":""},{"$f":"IF(ISBLANK($B219),\"\",LOOKUP($B219,Inscriptions!A$2:A$65496,Inscriptions!C$2:C$65498))","v":""},{"$f":"IF(ISBLANK($B219),\"\",LOOKUP($B219,Inscriptions!A$2:A$65496,Inscriptions!D$2:D$65498))","v":""},null,null,null,0,0,0,"",""]
[216,null,{"$f":"IF(ISBLANK($B220),\"\",LOOKUP($B220,Inscriptions!A$2:A$65496,Inscriptions!B$2:B$65498))","v":""},{"$f":"IF(ISBLANK($B220),\"\",LOOKUP($B220,Inscriptions!A$2:A$65496,Inscriptions!C$2:C$65498))","v":""},{"$f":"IF(ISBLANK($B220),\"\",LOOKUP($B220,Inscriptions!A$2:A$65496,Inscriptions!D$2:D$65498))","v":""},null,null,null,0,0,0,"",""]
[217,null,{"$f":"IF(ISBLANK($B221),\"\",LOOKUP($B221,Inscriptions!A$2:A$65496,Inscriptions!B$2:B$65498))","v":""},{"$f":"IF(ISBLANK($B221),\"\",LOOKUP($B221,Inscriptions!A$2:A$65496,Inscriptions!C$2:C$65498))","v":""},{"$f":"IF(ISBLANK($B221),\"\",LOOKUP($B221,Inscriptions!A$2:A$65496,Inscriptions!D$2:D$65498))","v":""},null,null,null,0,0,0,"",""]
[218,null,{"$f":"IF(ISBLANK($B222),\"\",LOOKUP($B222,Inscriptions!A$2:A$65496,Inscriptions!B$2:B$65498))","v":""},{"$f":"IF(ISBLANK($B222),\"\",LOOKUP($B222,Inscriptions!A$2:A$65496,Inscriptions!C$2:C$65498))","v":""},{"$f":"IF(ISBLANK($B222),\"\",LOOKUP($B222,Inscriptions!A$2:A$65496,Inscriptions!D$2:D$65498))","v":""},null,null,null,0,0,0,"",""]
[219,null,{"$f":"IF(ISBLANK($B223),\"\",LOOKUP($B223,Inscriptions!A$2:A$65496,Inscriptions!B$2:B$65498))","v":""},{"$f":"IF(ISBLANK($B223),\"\",LOOKUP($B223,Inscriptions!A$2:A$65496,Inscriptions!C$2:C$65498))","v":""},{"$f":"IF(ISBLANK($B223),\"\",LOOKUP($B223,Inscriptions!A$2:A$65496,Inscriptions!D$2:D$65498))","v":""},null,null,null,0,0,0,"",""]
[220,null,{"$f":"IF(ISBLANK($B224),\"\",LOOKUP($B224,Inscriptions!A$2:A$65496,Inscriptions!B$2:B$65498))","v":""},{"$f":"IF(ISBLANK($B224),\"\",LOOKUP($B224,Inscriptions!A$2:A$65496,Inscriptions!C$2:C$65498))","v":""},{"$f":"IF(ISBLANK($B224),\"\",LOOKUP($B224,Inscriptions!A$2:A$65496,Inscriptions!D$2:D$65498))","v":""},null,null,null,0,0,0,"",""]
[221,null,{"$f":"IF(ISBLANK($B225),\"\",LOOKUP($B225,Inscriptions!A$2:A$65496,Inscriptions!B$2:B$65498))","v":""},{"$f":"IF(ISBLANK($B225),\"\",LOOKUP($B225,Inscriptions!A$2:A$65496,Inscriptions!C$2:C$65498))","v":""},{"$f":"IF(ISBLANK($B225),\"\",LOOKUP($B225,Inscriptions!A$2:A$65496,Inscriptions!D$2:D$65498))","v":""},null,null,null,0,0,0,"",""]
[222,null,{"$f":"IF(ISBLANK($B226),\"\",LOOKUP($B226,Inscriptions!A$2:A$65496,Inscriptions!B$2:B$65498))","v":""},{"$f":"IF(ISBLANK($B226),\"\",LOOKUP($B226,Inscriptions!A$2:A$65496,Inscriptions!C$2:C$65498))","v":""},{"$f":"IF(ISBLANK($B226),\"\",LOOKUP($B226,Inscriptions!A$2:A$65496,Inscriptions!D$2:D$65498))","v":""},null,null,null,0,0,0,"",""]
[223,null,{"$f":"IF(ISBLANK($B227),\"\",LOOKUP($B227,Inscriptions!A$2:A$65496,Inscriptions!B$2:B$65498))","v":""},{"$f":"IF(ISBLANK($B227),\"\",LOOKUP($B227,Inscriptions!A$2:A$65496,Inscriptions!C$2:C$65498))","v":""},{"$f":"IF(ISBLANK($B227),\"\",LOOKUP($B227,Inscriptions!A$2:A$65496,Inscriptions!D$2:D$65498))","v":""},null,null,null,0,0,0,"",""]
[224,null,{"$f":"IF(ISBLANK($B228),\"\",LOOKUP($B228,Inscriptions!A$2:A$65496,Inscriptions!B$2:B$65498))","v":""},{"$f":"IF(ISBLANK($B228),\"\",LOOKUP($B228,Inscriptions!A$2:A$65496,Inscriptions!C$2:C$65498))","v":""},{"$f":"IF(ISBLANK($B228),\"\",LOOKUP($B228,Inscriptions!A$2:A$65496,Inscriptions!D$2:D$65498))","v":""},null,null,null,0,0,0,"",""]
[225,null,{"$f":"IF(ISBLANK($B229),\"\",LOOKUP($B229,Inscriptions!A$2:A$65496,Inscriptions!B$2:B$65498))","v":""},{"$f":"IF(ISBLANK($B229),\"\",LOOKUP($B229,Inscriptions!A$2:A$65496,Inscriptions!C$2:C$65498))","v":""},{"$f":"IF(ISBLANK($B229),\"\",LOOKUP($B229,Inscriptions!A$2:A$65496,Inscriptions!D$2:D$65498))","v":""},null,null,null,0,0,0,"",""]
[226,null,{"$f":"IF(ISBLANK($B230),\"\",LOOKUP($B230,Inscriptions!A$2:A$65496,Inscriptions!B$2:B$65498))","v":""},{"$f":"IF(ISBLANK($B230),\"\",LOOKUP($B230,Inscriptions!A$2:A$65496,Inscriptions!C$2:C$65498))","v":""},{"$f":"IF(ISBLANK($B230),\"\",LOOKUP($B230,Inscriptions!A$2:A$65496,Inscriptions!D$2:D$65498))","v":""},null,null,null,0,0,0,"",""]
[227,null,{"$f":"IF(ISBLANK($B231),\"\",LOOKUP($B231,Inscriptions!A$2:A$65496,Inscriptions!B$2:B$65498))","v":""},{"$f":"IF(ISBLANK($B231),\"\",LOOKUP($B231,Inscriptions!A$2:A$65496,Inscriptions!C$2:C$65498))","v":""},{"$f":"IF(ISBLANK($B231),\"\",LOOKUP($B231,Inscriptions!A$2:A$65496,Inscriptions!D$2:D$65498))","v":""},null,null,null,0,0,0,"",""]
[228,null,{"$f":"IF(ISBLANK($B232),\"\",LOOKUP($B232,Inscriptions!A$2:A$65496,Inscriptions!B$2:B$65498))","v":""},{"$f":"IF(ISBLANK($B232),\"\",LOOKUP($B232,Inscriptions!A$2:A$65496,Inscriptions!C$2:C$65498))","v":""},{"$f":"IF(ISBLANK($B232),\"\",LOOKUP($B232,Inscriptions!A$2:A$65496,Inscriptions!D$2:D$65498))","v":""},null,null,null,0,0,0,"",""]
[229,null,{"$f":"IF(ISBLANK($B233),\"\",LOOKUP($B233,Inscriptions!A$2:A$65496,Inscriptions!B$2:B$65498))","v":""},{"$f":"IF(ISBLANK($B233),\"\",LOOKUP($B233,Inscriptions!A$2:A$65496,Inscriptions!C$2:C$65498))","v":""},{"$f":"IF(ISBLANK($B233),\"\",LOOKUP($B233,Inscriptions!A$2:A$65496,Inscriptions!D$2:D$65498))","v":""},null,null,null,0,0,0,"",""]
[230,null,{"$f":"IF(ISBLANK($B234),\"\",LOOKUP($B234,Inscriptions!A$2:A$65496,Inscriptions!B$2:B$65498))","v":""},{"$f":"IF(ISBLANK($B234),\"\",LOOKUP($B234,Inscriptions!A$2:A$65496,Inscriptions!C$2:C$65498))","v":""},{"$f":"IF(ISBLANK($B234),\"\",LOOKUP($B234,Inscriptions!A$2:A$65496,Inscriptions!D$2:D$65498))","v":""},null,null,null,0,0,0,"",""]
[231,null,{"$f":"IF(ISBLANK($B235),\"\",LOOKUP($B235,Inscriptions!A$2:A$65496,Inscriptions!B$2:B$65498))","v":""},{"$f":"IF(ISBLANK($B235),\"\",LOOKUP($B235,Inscriptions!A$2:A$65496,Inscriptions!C$2:C$65498))","v":""},{"$f":"IF(ISBLANK($B235),\"\",LOOKUP($B235,Inscriptions!A$2:A$65496,Inscriptions!D$2:D$65498))","v":""},null,null,null,0,0,0,"",""]
[232,null,{"$f":"IF(ISBLANK($B236),\"\",LOOKUP($B236,Inscriptions!A$2:A$65496,Inscriptions!B$2:B$65498))","v":""},{"$f":"IF(ISBLANK($B236),\"\",LOOKUP($B236,Inscriptions!A$2:A$65496,Inscriptions!C$2:C$65498))","v":""},{"$f":"IF(ISBLANK($B236),\"\",LOOKUP($B236,Inscriptions!A$2:A$65496,Inscriptions!D$2:D$65498))","v":""},null,null,null,0,0,0,"",""]
[233,null,{"$f":"IF(ISBLANK($B237),\"\",LOOKUP($B237,Inscriptions!A$2:A$65496,Inscriptions!B$2:B$65498))","v":""},{"$f":"IF(ISBLANK($B237),\"\",LOOKUP($B237,Inscriptions!A$2:A$65496,Inscriptions!C$2:C$65498))","v":""},{"$f":"IF(ISBLANK($B237),\"\",LOOKUP($B237,Inscriptions!A$2:A$65496,Inscriptions!D$2:D$65498))","v":""},null,null,null,0,0,0,"",""]
[234,null,{"$f":"IF(ISBLANK($B238),\"\",LOOKUP($B238,Inscriptions!A$2:A$65496,Inscriptions!B$2:B$65498))","v":""},{"$f":"IF(ISBLANK($B238),\"\",LOOKUP($B238,Inscriptions!A$2:A$65496,Inscriptions!C$2:C$65498))","v":""},{"$f":"IF(ISBLANK($B238),\"\",LOOKUP($B238,Inscriptions!A$2:A$65496,Inscriptions!D$2:D$65498))","v":""},null,null,null,0,0,0,"",""]
[235,null,{"$f":"IF(ISBLANK($B239),\"\",LOOKUP($B239,Inscriptions!A$2:A$65496,Inscriptions!B$2:B$65498))","v":""},{"$f":"IF(ISBLANK($B239),\"\",LOOKUP($B239,Inscriptions!A$2:A$65496,Inscriptions!C$2:C$65498))","v":""},{"$f":"IF(ISBLANK($B239),\"\",LOOKUP($B239,Inscriptions!A$2:A$65496,Inscriptions!D$2:D$65498))","v":""},null,null,null,0,0,0,"",""]
[236,null,{"$f":"IF(ISBLANK($B240),\"\",LOOKUP($B240,Inscriptions!A$2:A$65496,Inscriptions!B$2:B$65498))","v":""},{"$f":"IF(ISBLANK($B240),\"\",LOOKUP($B240,Inscriptions!A$2:A$65496,Inscriptions!C$2:C$65498))","v":""},{"$f":"IF(ISBLANK($B240),\"\",LOOKUP($B240,Inscriptions!A$2:A$65496,Inscriptions!D$2:D$65498))","v":""},null,null,null,0,0,0,"",""]
[237,null,{"$f":"IF(ISBLANK($B241),\"\",LOOKUP($B241,Inscriptions!A$2:A$65496,Inscriptions!B$2:B$65498))","v":""},{"$f":"IF(ISBLANK($B241),\"\",LOOKUP($B241,Inscriptions!A$2:A$65496,Inscriptions!C$2:C$65498))","v":""},{"$f":"IF(ISBLANK($B241),\"\",LOOKUP($B241,Inscriptions!A$2:A$65496,Inscriptions!D$2:D$65498))","v":""},null,null,null,0,0,0,"",""]
[238,null,{"$f":"IF(ISBLANK($B242),\"\",LOOKUP($B242,Inscriptions!A$2:A$65496,Inscriptions!B$2:B$65498))","v":""},{"$f":"IF(ISBLANK($B242),\"\",LOOKUP($B242,Inscriptions!A$2:A$65496,Inscriptions!C$2:C$65498))","v":""},{"$f":"IF(ISBLANK($B242),\"\",LOOKUP($B242,Inscriptions!A$2:A$65496,Inscriptions!D$2:D$65498))","v":""},null,null,null,0,0,0,"",""]
[239,null,{"$f":"IF(ISBLANK($B243),\"\",LOOKUP($B243,Inscriptions!A$2:A$65496,Inscriptions!B$2:B$65498))","v":""},{"$f":"IF(ISBLANK($B243),\"\",LOOKUP($B243,Inscriptions!A$2:A$65496,Inscriptions!C$2:C$65498))","v":""},{"$f":"IF(ISBLANK($B243),\"\",LOOKUP($B243,Inscriptions!A$2:A$65496,Inscriptions!D$2:D$65498))","v":""},null,null,null,0,0,0,"",""]
[240,null,{"$f":"IF(ISBLANK($B244),\"\",LOOKUP($B244,Inscriptions!A$2:A$65496,Inscriptions!B$2:B$65498))","v":""},{"$f":"IF(ISBLANK($B244),\"\",LOOKUP($B244,Inscriptions!A$2:A$65496,Inscriptions!C$2:C$65498))","v":""},{"$f":"IF(ISBLANK($B244),\"\",LOOKUP($B244,Inscriptions!A$2:A$65496,Inscriptions!D$2:D$65498))","v":""},null,null,null,0,0,0,"",""]
[241,null,{"$f":"IF(ISBLANK($B245),\"\",LOOKUP($B245,Inscriptions!A$2:A$65496,Inscriptions!B$2:B$65498))","v":""},{"$f":"IF(ISBLANK($B245),\"\",LOOKUP($B245,Inscriptions!A$2:A$65496,Inscriptions!C$2:C$65498))","v":""},{"$f":"IF(ISBLANK($B245),\"\",LOOKUP($B245,Inscriptions!A$2:A$65496,Inscriptions!D$2:D$65498))","v":""},null,null,null,0,0,0,"",""]
[242,null,{"$f":"IF(ISBLANK($B246),\"\",LOOKUP($B246,Inscriptions!A$2:A$65496,Inscriptions!B$2:B$65498))","v":""},{"$f":"IF(ISBLANK($B246),\"\",LOOKUP($B246,Inscriptions!A$2:A$65496,Inscriptions!C$2:C$65498))","v":""},{"$f":"IF(ISBLANK($B246),\"\",LOOKUP($B246,Inscriptions!A$2:A$65496,Inscriptions!D$2:D$65498))","v":""},null,null,null,0,0,0,"",""]
[243,null,{"$f":"IF(ISBLANK($B247),\"\",LOOKUP($B247,Inscriptions!A$2:A$65496,Inscriptions!B$2:B$65498))","v":""},{"$f":"IF(ISBLANK($B247),\"\",LOOKUP($B247,Inscriptions!A$2:A$65496,Inscriptions!C$2:C$65498))","v":""},{"$f":"IF(ISBLANK($B247),\"\",LOOKUP($B247,Inscriptions!A$2:A$65496,Inscriptions!D$2:D$65498))","v":""},null,null,null,0,0,0,"",""]
[244,null,{"$f":"IF(ISBLANK($B248),\"\",LOOKUP($B248,Inscriptions!A$2:A$65496,Inscriptions!B$2:B$65498))","v":""},{"$f":"IF(ISBLANK($B248),\"\",LOOKUP($B248,Inscriptions!A$2:A$65496,Inscriptions!C$2:C$65498))","v":""},{"$f":"IF(ISBLANK($B248),\"\",LOOKUP($B248,Inscriptions!A$2:A$65496,Inscriptions!D$2:D$65498))","v":""},null,null,null,0,0,0,"",""]
[245,null,{"$f":"IF(ISBLANK($B249),\"\",LOOKUP($B249,Inscriptions!A$2:A$65496,Inscriptions!B$2:B$65498))","v":""},{"$f":"IF(ISBLANK($B249),\"\",LOOKUP($B249,Inscriptions!A$2:A$65496,Inscriptions!C$2:C$65498))","v":""},{"$f":"IF(ISBLANK($B249),\"\",LOOKUP($B249,Inscriptions!A$2:A$65496,Inscriptions!D$2:D$65498))","v":""},null,null,null,0,0,0,"",""]
[246,null,{"$f":"IF(ISBLANK($B250),\"\",LOOKUP($B250,Inscriptions!A$2:A$65496,Inscriptions!B$2:B$65498))","v":""},{"$f":"IF(ISBLANK($B250),\"\",LOOKUP($B250,Inscriptions!A$2:A$65496,Inscriptions!C$2:C$65498))","v":""},{"$f":"IF(ISBLANK($B250),\"\",LOOKUP($B250,Inscriptions!A$2:A$65496,Inscriptions!D$2:D$65498))","v":""},null,null,null,0,0,0,"",""]
[247,null,{"$f":"IF(ISBLANK($B251),\"\",LOOKUP($B251,Inscriptions!A$2:A$65496,Inscriptions!B$2:B$65498))","v":""},{"$f":"IF(ISBLANK($B251),\"\",LOOKUP($B251,Inscriptions!A$2:A$65496,Inscriptions!C$2:C$65498))","v":""},{"$f":"IF(ISBLANK($B251),\"\",LOOKUP($B251,Inscriptions!A$2:A$65496,Inscriptions!D$2:D$65498))","v":""},null,null,null,0,0,0,"",""]
[248,null,{"$f":"IF(ISBLANK($B252),\"\",LOOKUP($B252,Inscriptions!A$2:A$65496,Inscriptions!B$2:B$65498))","v":""},{"$f":"IF(ISBLANK($B252),\"\",LOOKUP($B252,Inscriptions!A$2:A$65496,Inscriptions!C$2:C$65498))","v":""},{"$f":"IF(ISBLANK($B252),\"\",LOOKUP($B252,Inscriptions!A$2:A$65496,Inscriptions!D$2:D$65498))","v":""},null,null,null,0,0,0,"",""]
[249,null,{"$f":"IF(ISBLANK($B253),\"\",LOOKUP($B253,Inscriptions!A$2:A$65496,Inscriptions!B$2:B$65498))","v":""},{"$f":"IF(ISBLANK($B253),\"\",LOOKUP($B253,Inscriptions!A$2:A$65496,Inscriptions!C$2:C$65498))","v":""},{"$f":"IF(ISBLANK($B253),\"\",LOOKUP($B253,Inscriptions!A$2:A$65496,Inscriptions!D$2:D$65498))","v":""},null,null,null,0,0,0,"",""]
[250,null,{"$f":"IF(ISBLANK($B254),\"\",LOOKUP($B254,Inscriptions!A$2:A$65496,Inscriptions!B$2:B$65498))","v":""},{"$f":"IF(ISBLANK($B254),\"\",LOOKUP($B254,Inscriptions!A$2:A$65496,Inscriptions!C$2:C$65498))","v":""},{"$f":"IF(ISBLANK($B254),\"\",LOOKUP($B254,Inscriptions!A$2:A$65496,Inscriptions!D$2:D$65498))","v":""},null,null,null,0,0,0,"",""]
[251,null,{"$f":"IF(ISBLANK($B255),\"\",LOOKUP($B255,Inscriptions!A$2:A$65496,Inscriptions!B$2:B$65498))","v":""},{"$f":"IF(ISBLANK($B255),\"\",LOOKUP($B255,Inscriptions!A$2:A$65496,Inscriptions!C$2:C$65498))","v":""},{"$f":"IF(ISBLANK($B255),\"\",LOOKUP($B255,Inscriptions!A$2:A$65496,Inscriptions!D$2:D$65498))","v":""},null,null,null,0,0,0,"",""]
[252,null,{"$f":"IF(ISBLANK($B256),\"\",LOOKUP($B256,Inscriptions!A$2:A$65496,Inscriptions!B$2:B$65498))","v":""},{"$f":"IF(ISBLANK($B256),\"\",LOOKUP($B256,Inscriptions!A$2:A$65496,Inscriptions!C$2:C$65498))","v":""},{"$f":"IF(ISBLANK($B256),\"\",LOOKUP($B256,Inscriptions!A$2:A$65496,Inscriptions!D$2:D$65498))","v":""},null,null,null,0,0,0,"",""]
[253,null,{"$f":"IF(ISBLANK($B257),\"\",LOOKUP($B257,Inscriptions!A$2:A$65496,Inscriptions!B$2:B$65498))","v":""},{"$f":"IF(ISBLANK($B257),\"\",LOOKUP($B257,Inscriptions!A$2:A$65496,Inscriptions!C$2:C$65498))","v":""},{"$f":"IF(ISBLANK($B257),\"\",LOOKUP($B257,Inscriptions!A$2:A$65496,Inscriptions!D$2:D$65498))","v":""},null,null,null,0,0,0,"",""]
[254,null,{"$f":"IF(ISBLANK($B258),\"\",LOOKUP($B258,Inscriptions!A$2:A$65496,Inscriptions!B$2:B$65498))","v":""},{"$f":"IF(ISBLANK($B258),\"\",LOOKUP($B258,Inscriptions!A$2:A$65496,Inscriptions!C$2:C$65498))","v":""},{"$f":"IF(ISBLANK($B258),\"\",LOOKUP($B258,Inscriptions!A$2:A$65496,Inscriptions!D$2:D$65498))","v":""},null,null,null,0,0,0,"",""]
[255,null,{"$f":"IF(ISBLANK($B259),\"\",LOOKUP($B259,Inscriptions!A$2:A$65496,Inscriptions!B$2:B$65498))","v":""},{"$f":"IF(ISBLANK($B259),\"\",LOOKUP($B259,Inscriptions!A$2:A$65496,Inscriptions!C$2:C$65498))","v":""},{"$f":"IF(ISBLANK($B259),\"\",LOOKUP($B259,Inscriptions!A$2:A$65496,Inscriptions!D$2:D$65498))","v":""},null,null,null,0,0,0,"",""]
[256,null,{"$f":"IF(ISBLANK($B260),\"\",LOOKUP($B260,Inscriptions!A$2:A$65496,Inscriptions!B$2:B$65498))","v":""},{"$f":"IF(ISBLANK($B260),\"\",LOOKUP($B260,Inscriptions!A$2:A$65496,Inscriptions!C$2:C$65498))","v":""},{"$f":"IF(ISBLANK($B260),\"\",LOOKUP($B260,Inscriptions!A$2:A$65496,Inscriptions!D$2:D$65498))","v":""},null,null,null,0,0,0,"",""]
[257,null,{"$f":"IF(ISBLANK($B261),\"\",LOOKUP($B261,Inscriptions!A$2:A$65496,Inscriptions!B$2:B$65498))","v":""},{"$f":"IF(ISBLANK($B261),\"\",LOOKUP($B261,Inscriptions!A$2:A$65496,Inscriptions!C$2:C$65498))","v":""},{"$f":"IF(ISBLANK($B261),\"\",LOOKUP($B261,Inscriptions!A$2:A$65496,Inscriptions!D$2:D$65498))","v":""},null,null,null,0,0,0,"",""]
[258,null,{"$f":"IF(ISBLANK($B262),\"\",LOOKUP($B262,Inscriptions!A$2:A$65496,Inscriptions!B$2:B$65498))","v":""},{"$f":"IF(ISBLANK($B262),\"\",LOOKUP($B262,Inscriptions!A$2:A$65496,Inscriptions!C$2:C$65498))","v":""},{"$f":"IF(ISBLANK($B262),\"\",LOOKUP($B262,Inscriptions!A$2:A$65496,Inscriptions!D$2:D$65498))","v":""},null,null,null,{"$f":"ROUNDDOWN(H262/10000,0)","v":0},{"$f":"ROUNDDOWN((H262-I262*10000)/100,0)","v":0},{"$f":"ROUNDDOWN((H262-(I262*10000)-(J262*100)),0)","v":0},{"$f":"IF((I262+J262+K262)=0,\"\",ROUNDDOWN((L$4/((I262*3600)+(J262*60)+K262))*3.6,2))","v":""},{"$f":"IF(L262=\"\",\"\",\"km/h\")","v":""}]
[259,null,{"$f":"IF(ISBLANK($B263),\"\",LOOKUP($B263,Inscriptions!A$2:A$65496,Inscriptions!B$2:B$65498))","v":""},{"$f":"IF(ISBLANK($B263),\"\",LOOKUP($B263,Inscriptions!A$2:A$65496,Inscriptions!C$2:C$65498))","v":""},{"$f":"IF(ISBLANK($B263),\"\",LOOKUP($B263,Inscriptions!A$2:A$65496,Inscriptions!D$2:D$65498))","v":""},null,null,null,0,0,0,"",""]
[260,null,{"$f":"IF(ISBLANK($B264),\"\",LOOKUP($B264,Inscriptions!A$2:A$65496,Inscriptions!B$2:B$65498))","v":""},{"$f":"IF(ISBLANK($B264),\"\",LOOKUP($B264,Inscriptions!A$2:A$65496,Inscriptions!C$2:C$65498))","v":""},{"$f":"IF(ISBLANK($B264),\"\",LOOKUP($B264,Inscriptions!A$2:A$65496,Inscriptions!D$2:D$65498))","v":""},null,null,null,0,0,0,"",""]
[261,null,{"$f":"IF(ISBLANK($B265),\"\",LOOKUP($B265,Inscriptions!A$2:A$65496,Inscriptions!B$2:B$65498))","v":""},{"$f":"IF(ISBLANK($B265),\"\",LOOKUP($B265,Inscriptions!A$2:A$65496,Inscriptions!C$2:C$65498))","v":""},{"$f":"IF(ISBLANK($B265),\"\",LOOKUP($B265,Inscriptions!A$2:A$65496,Inscriptions!D$2:D$65498))","v":""},null,null,null,0,0,0,"",""]
[262,null,{"$f":"IF(ISBLANK($B266),\"\",LOOKUP($B266,Inscriptions!A$2:A$65496,Inscriptions!B$2:B$65498))","v":""},{"$f":"IF(ISBLANK($B266),\"\",LOOKUP($B266,Inscriptions!A$2:A$65496,Inscriptions!C$2:C$65498))","v":""},{"$f":"IF(ISBLANK($B266),\"\",LOOKUP($B266,Inscriptions!A$2:A$65496,Inscriptions!D$2:D$65498))","v":""},null,null,null,0,0,0,"",""]
[263,null,{"$f":"IF(ISBLANK($B267),\"\",LOOKUP($B267,Inscriptions!A$2:A$65496,Inscriptions!B$2:B$65498))","v":""},{"$f":"IF(ISBLANK($B267),\"\",LOOKUP($B267,Inscriptions!A$2:A$65496,Inscriptions!C$2:C$65498))","v":""},{"$f":"IF(ISBLANK($B267),\"\",LOOKUP($B267,Inscriptions!A$2:A$65496,Inscriptions!D$2:D$65498))","v":""},null,null,null,0,0,0,"",""]
[264,null,{"$f":"IF(ISBLANK($B268),\"\",LOOKUP($B268,Inscriptions!A$2:A$65496,Inscriptions!B$2:B$65498))","v":""},{"$f":"IF(ISBLANK($B268),\"\",LOOKUP($B268,Inscriptions!A$2:A$65496,Inscriptions!C$2:C$65498))","v":""},{"$f":"IF(ISBLANK($B268),\"\",LOOKUP($B268,Inscriptions!A$2:A$65496,Inscriptions!D$2:D$65498))","v":""},null,null,null,0,0,0,"",""]
[265,null,{"$f":"IF(ISBLANK($B269),\"\",LOOKUP($B269,Inscriptions!A$2:A$65496,Inscriptions!B$2:B$65498))","v":""},{"$f":"IF(ISBLANK($B269),\"\",LOOKUP($B269,Inscriptions!A$2:A$65496,Inscriptions!C$2:C$65498))","v":""},{"$f":"IF(ISBLANK($B269),\"\",LOOKUP($B269,Inscriptions!A$2:A$65496,Inscriptions!D$2:D$65498))","v":""},null,null,null,0,0,0,"",""]
[266,null,{"$f":"IF(ISBLANK($B270),\"\",LOOKUP($B270,Inscriptions!A$2:A$65496,Inscriptions!B$2:B$65498))","v":""},{"$f":"IF(ISBLANK($B270),\"\",LOOKUP($B270,Inscriptions!A$2:A$65496,Inscriptions!C$2:C$65498))","v":""},{"$f":"IF(ISBLANK($B270),\"\",LOOKUP($B270,Inscriptions!A$2:A$65496,Inscriptions!D$2:D$65498))","v":""},null,null,null,0,0,0,"",""]
[267,null,{"$f":"IF(ISBLANK($B271),\"\",LOOKUP($B271,Inscriptions!A$2:A$65496,Inscriptions!B$2:B$65498))","v":""},{"$f":"IF(ISBLANK($B271),\"\",LOOKUP($B271,Inscriptions!A$2:A$65496,Inscriptions!C$2:C$65498))","v":""},{"$f":"IF(ISBLANK($B271),\"\",LOOKUP($B271,Inscriptions!A$2:A$65496,Inscriptions!D$2:D$65498))","v":""},null,null,null,0,0,0,"",""]
[268,null,{"$f":"IF(ISBLANK($B272),\"\",LOOKUP($B272,Inscriptions!A$2:A$65496,Inscriptions!B$2:B$65498))","v":""},{"$f":"IF(ISBLANK($B272),\"\",LOOKUP($B272,Inscriptions!A$2:A$65496,Inscriptions!C$2:C$65498))","v":""},{"$f":"IF(ISBLANK($B272),\"\",LOOKUP($B272,Inscriptions!A$2:A$65496,Inscriptions!D$2:D$65498))","v":""},null,null,null,0,0,0,"",""]
[269,null,{"$f":"IF(ISBLANK($B273),\"\",LOOKUP($B273,Inscriptions!A$2:A$65496,Inscriptions!B$2:B$65498))","v":""},{"$f":"IF(ISBLANK($B273),\"\",LOOKUP($B273,Inscriptions!A$2:A$65496,Inscriptions!C$2:C$65498))","v":""},{"$f":"IF(ISBLANK($B273),\"\",LOOKUP($B273,Inscriptions!A$2:A$65496,Inscriptions!D$2:D$65498))","v":""},null,null,null,0,0,0,"",""]
[270,null,{"$f":"IF(ISBLANK($B274),\"\",LOOKUP($B274,Inscriptions!A$2:A$65496,Inscriptions!B$2:B$65498))","v":""},{"$f":"IF(ISBLANK($B274),\"\",LOOKUP($B274,Inscriptions!A$2:A$65496,Inscriptions!C$2:C$65498))","v":""},{"$f":"IF(ISBLANK($B274),\"\",LOOKUP($B274,Inscriptions!A$2:A$65496,Inscriptions!D$2:D$65498))","v":""},null,null,null,0,0,0,"",""]
[271,null,{"$f":"IF(ISBLANK($B275),\"\",LOOKUP($B275,Inscriptions!A$2:A$65496,Inscriptions!B$2:B$65498))","v":""},{"$f":"IF(ISBLANK($B275),\"\",LOOKUP($B275,Inscriptions!A$2:A$65496,Inscriptions!C$2:C$65498))","v":""},{"$f":"IF(ISBLANK($B275),\"\",LOOKUP($B275,Inscriptions!A$2:A$65496,Inscriptions!D$2:D$65498))","v":""},null,null,null,0,0,0,"",""]
[272,null,{"$f":"IF(ISBLANK($B276),\"\",LOOKUP($B276,Inscriptions!A$2:A$65496,Inscriptions!B$2:B$65498))","v":""},{"$f":"IF(ISBLANK($B276),\"\",LOOKUP($B276,Inscriptions!A$2:A$65496,Inscriptions!C$2:C$65498))","v":""},{"$f":"IF(ISBLANK($B276),\"\",LOOKUP($B276,Inscriptions!A$2:A$65496,Inscriptions!D$2:D$65498))","v":""},null,null,null,0,0,0,"",""]
[273,null,{"$f":"IF(ISBLANK($B277),\"\",LOOKUP($B277,Inscriptions!A$2:A$65496,Inscriptions!B$2:B$65498))","v":""},{"$f":"IF(ISBLANK($B277),\"\",LOOKUP($B277,Inscriptions!A$2:A$65496,Inscriptions!C$2:C$65498))","v":""},{"$f":"IF(ISBLANK($B277),\"\",LOOKUP($B277,Inscriptions!A$2:A$65496,Inscriptions!D$2:D$65498))","v":""},null,null,null,0,0,0,"",""]
[274,null,{"$f":"IF(ISBLANK($B278),\"\",LOOKUP($B278,Inscriptions!A$2:A$65496,Inscriptions!B$2:B$65498))","v":""},{"$f":"IF(ISBLANK($B278),\"\",LOOKUP($B278,Inscriptions!A$2:A$65496,Inscriptions!C$2:C$65498))","v":""},{"$f":"IF(ISBLANK($B278),\"\",LOOKUP($B278,Inscriptions!A$2:A$65496,Inscriptions!D$2:D$65498))","v":""},null,null,null,0,0,0,"",""]
[275,null,{"$f":"IF(ISBLANK($B279),\"\",LOOKUP($B279,Inscriptions!A$2:A$65496,Inscriptions!B$2:B$65498))","v":""},{"$f":"IF(ISBLANK($B279),\"\",LOOKUP($B279,Inscriptions!A$2:A$65496,Inscriptions!C$2:C$65498))","v":""},{"$f":"IF(ISBLANK($B279),\"\",LOOKUP($B279,Inscriptions!A$2:A$65496,Inscriptions!D$2:D$65498))","v":""},null,null,null,0,0,0,"",""]
[276,null,{"$f":"IF(ISBLANK($B280),\"\",LOOKUP($B280,Inscriptions!A$2:A$65496,Inscriptions!B$2:B$65498))","v":""},{"$f":"IF(ISBLANK($B280),\"\",LOOKUP($B280,Inscriptions!A$2:A$65496,Inscriptions!C$2:C$65498))","v":""},{"$f":"IF(ISBLANK($B280),\"\",LOOKUP($B280,Inscriptions!A$2:A$65496,Inscriptions!D$2:D$65498))","v":""},null,null,null,0,0,0,"",""]
[277,null,{"$f":"IF(ISBLANK($B281),\"\",LOOKUP($B281,Inscriptions!A$2:A$65496,Inscriptions!B$2:B$65498))","v":""},{"$f":"IF(ISBLANK($B281),\"\",LOOKUP($B281,Inscriptions!A$2:A$65496,Inscriptions!C$2:C$65498))","v":""},{"$f":"IF(ISBLANK($B281),\"\",LOOKUP($B281,Inscriptions!A$2:A$65496,Inscriptions!D$2:D$65498))","v":""},null,null,null,0,0,0,"",""]
[278,null,{"$f":"IF(ISBLANK($B282),\"\",LOOKUP($B282,Inscriptions!A$2:A$65496,Inscriptions!B$2:B$65498))","v":""},{"$f":"IF(ISBLANK($B282),\"\",LOOKUP($B282,Inscriptions!A$2:A$65496,Inscriptions!C$2:C$65498))","v":""},{"$f":"IF(ISBLANK($B282),\"\",LOOKUP($B282,Inscriptions!A$2:A$65496,Inscriptions!D$2:D$65498))","v":""},null,null,null,0,0,0,"",""]
[279,null,{"$f":"IF(ISBLANK($B283),\"\",LOOKUP($B283,Inscriptions!A$2:A$65496,Inscriptions!B$2:B$65498))","v":""},{"$f":"IF(ISBLANK($B283),\"\",LOOKUP($B283,Inscriptions!A$2:A$65496,Inscriptions!C$2:C$65498))","v":""},{"$f":"IF(ISBLANK($B283),\"\",LOOKUP($B283,Inscriptions!A$2:A$65496,Inscriptions!D$2:D$65498))","v":""},null,null,null,0,0,0,"",""]
[280,null,{"$f":"IF(ISBLANK($B284),\"\",LOOKUP($B284,Inscriptions!A$2:A$65496,Inscriptions!B$2:B$65498))","v":""},{"$f":"IF(ISBLANK($B284),\"\",LOOKUP($B284,Inscriptions!A$2:A$65496,Inscriptions!C$2:C$65498))","v":""},{"$f":"IF(ISBLANK($B284),\"\",LOOKUP($B284,Inscriptions!A$2:A$65496,Inscriptions!D$2:D$65498))","v":""},null,null,null,0,0,0,"",""]
[281,null,{"$f":"IF(ISBLANK($B285),\"\",LOOKUP($B285,Inscriptions!A$2:A$65496,Inscriptions!B$2:B$65498))","v":""},{"$f":"IF(ISBLANK($B285),\"\",LOOKUP($B285,Inscriptions!A$2:A$65496,Inscriptions!C$2:C$65498))","v":""},{"$f":"IF(ISBLANK($B285),\"\",LOOKUP($B285,Inscriptions!A$2:A$65496,Inscriptions!D$2:D$65498))","v":""},null,null,null,0,0,0,"",""]
[282,null,{"$f":"IF(ISBLANK($B286),\"\",LOOKUP($B286,Inscriptions!A$2:A$65496,Inscriptions!B$2:B$65498))","v":""},{"$f":"IF(ISBLANK($B286),\"\",LOOKUP($B286,Inscriptions!A$2:A$65496,Inscriptions!C$2:C$65498))","v":""},{"$f":"IF(ISBLANK($B286),\"\",LOOKUP($B286,Inscriptions!A$2:A$65496,Inscriptions!D$2:D$65498))","v":""},null,null,null,0,0,0,"",""]
[283,null,{"$f":"IF(ISBLANK($B287),\"\",LOOKUP($B287,Inscriptions!A$2:A$65496,Inscriptions!B$2:B$65498))","v":""},{"$f":"IF(ISBLANK($B287),\"\",LOOKUP($B287,Inscriptions!A$2:A$65496,Inscriptions!C$2:C$65498))","v":""},{"$f":"IF(ISBLANK($B287),\"\",LOOKUP($B287,Inscriptions!A$2:A$65496,Inscriptions!D$2:D$65498))","v":""},null,null,null,0,0,0,"",""]
[284,null,{"$f":"IF(ISBLANK($B288),\"\",LOOKUP($B288,Inscriptions!A$2:A$65496,Inscriptions!B$2:B$65498))","v":""},{"$f":"IF(ISBLANK($B288),\"\",LOOKUP($B288,Inscriptions!A$2:A$65496,Inscriptions!C$2:C$65498))","v":""},{"$f":"IF(ISBLANK($B288),\"\",LOOKUP($B288,Inscriptions!A$2:A$65496,Inscriptions!D$2:D$65498))","v":""},null,null,null,0,0,0,"",""]
[285,null,{"$f":"IF(ISBLANK($B289),\"\",LOOKUP($B289,Inscriptions!A$2:A$65496,Inscriptions!B$2:B$65498))","v":""},{"$f":"IF(ISBLANK($B289),\"\",LOOKUP($B289,Inscriptions!A$2:A$65496,Inscriptions!C$2:C$65498))","v":""},{"$f":"IF(ISBLANK($B289),\"\",LOOKUP($B289,Inscriptions!A$2:A$65496,Inscriptions!D$2:D$65498))","v":""},null,null,null,0,0,0,"",""]
[286,null,{"$f":"IF(ISBLANK($B290),\"\",LOOKUP($B290,Inscriptions!A$2:A$65496,Inscriptions!B$2:B$65498))","v":""},{"$f":"IF(ISBLANK($B290),\"\",LOOKUP($B290,Inscriptions!A$2:A$65496,Inscriptions!C$2:C$65498))","v":""},{"$f":"IF(ISBLANK($B290),\"\",LOOKUP($B290,Inscriptions!A$2:A$65496,Inscriptions!D$2:D$65498))","v":""},null,null,null,0,0,0,"",""]
[287,null,{"$f":"IF(ISBLANK($B291),\"\",LOOKUP($B291,Inscriptions!A$2:A$65496,Inscriptions!B$2:B$65498))","v":""},{"$f":"IF(ISBLANK($B291),\"\",LOOKUP($B291,Inscriptions!A$2:A$65496,Inscriptions!C$2:C$65498))","v":""},{"$f":"IF(ISBLANK($B291),\"\",LOOKUP($B291,Inscriptions!A$2:A$65496,Inscriptions!D$2:D$65498))","v":""},null,null,null,0,0,0,"",""]
[288,null,{"$f":"IF(ISBLANK($B292),\"\",LOOKUP($B292,Inscriptions!A$2:A$65496,Inscriptions!B$2:B$65498))","v":""},{"$f":"IF(ISBLANK($B292),\"\",LOOKUP($B292,Inscriptions!A$2:A$65496,Inscriptions!C$2:C$65498))","v":""},{"$f":"IF(ISBLANK($B292),\"\",LOOKUP($B292,Inscriptions!A$2:A$65496,Inscriptions!D$2:D$65498))","v":""},null,null,null,0,0,0,"",""]
[289,null,{"$f":"IF(ISBLANK($B293),\"\",LOOKUP($B293,Inscriptions!A$2:A$65496,Inscriptions!B$2:B$65498))","v":""},{"$f":"IF(ISBLANK($B293),\"\",LOOKUP($B293,Inscriptions!A$2:A$65496,Inscriptions!C$2:C$65498))","v":""},{"$f":"IF(ISBLANK($B293),\"\",LOOKUP($B293,Inscriptions!A$2:A$65496,Inscriptions!D$2:D$65498))","v":""},null,null,null,0,0,0,"",""]
[290,null,{"$f":"IF(ISBLANK($B294),\"\",LOOKUP($B294,Inscriptions!A$2:A$65496,Inscriptions!B$2:B$65498))","v":""},{"$f":"IF(ISBLANK($B294),\"\",LOOKUP($B294,Inscriptions!A$2:A$65496,Inscriptions!C$2:C$65498))","v":""},{"$f":"IF(ISBLANK($B294),\"\",LOOKUP($B294,Inscriptions!A$2:A$65496,Inscriptions!D$2:D$65498))","v":""},null,null,null,0,0,0,"",""]
[291,null,{"$f":"IF(ISBLANK($B295),\"\",LOOKUP($B295,Inscriptions!A$2:A$65496,Inscriptions!B$2:B$65498))","v":""},{"$f":"IF(ISBLANK($B295),\"\",LOOKUP($B295,Inscriptions!A$2:A$65496,Inscriptions!C$2:C$65498))","v":""},{"$f":"IF(ISBLANK($B295),\"\",LOOKUP($B295,Inscriptions!A$2:A$65496,Inscriptions!D$2:D$65498))","v":""},null,null,null,0,0,0,"",""]
[292,null,{"$f":"IF(ISBLANK($B296),\"\",LOOKUP($B296,Inscriptions!A$2:A$65496,Inscriptions!B$2:B$65498))","v":""},{"$f":"IF(ISBLANK($B296),\"\",LOOKUP($B296,Inscriptions!A$2:A$65496,Inscriptions!C$2:C$65498))","v":""},{"$f":"IF(ISBLANK($B296),\"\",LOOKUP($B296,Inscriptions!A$2:A$65496,Inscriptions!D$2:D$65498))","v":""},null,null,null,0,0,0,"",""]
[293,null,{"$f":"IF(ISBLANK($B297),\"\",LOOKUP($B297,Inscriptions!A$2:A$65496,Inscriptions!B$2:B$65498))","v":""},{"$f":"IF(ISBLANK($B297),\"\",LOOKUP($B297,Inscriptions!A$2:A$65496,Inscriptions!C$2:C$65498))","v":""},{"$f":"IF(ISBLANK($B297),\"\",LOOKUP($B297,Inscriptions!A$2:A$65496,Inscriptions!D$2:D$65498))","v":""},null,null,null,0,0,0,"",""]
[294,null,{"$f":"IF(ISBLANK($B298),\"\",LOOKUP($B298,Inscriptions!A$2:A$65496,Inscriptions!B$2:B$65498))","v":""},{"$f":"IF(ISBLANK($B298),\"\",LOOKUP($B298,Inscriptions!A$2:A$65496,Inscriptions!C$2:C$65498))","v":""},{"$f":"IF(ISBLANK($B298),\"\",LOOKUP($B298,Inscriptions!A$2:A$65496,Inscriptions!D$2:D$65498))","v":""},null,null,null,0,0,0,"",""]
[295,null,{"$f":"IF(ISBLANK($B299),\"\",LOOKUP($B299,Inscriptions!A$2:A$65496,Inscriptions!B$2:B$65498))","v":""},{"$f":"IF(ISBLANK($B299),\"\",LOOKUP($B299,Inscriptions!A$2:A$65496,Inscriptions!C$2:C$65498))","v":""},{"$f":"IF(ISBLANK($B299),\"\",LOOKUP($B299,Inscriptions!A$2:A$65496,Inscriptions!D$2:D$65498))","v":""},null,null,null,0,0,0,"",""]
[296,null,{"$f":"IF(ISBLANK($B300),\"\",LOOKUP($B300,Inscriptions!A$2:A$65496,Inscriptions!B$2:B$65498))","v":""},{"$f":"IF(ISBLANK($B300),\"\",LOOKUP($B300,Inscriptions!A$2:A$65496,Inscriptions!C$2:C$65498))","v":""},{"$f":"IF(ISBLANK($B300),\"\",LOOKUP($B300,Inscriptions!A$2:A$65496,Inscriptions!D$2:D$65498))","v":""},null,null,null,0,0,0,"",""]
[297,null,{"$f":"IF(ISBLANK($B301),\"\",LOOKUP($B301,Inscriptions!A$2:A$65496,Inscriptions!B$2:B$65498))","v":""},{"$f":"IF(ISBLANK($B301),\"\",LOOKUP($B301,Inscriptions!A$2:A$65496,Inscriptions!C$2:C$65498))","v":""},{"$f":"IF(ISBLANK($B301),\"\",LOOKUP($B301,Inscriptions!A$2:A$65496,Inscriptions!D$2:D$65498))","v":""},null,null,null,0,0,0,"",""]
[298,null,{"$f":"IF(ISBLANK($B302),\"\",LOOKUP($B302,Inscriptions!A$2:A$65496,Inscriptions!B$2:B$65498))","v":""},{"$f":"IF(ISBLANK($B302),\"\",LOOKUP($B302,Inscriptions!A$2:A$65496,Inscriptions!C$2:C$65498))","v":""},{"$f":"IF(ISBLANK($B302),\"\",LOOKUP($B302,Inscriptions!A$2:A$65496,Inscriptions!D$2:D$65498))","v":""},null,null,null,0,{"$f":"ROUNDDOWN((H302-I302*10000)/100,0)","v":0},{"$f":"ROUNDDOWN((H302-(I302*10000)-(J302*100)),0)","v":0},{"$f":"IF((I302+J302+K302)=0,\"\",ROUNDDOWN((L$4/((I302*3600)+(J302*60)+K302))*3.6,2))","v":""},""]
[299,null,{"$f":"IF(ISBLANK($B303),\"\",LOOKUP($B303,Inscriptions!A$2:A$65496,Inscriptions!B$2:B$65498))","v":""},{"$f":"IF(ISBLANK($B303),\"\",LOOKUP($B303,Inscriptions!A$2:A$65496,Inscriptions!C$2:C$65498))","v":""},{"$f":"IF(ISBLANK($B303),\"\",LOOKUP($B303,Inscriptions!A$2:A$65496,Inscriptions!D$2:D$65498))","v":""},null,null,null,0,0,0,"",""]
[300,null,{"$f":"IF(ISBLANK($B304),\"\",LOOKUP($B304,Inscriptions!A$2:A$65496,Inscriptions!B$2:B$65498))","v":""},{"$f":"IF(ISBLANK($B304),\"\",LOOKUP($B304,Inscriptions!A$2:A$65496,Inscriptions!C$2:C$65498))","v":""},{"$f":"IF(ISBLANK($B304),\"\",LOOKUP($B304,Inscriptions!A$2:A$65496,Inscriptions!D$2:D$65498))","v":""},null,null,null,0,0,0,"",""]
[301,null,{"$f":"IF(ISBLANK($B305),\"\",LOOKUP($B305,Inscriptions!A$2:A$65496,Inscriptions!B$2:B$65498))","v":""},{"$f":"IF(ISBLANK($B305),\"\",LOOKUP($B305,Inscriptions!A$2:A$65496,Inscriptions!C$2:C$65498))","v":""},{"$f":"IF(ISBLANK($B305),\"\",LOOKUP($B305,Inscriptions!A$2:A$65496,Inscriptions!D$2:D$65498))","v":""},null,null,null,0,0,0,"",""]
[302,null,{"$f":"IF(ISBLANK($B306),\"\",LOOKUP($B306,Inscriptions!A$2:A$65496,Inscriptions!B$2:B$65498))","v":""},{"$f":"IF(ISBLANK($B306),\"\",LOOKUP($B306,Inscriptions!A$2:A$65496,Inscriptions!C$2:C$65498))","v":""},{"$f":"IF(ISBLANK($B306),\"\",LOOKUP($B306,Inscriptions!A$2:A$65496,Inscriptions!D$2:D$65498))","v":""},null,null,null,0,0,0,"",""]
[303,null,{"$f":"IF(ISBLANK($B307),\"\",LOOKUP($B307,Inscriptions!A$2:A$65496,Inscriptions!B$2:B$65498))","v":""},{"$f":"IF(ISBLANK($B307),\"\",LOOKUP($B307,Inscriptions!A$2:A$65496,Inscriptions!C$2:C$65498))","v":""},{"$f":"IF(ISBLANK($B307),\"\",LOOKUP($B307,Inscriptions!A$2:A$65496,Inscriptions!D$2:D$65498))","v":""},null,null,null,0,0,0,"",""]
[304,null,{"$f":"IF(ISBLANK($B308),\"\",LOOKUP($B308,Inscriptions!A$2:A$65496,Inscriptions!B$2:B$65498))","v":""},{"$f":"IF(ISBLANK($B308),\"\",LOOKUP($B308,Inscriptions!A$2:A$65496,Inscriptions!C$2:C$65498))","v":""},{"$f":"IF(ISBLANK($B308),\"\",LOOKUP($B308,Inscriptions!A$2:A$65496,Inscriptions!D$2:D$65498))","v":""},null,null,null,0,0,0,"",""]
[305,null,{"$f":"IF(ISBLANK($B309),\"\",LOOKUP($B309,Inscriptions!A$2:A$65496,Inscriptions!B$2:B$65498))","v":""},{"$f":"IF(ISBLANK($B309),\"\",LOOKUP($B309,Inscriptions!A$2:A$65496,Inscriptions!C$2:C$65498))","v":""},{"$f":"IF(ISBLANK($B309),\"\",LOOKUP($B309,Inscriptions!A$2:A$65496,Inscriptions!D$2:D$65498))","v":""},null,null,null,0,0,0,"",""]
[306,null,{"$f":"IF(ISBLANK($B310),\"\",LOOKUP($B310,Inscriptions!A$2:A$65496,Inscriptions!B$2:B$65498))","v":""},{"$f":"IF(ISBLANK($B310),\"\",LOOKUP($B310,Inscriptions!A$2:A$65496,Inscriptions!C$2:C$65498))","v":""},{"$f":"IF(ISBLANK($B310),\"\",LOOKUP($B310,Inscriptions!A$2:A$65496,Inscriptions!D$2:D$65498))","v":""},null,null,null,0,0,0,"",""]
[307,null,{"$f":"IF(ISBLANK($B311),\"\",LOOKUP($B311,Inscriptions!A$2:A$65496,Inscriptions!B$2:B$65498))","v":""},{"$f":"IF(ISBLANK($B311),\"\",LOOKUP($B311,Inscriptions!A$2:A$65496,Inscriptions!C$2:C$65498))","v":""},{"$f":"IF(ISBLANK($B311),\"\",LOOKUP($B311,Inscriptions!A$2:A$65496,Inscriptions!D$2:D$65498))","v":""},null,null,null,0,0,0,"",""]
[308,null,{"$f":"IF(ISBLANK($B312),\"\",LOOKUP($B312,Inscriptions!A$2:A$65496,Inscriptions!B$2:B$65498))","v":""},{"$f":"IF(ISBLANK($B312),\"\",LOOKUP($B312,Inscriptions!A$2:A$65496,Inscriptions!C$2:C$65498))","v":""},{"$f":"IF(ISBLANK($B312),\"\",LOOKUP($B312,Inscriptions!A$2:A$65496,Inscriptions!D$2:D$65498))","v":""},null,null,null,0,0,0,"",""]
[309,null,{"$f":"IF(ISBLANK($B313),\"\",LOOKUP($B313,Inscriptions!A$2:A$65496,Inscriptions!B$2:B$65498))","v":""},{"$f":"IF(ISBLANK($B313),\"\",LOOKUP($B313,Inscriptions!A$2:A$65496,Inscriptions!C$2:C$65498))","v":""},{"$f":"IF(ISBLANK($B313),\"\",LOOKUP($B313,Inscriptions!A$2:A$65496,Inscriptions!D$2:D$65498))","v":""},null,null,null,0,0,0,"",""]
[310,null,{"$f":"IF(ISBLANK($B314),\"\",LOOKUP($B314,Inscriptions!A$2:A$65496,Inscriptions!B$2:B$65498))","v":""},{"$f":"IF(ISBLANK($B314),\"\",LOOKUP($B314,Inscriptions!A$2:A$65496,Inscriptions!C$2:C$65498))","v":""},{"$f":"IF(ISBLANK($B314),\"\",LOOKUP($B314,Inscriptions!A$2:A$65496,Inscriptions!D$2:D$65498))","v":""},null,null,null,0,0,0,"",""]
[311,null,{"$f":"IF(ISBLANK($B315),\"\",LOOKUP($B315,Inscriptions!A$2:A$65496,Inscriptions!B$2:B$65498))","v":""},{"$f":"IF(ISBLANK($B315),\"\",LOOKUP($B315,Inscriptions!A$2:A$65496,Inscriptions!C$2:C$65498))","v":""},{"$f":"IF(ISBLANK($B315),\"\",LOOKUP($B315,Inscriptions!A$2:A$65496,Inscriptions!D$2:D$65498))","v":""},null,null,null,0,0,0,"",""]
[312,null,{"$f":"IF(ISBLANK($B316),\"\",LOOKUP($B316,Inscriptions!A$2:A$65496,Inscriptions!B$2:B$65498))","v":""},{"$f":"IF(ISBLANK($B316),\"\",LOOKUP($B316,Inscriptions!A$2:A$65496,Inscriptions!C$2:C$65498))","v":""},{"$f":"IF(ISBLANK($B316),\"\",LOOKUP($B316,Inscriptions!A$2:A$65496,Inscriptions!D$2:D$65498))","v":""},null,null,null,0,0,0,"",""]
[313,null,{"$f":"IF(ISBLANK($B317),\"\",LOOKUP($B317,Inscriptions!A$2:A$65496,Inscriptions!B$2:B$65498))","v":""},{"$f":"IF(ISBLANK($B317),\"\",LOOKUP($B317,Inscriptions!A$2:A$65496,Inscriptions!C$2:C$65498))","v":""},{"$f":"IF(ISBLANK($B317),\"\",LOOKUP($B317,Inscriptions!A$2:A$65496,Inscriptions!D$2:D$65498))","v":""},null,null,null,0,0,0,"",""]
[314,null,{"$f":"IF(ISBLANK($B318),\"\",LOOKUP($B318,Inscriptions!A$2:A$65496,Inscriptions!B$2:B$65498))","v":""},{"$f":"IF(ISBLANK($B318),\"\",LOOKUP($B318,Inscriptions!A$2:A$65496,Inscriptions!C$2:C$65498))","v":""},{"$f":"IF(ISBLANK($B318),\"\",LOOKUP($B318,Inscriptions!A$2:A$65496,Inscriptions!D$2:D$65498))","v":""},null,null,null,0,0,0,"",""]
[315,null,{"$f":"IF(ISBLANK($B319),\"\",LOOKUP($B319,Inscriptions!A$2:A$65496,Inscriptions!B$2:B$65498))","v":""},{"$f":"IF(ISBLANK($B319),\"\",LOOKUP($B319,Inscriptions!A$2:A$65496,Inscriptions!C$2:C$65498))","v":""},{"$f":"IF(ISBLANK($B319),\"\",LOOKUP($B319,Inscriptions!A$2:A$65496,Inscriptions!D$2:D$65498))","v":""},null,null,null,0,0,0,"",""]
[316,null,{"$f":"IF(ISBLANK($B320),\"\",LOOKUP($B320,Inscriptions!A$2:A$65496,Inscriptions!B$2:B$65498))","v":""},{"$f":"IF(ISBLANK($B320),\"\",LOOKUP($B320,Inscriptions!A$2:A$65496,Inscriptions!C$2:C$65498))","v":""},{"$f":"IF(ISBLANK($B320),\"\",LOOKUP($B320,Inscriptions!A$2:A$65496,Inscriptions!D$2:D$65498))","v":""},null,null,null,0,0,0,"",""]
[317,null,{"$f":"IF(ISBLANK($B321),\"\",LOOKUP($B321,Inscriptions!A$2:A$65496,Inscriptions!B$2:B$65498))","v":""},{"$f":"IF(ISBLANK($B321),\"\",LOOKUP($B321,Inscriptions!A$2:A$65496,Inscriptions!C$2:C$65498))","v":""},{"$f":"IF(ISBLANK($B321),\"\",LOOKUP($B321,Inscriptions!A$2:A$65496,Inscriptions!D$2:D$65498))","v":""},null,null,null,0,0,0,"",""]
[318,null,{"$f":"IF(ISBLANK($B322),\"\",LOOKUP($B322,Inscriptions!A$2:A$65496,Inscriptions!B$2:B$65498))","v":""},{"$f":"IF(ISBLANK($B322),\"\",LOOKUP($B322,Inscriptions!A$2:A$65496,Inscriptions!C$2:C$65498))","v":""},{"$f":"IF(ISBLANK($B322),\"\",LOOKUP($B322,Inscriptions!A$2:A$65496,Inscriptions!D$2:D$65498))","v":""},null,null,null,0,0,0,"",""]
[319,null,{"$f":"IF(ISBLANK($B323),\"\",LOOKUP($B323,Inscriptions!A$2:A$65496,Inscriptions!B$2:B$65498))","v":""},{"$f":"IF(ISBLANK($B323),\"\",LOOKUP($B323,Inscriptions!A$2:A$65496,Inscriptions!C$2:C$65498))","v":""},{"$f":"IF(ISBLANK($B323),\"\",LOOKUP($B323,Inscriptions!A$2:A$65496,Inscriptions!D$2:D$65498))","v":""},null,null,null,0,0,0,"",""]
[320,null,{"$f":"IF(ISBLANK($B324),\"\",LOOKUP($B324,Inscriptions!A$2:A$65496,Inscriptions!B$2:B$65498))","v":""},{"$f":"IF(ISBLANK($B324),\"\",LOOKUP($B324,Inscriptions!A$2:A$65496,Inscriptions!C$2:C$65498))","v":""},{"$f":"IF(ISBLANK($B324),\"\",LOOKUP($B324,Inscriptions!A$2:A$65496,Inscriptions!D$2:D$65498))","v":""},null,null,null,0,0,0,"",""]
[321,null,{"$f":"IF(ISBLANK($B325),\"\",LOOKUP($B325,Inscriptions!A$2:A$65496,Inscriptions!B$2:B$65498))","v":""},{"$f":"IF(ISBLANK($B325),\"\",LOOKUP($B325,Inscriptions!A$2:A$65496,Inscriptions!C$2:C$65498))","v":""},{"$f":"IF(ISBLANK($B325),\"\",LOOKUP($B325,Inscriptions!A$2:A$65496,Inscriptions!D$2:D$65498))","v":""},null,null,null,0,0,0,"",""]
[322,null,{"$f":"IF(ISBLANK($B326),\"\",LOOKUP($B326,Inscriptions!A$2:A$65496,Inscriptions!B$2:B$65498))","v":""},{"$f":"IF(ISBLANK($B326),\"\",LOOKUP($B326,Inscriptions!A$2:A$65496,Inscriptions!C$2:C$65498))","v":""},{"$f":"IF(ISBLANK($B326),\"\",LOOKUP($B326,Inscriptions!A$2:A$65496,Inscriptions!D$2:D$65498))","v":""},null,null,null,{"$f":"ROUNDDOWN(H326/10000,0)","v":0},0,0,"",{"$f":"IF(L326=\"\",\"\",\"km/h\")","v":""}]
[323,null,{"$f":"IF(ISBLANK($B327),\"\",LOOKUP($B327,Inscriptions!A$2:A$65496,Inscriptions!B$2:B$65498))","v":""},{"$f":"IF(ISBLANK($B327),\"\",LOOKUP($B327,Inscriptions!A$2:A$65496,Inscriptions!C$2:C$65498))","v":""},{"$f":"IF(ISBLANK($B327),\"\",LOOKUP($B327,Inscriptions!A$2:A$65496,Inscriptions!D$2:D$65498))","v":""},null,null,null,0,0,0,"",""]
[324,null,{"$f":"IF(ISBLANK($B328),\"\",LOOKUP($B328,Inscriptions!A$2:A$65496,Inscriptions!B$2:B$65498))","v":""},{"$f":"IF(ISBLANK($B328),\"\",LOOKUP($B328,Inscriptions!A$2:A$65496,Inscriptions!C$2:C$65498))","v":""},{"$f":"IF(ISBLANK($B328),\"\",LOOKUP($B328,Inscriptions!A$2:A$65496,Inscriptions!D$2:D$65498))","v":""},null,null,null,0,0,0,"",""]
[325,null,{"$f":"IF(ISBLANK($B329),\"\",LOOKUP($B329,Inscriptions!A$2:A$65496,Inscriptions!B$2:B$65498))","v":""},{"$f":"IF(ISBLANK($B329),\"\",LOOKUP($B329,Inscriptions!A$2:A$65496,Inscriptions!C$2:C$65498))","v":""},{"$f":"IF(ISBLANK($B329),\"\",LOOKUP($B329,Inscriptions!A$2:A$65496,Inscriptions!D$2:D$65498))","v":""},null,null,null,0,0,0,"",""]
[326,null,{"$f":"IF(ISBLANK($B330),\"\",LOOKUP($B330,Inscriptions!A$2:A$65496,Inscriptions!B$2:B$65498))","v":""},{"$f":"IF(ISBLANK($B330),\"\",LOOKUP($B330,Inscriptions!A$2:A$65496,Inscriptions!C$2:C$65498))","v":""},{"$f":"IF(ISBLANK($B330),\"\",LOOKUP($B330,Inscriptions!A$2:A$65496,Inscriptions!D$2:D$65498))","v":""},null,null,null,0,0,0,"",""]
[327,null,{"$f":"IF(ISBLANK($B331),\"\",LOOKUP($B331,Inscriptions!A$2:A$65496,Inscriptions!B$2:B$65498))","v":""},{"$f":"IF(ISBLANK($B331),\"\",LOOKUP($B331,Inscriptions!A$2:A$65496,Inscriptions!C$2:C$65498))","v":""},{"$f":"IF(ISBLANK($B331),\"\",LOOKUP($B331,Inscriptions!A$2:A$65496,Inscriptions!D$2:D$65498))","v":""},null,null,null,0,0,0,"",""]
[328,null,{"$f":"IF(ISBLANK($B332),\"\",LOOKUP($B332,Inscriptions!A$2:A$65496,Inscriptions!B$2:B$65498))","v":""},{"$f":"IF(ISBLANK($B332),\"\",LOOKUP($B332,Inscriptions!A$2:A$65496,Inscriptions!C$2:C$65498))","v":""},{"$f":"IF(ISBLANK($B332),\"\",LOOKUP($B332,Inscriptions!A$2:A$65496,Inscriptions!D$2:D$65498))","v":""},null,null,null,0,0,0,"",""]
[329,null,{"$f":"IF(ISBLANK($B333),\"\",LOOKUP($B333,Inscriptions!A$2:A$65496,Inscriptions!B$2:B$65498))","v":""},{"$f":"IF(ISBLANK($B333),\"\",LOOKUP($B333,Inscriptions!A$2:A$65496,Inscriptions!C$2:C$65498))","v":""},{"$f":"IF(ISBLANK($B333),\"\",LOOKUP($B333,Inscriptions!A$2:A$65496,Inscriptions!D$2:D$65498))","v":""},null,null,null,0,0,0,"",""]
[330,null,{"$f":"IF(ISBLANK($B334),\"\",LOOKUP($B334,Inscriptions!A$2:A$65496,Inscriptions!B$2:B$65498))","v":""},{"$f":"IF(ISBLANK($B334),\"\",LOOKUP($B334,Inscriptions!A$2:A$65496,Inscriptions!C$2:C$65498))","v":""},{"$f":"IF(ISBLANK($B334),\"\",LOOKUP($B334,Inscriptions!A$2:A$65496,Inscriptions!D$2:D$65498))","v":""},null,null,null,0,0,0,"",""]
[331,null,{"$f":"IF(ISBLANK($B335),\"\",LOOKUP($B335,Inscriptions!A$2:A$65496,Inscriptions!B$2:B$65498))","v":""},{"$f":"IF(ISBLANK($B335),\"\",LOOKUP($B335,Inscriptions!A$2:A$65496,Inscriptions!C$2:C$65498))","v":""},{"$f":"IF(ISBLANK($B335),\"\",LOOKUP($B335,Inscriptions!A$2:A$65496,Inscriptions!D$2:D$65498))","v":""},null,null,null,0,0,0,"",""]
[332,null,{"$f":"IF(ISBLANK($B336),\"\",LOOKUP($B336,Inscriptions!A$2:A$65496,Inscriptions!B$2:B$65498))","v":""},{"$f":"IF(ISBLANK($B336),\"\",LOOKUP($B336,Inscriptions!A$2:A$65496,Inscriptions!C$2:C$65498))","v":""},{"$f":"IF(ISBLANK($B336),\"\",LOOKUP($B336,Inscriptions!A$2:A$65496,Inscriptions!D$2:D$65498))","v":""},null,null,null,0,0,0,"",""]
[333,null,{"$f":"IF(ISBLANK($B337),\"\",LOOKUP($B337,Inscriptions!A$2:A$65496,Inscriptions!B$2:B$65498))","v":""},{"$f":"IF(ISBLANK($B337),\"\",LOOKUP($B337,Inscriptions!A$2:A$65496,Inscriptions!C$2:C$65498))","v":""},{"$f":"IF(ISBLANK($B337),\"\",LOOKUP($B337,Inscriptions!A$2:A$65496,Inscriptions!D$2:D$65498))","v":""},null,null,null,0,0,0,"",""]
[334,null,{"$f":"IF(ISBLANK($B338),\"\",LOOKUP($B338,Inscriptions!A$2:A$65496,Inscriptions!B$2:B$65498))","v":""},{"$f":"IF(ISBLANK($B338),\"\",LOOKUP($B338,Inscriptions!A$2:A$65496,Inscriptions!C$2:C$65498))","v":""},{"$f":"IF(ISBLANK($B338),\"\",LOOKUP($B338,Inscriptions!A$2:A$65496,Inscriptions!D$2:D$65498))","v":""},null,null,null,0,0,0,"",""]
[335,null,{"$f":"IF(ISBLANK($B339),\"\",LOOKUP($B339,Inscriptions!A$2:A$65496,Inscriptions!B$2:B$65498))","v":""},{"$f":"IF(ISBLANK($B339),\"\",LOOKUP($B339,Inscriptions!A$2:A$65496,Inscriptions!C$2:C$65498))","v":""},{"$f":"IF(ISBLANK($B339),\"\",LOOKUP($B339,Inscriptions!A$2:A$65496,Inscriptions!D$2:D$65498))","v":""},null,null,null,0,0,0,"",""]
[336,null,{"$f":"IF(ISBLANK($B340),\"\",LOOKUP($B340,Inscriptions!A$2:A$65496,Inscriptions!B$2:B$65498))","v":""},{"$f":"IF(ISBLANK($B340),\"\",LOOKUP($B340,Inscriptions!A$2:A$65496,Inscriptions!C$2:C$65498))","v":""},{"$f":"IF(ISBLANK($B340),\"\",LOOKUP($B340,Inscriptions!A$2:A$65496,Inscriptions!D$2:D$65498))","v":""},null,null,null,0,0,0,"",""]
[337,null,{"$f":"IF(ISBLANK($B341),\"\",LOOKUP($B341,Inscriptions!A$2:A$65496,Inscriptions!B$2:B$65498))","v":""},{"$f":"IF(ISBLANK($B341),\"\",LOOKUP($B341,Inscriptions!A$2:A$65496,Inscriptions!C$2:C$65498))","v":""},{"$f":"IF(ISBLANK($B341),\"\",LOOKUP($B341,Inscriptions!A$2:A$65496,Inscriptions!D$2:D$65498))","v":""},null,null,null,0,0,0,"",""]
[338,null,{"$f":"IF(ISBLANK($B342),\"\",LOOKUP($B342,Inscriptions!A$2:A$65496,Inscriptions!B$2:B$65498))","v":""},{"$f":"IF(ISBLANK($B342),\"\",LOOKUP($B342,Inscriptions!A$2:A$65496,Inscriptions!C$2:C$65498))","v":""},{"$f":"IF(ISBLANK($B342),\"\",LOOKUP($B342,Inscriptions!A$2:A$65496,Inscriptions!D$2:D$65498))","v":""},null,null,null,0,0,0,"",""]
[339,null,{"$f":"IF(ISBLANK($B343),\"\",LOOKUP($B343,Inscriptions!A$2:A$65496,Inscriptions!B$2:B$65498))","v":""},{"$f":"IF(ISBLANK($B343),\"\",LOOKUP($B343,Inscriptions!A$2:A$65496,Inscriptions!C$2:C$65498))","v":""},{"$f":"IF(ISBLANK($B343),\"\",LOOKUP($B343,Inscriptions!A$2:A$65496,Inscriptions!D$2:D$65498))","v":""},null,null,null,0,0,0,"",""]
[340,null,{"$f":"IF(ISBLANK($B344),\"\",LOOKUP($B344,Inscriptions!A$2:A$65496,Inscriptions!B$2:B$65498))","v":""},{"$f":"IF(ISBLANK($B344),\"\",LOOKUP($B344,Inscriptions!A$2:A$65496,Inscriptions!C$2:C$65498))","v":""},{"$f":"IF(ISBLANK($B344),\"\",LOOKUP($B344,Inscriptions!A$2:A$65496,Inscriptions!D$2:D$65498))","v":""},null,null,null,0,0,0,"",""]
[341,null,{"$f":"IF(ISBLANK($B345),\"\",LOOKUP($B345,Inscriptions!A$2:A$65496,Inscriptions!B$2:B$65498))","v":""},{"$f":"IF(ISBLANK($B345),\"\",LOOKUP($B345,Inscriptions!A$2:A$65496,Inscriptions!C$2:C$65498))","v":""},{"$f":"IF(ISBLANK($B345),\"\",LOOKUP($B345,Inscriptions!A$2:A$65496,Inscriptions!D$2:D$65498))","v":""},null,null,null,0,0,0,"",""]
[342,null,{"$f":"IF(ISBLANK($B346),\"\",LOOKUP($B346,Inscriptions!A$2:A$65496,Inscriptions!B$2:B$65498))","v":""},{"$f":"IF(ISBLANK($B346),\"\",LOOKUP($B346,Inscriptions!A$2:A$65496,Inscriptions!C$2:C$65498))","v":""},{"$f":"IF(ISBLANK($B346),\"\",LOOKUP($B346,Inscriptions!A$2:A$65496,Inscriptions!D$2:D$65498))","v":""},null,null,null,0,0,0,"",""]
[343,null,{"$f":"IF(ISBLANK($B347),\"\",LOOKUP($B347,Inscriptions!A$2:A$65496,Inscriptions!B$2:B$65498))","v":""},{"$f":"IF(ISBLANK($B347),\"\",LOOKUP($B347,Inscriptions!A$2:A$65496,Inscriptions!C$2:C$65498))","v":""},{"$f":"IF(ISBLANK($B347),\"\",LOOKUP($B347,Inscriptions!A$2:A$65496,Inscriptions!D$2:D$65498))","v":""},null,null,null,0,0,0,"",""]
[344,null,{"$f":"IF(ISBLANK($B348),\"\",LOOKUP($B348,Inscriptions!A$2:A$65496,Inscriptions!B$2:B$65498))","v":""},{"$f":"IF(ISBLANK($B348),\"\",LOOKUP($B348,Inscriptions!A$2:A$65496,Inscriptions!C$2:C$65498))","v":""},{"$f":"IF(ISBLANK($B348),\"\",LOOKUP($B348,Inscriptions!A$2:A$65496,Inscriptions!D$2:D$65498))","v":""},null,null,null,0,0,0,"",""]
[345,null,{"$f":"IF(ISBLANK($B349),\"\",LOOKUP($B349,Inscriptions!A$2:A$65496,Inscriptions!B$2:B$65498))","v":""},{"$f":"IF(ISBLANK($B349),\"\",LOOKUP($B349,Inscriptions!A$2:A$65496,Inscriptions!C$2:C$65498))","v":""},{"$f":"IF(ISBLANK($B349),\"\",LOOKUP($B349,Inscriptions!A$2:A$65496,Inscriptions!D$2:D$65498))","v":""},null,null,null,0,0,0,"",""]
[346,null,{"$f":"IF(ISBLANK($B350),\"\",LOOKUP($B350,Inscriptions!A$2:A$65496,Inscriptions!B$2:B$65498))","v":""},{"$f":"IF(ISBLANK($B350),\"\",LOOKUP($B350,Inscriptions!A$2:A$65496,Inscriptions!C$2:C$65498))","v":""},{"$f":"IF(ISBLANK($B350),\"\",LOOKUP($B350,Inscriptions!A$2:A$65496,Inscriptions!D$2:D$65498))","v":""},null,null,null,0,0,0,"",""]
[347,null,{"$f":"IF(ISBLANK($B351),\"\",LOOKUP($B351,Inscriptions!A$2:A$65496,Inscriptions!B$2:B$65498))","v":""},{"$f":"IF(ISBLANK($B351),\"\",LOOKUP($B351,Inscriptions!A$2:A$65496,Inscriptions!C$2:C$65498))","v":""},{"$f":"IF(ISBLANK($B351),\"\",LOOKUP($B351,Inscriptions!A$2:A$65496,Inscriptions!D$2:D$65498))","v":""},null,null,null,0,0,0,"",""]
[348,null,{"$f":"IF(ISBLANK($B352),\"\",LOOKUP($B352,Inscriptions!A$2:A$65496,Inscriptions!B$2:B$65498))","v":""},{"$f":"IF(ISBLANK($B352),\"\",LOOKUP($B352,Inscriptions!A$2:A$65496,Inscriptions!C$2:C$65498))","v":""},{"$f":"IF(ISBLANK($B352),\"\",LOOKUP($B352,Inscriptions!A$2:A$65496,Inscriptions!D$2:D$65498))","v":""},null,null,null,0,0,0,"",""]
[349,null,{"$f":"IF(ISBLANK($B353),\"\",LOOKUP($B353,Inscriptions!A$2:A$65496,Inscriptions!B$2:B$65498))","v":""},{"$f":"IF(ISBLANK($B353),\"\",LOOKUP($B353,Inscriptions!A$2:A$65496,Inscriptions!C$2:C$65498))","v":""},{"$f":"IF(ISBLANK($B353),\"\",LOOKUP($B353,Inscriptions!A$2:A$65496,Inscriptions!D$2:D$65498))","v":""},null,null,null,0,0,0,"",""]
[297,null,{"$f":"IF(ISBLANK($B354),\"\",LOOKUP($B354,Inscriptions!A$2:A$65496,Inscriptions!B$2:B$65498))","v":""},{"$f":"IF(ISBLANK($B354),\"\",LOOKUP($B354,Inscriptions!A$2:A$65496,Inscriptions!C$2:C$65498))","v":""},{"$f":"IF(ISBLANK($B354),\"\",LOOKUP($B354,Inscriptions!A$2:A$65496,Inscriptions!D$2:D$65498))","v":""},null,null,null,0,0,0,"",""]

{"sheet":"C5 MOM","index":7,"n_rows":354,"n_cols":13,"rows_kept":354,"cut":false,"hidden":false,"merged":[[0,0,0,7],[1,0,1,7],[2,5,2,6]]}
["CROSS REGIONAL FSGT - STAINS - 18/01/2015"]
["MOUSTIQUES masculins = 1 050 mètres"]
[]
["PLACE","DOSSARD","NOM / PRENOM","CAT","CLUB","MMOM","MOM","TEMPS","h","m","s",1050,"m"]
[1,1429,{"$f":"IF(ISBLANK($B5),\"\",LOOKUP($B5,Inscriptions!A$2:A$65496,Inscriptions!B$2:B$65498))","v":"MILOVAN ALEXANDRE"},{"$f":"IF(ISBLANK($B5),\"\",LOOKUP($B5,Inscriptions!A$2:A$65496,Inscriptions!C$2:C$65498))","v":"MOM"},{"$f":"IF(ISBLANK($B5),\"\",LOOKUP($B5,Inscriptions!A$2:A$65496,Inscriptions!D$2:D$65498))","v":"NOISY LE SEC ATHLETISME"},null,1,441,{"$f":"ROUNDDOWN(H5/10000,0)","v":0},{"$f":"ROUNDDOWN((H5-I5*10000)/100,0)","v":4},{"$f":"ROUNDDOWN((H5-(I5*10000)-(J5*100)),0)","v":41},{"$f":"IF((I5+J5+K5)=0,\"\",ROUNDDOWN((L$4/((I5*3600)+(J5*60)+K5))*3.6,2))","v":13.45},{"$f":"IF(L5=\"\",\"\",\"km/h\")","v":"km/h"}]
[2,2036,{"$f":"IF(ISBLANK($B6),\"\",LOOKUP($B6,Inscriptions!A$2:A$65496,Inscriptions!B$2:B$65498))","v":"BAPTISTE NOLAN"},{"$f":"IF(ISBLANK($B6),\"\",LOOKUP($B6,Inscriptions!A$2:A$65496,Inscriptions!C$2:C$65498))","v":"MOM"},{"$f":"IF(ISBLANK($B6),\"\",LOOKUP($B6,Inscriptions!A$2:A$65496,Inscriptions!D$2:D$65498))","v":"US VIGNEUX"},null,2,449,{"$f":"ROUNDDOWN(H6/10000,0)","v":0},{"$f":"ROUNDDOWN((H6-I6*10000)/100,0)","v":4},{"$f":"ROUNDDOWN((H6-(I6*10000)-(J6*100)),0)","v":49},{"$f":"IF((I6+J6+K6)=0,\"\",ROUNDDOWN((L$4/((I6*3600)+(J6*60)+K6))*3.6,2))","v":13.07},{"$f":"IF(L6=\"\",\"\",\"km/h\")","v":"km/h"}]
[3,2354,{"$f":"IF(ISBLANK($B7),\"\",LOOKUP($B7,Inscriptions!A$2:A$65496,Inscriptions!B$2:B$65498))","v":"MANSOURI MASSY"},{"$f":"IF(ISBLANK($B7),\"\",LOOKUP($B7,Inscriptions!A$2:A$65496,Inscriptions!C$2:C$65498))","v":"MOM"},{"$f":"IF(ISBLANK($B7),\"\",LOOKUP($B7,Inscriptions!A$2:A$65496,Inscriptions!D$2:D$65498))","v":"COM ARGENTEUIL"},null,3,450,0,4,50,13.03,"km/h"]
[4,2373,{"$f":"IF(ISBLANK($B8),\"\",LOOKUP($B8,Inscriptions!A$2:A$65496,Inscriptions!B$2:B$65498))","v":"CORREIA DIARIE MELVIN"},{"$f":"IF(ISBLANK($B8),\"\",LOOKUP($B8,Inscriptions!A$2:A$65496,Inscriptions!C$2:C$65498))","v":"MOM"},{"$f":"IF(ISBLANK($B8),\"\",LOOKUP($B8,Inscriptions!A$2:A$65496,Inscriptions!D$2:D$65498))","v":"ES STAINS"},null,4,450,0,4,50,13.03,"km/h"]
[5,62,{"$f":"IF(ISBLANK($B9),\"\",LOOKUP($B9,Inscriptions!A$2:A$65496,Inscriptions!B$2:B$65498))","v":"SEIZE LILIAN"},{"$f":"IF(ISBLANK($B9),\"\",LOOKUP($B9,Inscriptions!A$2:A$65496,Inscriptions!C$2:C$65498))","v":"MOM"},{"$f":"IF(ISBLANK($B9),\"\",LOOKUP($B9,Inscriptions!A$2:A$65496,Inscriptions!D$2:D$65498))","v":"AC BOBIGNY"},null,5,451,0,4,51,12.98,"km/h"]
[6,406,{"$f":"IF(ISBLANK($B10),\"\",LOOKUP($B10,Inscriptions!A$2:A$65496,Inscriptions!B$2:B$65498))","v":"HIPPOCRATE ALLEN"},{"$f":"IF(ISBLANK($B10),\"\",LOOKUP($B10,Inscriptions!A$2:A$65496,Inscriptions!C$2:C$65498))","v":"MOM"},{"$f":"IF(ISBLANK($B10),\"\",LOOKUP($B10,Inscriptions!A$2:A$65496,Inscriptions!D$2:D$65498))","v":"ATHLE LE BOURGET DRANCY DUGNY"},null,6,455,0,4,55,12.81,"km/h"]
[7,18,{"$f":"IF(ISBLANK($B11),\"\",LOOKUP($B11,Inscriptions!A$2:A$65496,Inscriptions!B$2:B$65498))","v":"CHRISTOPHER TYRONE"},{"$f":"IF(ISBLANK($B11),\"\",LOOKUP($B11,Inscriptions!A$2:A$65496,Inscriptions!C$2:C$65498))","v":"MOM"},{"$f":"IF(ISBLANK($B11),\"\",LOOKUP($B11,Inscriptions!A$2:A$65496,Inscriptions!D$2:D$65498))","v":"AC BOBIGNY"},null,7,502,0,5,2,12.51,"km/h"]
[8,409,{"$f":"IF(ISBLANK($B12),\"\",LOOKUP($B12,Inscriptions!A$2:A$65496,Inscriptions!B$2:B$65498))","v":"IYOK-OLOUME WENDEL THED"},{"$f":"IF(ISBLANK($B12),\"\",LOOKUP($B12,Inscriptions!A$2:A$65496,Inscriptions!C$2:C$65498))","v":"MOM"},{"$f":"IF(ISBLANK($B12),\"\",LOOKUP($B12,Inscriptions!A$2:A$65496,Inscriptions!D$2:D$65498))","v":"ATHLE LE BOURGET DRANCY DUGNY"},null,8,504,0,5,4,12.43,"km/h"]
[9,994,{"$f":"IF(ISBLANK($B13),\"\",LOOKUP($B13,Inscriptions!A$2:A$65496,Inscriptions!B$2:B$65498))","v":"THIANT EVAN"},{"$f":"IF(ISBLANK($B13),\"\",LOOKUP($B13,Inscriptions!A$2:A$65496,Inscriptions!C$2:C$65498))","v":"MOM"},{"$f":"IF(ISBLANK($B13),\"\",LOOKUP($B13,Inscriptions!A$2:A$65496,Inscriptions!D$2:D$65498))","v":"CSM GENNEVILLIERS"},null,9,505,0,5,5,12.39,"km/h"]
[10,33,{"$f":"IF(ISBLANK($B14),\"\",LOOKUP($B14,Inscriptions!A$2:A$65496,Inscriptions!B$2:B$65498))","v":"HIDA SHÉRINE"},{"$f":"IF(ISBLANK($B14),\"\",LOOKUP($B14,Inscriptions!A$2:A$65496,Inscriptions!C$2:C$65498))","v":"MOF"},{"$f":"IF(ISBLANK($B14),\"\",LOOKUP($B14,Inscriptions!A$2:A$65496,Inscriptions!D$2:D$65498))","v":"AC BOBIGNY"},null,null,505,0,5,5,12.39,"km/h"]
[11,1400,{"$f":"IF(ISBLANK($B15),\"\",LOOKUP($B15,Inscriptions!A$2:A$65496,Inscriptions!B$2:B$65498))","v":"JARBOUA YANIS"},{"$f":"IF(ISBLANK($B15),\"\",LOOKUP($B15,Inscriptions!A$2:A$65496,Inscriptions!C$2:C$65498))","v":"MOM"},{"$f":"IF(ISBLANK($B15),\"\",LOOKUP($B15,Inscriptions!A$2:A$65496,Inscriptions!D$2:D$65498))","v":"NOISY LE SEC ATHLETISME"},null,10,512,0,5,12,12.11,"km/h"]
[12,1222,{"$f":"IF(ISBLANK($B16),\"\",LOOKUP($B16,Inscriptions!A$2:A$65496,Inscriptions!B$2:B$65498))","v":"LANDRES GEORGES"},{"$f":"IF(ISBLANK($B16),\"\",LOOKUP($B16,Inscriptions!A$2:A$65496,Inscriptions!C$2:C$65498))","v":"MOM"},{"$f":"IF(ISBLANK($B16),\"\",LOOKUP($B16,Inscriptions!A$2:A$65496,Inscriptions!D$2:D$65498))","v":"ES VITRY"},null,11,512,0,5,12,12.11,"km/h"]
[13,93,{"$f":"IF(ISBLANK($B17),\"\",LOOKUP($B17,Inscriptions!A$2:A$65496,Inscriptions!B$2:B$65498))","v":"CHIKI WALID"},{"$f":"IF(ISBLANK($B17),\"\",LOOKUP($B17,Inscriptions!A$2:A$65496,Inscriptions!C$2:C$65498))","v":"MOM"},{"$f":"IF(ISBLANK($B17),\"\",LOOKUP($B17,Inscriptions!A$2:A$65496,Inscriptions!D$2:D$65498))","v":"ACM AUBERVILLIERS"},null,12,513,0,5,13,12.07,"km/h"]
[14,1394,{"$f":"IF(ISBLANK($B18),\"\",LOOKUP($B18,Inscriptions!A$2:A$65496,Inscriptions!B$2:B$65498))","v":"IMBEAUD MARIN"},{"$f":"IF(ISBLANK($B18),\"\",LOOKUP($B18,Inscriptions!A$2:A$65496,Inscriptions!C$2:C$65498))","v":"MOM"},{"$f":"IF(ISBLANK($B18),\"\",LOOKUP($B18,Inscriptions!A$2:A$65496,Inscriptions!D$2:D$65498))","v":"NOISY LE SEC ATHLETISME"},null,13,515,0,5,15,12,"km/h"]
[15,1671,{"$f":"IF(ISBLANK($B19),\"\",LOOKUP($B19,Inscriptions!A$2:A$65496,Inscriptions!B$2:B$65498))","v":"HOLSTEING ALEXANDRE"},{"$f":"IF(ISBLANK($B19),\"\",LOOKUP($B19,Inscriptions!A$2:A$65496,Inscriptions!C$2:C$65498))","v":"MOM"},{"$f":"IF(ISBLANK($B19),\"\",LOOKUP($B19,Inscriptions!A$2:A$65496,Inscriptions!D$2:D$65498))","v":"TREMBLAY AC"},null,14,520,0,5,20,11.81,"km/h"]
[16,1225,{"$f":"IF(ISBLANK($B20),\"\",LOOKUP($B20,Inscriptions!A$2:A$65496,Inscriptions!B$2:B$65498))","v":"LAURENS BENJAMIN"},{"$f":"IF(ISBLANK($B20),\"\",LOOKUP($B20,Inscriptions!A$2:A$65496,Inscriptions!C$2:C$65498))","v":"MOM"},{"$f":"IF(ISBLANK($B20),\"\",LOOKUP($B20,Inscriptions!A$2:A$65496,Inscriptions!D$2:D$65498))","v":"ES VITRY"},null,15,536,0,5,36,11.25,"km/h"]
[17,1396,{"$f":"IF(ISBLANK($B21),\"\",LOOKUP($B21,Inscriptions!A$2:A$65496,Inscriptions!B$2:B$65498))","v":"ISNARD RAPHAEL"},{"$f":"IF(ISBLANK($B21),\"\",LOOKUP($B21,Inscriptions!A$2:A$65496,Inscriptions!C$2:C$65498))","v":"MOM"},{"$f":"IF(ISBLANK($B21),\"\",LOOKUP($B21,Inscriptions!A$2:A$65496,Inscriptions!D$2:D$65498))","v":"NOISY LE SEC ATHLETISME"},null,16,536,0,5,36,11.25,"km/h"]
[18,1527,{"$f":"IF(ISBLANK($B22),\"\",LOOKUP($B22,Inscriptions!A$2:A$65496,Inscriptions!B$2:B$65498))","v":"CAMARA DRAME TYJONE"},{"$f":"IF(ISBLANK($B22),\"\",LOOKUP($B22,Inscriptions!A$2:A$65496,Inscriptions!C$2:C$65498))","v":"MOM"},{"$f":"IF(ISBLANK($B22),\"\",LOOKUP($B22,Inscriptions!A$2:A$65496,Inscriptions!D$2:D$65498))","v":"ST DENIS US"},null,17,537,0,5,37,11.21,"km/h"]
[19,1762,{"$f":"IF(ISBLANK($B23),\"\",LOOKUP($B23,Inscriptions!A$2:A$65496,Inscriptions!B$2:B$65498))","v":"BARGES ELISA"},{"$f":"IF(ISBLANK($B23),\"\",LOOKUP($B23,Inscriptions!A$2:A$65496,Inscriptions!C$2:C$65498))","v":"MOF"},{"$f":"IF(ISBLANK($B23),\"\",LOOKUP($B23,Inscriptions!A$2:A$65496,Inscriptions!D$2:D$65498))","v":"US IVRY"},null,null,545,0,5,45,10.95,"km/h"]
[20,1125,{"$f":"IF(ISBLANK($B24),\"\",LOOKUP($B24,Inscriptions!A$2:A$65496,Inscriptions!B$2:B$65498))","v":"SISSAKO DJIBRIL"},{"$f":"IF(ISBLANK($B24),\"\",LOOKUP($B24,Inscriptions!A$2:A$65496,Inscriptions!C$2:C$65498))","v":"MOM"},{"$f":"IF(ISBLANK($B24),\"\",LOOKUP($B24,Inscriptions!A$2:A$65496,Inscriptions!D$2:D$65498))","v":"ES STAINS"},null,18,551,0,5,51,10.76,"km/h"]
[21,909,{"$f":"IF(ISBLANK($B25),\"\",LOOKUP($B25,Inscriptions!A$2:A$65496,Inscriptions!B$2:B$65498))","v":"ROUSSEAU CLEMENT"},{"$f":"IF(ISBLANK($B25),\"\",LOOKUP($B25,Inscriptions!A$2:A$65496,Inscriptions!C$2:C$65498))","v":"MOM"},{"$f":"IF(ISBLANK($B25),\"\",LOOKUP($B25,Inscriptions!A$2:A$65496,Inscriptions!D$2:D$65498))","v":"CS BRETIGNY ATHLETISME"},null,19,552,0,5,52,10.73,"km/h"]
[22,976,{"$f":"IF(ISBLANK($B26),\"\",LOOKUP($B26,Inscriptions!A$2:A$65496,Inscriptions!B$2:B$65498))","v":"MONVILLE JAMY"},{"$f":"IF(ISBLANK($B26),\"\",LOOKUP($B26,Inscriptions!A$2:A$65496,Inscriptions!C$2:C$65498))","v":"MOM"},{"$f":"IF(ISBLANK($B26),\"\",LOOKUP($B26,Inscriptions!A$2:A$65496,Inscriptions!D$2:D$65498))","v":"CSM GENNEVILLIERS"},null,20,557,0,5,57,10.58,"km/h"]
[23,943,{"$f":"IF(ISBLANK($B27),\"\",LOOKUP($B27,Inscriptions!A$2:A$65496,Inscriptions!B$2:B$65498))","v":"BARNY MAXENS"},{"$f":"IF(ISBLANK($B27),\"\",LOOKUP($B27,Inscriptions!A$2:A$65496,Inscriptions!C$2:C$65498))","v":"MOM"},{"$f":"IF(ISBLANK($B27),\"\",LOOKUP($B27,Inscriptions!A$2:A$65496,Inscriptions!D$2:D$65498))","v":"CSM GENNEVILLIERS"},null,21,558,0,5,58,10.55,"km/h"]
[24,2346,{"$f":"IF(ISBLANK($B28),\"\",LOOKUP($B28,Inscriptions!A$2:A$65496,Inscriptions!B$2:B$65498))","v":"HAMMACHE ADEL"},{"$f":"IF(ISBLANK($B28),\"\",LOOKUP($B28,Inscriptions!A$2:A$65496,Inscriptions!C$2:C$65498))","v":"MOM"},{"$f":"IF(ISBLANK($B28),\"\",LOOKUP($B28,Inscriptions!A$2:A$65496,Inscriptions!D$2:D$65498))","v":"ATHLE LE BOURGET DRANCY DUGNY"},null,22,601,0,6,1,10.47,"km/h"]
[25,2267,{"$f":"IF(ISBLANK($B29),\"\",LOOKUP($B29,Inscriptions!A$2:A$65496,Inscriptions!B$2:B$65498))","v":"RUBLON JEREMY"},{"$f":"IF(ISBLANK($B29),\"\",LOOKUP($B29,Inscriptions!A$2:A$65496,Inscriptions!C$2:C$65498))","v":"MOM"},{"$f":"IF(ISBLANK($B29),\"\",LOOKUP($B29,Inscriptions!A$2:A$65496,Inscriptions!D$2:D$65498))","v":"USO BEZONS"},null,23,602,0,6,2,10.44,"km/h"]
[26,1716,{"$f":"IF(ISBLANK($B30),\"\",LOOKUP($B30,Inscriptions!A$2:A$65496,Inscriptions!B$2:B$65498))","v":"PAVLAKOS THEO"},{"$f":"IF(ISBLANK($B30),\"\",LOOKUP($B30,Inscriptions!A$2:A$65496,Inscriptions!C$2:C$65498))","v":"MOM"},{"$f":"IF(ISBLANK($B30),\"\",LOOKUP($B30,Inscriptions!A$2:A$65496,Inscriptions!D$2:D$65498))","v":"TREMBLAY AC"},null,24,605,0,6,5,10.35,"km/h"]
[27,450,{"$f":"IF(ISBLANK($B31),\"\",LOOKUP($B31,Inscriptions!A$2:A$65496,Inscriptions!B$2:B$65498))","v":"OULD'ALI YACINE-ZIDANE"},{"$f":"IF(ISBLANK($B31),\"\",LOOKUP($B31,Inscriptions!A$2:A$65496,Inscriptions!C$2:C$65498))","v":"MOM"},{"$f":"IF(ISBLANK($B31),\"\",LOOKUP($B31,Inscriptions!A$2:A$65496,Inscriptions!D$2:D$65498))","v":"ATHLE LE BOURGET DRANCY DUGNY"},null,25,608,0,6,8,10.27,"km/h"]
[28,853,{"$f":"IF(ISBLANK($B32),\"\",LOOKUP($B32,Inscriptions!A$2:A$65496,Inscriptions!B$2:B$65498))","v":"MARTIGNE PAUL"},{"$f":"IF(ISBLANK($B32),\"\",LOOKUP($B32,Inscriptions!A$2:A$65496,Inscriptions!C$2:C$65498))","v":"MOM"},{"$f":"IF(ISBLANK($B32),\"\",LOOKUP($B32,Inscriptions!A$2:A$65496,Inscriptions!D$2:D$65498))","v":"CS BRETIGNY ATHLETISME"},null,26,609,0,6,9,10.24,"km/h"]
[29,2330,{"$f":"IF(ISBLANK($B33),\"\",LOOKUP($B33,Inscriptions!A$2:A$65496,Inscriptions!B$2:B$65498))","v":"RAZAFINIMANANA ARTHUR"},{"$f":"IF(ISBLANK($B33),\"\",LOOKUP($B33,Inscriptions!A$2:A$65496,Inscriptions!C$2:C$65498))","v":"MOM"},{"$f":"IF(ISBLANK($B33),\"\",LOOKUP($B33,Inscriptions!A$2:A$65496,Inscriptions!D$2:D$65498))","v":"VILLEPINTE MA"},null,27,609,0,6,9,10.24,"km/h"]
[30,2372,{"$f":"IF(ISBLANK($B34),\"\",LOOKUP($B34,Inscriptions!A$2:A$65496,Inscriptions!B$2:B$65498))","v":"ADIFEDILOR DJAHAN"},{"$f":"IF(ISBLANK($B34),\"\",LOOKUP($B34,Inscriptions!A$2:A$65496,Inscriptions!C$2:C$65498))","v":"MOM"},{"$f":"IF(ISBLANK($B34),\"\",LOOKUP($B34,Inscriptions!A$2:A$65496,Inscriptions!D$2:D$65498))","v":"ATHLE LE BOURGET DRANCY DUGNY"},null,28,610,0,6,10,10.210000000000001,"km/h"]
[31,2286,{"$f":"IF(ISBLANK($B35),\"\",LOOKUP($B35,Inscriptions!A$2:A$65496,Inscriptions!B$2:B$65498))","v":"BRUNEAU ETHAN"},{"$f":"IF(ISBLANK($B35),\"\",LOOKUP($B35,Inscriptions!A$2:A$65496,Inscriptions!C$2:C$65498))","v":"MOM"},{"$f":"IF(ISBLANK($B35),\"\",LOOKUP($B35,Inscriptions!A$2:A$65496,Inscriptions!D$2:D$65498))","v":"VILLEPINTE MA"},null,29,611,0,6,11,10.18,"km/h"]
[32,1750,{"$f":"IF(ISBLANK($B36),\"\",LOOKUP($B36,Inscriptions!A$2:A$65496,Inscriptions!B$2:B$65498))","v":"ZERNADJI MANEL"},{"$f":"IF(ISBLANK($B36),\"\",LOOKUP($B36,Inscriptions!A$2:A$65496,Inscriptions!C$2:C$65498))","v":"MOF"},{"$f":"IF(ISBLANK($B36),\"\",LOOKUP($B36,Inscriptions!A$2:A$65496,Inscriptions!D$2:D$65498))","v":"TREMBLAY AC"},null,null,614,0,6,14,10.1,"km/h"]
[33,1667,{"$f":"IF(ISBLANK($B37),\"\",LOOKUP($B37,Inscriptions!A$2:A$65496,Inscriptions!B$2:B$65498))","v":"GUYON LUCAS"},{"$f":"IF(ISBLANK($B37),\"\",LOOKUP($B37,Inscriptions!A$2:A$65496,Inscriptions!C$2:C$65498))","v":"MOM"},{"$f":"IF(ISBLANK($B37),\"\",LOOKUP($B37,Inscriptions!A$2:A$65496,Inscriptions!D$2:D$65498))","v":"TREMBLAY AC"},null,30,615,0,6,15,10.08,"km/h"]
[34,1369,{"$f":"IF(ISBLANK($B38),\"\",LOOKUP($B38,Inscriptions!A$2:A$65496,Inscriptions!B$2:B$65498))","v":"EL KOURDI MEHDI"},{"$f":"IF(ISBLANK($B38),\"\",LOOKUP($B38,Inscriptions!A$2:A$65496,Inscriptions!C$2:C$65498))","v":"MOM"},{"$f":"IF(ISBLANK($B38),\"\",LOOKUP($B38,Inscriptions!A$2:A$65496,Inscriptions!D$2:D$65498))","v":"NOISY LE SEC ATHLETISME"},null,31,615,0,6,15,10.08,"km/h"]
[35,1605,{"$f":"IF(ISBLANK($B39),\"\",LOOKUP($B39,Inscriptions!A$2:A$65496,Inscriptions!B$2:B$65498))","v":"ALLENDE LINDSAY"},{"$f":"IF(ISBLANK($B39),\"\",LOOKUP($B39,Inscriptions!A$2:A$65496,Inscriptions!C$2:C$65498))","v":"MOF"},{"$f":"IF(ISBLANK($B39),\"\",LOOKUP($B39,Inscriptions!A$2:A$65496,Inscriptions!D$2:D$65498))","v":"TREMBLAY AC"},null,null,615,0,6,15,10.08,"km/h"]
[36,27,{"$f":"IF(ISBLANK($B40),\"\",LOOKUP($B40,Inscriptions!A$2:A$65496,Inscriptions!B$2:B$65498))","v":"FINOLY ALICIA"},{"$f":"IF(ISBLANK($B40),\"\",LOOKUP($B40,Inscriptions!A$2:A$65496,Inscriptions!C$2:C$65498))","v":"MOF"},{"$f":"IF(ISBLANK($B40),\"\",LOOKUP($B40,Inscriptions!A$2:A$65496,Inscriptions!D$2:D$65498))","v":"AC BOBIGNY"},null,null,616,0,6,16,10.050000000000001,"km/h"]
[37,480,{"$f":"IF(ISBLANK($B41),\"\",LOOKUP($B41,Inscriptions!A$2:A$65496,Inscriptions!B$2:B$65498))","v":"AGBAHOSSI MATHYS"},{"$f":"IF(ISBLANK($B41),\"\",LOOKUP($B41,Inscriptions!A$2:A$65496,Inscriptions!C$2:C$65498))","v":"MOM"},{"$f":"IF(ISBLANK($B41),\"\",LOOKUP($B41,Inscriptions!A$2:A$65496,Inscriptions!D$2:D$65498))","v":"BLANC MESNIL SA"},null,32,619,0,6,19,9.9700000000000006,"km/h"]
[38,1645,{"$f":"IF(ISBLANK($B42),\"\",LOOKUP($B42,Inscriptions!A$2:A$65496,Inscriptions!B$2:B$65498))","v":"DEVILLAZ UGO"},{"$f":"IF(ISBLANK($B42),\"\",LOOKUP($B42,Inscriptions!A$2:A$65496,Inscriptions!C$2:C$65498))","v":"MOM"},{"$f":"IF(ISBLANK($B42),\"\",LOOKUP($B42,Inscriptions!A$2:A$65496,Inscriptions!D$2:D$65498))","v":"TREMBLAY AC"},null,33,620,0,6,20,9.94,"km/h"]
[39,1617,{"$f":"IF(ISBLANK($B43),\"\",LOOKUP($B43,Inscriptions!A$2:A$65496,Inscriptions!B$2:B$65498))","v":"BOST CLEMENT"},{"$f":"IF(ISBLANK($B43),\"\",LOOKUP($B43,Inscriptions!A$2:A$65496,Inscriptions!C$2:C$65498))","v":"MOM"},{"$f":"IF(ISBLANK($B43),\"\",LOOKUP($B43,Inscriptions!A$2:A$65496,Inscriptions!D$2:D$65498))","v":"TREMBLAY AC"},null,34,622,0,6,22,9.89,"km/h"]
[40,2098,{"$f":"IF(ISBLANK($B44),\"\",LOOKUP($B44,Inscriptions!A$2:A$65496,Inscriptions!B$2:B$65498))","v":"MARTEL LUBIN"},{"$f":"IF(ISBLANK($B44),\"\",LOOKUP($B44,Inscriptions!A$2:A$65496,Inscriptions!C$2:C$65498))","v":"MOM"},{"$f":"IF(ISBLANK($B44),\"\",LOOKUP($B44,Inscriptions!A$2:A$65496,Inscriptions!D$2:D$65498))","v":"US VIGNEUX"},null,35,623,0,6,23,9.86,"km/h"]
[41,1083,{"$f":"IF(ISBLANK($B45),\"\",LOOKUP($B45,Inscriptions!A$2:A$65496,Inscriptions!B$2:B$65498))","v":"FREITAS YOHAN"},{"$f":"IF(ISBLANK($B45),\"\",LOOKUP($B45,Inscriptions!A$2:A$65496,Inscriptions!C$2:C$65498))","v":"MOM"},{"$f":"IF(ISBLANK($B45),\"\",LOOKUP($B45,Inscriptions!A$2:A$65496,Inscriptions!D$2:D$65498))","v":"ES STAINS"},null,36,623,0,6,23,9.86,"km/h"]
[42,90,{"$f":"IF(ISBLANK($B46),\"\",LOOKUP($B46,Inscriptions!A$2:A$65496,Inscriptions!B$2:B$65498))","v":"BUTON REMI"},{"$f":"IF(ISBLANK($B46),\"\",LOOKUP($B46,Inscriptions!A$2:A$65496,Inscriptions!C$2:C$65498))","v":"MOM"},{"$f":"IF(ISBLANK($B46),\"\",LOOKUP($B46,Inscriptions!A$2:A$65496,Inscriptions!D$2:D$65498))","v":"ACM AUBERVILLIERS"},null,37,624,0,6,24,9.84,"km/h"]
[43,1927,{"$f":"IF(ISBLANK($B47),\"\",LOOKUP($B47,Inscriptions!A$2:A$65496,Inscriptions!B$2:B$65498))","v":"RAKOTOMANGA NIRINA"},{"$f":"IF(ISBLANK($B47),\"\",LOOKUP($B47,Inscriptions!A$2:A$65496,Inscriptions!C$2:C$65498))","v":"MOM"},{"$f":"IF(ISBLANK($B47),\"\",LOOKUP($B47,Inscriptions!A$2:A$65496,Inscriptions!D$2:D$65498))","v":"US IVRY"},null,38,624,0,6,24,9.84,"km/h"]
[44,1721,{"$f":"IF(ISBLANK($B48),\"\",LOOKUP($B48,Inscriptions!A$2:A$65496,Inscriptions!B$2:B$65498))","v":"RAMPERSAN YANOAH"},{"$f":"IF(ISBLANK($B48),\"\",LOOKUP($B48,Inscriptions!A$2:A$65496,Inscriptions!C$2:C$65498))","v":"MOM"},{"$f":"IF(ISBLANK($B48),\"\",LOOKUP($B48,Inscriptions!A$2:A$65496,Inscriptions!D$2:D$65498))","v":"TREMBLAY AC"},null,39,624,0,6,24,9.84,"km/h"]
[45,2138,{"$f":"IF(ISBLANK($B49),\"\",LOOKUP($B49,Inscriptions!A$2:A$65496,Inscriptions!B$2:B$65498))","v":"BAYKAM KIMANI"},{"$f":"IF(ISBLANK($B49),\"\",LOOKUP($B49,Inscriptions!A$2:A$65496,Inscriptions!C$2:C$65498))","v":"MOM"},{"$f":"IF(ISBLANK($B49),\"\",LOOKUP($B49,Inscriptions!A$2:A$65496,Inscriptions!D$2:D$65498))","v":"USMA ST OUEN"},null,40,625,0,6,25,9.81,"km/h"]
[46,69,{"$f":"IF(ISBLANK($B50),\"\",LOOKUP($B50,Inscriptions!A$2:A$65496,Inscriptions!B$2:B$65498))","v":"ZEKRITI YACINE"},{"$f":"IF(ISBLANK($B50),\"\",LOOKUP($B50,Inscriptions!A$2:A$65496,Inscriptions!C$2:C$65498))","v":"MOM"},{"$f":"IF(ISBLANK($B50),\"\",LOOKUP($B50,Inscriptions!A$2:A$65496,Inscriptions!D$2:D$65498))","v":"AC BOBIGNY"},null,41,629,0,6,29,9.7100000000000009,"km/h"]
[47,16,{"$f":"IF(ISBLANK($B51),\"\",LOOKUP($B51,Inscriptions!A$2:A$65496,Inscriptions!B$2:B$65498))","v":"CERAQUEUSE MAIWENN"},{"$f":"IF(ISBLANK($B51),\"\",LOOKUP($B51,Inscriptions!A$2:A$65496,Inscriptions!C$2:C$65498))","v":"MOF"},{"$f":"IF(ISBLANK($B51),\"\",LOOKUP($B51,Inscriptions!A$2:A$65496,Inscriptions!D$2:D$65498))","v":"AC BOBIGNY"},null,null,631,0,6,31,9.66,"km/h"]
[48,1966,{"$f":"IF(ISBLANK($B52),\"\",LOOKUP($B52,Inscriptions!A$2:A$65496,Inscriptions!B$2:B$65498))","v":"VETEL ENZO"},{"$f":"IF(ISBLANK($B52),\"\",LOOKUP($B52,Inscriptions!A$2:A$65496,Inscriptions!C$2:C$65498))","v":"MOM"},{"$f":"IF(ISBLANK($B52),\"\",LOOKUP($B52,Inscriptions!A$2:A$65496,Inscriptions!D$2:D$65498))","v":"US IVRY"},null,42,639,0,6,39,9.4700000000000006,"km/h"]
[49,1926,{"$f":"IF(ISBLANK($B53),\"\",LOOKUP($B53,Inscriptions!A$2:A$65496,Inscriptions!B$2:B$65498))","v":"RADJOUH AMEL"},{"$f":"IF(ISBLANK($B53),\"\",LOOKUP($B53,Inscriptions!A$2:A$65496,Inscriptions!C$2:C$65498))","v":"POF"},{"$f":"IF(ISBLANK($B53),\"\",LOOKUP($B53,Inscriptions!A$2:A$65496,Inscriptions!D$2:D$65498))","v":"US IVRY"},null,null,641,0,6,41,9.42,"km/h"]
[50,2199,{"$f":"IF(ISBLANK($B54),\"\",LOOKUP($B54,Inscriptions!A$2:A$65496,Inscriptions!B$2:B$65498))","v":"NEMAR ZAKY"},{"$f":"IF(ISBLANK($B54),\"\",LOOKUP($B54,Inscriptions!A$2:A$65496,Inscriptions!C$2:C$65498))","v":"MOM"},{"$f":"IF(ISBLANK($B54),\"\",LOOKUP($B54,Inscriptions!A$2:A$65496,Inscriptions!D$2:D$65498))","v":"USMA ST OUEN"},null,43,705,0,7,5,8.89,"km/h"]
[51,1403,{"$f":"IF(ISBLANK($B55),\"\",LOOKUP($B55,Inscriptions!A$2:A$65496,Inscriptions!B$2:B$65498))","v":"KELLAS ELYES"},{"$f":"IF(ISBLANK($B55),\"\",LOOKUP($B55,Inscriptions!A$2:A$65496,Inscriptions!C$2:C$65498))","v":"MMOM"},{"$f":"IF(ISBLANK($B55),\"\",LOOKUP($B55,Inscriptions!A$2:A$65496,Inscriptions!D$2:D$65498))","v":"NOISY LE SEC ATHLETISME"},null,null,706,0,7,6,8.8699999999999992,"km/h"]
[52,49,{"$f":"IF(ISBLANK($B56),\"\",LOOKUP($B56,Inscriptions!A$2:A$65496,Inscriptions!B$2:B$65498))","v":"MUKOKA KABENGELE ASTRID"},{"$f":"IF(ISBLANK($B56),\"\",LOOKUP($B56,Inscriptions!A$2:A$65496,Inscriptions!C$2:C$65498))","v":"MMOF"},{"$f":"IF(ISBLANK($B56),\"\",LOOKUP($B56,Inscriptions!A$2:A$65496,Inscriptions!D$2:D$65498))","v":"AC BOBIGNY"},null,null,707,0,7,7,8.85,"km/h"]
[53,1873,{"$f":"IF(ISBLANK($B57),\"\",LOOKUP($B57,Inscriptions!A$2:A$65496,Inscriptions!B$2:B$65498))","v":"LASFER LUNA"},{"$f":"IF(ISBLANK($B57),\"\",LOOKUP($B57,Inscriptions!A$2:A$65496,Inscriptions!C$2:C$65498))","v":"MOF"},{"$f":"IF(ISBLANK($B57),\"\",LOOKUP($B57,Inscriptions!A$2:A$65496,Inscriptions!D$2:D$65498))","v":"US IVRY"},null,null,725,0,7,25,8.49,"km/h"]
[54,1453,{"$f":"IF(ISBLANK($B58),\"\",LOOKUP($B58,Inscriptions!A$2:A$65496,Inscriptions!B$2:B$65498))","v":"SAGNET CHETRATE ADAM"},{"$f":"IF(ISBLANK($B58),\"\",LOOKUP($B58,Inscriptions!A$2:A$65496,Inscriptions!C$2:C$65498))","v":"MMOM"},{"$f":"IF(ISBLANK($B58),\"\",LOOKUP($B58,Inscriptions!A$2:A$65496,Inscriptions!D$2:D$65498))","v":"NOISY LE SEC ATHLETISME"},null,null,734,0,7,34,8.32,"km/h"]
[55,2214,{"$f":"IF(ISBLANK($B59),\"\",LOOKUP($B59,Inscriptions!A$2:A$65496,Inscriptions!B$2:B$65498))","v":"ZERKANI NABYLE"},{"$f":"IF(ISBLANK($B59),\"\",LOOKUP($B59,Inscriptions!A$2:A$65496,Inscriptions!C$2:C$65498))","v":"MOM"},{"$f":"IF(ISBLANK($B59),\"\",LOOKUP($B59,Inscriptions!A$2:A$65496,Inscriptions!D$2:D$65498))","v":"USMA ST OUEN"},null,44,735,0,7,35,8.3000000000000007,"km/h"]
[56,1404,{"$f":"IF(ISBLANK($B60),\"\",LOOKUP($B60,Inscriptions!A$2:A$65496,Inscriptions!B$2:B$65498))","v":"KHEFFACH MOHAMED"},{"$f":"IF(ISBLANK($B60),\"\",LOOKUP($B60,Inscriptions!A$2:A$65496,Inscriptions!C$2:C$65498))","v":"MOM"},{"$f":"IF(ISBLANK($B60),\"\",LOOKUP($B60,Inscriptions!A$2:A$65496,Inscriptions!D$2:D$65498))","v":"NOISY LE SEC ATHLETISME"},null,45,746,0,7,46,8.11,"km/h"]
[57,10,{"$f":"IF(ISBLANK($B61),\"\",LOOKUP($B61,Inscriptions!A$2:A$65496,Inscriptions!B$2:B$65498))","v":"BELLUS WESLEY"},{"$f":"IF(ISBLANK($B61),\"\",LOOKUP($B61,Inscriptions!A$2:A$65496,Inscriptions!C$2:C$65498))","v":"MOM"},{"$f":"IF(ISBLANK($B61),\"\",LOOKUP($B61,Inscriptions!A$2:A$65496,Inscriptions!D$2:D$65498))","v":"AC BOBIGNY"},null,46,748,0,7,48,8.07,"km/h"]
[58,1058,{"$f":"IF(ISBLANK($B62),\"\",LOOKUP($B62,Inscriptions!A$2:A$65496,Inscriptions!B$2:B$65498))","v":"COSME LORENZO"},{"$f":"IF(ISBLANK($B62),\"\",LOOKUP($B62,Inscriptions!A$2:A$65496,Inscriptions!C$2:C$65498))","v":"MOF"},{"$f":"IF(ISBLANK($B62),\"\",LOOKUP($B62,Inscriptions!A$2:A$65496,Inscriptions!D$2:D$65498))","v":"ES STAINS"},null,null,749,0,7,49,8.0500000000000007,"km/h"]
[59,1802,{"$f":"IF(ISBLANK($B63),\"\",LOOKUP($B63,Inscriptions!A$2:A$65496,Inscriptions!B$2:B$65498))","v":"DELAFOY JASMINE"},{"$f":"IF(ISBLANK($B63),\"\",LOOKUP($B63,Inscriptions!A$2:A$65496,Inscriptions!C$2:C$65498))","v":"MOF"},{"$f":"IF(ISBLANK($B63),\"\",LOOKUP($B63,Inscriptions!A$2:A$65496,Inscriptions!D$2:D$65498))","v":"US IVRY"},null,null,808,0,8,8,7.74,"km/h"]
[60,null,{"$f":"IF(ISBLANK($B64),\"\",LOOKUP($B64,Inscriptions!A$2:A$65496,Inscriptions!B$2:B$65498))","v":""},{"$f":"IF(ISBLANK($B64),\"\",LOOKUP($B64,Inscriptions!A$2:A$65496,Inscriptions!C$2:C$65498))","v":""},{"$f":"IF(ISBLANK($B64),\"\",LOOKUP($B64,Inscriptions!A$2:A$65496,Inscriptions!D$2:D$65498))","v":""},null,null,null,0,0,0,"",""]
[61,null,{"$f":"IF(ISBLANK($B65),\"\",LOOKUP($B65,Inscriptions!A$2:A$65496,Inscriptions!B$2:B$65498))","v":""},{"$f":"IF(ISBLANK($B65),\"\",LOOKUP($B65,Inscriptions!A$2:A$65496,Inscriptions!C$2:C$65498))","v":""},{"$f":"IF(ISBLANK($B65),\"\",LOOKUP($B65,Inscriptions!A$2:A$65496,Inscriptions!D$2:D$65498))","v":""},null,null,null,0,0,0,"",""]
[62,null,{"$f":"IF(ISBLANK($B66),\"\",LOOKUP($B66,Inscriptions!A$2:A$65496,Inscriptions!B$2:B$65498))","v":""},{"$f":"IF(ISBLANK($B66),\"\",LOOKUP($B66,Inscriptions!A$2:A$65496,Inscriptions!C$2:C$65498))","v":""},{"$f":"IF(ISBLANK($B66),\"\",LOOKUP($B66,Inscriptions!A$2:A$65496,Inscriptions!D$2:D$65498))","v":""},null,null,null,0,0,0,"",""]
[63,null,{"$f":"IF(ISBLANK($B67),\"\",LOOKUP($B67,Inscriptions!A$2:A$65496,Inscriptions!B$2:B$65498))","v":""},{"$f":"IF(ISBLANK($B67),\"\",LOOKUP($B67,Inscriptions!A$2:A$65496,Inscriptions!C$2:C$65498))","v":""},{"$f":"IF(ISBLANK($B67),\"\",LOOKUP($B67,Inscriptions!A$2:A$65496,Inscriptions!D$2:D$65498))","v":""},null,null,null,0,0,0,"",""]
[64,null,{"$f":"IF(ISBLANK($B68),\"\",LOOKUP($B68,Inscriptions!A$2:A$65496,Inscriptions!B$2:B$65498))","v":""},{"$f":"IF(ISBLANK($B68),\"\",LOOKUP($B68,Inscriptions!A$2:A$65496,Inscriptions!C$2:C$65498))","v":""},{"$f":"IF(ISBLANK($B68),\"\",LOOKUP($B68,Inscriptions!A$2:A$65496,Inscriptions!D$2:D$65498))","v":""},null,null,null,0,0,0,"",""]
[65,null,{"$f":"IF(ISBLANK($B69),\"\",LOOKUP($B69,Inscriptions!A$2:A$65496,Inscriptions!B$2:B$65498))","v":""},{"$f":"IF(ISBLANK($B69),\"\",LOOKUP($B69,Inscriptions!A$2:A$65496,Inscriptions!C$2:C$65498))","v":""},{"$f":"IF(ISBLANK($B69),\"\",LOOKUP($B69,Inscriptions!A$2:A$65496,Inscriptions!D$2:D$65498))","v":""},null,null,null,0,0,0,"",""]
[66,null,{"$f":"IF(ISBLANK($B70),\"\",LOOKUP($B70,Inscriptions!A$2:A$65496,Inscriptions!B$2:B$65498))","v":""},{"$f":"IF(ISBLANK($B70),\"\",LOOKUP($B70,Inscriptions!A$2:A$65496,Inscriptions!C$2:C$65498))","v":""},{"$f":"IF(ISBLANK($B70),\"\",LOOKUP($B70,Inscriptions!A$2:A$65496,Inscriptions!D$2:D$65498))","v":""},null,null,null,{"$f":"ROUNDDOWN(H70/10000,0)","v":0},{"$f":"ROUNDDOWN((H70-I70*10000)/100,0)","v":0},{"$f":"ROUNDDOWN((H70-(I70*10000)-(J70*100)),0)","v":0},{"$f":"IF((I70+J70+K70)=0,\"\",ROUNDDOWN((L$4/((I70*3600)+(J70*60)+K70))*3.6,2))","v":""},{"$f":"IF(L70=\"\",\"\",\"km/h\")","v":""}]
[67,null,{"$f":"IF(ISBLANK($B71),\"\",LOOKUP($B71,Inscriptions!A$2:A$65496,Inscriptions!B$2:B$65498))","v":""},{"$f":"IF(ISBLANK($B71),\"\",LOOKUP($B71,Inscriptions!A$2:A$65496,Inscriptions!C$2:C$65498))","v":""},{"$f":"IF(ISBLANK($B71),\"\",LOOKUP($B71,Inscriptions!A$2:A$65496,Inscriptions!D$2:D$65498))","v":""},null,null,null,0,0,0,"",""]
[68,null,{"$f":"IF(ISBLANK($B72),\"\",LOOKUP($B72,Inscriptions!A$2:A$65496,Inscriptions!B$2:B$65498))","v":""},{"$f":"IF(ISBLANK($B72),\"\",LOOKUP($B72,Inscriptions!A$2:A$65496,Inscriptions!C$2:C$65498))","v":""},{"$f":"IF(ISBLANK($B72),\"\",LOOKUP($B72,Inscriptions!A$2:A$65496,Inscriptions!D$2:D$65498))","v":""},null,null,null,0,0,0,"",""]
[69,null,{"$f":"IF(ISBLANK($B73),\"\",LOOKUP($B73,Inscriptions!A$2:A$65496,Inscriptions!B$2:B$65498))","v":""},{"$f":"IF(ISBLANK($B73),\"\",LOOKUP($B73,Inscriptions!A$2:A$65496,Inscriptions!C$2:C$65498))","v":""},{"$f":"IF(ISBLANK($B73),\"\",LOOKUP($B73,Inscriptions!A$2:A$65496,Inscriptions!D$2:D$65498))","v":""},null,null,null,0,0,0,"",""]
[70,null,{"$f":"IF(ISBLANK($B74),\"\",LOOKUP($B74,Inscriptions!A$2:A$65496,Inscriptions!B$2:B$65498))","v":""},{"$f":"IF(ISBLANK($B74),\"\",LOOKUP($B74,Inscriptions!A$2:A$65496,Inscriptions!C$2:C$65498))","v":""},{"$f":"IF(ISBLANK($B74),\"\",LOOKUP($B74,Inscriptions!A$2:A$65496,Inscriptions!D$2:D$65498))","v":""},null,null,null,0,0,0,"",""]
[71,null,{"$f":"IF(ISBLANK($B75),\"\",LOOKUP($B75,Inscriptions!A$2:A$65496,Inscriptions!B$2:B$65498))","v":""},{"$f":"IF(ISBLANK($B75),\"\",LOOKUP($B75,Inscriptions!A$2:A$65496,Inscriptions!C$2:C$65498))","v":""},{"$f":"IF(ISBLANK($B75),\"\",LOOKUP($B75,Inscriptions!A$2:A$65496,Inscriptions!D$2:D$65498))","v":""},null,null,null,0,0,0,"",""]
[72,null,{"$f":"IF(ISBLANK($B76),\"\",LOOKUP($B76,Inscriptions!A$2:A$65496,Inscriptions!B$2:B$65498))","v":""},{"$f":"IF(ISBLANK($B76),\"\",LOOKUP($B76,Inscriptions!A$2:A$65496,Inscriptions!C$2:C$65498))","v":""},{"$f":"IF(ISBLANK($B76),\"\",LOOKUP($B76,Inscriptions!A$2:A$65496,Inscriptions!D$2:D$65498))","v":""},null,null,null,0,0,0,"",""]
[73,null,{"$f":"IF(ISBLANK($B77),\"\",LOOKUP($B77,Inscriptions!A$2:A$65496,Inscriptions!B$2:B$65498))","v":""},{"$f":"IF(ISBLANK($B77),\"\",LOOKUP($B77,Inscriptions!A$2:A$65496,Inscriptions!C$2:C$65498))","v":""},{"$f":"IF(ISBLANK($B77),\"\",LOOKUP($B77,Inscriptions!A$2:A$65496,Inscriptions!D$2:D$65498))","v":""},null,null,null,0,0,0,"",""]
[74,null,{"$f":"IF(ISBLANK($B78),\"\",LOOKUP($B78,Inscriptions!A$2:A$65496,Inscriptions!B$2:B$65498))","v":""},{"$f":"IF(ISBLANK($B78),\"\",LOOKUP($B78,Inscriptions!A$2:A$65496,Inscriptions!C$2:C$65498))","v":""},{"$f":"IF(ISBLANK($B78),\"\",LOOKUP($B78,Inscriptions!A$2:A$65496,Inscriptions!D$2:D$65498))","v":""},null,null,null,0,0,0,"",""]
[75,null,{"$f":"IF(ISBLANK($B79),\"\",LOOKUP($B79,Inscriptions!A$2:A$65496,Inscriptions!B$2:B$65498))","v":""},{"$f":"IF(ISBLANK($B79),\"\",LOOKUP($B79,Inscriptions!A$2:A$65496,Inscriptions!C$2:C$65498))","v":""},{"$f":"IF(ISBLANK($B79),\"\",LOOKUP($B79,Inscriptions!A$2:A$65496,Inscriptions!D$2:D$65498))","v":""},null,null,null,0,0,0,"",""]
[76,null,{"$f":"IF(ISBLANK($B80),\"\",LOOKUP($B80,Inscriptions!A$2:A$65496,Inscriptions!B$2:B$65498))","v":""},{"$f":"IF(ISBLANK($B80),\"\",LOOKUP($B80,Inscriptions!A$2:A$65496,Inscriptions!C$2:C$65498))","v":""},{"$f":"IF(ISBLANK($B80),\"\",LOOKUP($B80,Inscriptions!A$2:A$65496,Inscriptions!D$2:D$65498))","v":""},null,null,null,0,0,0,"",""]
[77,null,{"$f":"IF(ISBLANK($B81),\"\",LOOKUP($B81,Inscriptions!A$2:A$65496,Inscriptions!B$2:B$65498))","v":""},{"$f":"IF(ISBLANK($B81),\"\",LOOKUP($B81,Inscriptions!A$2:A$65496,Inscriptions!C$2:C$65498))","v":""},{"$f":"IF(ISBLANK($B81),\"\",LOOKUP($B81,Inscriptions!A$2:A$65496,Inscriptions!D$2:D$65498))","v":""},null,null,null,0,0,0,"",""]
[78,null,{"$f":"IF(ISBLANK($B82),\"\",LOOKUP($B82,Inscriptions!A$2:A$65496,Inscriptions!B$2:B$65498))","v":""},{"$f":"IF(ISBLANK($B82),\"\",LOOKUP($B82,Inscriptions!A$2:A$65496,Inscriptions!C$2:C$65498))","v":""},{"$f":"IF(ISBLANK($B82),\"\",LOOKUP($B82,Inscriptions!A$2:A$65496,Inscriptions!D$2:D$65498))","v":""},null,null,null,0,0,0,"",""]
[79,null,{"$f":"IF(ISBLANK($B83),\"\",LOOKUP($B83,Inscriptions!A$2:A$65496,Inscriptions!B$2:B$65498))","v":""},{"$f":"IF(ISBLANK($B83),\"\",LOOKUP($B83,Inscriptions!A$2:A$65496,Inscriptions!C$2:C$65498))","v":""},{"$f":"IF(ISBLANK($B83),\"\",LOOKUP($B83,Inscriptions!A$2:A$65496,Inscriptions!D$2:D$65498))","v":""},null,null,null,0,0,0,"",""]
[80,null,{"$f":"IF(ISBLANK($B84),\"\",LOOKUP($B84,Inscriptions!A$2:A$65496,Inscriptions!B$2:B$65498))","v":""},{"$f":"IF(ISBLANK($B84),\"\",LOOKUP($B84,Inscriptions!A$2:A$65496,Inscriptions!C$2:C$65498))","v":""},{"$f":"IF(ISBLANK($B84),\"\",LOOKUP($B84,Inscriptions!A$2:A$65496,Inscriptions!D$2:D$65498))","v":""},null,null,null,0,0,0,"",""]
[81,null,{"$f":"IF(ISBLANK($B85),\"\",LOOKUP($B85,Inscriptions!A$2:A$65496,Inscriptions!B$2:B$65498))","v":""},{"$f":"IF(ISBLANK($B85),\"\",LOOKUP($B85,Inscriptions!A$2:A$65496,Inscriptions!C$2:C$65498))","v":""},{"$f":"IF(ISBLANK($B85),\"\",LOOKUP($B85,Inscriptions!A$2:A$65496,Inscriptions!D$2:D$65498))","v":""},null,null,null,0,0,0,"",""]
[82,null,{"$f":"IF(ISBLANK($B86),\"\",LOOKUP($B86,Inscriptions!A$2:A$65496,Inscriptions!B$2:B$65498))","v":""},{"$f":"IF(ISBLANK($B86),\"\",LOOKUP($B86,Inscriptions!A$2:A$65496,Inscriptions!C$2:C$65498))","v":""},{"$f":"IF(ISBLANK($B86),\"\",LOOKUP($B86,Inscriptions!A$2:A$65496,Inscriptions!D$2:D$65498))","v":""},null,null,null,0,0,0,"",""]
[83,null,{"$f":"IF(ISBLANK($B87),\"\",LOOKUP($B87,Inscriptions!A$2:A$65496,Inscriptions!B$2:B$65498))","v":""},{"$f":"IF(ISBLANK($B87),\"\",LOOKUP($B87,Inscriptions!A$2:A$65496,Inscriptions!C$2:C$65498))","v":""},{"$f":"IF(ISBLANK($B87),\"\",LOOKUP($B87,Inscriptions!A$2:A$65496,Inscriptions!D$2:D$65498))","v":""},null,null,null,0,0,0,"",""]
[84,null,{"$f":"IF(ISBLANK($B88),\"\",LOOKUP($B88,Inscriptions!A$2:A$65496,Inscriptions!B$2:B$65498))","v":""},{"$f":"IF(ISBLANK($B88),\"\",LOOKUP($B88,Inscriptions!A$2:A$65496,Inscriptions!C$2:C$65498))","v":""},{"$f":"IF(ISBLANK($B88),\"\",LOOKUP($B88,Inscriptions!A$2:A$65496,Inscriptions!D$2:D$65498))","v":""},null,null,null,0,0,0,"",""]
[85,null,{"$f":"IF(ISBLANK($B89),\"\",LOOKUP($B89,Inscriptions!A$2:A$65496,Inscriptions!B$2:B$65498))","v":""},{"$f":"IF(ISBLANK($B89),\"\",LOOKUP($B89,Inscriptions!A$2:A$65496,Inscriptions!C$2:C$65498))","v":""},{"$f":"IF(ISBLANK($B89),\"\",LOOKUP($B89,Inscriptions!A$2:A$65496,Inscriptions!D$2:D$65498))","v":""},null,null,null,0,0,0,"",""]
[86,null,{"$f":"IF(ISBLANK($B90),\"\",LOOKUP($B90,Inscriptions!A$2:A$65496,Inscriptions!B$2:B$65498))","v":""},{"$f":"IF(ISBLANK($B90),\"\",LOOKUP($B90,Inscriptions!A$2:A$65496,Inscriptions!C$2:C$65498))","v":""},{"$f":"IF(ISBLANK($B90),\"\",LOOKUP($B90,Inscriptions!A$2:A$65496,Inscriptions!D$2:D$65498))","v":""},null,null,null,0,0,0,"",""]
[87,null,{"$f":"IF(ISBLANK($B91),\"\",LOOKUP($B91,Inscriptions!A$2:A$65496,Inscriptions!B$2:B$65498))","v":""},{"$f":"IF(ISBLANK($B91),\"\",LOOKUP($B91,Inscriptions!A$2:A$65496,Inscriptions!C$2:C$65498))","v":""},{"$f":"IF(ISBLANK($B91),\"\",LOOKUP($B91,Inscriptions!A$2:A$65496,Inscriptions!D$2:D$65498))","v":""},null,null,null,0,0,0,"",""]
[88,null,{"$f":"IF(ISBLANK($B92),\"\",LOOKUP($B92,Inscriptions!A$2:A$65496,Inscriptions!B$2:B$65498))","v":""},{"$f":"IF(ISBLANK($B92),\"\",LOOKUP($B92,Inscriptions!A$2:A$65496,Inscriptions!C$2:C$65498))","v":""},{"$f":"IF(ISBLANK($B92),\"\",LOOKUP($B92,Inscriptions!A$2:A$65496,Inscriptions!D$2:D$65498))","v":""},null,null,null,0,0,0,"",""]
[89,null,{"$f":"IF(ISBLANK($B93),\"\",LOOKUP($B93,Inscriptions!A$2:A$65496,Inscriptions!B$2:B$65498))","v":""},{"$f":"IF(ISBLANK($B93),\"\",LOOKUP($B93,Inscriptions!A$2:A$65496,Inscriptions!C$2:C$65498))","v":""},{"$f":"IF(ISBLANK($B93),\"\",LOOKUP($B93,Inscriptions!A$2:A$65496,Inscriptions!D$2:D$65498))","v":""},null,null,null,0,0,0,"",""]
[90,null,{"$f":"IF(ISBLANK($B94),\"\",LOOKUP($B94,Inscriptions!A$2:A$65496,Inscriptions!B$2:B$65498))","v":""},{"$f":"IF(ISBLANK($B94),\"\",LOOKUP($B94,Inscriptions!A$2:A$65496,Inscriptions!C$2:C$65498))","v":""},{"$f":"IF(ISBLANK($B94),\"\",LOOKUP($B94,Inscriptions!A$2:A$65496,Inscriptions!D$2:D$65498))","v":""},null,null,null,0,0,0,"",""]
[91,null,{"$f":"IF(ISBLANK($B95),\"\",LOOKUP($B95,Inscriptions!A$2:A$65496,Inscriptions!B$2:B$65498))","v":""},{"$f":"IF(ISBLANK($B95),\"\",LOOKUP($B95,Inscriptions!A$2:A$65496,Inscriptions!C$2:C$65498))","v":""},{"$f":"IF(ISBLANK($B95),\"\",LOOKUP($B95,Inscriptions!A$2:A$65496,Inscriptions!D$2:D$65498))","v":""},null,null,null,0,0,0,"",""]
[92,null,{"$f":"IF(ISBLANK($B96),\"\",LOOKUP($B96,Inscriptions!A$2:A$65496,Inscriptions!B$2:B$65498))","v":""},{"$f":"IF(ISBLANK($B96),\"\",LOOKUP($B96,Inscriptions!A$2:A$65496,Inscriptions!C$2:C$65498))","v":""},{"$f":"IF(ISBLANK($B96),\"\",LOOKUP($B96,Inscriptions!A$2:A$65496,Inscriptions!D$2:D$65498))","v":""},null,null,null,0,0,0,"",""]
[93,null,{"$f":"IF(ISBLANK($B97),\"\",LOOKUP($B97,Inscriptions!A$2:A$65496,Inscriptions!B$2:B$65498))","v":""},{"$f":"IF(ISBLANK($B97),\"\",LOOKUP($B97,Inscriptions!A$2:A$65496,Inscriptions!C$2:C$65498))","v":""},{"$f":"IF(ISBLANK($B97),\"\",LOOKUP($B97,Inscriptions!A$2:A$65496,Inscriptions!D$2:D$65498))","v":""},null,null,null,0,0,0,"",""]
[94,null,{"$f":"IF(ISBLANK($B98),\"\",LOOKUP($B98,Inscriptions!A$2:A$65496,Inscriptions!B$2:B$65498))","v":""},{"$f":"IF(ISBLANK($B98),\"\",LOOKUP($B98,Inscriptions!A$2:A$65496,Inscriptions!C$2:C$65498))","v":""},{"$f":"IF(ISBLANK($B98),\"\",LOOKUP($B98,Inscriptions!A$2:A$65496,Inscriptions!D$2:D$65498))","v":""},null,null,null,0,0,0,"",""]
[95,null,{"$f":"IF(ISBLANK($B99),\"\",LOOKUP($B99,Inscriptions!A$2:A$65496,Inscriptions!B$2:B$65498))","v":""},{"$f":"IF(ISBLANK($B99),\"\",LOOKUP($B99,Inscriptions!A$2:A$65496,Inscriptions!C$2:C$65498))","v":""},{"$f":"IF(ISBLANK($B99),\"\",LOOKUP($B99,Inscriptions!A$2:A$65496,Inscriptions!D$2:D$65498))","v":""},null,null,null,0,0,0,"",""]
[96,null,{"$f":"IF(ISBLANK($B100),\"\",LOOKUP($B100,Inscriptions!A$2:A$65496,Inscriptions!B$2:B$65498))","v":""},{"$f":"IF(ISBLANK($B100),\"\",LOOKUP($B100,Inscriptions!A$2:A$65496,Inscriptions!C$2:C$65498))","v":""},{"$f":"IF(ISBLANK($B100),\"\",LOOKUP($B100,Inscriptions!A$2:A$65496,Inscriptions!D$2:D$65498))","v":""},null,null,null,0,0,0,"",""]
[97,null,{"$f":"IF(ISBLANK($B101),\"\",LOOKUP($B101,Inscriptions!A$2:A$65496,Inscriptions!B$2:B$65498))","v":""},{"$f":"IF(ISBLANK($B101),\"\",LOOKUP($B101,Inscriptions!A$2:A$65496,Inscriptions!C$2:C$65498))","v":""},{"$f":"IF(ISBLANK($B101),\"\",LOOKUP($B101,Inscriptions!A$2:A$65496,Inscriptions!D$2:D$65498))","v":""},null,null,null,0,0,0,"",""]
[98,null,{"$f":"IF(ISBLANK($B102),\"\",LOOKUP($B102,Inscriptions!A$2:A$65496,Inscriptions!B$2:B$65498))","v":""},{"$f":"IF(ISBLANK($B102),\"\",LOOKUP($B102,Inscriptions!A$2:A$65496,Inscriptions!C$2:C$65498))","v":""},{"$f":"IF(ISBLANK($B102),\"\",LOOKUP($B102,Inscriptions!A$2:A$65496,Inscriptions!D$2:D$65498))","v":""},null,null,null,0,0,0,"",""]
[99,null,{"$f":"IF(ISBLANK($B103),\"\",LOOKUP($B103,Inscriptions!A$2:A$65496,Inscriptions!B$2:B$65498))","v":""},{"$f":"IF(ISBLANK($B103),\"\",LOOKUP($B103,Inscriptions!A$2:A$65496,Inscriptions!C$2:C$65498))","v":""},{"$f":"IF(ISBLANK($B103),\"\",LOOKUP($B103,Inscriptions!A$2:A$65496,Inscriptions!D$2:D$65498))","v":""},null,null,null,0,0,0,"",""]
[100,null,{"$f":"IF(ISBLANK($B104),\"\",LOOKUP($B104,Inscriptions!A$2:A$65496,Inscriptions!B$2:B$65498))","v":""},{"$f":"IF(ISBLANK($B104),\"\",LOOKUP($B104,Inscriptions!A$2:A$65496,Inscriptions!C$2:C$65498))","v":""},{"$f":"IF(ISBLANK($B104),\"\",LOOKUP($B104,Inscriptions!A$2:A$65496,Inscriptions!D$2:D$65498))","v":""},null,null,null,0,0,0,"",""]
[101,null,{"$f":"IF(ISBLANK($B105),\"\",LOOKUP($B105,Inscriptions!A$2:A$65496,Inscriptions!B$2:B$65498))","v":""},{"$f":"IF(ISBLANK($B105),\"\",LOOKUP($B105,Inscriptions!A$2:A$65496,Inscriptions!C$2:C$65498))","v":""},{"$f":"IF(ISBLANK($B105),\"\",LOOKUP($B105,Inscriptions!A$2:A$65496,Inscriptions!D$2:D$65498))","v":""},null,null,null,0,0,0,"",""]
[102,null,{"$f":"IF(ISBLANK($B106),\"\",LOOKUP($B106,Inscriptions!A$2:A$65496,Inscriptions!B$2:B$65498))","v":""},{"$f":"IF(ISBLANK($B106),\"\",LOOKUP($B106,Inscriptions!A$2:A$65496,Inscriptions!C$2:C$65498))","v":""},{"$f":"IF(ISBLANK($B106),\"\",LOOKUP($B106,Inscriptions!A$2:A$65496,Inscriptions!D$2:D$65498))","v":""},null,null,null,0,0,0,"",""]
[103,null,{"$f":"IF(ISBLANK($B107),\"\",LOOKUP($B107,Inscriptions!A$2:A$65496,Inscriptions!B$2:B$65498))","v":""},{"$f":"IF(ISBLANK($B107),\"\",LOOKUP($B107,Inscriptions!A$2:A$65496,Inscriptions!C$2:C$65498))","v":""},{"$f":"IF(ISBLANK($B107),\"\",LOOKUP($B107,Inscriptions!A$2:A$65496,Inscriptions!D$2:D$65498))","v":""},null,null,null,0,0,0,"",""]
[104,null,{"$f":"IF(ISBLANK($B108),\"\",LOOKUP($B108,Inscriptions!A$2:A$65496,Inscriptions!B$2:B$65498))","v":""},{"$f":"IF(ISBLANK($B108),\"\",LOOKUP($B108,Inscriptions!A$2:A$65496,Inscriptions!C$2:C$65498))","v":""},{"$f":"IF(ISBLANK($B108),\"\",LOOKUP($B108,Inscriptions!A$2:A$65496,Inscriptions!D$2:D$65498))","v":""},null,null,null,0,0,0,"",""]
[105,null,{"$f":"IF(ISBLANK($B109),\"\",LOOKUP($B109,Inscriptions!A$2:A$65496,Inscriptions!B$2:B$65498))","v":""},{"$f":"IF(ISBLANK($B109),\"\",LOOKUP($B109,Inscriptions!A$2:A$65496,Inscriptions!C$2:C$65498))","v":""},{"$f":"IF(ISBLANK($B109),\"\",LOOKUP($B109,Inscriptions!A$2:A$65496,Inscriptions!D$2:D$65498))","v":""},null,null,null,0,0,0,"",""]
[106,null,{"$f":"IF(ISBLANK($B110),\"\",LOOKUP($B110,Inscriptions!A$2:A$65496,Inscriptions!B$2:B$65498))","v":""},{"$f":"IF(ISBLANK($B110),\"\",LOOKUP($B110,Inscriptions!A$2:A$65496,Inscriptions!C$2:C$65498))","v":""},{"$f":"IF(ISBLANK($B110),\"\",LOOKUP($B110,Inscriptions!A$2:A$65496,Inscriptions!D$2:D$65498))","v":""},null,null,null,0,0,0,"",""]
[107,null,{"$f":"IF(ISBLANK($B111),\"\",LOOKUP($B111,Inscriptions!A$2:A$65496,Inscriptions!B$2:B$65498))","v":""},{"$f":"IF(ISBLANK($B111),\"\",LOOKUP($B111,Inscriptions!A$2:A$65496,Inscriptions!C$2:C$65498))","v":""},{"$f":"IF(ISBLANK($B111),\"\",LOOKUP($B111,Inscriptions!A$2:A$65496,Inscriptions!D$2:D$65498))","v":""},null,null,null,0,0,0,"",""]
[108,null,{"$f":"IF(ISBLANK($B112),\"\",LOOKUP($B112,Inscriptions!A$2:A$65496,Inscriptions!B$2:B$65498))","v":""},{"$f":"IF(ISBLANK($B112),\"\",LOOKUP($B112,Inscriptions!A$2:A$65496,Inscriptions!C$2:C$65498))","v":""},{"$f":"IF(ISBLANK($B112),\"\",LOOKUP($B112,Inscriptions!A$2:A$65496,Inscriptions!D$2:D$65498))","v":""},null,null,null,0,0,0,"",""]
[109,null,{"$f":"IF(ISBLANK($B113),\"\",LOOKUP($B113,Inscriptions!A$2:A$65496,Inscriptions!B$2:B$65498))","v":""},{"$f":"IF(ISBLANK($B113),\"\",LOOKUP($B113,Inscriptions!A$2:A$65496,Inscriptions!C$2:C$65498))","v":""},{"$f":"IF(ISBLANK($B113),\"\",LOOKUP($B113,Inscriptions!A$2:A$65496,Inscriptions!D$2:D$65498))","v":""},null,null,null,0,0,0,"",""]
[110,null,{"$f":"IF(ISBLANK($B114),\"\",LOOKUP($B114,Inscriptions!A$2:A$65496,Inscriptions!B$2:B$65498))","v":""},{"$f":"IF(ISBLANK($B114),\"\",LOOKUP($B114,Inscriptions!A$2:A$65496,Inscriptions!C$2:C$65498))","v":""},{"$f":"IF(ISBLANK($B114),\"\",LOOKUP($B114,Inscriptions!A$2:A$65496,Inscriptions!D$2:D$65498))","v":""},null,null,null,0,0,0,"",""]
[111,null,{"$f":"IF(ISBLANK($B115),\"\",LOOKUP($B115,Inscriptions!A$2:A$65496,Inscriptions!B$2:B$65498))","v":""},{"$f":"IF(ISBLANK($B115),\"\",LOOKUP($B115,Inscriptions!A$2:A$65496,Inscriptions!C$2:C$65498))","v":""},{"$f":"IF(ISBLANK($B115),\"\",LOOKUP($B115,Inscriptions!A$2:A$65496,Inscriptions!D$2:D$65498))","v":""},null,null,null,0,0,0,"",""]
[112,null,{"$f":"IF(ISBLANK($B116),\"\",LOOKUP($B116,Inscriptions!A$2:A$65496,Inscriptions!B$2:B$65498))","v":""},{"$f":"IF(ISBLANK($B116),\"\",LOOKUP($B116,Inscriptions!A$2:A$65496,Inscriptions!C$2:C$65498))","v":""},{"$f":"IF(ISBLANK($B116),\"\",LOOKUP($B116,Inscriptions!A$2:A$65496,Inscriptions!D$2:D$65498))","v":""},null,null,null,0,0,0,"",""]
[113,null,{"$f":"IF(ISBLANK($B117),\"\",LOOKUP($B117,Inscriptions!A$2:A$65496,Inscriptions!B$2:B$65498))","v":""},{"$f":"IF(ISBLANK($B117),\"\",LOOKUP($B117,Inscriptions!A$2:A$65496,Inscriptions!C$2:C$65498))","v":""},{"$f":"IF(ISBLANK($B117),\"\",LOOKUP($B117,Inscriptions!A$2:A$65496,Inscriptions!D$2:D$65498))","v":""},null,null,null,0,0,0,"",""]
[114,null,{"$f":"IF(ISBLANK($B118),\"\",LOOKUP($B118,Inscriptions!A$2:A$65496,Inscriptions!B$2:B$65498))","v":""},{"$f":"IF(ISBLANK($B118),\"\",LOOKUP($B118,Inscriptions!A$2:A$65496,Inscriptions!C$2:C$65498))","v":""},{"$f":"IF(ISBLANK($B118),\"\",LOOKUP($B118,Inscriptions!A$2:A$65496,Inscriptions!D$2:D$65498))","v":""},null,null,null,0,0,0,"",""]
[115,null,{"$f":"IF(ISBLANK($B119),\"\",LOOKUP($B119,Inscriptions!A$2:A$65496,Inscriptions!B$2:B$65498))","v":""},{"$f":"IF(ISBLANK($B119),\"\",LOOKUP($B119,Inscriptions!A$2:A$65496,Inscriptions!C$2:C$65498))","v":""},{"$f":"IF(ISBLANK($B119),\"\",LOOKUP($B119,Inscriptions!A$2:A$65496,Inscriptions!D$2:D$65498))","v":""},null,null,null,0,0,0,"",""]
[116,null,{"$f":"IF(ISBLANK($B120),\"\",LOOKUP($B120,Inscriptions!A$2:A$65496,Inscriptions!B$2:B$65498))","v":""},{"$f":"IF(ISBLANK($B120),\"\",LOOKUP($B120,Inscriptions!A$2:A$65496,Inscriptions!C$2:C$65498))","v":""},{"$f":"IF(ISBLANK($B120),\"\",LOOKUP($B120,Inscriptions!A$2:A$65496,Inscriptions!D$2:D$65498))","v":""},null,null,null,0,0,0,"",""]
[117,null,{"$f":"IF(ISBLANK($B121),\"\",LOOKUP($B121,Inscriptions!A$2:A$65496,Inscriptions!B$2:B$65498))","v":""},{"$f":"IF(ISBLANK($B121),\"\",LOOKUP($B121,Inscriptions!A$2:A$65496,Inscriptions!C$2:C$65498))","v":""},{"$f":"IF(ISBLANK($B121),\"\",LOOKUP($B121,Inscriptions!A$2:A$65496,Inscriptions!D$2:D$65498))","v":""},null,null,null,0,0,0,"",""]
[118,null,{"$f":"IF(ISBLANK($B122),\"\",LOOKUP($B122,Inscriptions!A$2:A$65496,Inscriptions!B$2:B$65498))","v":""},{"$f":"IF(ISBLANK($B122),\"\",LOOKUP($B122,Inscriptions!A$2:A$65496,Inscriptions!C$2:C$65498))","v":""},{"$f":"IF(ISBLANK($B122),\"\",LOOKUP($B122,Inscriptions!A$2:A$65496,Inscriptions!D$2:D$65498))","v":""},null,null,null,0,0,0,"",""]
[119,null,{"$f":"IF(ISBLANK($B123),\"\",LOOKUP($B123,Inscriptions!A$2:A$65496,Inscriptions!B$2:B$65498))","v":""},{"$f":"IF(ISBLANK($B123),\"\",LOOKUP($B123,Inscriptions!A$2:A$65496,Inscriptions!C$2:C$65498))","v":""},{"$f":"IF(ISBLANK($B123),\"\",LOOKUP($B123,Inscriptions!A$2:A$65496,Inscriptions!D$2:D$65498))","v":""},null,null,null,0,0,0,"",""]
[120,null,{"$f":"IF(ISBLANK($B124),\"\",LOOKUP($B124,Inscriptions!A$2:A$65496,Inscriptions!B$2:B$65498))","v":""},{"$f":"IF(ISBLANK($B124),\"\",LOOKUP($B124,Inscriptions!A$2:A$65496,Inscriptions!C$2:C$65498))","v":""},{"$f":"IF(ISBLANK($B124),\"\",LOOKUP($B124,Inscriptions!A$2:A$65496,Inscriptions!D$2:D$65498))","v":""},null,null,null,0,0,0,"",""]
[121,null,{"$f":"IF(ISBLANK($B125),\"\",LOOKUP($B125,Inscriptions!A$2:A$65496,Inscriptions!B$2:B$65498))","v":""},{"$f":"IF(ISBLANK($B125),\"\",LOOKUP($B125,Inscriptions!A$2:A$65496,Inscriptions!C$2:C$65498))","v":""},{"$f":"IF(ISBLANK($B125),\"\",LOOKUP($B125,Inscriptions!A$2:A$65496,Inscriptions!D$2:D$65498))","v":""},null,null,null,0,0,0,"",""]
[122,null,{"$f":"IF(ISBLANK($B126),\"\",LOOKUP($B126,Inscriptions!A$2:A$65496,Inscriptions!B$2:B$65498))","v":""},{"$f":"IF(ISBLANK($B126),\"\",LOOKUP($B126,Inscriptions!A$2:A$65496,Inscriptions!C$2:C$65498))","v":""},{"$f":"IF(ISBLANK($B126),\"\",LOOKUP($B126,Inscriptions!A$2:A$65496,Inscriptions!D$2:D$65498))","v":""},null,null,null,0,0,0,"",""]
[123,null,{"$f":"IF(ISBLANK($B127),\"\",LOOKUP($B127,Inscriptions!A$2:A$65496,Inscriptions!B$2:B$65498))","v":""},{"$f":"IF(ISBLANK($B127),\"\",LOOKUP($B127,Inscriptions!A$2:A$65496,Inscriptions!C$2:C$65498))","v":""},{"$f":"IF(ISBLANK($B127),\"\",LOOKUP($B127,Inscriptions!A$2:A$65496,Inscriptions!D$2:D$65498))","v":""},null,null,null,0,0,0,"",""]
[124,null,{"$f":"IF(ISBLANK($B128),\"\",LOOKUP($B128,Inscriptions!A$2:A$65496,Inscriptions!B$2:B$65498))","v":""},{"$f":"IF(ISBLANK($B128),\"\",LOOKUP($B128,Inscriptions!A$2:A$65496,Inscriptions!C$2:C$65498))","v":""},{"$f":"IF(ISBLANK($B128),\"\",LOOKUP($B128,Inscriptions!A$2:A$65496,Inscriptions!D$2:D$65498))","v":""},null,null,null,0,0,0,"",""]
[125,null,{"$f":"IF(ISBLANK($B129),\"\",LOOKUP($B129,Inscriptions!A$2:A$65496,Inscriptions!B$2:B$65498))","v":""},{"$f":"IF(ISBLANK($B129),\"\",LOOKUP($B129,Inscriptions!A$2:A$65496,Inscriptions!C$2:C$65498))","v":""},{"$f":"IF(ISBLANK($B129),\"\",LOOKUP($B129,Inscriptions!A$2:A$65496,Inscriptions!D$2:D$65498))","v":""},null,null,null,0,0,0,"",""]
[126,null,{"$f":"IF(ISBLANK($B130),\"\",LOOKUP($B130,Inscriptions!A$2:A$65496,Inscriptions!B$2:B$65498))","v":""},{"$f":"IF(ISBLANK($B130),\"\",LOOKUP($B130,Inscriptions!A$2:A$65496,Inscriptions!C$2:C$65498))","v":""},{"$f":"IF(ISBLANK($B130),\"\",LOOKUP($B130,Inscriptions!A$2:A$65496,Inscriptions!D$2:D$65498))","v":""},null,null,null,0,0,0,"",""]
[127,null,{"$f":"IF(ISBLANK($B131),\"\",LOOKUP($B131,Inscriptions!A$2:A$65496,Inscriptions!B$2:B$65498))","v":""},{"$f":"IF(ISBLANK($B131),\"\",LOOKUP($B131,Inscriptions!A$2:A$65496,Inscriptions!C$2:C$65498))","v":""},{"$f":"IF(ISBLANK($B131),\"\",LOOKUP($B131,Inscriptions!A$2:A$65496,Inscriptions!D$2:D$65498))","v":""},null,null,null,0,0,0,"",""]
[128,null,{"$f":"IF(ISBLANK($B132),\"\",LOOKUP($B132,Inscriptions!A$2:A$65496,Inscriptions!B$2:B$65498))","v":""},{"$f":"IF(ISBLANK($B132),\"\",LOOKUP($B132,Inscriptions!A$2:A$65496,Inscriptions!C$2:C$65498))","v":""},{"$f":"IF(ISBLANK($B132),\"\",LOOKUP($B132,Inscriptions!A$2:A$65496,Inscriptions!D$2:D$65498))","v":""},null,null,null,0,0,0,"",""]
[129,null,{"$f":"IF(ISBLANK($B133),\"\",LOOKUP($B133,Inscriptions!A$2:A$65496,Inscriptions!B$2:B$65498))","v":""},{"$f":"IF(ISBLANK($B133),\"\",LOOKUP($B133,Inscriptions!A$2:A$65496,Inscriptions!C$2:C$65498))","v":""},{"$f":"IF(ISBLANK($B133),\"\",LOOKUP($B133,Inscriptions!A$2:A$65496,Inscriptions!D$2:D$65498))","v":""},null,null,null,0,0,0,"",""]
[130,null,{"$f":"IF(ISBLANK($B134),\"\",LOOKUP($B134,Inscriptions!A$2:A$65496,Inscriptions!B$2:B$65498))","v":""},{"$f":"IF(ISBLANK($B134),\"\",LOOKUP($B134,Inscriptions!A$2:A$65496,Inscriptions!C$2:C$65498))","v":""},{"$f":"IF(ISBLANK($B134),\"\",LOOKUP($B134,Inscriptions!A$2:A$65496,Inscriptions!D$2:D$65498))","v":""},null,null,null,{"$f":"ROUNDDOWN(H134/10000,0)","v":0},{"$f":"ROUNDDOWN((H134-I134*10000)/100,0)","v":0},{"$f":"ROUNDDOWN((H134-(I134*10000)-(J134*100)),0)","v":0},{"$f":"IF((I134+J134+K134)=0,\"\",ROUNDDOWN((L$4/((I134*3600)+(J134*60)+K134))*3.6,2))","v":""},{"$f":"IF(L134=\"\",\"\",\"km/h\")","v":""}]
[131,null,{"$f":"IF(ISBLANK($B135),\"\",LOOKUP($B135,Inscriptions!A$2:A$65496,Inscriptions!B$2:B$65498))","v":""},{"$f":"IF(ISBLANK($B135),\"\",LOOKUP($B135,Inscriptions!A$2:A$65496,Inscriptions!C$2:C$65498))","v":""},{"$f":"IF(ISBLANK($B135),\"\",LOOKUP($B135,Inscriptions!A$2:A$65496,Inscriptions!D$2:D$65498))","v":""},null,null,null,0,0,0,"",""]
[132,null,{"$f":"IF(ISBLANK($B136),\"\",LOOKUP($B136,Inscriptions!A$2:A$65496,Inscriptions!B$2:B$65498))","v":""},{"$f":"IF(ISBLANK($B136),\"\",LOOKUP($B136,Inscriptions!A$2:A$65496,Inscriptions!C$2:C$65498))","v":""},{"$f":"IF(ISBLANK($B136),\"\",LOOKUP($B136,Inscriptions!A$2:A$65496,Inscriptions!D$2:D$65498))","v":""},null,null,null,0,0,0,"",""]
[133,null,{"$f":"IF(ISBLANK($B137),\"\",LOOKUP($B137,Inscriptions!A$2:A$65496,Inscriptions!B$2:B$65498))","v":""},{"$f":"IF(ISBLANK($B137),\"\",LOOKUP($B137,Inscriptions!A$2:A$65496,Inscriptions!C$2:C$65498))","v":""},{"$f":"IF(ISBLANK($B137),\"\",LOOKUP($B137,Inscriptions!A$2:A$65496,Inscriptions!D$2:D$65498))","v":""},null,null,null,0,0,0,"",""]
[134,null,{"$f":"IF(ISBLANK($B138),\"\",LOOKUP($B138,Inscriptions!A$2:A$65496,Inscriptions!B$2:B$65498))","v":""},{"$f":"IF(ISBLANK($B138),\"\",LOOKUP($B138,Inscriptions!A$2:A$65496,Inscriptions!C$2:C$65498))","v":""},{"$f":"IF(ISBLANK($B138),\"\",LOOKUP($B138,Inscriptions!A$2:A$65496,Inscriptions!D$2:D$65498))","v":""},null,null,null,0,0,0,"",""]
[135,null,{"$f":"IF(ISBLANK($B139),\"\",LOOKUP($B139,Inscriptions!A$2:A$65496,Inscriptions!B$2:B$65498))","v":""},{"$f":"IF(ISBLANK($B139),\"\",LOOKUP($B139,Inscriptions!A$2:A$65496,Inscriptions!C$2:C$65498))","v":""},{"$f":"IF(ISBLANK($B139),\"\",LOOKUP($B139,Inscriptions!A$2:A$65496,Inscriptions!D$2:D$65498))","v":""},null,null,null,0,0,0,"",""]
[136,null,{"$f":"IF(ISBLANK($B140),\"\",LOOKUP($B140,Inscriptions!A$2:A$65496,Inscriptions!B$2:B$65498))","v":""},{"$f":"IF(ISBLANK($B140),\"\",LOOKUP($B140,Inscriptions!A$2:A$65496,Inscriptions!C$2:C$65498))","v":""},{"$f":"IF(ISBLANK($B140),\"\",LOOKUP($B140,Inscriptions!A$2:A$65496,Inscriptions!D$2:D$65498))","v":""},null,null,null,0,0,0,"",""]
[137,null,{"$f":"IF(ISBLANK($B141),\"\",LOOKUP($B141,Inscriptions!A$2:A$65496,Inscriptions!B$2:B$65498))","v":""},{"$f":"IF(ISBLANK($B141),\"\",LOOKUP($B141,Inscriptions!A$2:A$65496,Inscriptions!C$2:C$65498))","v":""},{"$f":"IF(ISBLANK($B141),\"\",LOOKUP($B141,Inscriptions!A$2:A$65496,Inscriptions!D$2:D$65498))","v":""},null,null,null,0,0,0,"",""]
[138,null,{"$f":"IF(ISBLANK($B142),\"\",LOOKUP($B142,Inscriptions!A$2:A$65496,Inscriptions!B$2:B$65498))","v":""},{"$f":"IF(ISBLANK($B142),\"\",LOOKUP($B142,Inscriptions!A$2:A$65496,Inscriptions!C$2:C$65498))","v":""},{"$f":"IF(ISBLANK($B142),\"\",LOOKUP($B142,Inscriptions!A$2:A$65496,Inscriptions!D$2:D$65498))","v":""},null,null,null,0,0,0,"",""]
[139,null,{"$f":"IF(ISBLANK($B143),\"\",LOOKUP($B143,Inscriptions!A$2:A$65496,Inscriptions!B$2:B$65498))","v":""},{"$f":"IF(ISBLANK($B143),\"\",LOOKUP($B143,Inscriptions!A$2:A$65496,Inscriptions!C$2:C$65498))","v":""},{"$f":"IF(ISBLANK($B143),\"\",LOOKUP($B143,Inscriptions!A$2:A$65496,Inscriptions!D$2:D$65498))","v":""},null,null,null,0,0,0,"",""]
[140,null,{"$f":"IF(ISBLANK($B144),\"\",LOOKUP($B144,Inscriptions!A$2:A$65496,Inscriptions!B$2:B$65498))","v":""},{"$f":"IF(ISBLANK($B144),\"\",LOOKUP($B144,Inscriptions!A$2:A$65496,Inscriptions!C$2:C$65498))","v":""},{"$f":"IF(ISBLANK($B144),\"\",LOOKUP($B144,Inscriptions!A$2:A$65496,Inscriptions!D$2:D$65498))","v":""},null,null,null,0,0,0,"",""]
[141,null,{"$f":"IF(ISBLANK($B145),\"\",LOOKUP($B145,Inscriptions!A$2:A$65496,Inscriptions!B$2:B$65498))","v":""},{"$f":"IF(ISBLANK($B145),\"\",LOOKUP($B145,Inscriptions!A$2:A$65496,Inscriptions!C$2:C$65498))","v":""},{"$f":"IF(ISBLANK($B145),\"\",LOOKUP($B145,Inscriptions!A$2:A$65496,Inscriptions!D$2:D$65498))","v":""},null,null,null,0,0,0,"",""]
[142,null,{"$f":"IF(ISBLANK($B146),\"\",LOOKUP($B146,Inscriptions!A$2:A$65496,Inscriptions!B$2:B$65498))","v":""},{"$f":"IF(ISBLANK($B146),\"\",LOOKUP($B146,Inscriptions!A$2:A$65496,Inscriptions!C$2:C$65498))","v":""},{"$f":"IF(ISBLANK($B146),\"\",LOOKUP($B146,Inscriptions!A$2:A$65496,Inscriptions!D$2:D$65498))","v":""},null,null,null,0,0,0,"",""]
[143,null,{"$f":"IF(ISBLANK($B147),\"\",LOOKUP($B147,Inscriptions!A$2:A$65496,Inscriptions!B$2:B$65498))","v":""},{"$f":"IF(ISBLANK($B147),\"\",LOOKUP($B147,Inscriptions!A$2:A$65496,Inscriptions!C$2:C$65498))","v":""},{"$f":"IF(ISBLANK($B147),\"\",LOOKUP($B147,Inscriptions!A$2:A$65496,Inscriptions!D$2:D$65498))","v":""},null,null,null,0,0,0,"",""]
[144,null,{"$f":"IF(ISBLANK($B148),\"\",LOOKUP($B148,Inscriptions!A$2:A$65496,Inscriptions!B$2:B$65498))","v":""},{"$f":"IF(ISBLANK($B148),\"\",LOOKUP($B148,Inscriptions!A$2:A$65496,Inscriptions!C$2:C$65498))","v":""},{"$f":"IF(ISBLANK($B148),\"\",LOOKUP($B148,Inscriptions!A$2:A$65496,Inscriptions!D$2:D$65498))","v":""},null,null,null,0,0,0,"",""]
[145,null,{"$f":"IF(ISBLANK($B149),\"\",LOOKUP($B149,Inscriptions!A$2:A$65496,Inscriptions!B$2:B$65498))","v":""},{"$f":"IF(ISBLANK($B149),\"\",LOOKUP($B149,Inscriptions!A$2:A$65496,Inscriptions!C$2:C$65498))","v":""},{"$f":"IF(ISBLANK($B149),\"\",LOOKUP($B149,Inscriptions!A$2:A$65496,Inscriptions!D$2:D$65498))","v":""},null,null,null,0,0,0,"",""]
[146,null,{"$f":"IF(ISBLANK($B150),\"\",LOOKUP($B150,Inscriptions!A$2:A$65496,Inscriptions!B$2:B$65498))","v":""},{"$f":"IF(ISBLANK($B150),\"\",LOOKUP($B150,Inscriptions!A$2:A$65496,Inscriptions!C$2:C$65498))","v":""},{"$f":"IF(ISBLANK($B150),\"\",LOOKUP($B150,Inscriptions!A$2:A$65496,Inscriptions!D$2:D$65498))","v":""},null,null,null,0,0,0,"",""]
[147,null,{"$f":"IF(ISBLANK($B151),\"\",LOOKUP($B151,Inscriptions!A$2:A$65496,Inscriptions!B$2:B$65498))","v":""},{"$f":"IF(ISBLANK($B151),\"\",LOOKUP($B151,Inscriptions!A$2:A$65496,Inscriptions!C$2:C$65498))","v":""},{"$f":"IF(ISBLANK($B151),\"\",LOOKUP($B151,Inscriptions!A$2:A$65496,Inscriptions!D$2:D$65498))","v":""},null,null,null,0,0,0,"",""]
[148,null,{"$f":"IF(ISBLANK($B152),\"\",LOOKUP($B152,Inscriptions!A$2:A$65496,Inscriptions!B$2:B$65498))","v":""},{"$f":"IF(ISBLANK($B152),\"\",LOOKUP($B152,Inscriptions!A$2:A$65496,Inscriptions!C$2:C$65498))","v":""},{"$f":"IF(ISBLANK($B152),\"\",LOOKUP($B152,Inscriptions!A$2:A$65496,Inscriptions!D$2:D$65498))","v":""},null,null,null,0,0,0,"",""]
[149,null,{"$f":"IF(ISBLANK($B153),\"\",LOOKUP($B153,Inscriptions!A$2:A$65496,Inscriptions!B$2:B$65498))","v":""},{"$f":"IF(ISBLANK($B153),\"\",LOOKUP($B153,Inscriptions!A$2:A$65496,Inscriptions!C$2:C$65498))","v":""},{"$f":"IF(ISBLANK($B153),\"\",LOOKUP($B153,Inscriptions!A$2:A$65496,Inscriptions!D$2:D$65498))","v":""},null,null,null,0,0,0,"",""]
[150,null,{"$f":"IF(ISBLANK($B154),\"\",LOOKUP($B154,Inscriptions!A$2:A$65496,Inscriptions!B$2:B$65498))","v":""},{"$f":"IF(ISBLANK($B154),\"\",LOOKUP($B154,Inscriptions!A$2:A$65496,Inscriptions!C$2:C$65498))","v":""},{"$f":"IF(ISBLANK($B154),\"\",LOOKUP($B154,Inscriptions!A$2:A$65496,Inscriptions!D$2:D$65498))","v":""},null,null,null,0,0,0,"",""]
[151,null,{"$f":"IF(ISBLANK($B155),\"\",LOOKUP($B155,Inscriptions!A$2:A$65496,Inscriptions!B$2:B$65498))","v":""},{"$f":"IF(ISBLANK($B155),\"\",LOOKUP($B155,Inscriptions!A$2:A$65496,Inscriptions!C$2:C$65498))","v":""},{"$f":"IF(ISBLANK($B155),\"\",LOOKUP($B155,Inscriptions!A$2:A$65496,Inscriptions!D$2:D$65498))","v":""},null,null,null,0,0,0,"",""]
[152,null,{"$f":"IF(ISBLANK($B156),\"\",LOOKUP($B156,Inscriptions!A$2:A$65496,Inscriptions!B$2:B$65498))","v":""},{"$f":"IF(ISBLANK($B156),\"\",LOOKUP($B156,Inscriptions!A$2:A$65496,Inscriptions!C$2:C$65498))","v":""},{"$f":"IF(ISBLANK($B156),\"\",LOOKUP($B156,Inscriptions!A$2:A$65496,Inscriptions!D$2:D$65498))","v":""},null,null,null,0,0,0,"",""]
[153,null,{"$f":"IF(ISBLANK($B157),\"\",LOOKUP($B157,Inscriptions!A$2:A$65496,Inscriptions!B$2:B$65498))","v":""},{"$f":"IF(ISBLANK($B157),\"\",LOOKUP($B157,Inscriptions!A$2:A$65496,Inscriptions!C$2:C$65498))","v":""},{"$f":"IF(ISBLANK($B157),\"\",LOOKUP($B157,Inscriptions!A$2:A$65496,Inscriptions!D$2:D$65498))","v":""},null,null,null,0,0,0,"",""]
[154,null,{"$f":"IF(ISBLANK($B158),\"\",LOOKUP($B158,Inscriptions!A$2:A$65496,Inscriptions!B$2:B$65498))","v":""},{"$f":"IF(ISBLANK($B158),\"\",LOOKUP($B158,Inscriptions!A$2:A$65496,Inscriptions!C$2:C$65498))","v":""},{"$f":"IF(ISBLANK($B158),\"\",LOOKUP($B158,Inscriptions!A$2:A$65496,Inscriptions!D$2:D$65498))","v":""},null,null,null,0,0,0,"",""]
[155,null,{"$f":"IF(ISBLANK($B159),\"\",LOOKUP($B159,Inscriptions!A$2:A$65496,Inscriptions!B$2:B$65498))","v":""},{"$f":"IF(ISBLANK($B159),\"\",LOOKUP($B159,Inscriptions!A$2:A$65496,Inscriptions!C$2:C$65498))","v":""},{"$f":"IF(ISBLANK($B159),\"\",LOOKUP($B159,Inscriptions!A$2:A$65496,Inscriptions!D$2:D$65498))","v":""},null,null,null,0,0,0,"",""]
[156,null,{"$f":"IF(ISBLANK($B160),\"\",LOOKUP($B160,Inscriptions!A$2:A$65496,Inscriptions!B$2:B$65498))","v":""},{"$f":"IF(ISBLANK($B160),\"\",LOOKUP($B160,Inscriptions!A$2:A$65496,Inscriptions!C$2:C$65498))","v":""},{"$f":"IF(ISBLANK($B160),\"\",LOOKUP($B160,Inscriptions!A$2:A$65496,Inscriptions!D$2:D$65498))","v":""},null,null,null,0,0,0,"",""]
[157,null,{"$f":"IF(ISBLANK($B161),\"\",LOOKUP($B161,Inscriptions!A$2:A$65496,Inscriptions!B$2:B$65498))","v":""},{"$f":"IF(ISBLANK($B161),\"\",LOOKUP($B161,Inscriptions!A$2:A$65496,Inscriptions!C$2:C$65498))","v":""},{"$f":"IF(ISBLANK($B161),\"\",LOOKUP($B161,Inscriptions!A$2:A$65496,Inscriptions!D$2:D$65498))","v":""},null,null,null,0,0,0,"",""]
[158,null,{"$f":"IF(ISBLANK($B162),\"\",LOOKUP($B162,Inscriptions!A$2:A$65496,Inscriptions!B$2:B$65498))","v":""},{"$f":"IF(ISBLANK($B162),\"\",LOOKUP($B162,Inscriptions!A$2:A$65496,Inscriptions!C$2:C$65498))","v":""},{"$f":"IF(ISBLANK($B162),\"\",LOOKUP($B162,Inscriptions!A$2:A$65496,Inscriptions!D$2:D$65498))","v":""},null,null,null,0,0,0,"",""]
[159,null,{"$f":"IF(ISBLANK($B163),\"\",LOOKUP($B163,Inscriptions!A$2:A$65496,Inscriptions!B$2:B$65498))","v":""},{"$f":"IF(ISBLANK($B163),\"\",LOOKUP($B163,Inscriptions!A$2:A$65496,Inscriptions!C$2:C$65498))","v":""},{"$f":"IF(ISBLANK($B163),\"\",LOOKUP($B163,Inscriptions!A$2:A$65496,Inscriptions!D$2:D$65498))","v":""},null,null,null,0,0,0,"",""]
[160,null,{"$f":"IF(ISBLANK($B164),\"\",LOOKUP($B164,Inscriptions!A$2:A$65496,Inscriptions!B$2:B$65498))","v":""},{"$f":"IF(ISBLANK($B164),\"\",LOOKUP($B164,Inscriptions!A$2:A$65496,Inscriptions!C$2:C$65498))","v":""},{"$f":"IF(ISBLANK($B164),\"\",LOOKUP($B164,Inscriptions!A$2:A$65496,Inscriptions!D$2:D$65498))","v":""},null,null,null,0,0,0,"",""]
[161,null,{"$f":"IF(ISBLANK($B165),\"\",LOOKUP($B165,Inscriptions!A$2:A$65496,Inscriptions!B$2:B$65498))","v":""},{"$f":"IF(ISBLANK($B165),\"\",LOOKUP($B165,Inscriptions!A$2:A$65496,Inscriptions!C$2:C$65498))","v":""},{"$f":"IF(ISBLANK($B165),\"\",LOOKUP($B165,Inscriptions!A$2:A$65496,Inscriptions!D$2:D$65498))","v":""},null,null,null,0,0,0,"",""]
[162,null,{"$f":"IF(ISBLANK($B166),\"\",LOOKUP($B166,Inscriptions!A$2:A$65496,Inscriptions!B$2:B$65498))","v":""},{"$f":"IF(ISBLANK($B166),\"\",LOOKUP($B166,Inscriptions!A$2:A$65496,Inscriptions!C$2:C$65498))","v":""},{"$f":"IF(ISBLANK($B166),\"\",LOOKUP($B166,Inscriptions!A$2:A$65496,Inscriptions!D$2:D$65498))","v":""},null,null,null,0,0,0,"",""]
[163,null,{"$f":"IF(ISBLANK($B167),\"\",LOOKUP($B167,Inscriptions!A$2:A$65496,Inscriptions!B$2:B$65498))","v":""},{"$f":"IF(ISBLANK($B167),\"\",LOOKUP($B167,Inscriptions!A$2:A$65496,Inscriptions!C$2:C$65498))","v":""},{"$f":"IF(ISBLANK($B167),\"\",LOOKUP($B167,Inscriptions!A$2:A$65496,Inscriptions!D$2:D$65498))","v":""},null,null,null,0,0,0,"",""]
[164,null,{"$f":"IF(ISBLANK($B168),\"\",LOOKUP($B168,Inscriptions!A$2:A$65496,Inscriptions!B$2:B$65498))","v":""},{"$f":"IF(ISBLANK($B168),\"\",LOOKUP($B168,Inscriptions!A$2:A$65496,Inscriptions!C$2:C$65498))","v":""},{"$f":"IF(ISBLANK($B168),\"\",LOOKUP($B168,Inscriptions!A$2:A$65496,Inscriptions!D$2:D$65498))","v":""},null,null,null,0,0,0,"",""]
[165,null,{"$f":"IF(ISBLANK($B169),\"\",LOOKUP($B169,Inscriptions!A$2:A$65496,Inscriptions!B$2:B$65498))","v":""},{"$f":"IF(ISBLANK($B169),\"\",LOOKUP($B169,Inscriptions!A$2:A$65496,Inscriptions!C$2:C$65498))","v":""},{"$f":"IF(ISBLANK($B169),\"\",LOOKUP($B169,Inscriptions!A$2:A$65496,Inscriptions!D$2:D$65498))","v":""},null,null,null,0,0,0,"",""]
[166,null,{"$f":"IF(ISBLANK($B170),\"\",LOOKUP($B170,Inscriptions!A$2:A$65496,Inscriptions!B$2:B$65498))","v":""},{"$f":"IF(ISBLANK($B170),\"\",LOOKUP($B170,Inscriptions!A$2:A$65496,Inscriptions!C$2:C$65498))","v":""},{"$f":"IF(ISBLANK($B170),\"\",LOOKUP($B170,Inscriptions!A$2:A$65496,Inscriptions!D$2:D$65498))","v":""},null,null,null,0,0,0,"",""]
[167,null,{"$f":"IF(ISBLANK($B171),\"\",LOOKUP($B171,Inscriptions!A$2:A$65496,Inscriptions!B$2:B$65498))","v":""},{"$f":"IF(ISBLANK($B171),\"\",LOOKUP($B171,Inscriptions!A$2:A$65496,Inscriptions!C$2:C$65498))","v":""},{"$f":"IF(ISBLANK($B171),\"\",LOOKUP($B171,Inscriptions!A$2:A$65496,Inscriptions!D$2:D$65498))","v":""},null,null,null,0,0,0,"",""]
[168,null,{"$f":"IF(ISBLANK($B172),\"\",LOOKUP($B172,Inscriptions!A$2:A$65496,Inscriptions!B$2:B$65498))","v":""},{"$f":"IF(ISBLANK($B172),\"\",LOOKUP($B172,Inscriptions!A$2:A$65496,Inscriptions!C$2:C$65498))","v":""},{"$f":"IF(ISBLANK($B172),\"\",LOOKUP($B172,Inscriptions!A$2:A$65496,Inscriptions!D$2:D$65498))","v":""},null,null,null,0,0,0,"",""]
[169,null,{"$f":"IF(ISBLANK($B173),\"\",LOOKUP($B173,Inscriptions!A$2:A$65496,Inscriptions!B$2:B$65498))","v":""},{"$f":"IF(ISBLANK($B173),\"\",LOOKUP($B173,Inscriptions!A$2:A$65496,Inscriptions!C$2:C$65498))","v":""},{"$f":"IF(ISBLANK($B173),\"\",LOOKUP($B173,Inscriptions!A$2:A$65496,Inscriptions!D$2:D$65498))","v":""},null,null,null,0,0,0,"",""]
[170,null,{"$f":"IF(ISBLANK($B174),\"\",LOOKUP($B174,Inscriptions!A$2:A$65496,Inscriptions!B$2:B$65498))","v":""},{"$f":"IF(ISBLANK($B174),\"\",LOOKUP($B174,Inscriptions!A$2:A$65496,Inscriptions!C$2:C$65498))","v":""},{"$f":"IF(ISBLANK($B174),\"\",LOOKUP($B174,Inscriptions!A$2:A$65496,Inscriptions!D$2:D$65498))","v":""},null,null,null,0,0,0,"",""]
[171,null,{"$f":"IF(ISBLANK($B175),\"\",LOOKUP($B175,Inscriptions!A$2:A$65496,Inscriptions!B$2:B$65498))","v":""},{"$f":"IF(ISBLANK($B175),\"\",LOOKUP($B175,Inscriptions!A$2:A$65496,Inscriptions!C$2:C$65498))","v":""},{"$f":"IF(ISBLANK($B175),\"\",LOOKUP($B175,Inscriptions!A$2:A$65496,Inscriptions!D$2:D$65498))","v":""},null,null,null,0,0,0,"",""]
[172,null,{"$f":"IF(ISBLANK($B176),\"\",LOOKUP($B176,Inscriptions!A$2:A$65496,Inscriptions!B$2:B$65498))","v":""},{"$f":"IF(ISBLANK($B176),\"\",LOOKUP($B176,Inscriptions!A$2:A$65496,Inscriptions!C$2:C$65498))","v":""},{"$f":"IF(ISBLANK($B176),\"\",LOOKUP($B176,Inscriptions!A$2:A$65496,Inscriptions!D$2:D$65498))","v":""},null,null,null,0,0,0,"",""]
[173,null,{"$f":"IF(ISBLANK($B177),\"\",LOOKUP($B177,Inscriptions!A$2:A$65496,Inscriptions!B$2:B$65498))","v":""},{"$f":"IF(ISBLANK($B177),\"\",LOOKUP($B177,Inscriptions!A$2:A$65496,Inscriptions!C$2:C$65498))","v":""},{"$f":"IF(ISBLANK($B177),\"\",LOOKUP($B177,Inscriptions!A$2:A$65496,Inscriptions!D$2:D$65498))","v":""},null,null,null,0,0,0,"",""]
[174,null,{"$f":"IF(ISBLANK($B178),\"\",LOOKUP($B178,Inscriptions!A$2:A$65496,Inscriptions!B$2:B$65498))","v":""},{"$f":"IF(ISBLANK($B178),\"\",LOOKUP($B178,Inscriptions!A$2:A$65496,Inscriptions!C$2:C$65498))","v":""},{"$f":"IF(ISBLANK($B178),\"\",LOOKUP($B178,Inscriptions!A$2:A$65496,Inscriptions!D$2:D$65498))","v":""},null,null,null,0,0,0,"",""]
[175,null,{"$f":"IF(ISBLANK($B179),\"\",LOOKUP($B179,Inscriptions!A$2:A$65496,Inscriptions!B$2:B$65498))","v":""},{"$f":"IF(ISBLANK($B179),\"\",LOOKUP($B179,Inscriptions!A$2:A$65496,Inscriptions!C$2:C$65498))","v":""},{"$f":"IF(ISBLANK($B179),\"\",LOOKUP($B179,Inscriptions!A$2:A$65496,Inscriptions!D$2:D$65498))","v":""},null,null,null,0,0,0,"",""]
[176,null,{"$f":"IF(ISBLANK($B180),\"\",LOOKUP($B180,Inscriptions!A$2:A$65496,Inscriptions!B$2:B$65498))","v":""},{"$f":"IF(ISBLANK($B180),\"\",LOOKUP($B180,Inscriptions!A$2:A$65496,Inscriptions!C$2:C$65498))","v":""},{"$f":"IF(ISBLANK($B180),\"\",LOOKUP($B180,Inscriptions!A$2:A$65496,Inscriptions!D$2:D$65498))","v":""},null,null,null,0,0,0,"",""]
[177,null,{"$f":"IF(ISBLANK($B181),\"\",LOOKUP($B181,Inscriptions!A$2:A$65496,Inscriptions!B$2:B$65498))","v":""},{"$f":"IF(ISBLANK($B181),\"\",LOOKUP($B181,Inscriptions!A$2:A$65496,Inscriptions!C$2:C$65498))","v":""},{"$f":"IF(ISBLANK($B181),\"\",LOOKUP($B181,Inscriptions!A$2:A$65496,Inscriptions!D$2:D$65498))","v":""},null,null,null,0,0,0,"",""]
[178,null,{"$f":"IF(ISBLANK($B182),\"\",LOOKUP($B182,Inscriptions!A$2:A$65496,Inscriptions!B$2:B$65498))","v":""},{"$f":"IF(ISBLANK($B182),\"\",LOOKUP($B182,Inscriptions!A$2:A$65496,Inscriptions!C$2:C$65498))","v":""},{"$f":"IF(ISBLANK($B182),\"\",LOOKUP($B182,Inscriptions!A$2:A$65496,Inscriptions!D$2:D$65498))","v":""},null,null,null,0,0,0,"",""]
[179,null,{"$f":"IF(ISBLANK($B183),\"\",LOOKUP($B183,Inscriptions!A$2:A$65496,Inscriptions!B$2:B$65498))","v":""},{"$f":"IF(ISBLANK($B183),\"\",LOOKUP($B183,Inscriptions!A$2:A$65496,Inscriptions!C$2:C$65498))","v":""},{"$f":"IF(ISBLANK($B183),\"\",LOOKUP($B183,Inscriptions!A$2:A$65496,Inscriptions!D$2:D$65498))","v":""},null,null,null,0,0,0,"",""]
[180,null,{"$f":"IF(ISBLANK($B184),\"\",LOOKUP($B184,Inscriptions!A$2:A$65496,Inscriptions!B$2:B$65498))","v":""},{"$f":"IF(ISBLANK($B184),\"\",LOOKUP($B184,Inscriptions!A$2:A$65496,Inscriptions!C$2:C$65498))","v":""},{"$f":"IF(ISBLANK($B184),\"\",LOOKUP($B184,Inscriptions!A$2:A$65496,Inscriptions!D$2:D$65498))","v":""},null,null,null,0,0,0,"",""]
[181,null,{"$f":"IF(ISBLANK($B185),\"\",LOOKUP($B185,Inscriptions!A$2:A$65496,Inscriptions!B$2:B$65498))","v":""},{"$f":"IF(ISBLANK($B185),\"\",LOOKUP($B185,Inscriptions!A$2:A$65496,Inscriptions!C$2:C$65498))","v":""},{"$f":"IF(ISBLANK($B185),\"\",LOOKUP($B185,Inscriptions!A$2:A$65496,Inscriptions!D$2:D$65498))","v":""},null,null,null,0,0,0,"",""]
[182,null,{"$f":"IF(ISBLANK($B186),\"\",LOOKUP($B186,Inscriptions!A$2:A$65496,Inscriptions!B$2:B$65498))","v":""},{"$f":"IF(ISBLANK($B186),\"\",LOOKUP($B186,Inscriptions!A$2:A$65496,Inscriptions!C$2:C$65498))","v":""},{"$f":"IF(ISBLANK($B186),\"\",LOOKUP($B186,Inscriptions!A$2:A$65496,Inscriptions!D$2:D$65498))","v":""},null,null,null,0,0,0,"",""]
[183,null,{"$f":"IF(ISBLANK($B187),\"\",LOOKUP($B187,Inscriptions!A$2:A$65496,Inscriptions!B$2:B$65498))","v":""},{"$f":"IF(ISBLANK($B187),\"\",LOOKUP($B187,Inscriptions!A$2:A$65496,Inscriptions!C$2:C$65498))","v":""},{"$f":"IF(ISBLANK($B187),\"\",LOOKUP($B187,Inscriptions!A$2:A$65496,Inscriptions!D$2:D$65498))","v":""},null,null,null,0,0,0,"",""]
[184,null,{"$f":"IF(ISBLANK($B188),\"\",LOOKUP($B188,Inscriptions!A$2:A$65496,Inscriptions!B$2:B$65498))","v":""},{"$f":"IF(ISBLANK($B188),\"\",LOOKUP($B188,Inscriptions!A$2:A$65496,Inscriptions!C$2:C$65498))","v":""},{"$f":"IF(ISBLANK($B188),\"\",LOOKUP($B188,Inscriptions!A$2:A$65496,Inscriptions!D$2:D$65498))","v":""},null,null,null,0,0,0,"",""]
[185,null,{"$f":"IF(ISBLANK($B189),\"\",LOOKUP($B189,Inscriptions!A$2:A$65496,Inscriptions!B$2:B$65498))","v":""},{"$f":"IF(ISBLANK($B189),\"\",LOOKUP($B189,Inscriptions!A$2:A$65496,Inscriptions!C$2:C$65498))","v":""},{"$f":"IF(ISBLANK($B189),\"\",LOOKUP($B189,Inscriptions!A$2:A$65496,Inscriptions!D$2:D$65498))","v":""},null,null,null,0,0,0,"",""]
[186,null,{"$f":"IF(ISBLANK($B190),\"\",LOOKUP($B190,Inscriptions!A$2:A$65496,Inscriptions!B$2:B$65498))","v":""},{"$f":"IF(ISBLANK($B190),\"\",LOOKUP($B190,Inscriptions!A$2:A$65496,Inscriptions!C$2:C$65498))","v":""},{"$f":"IF(ISBLANK($B190),\"\",LOOKUP($B190,Inscriptions!A$2:A$65496,Inscriptions!D$2:D$65498))","v":""},null,null,null,0,0,0,"",""]
[187,null,{"$f":"IF(ISBLANK($B191),\"\",LOOKUP($B191,Inscriptions!A$2:A$65496,Inscriptions!B$2:B$65498))","v":""},{"$f":"IF(ISBLANK($B191),\"\",LOOKUP($B191,Inscriptions!A$2:A$65496,Inscriptions!C$2:C$65498))","v":""},{"$f":"IF(ISBLANK($B191),\"\",LOOKUP($B191,Inscriptions!A$2:A$65496,Inscriptions!D$2:D$65498))","v":""},null,null,null,0,0,0,"",""]
[188,null,{"$f":"IF(ISBLANK($B192),\"\",LOOKUP($B192,Inscriptions!A$2:A$65496,Inscriptions!B$2:B$65498))","v":""},{"$f":"IF(ISBLANK($B192),\"\",LOOKUP($B192,Inscriptions!A$2:A$65496,Inscriptions!C$2:C$65498))","v":""},{"$f":"IF(ISBLANK($B192),\"\",LOOKUP($B192,Inscriptions!A$2:A$65496,Inscriptions!D$2:D$65498))","v":""},null,null,null,0,0,0,"",""]
[189,null,{"$f":"IF(ISBLANK($B193),\"\",LOOKUP($B193,Inscriptions!A$2:A$65496,Inscriptions!B$2:B$65498))","v":""},{"$f":"IF(ISBLANK($B193),\"\",LOOKUP($B193,Inscriptions!A$2:A$65496,Inscriptions!C$2:C$65498))","v":""},{"$f":"IF(ISBLANK($B193),\"\",LOOKUP($B193,Inscriptions!A$2:A$65496,Inscriptions!D$2:D$65498))","v":""},null,null,null,0,0,0,"",""]
[190,null,{"$f":"IF(ISBLANK($B194),\"\",LOOKUP($B194,Inscriptions!A$2:A$65496,Inscriptions!B$2:B$65498))","v":""},{"$f":"IF(ISBLANK($B194),\"\",LOOKUP($B194,Inscriptions!A$2:A$65496,Inscriptions!C$2:C$65498))","v":""},{"$f":"IF(ISBLANK($B194),\"\",LOOKUP($B194,Inscriptions!A$2:A$65496,Inscriptions!D$2:D$65498))","v":""},null,null,null,0,0,0,"",""]
[191,null,{"$f":"IF(ISBLANK($B195),\"\",LOOKUP($B195,Inscriptions!A$2:A$65496,Inscriptions!B$2:B$65498))","v":""},{"$f":"IF(ISBLANK($B195),\"\",LOOKUP($B195,Inscriptions!A$2:A$65496,Inscriptions!C$2:C$65498))","v":""},{"$f":"IF(ISBLANK($B195),\"\",LOOKUP($B195,Inscriptions!A$2:A$65496,Inscriptions!D$2:D$65498))","v":""},null,null,null,0,0,0,"",""]
[192,null,{"$f":"IF(ISBLANK($B196),\"\",LOOKUP($B196,Inscriptions!A$2:A$65496,Inscriptions!B$2:B$65498))","v":""},{"$f":"IF(ISBLANK($B196),\"\",LOOKUP($B196,Inscriptions!A$2:A$65496,Inscriptions!C$2:C$65498))","v":""},{"$f":"IF(ISBLANK($B196),\"\",LOOKUP($B196,Inscriptions!A$2:A$65496,Inscriptions!D$2:D$65498))","v":""},null,null,null,0,0,0,"",""]
[193,null,{"$f":"IF(ISBLANK($B197),\"\",LOOKUP($B197,Inscriptions!A$2:A$65496,Inscriptions!B$2:B$65498))","v":""},{"$f":"IF(ISBLANK($B197),\"\",LOOKUP($B197,Inscriptions!A$2:A$65496,Inscriptions!C$2:C$65498))","v":""},{"$f":"IF(ISBLANK($B197),\"\",LOOKUP($B197,Inscriptions!A$2:A$65496,Inscriptions!D$2:D$65498))","v":""},null,null,null,0,0,0,"",""]
[194,null,{"$f":"IF(ISBLANK($B198),\"\",LOOKUP($B198,Inscriptions!A$2:A$65496,Inscriptions!B$2:B$65498))","v":""},{"$f":"IF(ISBLANK($B198),\"\",LOOKUP($B198,Inscriptions!A$2:A$65496,Inscriptions!C$2:C$65498))","v":""},{"$f":"IF(ISBLANK($B198),\"\",LOOKUP($B198,Inscriptions!A$2:A$65496,Inscriptions!D$2:D$65498))","v":""},null,null,null,{"$f":"ROUNDDOWN(H198/10000,0)","v":0},{"$f":"ROUNDDOWN((H198-I198*10000)/100,0)","v":0},{"$f":"ROUNDDOWN((H198-(I198*10000)-(J198*100)),0)","v":0},{"$f":"IF((I198+J198+K198)=0,\"\",ROUNDDOWN((L$4/((I198*3600)+(J198*60)+K198))*3.6,2))","v":""},{"$f":"IF(L198=\"\",\"\",\"km/h\")","v":""}]
[195,null,{"$f":"IF(ISBLANK($B199),\"\",LOOKUP($B199,Inscriptions!A$2:A$65496,Inscriptions!B$2:B$65498))","v":""},{"$f":"IF(ISBLANK($B199),\"\",LOOKUP($B199,Inscriptions!A$2:A$65496,Inscriptions!C$2:C$65498))","v":""},{"$f":"IF(ISBLANK($B199),\"\",LOOKUP($B199,Inscriptions!A$2:A$65496,Inscriptions!D$2:D$65498))","v":""},null,null,null,0,0,0,"",""]
[196,null,{"$f":"IF(ISBLANK($B200),\"\",LOOKUP($B200,Inscriptions!A$2:A$65496,Inscriptions!B$2:B$65498))","v":""},{"$f":"IF(ISBLANK($B200),\"\",LOOKUP($B200,Inscriptions!A$2:A$65496,Inscriptions!C$2:C$65498))","v":""},{"$f":"IF(ISBLANK($B200),\"\",LOOKUP($B200,Inscriptions!A$2:A$65496,Inscriptions!D$2:D$65498))","v":""},null,null,null,0,0,0,"",""]
[197,null,{"$f":"IF(ISBLANK($B201),\"\",LOOKUP($B201,Inscriptions!A$2:A$65496,Inscriptions!B$2:B$65498))","v":""},{"$f":"IF(ISBLANK($B201),\"\",LOOKUP($B201,Inscriptions!A$2:A$65496,Inscriptions!C$2:C$65498))","v":""},{"$f":"IF(ISBLANK($B201),\"\",LOOKUP($B201,Inscriptions!A$2:A$65496,Inscriptions!D$2:D$65498))","v":""},null,null,null,0,0,0,"",""]
[198,null,{"$f":"IF(ISBLANK($B202),\"\",LOOKUP($B202,Inscriptions!A$2:A$65496,Inscriptions!B$2:B$65498))","v":""},{"$f":"IF(ISBLANK($B202),\"\",LOOKUP($B202,Inscriptions!A$2:A$65496,Inscriptions!C$2:C$65498))","v":""},{"$f":"IF(ISBLANK($B202),\"\",LOOKUP($B202,Inscriptions!A$2:A$65496,Inscriptions!D$2:D$65498))","v":""},null,null,null,0,0,0,"",""]
[199,null,{"$f":"IF(ISBLANK($B203),\"\",LOOKUP($B203,Inscriptions!A$2:A$65496,Inscriptions!B$2:B$65498))","v":""},{"$f":"IF(ISBLANK($B203),\"\",LOOKUP($B203,Inscriptions!A$2:A$65496,Inscriptions!C$2:C$65498))","v":""},{"$f":"IF(ISBLANK($B203),\"\",LOOKUP($B203,Inscriptions!A$2:A$65496,Inscriptions!D$2:D$65498))","v":""},null,null,null,0,0,0,"",""]
[200,null,{"$f":"IF(ISBLANK($B204),\"\",LOOKUP($B204,Inscriptions!A$2:A$65496,Inscriptions!B$2:B$65498))","v":""},{"$f":"IF(ISBLANK($B204),\"\",LOOKUP($B204,Inscriptions!A$2:A$65496,Inscriptions!C$2:C$65498))","v":""},{"$f":"IF(ISBLANK($B204),\"\",LOOKUP($B204,Inscriptions!A$2:A$65496,Inscriptions!D$2:D$65498))","v":""},null,null,null,0,0,0,"",""]
[201,null,{"$f":"IF(ISBLANK($B205),\"\",LOOKUP($B205,Inscriptions!A$2:A$65496,Inscriptions!B$2:B$65498))","v":""},{"$f":"IF(ISBLANK($B205),\"\",LOOKUP($B205,Inscriptions!A$2:A$65496,Inscriptions!C$2:C$65498))","v":""},{"$f":"IF(ISBLANK($B205),\"\",LOOKUP($B205,Inscriptions!A$2:A$65496,Inscriptions!D$2:D$65498))","v":""},null,null,null,0,0,0,"",""]
[202,null,{"$f":"IF(ISBLANK($B206),\"\",LOOKUP($B206,Inscriptions!A$2:A$65496,Inscriptions!B$2:B$65498))","v":""},{"$f":"IF(ISBLANK($B206),\"\",LOOKUP($B206,Inscriptions!A$2:A$65496,Inscriptions!C$2:C$65498))","v":""},{"$f":"IF(ISBLANK($B206),\"\",LOOKUP($B206,Inscriptions!A$2:A$65496,Inscriptions!D$2:D$65498))","v":""},null,null,null,0,0,0,"",""]
[203,null,{"$f":"IF(ISBLANK($B207),\"\",LOOKUP($B207,Inscriptions!A$2:A$65496,Inscriptions!B$2:B$65498))","v":""},{"$f":"IF(ISBLANK($B207),\"\",LOOKUP($B207,Inscriptions!A$2:A$65496,Inscriptions!C$2:C$65498))","v":""},{"$f":"IF(ISBLANK($B207),\"\",LOOKUP($B207,Inscriptions!A$2:A$65496,Inscriptions!D$2:D$65498))","v":""},null,null,null,0,0,0,"",""]
[204,null,{"$f":"IF(ISBLANK($B208),\"\",LOOKUP($B208,Inscriptions!A$2:A$65496,Inscriptions!B$2:B$65498))","v":""},{"$f":"IF(ISBLANK($B208),\"\",LOOKUP($B208,Inscriptions!A$2:A$65496,Inscriptions!C$2:C$65498))","v":""},{"$f":"IF(ISBLANK($B208),\"\",LOOKUP($B208,Inscriptions!A$2:A$65496,Inscriptions!D$2:D$65498))","v":""},null,null,null,0,0,0,"",""]
[205,null,{"$f":"IF(ISBLANK($B209),\"\",LOOKUP($B209,Inscriptions!A$2:A$65496,Inscriptions!B$2:B$65498))","v":""},{"$f":"IF(ISBLANK($B209),\"\",LOOKUP($B209,Inscriptions!A$2:A$65496,Inscriptions!C$2:C$65498))","v":""},{"$f":"IF(ISBLANK($B209),\"\",LOOKUP($B209,Inscriptions!A$2:A$65496,Inscriptions!D$2:D$65498))","v":""},null,null,null,0,0,0,"",""]
[206,null,{"$f":"IF(ISBLANK($B210),\"\",LOOKUP($B210,Inscriptions!A$2:A$65496,Inscriptions!B$2:B$65498))","v":""},{"$f":"IF(ISBLANK($B210),\"\",LOOKUP($B210,Inscriptions!A$2:A$65496,Inscriptions!C$2:C$65498))","v":""},{"$f":"IF(ISBLANK($B210),\"\",LOOKUP($B210,Inscriptions!A$2:A$65496,Inscriptions!D$2:D$65498))","v":""},null,null,null,0,0,0,"",""]
[207,null,{"$f":"IF(ISBLANK($B211),\"\",LOOKUP($B211,Inscriptions!A$2:A$65496,Inscriptions!B$2:B$65498))","v":""},{"$f":"IF(ISBLANK($B211),\"\",LOOKUP($B211,Inscriptions!A$2:A$65496,Inscriptions!C$2:C$65498))","v":""},{"$f":"IF(ISBLANK($B211),\"\",LOOKUP($B211,Inscriptions!A$2:A$65496,Inscriptions!D$2:D$65498))","v":""},null,null,null,0,0,0,"",""]
[208,null,{"$f":"IF(ISBLANK($B212),\"\",LOOKUP($B212,Inscriptions!A$2:A$65496,Inscriptions!B$2:B$65498))","v":""},{"$f":"IF(ISBLANK($B212),\"\",LOOKUP($B212,Inscriptions!A$2:A$65496,Inscriptions!C$2:C$65498))","v":""},{"$f":"IF(ISBLANK($B212),\"\",LOOKUP($B212,Inscriptions!A$2:A$65496,Inscriptions!D$2:D$65498))","v":""},null,null,null,0,0,0,"",""]
[209,null,{"$f":"IF(ISBLANK($B213),\"\",LOOKUP($B213,Inscriptions!A$2:A$65496,Inscriptions!B$2:B$65498))","v":""},{"$f":"IF(ISBLANK($B213),\"\",LOOKUP($B213,Inscriptions!A$2:A$65496,Inscriptions!C$2:C$65498))","v":""},{"$f":"IF(ISBLANK($B213),\"\",LOOKUP($B213,Inscriptions!A$2:A$65496,Inscriptions!D$2:D$65498))","v":""},null,null,null,0,0,0,"",""]
[210,null,{"$f":"IF(ISBLANK($B214),\"\",LOOKUP($B214,Inscriptions!A$2:A$65496,Inscriptions!B$2:B$65498))","v":""},{"$f":"IF(ISBLANK($B214),\"\",LOOKUP($B214,Inscriptions!A$2:A$65496,Inscriptions!C$2:C$65498))","v":""},{"$f":"IF(ISBLANK($B214),\"\",LOOKUP($B214,Inscriptions!A$2:A$65496,Inscriptions!D$2:D$65498))","v":""},null,null,null,0,0,0,"",""]
[211,null,{"$f":"IF(ISBLANK($B215),\"\",LOOKUP($B215,Inscriptions!A$2:A$65496,Inscriptions!B$2:B$65498))","v":""},{"$f":"IF(ISBLANK($B215),\"\",LOOKUP($B215,Inscriptions!A$2:A$65496,Inscriptions!C$2:C$65498))","v":""},{"$f":"IF(ISBLANK($B215),\"\",LOOKUP($B215,Inscriptions!A$2:A$65496,Inscriptions!D$2:D$65498))","v":""},null,null,null,0,0,0,"",""]
[212,null,{"$f":"IF(ISBLANK($B216),\"\",LOOKUP($B216,Inscriptions!A$2:A$65496,Inscriptions!B$2:B$65498))","v":""},{"$f":"IF(ISBLANK($B216),\"\",LOOKUP($B216,Inscriptions!A$2:A$65496,Inscriptions!C$2:C$65498))","v":""},{"$f":"IF(ISBLANK($B216),\"\",LOOKUP($B216,Inscriptions!A$2:A$65496,Inscriptions!D$2:D$65498))","v":""},null,null,null,0,0,0,"",""]
[213,null,{"$f":"IF(ISBLANK($B217),\"\",LOOKUP($B217,Inscriptions!A$2:A$65496,Inscriptions!B$2:B$65498))","v":""},{"$f":"IF(ISBLANK($B217),\"\",LOOKUP($B217,Inscriptions!A$2:A$65496,Inscriptions!C$2:C$65498))","v":""},{"$f":"IF(ISBLANK($B217),\"\",LOOKUP($B217,Inscriptions!A$2:A$65496,Inscriptions!D$2:D$65498))","v":""},null,null,null,0,0,0,"",""]
[214,null,{"$f":"IF(ISBLANK($B218),\"\",LOOKUP($B218,Inscriptions!A$2:A$65496,Inscriptions!B$2:B$65498))","v":""},{"$f":"IF(ISBLANK($B218),\"\",LOOKUP($B218,Inscriptions!A$2:A$65496,Inscriptions!C$2:C$65498))","v":""},{"$f":"IF(ISBLANK($B218),\"\",LOOKUP($B218,Inscriptions!A$2:A$65496,Inscriptions!D$2:D$65498))","v":""},null,null,null,0,0,0,"",""]
[215,null,{"$f":"IF(ISBLANK($B219),\"\",LOOKUP($B219,Inscriptions!A$2:A$65496,Inscriptions!B$2:B$65498))","v":""},{"$f":"IF(ISBLANK($B219),\"\",LOOKUP($B219,Inscriptions!A$2:A$65496,Inscriptions!C$2:C$65498))","v":""},{"$f":"IF(ISBLANK($B219),\"\",LOOKUP($B219,Inscriptions!A$2:A$65496,Inscriptions!D$2:D$65498))","v":""},null,null,null,0,0,0,"",""]
[216,null,{"$f":"IF(ISBLANK($B220),\"\",LOOKUP($B220,Inscriptions!A$2:A$65496,Inscriptions!B$2:B$65498))","v":""},{"$f":"IF(ISBLANK($B220),\"\",LOOKUP($B220,Inscriptions!A$2:A$65496,Inscriptions!C$2:C$65498))","v":""},{"$f":"IF(ISBLANK($B220),\"\",LOOKUP($B220,Inscriptions!A$2:A$65496,Inscriptions!D$2:D$65498))","v":""},null,null,null,0,0,0,"",""]
[217,null,{"$f":"IF(ISBLANK($B221),\"\",LOOKUP($B221,Inscriptions!A$2:A$65496,Inscriptions!B$2:B$65498))","v":""},{"$f":"IF(ISBLANK($B221),\"\",LOOKUP($B221,Inscriptions!A$2:A$65496,Inscriptions!C$2:C$65498))","v":""},{"$f":"IF(ISBLANK($B221),\"\",LOOKUP($B221,Inscriptions!A$2:A$65496,Inscriptions!D$2:D$65498))","v":""},null,null,null,0,0,0,"",""]
[218,null,{"$f":"IF(ISBLANK($B222),\"\",LOOKUP($B222,Inscriptions!A$2:A$65496,Inscriptions!B$2:B$65498))","v":""},{"$f":"IF(ISBLANK($B222),\"\",LOOKUP($B222,Inscriptions!A$2:A$65496,Inscriptions!C$2:C$65498))","v":""},{"$f":"IF(ISBLANK($B222),\"\",LOOKUP($B222,Inscriptions!A$2:A$65496,Inscriptions!D$2:D$65498))","v":""},null,null,null,0,0,0,"",""]
[219,null,{"$f":"IF(ISBLANK($B223),\"\",LOOKUP($B223,Inscriptions!A$2:A$65496,Inscriptions!B$2:B$65498))","v":""},{"$f":"IF(ISBLANK($B223),\"\",LOOKUP($B223,Inscriptions!A$2:A$65496,Inscriptions!C$2:C$65498))","v":""},{"$f":"IF(ISBLANK($B223),\"\",LOOKUP($B223,Inscriptions!A$2:A$65496,Inscriptions!D$2:D$65498))","v":""},null,null,null,0,0,0,"",""]
[220,null,{"$f":"IF(ISBLANK($B224),\"\",LOOKUP($B224,Inscriptions!A$2:A$65496,Inscriptions!B$2:B$65498))","v":""},{"$f":"IF(ISBLANK($B224),\"\",LOOKUP($B224,Inscriptions!A$2:A$65496,Inscriptions!C$2:C$65498))","v":""},{"$f":"IF(ISBLANK($B224),\"\",LOOKUP($B224,Inscriptions!A$2:A$65496,Inscriptions!D$2:D$65498))","v":""},null,null,null,0,0,0,"",""]
[221,null,{"$f":"IF(ISBLANK($B225),\"\",LOOKUP($B225,Inscriptions!A$2:A$65496,Inscriptions!B$2:B$65498))","v":""},{"$f":"IF(ISBLANK($B225),\"\",LOOKUP($B225,Inscriptions!A$2:A$65496,Inscriptions!C$2:C$65498))","v":""},{"$f":"IF(ISBLANK($B225),\"\",LOOKUP($B225,Inscriptions!A$2:A$65496,Inscriptions!D$2:D$65498))","v":""},null,null,null,0,0,0,"",""]
[222,null,{"$f":"IF(ISBLANK($B226),\"\",LOOKUP($B226,Inscriptions!A$2:A$65496,Inscriptions!B$2:B$65498))","v":""},{"$f":"IF(ISBLANK($B226),\"\",LOOKUP($B226,Inscriptions!A$2:A$65496,Inscriptions!C$2:C$65498))","v":""},{"$f":"IF(ISBLANK($B226),\"\",LOOKUP($B226,Inscriptions!A$2:A$65496,Inscriptions!D$2:D$65498))","v":""},null,null,null,0,0,0,"",""]
[223,null,{"$f":"IF(ISBLANK($B227),\"\",LOOKUP($B227,Inscriptions!A$2:A$65496,Inscriptions!B$2:B$65498))","v":""},{"$f":"IF(ISBLANK($B227),\"\",LOOKUP($B227,Inscriptions!A$2:A$65496,Inscriptions!C$2:C$65498))","v":""},{"$f":"IF(ISBLANK($B227),\"\",LOOKUP($B227,Inscriptions!A$2:A$65496,Inscriptions!D$2:D$65498))","v":""},null,null,null,0,0,0,"",""]
[224,null,{"$f":"IF(ISBLANK($B228),\"\",LOOKUP($B228,Inscriptions!A$2:A$65496,Inscriptions!B$2:B$65498))","v":""},{"$f":"IF(ISBLANK($B228),\"\",LOOKUP($B228,Inscriptions!A$2:A$65496,Inscriptions!C$2:C$65498))","v":""},{"$f":"IF(ISBLANK($B228),\"\",LOOKUP($B228,Inscriptions!A$2:A$65496,Inscriptions!D$2:D$65498))","v":""},null,null,null,0,0,0,"",""]
[225,null,{"$f":"IF(ISBLANK($B229),\"\",LOOKUP($B229,Inscriptions!A$2:A$65496,Inscriptions!B$2:B$65498))","v":""},{"$f":"IF(ISBLANK($B229),\"\",LOOKUP($B229,Inscriptions!A$2:A$65496,Inscriptions!C$2:C$65498))","v":""},{"$f":"IF(ISBLANK($B229),\"\",LOOKUP($B229,Inscriptions!A$2:A$65496,Inscriptions!D$2:D$65498))","v":""},null,null,null,0,0,0,"",""]
[226,null,{"$f":"IF(ISBLANK($B230),\"\",LOOKUP($B230,Inscriptions!A$2:A$65496,Inscriptions!B$2:B$65498))","v":""},{"$f":"IF(ISBLANK($B230),\"\",LOOKUP($B230,Inscriptions!A$2:A$65496,Inscriptions!C$2:C$65498))","v":""},{"$f":"IF(ISBLANK($B230),\"\",LOOKUP($B230,Inscriptions!A$2:A$65496,Inscriptions!D$2:D$65498))","v":""},null,null,null,0,0,0,"",""]
[227,null,{"$f":"IF(ISBLANK($B231),\"\",LOOKUP($B231,Inscriptions!A$2:A$65496,Inscriptions!B$2:B$65498))","v":""},{"$f":"IF(ISBLANK($B231),\"\",LOOKUP($B231,Inscriptions!A$2:A$65496,Inscriptions!C$2:C$65498))","v":""},{"$f":"IF(ISBLANK($B231),\"\",LOOKUP($B231,Inscriptions!A$2:A$65496,Inscriptions!D$2:D$65498))","v":""},null,null,null,0,0,0,"",""]
[228,null,{"$f":"IF(ISBLANK($B232),\"\",LOOKUP($B232,Inscriptions!A$2:A$65496,Inscriptions!B$2:B$65498))","v":""},{"$f":"IF(ISBLANK($B232),\"\",LOOKUP($B232,Inscriptions!A$2:A$65496,Inscriptions!C$2:C$65498))","v":""},{"$f":"IF(ISBLANK($B232),\"\",LOOKUP($B232,Inscriptions!A$2:A$65496,Inscriptions!D$2:D$65498))","v":""},null,null,null,0,0,0,"",""]
[229,null,{"$f":"IF(ISBLANK($B233),\"\",LOOKUP($B233,Inscriptions!A$2:A$65496,Inscriptions!B$2:B$65498))","v":""},{"$f":"IF(ISBLANK($B233),\"\",LOOKUP($B233,Inscriptions!A$2:A$65496,Inscriptions!C$2:C$65498))","v":""},{"$f":"IF(ISBLANK($B233),\"\",LOOKUP($B233,Inscriptions!A$2:A$65496,Inscriptions!D$2:D$65498))","v":""},null,null,null,0,0,0,"",""]
[230,null,{"$f":"IF(ISBLANK($B234),\"\",LOOKUP($B234,Inscriptions!A$2:A$65496,Inscriptions!B$2:B$65498))","v":""},{"$f":"IF(ISBLANK($B234),\"\",LOOKUP($B234,Inscriptions!A$2:A$65496,Inscriptions!C$2:C$65498))","v":""},{"$f":"IF(ISBLANK($B234),\"\",LOOKUP($B234,Inscriptions!A$2:A$65496,Inscriptions!D$2:D$65498))","v":""},null,null,null,0,0,0,"",""]
[231,null,{"$f":"IF(ISBLANK($B235),\"\",LOOKUP($B235,Inscriptions!A$2:A$65496,Inscriptions!B$2:B$65498))","v":""},{"$f":"IF(ISBLANK($B235),\"\",LOOKUP($B235,Inscriptions!A$2:A$65496,Inscriptions!C$2:C$65498))","v":""},{"$f":"IF(ISBLANK($B235),\"\",LOOKUP($B235,Inscriptions!A$2:A$65496,Inscriptions!D$2:D$65498))","v":""},null,null,null,0,0,0,"",""]
[232,null,{"$f":"IF(ISBLANK($B236),\"\",LOOKUP($B236,Inscriptions!A$2:A$65496,Inscriptions!B$2:B$65498))","v":""},{"$f":"IF(ISBLANK($B236),\"\",LOOKUP($B236,Inscriptions!A$2:A$65496,Inscriptions!C$2:C$65498))","v":""},{"$f":"IF(ISBLANK($B236),\"\",LOOKUP($B236,Inscriptions!A$2:A$65496,Inscriptions!D$2:D$65498))","v":""},null,null,null,0,0,0,"",""]
[233,null,{"$f":"IF(ISBLANK($B237),\"\",LOOKUP($B237,Inscriptions!A$2:A$65496,Inscriptions!B$2:B$65498))","v":""},{"$f":"IF(ISBLANK($B237),\"\",LOOKUP($B237,Inscriptions!A$2:A$65496,Inscriptions!C$2:C$65498))","v":""},{"$f":"IF(ISBLANK($B237),\"\",LOOKUP($B237,Inscriptions!A$2:A$65496,Inscriptions!D$2:D$65498))","v":""},null,null,null,0,0,0,"",""]
[234,null,{"$f":"IF(ISBLANK($B238),\"\",LOOKUP($B238,Inscriptions!A$2:A$65496,Inscriptions!B$2:B$65498))","v":""},{"$f":"IF(ISBLANK($B238),\"\",LOOKUP($B238,Inscriptions!A$2:A$65496,Inscriptions!C$2:C$65498))","v":""},{"$f":"IF(ISBLANK($B238),\"\",LOOKUP($B238,Inscriptions!A$2:A$65496,Inscriptions!D$2:D$65498))","v":""},null,null,null,0,0,0,"",""]
[235,null,{"$f":"IF(ISBLANK($B239),\"\",LOOKUP($B239,Inscriptions!A$2:A$65496,Inscriptions!B$2:B$65498))","v":""},{"$f":"IF(ISBLANK($B239),\"\",LOOKUP($B239,Inscriptions!A$2:A$65496,Inscriptions!C$2:C$65498))","v":""},{"$f":"IF(ISBLANK($B239),\"\",LOOKUP($B239,Inscriptions!A$2:A$65496,Inscriptions!D$2:D$65498))","v":""},null,null,null,0,0,0,"",""]
[236,null,{"$f":"IF(ISBLANK($B240),\"\",LOOKUP($B240,Inscriptions!A$2:A$65496,Inscriptions!B$2:B$65498))","v":""},{"$f":"IF(ISBLANK($B240),\"\",LOOKUP($B240,Inscriptions!A$2:A$65496,Inscriptions!C$2:C$65498))","v":""},{"$f":"IF(ISBLANK($B240),\"\",LOOKUP($B240,Inscriptions!A$2:A$65496,Inscriptions!D$2:D$65498))","v":""},null,null,null,0,0,0,"",""]
[237,null,{"$f":"IF(ISBLANK($B241),\"\",LOOKUP($B241,Inscriptions!A$2:A$65496,Inscriptions!B$2:B$65498))","v":""},{"$f":"IF(ISBLANK($B241),\"\",LOOKUP($B241,Inscriptions!A$2:A$65496,Inscriptions!C$2:C$65498))","v":""},{"$f":"IF(ISBLANK($B241),\"\",LOOKUP($B241,Inscriptions!A$2:A$65496,Inscriptions!D$2:D$65498))","v":""},null,null,null,0,0,0,"",""]
[238,null,{"$f":"IF(ISBLANK($B242),\"\",LOOKUP($B242,Inscriptions!A$2:A$65496,Inscriptions!B$2:B$65498))","v":""},{"$f":"IF(ISBLANK($B242),\"\",LOOKUP($B242,Inscriptions!A$2:A$65496,Inscriptions!C$2:C$65498))","v":""},{"$f":"IF(ISBLANK($B242),\"\",LOOKUP($B242,Inscriptions!A$2:A$65496,Inscriptions!D$2:D$65498))","v":""},null,null,null,0,0,0,"",""]
[239,null,{"$f":"IF(ISBLANK($B243),\"\",LOOKUP($B243,Inscriptions!A$2:A$65496,Inscriptions!B$2:B$65498))","v":""},{"$f":"IF(ISBLANK($B243),\"\",LOOKUP($B243,Inscriptions!A$2:A$65496,Inscriptions!C$2:C$65498))","v":""},{"$f":"IF(ISBLANK($B243),\"\",LOOKUP($B243,Inscriptions!A$2:A$65496,Inscriptions!D$2:D$65498))","v":""},null,null,null,0,0,0,"",""]
[240,null,{"$f":"IF(ISBLANK($B244),\"\",LOOKUP($B244,Inscriptions!A$2:A$65496,Inscriptions!B$2:B$65498))","v":""},{"$f":"IF(ISBLANK($B244),\"\",LOOKUP($B244,Inscriptions!A$2:A$65496,Inscriptions!C$2:C$65498))","v":""},{"$f":"IF(ISBLANK($B244),\"\",LOOKUP($B244,Inscriptions!A$2:A$65496,Inscriptions!D$2:D$65498))","v":""},null,null,null,0,0,0,"",""]
[241,null,{"$f":"IF(ISBLANK($B245),\"\",LOOKUP($B245,Inscriptions!A$2:A$65496,Inscriptions!B$2:B$65498))","v":""},{"$f":"IF(ISBLANK($B245),\"\",LOOKUP($B245,Inscriptions!A$2:A$65496,Inscriptions!C$2:C$65498))","v":""},{"$f":"IF(ISBLANK($B245),\"\",LOOKUP($B245,Inscriptions!A$2:A$65496,Inscriptions!D$2:D$65498))","v":""},null,null,null,0,0,0,"",""]
[242,null,{"$f":"IF(ISBLANK($B246),\"\",LOOKUP($B246,Inscriptions!A$2:A$65496,Inscriptions!B$2:B$65498))","v":""},{"$f":"IF(ISBLANK($B246),\"\",LOOKUP($B246,Inscriptions!A$2:A$65496,Inscriptions!C$2:C$65498))","v":""},{"$f":"IF(ISBLANK($B246),\"\",LOOKUP($B246,Inscriptions!A$2:A$65496,Inscriptions!D$2:D$65498))","v":""},null,null,null,0,0,0,"",""]
[243,null,{"$f":"IF(ISBLANK($B247),\"\",LOOKUP($B247,Inscriptions!A$2:A$65496,Inscriptions!B$2:B$65498))","v":""},{"$f":"IF(ISBLANK($B247),\"\",LOOKUP($B247,Inscriptions!A$2:A$65496,Inscriptions!C$2:C$65498))","v":""},{"$f":"IF(ISBLANK($B247),\"\",LOOKUP($B247,Inscriptions!A$2:A$65496,Inscriptions!D$2:D$65498))","v":""},null,null,null,0,0,0,"",""]
[244,null,{"$f":"IF(ISBLANK($B248),\"\",LOOKUP($B248,Inscriptions!A$2:A$65496,Inscriptions!B$2:B$65498))","v":""},{"$f":"IF(ISBLANK($B248),\"\",LOOKUP($B248,Inscriptions!A$2:A$65496,Inscriptions!C$2:C$65498))","v":""},{"$f":"IF(ISBLANK($B248),\"\",LOOKUP($B248,Inscriptions!A$2:A$65496,Inscriptions!D$2:D$65498))","v":""},null,null,null,0,0,0,"",""]
[245,null,{"$f":"IF(ISBLANK($B249),\"\",LOOKUP($B249,Inscriptions!A$2:A$65496,Inscriptions!B$2:B$65498))","v":""},{"$f":"IF(ISBLANK($B249),\"\",LOOKUP($B249,Inscriptions!A$2:A$65496,Inscriptions!C$2:C$65498))","v":""},{"$f":"IF(ISBLANK($B249),\"\",LOOKUP($B249,Inscriptions!A$2:A$65496,Inscriptions!D$2:D$65498))","v":""},null,null,null,0,0,0,"",""]
[246,null,{"$f":"IF(ISBLANK($B250),\"\",LOOKUP($B250,Inscriptions!A$2:A$65496,Inscriptions!B$2:B$65498))","v":""},{"$f":"IF(ISBLANK($B250),\"\",LOOKUP($B250,Inscriptions!A$2:A$65496,Inscriptions!C$2:C$65498))","v":""},{"$f":"IF(ISBLANK($B250),\"\",LOOKUP($B250,Inscriptions!A$2:A$65496,Inscriptions!D$2:D$65498))","v":""},null,null,null,0,0,0,"",""]
[247,null,{"$f":"IF(ISBLANK($B251),\"\",LOOKUP($B251,Inscriptions!A$2:A$65496,Inscriptions!B$2:B$65498))","v":""},{"$f":"IF(ISBLANK($B251),\"\",LOOKUP($B251,Inscriptions!A$2:A$65496,Inscriptions!C$2:C$65498))","v":""},{"$f":"IF(ISBLANK($B251),\"\",LOOKUP($B251,Inscriptions!A$2:A$65496,Inscriptions!D$2:D$65498))","v":""},null,null,null,0,0,0,"",""]
[248,null,{"$f":"IF(ISBLANK($B252),\"\",LOOKUP($B252,Inscriptions!A$2:A$65496,Inscriptions!B$2:B$65498))","v":""},{"$f":"IF(ISBLANK($B252),\"\",LOOKUP($B252,Inscriptions!A$2:A$65496,Inscriptions!C$2:C$65498))","v":""},{"$f":"IF(ISBLANK($B252),\"\",LOOKUP($B252,Inscriptions!A$2:A$65496,Inscriptions!D$2:D$65498))","v":""},null,null,null,0,0,0,"",""]
[249,null,{"$f":"IF(ISBLANK($B253),\"\",LOOKUP($B253,Inscriptions!A$2:A$65496,Inscriptions!B$2:B$65498))","v":""},{"$f":"IF(ISBLANK($B253),\"\",LOOKUP($B253,Inscriptions!A$2:A$65496,Inscriptions!C$2:C$65498))","v":""},{"$f":"IF(ISBLANK($B253),\"\",LOOKUP($B253,Inscriptions!A$2:A$65496,Inscriptions!D$2:D$65498))","v":""},null,null,null,0,0,0,"",""]
[250,null,{"$f":"IF(ISBLANK($B254),\"\",LOOKUP($B254,Inscriptions!A$2:A$65496,Inscriptions!B$2:B$65498))","v":""},{"$f":"IF(ISBLANK($B254),\"\",LOOKUP($B254,Inscriptions!A$2:A$65496,Inscriptions!C$2:C$65498))","v":""},{"$f":"IF(ISBLANK($B254),\"\",LOOKUP($B254,Inscriptions!A$2:A$65496,Inscriptions!D$2:D$65498))","v":""},null,null,null,0,0,0,"",""]
[251,null,{"$f":"IF(ISBLANK($B255),\"\",LOOKUP($B255,Inscriptions!A$2:A$65496,Inscriptions!B$2:B$65498))","v":""},{"$f":"IF(ISBLANK($B255),\"\",LOOKUP($B255,Inscriptions!A$2:A$65496,Inscriptions!C$2:C$65498))","v":""},{"$f":"IF(ISBLANK($B255),\"\",LOOKUP($B255,Inscriptions!A$2:A$65496,Inscriptions!D$2:D$65498))","v":""},null,null,null,0,0,0,"",""]
[252,null,{"$f":"IF(ISBLANK($B256),\"\",LOOKUP($B256,Inscriptions!A$2:A$65496,Inscriptions!B$2:B$65498))","v":""},{"$f":"IF(ISBLANK($B256),\"\",LOOKUP($B256,Inscriptions!A$2:A$65496,Inscriptions!C$2:C$65498))","v":""},{"$f":"IF(ISBLANK($B256),\"\",LOOKUP($B256,Inscriptions!A$2:A$65496,Inscriptions!D$2:D$65498))","v":""},null,null,null,0,0,0,"",""]
[253,null,{"$f":"IF(ISBLANK($B257),\"\",LOOKUP($B257,Inscriptions!A$2:A$65496,Inscriptions!B$2:B$65498))","v":""},{"$f":"IF(ISBLANK($B257),\"\",LOOKUP($B257,Inscriptions!A$2:A$65496,Inscriptions!C$2:C$65498))","v":""},{"$f":"IF(ISBLANK($B257),\"\",LOOKUP($B257,Inscriptions!A$2:A$65496,Inscriptions!D$2:D$65498))","v":""},null,null,null,0,0,0,"",""]
[254,null,{"$f":"IF(ISBLANK($B258),\"\",LOOKUP($B258,Inscriptions!A$2:A$65496,Inscriptions!B$2:B$65498))","v":""},{"$f":"IF(ISBLANK($B258),\"\",LOOKUP($B258,Inscriptions!A$2:A$65496,Inscriptions!C$2:C$65498))","v":""},{"$f":"IF(ISBLANK($B258),\"\",LOOKUP($B258,Inscriptions!A$2:A$65496,Inscriptions!D$2:D$65498))","v":""},null,null,null,0,0,0,"",""]
[255,null,{"$f":"IF(ISBLANK($B259),\"\",LOOKUP($B259,Inscriptions!A$2:A$65496,Inscriptions!B$2:B$65498))","v":""},{"$f":"IF(ISBLANK($B259),\"\",LOOKUP($B259,Inscriptions!A$2:A$65496,Inscriptions!C$2:C$65498))","v":""},{"$f":"IF(ISBLANK($B259),\"\",LOOKUP($B259,Inscriptions!A$2:A$65496,Inscriptions!D$2:D$65498))","v":""},null,null,null,0,0,0,"",""]
[256,null,{"$f":"IF(ISBLANK($B260),\"\",LOOKUP($B260,Inscriptions!A$2:A$65496,Inscriptions!B$2:B$65498))","v":""},{"$f":"IF(ISBLANK($B260),\"\",LOOKUP($B260,Inscriptions!A$2:A$65496,Inscriptions!C$2:C$65498))","v":""},{"$f":"IF(ISBLANK($B260),\"\",LOOKUP($B260,Inscriptions!A$2:A$65496,Inscriptions!D$2:D$65498))","v":""},null,null,null,0,0,0,"",""]
[257,null,{"$f":"IF(ISBLANK($B261),\"\",LOOKUP($B261,Inscriptions!A$2:A$65496,Inscriptions!B$2:B$65498))","v":""},{"$f":"IF(ISBLANK($B261),\"\",LOOKUP($B261,Inscriptions!A$2:A$65496,Inscriptions!C$2:C$65498))","v":""},{"$f":"IF(ISBLANK($B261),\"\",LOOKUP($B261,Inscriptions!A$2:A$65496,Inscriptions!D$2:D$65498))","v":""},null,null,null,0,0,0,"",""]
[258,null,{"$f":"IF(ISBLANK($B262),\"\",LOOKUP($B262,Inscriptions!A$2:A$65496,Inscriptions!B$2:B$65498))","v":""},{"$f":"IF(ISBLANK($B262),\"\",LOOKUP($B262,Inscriptions!A$2:A$65496,Inscriptions!C$2:C$65498))","v":""},{"$f":"IF(ISBLANK($B262),\"\",LOOKUP($B262,Inscriptions!A$2:A$65496,Inscriptions!D$2:D$65498))","v":""},null,null,null,{"$f":"ROUNDDOWN(H262/10000,0)","v":0},{"$f":"ROUNDDOWN((H262-I262*10000)/100,0)","v":0},{"$f":"ROUNDDOWN((H262-(I262*10000)-(J262*100)),0)","v":0},{"$f":"IF((I262+J262+K262)=0,\"\",ROUNDDOWN((L$4/((I262*3600)+(J262*60)+K262))*3.6,2))","v":""},{"$f":"IF(L262=\"\",\"\",\"km/h\")","v":""}]
[259,null,{"$f":"IF(ISBLANK($B263),\"\",LOOKUP($B263,Inscriptions!A$2:A$65496,Inscriptions!B$2:B$65498))","v":""},{"$f":"IF(ISBLANK($B263),\"\",LOOKUP($B263,Inscriptions!A$2:A$65496,Inscriptions!C$2:C$65498))","v":""},{"$f":"IF(ISBLANK($B263),\"\",LOOKUP($B263,Inscriptions!A$2:A$65496,Inscriptions!D$2:D$65498))","v":""},null,null,null,0,0,0,"",""]
[260,null,{"$f":"IF(ISBLANK($B264),\"\",LOOKUP($B264,Inscriptions!A$2:A$65496,Inscriptions!B$2:B$65498))","v":""},{"$f":"IF(ISBLANK($B264),\"\",LOOKUP($B264,Inscriptions!A$2:A$65496,Inscriptions!C$2:C$65498))","v":""},{"$f":"IF(ISBLANK($B264),\"\",LOOKUP($B264,Inscriptions!A$2:A$65496,Inscriptions!D$2:D$65498))","v":""},null,null,null,0,0,0,"",""]
[261,null,{"$f":"IF(ISBLANK($B265),\"\",LOOKUP($B265,Inscriptions!A$2:A$65496,Inscriptions!B$2:B$65498))","v":""},{"$f":"IF(ISBLANK($B265),\"\",LOOKUP($B265,Inscriptions!A$2:A$65496,Inscriptions!C$2:C$65498))","v":""},{"$f":"IF(ISBLANK($B265),\"\",LOOKUP($B265,Inscriptions!A$2:A$65496,Inscriptions!D$2:D$65498))","v":""},null,null,null,0,0,0,"",""]
[262,null,{"$f":"IF(ISBLANK($B266),\"\",LOOKUP($B266,Inscriptions!A$2:A$65496,Inscriptions!B$2:B$65498))","v":""},{"$f":"IF(ISBLANK($B266),\"\",LOOKUP($B266,Inscriptions!A$2:A$65496,Inscriptions!C$2:C$65498))","v":""},{"$f":"IF(ISBLANK($B266),\"\",LOOKUP($B266,Inscriptions!A$2:A$65496,Inscriptions!D$2:D$65498))","v":""},null,null,null,0,0,0,"",""]
[263,null,{"$f":"IF(ISBLANK($B267),\"\",LOOKUP($B267,Inscriptions!A$2:A$65496,Inscriptions!B$2:B$65498))","v":""},{"$f":"IF(ISBLANK($B267),\"\",LOOKUP($B267,Inscriptions!A$2:A$65496,Inscriptions!C$2:C$65498))","v":""},{"$f":"IF(ISBLANK($B267),\"\",LOOKUP($B267,Inscriptions!A$2:A$65496,Inscriptions!D$2:D$65498))","v":""},null,null,null,0,0,0,"",""]
[264,null,{"$f":"IF(ISBLANK($B268),\"\",LOOKUP($B268,Inscriptions!A$2:A$65496,Inscriptions!B$2:B$65498))","v":""},{"$f":"IF(ISBLANK($B268),\"\",LOOKUP($B268,Inscriptions!A$2:A$65496,Inscriptions!C$2:C$65498))","v":""},{"$f":"IF(ISBLANK($B268),\"\",LOOKUP($B268,Inscriptions!A$2:A$65496,Inscriptions!D$2:D$65498))","v":""},null,null,null,0,0,0,"",""]
[265,null,{"$f":"IF(ISBLANK($B269),\"\",LOOKUP($B269,Inscriptions!A$2:A$65496,Inscriptions!B$2:B$65498))","v":""},{"$f":"IF(ISBLANK($B269),\"\",LOOKUP($B269,Inscriptions!A$2:A$65496,Inscriptions!C$2:C$65498))","v":""},{"$f":"IF(ISBLANK($B269),\"\",LOOKUP($B269,Inscriptions!A$2:A$65496,Inscriptions!D$2:D$65498))","v":""},null,null,null,0,0,0,"",""]
[266,null,{"$f":"IF(ISBLANK($B270),\"\",LOOKUP($B270,Inscriptions!A$2:A$65496,Inscriptions!B$2:B$65498))","v":""},{"$f":"IF(ISBLANK($B270),\"\",LOOKUP($B270,Inscriptions!A$2:A$65496,Inscriptions!C$2:C$65498))","v":""},{"$f":"IF(ISBLANK($B270),\"\",LOOKUP($B270,Inscriptions!A$2:A$65496,Inscriptions!D$2:D$65498))","v":""},null,null,null,0,0,0,"",""]
[267,null,{"$f":"IF(ISBLANK($B271),\"\",LOOKUP($B271,Inscriptions!A$2:A$65496,Inscriptions!B$2:B$65498))","v":""},{"$f":"IF(ISBLANK($B271),\"\",LOOKUP($B271,Inscriptions!A$2:A$65496,Inscriptions!C$2:C$65498))","v":""},{"$f":"IF(ISBLANK($B271),\"\",LOOKUP($B271,Inscriptions!A$2:A$65496,Inscriptions!D$2:D$65498))","v":""},null,null,null,0,0,0,"",""]
[268,null,{"$f":"IF(ISBLANK($B272),\"\",LOOKUP($B272,Inscriptions!A$2:A$65496,Inscriptions!B$2:B$65498))","v":""},{"$f":"IF(ISBLANK($B272),\"\",LOOKUP($B272,Inscriptions!A$2:A$65496,Inscriptions!C$2:C$65498))","v":""},{"$f":"IF(ISBLANK($B272),\"\",LOOKUP($B272,Inscriptions!A$2:A$65496,Inscriptions!D$2:D$65498))","v":""},null,null,null,0,0,0,"",""]
[269,null,{"$f":"IF(ISBLANK($B273),\"\",LOOKUP($B273,Inscriptions!A$2:A$65496,Inscriptions!B$2:B$65498))","v":""},{"$f":"IF(ISBLANK($B273),\"\",LOOKUP($B273,Inscriptions!A$2:A$65496,Inscriptions!C$2:C$65498))","v":""},{"$f":"IF(ISBLANK($B273),\"\",LOOKUP($B273,Inscriptions!A$2:A$65496,Inscriptions!D$2:D$65498))","v":""},null,null,null,0,0,0,"",""]
[270,null,{"$f":"IF(ISBLANK($B274),\"\",LOOKUP($B274,Inscriptions!A$2:A$65496,Inscriptions!B$2:B$65498))","v":""},{"$f":"IF(ISBLANK($B274),\"\",LOOKUP($B274,Inscriptions!A$2:A$65496,Inscriptions!C$2:C$65498))","v":""},{"$f":"IF(ISBLANK($B274),\"\",LOOKUP($B274,Inscriptions!A$2:A$65496,Inscriptions!D$2:D$65498))","v":""},null,null,null,0,0,0,"",""]
[271,null,{"$f":"IF(ISBLANK($B275),\"\",LOOKUP($B275,Inscriptions!A$2:A$65496,Inscriptions!B$2:B$65498))","v":""},{"$f":"IF(ISBLANK($B275),\"\",LOOKUP($B275,Inscriptions!A$2:A$65496,Inscriptions!C$2:C$65498))","v":""},{"$f":"IF(ISBLANK($B275),\"\",LOOKUP($B275,Inscriptions!A$2:A$65496,Inscriptions!D$2:D$65498))","v":""},null,null,null,0,0,0,"",""]
[272,null,{"$f":"IF(ISBLANK($B276),\"\",LOOKUP($B276,Inscriptions!A$2:A$65496,Inscriptions!B$2:B$65498))","v":""},{"$f":"IF(ISBLANK($B276),\"\",LOOKUP($B276,Inscriptions!A$2:A$65496,Inscriptions!C$2:C$65498))","v":""},{"$f":"IF(ISBLANK($B276),\"\",LOOKUP($B276,Inscriptions!A$2:A$65496,Inscriptions!D$2:D$65498))","v":""},null,null,null,0,0,0,"",""]
[273,null,{"$f":"IF(ISBLANK($B277),\"\",LOOKUP($B277,Inscriptions!A$2:A$65496,Inscriptions!B$2:B$65498))","v":""},{"$f":"IF(ISBLANK($B277),\"\",LOOKUP($B277,Inscriptions!A$2:A$65496,Inscriptions!C$2:C$65498))","v":""},{"$f":"IF(ISBLANK($B277),\"\",LOOKUP($B277,Inscriptions!A$2:A$65496,Inscriptions!D$2:D$65498))","v":""},null,null,null,0,0,0,"",""]
[274,null,{"$f":"IF(ISBLANK($B278),\"\",LOOKUP($B278,Inscriptions!A$2:A$65496,Inscriptions!B$2:B$65498))","v":""},{"$f":"IF(ISBLANK($B278),\"\",LOOKUP($B278,Inscriptions!A$2:A$65496,Inscriptions!C$2:C$65498))","v":""},{"$f":"IF(ISBLANK($B278),\"\",LOOKUP($B278,Inscriptions!A$2:A$65496,Inscriptions!D$2:D$65498))","v":""},null,null,null,0,0,0,"",""]
[275,null,{"$f":"IF(ISBLANK($B279),\"\",LOOKUP($B279,Inscriptions!A$2:A$65496,Inscriptions!B$2:B$65498))","v":""},{"$f":"IF(ISBLANK($B279),\"\",LOOKUP($B279,Inscriptions!A$2:A$65496,Inscriptions!C$2:C$65498))","v":""},{"$f":"IF(ISBLANK($B279),\"\",LOOKUP($B279,Inscriptions!A$2:A$65496,Inscriptions!D$2:D$65498))","v":""},null,null,null,0,0,0,"",""]
[276,null,{"$f":"IF(ISBLANK($B280),\"\",LOOKUP($B280,Inscriptions!A$2:A$65496,Inscriptions!B$2:B$65498))","v":""},{"$f":"IF(ISBLANK($B280),\"\",LOOKUP($B280,Inscriptions!A$2:A$65496,Inscriptions!C$2:C$65498))","v":""},{"$f":"IF(ISBLANK($B280),\"\",LOOKUP($B280,Inscriptions!A$2:A$65496,Inscriptions!D$2:D$65498))","v":""},null,null,null,0,0,0,"",""]
[277,null,{"$f":"IF(ISBLANK($B281),\"\",LOOKUP($B281,Inscriptions!A$2:A$65496,Inscriptions!B$2:B$65498))","v":""},{"$f":"IF(ISBLANK($B281),\"\",LOOKUP($B281,Inscriptions!A$2:A$65496,Inscriptions!C$2:C$65498))","v":""},{"$f":"IF(ISBLANK($B281),\"\",LOOKUP($B281,Inscriptions!A$2:A$65496,Inscriptions!D$2:D$65498))","v":""},null,null,null,0,0,0,"",""]
[278,null,{"$f":"IF(ISBLANK($B282),\"\",LOOKUP($B282,Inscriptions!A$2:A$65496,Inscriptions!B$2:B$65498))","v":""},{"$f":"IF(ISBLANK($B282),\"\",LOOKUP($B282,Inscriptions!A$2:A$65496,Inscriptions!C$2:C$65498))","v":""},{"$f":"IF(ISBLANK($B282),\"\",LOOKUP($B282,Inscriptions!A$2:A$65496,Inscriptions!D$2:D$65498))","v":""},null,null,null,0,0,0,"",""]
[279,null,{"$f":"IF(ISBLANK($B283),\"\",LOOKUP($B283,Inscriptions!A$2:A$65496,Inscriptions!B$2:B$65498))","v":""},{"$f":"IF(ISBLANK($B283),\"\",LOOKUP($B283,Inscriptions!A$2:A$65496,Inscriptions!C$2:C$65498))","v":""},{"$f":"IF(ISBLANK($B283),\"\",LOOKUP($B283,Inscriptions!A$2:A$65496,Inscriptions!D$2:D$65498))","v":""},null,null,null,0,0,0,"",""]
[280,null,{"$f":"IF(ISBLANK($B284),\"\",LOOKUP($B284,Inscriptions!A$2:A$65496,Inscriptions!B$2:B$65498))","v":""},{"$f":"IF(ISBLANK($B284),\"\",LOOKUP($B284,Inscriptions!A$2:A$65496,Inscriptions!C$2:C$65498))","v":""},{"$f":"IF(ISBLANK($B284),\"\",LOOKUP($B284,Inscriptions!A$2:A$65496,Inscriptions!D$2:D$65498))","v":""},null,null,null,0,0,0,"",""]
[281,null,{"$f":"IF(ISBLANK($B285),\"\",LOOKUP($B285,Inscriptions!A$2:A$65496,Inscriptions!B$2:B$65498))","v":""},{"$f":"IF(ISBLANK($B285),\"\",LOOKUP($B285,Inscriptions!A$2:A$65496,Inscriptions!C$2:C$65498))","v":""},{"$f":"IF(ISBLANK($B285),\"\",LOOKUP($B285,Inscriptions!A$2:A$65496,Inscriptions!D$2:D$65498))","v":""},null,null,null,0,0,0,"",""]
[282,null,{"$f":"IF(ISBLANK($B286),\"\",LOOKUP($B286,Inscriptions!A$2:A$65496,Inscriptions!B$2:B$65498))","v":""},{"$f":"IF(ISBLANK($B286),\"\",LOOKUP($B286,Inscriptions!A$2:A$65496,Inscriptions!C$2:C$65498))","v":""},{"$f":"IF(ISBLANK($B286),\"\",LOOKUP($B286,Inscriptions!A$2:A$65496,Inscriptions!D$2:D$65498))","v":""},null,null,null,0,0,0,"",""]
[283,null,{"$f":"IF(ISBLANK($B287),\"\",LOOKUP($B287,Inscriptions!A$2:A$65496,Inscriptions!B$2:B$65498))","v":""},{"$f":"IF(ISBLANK($B287),\"\",LOOKUP($B287,Inscriptions!A$2:A$65496,Inscriptions!C$2:C$65498))","v":""},{"$f":"IF(ISBLANK($B287),\"\",LOOKUP($B287,Inscriptions!A$2:A$65496,Inscriptions!D$2:D$65498))","v":""},null,null,null,0,0,0,"",""]
[284,null,{"$f":"IF(ISBLANK($B288),\"\",LOOKUP($B288,Inscriptions!A$2:A$65496,Inscriptions!B$2:B$65498))","v":""},{"$f":"IF(ISBLANK($B288),\"\",LOOKUP($B288,Inscriptions!A$2:A$65496,Inscriptions!C$2:C$65498))","v":""},{"$f":"IF(ISBLANK($B288),\"\",LOOKUP($B288,Inscriptions!A$2:A$65496,Inscriptions!D$2:D$65498))","v":""},null,null,null,0,0,0,"",""]
[285,null,{"$f":"IF(ISBLANK($B289),\"\",LOOKUP($B289,Inscriptions!A$2:A$65496,Inscriptions!B$2:B$65498))","v":""},{"$f":"IF(ISBLANK($B289),\"\",LOOKUP($B289,Inscriptions!A$2:A$65496,Inscriptions!C$2:C$65498))","v":""},{"$f":"IF(ISBLANK($B289),\"\",LOOKUP($B289,Inscriptions!A$2:A$65496,Inscriptions!D$2:D$65498))","v":""},null,null,null,0,0,0,"",""]
[286,null,{"$f":"IF(ISBLANK($B290),\"\",LOOKUP($B290,Inscriptions!A$2:A$65496,Inscriptions!B$2:B$65498))","v":""},{"$f":"IF(ISBLANK($B290),\"\",LOOKUP($B290,Inscriptions!A$2:A$65496,Inscriptions!C$2:C$65498))","v":""},{"$f":"IF(ISBLANK($B290),\"\",LOOKUP($B290,Inscriptions!A$2:A$65496,Inscriptions!D$2:D$65498))","v":""},null,null,null,0,0,0,"",""]
[287,null,{"$f":"IF(ISBLANK($B291),\"\",LOOKUP($B291,Inscriptions!A$2:A$65496,Inscriptions!B$2:B$65498))","v":""},{"$f":"IF(ISBLANK($B291),\"\",LOOKUP($B291,Inscriptions!A$2:A$65496,Inscriptions!C$2:C$65498))","v":""},{"$f":"IF(ISBLANK($B291),\"\",LOOKUP($B291,Inscriptions!A$2:A$65496,Inscriptions!D$2:D$65498))","v":""},null,null,null,0,0,0,"",""]
[288,null,{"$f":"IF(ISBLANK($B292),\"\",LOOKUP($B292,Inscriptions!A$2:A$65496,Inscriptions!B$2:B$65498))","v":""},{"$f":"IF(ISBLANK($B292),\"\",LOOKUP($B292,Inscriptions!A$2:A$65496,Inscriptions!C$2:C$65498))","v":""},{"$f":"IF(ISBLANK($B292),\"\",LOOKUP($B292,Inscriptions!A$2:A$65496,Inscriptions!D$2:D$65498))","v":""},null,null,null,0,0,0,"",""]
[289,null,{"$f":"IF(ISBLANK($B293),\"\",LOOKUP($B293,Inscriptions!A$2:A$65496,Inscriptions!B$2:B$65498))","v":""},{"$f":"IF(ISBLANK($B293),\"\",LOOKUP($B293,Inscriptions!A$2:A$65496,Inscriptions!C$2:C$65498))","v":""},{"$f":"IF(ISBLANK($B293),\"\",LOOKUP($B293,Inscriptions!A$2:A$65496,Inscriptions!D$2:D$65498))","v":""},null,null,null,0,0,0,"",""]
[290,null,{"$f":"IF(ISBLANK($B294),\"\",LOOKUP($B294,Inscriptions!A$2:A$65496,Inscriptions!B$2:B$65498))","v":""},{"$f":"IF(ISBLANK($B294),\"\",LOOKUP($B294,Inscriptions!A$2:A$65496,Inscriptions!C$2:C$65498))","v":""},{"$f":"IF(ISBLANK($B294),\"\",LOOKUP($B294,Inscriptions!A$2:A$65496,Inscriptions!D$2:D$65498))","v":""},null,null,null,0,0,0,"",""]
[291,null,{"$f":"IF(ISBLANK($B295),\"\",LOOKUP($B295,Inscriptions!A$2:A$65496,Inscriptions!B$2:B$65498))","v":""},{"$f":"IF(ISBLANK($B295),\"\",LOOKUP($B295,Inscriptions!A$2:A$65496,Inscriptions!C$2:C$65498))","v":""},{"$f":"IF(ISBLANK($B295),\"\",LOOKUP($B295,Inscriptions!A$2:A$65496,Inscriptions!D$2:D$65498))","v":""},null,null,null,0,0,0,"",""]
[292,null,{"$f":"IF(ISBLANK($B296),\"\",LOOKUP($B296,Inscriptions!A$2:A$65496,Inscriptions!B$2:B$65498))","v":""},{"$f":"IF(ISBLANK($B296),\"\",LOOKUP($B296,Inscriptions!A$2:A$65496,Inscriptions!C$2:C$65498))","v":""},{"$f":"IF(ISBLANK($B296),\"\",LOOKUP($B296,Inscriptions!A$2:A$65496,Inscriptions!D$2:D$65498))","v":""},null,null,null,0,0,0,"",""]
[293,null,{"$f":"IF(ISBLANK($B297),\"\",LOOKUP($B297,Inscriptions!A$2:A$65496,Inscriptions!B$2:B$65498))","v":""},{"$f":"IF(ISBLANK($B297),\"\",LOOKUP($B297,Inscriptions!A$2:A$65496,Inscriptions!C$2:C$65498))","v":""},{"$f":"IF(ISBLANK($B297),\"\",LOOKUP($B297,Inscriptions!A$2:A$65496,Inscriptions!D$2:D$65498))","v":""},null,null,null,0,0,0,"",""]
[294,null,{"$f":"IF(ISBLANK($B298),\"\",LOOKUP($B298,Inscriptions!A$2:A$65496,Inscriptions!B$2:B$65498))","v":""},{"$f":"IF(ISBLANK($B298),\"\",LOOKUP($B298,Inscriptions!A$2:A$65496,Inscriptions!C$2:C$65498))","v":""},{"$f":"IF(ISBLANK($B298),\"\",LOOKUP($B298,Inscriptions!A$2:A$65496,Inscriptions!D$2:D$65498))","v":""},null,null,null,0,0,0,"",""]
[295,null,{"$f":"IF(ISBLANK($B299),\"\",LOOKUP($B299,Inscriptions!A$2:A$65496,Inscriptions!B$2:B$65498))","v":""},{"$f":"IF(ISBLANK($B299),\"\",LOOKUP($B299,Inscriptions!A$2:A$65496,Inscriptions!C$2:C$65498))","v":""},{"$f":"IF(ISBLANK($B299),\"\",LOOKUP($B299,Inscriptions!A$2:A$65496,Inscriptions!D$2:D$65498))","v":""},null,null,null,0,0,0,"",""]
[296,null,{"$f":"IF(ISBLANK($B300),\"\",LOOKUP($B300,Inscriptions!A$2:A$65496,Inscriptions!B$2:B$65498))","v":""},{"$f":"IF(ISBLANK($B300),\"\",LOOKUP($B300,Inscriptions!A$2:A$65496,Inscriptions!C$2:C$65498))","v":""},{"$f":"IF(ISBLANK($B300),\"\",LOOKUP($B300,Inscriptions!A$2:A$65496,Inscriptions!D$2:D$65498))","v":""},null,null,null,0,0,0,"",""]
[297,null,{"$f":"IF(ISBLANK($B301),\"\",LOOKUP($B301,Inscriptions!A$2:A$65496,Inscriptions!B$2:B$65498))","v":""},{"$f":"IF(ISBLANK($B301),\"\",LOOKUP($B301,Inscriptions!A$2:A$65496,Inscriptions!C$2:C$65498))","v":""},{"$f":"IF(ISBLANK($B301),\"\",LOOKUP($B301,Inscriptions!A$2:A$65496,Inscriptions!D$2:D$65498))","v":""},null,null,null,0,0,0,"",""]
[298,null,{"$f":"IF(ISBLANK($B302),\"\",LOOKUP($B302,Inscriptions!A$2:A$65496,Inscriptions!B$2:B$65498))","v":""},{"$f":"IF(ISBLANK($B302),\"\",LOOKUP($B302,Inscriptions!A$2:A$65496,Inscriptions!C$2:C$65498))","v":""},{"$f":"IF(ISBLANK($B302),\"\",LOOKUP($B302,Inscriptions!A$2:A$65496,Inscriptions!D$2:D$65498))","v":""},null,null,null,null,null,null,{"$f":"IF((I302+J302+K302)=0,\"\",ROUNDDOWN((L$4/((I302*3600)+(J302*60)+K302))*3.6,2))","v":""},""]
[299,null,{"$f":"IF(ISBLANK($B303),\"\",LOOKUP($B303,Inscriptions!A$2:A$65496,Inscriptions!B$2:B$65498))","v":""},{"$f":"IF(ISBLANK($B303),\"\",LOOKUP($B303,Inscriptions!A$2:A$65496,Inscriptions!C$2:C$65498))","v":""},{"$f":"IF(ISBLANK($B303),\"\",LOOKUP($B303,Inscriptions!A$2:A$65496,Inscriptions!D$2:D$65498))","v":""},null,null,null,null,null,null,"",""]
[300,null,{"$f":"IF(ISBLANK($B304),\"\",LOOKUP($B304,Inscriptions!A$2:A$65496,Inscriptions!B$2:B$65498))","v":""},{"$f":"IF(ISBLANK($B304),\"\",LOOKUP($B304,Inscriptions!A$2:A$65496,Inscriptions!C$2:C$65498))","v":""},{"$f":"IF(ISBLANK($B304),\"\",LOOKUP($B304,Inscriptions!A$2:A$65496,Inscriptions!D$2:D$65498))","v":""},null,null,null,null,null,null,"",""]
[301,null,{"$f":"IF(ISBLANK($B305),\"\",LOOKUP($B305,Inscriptions!A$2:A$65496,Inscriptions!B$2:B$65498))","v":""},{"$f":"IF(ISBLANK($B305),\"\",LOOKUP($B305,Inscriptions!A$2:A$65496,Inscriptions!C$2:C$65498))","v":""},{"$f":"IF(ISBLANK($B305),\"\",LOOKUP($B305,Inscriptions!A$2:A$65496,Inscriptions!D$2:D$65498))","v":""},null,null,null,null,null,null,"",""]
[302,null,{"$f":"IF(ISBLANK($B306),\"\",LOOKUP($B306,Inscriptions!A$2:A$65496,Inscriptions!B$2:B$65498))","v":""},{"$f":"IF(ISBLANK($B306),\"\",LOOKUP($B306,Inscriptions!A$2:A$65496,Inscriptions!C$2:C$65498))","v":""},{"$f":"IF(ISBLANK($B306),\"\",LOOKUP($B306,Inscriptions!A$2:A$65496,Inscriptions!D$2:D$65498))","v":""},null,null,null,null,null,null,"",""]
[303,null,{"$f":"IF(ISBLANK($B307),\"\",LOOKUP($B307,Inscriptions!A$2:A$65496,Inscriptions!B$2:B$65498))","v":""},{"$f":"IF(ISBLANK($B307),\"\",LOOKUP($B307,Inscriptions!A$2:A$65496,Inscriptions!C$2:C$65498))","v":""},{"$f":"IF(ISBLANK($B307),\"\",LOOKUP($B307,Inscriptions!A$2:A$65496,Inscriptions!D$2:D$65498))","v":""},null,null,null,null,null,null,"",""]
[304,null,{"$f":"IF(ISBLANK($B308),\"\",LOOKUP($B308,Inscriptions!A$2:A$65496,Inscriptions!B$2:B$65498))","v":""},{"$f":"IF(ISBLANK($B308),\"\",LOOKUP($B308,Inscriptions!A$2:A$65496,Inscriptions!C$2:C$65498))","v":""},{"$f":"IF(ISBLANK($B308),\"\",LOOKUP($B308,Inscriptions!A$2:A$65496,Inscriptions!D$2:D$65498))","v":""},null,null,null,null,null,null,"",""]
[305,null,{"$f":"IF(ISBLANK($B309),\"\",LOOKUP($B309,Inscriptions!A$2:A$65496,Inscriptions!B$2:B$65498))","v":""},{"$f":"IF(ISBLANK($B309),\"\",LOOKUP($B309,Inscriptions!A$2:A$65496,Inscriptions!C$2:C$65498))","v":""},{"$f":"IF(ISBLANK($B309),\"\",LOOKUP($B309,Inscriptions!A$2:A$65496,Inscriptions!D$2:D$65498))","v":""},null,null,null,null,null,null,"",""]
[306,null,{"$f":"IF(ISBLANK($B310),\"\",LOOKUP($B310,Inscriptions!A$2:A$65496,Inscriptions!B$2:B$65498))","v":""},{"$f":"IF(ISBLANK($B310),\"\",LOOKUP($B310,Inscriptions!A$2:A$65496,Inscriptions!C$2:C$65498))","v":""},{"$f":"IF(ISBLANK($B310),\"\",LOOKUP($B310,Inscriptions!A$2:A$65496,Inscriptions!D$2:D$65498))","v":""},null,null,null,null,null,null,"",""]
[307,null,{"$f":"IF(ISBLANK($B311),\"\",LOOKUP($B311,Inscriptions!A$2:A$65496,Inscriptions!B$2:B$65498))","v":""},{"$f":"IF(ISBLANK($B311),\"\",LOOKUP($B311,Inscriptions!A$2:A$65496,Inscriptions!C$2:C$65498))","v":""},{"$f":"IF(ISBLANK($B311),\"\",LOOKUP($B311,Inscriptions!A$2:A$65496,Inscriptions!D$2:D$65498))","v":""},null,null,null,null,null,null,"",""]
[308,null,{"$f":"IF(ISBLANK($B312),\"\",LOOKUP($B312,Inscriptions!A$2:A$65496,Inscriptions!B$2:B$65498))","v":""},{"$f":"IF(ISBLANK($B312),\"\",LOOKUP($B312,Inscriptions!A$2:A$65496,Inscriptions!C$2:C$65498))","v":""},{"$f":"IF(ISBLANK($B312),\"\",LOOKUP($B312,Inscriptions!A$2:A$65496,Inscriptions!D$2:D$65498))","v":""},null,null,null,null,null,null,"",""]
[309,null,{"$f":"IF(ISBLANK($B313),\"\",LOOKUP($B313,Inscriptions!A$2:A$65496,Inscriptions!B$2:B$65498))","v":""},{"$f":"IF(ISBLANK($B313),\"\",LOOKUP($B313,Inscriptions!A$2:A$65496,Inscriptions!C$2:C$65498))","v":""},{"$f":"IF(ISBLANK($B313),\"\",LOOKUP($B313,Inscriptions!A$2:A$65496,Inscriptions!D$2:D$65498))","v":""},null,null,null,null,null,null,"",""]
[310,null,{"$f":"IF(ISBLANK($B314),\"\",LOOKUP($B314,Inscriptions!A$2:A$65496,Inscriptions!B$2:B$65498))","v":""},{"$f":"IF(ISBLANK($B314),\"\",LOOKUP($B314,Inscriptions!A$2:A$65496,Inscriptions!C$2:C$65498))","v":""},{"$f":"IF(ISBLANK($B314),\"\",LOOKUP($B314,Inscriptions!A$2:A$65496,Inscriptions!D$2:D$65498))","v":""},null,null,null,null,null,null,"",""]
[311,null,{"$f":"IF(ISBLANK($B315),\"\",LOOKUP($B315,Inscriptions!A$2:A$65496,Inscriptions!B$2:B$65498))","v":""},{"$f":"IF(ISBLANK($B315),\"\",LOOKUP($B315,Inscriptions!A$2:A$65496,Inscriptions!C$2:C$65498))","v":""},{"$f":"IF(ISBLANK($B315),\"\",LOOKUP($B315,Inscriptions!A$2:A$65496,Inscriptions!D$2:D$65498))","v":""},null,null,null,null,null,null,"",""]
[312,null,{"$f":"IF(ISBLANK($B316),\"\",LOOKUP($B316,Inscriptions!A$2:A$65496,Inscriptions!B$2:B$65498))","v":""},{"$f":"IF(ISBLANK($B316),\"\",LOOKUP($B316,Inscriptions!A$2:A$65496,Inscriptions!C$2:C$65498))","v":""},{"$f":"IF(ISBLANK($B316),\"\",LOOKUP($B316,Inscriptions!A$2:A$65496,Inscriptions!D$2:D$65498))","v":""},null,null,null,null,null,null,"",""]
[313,null,{"$f":"IF(ISBLANK($B317),\"\",LOOKUP($B317,Inscriptions!A$2:A$65496,Inscriptions!B$2:B$65498))","v":""},{"$f":"IF(ISBLANK($B317),\"\",LOOKUP($B317,Inscriptions!A$2:A$65496,Inscriptions!C$2:C$65498))","v":""},{"$f":"IF(ISBLANK($B317),\"\",LOOKUP($B317,Inscriptions!A$2:A$65496,Inscriptions!D$2:D$65498))","v":""},null,null,null,null,null,null,"",""]
[314,null,{"$f":"IF(ISBLANK($B318),\"\",LOOKUP($B318,Inscriptions!A$2:A$65496,Inscriptions!B$2:B$65498))","v":""},{"$f":"IF(ISBLANK($B318),\"\",LOOKUP($B318,Inscriptions!A$2:A$65496,Inscriptions!C$2:C$65498))","v":""},{"$f":"IF(ISBLANK($B318),\"\",LOOKUP($B318,Inscriptions!A$2:A$65496,Inscriptions!D$2:D$65498))","v":""},null,null,null,null,null,null,"",""]
[315,null,{"$f":"IF(ISBLANK($B319),\"\",LOOKUP($B319,Inscriptions!A$2:A$65496,Inscriptions!B$2:B$65498))","v":""},{"$f":"IF(ISBLANK($B319),\"\",LOOKUP($B319,Inscriptions!A$2:A$65496,Inscriptions!C$2:C$65498))","v":""},{"$f":"IF(ISBLANK($B319),\"\",LOOKUP($B319,Inscriptions!A$2:A$65496,Inscriptions!D$2:D$65498))","v":""},null,null,null,null,null,null,"",""]
[316,null,{"$f":"IF(ISBLANK($B320),\"\",LOOKUP($B320,Inscriptions!A$2:A$65496,Inscriptions!B$2:B$65498))","v":""},{"$f":"IF(ISBLANK($B320),\"\",LOOKUP($B320,Inscriptions!A$2:A$65496,Inscriptions!C$2:C$65498))","v":""},{"$f":"IF(ISBLANK($B320),\"\",LOOKUP($B320,Inscriptions!A$2:A$65496,Inscriptions!D$2:D$65498))","v":""},null,null,null,null,null,null,"",""]
[317,null,{"$f":"IF(ISBLANK($B321),\"\",LOOKUP($B321,Inscriptions!A$2:A$65496,Inscriptions!B$2:B$65498))","v":""},{"$f":"IF(ISBLANK($B321),\"\",LOOKUP($B321,Inscriptions!A$2:A$65496,Inscriptions!C$2:C$65498))","v":""},{"$f":"IF(ISBLANK($B321),\"\",LOOKUP($B321,Inscriptions!A$2:A$65496,Inscriptions!D$2:D$65498))","v":""},null,null,null,null,null,null,"",""]
[318,null,{"$f":"IF(ISBLANK($B322),\"\",LOOKUP($B322,Inscriptions!A$2:A$65496,Inscriptions!B$2:B$65498))","v":""},{"$f":"IF(ISBLANK($B322),\"\",LOOKUP($B322,Inscriptions!A$2:A$65496,Inscriptions!C$2:C$65498))","v":""},{"$f":"IF(ISBLANK($B322),\"\",LOOKUP($B322,Inscriptions!A$2:A$65496,Inscriptions!D$2:D$65498))","v":""},null,null,null,null,null,null,"",""]
[319,null,{"$f":"IF(ISBLANK($B323),\"\",LOOKUP($B323,Inscriptions!A$2:A$65496,Inscriptions!B$2:B$65498))","v":""},{"$f":"IF(ISBLANK($B323),\"\",LOOKUP($B323,Inscriptions!A$2:A$65496,Inscriptions!C$2:C$65498))","v":""},{"$f":"IF(ISBLANK($B323),\"\",LOOKUP($B323,Inscriptions!A$2:A$65496,Inscriptions!D$2:D$65498))","v":""},null,null,null,null,null,null,"",""]
[320,null,{"$f":"IF(ISBLANK($B324),\"\",LOOKUP($B324,Inscriptions!A$2:A$65496,Inscriptions!B$2:B$65498))","v":""},{"$f":"IF(ISBLANK($B324),\"\",LOOKUP($B324,Inscriptions!A$2:A$65496,Inscriptions!C$2:C$65498))","v":""},{"$f":"IF(ISBLANK($B324),\"\",LOOKUP($B324,Inscriptions!A$2:A$65496,Inscriptions!D$2:D$65498))","v":""},null,null,null,null,null,null,"",""]
[321,null,{"$f":"IF(ISBLANK($B325),\"\",LOOKUP($B325,Inscriptions!A$2:A$65496,Inscriptions!B$2:B$65498))","v":""},{"$f":"IF(ISBLANK($B325),\"\",LOOKUP($B325,Inscriptions!A$2:A$65496,Inscriptions!C$2:C$65498))","v":""},{"$f":"IF(ISBLANK($B325),\"\",LOOKUP($B325,Inscriptions!A$2:A$65496,Inscriptions!D$2:D$65498))","v":""},null,null,null,null,null,null,"",""]
[322,null,{"$f":"IF(ISBLANK($B326),\"\",LOOKUP($B326,Inscriptions!A$2:A$65496,Inscriptions!B$2:B$65498))","v":""},{"$f":"IF(ISBLANK($B326),\"\",LOOKUP($B326,Inscriptions!A$2:A$65496,Inscriptions!C$2:C$65498))","v":""},{"$f":"IF(ISBLANK($B326),\"\",LOOKUP($B326,Inscriptions!A$2:A$65496,Inscriptions!D$2:D$65498))","v":""},null,null,null,null,null,null,"",{"$f":"IF(L326=\"\",\"\",\"km/h\")","v":""}]
[323,null,{"$f":"IF(ISBLANK($B327),\"\",LOOKUP($B327,Inscriptions!A$2:A$65496,Inscriptions!B$2:B$65498))","v":""},{"$f":"IF(ISBLANK($B327),\"\",LOOKUP($B327,Inscriptions!A$2:A$65496,Inscriptions!C$2:C$65498))","v":""},{"$f":"IF(ISBLANK($B327),\"\",LOOKUP($B327,Inscriptions!A$2:A$65496,Inscriptions!D$2:D$65498))","v":""},null,null,null,null,null,null,"",""]
[324,null,{"$f":"IF(ISBLANK($B328),\"\",LOOKUP($B328,Inscriptions!A$2:A$65496,Inscriptions!B$2:B$65498))","v":""},{"$f":"IF(ISBLANK($B328),\"\",LOOKUP($B328,Inscriptions!A$2:A$65496,Inscriptions!C$2:C$65498))","v":""},{"$f":"IF(ISBLANK($B328),\"\",LOOKUP($B328,Inscriptions!A$2:A$65496,Inscriptions!D$2:D$65498))","v":""},null,null,null,null,null,null,"",""]
[325,null,{"$f":"IF(ISBLANK($B329),\"\",LOOKUP($B329,Inscriptions!A$2:A$65496,Inscriptions!B$2:B$65498))","v":""},{"$f":"IF(ISBLANK($B329),\"\",LOOKUP($B329,Inscriptions!A$2:A$65496,Inscriptions!C$2:C$65498))","v":""},{"$f":"IF(ISBLANK($B329),\"\",LOOKUP($B329,Inscriptions!A$2:A$65496,Inscriptions!D$2:D$65498))","v":""},null,null,null,null,null,null,"",""]
[326,null,{"$f":"IF(ISBLANK($B330),\"\",LOOKUP($B330,Inscriptions!A$2:A$65496,Inscriptions!B$2:B$65498))","v":""},{"$f":"IF(ISBLANK($B330),\"\",LOOKUP($B330,Inscriptions!A$2:A$65496,Inscriptions!C$2:C$65498))","v":""},{"$f":"IF(ISBLANK($B330),\"\",LOOKUP($B330,Inscriptions!A$2:A$65496,Inscriptions!D$2:D$65498))","v":""},null,null,null,null,null,null,"",""]
[327,null,{"$f":"IF(ISBLANK($B331),\"\",LOOKUP($B331,Inscriptions!A$2:A$65496,Inscriptions!B$2:B$65498))","v":""},{"$f":"IF(ISBLANK($B331),\"\",LOOKUP($B331,Inscriptions!A$2:A$65496,Inscriptions!C$2:C$65498))","v":""},{"$f":"IF(ISBLANK($B331),\"\",LOOKUP($B331,Inscriptions!A$2:A$65496,Inscriptions!D$2:D$65498))","v":""},null,null,null,null,null,null,"",""]
[328,null,{"$f":"IF(ISBLANK($B332),\"\",LOOKUP($B332,Inscriptions!A$2:A$65496,Inscriptions!B$2:B$65498))","v":""},{"$f":"IF(ISBLANK($B332),\"\",LOOKUP($B332,Inscriptions!A$2:A$65496,Inscriptions!C$2:C$65498))","v":""},{"$f":"IF(ISBLANK($B332),\"\",LOOKUP($B332,Inscriptions!A$2:A$65496,Inscriptions!D$2:D$65498))","v":""},null,null,null,null,null,null,"",""]
[329,null,{"$f":"IF(ISBLANK($B333),\"\",LOOKUP($B333,Inscriptions!A$2:A$65496,Inscriptions!B$2:B$65498))","v":""},{"$f":"IF(ISBLANK($B333),\"\",LOOKUP($B333,Inscriptions!A$2:A$65496,Inscriptions!C$2:C$65498))","v":""},{"$f":"IF(ISBLANK($B333),\"\",LOOKUP($B333,Inscriptions!A$2:A$65496,Inscriptions!D$2:D$65498))","v":""},null,null,null,null,null,null,"",""]
[330,null,{"$f":"IF(ISBLANK($B334),\"\",LOOKUP($B334,Inscriptions!A$2:A$65496,Inscriptions!B$2:B$65498))","v":""},{"$f":"IF(ISBLANK($B334),\"\",LOOKUP($B334,Inscriptions!A$2:A$65496,Inscriptions!C$2:C$65498))","v":""},{"$f":"IF(ISBLANK($B334),\"\",LOOKUP($B334,Inscriptions!A$2:A$65496,Inscriptions!D$2:D$65498))","v":""},null,null,null,null,null,null,"",""]
[331,null,{"$f":"IF(ISBLANK($B335),\"\",LOOKUP($B335,Inscriptions!A$2:A$65496,Inscriptions!B$2:B$65498))","v":""},{"$f":"IF(ISBLANK($B335),\"\",LOOKUP($B335,Inscriptions!A$2:A$65496,Inscriptions!C$2:C$65498))","v":""},{"$f":"IF(ISBLANK($B335),\"\",LOOKUP($B335,Inscriptions!A$2:A$65496,Inscriptions!D$2:D$65498))","v":""},null,null,null,null,null,null,"",""]
[332,null,{"$f":"IF(ISBLANK($B336),\"\",LOOKUP($B336,Inscriptions!A$2:A$65496,Inscriptions!B$2:B$65498))","v":""},{"$f":"IF(ISBLANK($B336),\"\",LOOKUP($B336,Inscriptions!A$2:A$65496,Inscriptions!C$2:C$65498))","v":""},{"$f":"IF(ISBLANK($B336),\"\",LOOKUP($B336,Inscriptions!A$2:A$65496,Inscriptions!D$2:D$65498))","v":""},null,null,null,null,null,null,"",""]
[333,null,{"$f":"IF(ISBLANK($B337),\"\",LOOKUP($B337,Inscriptions!A$2:A$65496,Inscriptions!B$2:B$65498))","v":""},{"$f":"IF(ISBLANK($B337),\"\",LOOKUP($B337,Inscriptions!A$2:A$65496,Inscriptions!C$2:C$65498))","v":""},{"$f":"IF(ISBLANK($B337),\"\",LOOKUP($B337,Inscriptions!A$2:A$65496,Inscriptions!D$2:D$65498))","v":""},null,null,null,null,null,null,"",""]
[334,null,{"$f":"IF(ISBLANK($B338),\"\",LOOKUP($B338,Inscriptions!A$2:A$65496,Inscriptions!B$2:B$65498))","v":""},{"$f":"IF(ISBLANK($B338),\"\",LOOKUP($B338,Inscriptions!A$2:A$65496,Inscriptions!C$2:C$65498))","v":""},{"$f":"IF(ISBLANK($B338),\"\",LOOKUP($B338,Inscriptions!A$2:A$65496,Inscriptions!D$2:D$65498))","v":""},null,null,null,null,null,null,"",""]
[335,null,{"$f":"IF(ISBLANK($B339),\"\",LOOKUP($B339,Inscriptions!A$2:A$65496,Inscriptions!B$2:B$65498))","v":""},{"$f":"IF(ISBLANK($B339),\"\",LOOKUP($B339,Inscriptions!A$2:A$65496,Inscriptions!C$2:C$65498))","v":""},{"$f":"IF(ISBLANK($B339),\"\",LOOKUP($B339,Inscriptions!A$2:A$65496,Inscriptions!D$2:D$65498))","v":""},null,null,null,null,null,null,"",""]
[336,null,{"$f":"IF(ISBLANK($B340),\"\",LOOKUP($B340,Inscriptions!A$2:A$65496,Inscriptions!B$2:B$65498))","v":""},{"$f":"IF(ISBLANK($B340),\"\",LOOKUP($B340,Inscriptions!A$2:A$65496,Inscriptions!C$2:C$65498))","v":""},{"$f":"IF(ISBLANK($B340),\"\",LOOKUP($B340,Inscriptions!A$2:A$65496,Inscriptions!D$2:D$65498))","v":""},null,null,null,null,null,null,"",""]
[337,null,{"$f":"IF(ISBLANK($B341),\"\",LOOKUP($B341,Inscriptions!A$2:A$65496,Inscriptions!B$2:B$65498))","v":""},{"$f":"IF(ISBLANK($B341),\"\",LOOKUP($B341,Inscriptions!A$2:A$65496,Inscriptions!C$2:C$65498))","v":""},{"$f":"IF(ISBLANK($B341),\"\",LOOKUP($B341,Inscriptions!A$2:A$65496,Inscriptions!D$2:D$65498))","v":""},null,null,null,null,null,null,"",""]
[338,null,{"$f":"IF(ISBLANK($B342),\"\",LOOKUP($B342,Inscriptions!A$2:A$65496,Inscriptions!B$2:B$65498))","v":""},{"$f":"IF(ISBLANK($B342),\"\",LOOKUP($B342,Inscriptions!A$2:A$65496,Inscriptions!C$2:C$65498))","v":""},{"$f":"IF(ISBLANK($B342),\"\",LOOKUP($B342,Inscriptions!A$2:A$65496,Inscriptions!D$2:D$65498))","v":""},null,null,null,null,null,null,"",""]
[339,null,{"$f":"IF(ISBLANK($B343),\"\",LOOKUP($B343,Inscriptions!A$2:A$65496,Inscriptions!B$2:B$65498))","v":""},{"$f":"IF(ISBLANK($B343),\"\",LOOKUP($B343,Inscriptions!A$2:A$65496,Inscriptions!C$2:C$65498))","v":""},{"$f":"IF(ISBLANK($B343),\"\",LOOKUP($B343,Inscriptions!A$2:A$65496,Inscriptions!D$2:D$65498))","v":""},null,null,null,null,null,null,"",""]
[340,null,{"$f":"IF(ISBLANK($B344),\"\",LOOKUP($B344,Inscriptions!A$2:A$65496,Inscriptions!B$2:B$65498))","v":""},{"$f":"IF(ISBLANK($B344),\"\",LOOKUP($B344,Inscriptions!A$2:A$65496,Inscriptions!C$2:C$65498))","v":""},{"$f":"IF(ISBLANK($B344),\"\",LOOKUP($B344,Inscriptions!A$2:A$65496,Inscriptions!D$2:D$65498))","v":""},null,null,null,null,null,null,"",""]
[341,null,{"$f":"IF(ISBLANK($B345),\"\",LOOKUP($B345,Inscriptions!A$2:A$65496,Inscriptions!B$2:B$65498))","v":""},{"$f":"IF(ISBLANK($B345),\"\",LOOKUP($B345,Inscriptions!A$2:A$65496,Inscriptions!C$2:C$65498))","v":""},{"$f":"IF(ISBLANK($B345),\"\",LOOKUP($B345,Inscriptions!A$2:A$65496,Inscriptions!D$2:D$65498))","v":""},null,null,null,null,null,null,"",""]
[342,null,{"$f":"IF(ISBLANK($B346),\"\",LOOKUP($B346,Inscriptions!A$2:A$65496,Inscriptions!B$2:B$65498))","v":""},{"$f":"IF(ISBLANK($B346),\"\",LOOKUP($B346,Inscriptions!A$2:A$65496,Inscriptions!C$2:C$65498))","v":""},{"$f":"IF(ISBLANK($B346),\"\",LOOKUP($B346,Inscriptions!A$2:A$65496,Inscriptions!D$2:D$65498))","v":""},null,null,null,null,null,null,"",""]
[343,null,{"$f":"IF(ISBLANK($B347),\"\",LOOKUP($B347,Inscriptions!A$2:A$65496,Inscriptions!B$2:B$65498))","v":""},{"$f":"IF(ISBLANK($B347),\"\",LOOKUP($B347,Inscriptions!A$2:A$65496,Inscriptions!C$2:C$65498))","v":""},{"$f":"IF(ISBLANK($B347),\"\",LOOKUP($B347,Inscriptions!A$2:A$65496,Inscriptions!D$2:D$65498))","v":""},null,null,null,null,null,null,"",""]
[344,null,{"$f":"IF(ISBLANK($B348),\"\",LOOKUP($B348,Inscriptions!A$2:A$65496,Inscriptions!B$2:B$65498))","v":""},{"$f":"IF(ISBLANK($B348),\"\",LOOKUP($B348,Inscriptions!A$2:A$65496,Inscriptions!C$2:C$65498))","v":""},{"$f":"IF(ISBLANK($B348),\"\",LOOKUP($B348,Inscriptions!A$2:A$65496,Inscriptions!D$2:D$65498))","v":""},null,null,null,null,null,null,"",""]
[345,null,{"$f":"IF(ISBLANK($B349),\"\",LOOKUP($B349,Inscriptions!A$2:A$65496,Inscriptions!B$2:B$65498))","v":""},{"$f":"IF(ISBLANK($B349),\"\",LOOKUP($B349,Inscriptions!A$2:A$65496,Inscriptions!C$2:C$65498))","v":""},{"$f":"IF(ISBLANK($B349),\"\",LOOKUP($B349,Inscriptions!A$2:A$65496,Inscriptions!D$2:D$65498))","v":""},null,null,null,null,null,null,"",""]
[346,null,{"$f":"IF(ISBLANK($B350),\"\",LOOKUP($B350,Inscriptions!A$2:A$65496,Inscriptions!B$2:B$65498))","v":""},{"$f":"IF(ISBLANK($B350),\"\",LOOKUP($B350,Inscriptions!A$2:A$65496,Inscriptions!C$2:C$65498))","v":""},{"$f":"IF(ISBLANK($B350),\"\",LOOKUP($B350,Inscriptions!A$2:A$65496,Inscriptions!D$2:D$65498))","v":""},null,null,null,null,null,null,"",""]
[347,null,{"$f":"IF(ISBLANK($B351),\"\",LOOKUP($B351,Inscriptions!A$2:A$65496,Inscriptions!B$2:B$65498))","v":""},{"$f":"IF(ISBLANK($B351),\"\",LOOKUP($B351,Inscriptions!A$2:A$65496,Inscriptions!C$2:C$65498))","v":""},{"$f":"IF(ISBLANK($B351),\"\",LOOKUP($B351,Inscriptions!A$2:A$65496,Inscriptions!D$2:D$65498))","v":""},null,null,null,null,null,null,"",""]
[348,null,{"$f":"IF(ISBLANK($B352),\"\",LOOKUP($B352,Inscriptions!A$2:A$65496,Inscriptions!B$2:B$65498))","v":""},{"$f":"IF(ISBLANK($B352),\"\",LOOKUP($B352,Inscriptions!A$2:A$65496,Inscriptions!C$2:C$65498))","v":""},{"$f":"IF(ISBLANK($B352),\"\",LOOKUP($B352,Inscriptions!A$2:A$65496,Inscriptions!D$2:D$65498))","v":""},null,null,null,null,null,null,"",""]
[349,null,{"$f":"IF(ISBLANK($B353),\"\",LOOKUP($B353,Inscriptions!A$2:A$65496,Inscriptions!B$2:B$65498))","v":""},{"$f":"IF(ISBLANK($B353),\"\",LOOKUP($B353,Inscriptions!A$2:A$65496,Inscriptions!C$2:C$65498))","v":""},{"$f":"IF(ISBLANK($B353),\"\",LOOKUP($B353,Inscriptions!A$2:A$65496,Inscriptions!D$2:D$65498))","v":""},null,null,null,null,null,null,"",""]
[350,null,{"$f":"IF(ISBLANK($B354),\"\",LOOKUP($B354,Inscriptions!A$2:A$65496,Inscriptions!B$2:B$65498))","v":""},{"$f":"IF(ISBLANK($B354),\"\",LOOKUP($B354,Inscriptions!A$2:A$65496,Inscriptions!C$2:C$65498))","v":""},{"$f":"IF(ISBLANK($B354),\"\",LOOKUP($B354,Inscriptions!A$2:A$65496,Inscriptions!D$2:D$65498))","v":""},null,null,null,null,null,null,"",""]

{"sheet":"C6 MMOM","index":8,"n_rows":354,"n_cols":13,"rows_kept":354,"cut":false,"hidden":false,"merged":[[0,0,0,7],[1,0,1,7],[2,5,2,6]]}
["CROSS REGIONAL FSGT - STAINS - 18/01/2015"]
["MINIMOUS masculins = 850 mètres"]
[]
["PLACE","DOSSARD","NOM / PRENOM","CAT","CLUB","MMOM","MOM","TEMPS","h","m","s",850,"m"]
[1,2280,{"$f":"IF(ISBLANK($B5),\"\",LOOKUP($B5,Inscriptions!A$2:A$65496,Inscriptions!B$2:B$65498))","v":"BELHIH MEHDI"},{"$f":"IF(ISBLANK($B5),\"\",LOOKUP($B5,Inscriptions!A$2:A$65496,Inscriptions!C$2:C$65498))","v":"MMOM"},{"$f":"IF(ISBLANK($B5),\"\",LOOKUP($B5,Inscriptions!A$2:A$65496,Inscriptions!D$2:D$65498))","v":"VILLEPINTE MA"},1,null,457,{"$f":"ROUNDDOWN(H5/10000,0)","v":0},{"$f":"ROUNDDOWN((H5-I5*10000)/100,0)","v":4},{"$f":"ROUNDDOWN((H5-(I5*10000)-(J5*100)),0)","v":57},{"$f":"IF((I5+J5+K5)=0,\"\",ROUNDDOWN((L$4/((I5*3600)+(J5*60)+K5))*3.6,2))","v":10.3},{"$f":"IF(L5=\"\",\"\",\"km/h\")","v":"km/h"}]
[2,873,{"$f":"IF(ISBLANK($B6),\"\",LOOKUP($B6,Inscriptions!A$2:A$65496,Inscriptions!B$2:B$65498))","v":"NADE NOA"},{"$f":"IF(ISBLANK($B6),\"\",LOOKUP($B6,Inscriptions!A$2:A$65496,Inscriptions!C$2:C$65498))","v":"MMOM"},{"$f":"IF(ISBLANK($B6),\"\",LOOKUP($B6,Inscriptions!A$2:A$65496,Inscriptions!D$2:D$65498))","v":"CS BRETIGNY ATHLETISME"},2,null,457,{"$f":"ROUNDDOWN(H6/10000,0)","v":0},{"$f":"ROUNDDOWN((H6-I6*10000)/100,0)","v":4},{"$f":"ROUNDDOWN((H6-(I6*10000)-(J6*100)),0)","v":57},{"$f":"IF((I6+J6+K6)=0,\"\",ROUNDDOWN((L$4/((I6*3600)+(J6*60)+K6))*3.6,2))","v":10.3},{"$f":"IF(L6=\"\",\"\",\"km/h\")","v":"km/h"}]
[3,1339,{"$f":"IF(ISBLANK($B7),\"\",LOOKUP($B7,Inscriptions!A$2:A$65496,Inscriptions!B$2:B$65498))","v":"BENAMANA NAIM"},{"$f":"IF(ISBLANK($B7),\"\",LOOKUP($B7,Inscriptions!A$2:A$65496,Inscriptions!C$2:C$65498))","v":"MMOM"},{"$f":"IF(ISBLANK($B7),\"\",LOOKUP($B7,Inscriptions!A$2:A$65496,Inscriptions!D$2:D$65498))","v":"NOISY LE SEC ATHLETISME"},3,null,458,0,4,58,10.26,"km/h"]
[4,1166,{"$f":"IF(ISBLANK($B8),\"\",LOOKUP($B8,Inscriptions!A$2:A$65496,Inscriptions!B$2:B$65498))","v":"CATHELINEAU CLEMENT"},{"$f":"IF(ISBLANK($B8),\"\",LOOKUP($B8,Inscriptions!A$2:A$65496,Inscriptions!C$2:C$65498))","v":"MMOM"},{"$f":"IF(ISBLANK($B8),\"\",LOOKUP($B8,Inscriptions!A$2:A$65496,Inscriptions!D$2:D$65498))","v":"ES VITRY"},4,null,459,0,4,59,10.23,"km/h"]
[5,1707,{"$f":"IF(ISBLANK($B9),\"\",LOOKUP($B9,Inscriptions!A$2:A$65496,Inscriptions!B$2:B$65498))","v":"MOULIN-LEGENDRE SWANN"},{"$f":"IF(ISBLANK($B9),\"\",LOOKUP($B9,Inscriptions!A$2:A$65496,Inscriptions!C$2:C$65498))","v":"MMOM"},{"$f":"IF(ISBLANK($B9),\"\",LOOKUP($B9,Inscriptions!A$2:A$65496,Inscriptions!D$2:D$65498))","v":"TREMBLAY AC"},5,null,503,0,5,3,10.09,"km/h"]
[6,2227,{"$f":"IF(ISBLANK($B10),\"\",LOOKUP($B10,Inscriptions!A$2:A$65496,Inscriptions!B$2:B$65498))","v":"CABRERRA ESTEBAN"},{"$f":"IF(ISBLANK($B10),\"\",LOOKUP($B10,Inscriptions!A$2:A$65496,Inscriptions!C$2:C$65498))","v":"MMOM"},{"$f":"IF(ISBLANK($B10),\"\",LOOKUP($B10,Inscriptions!A$2:A$65496,Inscriptions!D$2:D$65498))","v":"USO BEZONS"},6,null,504,0,5,4,10.06,"km/h"]
[7,2321,{"$f":"IF(ISBLANK($B11),\"\",LOOKUP($B11,Inscriptions!A$2:A$65496,Inscriptions!B$2:B$65498))","v":"MEBARKI ISMAEL"},{"$f":"IF(ISBLANK($B11),\"\",LOOKUP($B11,Inscriptions!A$2:A$65496,Inscriptions!C$2:C$65498))","v":"MMOM"},{"$f":"IF(ISBLANK($B11),\"\",LOOKUP($B11,Inscriptions!A$2:A$65496,Inscriptions!D$2:D$65498))","v":"VILLEPINTE MA"},7,null,508,0,5,8,9.93,"km/h"]
[8,1704,{"$f":"IF(ISBLANK($B12),\"\",LOOKUP($B12,Inscriptions!A$2:A$65496,Inscriptions!B$2:B$65498))","v":"MOMBRUNO KERRY"},{"$f":"IF(ISBLANK($B12),\"\",LOOKUP($B12,Inscriptions!A$2:A$65496,Inscriptions!C$2:C$65498))","v":"MMOM"},{"$f":"IF(ISBLANK($B12),\"\",LOOKUP($B12,Inscriptions!A$2:A$65496,Inscriptions!D$2:D$65498))","v":"TREMBLAY AC"},8,null,508,0,5,8,9.93,"km/h"]
[9,948,{"$f":"IF(ISBLANK($B13),\"\",LOOKUP($B13,Inscriptions!A$2:A$65496,Inscriptions!B$2:B$65498))","v":"BREGERE SANDRO"},{"$f":"IF(ISBLANK($B13),\"\",LOOKUP($B13,Inscriptions!A$2:A$65496,Inscriptions!C$2:C$65498))","v":"MMOM"},{"$f":"IF(ISBLANK($B13),\"\",LOOKUP($B13,Inscriptions!A$2:A$65496,Inscriptions!D$2:D$65498))","v":"CSM GENNEVILLIERS"},9,null,510,0,5,10,9.8699999999999992,"km/h"]
[10,1165,{"$f":"IF(ISBLANK($B14),\"\",LOOKUP($B14,Inscriptions!A$2:A$65496,Inscriptions!B$2:B$65498))","v":"CATHELINEAU ALEXIS"},{"$f":"IF(ISBLANK($B14),\"\",LOOKUP($B14,Inscriptions!A$2:A$65496,Inscriptions!C$2:C$65498))","v":"MMOM"},{"$f":"IF(ISBLANK($B14),\"\",LOOKUP($B14,Inscriptions!A$2:A$65496,Inscriptions!D$2:D$65498))","v":"ES VITRY"},10,null,512,0,5,12,9.8000000000000007,"km/h"]
[11,1591,{"$f":"IF(ISBLANK($B15),\"\",LOOKUP($B15,Inscriptions!A$2:A$65496,Inscriptions!B$2:B$65498))","v":"SOUSSI MASSINE"},{"$f":"IF(ISBLANK($B15),\"\",LOOKUP($B15,Inscriptions!A$2:A$65496,Inscriptions!C$2:C$65498))","v":"MMOM"},{"$f":"IF(ISBLANK($B15),\"\",LOOKUP($B15,Inscriptions!A$2:A$65496,Inscriptions!D$2:D$65498))","v":"ST DENIS US"},11,null,514,0,5,14,9.74,"km/h"]
[12,1653,{"$f":"IF(ISBLANK($B16),\"\",LOOKUP($B16,Inscriptions!A$2:A$65496,Inscriptions!B$2:B$65498))","v":"FERKAL NOAM"},{"$f":"IF(ISBLANK($B16),\"\",LOOKUP($B16,Inscriptions!A$2:A$65496,Inscriptions!C$2:C$65498))","v":"MMOM"},{"$f":"IF(ISBLANK($B16),\"\",LOOKUP($B16,Inscriptions!A$2:A$65496,Inscriptions!D$2:D$65498))","v":"TREMBLAY AC"},12,null,515,0,5,15,9.7100000000000009,"km/h"]
[13,1059,{"$f":"IF(ISBLANK($B17),\"\",LOOKUP($B17,Inscriptions!A$2:A$65496,Inscriptions!B$2:B$65498))","v":"CROS SHAWN PHILLIPS"},{"$f":"IF(ISBLANK($B17),\"\",LOOKUP($B17,Inscriptions!A$2:A$65496,Inscriptions!C$2:C$65498))","v":"MMOM"},{"$f":"IF(ISBLANK($B17),\"\",LOOKUP($B17,Inscriptions!A$2:A$65496,Inscriptions!D$2:D$65498))","v":"ES STAINS"},13,null,522,0,5,22,9.5,"km/h"]
[14,1046,{"$f":"IF(ISBLANK($B18),\"\",LOOKUP($B18,Inscriptions!A$2:A$65496,Inscriptions!B$2:B$65498))","v":"BOURRIQUIS DAYVEN"},{"$f":"IF(ISBLANK($B18),\"\",LOOKUP($B18,Inscriptions!A$2:A$65496,Inscriptions!C$2:C$65498))","v":"MMOM"},{"$f":"IF(ISBLANK($B18),\"\",LOOKUP($B18,Inscriptions!A$2:A$65496,Inscriptions!D$2:D$65498))","v":"ES STAINS"},14,null,527,0,5,27,9.35,"km/h"]
[15,901,{"$f":"IF(ISBLANK($B19),\"\",LOOKUP($B19,Inscriptions!A$2:A$65496,Inscriptions!B$2:B$65498))","v":"PROTEAU PAUL"},{"$f":"IF(ISBLANK($B19),\"\",LOOKUP($B19,Inscriptions!A$2:A$65496,Inscriptions!C$2:C$65498))","v":"MMOM"},{"$f":"IF(ISBLANK($B19),\"\",LOOKUP($B19,Inscriptions!A$2:A$65496,Inscriptions!D$2:D$65498))","v":"CS BRETIGNY ATHLETISME"},15,null,528,0,5,28,9.32,"km/h"]
[16,1213,{"$f":"IF(ISBLANK($B20),\"\",LOOKUP($B20,Inscriptions!A$2:A$65496,Inscriptions!B$2:B$65498))","v":"JEUFFRAIN DARELL"},{"$f":"IF(ISBLANK($B20),\"\",LOOKUP($B20,Inscriptions!A$2:A$65496,Inscriptions!C$2:C$65498))","v":"MMOM"},{"$f":"IF(ISBLANK($B20),\"\",LOOKUP($B20,Inscriptions!A$2:A$65496,Inscriptions!D$2:D$65498))","v":"ES VITRY"},16,null,544,0,5,44,8.89,"km/h"]
[17,1158,{"$f":"IF(ISBLANK($B21),\"\",LOOKUP($B21,Inscriptions!A$2:A$65496,Inscriptions!B$2:B$65498))","v":"BLEZIN DORINE"},{"$f":"IF(ISBLANK($B21),\"\",LOOKUP($B21,Inscriptions!A$2:A$65496,Inscriptions!C$2:C$65498))","v":"MMOF"},{"$f":"IF(ISBLANK($B21),\"\",LOOKUP($B21,Inscriptions!A$2:A$65496,Inscriptions!D$2:D$65498))","v":"ES VITRY"},null,null,548,0,5,48,8.7899999999999991,"km/h"]
[18,1947,{"$f":"IF(ISBLANK($B22),\"\",LOOKUP($B22,Inscriptions!A$2:A$65496,Inscriptions!B$2:B$65498))","v":"SOULIE TOM"},{"$f":"IF(ISBLANK($B22),\"\",LOOKUP($B22,Inscriptions!A$2:A$65496,Inscriptions!C$2:C$65498))","v":"MMOM"},{"$f":"IF(ISBLANK($B22),\"\",LOOKUP($B22,Inscriptions!A$2:A$65496,Inscriptions!D$2:D$65498))","v":"US IVRY"},17,null,554,0,5,54,8.64,"km/h"]
[19,29,{"$f":"IF(ISBLANK($B23),\"\",LOOKUP($B23,Inscriptions!A$2:A$65496,Inscriptions!B$2:B$65498))","v":"GALLEZE THAMILA"},{"$f":"IF(ISBLANK($B23),\"\",LOOKUP($B23,Inscriptions!A$2:A$65496,Inscriptions!C$2:C$65498))","v":"MMOF"},{"$f":"IF(ISBLANK($B23),\"\",LOOKUP($B23,Inscriptions!A$2:A$65496,Inscriptions!D$2:D$65498))","v":"AC BOBIGNY"},null,null,556,0,5,56,8.59,"km/h"]
[20,2105,{"$f":"IF(ISBLANK($B24),\"\",LOOKUP($B24,Inscriptions!A$2:A$65496,Inscriptions!B$2:B$65498))","v":"PAROT TOM"},{"$f":"IF(ISBLANK($B24),\"\",LOOKUP($B24,Inscriptions!A$2:A$65496,Inscriptions!C$2:C$65498))","v":"MMOM"},{"$f":"IF(ISBLANK($B24),\"\",LOOKUP($B24,Inscriptions!A$2:A$65496,Inscriptions!D$2:D$65498))","v":"US VIGNEUX"},18,null,600,0,6,0,8.5,"km/h"]
[21,116,{"$f":"IF(ISBLANK($B25),\"\",LOOKUP($B25,Inscriptions!A$2:A$65496,Inscriptions!B$2:B$65498))","v":"JAEGER LUCAS"},{"$f":"IF(ISBLANK($B25),\"\",LOOKUP($B25,Inscriptions!A$2:A$65496,Inscriptions!C$2:C$65498))","v":"MMOM"},{"$f":"IF(ISBLANK($B25),\"\",LOOKUP($B25,Inscriptions!A$2:A$65496,Inscriptions!D$2:D$65498))","v":"ACM AUBERVILLIERS"},19,null,605,0,6,5,8.3800000000000008,"km/h"]
[22,141,{"$f":"IF(ISBLANK($B26),\"\",LOOKUP($B26,Inscriptions!A$2:A$65496,Inscriptions!B$2:B$65498))","v":"ZIDANI ILAN"},{"$f":"IF(ISBLANK($B26),\"\",LOOKUP($B26,Inscriptions!A$2:A$65496,Inscriptions!C$2:C$65498))","v":"MMOM"},{"$f":"IF(ISBLANK($B26),\"\",LOOKUP($B26,Inscriptions!A$2:A$65496,Inscriptions!D$2:D$65498))","v":"ACM AUBERVILLIERS"},20,null,607,0,6,7,8.33,"km/h"]
[23,2279,{"$f":"IF(ISBLANK($B27),\"\",LOOKUP($B27,Inscriptions!A$2:A$65496,Inscriptions!B$2:B$65498))","v":"BARBOSA LONY"},{"$f":"IF(ISBLANK($B27),\"\",LOOKUP($B27,Inscriptions!A$2:A$65496,Inscriptions!C$2:C$65498))","v":"MMOM"},{"$f":"IF(ISBLANK($B27),\"\",LOOKUP($B27,Inscriptions!A$2:A$65496,Inscriptions!D$2:D$65498))","v":"VILLEPINTE MA"},21,null,607,0,6,7,8.33,"km/h"]
[24,2314,{"$f":"IF(ISBLANK($B28),\"\",LOOKUP($B28,Inscriptions!A$2:A$65496,Inscriptions!B$2:B$65498))","v":"HOCINE AHMED"},{"$f":"IF(ISBLANK($B28),\"\",LOOKUP($B28,Inscriptions!A$2:A$65496,Inscriptions!C$2:C$65498))","v":"MMOM"},{"$f":"IF(ISBLANK($B28),\"\",LOOKUP($B28,Inscriptions!A$2:A$65496,Inscriptions!D$2:D$65498))","v":"VILLEPINTE MA"},22,null,609,0,6,9,8.2899999999999991,"km/h"]
[25,83,{"$f":"IF(ISBLANK($B29),\"\",LOOKUP($B29,Inscriptions!A$2:A$65496,Inscriptions!B$2:B$65498))","v":"BUTON CLEMENT"},{"$f":"IF(ISBLANK($B29),\"\",LOOKUP($B29,Inscriptions!A$2:A$65496,Inscriptions!C$2:C$65498))","v":"MMOM"},{"$f":"IF(ISBLANK($B29),\"\",LOOKUP($B29,Inscriptions!A$2:A$65496,Inscriptions!D$2:D$65498))","v":"ACM AUBERVILLIERS"},23,null,611,0,6,11,8.24,"km/h"]
[26,1176,{"$f":"IF(ISBLANK($B30),\"\",LOOKUP($B30,Inscriptions!A$2:A$65496,Inscriptions!B$2:B$65498))","v":"CORPORON LEO"},{"$f":"IF(ISBLANK($B30),\"\",LOOKUP($B30,Inscriptions!A$2:A$65496,Inscriptions!C$2:C$65498))","v":"MMOM"},{"$f":"IF(ISBLANK($B30),\"\",LOOKUP($B30,Inscriptions!A$2:A$65496,Inscriptions!D$2:D$65498))","v":"ES VITRY"},24,null,612,0,6,12,8.2200000000000006,"km/h"]
[27,1208,{"$f":"IF(ISBLANK($B31),\"\",LOOKUP($B31,Inscriptions!A$2:A$65496,Inscriptions!B$2:B$65498))","v":"HANAÏZI ANIS"},{"$f":"IF(ISBLANK($B31),\"\",LOOKUP($B31,Inscriptions!A$2:A$65496,Inscriptions!C$2:C$65498))","v":"MMOM"},{"$f":"IF(ISBLANK($B31),\"\",LOOKUP($B31,Inscriptions!A$2:A$65496,Inscriptions!D$2:D$65498))","v":"ES VITRY"},25,null,629,0,6,29,7.86,"km/h"]
[28,null,{"$f":"IF(ISBLANK($B32),\"\",LOOKUP($B32,Inscriptions!A$2:A$65496,Inscriptions!B$2:B$65498))","v":""},{"$f":"IF(ISBLANK($B32),\"\",LOOKUP($B32,Inscriptions!A$2:A$65496,Inscriptions!C$2:C$65498))","v":""},{"$f":"IF(ISBLANK($B32),\"\",LOOKUP($B32,Inscriptions!A$2:A$65496,Inscriptions!D$2:D$65498))","v":""},null,null,null,0,0,0,"",""]
[29,null,{"$f":"IF(ISBLANK($B33),\"\",LOOKUP($B33,Inscriptions!A$2:A$65496,Inscriptions!B$2:B$65498))","v":""},{"$f":"IF(ISBLANK($B33),\"\",LOOKUP($B33,Inscriptions!A$2:A$65496,Inscriptions!C$2:C$65498))","v":""},{"$f":"IF(ISBLANK($B33),\"\",LOOKUP($B33,Inscriptions!A$2:A$65496,Inscriptions!D$2:D$65498))","v":""},null,null,null,0,0,0,"",""]
[30,null,{"$f":"IF(ISBLANK($B34),\"\",LOOKUP($B34,Inscriptions!A$2:A$65496,Inscriptions!B$2:B$65498))","v":""},{"$f":"IF(ISBLANK($B34),\"\",LOOKUP($B34,Inscriptions!A$2:A$65496,Inscriptions!C$2:C$65498))","v":""},{"$f":"IF(ISBLANK($B34),\"\",LOOKUP($B34,Inscriptions!A$2:A$65496,Inscriptions!D$2:D$65498))","v":""},null,null,null,0,0,0,"",""]
[31,null,{"$f":"IF(ISBLANK($B35),\"\",LOOKUP($B35,Inscriptions!A$2:A$65496,Inscriptions!B$2:B$65498))","v":""},{"$f":"IF(ISBLANK($B35),\"\",LOOKUP($B35,Inscriptions!A$2:A$65496,Inscriptions!C$2:C$65498))","v":""},{"$f":"IF(ISBLANK($B35),\"\",LOOKUP($B35,Inscriptions!A$2:A$65496,Inscriptions!D$2:D$65498))","v":""},null,null,null,0,0,0,"",""]
[32,null,{"$f":"IF(ISBLANK($B36),\"\",LOOKUP($B36,Inscriptions!A$2:A$65496,Inscriptions!B$2:B$65498))","v":""},{"$f":"IF(ISBLANK($B36),\"\",LOOKUP($B36,Inscriptions!A$2:A$65496,Inscriptions!C$2:C$65498))","v":""},{"$f":"IF(ISBLANK($B36),\"\",LOOKUP($B36,Inscriptions!A$2:A$65496,Inscriptions!D$2:D$65498))","v":""},null,null,null,0,0,0,"",""]
[33,null,{"$f":"IF(ISBLANK($B37),\"\",LOOKUP($B37,Inscriptions!A$2:A$65496,Inscriptions!B$2:B$65498))","v":""},{"$f":"IF(ISBLANK($B37),\"\",LOOKUP($B37,Inscriptions!A$2:A$65496,Inscriptions!C$2:C$65498))","v":""},{"$f":"IF(ISBLANK($B37),\"\",LOOKUP($B37,Inscriptions!A$2:A$65496,Inscriptions!D$2:D$65498))","v":""},null,null,null,0,0,0,"",""]
[34,null,{"$f":"IF(ISBLANK($B38),\"\",LOOKUP($B38,Inscriptions!A$2:A$65496,Inscriptions!B$2:B$65498))","v":""},{"$f":"IF(ISBLANK($B38),\"\",LOOKUP($B38,Inscriptions!A$2:A$65496,Inscriptions!C$2:C$65498))","v":""},{"$f":"IF(ISBLANK($B38),\"\",LOOKUP($B38,Inscriptions!A$2:A$65496,Inscriptions!D$2:D$65498))","v":""},null,null,null,0,0,0,"",""]
[35,null,{"$f":"IF(ISBLANK($B39),\"\",LOOKUP($B39,Inscriptions!A$2:A$65496,Inscriptions!B$2:B$65498))","v":""},{"$f":"IF(ISBLANK($B39),\"\",LOOKUP($B39,Inscriptions!A$2:A$65496,Inscriptions!C$2:C$65498))","v":""},{"$f":"IF(ISBLANK($B39),\"\",LOOKUP($B39,Inscriptions!A$2:A$65496,Inscriptions!D$2:D$65498))","v":""},null,null,null,0,0,0,"",""]
[36,null,{"$f":"IF(ISBLANK($B40),\"\",LOOKUP($B40,Inscriptions!A$2:A$65496,Inscriptions!B$2:B$65498))","v":""},{"$f":"IF(ISBLANK($B40),\"\",LOOKUP($B40,Inscriptions!A$2:A$65496,Inscriptions!C$2:C$65498))","v":""},{"$f":"IF(ISBLANK($B40),\"\",LOOKUP($B40,Inscriptions!A$2:A$65496,Inscriptions!D$2:D$65498))","v":""},null,null,null,0,0,0,"",""]
[37,null,{"$f":"IF(ISBLANK($B41),\"\",LOOKUP($B41,Inscriptions!A$2:A$65496,Inscriptions!B$2:B$65498))","v":""},{"$f":"IF(ISBLANK($B41),\"\",LOOKUP($B41,Inscriptions!A$2:A$65496,Inscriptions!C$2:C$65498))","v":""},{"$f":"IF(ISBLANK($B41),\"\",LOOKUP($B41,Inscriptions!A$2:A$65496,Inscriptions!D$2:D$65498))","v":""},null,null,null,0,0,0,"",""]
[38,null,{"$f":"IF(ISBLANK($B42),\"\",LOOKUP($B42,Inscriptions!A$2:A$65496,Inscriptions!B$2:B$65498))","v":""},{"$f":"IF(ISBLANK($B42),\"\",LOOKUP($B42,Inscriptions!A$2:A$65496,Inscriptions!C$2:C$65498))","v":""},{"$f":"IF(ISBLANK($B42),\"\",LOOKUP($B42,Inscriptions!A$2:A$65496,Inscriptions!D$2:D$65498))","v":""},null,null,null,0,0,0,"",""]
[39,null,{"$f":"IF(ISBLANK($B43),\"\",LOOKUP($B43,Inscriptions!A$2:A$65496,Inscriptions!B$2:B$65498))","v":""},{"$f":"IF(ISBLANK($B43),\"\",LOOKUP($B43,Inscriptions!A$2:A$65496,Inscriptions!C$2:C$65498))","v":""},{"$f":"IF(ISBLANK($B43),\"\",LOOKUP($B43,Inscriptions!A$2:A$65496,Inscriptions!D$2:D$65498))","v":""},null,null,null,0,0,0,"",""]
[40,null,{"$f":"IF(ISBLANK($B44),\"\",LOOKUP($B44,Inscriptions!A$2:A$65496,Inscriptions!B$2:B$65498))","v":""},{"$f":"IF(ISBLANK($B44),\"\",LOOKUP($B44,Inscriptions!A$2:A$65496,Inscriptions!C$2:C$65498))","v":""},{"$f":"IF(ISBLANK($B44),\"\",LOOKUP($B44,Inscriptions!A$2:A$65496,Inscriptions!D$2:D$65498))","v":""},null,null,null,0,0,0,"",""]
[41,null,{"$f":"IF(ISBLANK($B45),\"\",LOOKUP($B45,Inscriptions!A$2:A$65496,Inscriptions!B$2:B$65498))","v":""},{"$f":"IF(ISBLANK($B45),\"\",LOOKUP($B45,Inscriptions!A$2:A$65496,Inscriptions!C$2:C$65498))","v":""},{"$f":"IF(ISBLANK($B45),\"\",LOOKUP($B45,Inscriptions!A$2:A$65496,Inscriptions!D$2:D$65498))","v":""},null,null,null,0,0,0,"",""]
[42,null,{"$f":"IF(ISBLANK($B46),\"\",LOOKUP($B46,Inscriptions!A$2:A$65496,Inscriptions!B$2:B$65498))","v":""},{"$f":"IF(ISBLANK($B46),\"\",LOOKUP($B46,Inscriptions!A$2:A$65496,Inscriptions!C$2:C$65498))","v":""},{"$f":"IF(ISBLANK($B46),\"\",LOOKUP($B46,Inscriptions!A$2:A$65496,Inscriptions!D$2:D$65498))","v":""},null,null,null,0,0,0,"",""]
[43,null,{"$f":"IF(ISBLANK($B47),\"\",LOOKUP($B47,Inscriptions!A$2:A$65496,Inscriptions!B$2:B$65498))","v":""},{"$f":"IF(ISBLANK($B47),\"\",LOOKUP($B47,Inscriptions!A$2:A$65496,Inscriptions!C$2:C$65498))","v":""},{"$f":"IF(ISBLANK($B47),\"\",LOOKUP($B47,Inscriptions!A$2:A$65496,Inscriptions!D$2:D$65498))","v":""},null,null,null,0,0,0,"",""]
[44,null,{"$f":"IF(ISBLANK($B48),\"\",LOOKUP($B48,Inscriptions!A$2:A$65496,Inscriptions!B$2:B$65498))","v":""},{"$f":"IF(ISBLANK($B48),\"\",LOOKUP($B48,Inscriptions!A$2:A$65496,Inscriptions!C$2:C$65498))","v":""},{"$f":"IF(ISBLANK($B48),\"\",LOOKUP($B48,Inscriptions!A$2:A$65496,Inscriptions!D$2:D$65498))","v":""},null,null,null,0,0,0,"",""]
[45,null,{"$f":"IF(ISBLANK($B49),\"\",LOOKUP($B49,Inscriptions!A$2:A$65496,Inscriptions!B$2:B$65498))","v":""},{"$f":"IF(ISBLANK($B49),\"\",LOOKUP($B49,Inscriptions!A$2:A$65496,Inscriptions!C$2:C$65498))","v":""},{"$f":"IF(ISBLANK($B49),\"\",LOOKUP($B49,Inscriptions!A$2:A$65496,Inscriptions!D$2:D$65498))","v":""},null,null,null,0,0,0,"",""]
[46,null,{"$f":"IF(ISBLANK($B50),\"\",LOOKUP($B50,Inscriptions!A$2:A$65496,Inscriptions!B$2:B$65498))","v":""},{"$f":"IF(ISBLANK($B50),\"\",LOOKUP($B50,Inscriptions!A$2:A$65496,Inscriptions!C$2:C$65498))","v":""},{"$f":"IF(ISBLANK($B50),\"\",LOOKUP($B50,Inscriptions!A$2:A$65496,Inscriptions!D$2:D$65498))","v":""},null,null,null,0,0,0,"",""]
[47,null,{"$f":"IF(ISBLANK($B51),\"\",LOOKUP($B51,Inscriptions!A$2:A$65496,Inscriptions!B$2:B$65498))","v":""},{"$f":"IF(ISBLANK($B51),\"\",LOOKUP($B51,Inscriptions!A$2:A$65496,Inscriptions!C$2:C$65498))","v":""},{"$f":"IF(ISBLANK($B51),\"\",LOOKUP($B51,Inscriptions!A$2:A$65496,Inscriptions!D$2:D$65498))","v":""},null,null,null,0,0,0,"",""]
[48,null,{"$f":"IF(ISBLANK($B52),\"\",LOOKUP($B52,Inscriptions!A$2:A$65496,Inscriptions!B$2:B$65498))","v":""},{"$f":"IF(ISBLANK($B52),\"\",LOOKUP($B52,Inscriptions!A$2:A$65496,Inscriptions!C$2:C$65498))","v":""},{"$f":"IF(ISBLANK($B52),\"\",LOOKUP($B52,Inscriptions!A$2:A$65496,Inscriptions!D$2:D$65498))","v":""},null,null,null,0,0,0,"",""]
[49,null,{"$f":"IF(ISBLANK($B53),\"\",LOOKUP($B53,Inscriptions!A$2:A$65496,Inscriptions!B$2:B$65498))","v":""},{"$f":"IF(ISBLANK($B53),\"\",LOOKUP($B53,Inscriptions!A$2:A$65496,Inscriptions!C$2:C$65498))","v":""},{"$f":"IF(ISBLANK($B53),\"\",LOOKUP($B53,Inscriptions!A$2:A$65496,Inscriptions!D$2:D$65498))","v":""},null,null,null,0,0,0,"",""]
[50,null,{"$f":"IF(ISBLANK($B54),\"\",LOOKUP($B54,Inscriptions!A$2:A$65496,Inscriptions!B$2:B$65498))","v":""},{"$f":"IF(ISBLANK($B54),\"\",LOOKUP($B54,Inscriptions!A$2:A$65496,Inscriptions!C$2:C$65498))","v":""},{"$f":"IF(ISBLANK($B54),\"\",LOOKUP($B54,Inscriptions!A$2:A$65496,Inscriptions!D$2:D$65498))","v":""},null,null,null,0,0,0,"",""]
[51,null,{"$f":"IF(ISBLANK($B55),\"\",LOOKUP($B55,Inscriptions!A$2:A$65496,Inscriptions!B$2:B$65498))","v":""},{"$f":"IF(ISBLANK($B55),\"\",LOOKUP($B55,Inscriptions!A$2:A$65496,Inscriptions!C$2:C$65498))","v":""},{"$f":"IF(ISBLANK($B55),\"\",LOOKUP($B55,Inscriptions!A$2:A$65496,Inscriptions!D$2:D$65498))","v":""},null,null,null,0,0,0,"",""]
[52,null,{"$f":"IF(ISBLANK($B56),\"\",LOOKUP($B56,Inscriptions!A$2:A$65496,Inscriptions!B$2:B$65498))","v":""},{"$f":"IF(ISBLANK($B56),\"\",LOOKUP($B56,Inscriptions!A$2:A$65496,Inscriptions!C$2:C$65498))","v":""},{"$f":"IF(ISBLANK($B56),\"\",LOOKUP($B56,Inscriptions!A$2:A$65496,Inscriptions!D$2:D$65498))","v":""},null,null,null,0,0,0,"",""]
[53,null,{"$f":"IF(ISBLANK($B57),\"\",LOOKUP($B57,Inscriptions!A$2:A$65496,Inscriptions!B$2:B$65498))","v":""},{"$f":"IF(ISBLANK($B57),\"\",LOOKUP($B57,Inscriptions!A$2:A$65496,Inscriptions!C$2:C$65498))","v":""},{"$f":"IF(ISBLANK($B57),\"\",LOOKUP($B57,Inscriptions!A$2:A$65496,Inscriptions!D$2:D$65498))","v":""},null,null,null,0,0,0,"",""]
[54,null,{"$f":"IF(ISBLANK($B58),\"\",LOOKUP($B58,Inscriptions!A$2:A$65496,Inscriptions!B$2:B$65498))","v":""},{"$f":"IF(ISBLANK($B58),\"\",LOOKUP($B58,Inscriptions!A$2:A$65496,Inscriptions!C$2:C$65498))","v":""},{"$f":"IF(ISBLANK($B58),\"\",LOOKUP($B58,Inscriptions!A$2:A$65496,Inscriptions!D$2:D$65498))","v":""},null,null,null,0,0,0,"",""]
[55,null,{"$f":"IF(ISBLANK($B59),\"\",LOOKUP($B59,Inscriptions!A$2:A$65496,Inscriptions!B$2:B$65498))","v":""},{"$f":"IF(ISBLANK($B59),\"\",LOOKUP($B59,Inscriptions!A$2:A$65496,Inscriptions!C$2:C$65498))","v":""},{"$f":"IF(ISBLANK($B59),\"\",LOOKUP($B59,Inscriptions!A$2:A$65496,Inscriptions!D$2:D$65498))","v":""},null,null,null,0,0,0,"",""]
[56,null,{"$f":"IF(ISBLANK($B60),\"\",LOOKUP($B60,Inscriptions!A$2:A$65496,Inscriptions!B$2:B$65498))","v":""},{"$f":"IF(ISBLANK($B60),\"\",LOOKUP($B60,Inscriptions!A$2:A$65496,Inscriptions!C$2:C$65498))","v":""},{"$f":"IF(ISBLANK($B60),\"\",LOOKUP($B60,Inscriptions!A$2:A$65496,Inscriptions!D$2:D$65498))","v":""},null,null,null,0,0,0,"",""]
[57,null,{"$f":"IF(ISBLANK($B61),\"\",LOOKUP($B61,Inscriptions!A$2:A$65496,Inscriptions!B$2:B$65498))","v":""},{"$f":"IF(ISBLANK($B61),\"\",LOOKUP($B61,Inscriptions!A$2:A$65496,Inscriptions!C$2:C$65498))","v":""},{"$f":"IF(ISBLANK($B61),\"\",LOOKUP($B61,Inscriptions!A$2:A$65496,Inscriptions!D$2:D$65498))","v":""},null,null,null,0,0,0,"",""]
[58,null,{"$f":"IF(ISBLANK($B62),\"\",LOOKUP($B62,Inscriptions!A$2:A$65496,Inscriptions!B$2:B$65498))","v":""},{"$f":"IF(ISBLANK($B62),\"\",LOOKUP($B62,Inscriptions!A$2:A$65496,Inscriptions!C$2:C$65498))","v":""},{"$f":"IF(ISBLANK($B62),\"\",LOOKUP($B62,Inscriptions!A$2:A$65496,Inscriptions!D$2:D$65498))","v":""},null,null,null,0,0,0,"",""]
[59,null,{"$f":"IF(ISBLANK($B63),\"\",LOOKUP($B63,Inscriptions!A$2:A$65496,Inscriptions!B$2:B$65498))","v":""},{"$f":"IF(ISBLANK($B63),\"\",LOOKUP($B63,Inscriptions!A$2:A$65496,Inscriptions!C$2:C$65498))","v":""},{"$f":"IF(ISBLANK($B63),\"\",LOOKUP($B63,Inscriptions!A$2:A$65496,Inscriptions!D$2:D$65498))","v":""},null,null,null,0,0,0,"",""]
[60,null,{"$f":"IF(ISBLANK($B64),\"\",LOOKUP($B64,Inscriptions!A$2:A$65496,Inscriptions!B$2:B$65498))","v":""},{"$f":"IF(ISBLANK($B64),\"\",LOOKUP($B64,Inscriptions!A$2:A$65496,Inscriptions!C$2:C$65498))","v":""},{"$f":"IF(ISBLANK($B64),\"\",LOOKUP($B64,Inscriptions!A$2:A$65496,Inscriptions!D$2:D$65498))","v":""},null,null,null,0,0,0,"",""]
[61,null,{"$f":"IF(ISBLANK($B65),\"\",LOOKUP($B65,Inscriptions!A$2:A$65496,Inscriptions!B$2:B$65498))","v":""},{"$f":"IF(ISBLANK($B65),\"\",LOOKUP($B65,Inscriptions!A$2:A$65496,Inscriptions!C$2:C$65498))","v":""},{"$f":"IF(ISBLANK($B65),\"\",LOOKUP($B65,Inscriptions!A$2:A$65496,Inscriptions!D$2:D$65498))","v":""},null,null,null,0,0,0,"",""]
[62,null,{"$f":"IF(ISBLANK($B66),\"\",LOOKUP($B66,Inscriptions!A$2:A$65496,Inscriptions!B$2:B$65498))","v":""},{"$f":"IF(ISBLANK($B66),\"\",LOOKUP($B66,Inscriptions!A$2:A$65496,Inscriptions!C$2:C$65498))","v":""},{"$f":"IF(ISBLANK($B66),\"\",LOOKUP($B66,Inscriptions!A$2:A$65496,Inscriptions!D$2:D$65498))","v":""},null,null,null,0,0,0,"",""]
[63,null,{"$f":"IF(ISBLANK($B67),\"\",LOOKUP($B67,Inscriptions!A$2:A$65496,Inscriptions!B$2:B$65498))","v":""},{"$f":"IF(ISBLANK($B67),\"\",LOOKUP($B67,Inscriptions!A$2:A$65496,Inscriptions!C$2:C$65498))","v":""},{"$f":"IF(ISBLANK($B67),\"\",LOOKUP($B67,Inscriptions!A$2:A$65496,Inscriptions!D$2:D$65498))","v":""},null,null,null,0,0,0,"",""]
[64,null,{"$f":"IF(ISBLANK($B68),\"\",LOOKUP($B68,Inscriptions!A$2:A$65496,Inscriptions!B$2:B$65498))","v":""},{"$f":"IF(ISBLANK($B68),\"\",LOOKUP($B68,Inscriptions!A$2:A$65496,Inscriptions!C$2:C$65498))","v":""},{"$f":"IF(ISBLANK($B68),\"\",LOOKUP($B68,Inscriptions!A$2:A$65496,Inscriptions!D$2:D$65498))","v":""},null,null,null,0,0,0,"",""]
[65,null,{"$f":"IF(ISBLANK($B69),\"\",LOOKUP($B69,Inscriptions!A$2:A$65496,Inscriptions!B$2:B$65498))","v":""},{"$f":"IF(ISBLANK($B69),\"\",LOOKUP($B69,Inscriptions!A$2:A$65496,Inscriptions!C$2:C$65498))","v":""},{"$f":"IF(ISBLANK($B69),\"\",LOOKUP($B69,Inscriptions!A$2:A$65496,Inscriptions!D$2:D$65498))","v":""},null,null,null,0,0,0,"",""]
[66,null,{"$f":"IF(ISBLANK($B70),\"\",LOOKUP($B70,Inscriptions!A$2:A$65496,Inscriptions!B$2:B$65498))","v":""},{"$f":"IF(ISBLANK($B70),\"\",LOOKUP($B70,Inscriptions!A$2:A$65496,Inscriptions!C$2:C$65498))","v":""},{"$f":"IF(ISBLANK($B70),\"\",LOOKUP($B70,Inscriptions!A$2:A$65496,Inscriptions!D$2:D$65498))","v":""},null,null,null,{"$f":"ROUNDDOWN(H70/10000,0)","v":0},{"$f":"ROUNDDOWN((H70-I70*10000)/100,0)","v":0},{"$f":"ROUNDDOWN((H70-(I70*10000)-(J70*100)),0)","v":0},{"$f":"IF((I70+J70+K70)=0,\"\",ROUNDDOWN((L$4/((I70*3600)+(J70*60)+K70))*3.6,2))","v":""},{"$f":"IF(L70=\"\",\"\",\"km/h\")","v":""}]
[67,null,{"$f":"IF(ISBLANK($B71),\"\",LOOKUP($B71,Inscriptions!A$2:A$65496,Inscriptions!B$2:B$65498))","v":""},{"$f":"IF(ISBLANK($B71),\"\",LOOKUP($B71,Inscriptions!A$2:A$65496,Inscriptions!C$2:C$65498))","v":""},{"$f":"IF(ISBLANK($B71),\"\",LOOKUP($B71,Inscriptions!A$2:A$65496,Inscriptions!D$2:D$65498))","v":""},null,null,null,0,0,0,"",""]
[68,null,{"$f":"IF(ISBLANK($B72),\"\",LOOKUP($B72,Inscriptions!A$2:A$65496,Inscriptions!B$2:B$65498))","v":""},{"$f":"IF(ISBLANK($B72),\"\",LOOKUP($B72,Inscriptions!A$2:A$65496,Inscriptions!C$2:C$65498))","v":""},{"$f":"IF(ISBLANK($B72),\"\",LOOKUP($B72,Inscriptions!A$2:A$65496,Inscriptions!D$2:D$65498))","v":""},null,null,null,0,0,0,"",""]
[69,null,{"$f":"IF(ISBLANK($B73),\"\",LOOKUP($B73,Inscriptions!A$2:A$65496,Inscriptions!B$2:B$65498))","v":""},{"$f":"IF(ISBLANK($B73),\"\",LOOKUP($B73,Inscriptions!A$2:A$65496,Inscriptions!C$2:C$65498))","v":""},{"$f":"IF(ISBLANK($B73),\"\",LOOKUP($B73,Inscriptions!A$2:A$65496,Inscriptions!D$2:D$65498))","v":""},null,null,null,0,0,0,"",""]
[70,null,{"$f":"IF(ISBLANK($B74),\"\",LOOKUP($B74,Inscriptions!A$2:A$65496,Inscriptions!B$2:B$65498))","v":""},{"$f":"IF(ISBLANK($B74),\"\",LOOKUP($B74,Inscriptions!A$2:A$65496,Inscriptions!C$2:C$65498))","v":""},{"$f":"IF(ISBLANK($B74),\"\",LOOKUP($B74,Inscriptions!A$2:A$65496,Inscriptions!D$2:D$65498))","v":""},null,null,null,0,0,0,"",""]
[71,null,{"$f":"IF(ISBLANK($B75),\"\",LOOKUP($B75,Inscriptions!A$2:A$65496,Inscriptions!B$2:B$65498))","v":""},{"$f":"IF(ISBLANK($B75),\"\",LOOKUP($B75,Inscriptions!A$2:A$65496,Inscriptions!C$2:C$65498))","v":""},{"$f":"IF(ISBLANK($B75),\"\",LOOKUP($B75,Inscriptions!A$2:A$65496,Inscriptions!D$2:D$65498))","v":""},null,null,null,0,0,0,"",""]
[72,null,{"$f":"IF(ISBLANK($B76),\"\",LOOKUP($B76,Inscriptions!A$2:A$65496,Inscriptions!B$2:B$65498))","v":""},{"$f":"IF(ISBLANK($B76),\"\",LOOKUP($B76,Inscriptions!A$2:A$65496,Inscriptions!C$2:C$65498))","v":""},{"$f":"IF(ISBLANK($B76),\"\",LOOKUP($B76,Inscriptions!A$2:A$65496,Inscriptions!D$2:D$65498))","v":""},null,null,null,0,0,0,"",""]
[73,null,{"$f":"IF(ISBLANK($B77),\"\",LOOKUP($B77,Inscriptions!A$2:A$65496,Inscriptions!B$2:B$65498))","v":""},{"$f":"IF(ISBLANK($B77),\"\",LOOKUP($B77,Inscriptions!A$2:A$65496,Inscriptions!C$2:C$65498))","v":""},{"$f":"IF(ISBLANK($B77),\"\",LOOKUP($B77,Inscriptions!A$2:A$65496,Inscriptions!D$2:D$65498))","v":""},null,null,null,0,0,0,"",""]
[74,null,{"$f":"IF(ISBLANK($B78),\"\",LOOKUP($B78,Inscriptions!A$2:A$65496,Inscriptions!B$2:B$65498))","v":""},{"$f":"IF(ISBLANK($B78),\"\",LOOKUP($B78,Inscriptions!A$2:A$65496,Inscriptions!C$2:C$65498))","v":""},{"$f":"IF(ISBLANK($B78),\"\",LOOKUP($B78,Inscriptions!A$2:A$65496,Inscriptions!D$2:D$65498))","v":""},null,null,null,0,0,0,"",""]
[75,null,{"$f":"IF(ISBLANK($B79),\"\",LOOKUP($B79,Inscriptions!A$2:A$65496,Inscriptions!B$2:B$65498))","v":""},{"$f":"IF(ISBLANK($B79),\"\",LOOKUP($B79,Inscriptions!A$2:A$65496,Inscriptions!C$2:C$65498))","v":""},{"$f":"IF(ISBLANK($B79),\"\",LOOKUP($B79,Inscriptions!A$2:A$65496,Inscriptions!D$2:D$65498))","v":""},null,null,null,0,0,0,"",""]
[76,null,{"$f":"IF(ISBLANK($B80),\"\",LOOKUP($B80,Inscriptions!A$2:A$65496,Inscriptions!B$2:B$65498))","v":""},{"$f":"IF(ISBLANK($B80),\"\",LOOKUP($B80,Inscriptions!A$2:A$65496,Inscriptions!C$2:C$65498))","v":""},{"$f":"IF(ISBLANK($B80),\"\",LOOKUP($B80,Inscriptions!A$2:A$65496,Inscriptions!D$2:D$65498))","v":""},null,null,null,0,0,0,"",""]
[77,null,{"$f":"IF(ISBLANK($B81),\"\",LOOKUP($B81,Inscriptions!A$2:A$65496,Inscriptions!B$2:B$65498))","v":""},{"$f":"IF(ISBLANK($B81),\"\",LOOKUP($B81,Inscriptions!A$2:A$65496,Inscriptions!C$2:C$65498))","v":""},{"$f":"IF(ISBLANK($B81),\"\",LOOKUP($B81,Inscriptions!A$2:A$65496,Inscriptions!D$2:D$65498))","v":""},null,null,null,0,0,0,"",""]
[78,null,{"$f":"IF(ISBLANK($B82),\"\",LOOKUP($B82,Inscriptions!A$2:A$65496,Inscriptions!B$2:B$65498))","v":""},{"$f":"IF(ISBLANK($B82),\"\",LOOKUP($B82,Inscriptions!A$2:A$65496,Inscriptions!C$2:C$65498))","v":""},{"$f":"IF(ISBLANK($B82),\"\",LOOKUP($B82,Inscriptions!A$2:A$65496,Inscriptions!D$2:D$65498))","v":""},null,null,null,0,0,0,"",""]
[79,null,{"$f":"IF(ISBLANK($B83),\"\",LOOKUP($B83,Inscriptions!A$2:A$65496,Inscriptions!B$2:B$65498))","v":""},{"$f":"IF(ISBLANK($B83),\"\",LOOKUP($B83,Inscriptions!A$2:A$65496,Inscriptions!C$2:C$65498))","v":""},{"$f":"IF(ISBLANK($B83),\"\",LOOKUP($B83,Inscriptions!A$2:A$65496,Inscriptions!D$2:D$65498))","v":""},null,null,null,0,0,0,"",""]
[80,null,{"$f":"IF(ISBLANK($B84),\"\",LOOKUP($B84,Inscriptions!A$2:A$65496,Inscriptions!B$2:B$65498))","v":""},{"$f":"IF(ISBLANK($B84),\"\",LOOKUP($B84,Inscriptions!A$2:A$65496,Inscriptions!C$2:C$65498))","v":""},{"$f":"IF(ISBLANK($B84),\"\",LOOKUP($B84,Inscriptions!A$2:A$65496,Inscriptions!D$2:D$65498))","v":""},null,null,null,0,0,0,"",""]
[81,null,{"$f":"IF(ISBLANK($B85),\"\",LOOKUP($B85,Inscriptions!A$2:A$65496,Inscriptions!B$2:B$65498))","v":""},{"$f":"IF(ISBLANK($B85),\"\",LOOKUP($B85,Inscriptions!A$2:A$65496,Inscriptions!C$2:C$65498))","v":""},{"$f":"IF(ISBLANK($B85),\"\",LOOKUP($B85,Inscriptions!A$2:A$65496,Inscriptions!D$2:D$65498))","v":""},null,null,null,0,0,0,"",""]
[82,null,{"$f":"IF(ISBLANK($B86),\"\",LOOKUP($B86,Inscriptions!A$2:A$65496,Inscriptions!B$2:B$65498))","v":""},{"$f":"IF(ISBLANK($B86),\"\",LOOKUP($B86,Inscriptions!A$2:A$65496,Inscriptions!C$2:C$65498))","v":""},{"$f":"IF(ISBLANK($B86),\"\",LOOKUP($B86,Inscriptions!A$2:A$65496,Inscriptions!D$2:D$65498))","v":""},null,null,null,0,0,0,"",""]
[83,null,{"$f":"IF(ISBLANK($B87),\"\",LOOKUP($B87,Inscriptions!A$2:A$65496,Inscriptions!B$2:B$65498))","v":""},{"$f":"IF(ISBLANK($B87),\"\",LOOKUP($B87,Inscriptions!A$2:A$65496,Inscriptions!C$2:C$65498))","v":""},{"$f":"IF(ISBLANK($B87),\"\",LOOKUP($B87,Inscriptions!A$2:A$65496,Inscriptions!D$2:D$65498))","v":""},null,null,null,0,0,0,"",""]
[84,null,{"$f":"IF(ISBLANK($B88),\"\",LOOKUP($B88,Inscriptions!A$2:A$65496,Inscriptions!B$2:B$65498))","v":""},{"$f":"IF(ISBLANK($B88),\"\",LOOKUP($B88,Inscriptions!A$2:A$65496,Inscriptions!C$2:C$65498))","v":""},{"$f":"IF(ISBLANK($B88),\"\",LOOKUP($B88,Inscriptions!A$2:A$65496,Inscriptions!D$2:D$65498))","v":""},null,null,null,0,0,0,"",""]
[85,null,{"$f":"IF(ISBLANK($B89),\"\",LOOKUP($B89,Inscriptions!A$2:A$65496,Inscriptions!B$2:B$65498))","v":""},{"$f":"IF(ISBLANK($B89),\"\",LOOKUP($B89,Inscriptions!A$2:A$65496,Inscriptions!C$2:C$65498))","v":""},{"$f":"IF(ISBLANK($B89),\"\",LOOKUP($B89,Inscriptions!A$2:A$65496,Inscriptions!D$2:D$65498))","v":""},null,null,null,0,0,0,"",""]
[86,null,{"$f":"IF(ISBLANK($B90),\"\",LOOKUP($B90,Inscriptions!A$2:A$65496,Inscriptions!B$2:B$65498))","v":""},{"$f":"IF(ISBLANK($B90),\"\",LOOKUP($B90,Inscriptions!A$2:A$65496,Inscriptions!C$2:C$65498))","v":""},{"$f":"IF(ISBLANK($B90),\"\",LOOKUP($B90,Inscriptions!A$2:A$65496,Inscriptions!D$2:D$65498))","v":""},null,null,null,0,0,0,"",""]
[87,null,{"$f":"IF(ISBLANK($B91),\"\",LOOKUP($B91,Inscriptions!A$2:A$65496,Inscriptions!B$2:B$65498))","v":""},{"$f":"IF(ISBLANK($B91),\"\",LOOKUP($B91,Inscriptions!A$2:A$65496,Inscriptions!C$2:C$65498))","v":""},{"$f":"IF(ISBLANK($B91),\"\",LOOKUP($B91,Inscriptions!A$2:A$65496,Inscriptions!D$2:D$65498))","v":""},null,null,null,0,0,0,"",""]
[88,null,{"$f":"IF(ISBLANK($B92),\"\",LOOKUP($B92,Inscriptions!A$2:A$65496,Inscriptions!B$2:B$65498))","v":""},{"$f":"IF(ISBLANK($B92),\"\",LOOKUP($B92,Inscriptions!A$2:A$65496,Inscriptions!C$2:C$65498))","v":""},{"$f":"IF(ISBLANK($B92),\"\",LOOKUP($B92,Inscriptions!A$2:A$65496,Inscriptions!D$2:D$65498))","v":""},null,null,null,0,0,0,"",""]
[89,null,{"$f":"IF(ISBLANK($B93),\"\",LOOKUP($B93,Inscriptions!A$2:A$65496,Inscriptions!B$2:B$65498))","v":""},{"$f":"IF(ISBLANK($B93),\"\",LOOKUP($B93,Inscriptions!A$2:A$65496,Inscriptions!C$2:C$65498))","v":""},{"$f":"IF(ISBLANK($B93),\"\",LOOKUP($B93,Inscriptions!A$2:A$65496,Inscriptions!D$2:D$65498))","v":""},null,null,null,0,0,0,"",""]
[90,null,{"$f":"IF(ISBLANK($B94),\"\",LOOKUP($B94,Inscriptions!A$2:A$65496,Inscriptions!B$2:B$65498))","v":""},{"$f":"IF(ISBLANK($B94),\"\",LOOKUP($B94,Inscriptions!A$2:A$65496,Inscriptions!C$2:C$65498))","v":""},{"$f":"IF(ISBLANK($B94),\"\",LOOKUP($B94,Inscriptions!A$2:A$65496,Inscriptions!D$2:D$65498))","v":""},null,null,null,0,0,0,"",""]
[91,null,{"$f":"IF(ISBLANK($B95),\"\",LOOKUP($B95,Inscriptions!A$2:A$65496,Inscriptions!B$2:B$65498))","v":""},{"$f":"IF(ISBLANK($B95),\"\",LOOKUP($B95,Inscriptions!A$2:A$65496,Inscriptions!C$2:C$65498))","v":""},{"$f":"IF(ISBLANK($B95),\"\",LOOKUP($B95,Inscriptions!A$2:A$65496,Inscriptions!D$2:D$65498))","v":""},null,null,null,0,0,0,"",""]
[92,null,{"$f":"IF(ISBLANK($B96),\"\",LOOKUP($B96,Inscriptions!A$2:A$65496,Inscriptions!B$2:B$65498))","v":""},{"$f":"IF(ISBLANK($B96),\"\",LOOKUP($B96,Inscriptions!A$2:A$65496,Inscriptions!C$2:C$65498))","v":""},{"$f":"IF(ISBLANK($B96),\"\",LOOKUP($B96,Inscriptions!A$2:A$65496,Inscriptions!D$2:D$65498))","v":""},null,null,null,0,0,0,"",""]
[93,null,{"$f":"IF(ISBLANK($B97),\"\",LOOKUP($B97,Inscriptions!A$2:A$65496,Inscriptions!B$2:B$65498))","v":""},{"$f":"IF(ISBLANK($B97),\"\",LOOKUP($B97,Inscriptions!A$2:A$65496,Inscriptions!C$2:C$65498))","v":""},{"$f":"IF(ISBLANK($B97),\"\",LOOKUP($B97,Inscriptions!A$2:A$65496,Inscriptions!D$2:D$65498))","v":""},null,null,null,0,0,0,"",""]
[94,null,{"$f":"IF(ISBLANK($B98),\"\",LOOKUP($B98,Inscriptions!A$2:A$65496,Inscriptions!B$2:B$65498))","v":""},{"$f":"IF(ISBLANK($B98),\"\",LOOKUP($B98,Inscriptions!A$2:A$65496,Inscriptions!C$2:C$65498))","v":""},{"$f":"IF(ISBLANK($B98),\"\",LOOKUP($B98,Inscriptions!A$2:A$65496,Inscriptions!D$2:D$65498))","v":""},null,null,null,0,0,0,"",""]
[95,null,{"$f":"IF(ISBLANK($B99),\"\",LOOKUP($B99,Inscriptions!A$2:A$65496,Inscriptions!B$2:B$65498))","v":""},{"$f":"IF(ISBLANK($B99),\"\",LOOKUP($B99,Inscriptions!A$2:A$65496,Inscriptions!C$2:C$65498))","v":""},{"$f":"IF(ISBLANK($B99),\"\",LOOKUP($B99,Inscriptions!A$2:A$65496,Inscriptions!D$2:D$65498))","v":""},null,null,null,0,0,0,"",""]
[96,null,{"$f":"IF(ISBLANK($B100),\"\",LOOKUP($B100,Inscriptions!A$2:A$65496,Inscriptions!B$2:B$65498))","v":""},{"$f":"IF(ISBLANK($B100),\"\",LOOKUP($B100,Inscriptions!A$2:A$65496,Inscriptions!C$2:C$65498))","v":""},{"$f":"IF(ISBLANK($B100),\"\",LOOKUP($B100,Inscriptions!A$2:A$65496,Inscriptions!D$2:D$65498))","v":""},null,null,null,0,0,0,"",""]
[97,null,{"$f":"IF(ISBLANK($B101),\"\",LOOKUP($B101,Inscriptions!A$2:A$65496,Inscriptions!B$2:B$65498))","v":""},{"$f":"IF(ISBLANK($B101),\"\",LOOKUP($B101,Inscriptions!A$2:A$65496,Inscriptions!C$2:C$65498))","v":""},{"$f":"IF(ISBLANK($B101),\"\",LOOKUP($B101,Inscriptions!A$2:A$65496,Inscriptions!D$2:D$65498))","v":""},null,null,null,0,0,0,"",""]
[98,null,{"$f":"IF(ISBLANK($B102),\"\",LOOKUP($B102,Inscriptions!A$2:A$65496,Inscriptions!B$2:B$65498))","v":""},{"$f":"IF(ISBLANK($B102),\"\",LOOKUP($B102,Inscriptions!A$2:A$65496,Inscriptions!C$2:C$65498))","v":""},{"$f":"IF(ISBLANK($B102),\"\",LOOKUP($B102,Inscriptions!A$2:A$65496,Inscriptions!D$2:D$65498))","v":""},null,null,null,0,0,0,"",""]
[99,null,{"$f":"IF(ISBLANK($B103),\"\",LOOKUP($B103,Inscriptions!A$2:A$65496,Inscriptions!B$2:B$65498))","v":""},{"$f":"IF(ISBLANK($B103),\"\",LOOKUP($B103,Inscriptions!A$2:A$65496,Inscriptions!C$2:C$65498))","v":""},{"$f":"IF(ISBLANK($B103),\"\",LOOKUP($B103,Inscriptions!A$2:A$65496,Inscriptions!D$2:D$65498))","v":""},null,null,null,0,0,0,"",""]
[100,null,{"$f":"IF(ISBLANK($B104),\"\",LOOKUP($B104,Inscriptions!A$2:A$65496,Inscriptions!B$2:B$65498))","v":""},{"$f":"IF(ISBLANK($B104),\"\",LOOKUP($B104,Inscriptions!A$2:A$65496,Inscriptions!C$2:C$65498))","v":""},{"$f":"IF(ISBLANK($B104),\"\",LOOKUP($B104,Inscriptions!A$2:A$65496,Inscriptions!D$2:D$65498))","v":""},null,null,null,0,0,0,"",""]
[101,null,{"$f":"IF(ISBLANK($B105),\"\",LOOKUP($B105,Inscriptions!A$2:A$65496,Inscriptions!B$2:B$65498))","v":""},{"$f":"IF(ISBLANK($B105),\"\",LOOKUP($B105,Inscriptions!A$2:A$65496,Inscriptions!C$2:C$65498))","v":""},{"$f":"IF(ISBLANK($B105),\"\",LOOKUP($B105,Inscriptions!A$2:A$65496,Inscriptions!D$2:D$65498))","v":""},null,null,null,0,0,0,"",""]
[102,null,{"$f":"IF(ISBLANK($B106),\"\",LOOKUP($B106,Inscriptions!A$2:A$65496,Inscriptions!B$2:B$65498))","v":""},{"$f":"IF(ISBLANK($B106),\"\",LOOKUP($B106,Inscriptions!A$2:A$65496,Inscriptions!C$2:C$65498))","v":""},{"$f":"IF(ISBLANK($B106),\"\",LOOKUP($B106,Inscriptions!A$2:A$65496,Inscriptions!D$2:D$65498))","v":""},null,null,null,0,0,0,"",""]
[103,null,{"$f":"IF(ISBLANK($B107),\"\",LOOKUP($B107,Inscriptions!A$2:A$65496,Inscriptions!B$2:B$65498))","v":""},{"$f":"IF(ISBLANK($B107),\"\",LOOKUP($B107,Inscriptions!A$2:A$65496,Inscriptions!C$2:C$65498))","v":""},{"$f":"IF(ISBLANK($B107),\"\",LOOKUP($B107,Inscriptions!A$2:A$65496,Inscriptions!D$2:D$65498))","v":""},null,null,null,0,0,0,"",""]
[104,null,{"$f":"IF(ISBLANK($B108),\"\",LOOKUP($B108,Inscriptions!A$2:A$65496,Inscriptions!B$2:B$65498))","v":""},{"$f":"IF(ISBLANK($B108),\"\",LOOKUP($B108,Inscriptions!A$2:A$65496,Inscriptions!C$2:C$65498))","v":""},{"$f":"IF(ISBLANK($B108),\"\",LOOKUP($B108,Inscriptions!A$2:A$65496,Inscriptions!D$2:D$65498))","v":""},null,null,null,0,0,0,"",""]
[105,null,{"$f":"IF(ISBLANK($B109),\"\",LOOKUP($B109,Inscriptions!A$2:A$65496,Inscriptions!B$2:B$65498))","v":""},{"$f":"IF(ISBLANK($B109),\"\",LOOKUP($B109,Inscriptions!A$2:A$65496,Inscriptions!C$2:C$65498))","v":""},{"$f":"IF(ISBLANK($B109),\"\",LOOKUP($B109,Inscriptions!A$2:A$65496,Inscriptions!D$2:D$65498))","v":""},null,null,null,0,0,0,"",""]
[106,null,{"$f":"IF(ISBLANK($B110),\"\",LOOKUP($B110,Inscriptions!A$2:A$65496,Inscriptions!B$2:B$65498))","v":""},{"$f":"IF(ISBLANK($B110),\"\",LOOKUP($B110,Inscriptions!A$2:A$65496,Inscriptions!C$2:C$65498))","v":""},{"$f":"IF(ISBLANK($B110),\"\",LOOKUP($B110,Inscriptions!A$2:A$65496,Inscriptions!D$2:D$65498))","v":""},null,null,null,0,0,0,"",""]
[107,null,{"$f":"IF(ISBLANK($B111),\"\",LOOKUP($B111,Inscriptions!A$2:A$65496,Inscriptions!B$2:B$65498))","v":""},{"$f":"IF(ISBLANK($B111),\"\",LOOKUP($B111,Inscriptions!A$2:A$65496,Inscriptions!C$2:C$65498))","v":""},{"$f":"IF(ISBLANK($B111),\"\",LOOKUP($B111,Inscriptions!A$2:A$65496,Inscriptions!D$2:D$65498))","v":""},null,null,null,0,0,0,"",""]
[108,null,{"$f":"IF(ISBLANK($B112),\"\",LOOKUP($B112,Inscriptions!A$2:A$65496,Inscriptions!B$2:B$65498))","v":""},{"$f":"IF(ISBLANK($B112),\"\",LOOKUP($B112,Inscriptions!A$2:A$65496,Inscriptions!C$2:C$65498))","v":""},{"$f":"IF(ISBLANK($B112),\"\",LOOKUP($B112,Inscriptions!A$2:A$65496,Inscriptions!D$2:D$65498))","v":""},null,null,null,0,0,0,"",""]
[109,null,{"$f":"IF(ISBLANK($B113),\"\",LOOKUP($B113,Inscriptions!A$2:A$65496,Inscriptions!B$2:B$65498))","v":""},{"$f":"IF(ISBLANK($B113),\"\",LOOKUP($B113,Inscriptions!A$2:A$65496,Inscriptions!C$2:C$65498))","v":""},{"$f":"IF(ISBLANK($B113),\"\",LOOKUP($B113,Inscriptions!A$2:A$65496,Inscriptions!D$2:D$65498))","v":""},null,null,null,0,0,0,"",""]
[110,null,{"$f":"IF(ISBLANK($B114),\"\",LOOKUP($B114,Inscriptions!A$2:A$65496,Inscriptions!B$2:B$65498))","v":""},{"$f":"IF(ISBLANK($B114),\"\",LOOKUP($B114,Inscriptions!A$2:A$65496,Inscriptions!C$2:C$65498))","v":""},{"$f":"IF(ISBLANK($B114),\"\",LOOKUP($B114,Inscriptions!A$2:A$65496,Inscriptions!D$2:D$65498))","v":""},null,null,null,0,0,0,"",""]
[111,null,{"$f":"IF(ISBLANK($B115),\"\",LOOKUP($B115,Inscriptions!A$2:A$65496,Inscriptions!B$2:B$65498))","v":""},{"$f":"IF(ISBLANK($B115),\"\",LOOKUP($B115,Inscriptions!A$2:A$65496,Inscriptions!C$2:C$65498))","v":""},{"$f":"IF(ISBLANK($B115),\"\",LOOKUP($B115,Inscriptions!A$2:A$65496,Inscriptions!D$2:D$65498))","v":""},null,null,null,0,0,0,"",""]
[112,null,{"$f":"IF(ISBLANK($B116),\"\",LOOKUP($B116,Inscriptions!A$2:A$65496,Inscriptions!B$2:B$65498))","v":""},{"$f":"IF(ISBLANK($B116),\"\",LOOKUP($B116,Inscriptions!A$2:A$65496,Inscriptions!C$2:C$65498))","v":""},{"$f":"IF(ISBLANK($B116),\"\",LOOKUP($B116,Inscriptions!A$2:A$65496,Inscriptions!D$2:D$65498))","v":""},null,null,null,0,0,0,"",""]
[113,null,{"$f":"IF(ISBLANK($B117),\"\",LOOKUP($B117,Inscriptions!A$2:A$65496,Inscriptions!B$2:B$65498))","v":""},{"$f":"IF(ISBLANK($B117),\"\",LOOKUP($B117,Inscriptions!A$2:A$65496,Inscriptions!C$2:C$65498))","v":""},{"$f":"IF(ISBLANK($B117),\"\",LOOKUP($B117,Inscriptions!A$2:A$65496,Inscriptions!D$2:D$65498))","v":""},null,null,null,0,0,0,"",""]
[114,null,{"$f":"IF(ISBLANK($B118),\"\",LOOKUP($B118,Inscriptions!A$2:A$65496,Inscriptions!B$2:B$65498))","v":""},{"$f":"IF(ISBLANK($B118),\"\",LOOKUP($B118,Inscriptions!A$2:A$65496,Inscriptions!C$2:C$65498))","v":""},{"$f":"IF(ISBLANK($B118),\"\",LOOKUP($B118,Inscriptions!A$2:A$65496,Inscriptions!D$2:D$65498))","v":""},null,null,null,0,0,0,"",""]
[115,null,{"$f":"IF(ISBLANK($B119),\"\",LOOKUP($B119,Inscriptions!A$2:A$65496,Inscriptions!B$2:B$65498))","v":""},{"$f":"IF(ISBLANK($B119),\"\",LOOKUP($B119,Inscriptions!A$2:A$65496,Inscriptions!C$2:C$65498))","v":""},{"$f":"IF(ISBLANK($B119),\"\",LOOKUP($B119,Inscriptions!A$2:A$65496,Inscriptions!D$2:D$65498))","v":""},null,null,null,0,0,0,"",""]
[116,null,{"$f":"IF(ISBLANK($B120),\"\",LOOKUP($B120,Inscriptions!A$2:A$65496,Inscriptions!B$2:B$65498))","v":""},{"$f":"IF(ISBLANK($B120),\"\",LOOKUP($B120,Inscriptions!A$2:A$65496,Inscriptions!C$2:C$65498))","v":""},{"$f":"IF(ISBLANK($B120),\"\",LOOKUP($B120,Inscriptions!A$2:A$65496,Inscriptions!D$2:D$65498))","v":""},null,null,null,0,0,0,"",""]
[117,null,{"$f":"IF(ISBLANK($B121),\"\",LOOKUP($B121,Inscriptions!A$2:A$65496,Inscriptions!B$2:B$65498))","v":""},{"$f":"IF(ISBLANK($B121),\"\",LOOKUP($B121,Inscriptions!A$2:A$65496,Inscriptions!C$2:C$65498))","v":""},{"$f":"IF(ISBLANK($B121),\"\",LOOKUP($B121,Inscriptions!A$2:A$65496,Inscriptions!D$2:D$65498))","v":""},null,null,null,0,0,0,"",""]
[118,null,{"$f":"IF(ISBLANK($B122),\"\",LOOKUP($B122,Inscriptions!A$2:A$65496,Inscriptions!B$2:B$65498))","v":""},{"$f":"IF(ISBLANK($B122),\"\",LOOKUP($B122,Inscriptions!A$2:A$65496,Inscriptions!C$2:C$65498))","v":""},{"$f":"IF(ISBLANK($B122),\"\",LOOKUP($B122,Inscriptions!A$2:A$65496,Inscriptions!D$2:D$65498))","v":""},null,null,null,0,0,0,"",""]
[119,null,{"$f":"IF(ISBLANK($B123),\"\",LOOKUP($B123,Inscriptions!A$2:A$65496,Inscriptions!B$2:B$65498))","v":""},{"$f":"IF(ISBLANK($B123),\"\",LOOKUP($B123,Inscriptions!A$2:A$65496,Inscriptions!C$2:C$65498))","v":""},{"$f":"IF(ISBLANK($B123),\"\",LOOKUP($B123,Inscriptions!A$2:A$65496,Inscriptions!D$2:D$65498))","v":""},null,null,null,0,0,0,"",""]
[120,null,{"$f":"IF(ISBLANK($B124),\"\",LOOKUP($B124,Inscriptions!A$2:A$65496,Inscriptions!B$2:B$65498))","v":""},{"$f":"IF(ISBLANK($B124),\"\",LOOKUP($B124,Inscriptions!A$2:A$65496,Inscriptions!C$2:C$65498))","v":""},{"$f":"IF(ISBLANK($B124),\"\",LOOKUP($B124,Inscriptions!A$2:A$65496,Inscriptions!D$2:D$65498))","v":""},null,null,null,0,0,0,"",""]
[121,null,{"$f":"IF(ISBLANK($B125),\"\",LOOKUP($B125,Inscriptions!A$2:A$65496,Inscriptions!B$2:B$65498))","v":""},{"$f":"IF(ISBLANK($B125),\"\",LOOKUP($B125,Inscriptions!A$2:A$65496,Inscriptions!C$2:C$65498))","v":""},{"$f":"IF(ISBLANK($B125),\"\",LOOKUP($B125,Inscriptions!A$2:A$65496,Inscriptions!D$2:D$65498))","v":""},null,null,null,0,0,0,"",""]
[122,null,{"$f":"IF(ISBLANK($B126),\"\",LOOKUP($B126,Inscriptions!A$2:A$65496,Inscriptions!B$2:B$65498))","v":""},{"$f":"IF(ISBLANK($B126),\"\",LOOKUP($B126,Inscriptions!A$2:A$65496,Inscriptions!C$2:C$65498))","v":""},{"$f":"IF(ISBLANK($B126),\"\",LOOKUP($B126,Inscriptions!A$2:A$65496,Inscriptions!D$2:D$65498))","v":""},null,null,null,0,0,0,"",""]
[123,null,{"$f":"IF(ISBLANK($B127),\"\",LOOKUP($B127,Inscriptions!A$2:A$65496,Inscriptions!B$2:B$65498))","v":""},{"$f":"IF(ISBLANK($B127),\"\",LOOKUP($B127,Inscriptions!A$2:A$65496,Inscriptions!C$2:C$65498))","v":""},{"$f":"IF(ISBLANK($B127),\"\",LOOKUP($B127,Inscriptions!A$2:A$65496,Inscriptions!D$2:D$65498))","v":""},null,null,null,0,0,0,"",""]
[124,null,{"$f":"IF(ISBLANK($B128),\"\",LOOKUP($B128,Inscriptions!A$2:A$65496,Inscriptions!B$2:B$65498))","v":""},{"$f":"IF(ISBLANK($B128),\"\",LOOKUP($B128,Inscriptions!A$2:A$65496,Inscriptions!C$2:C$65498))","v":""},{"$f":"IF(ISBLANK($B128),\"\",LOOKUP($B128,Inscriptions!A$2:A$65496,Inscriptions!D$2:D$65498))","v":""},null,null,null,0,0,0,"",""]
[125,null,{"$f":"IF(ISBLANK($B129),\"\",LOOKUP($B129,Inscriptions!A$2:A$65496,Inscriptions!B$2:B$65498))","v":""},{"$f":"IF(ISBLANK($B129),\"\",LOOKUP($B129,Inscriptions!A$2:A$65496,Inscriptions!C$2:C$65498))","v":""},{"$f":"IF(ISBLANK($B129),\"\",LOOKUP($B129,Inscriptions!A$2:A$65496,Inscriptions!D$2:D$65498))","v":""},null,null,null,0,0,0,"",""]
[126,null,{"$f":"IF(ISBLANK($B130),\"\",LOOKUP($B130,Inscriptions!A$2:A$65496,Inscriptions!B$2:B$65498))","v":""},{"$f":"IF(ISBLANK($B130),\"\",LOOKUP($B130,Inscriptions!A$2:A$65496,Inscriptions!C$2:C$65498))","v":""},{"$f":"IF(ISBLANK($B130),\"\",LOOKUP($B130,Inscriptions!A$2:A$65496,Inscriptions!D$2:D$65498))","v":""},null,null,null,0,0,0,"",""]
[127,null,{"$f":"IF(ISBLANK($B131),\"\",LOOKUP($B131,Inscriptions!A$2:A$65496,Inscriptions!B$2:B$65498))","v":""},{"$f":"IF(ISBLANK($B131),\"\",LOOKUP($B131,Inscriptions!A$2:A$65496,Inscriptions!C$2:C$65498))","v":""},{"$f":"IF(ISBLANK($B131),\"\",LOOKUP($B131,Inscriptions!A$2:A$65496,Inscriptions!D$2:D$65498))","v":""},null,null,null,0,0,0,"",""]
[128,null,{"$f":"IF(ISBLANK($B132),\"\",LOOKUP($B132,Inscriptions!A$2:A$65496,Inscriptions!B$2:B$65498))","v":""},{"$f":"IF(ISBLANK($B132),\"\",LOOKUP($B132,Inscriptions!A$2:A$65496,Inscriptions!C$2:C$65498))","v":""},{"$f":"IF(ISBLANK($B132),\"\",LOOKUP($B132,Inscriptions!A$2:A$65496,Inscriptions!D$2:D$65498))","v":""},null,null,null,0,0,0,"",""]
[129,null,{"$f":"IF(ISBLANK($B133),\"\",LOOKUP($B133,Inscriptions!A$2:A$65496,Inscriptions!B$2:B$65498))","v":""},{"$f":"IF(ISBLANK($B133),\"\",LOOKUP($B133,Inscriptions!A$2:A$65496,Inscriptions!C$2:C$65498))","v":""},{"$f":"IF(ISBLANK($B133),\"\",LOOKUP($B133,Inscriptions!A$2:A$65496,Inscriptions!D$2:D$65498))","v":""},null,null,null,0,0,0,"",""]
[130,null,{"$f":"IF(ISBLANK($B134),\"\",LOOKUP($B134,Inscriptions!A$2:A$65496,Inscriptions!B$2:B$65498))","v":""},{"$f":"IF(ISBLANK($B134),\"\",LOOKUP($B134,Inscriptions!A$2:A$65496,Inscriptions!C$2:C$65498))","v":""},{"$f":"IF(ISBLANK($B134),\"\",LOOKUP($B134,Inscriptions!A$2:A$65496,Inscriptions!D$2:D$65498))","v":""},null,null,null,{"$f":"ROUNDDOWN(H134/10000,0)","v":0},{"$f":"ROUNDDOWN((H134-I134*10000)/100,0)","v":0},{"$f":"ROUNDDOWN((H134-(I134*10000)-(J134*100)),0)","v":0},{"$f":"IF((I134+J134+K134)=0,\"\",ROUNDDOWN((L$4/((I134*3600)+(J134*60)+K134))*3.6,2))","v":""},{"$f":"IF(L134=\"\",\"\",\"km/h\")","v":""}]
[131,null,{"$f":"IF(ISBLANK($B135),\"\",LOOKUP($B135,Inscriptions!A$2:A$65496,Inscriptions!B$2:B$65498))","v":""},{"$f":"IF(ISBLANK($B135),\"\",LOOKUP($B135,Inscriptions!A$2:A$65496,Inscriptions!C$2:C$65498))","v":""},{"$f":"IF(ISBLANK($B135),\"\",LOOKUP($B135,Inscriptions!A$2:A$65496,Inscriptions!D$2:D$65498))","v":""},null,null,null,0,0,0,"",""]
[132,null,{"$f":"IF(ISBLANK($B136),\"\",LOOKUP($B136,Inscriptions!A$2:A$65496,Inscriptions!B$2:B$65498))","v":""},{"$f":"IF(ISBLANK($B136),\"\",LOOKUP($B136,Inscriptions!A$2:A$65496,Inscriptions!C$2:C$65498))","v":""},{"$f":"IF(ISBLANK($B136),\"\",LOOKUP($B136,Inscriptions!A$2:A$65496,Inscriptions!D$2:D$65498))","v":""},null,null,null,0,0,0,"",""]
[133,null,{"$f":"IF(ISBLANK($B137),\"\",LOOKUP($B137,Inscriptions!A$2:A$65496,Inscriptions!B$2:B$65498))","v":""},{"$f":"IF(ISBLANK($B137),\"\",LOOKUP($B137,Inscriptions!A$2:A$65496,Inscriptions!C$2:C$65498))","v":""},{"$f":"IF(ISBLANK($B137),\"\",LOOKUP($B137,Inscriptions!A$2:A$65496,Inscriptions!D$2:D$65498))","v":""},null,null,null,0,0,0,"",""]
[134,null,{"$f":"IF(ISBLANK($B138),\"\",LOOKUP($B138,Inscriptions!A$2:A$65496,Inscriptions!B$2:B$65498))","v":""},{"$f":"IF(ISBLANK($B138),\"\",LOOKUP($B138,Inscriptions!A$2:A$65496,Inscriptions!C$2:C$65498))","v":""},{"$f":"IF(ISBLANK($B138),\"\",LOOKUP($B138,Inscriptions!A$2:A$65496,Inscriptions!D$2:D$65498))","v":""},null,null,null,0,0,0,"",""]
[135,null,{"$f":"IF(ISBLANK($B139),\"\",LOOKUP($B139,Inscriptions!A$2:A$65496,Inscriptions!B$2:B$65498))","v":""},{"$f":"IF(ISBLANK($B139),\"\",LOOKUP($B139,Inscriptions!A$2:A$65496,Inscriptions!C$2:C$65498))","v":""},{"$f":"IF(ISBLANK($B139),\"\",LOOKUP($B139,Inscriptions!A$2:A$65496,Inscriptions!D$2:D$65498))","v":""},null,null,null,0,0,0,"",""]
[136,null,{"$f":"IF(ISBLANK($B140),\"\",LOOKUP($B140,Inscriptions!A$2:A$65496,Inscriptions!B$2:B$65498))","v":""},{"$f":"IF(ISBLANK($B140),\"\",LOOKUP($B140,Inscriptions!A$2:A$65496,Inscriptions!C$2:C$65498))","v":""},{"$f":"IF(ISBLANK($B140),\"\",LOOKUP($B140,Inscriptions!A$2:A$65496,Inscriptions!D$2:D$65498))","v":""},null,null,null,0,0,0,"",""]
[137,null,{"$f":"IF(ISBLANK($B141),\"\",LOOKUP($B141,Inscriptions!A$2:A$65496,Inscriptions!B$2:B$65498))","v":""},{"$f":"IF(ISBLANK($B141),\"\",LOOKUP($B141,Inscriptions!A$2:A$65496,Inscriptions!C$2:C$65498))","v":""},{"$f":"IF(ISBLANK($B141),\"\",LOOKUP($B141,Inscriptions!A$2:A$65496,Inscriptions!D$2:D$65498))","v":""},null,null,null,0,0,0,"",""]
[138,null,{"$f":"IF(ISBLANK($B142),\"\",LOOKUP($B142,Inscriptions!A$2:A$65496,Inscriptions!B$2:B$65498))","v":""},{"$f":"IF(ISBLANK($B142),\"\",LOOKUP($B142,Inscriptions!A$2:A$65496,Inscriptions!C$2:C$65498))","v":""},{"$f":"IF(ISBLANK($B142),\"\",LOOKUP($B142,Inscriptions!A$2:A$65496,Inscriptions!D$2:D$65498))","v":""},null,null,null,0,0,0,"",""]
[139,null,{"$f":"IF(ISBLANK($B143),\"\",LOOKUP($B143,Inscriptions!A$2:A$65496,Inscriptions!B$2:B$65498))","v":""},{"$f":"IF(ISBLANK($B143),\"\",LOOKUP($B143,Inscriptions!A$2:A$65496,Inscriptions!C$2:C$65498))","v":""},{"$f":"IF(ISBLANK($B143),\"\",LOOKUP($B143,Inscriptions!A$2:A$65496,Inscriptions!D$2:D$65498))","v":""},null,null,null,0,0,0,"",""]
[140,null,{"$f":"IF(ISBLANK($B144),\"\",LOOKUP($B144,Inscriptions!A$2:A$65496,Inscriptions!B$2:B$65498))","v":""},{"$f":"IF(ISBLANK($B144),\"\",LOOKUP($B144,Inscriptions!A$2:A$65496,Inscriptions!C$2:C$65498))","v":""},{"$f":"IF(ISBLANK($B144),\"\",LOOKUP($B144,Inscriptions!A$2:A$65496,Inscriptions!D$2:D$65498))","v":""},null,null,null,0,0,0,"",""]
[141,null,{"$f":"IF(ISBLANK($B145),\"\",LOOKUP($B145,Inscriptions!A$2:A$65496,Inscriptions!B$2:B$65498))","v":""},{"$f":"IF(ISBLANK($B145),\"\",LOOKUP($B145,Inscriptions!A$2:A$65496,Inscriptions!C$2:C$65498))","v":""},{"$f":"IF(ISBLANK($B145),\"\",LOOKUP($B145,Inscriptions!A$2:A$65496,Inscriptions!D$2:D$65498))","v":""},null,null,null,0,0,0,"",""]
[142,null,{"$f":"IF(ISBLANK($B146),\"\",LOOKUP($B146,Inscriptions!A$2:A$65496,Inscriptions!B$2:B$65498))","v":""},{"$f":"IF(ISBLANK($B146),\"\",LOOKUP($B146,Inscriptions!A$2:A$65496,Inscriptions!C$2:C$65498))","v":""},{"$f":"IF(ISBLANK($B146),\"\",LOOKUP($B146,Inscriptions!A$2:A$65496,Inscriptions!D$2:D$65498))","v":""},null,null,null,0,0,0,"",""]
[143,null,{"$f":"IF(ISBLANK($B147),\"\",LOOKUP($B147,Inscriptions!A$2:A$65496,Inscriptions!B$2:B$65498))","v":""},{"$f":"IF(ISBLANK($B147),\"\",LOOKUP($B147,Inscriptions!A$2:A$65496,Inscriptions!C$2:C$65498))","v":""},{"$f":"IF(ISBLANK($B147),\"\",LOOKUP($B147,Inscriptions!A$2:A$65496,Inscriptions!D$2:D$65498))","v":""},null,null,null,0,0,0,"",""]
[144,null,{"$f":"IF(ISBLANK($B148),\"\",LOOKUP($B148,Inscriptions!A$2:A$65496,Inscriptions!B$2:B$65498))","v":""},{"$f":"IF(ISBLANK($B148),\"\",LOOKUP($B148,Inscriptions!A$2:A$65496,Inscriptions!C$2:C$65498))","v":""},{"$f":"IF(ISBLANK($B148),\"\",LOOKUP($B148,Inscriptions!A$2:A$65496,Inscriptions!D$2:D$65498))","v":""},null,null,null,0,0,0,"",""]
[145,null,{"$f":"IF(ISBLANK($B149),\"\",LOOKUP($B149,Inscriptions!A$2:A$65496,Inscriptions!B$2:B$65498))","v":""},{"$f":"IF(ISBLANK($B149),\"\",LOOKUP($B149,Inscriptions!A$2:A$65496,Inscriptions!C$2:C$65498))","v":""},{"$f":"IF(ISBLANK($B149),\"\",LOOKUP($B149,Inscriptions!A$2:A$65496,Inscriptions!D$2:D$65498))","v":""},null,null,null,0,0,0,"",""]
[146,null,{"$f":"IF(ISBLANK($B150),\"\",LOOKUP($B150,Inscriptions!A$2:A$65496,Inscriptions!B$2:B$65498))","v":""},{"$f":"IF(ISBLANK($B150),\"\",LOOKUP($B150,Inscriptions!A$2:A$65496,Inscriptions!C$2:C$65498))","v":""},{"$f":"IF(ISBLANK($B150),\"\",LOOKUP($B150,Inscriptions!A$2:A$65496,Inscriptions!D$2:D$65498))","v":""},null,null,null,0,0,0,"",""]
[147,null,{"$f":"IF(ISBLANK($B151),\"\",LOOKUP($B151,Inscriptions!A$2:A$65496,Inscriptions!B$2:B$65498))","v":""},{"$f":"IF(ISBLANK($B151),\"\",LOOKUP($B151,Inscriptions!A$2:A$65496,Inscriptions!C$2:C$65498))","v":""},{"$f":"IF(ISBLANK($B151),\"\",LOOKUP($B151,Inscriptions!A$2:A$65496,Inscriptions!D$2:D$65498))","v":""},null,null,null,0,0,0,"",""]
[148,null,{"$f":"IF(ISBLANK($B152),\"\",LOOKUP($B152,Inscriptions!A$2:A$65496,Inscriptions!B$2:B$65498))","v":""},{"$f":"IF(ISBLANK($B152),\"\",LOOKUP($B152,Inscriptions!A$2:A$65496,Inscriptions!C$2:C$65498))","v":""},{"$f":"IF(ISBLANK($B152),\"\",LOOKUP($B152,Inscriptions!A$2:A$65496,Inscriptions!D$2:D$65498))","v":""},null,null,null,0,0,0,"",""]
[149,null,{"$f":"IF(ISBLANK($B153),\"\",LOOKUP($B153,Inscriptions!A$2:A$65496,Inscriptions!B$2:B$65498))","v":""},{"$f":"IF(ISBLANK($B153),\"\",LOOKUP($B153,Inscriptions!A$2:A$65496,Inscriptions!C$2:C$65498))","v":""},{"$f":"IF(ISBLANK($B153),\"\",LOOKUP($B153,Inscriptions!A$2:A$65496,Inscriptions!D$2:D$65498))","v":""},null,null,null,0,0,0,"",""]
[150,null,{"$f":"IF(ISBLANK($B154),\"\",LOOKUP($B154,Inscriptions!A$2:A$65496,Inscriptions!B$2:B$65498))","v":""},{"$f":"IF(ISBLANK($B154),\"\",LOOKUP($B154,Inscriptions!A$2:A$65496,Inscriptions!C$2:C$65498))","v":""},{"$f":"IF(ISBLANK($B154),\"\",LOOKUP($B154,Inscriptions!A$2:A$65496,Inscriptions!D$2:D$65498))","v":""},null,null,null,0,0,0,"",""]
[151,null,{"$f":"IF(ISBLANK($B155),\"\",LOOKUP($B155,Inscriptions!A$2:A$65496,Inscriptions!B$2:B$65498))","v":""},{"$f":"IF(ISBLANK($B155),\"\",LOOKUP($B155,Inscriptions!A$2:A$65496,Inscriptions!C$2:C$65498))","v":""},{"$f":"IF(ISBLANK($B155),\"\",LOOKUP($B155,Inscriptions!A$2:A$65496,Inscriptions!D$2:D$65498))","v":""},null,null,null,0,0,0,"",""]
[152,null,{"$f":"IF(ISBLANK($B156),\"\",LOOKUP($B156,Inscriptions!A$2:A$65496,Inscriptions!B$2:B$65498))","v":""},{"$f":"IF(ISBLANK($B156),\"\",LOOKUP($B156,Inscriptions!A$2:A$65496,Inscriptions!C$2:C$65498))","v":""},{"$f":"IF(ISBLANK($B156),\"\",LOOKUP($B156,Inscriptions!A$2:A$65496,Inscriptions!D$2:D$65498))","v":""},null,null,null,0,0,0,"",""]
[153,null,{"$f":"IF(ISBLANK($B157),\"\",LOOKUP($B157,Inscriptions!A$2:A$65496,Inscriptions!B$2:B$65498))","v":""},{"$f":"IF(ISBLANK($B157),\"\",LOOKUP($B157,Inscriptions!A$2:A$65496,Inscriptions!C$2:C$65498))","v":""},{"$f":"IF(ISBLANK($B157),\"\",LOOKUP($B157,Inscriptions!A$2:A$65496,Inscriptions!D$2:D$65498))","v":""},null,null,null,0,0,0,"",""]
[154,null,{"$f":"IF(ISBLANK($B158),\"\",LOOKUP($B158,Inscriptions!A$2:A$65496,Inscriptions!B$2:B$65498))","v":""},{"$f":"IF(ISBLANK($B158),\"\",LOOKUP($B158,Inscriptions!A$2:A$65496,Inscriptions!C$2:C$65498))","v":""},{"$f":"IF(ISBLANK($B158),\"\",LOOKUP($B158,Inscriptions!A$2:A$65496,Inscriptions!D$2:D$65498))","v":""},null,null,null,0,0,0,"",""]
[155,null,{"$f":"IF(ISBLANK($B159),\"\",LOOKUP($B159,Inscriptions!A$2:A$65496,Inscriptions!B$2:B$65498))","v":""},{"$f":"IF(ISBLANK($B159),\"\",LOOKUP($B159,Inscriptions!A$2:A$65496,Inscriptions!C$2:C$65498))","v":""},{"$f":"IF(ISBLANK($B159),\"\",LOOKUP($B159,Inscriptions!A$2:A$65496,Inscriptions!D$2:D$65498))","v":""},null,null,null,0,0,0,"",""]
[156,null,{"$f":"IF(ISBLANK($B160),\"\",LOOKUP($B160,Inscriptions!A$2:A$65496,Inscriptions!B$2:B$65498))","v":""},{"$f":"IF(ISBLANK($B160),\"\",LOOKUP($B160,Inscriptions!A$2:A$65496,Inscriptions!C$2:C$65498))","v":""},{"$f":"IF(ISBLANK($B160),\"\",LOOKUP($B160,Inscriptions!A$2:A$65496,Inscriptions!D$2:D$65498))","v":""},null,null,null,0,0,0,"",""]
[157,null,{"$f":"IF(ISBLANK($B161),\"\",LOOKUP($B161,Inscriptions!A$2:A$65496,Inscriptions!B$2:B$65498))","v":""},{"$f":"IF(ISBLANK($B161),\"\",LOOKUP($B161,Inscriptions!A$2:A$65496,Inscriptions!C$2:C$65498))","v":""},{"$f":"IF(ISBLANK($B161),\"\",LOOKUP($B161,Inscriptions!A$2:A$65496,Inscriptions!D$2:D$65498))","v":""},null,null,null,0,0,0,"",""]
[158,null,{"$f":"IF(ISBLANK($B162),\"\",LOOKUP($B162,Inscriptions!A$2:A$65496,Inscriptions!B$2:B$65498))","v":""},{"$f":"IF(ISBLANK($B162),\"\",LOOKUP($B162,Inscriptions!A$2:A$65496,Inscriptions!C$2:C$65498))","v":""},{"$f":"IF(ISBLANK($B162),\"\",LOOKUP($B162,Inscriptions!A$2:A$65496,Inscriptions!D$2:D$65498))","v":""},null,null,null,0,0,0,"",""]
[159,null,{"$f":"IF(ISBLANK($B163),\"\",LOOKUP($B163,Inscriptions!A$2:A$65496,Inscriptions!B$2:B$65498))","v":""},{"$f":"IF(ISBLANK($B163),\"\",LOOKUP($B163,Inscriptions!A$2:A$65496,Inscriptions!C$2:C$65498))","v":""},{"$f":"IF(ISBLANK($B163),\"\",LOOKUP($B163,Inscriptions!A$2:A$65496,Inscriptions!D$2:D$65498))","v":""},null,null,null,0,0,0,"",""]
[160,null,{"$f":"IF(ISBLANK($B164),\"\",LOOKUP($B164,Inscriptions!A$2:A$65496,Inscriptions!B$2:B$65498))","v":""},{"$f":"IF(ISBLANK($B164),\"\",LOOKUP($B164,Inscriptions!A$2:A$65496,Inscriptions!C$2:C$65498))","v":""},{"$f":"IF(ISBLANK($B164),\"\",LOOKUP($B164,Inscriptions!A$2:A$65496,Inscriptions!D$2:D$65498))","v":""},null,null,null,0,0,0,"",""]
[161,null,{"$f":"IF(ISBLANK($B165),\"\",LOOKUP($B165,Inscriptions!A$2:A$65496,Inscriptions!B$2:B$65498))","v":""},{"$f":"IF(ISBLANK($B165),\"\",LOOKUP($B165,Inscriptions!A$2:A$65496,Inscriptions!C$2:C$65498))","v":""},{"$f":"IF(ISBLANK($B165),\"\",LOOKUP($B165,Inscriptions!A$2:A$65496,Inscriptions!D$2:D$65498))","v":""},null,null,null,0,0,0,"",""]
[162,null,{"$f":"IF(ISBLANK($B166),\"\",LOOKUP($B166,Inscriptions!A$2:A$65496,Inscriptions!B$2:B$65498))","v":""},{"$f":"IF(ISBLANK($B166),\"\",LOOKUP($B166,Inscriptions!A$2:A$65496,Inscriptions!C$2:C$65498))","v":""},{"$f":"IF(ISBLANK($B166),\"\",LOOKUP($B166,Inscriptions!A$2:A$65496,Inscriptions!D$2:D$65498))","v":""},null,null,null,0,0,0,"",""]
[163,null,{"$f":"IF(ISBLANK($B167),\"\",LOOKUP($B167,Inscriptions!A$2:A$65496,Inscriptions!B$2:B$65498))","v":""},{"$f":"IF(ISBLANK($B167),\"\",LOOKUP($B167,Inscriptions!A$2:A$65496,Inscriptions!C$2:C$65498))","v":""},{"$f":"IF(ISBLANK($B167),\"\",LOOKUP($B167,Inscriptions!A$2:A$65496,Inscriptions!D$2:D$65498))","v":""},null,null,null,0,0,0,"",""]
[164,null,{"$f":"IF(ISBLANK($B168),\"\",LOOKUP($B168,Inscriptions!A$2:A$65496,Inscriptions!B$2:B$65498))","v":""},{"$f":"IF(ISBLANK($B168),\"\",LOOKUP($B168,Inscriptions!A$2:A$65496,Inscriptions!C$2:C$65498))","v":""},{"$f":"IF(ISBLANK($B168),\"\",LOOKUP($B168,Inscriptions!A$2:A$65496,Inscriptions!D$2:D$65498))","v":""},null,null,null,0,0,0,"",""]
[165,null,{"$f":"IF(ISBLANK($B169),\"\",LOOKUP($B169,Inscriptions!A$2:A$65496,Inscriptions!B$2:B$65498))","v":""},{"$f":"IF(ISBLANK($B169),\"\",LOOKUP($B169,Inscriptions!A$2:A$65496,Inscriptions!C$2:C$65498))","v":""},{"$f":"IF(ISBLANK($B169),\"\",LOOKUP($B169,Inscriptions!A$2:A$65496,Inscriptions!D$2:D$65498))","v":""},null,null,null,0,0,0,"",""]
[166,null,{"$f":"IF(ISBLANK($B170),\"\",LOOKUP($B170,Inscriptions!A$2:A$65496,Inscriptions!B$2:B$65498))","v":""},{"$f":"IF(ISBLANK($B170),\"\",LOOKUP($B170,Inscriptions!A$2:A$65496,Inscriptions!C$2:C$65498))","v":""},{"$f":"IF(ISBLANK($B170),\"\",LOOKUP($B170,Inscriptions!A$2:A$65496,Inscriptions!D$2:D$65498))","v":""},null,null,null,0,0,0,"",""]
[167,null,{"$f":"IF(ISBLANK($B171),\"\",LOOKUP($B171,Inscriptions!A$2:A$65496,Inscriptions!B$2:B$65498))","v":""},{"$f":"IF(ISBLANK($B171),\"\",LOOKUP($B171,Inscriptions!A$2:A$65496,Inscriptions!C$2:C$65498))","v":""},{"$f":"IF(ISBLANK($B171),\"\",LOOKUP($B171,Inscriptions!A$2:A$65496,Inscriptions!D$2:D$65498))","v":""},null,null,null,0,0,0,"",""]
[168,null,{"$f":"IF(ISBLANK($B172),\"\",LOOKUP($B172,Inscriptions!A$2:A$65496,Inscriptions!B$2:B$65498))","v":""},{"$f":"IF(ISBLANK($B172),\"\",LOOKUP($B172,Inscriptions!A$2:A$65496,Inscriptions!C$2:C$65498))","v":""},{"$f":"IF(ISBLANK($B172),\"\",LOOKUP($B172,Inscriptions!A$2:A$65496,Inscriptions!D$2:D$65498))","v":""},null,null,null,0,0,0,"",""]
[169,null,{"$f":"IF(ISBLANK($B173),\"\",LOOKUP($B173,Inscriptions!A$2:A$65496,Inscriptions!B$2:B$65498))","v":""},{"$f":"IF(ISBLANK($B173),\"\",LOOKUP($B173,Inscriptions!A$2:A$65496,Inscriptions!C$2:C$65498))","v":""},{"$f":"IF(ISBLANK($B173),\"\",LOOKUP($B173,Inscriptions!A$2:A$65496,Inscriptions!D$2:D$65498))","v":""},null,null,null,0,0,0,"",""]
[170,null,{"$f":"IF(ISBLANK($B174),\"\",LOOKUP($B174,Inscriptions!A$2:A$65496,Inscriptions!B$2:B$65498))","v":""},{"$f":"IF(ISBLANK($B174),\"\",LOOKUP($B174,Inscriptions!A$2:A$65496,Inscriptions!C$2:C$65498))","v":""},{"$f":"IF(ISBLANK($B174),\"\",LOOKUP($B174,Inscriptions!A$2:A$65496,Inscriptions!D$2:D$65498))","v":""},null,null,null,0,0,0,"",""]
[171,null,{"$f":"IF(ISBLANK($B175),\"\",LOOKUP($B175,Inscriptions!A$2:A$65496,Inscriptions!B$2:B$65498))","v":""},{"$f":"IF(ISBLANK($B175),\"\",LOOKUP($B175,Inscriptions!A$2:A$65496,Inscriptions!C$2:C$65498))","v":""},{"$f":"IF(ISBLANK($B175),\"\",LOOKUP($B175,Inscriptions!A$2:A$65496,Inscriptions!D$2:D$65498))","v":""},null,null,null,0,0,0,"",""]
[172,null,{"$f":"IF(ISBLANK($B176),\"\",LOOKUP($B176,Inscriptions!A$2:A$65496,Inscriptions!B$2:B$65498))","v":""},{"$f":"IF(ISBLANK($B176),\"\",LOOKUP($B176,Inscriptions!A$2:A$65496,Inscriptions!C$2:C$65498))","v":""},{"$f":"IF(ISBLANK($B176),\"\",LOOKUP($B176,Inscriptions!A$2:A$65496,Inscriptions!D$2:D$65498))","v":""},null,null,null,0,0,0,"",""]
[173,null,{"$f":"IF(ISBLANK($B177),\"\",LOOKUP($B177,Inscriptions!A$2:A$65496,Inscriptions!B$2:B$65498))","v":""},{"$f":"IF(ISBLANK($B177),\"\",LOOKUP($B177,Inscriptions!A$2:A$65496,Inscriptions!C$2:C$65498))","v":""},{"$f":"IF(ISBLANK($B177),\"\",LOOKUP($B177,Inscriptions!A$2:A$65496,Inscriptions!D$2:D$65498))","v":""},null,null,null,0,0,0,"",""]
[174,null,{"$f":"IF(ISBLANK($B178),\"\",LOOKUP($B178,Inscriptions!A$2:A$65496,Inscriptions!B$2:B$65498))","v":""},{"$f":"IF(ISBLANK($B178),\"\",LOOKUP($B178,Inscriptions!A$2:A$65496,Inscriptions!C$2:C$65498))","v":""},{"$f":"IF(ISBLANK($B178),\"\",LOOKUP($B178,Inscriptions!A$2:A$65496,Inscriptions!D$2:D$65498))","v":""},null,null,null,0,0,0,"",""]
[175,null,{"$f":"IF(ISBLANK($B179),\"\",LOOKUP($B179,Inscriptions!A$2:A$65496,Inscriptions!B$2:B$65498))","v":""},{"$f":"IF(ISBLANK($B179),\"\",LOOKUP($B179,Inscriptions!A$2:A$65496,Inscriptions!C$2:C$65498))","v":""},{"$f":"IF(ISBLANK($B179),\"\",LOOKUP($B179,Inscriptions!A$2:A$65496,Inscriptions!D$2:D$65498))","v":""},null,null,null,0,0,0,"",""]
[176,null,{"$f":"IF(ISBLANK($B180),\"\",LOOKUP($B180,Inscriptions!A$2:A$65496,Inscriptions!B$2:B$65498))","v":""},{"$f":"IF(ISBLANK($B180),\"\",LOOKUP($B180,Inscriptions!A$2:A$65496,Inscriptions!C$2:C$65498))","v":""},{"$f":"IF(ISBLANK($B180),\"\",LOOKUP($B180,Inscriptions!A$2:A$65496,Inscriptions!D$2:D$65498))","v":""},null,null,null,0,0,0,"",""]
[177,null,{"$f":"IF(ISBLANK($B181),\"\",LOOKUP($B181,Inscriptions!A$2:A$65496,Inscriptions!B$2:B$65498))","v":""},{"$f":"IF(ISBLANK($B181),\"\",LOOKUP($B181,Inscriptions!A$2:A$65496,Inscriptions!C$2:C$65498))","v":""},{"$f":"IF(ISBLANK($B181),\"\",LOOKUP($B181,Inscriptions!A$2:A$65496,Inscriptions!D$2:D$65498))","v":""},null,null,null,0,0,0,"",""]
[178,null,{"$f":"IF(ISBLANK($B182),\"\",LOOKUP($B182,Inscriptions!A$2:A$65496,Inscriptions!B$2:B$65498))","v":""},{"$f":"IF(ISBLANK($B182),\"\",LOOKUP($B182,Inscriptions!A$2:A$65496,Inscriptions!C$2:C$65498))","v":""},{"$f":"IF(ISBLANK($B182),\"\",LOOKUP($B182,Inscriptions!A$2:A$65496,Inscriptions!D$2:D$65498))","v":""},null,null,null,0,0,0,"",""]
[179,null,{"$f":"IF(ISBLANK($B183),\"\",LOOKUP($B183,Inscriptions!A$2:A$65496,Inscriptions!B$2:B$65498))","v":""},{"$f":"IF(ISBLANK($B183),\"\",LOOKUP($B183,Inscriptions!A$2:A$65496,Inscriptions!C$2:C$65498))","v":""},{"$f":"IF(ISBLANK($B183),\"\",LOOKUP($B183,Inscriptions!A$2:A$65496,Inscriptions!D$2:D$65498))","v":""},null,null,null,0,0,0,"",""]
[180,null,{"$f":"IF(ISBLANK($B184),\"\",LOOKUP($B184,Inscriptions!A$2:A$65496,Inscriptions!B$2:B$65498))","v":""},{"$f":"IF(ISBLANK($B184),\"\",LOOKUP($B184,Inscriptions!A$2:A$65496,Inscriptions!C$2:C$65498))","v":""},{"$f":"IF(ISBLANK($B184),\"\",LOOKUP($B184,Inscriptions!A$2:A$65496,Inscriptions!D$2:D$65498))","v":""},null,null,null,0,0,0,"",""]
[181,null,{"$f":"IF(ISBLANK($B185),\"\",LOOKUP($B185,Inscriptions!A$2:A$65496,Inscriptions!B$2:B$65498))","v":""},{"$f":"IF(ISBLANK($B185),\"\",LOOKUP($B185,Inscriptions!A$2:A$65496,Inscriptions!C$2:C$65498))","v":""},{"$f":"IF(ISBLANK($B185),\"\",LOOKUP($B185,Inscriptions!A$2:A$65496,Inscriptions!D$2:D$65498))","v":""},null,null,null,0,0,0,"",""]
[182,null,{"$f":"IF(ISBLANK($B186),\"\",LOOKUP($B186,Inscriptions!A$2:A$65496,Inscriptions!B$2:B$65498))","v":""},{"$f":"IF(ISBLANK($B186),\"\",LOOKUP($B186,Inscriptions!A$2:A$65496,Inscriptions!C$2:C$65498))","v":""},{"$f":"IF(ISBLANK($B186),\"\",LOOKUP($B186,Inscriptions!A$2:A$65496,Inscriptions!D$2:D$65498))","v":""},null,null,null,0,0,0,"",""]
[183,null,{"$f":"IF(ISBLANK($B187),\"\",LOOKUP($B187,Inscriptions!A$2:A$65496,Inscriptions!B$2:B$65498))","v":""},{"$f":"IF(ISBLANK($B187),\"\",LOOKUP($B187,Inscriptions!A$2:A$65496,Inscriptions!C$2:C$65498))","v":""},{"$f":"IF(ISBLANK($B187),\"\",LOOKUP($B187,Inscriptions!A$2:A$65496,Inscriptions!D$2:D$65498))","v":""},null,null,null,0,0,0,"",""]
[184,null,{"$f":"IF(ISBLANK($B188),\"\",LOOKUP($B188,Inscriptions!A$2:A$65496,Inscriptions!B$2:B$65498))","v":""},{"$f":"IF(ISBLANK($B188),\"\",LOOKUP($B188,Inscriptions!A$2:A$65496,Inscriptions!C$2:C$65498))","v":""},{"$f":"IF(ISBLANK($B188),\"\",LOOKUP($B188,Inscriptions!A$2:A$65496,Inscriptions!D$2:D$65498))","v":""},null,null,null,0,0,0,"",""]
[185,null,{"$f":"IF(ISBLANK($B189),\"\",LOOKUP($B189,Inscriptions!A$2:A$65496,Inscriptions!B$2:B$65498))","v":""},{"$f":"IF(ISBLANK($B189),\"\",LOOKUP($B189,Inscriptions!A$2:A$65496,Inscriptions!C$2:C$65498))","v":""},{"$f":"IF(ISBLANK($B189),\"\",LOOKUP($B189,Inscriptions!A$2:A$65496,Inscriptions!D$2:D$65498))","v":""},null,null,null,0,0,0,"",""]
[186,null,{"$f":"IF(ISBLANK($B190),\"\",LOOKUP($B190,Inscriptions!A$2:A$65496,Inscriptions!B$2:B$65498))","v":""},{"$f":"IF(ISBLANK($B190),\"\",LOOKUP($B190,Inscriptions!A$2:A$65496,Inscriptions!C$2:C$65498))","v":""},{"$f":"IF(ISBLANK($B190),\"\",LOOKUP($B190,Inscriptions!A$2:A$65496,Inscriptions!D$2:D$65498))","v":""},null,null,null,0,0,0,"",""]
[187,null,{"$f":"IF(ISBLANK($B191),\"\",LOOKUP($B191,Inscriptions!A$2:A$65496,Inscriptions!B$2:B$65498))","v":""},{"$f":"IF(ISBLANK($B191),\"\",LOOKUP($B191,Inscriptions!A$2:A$65496,Inscriptions!C$2:C$65498))","v":""},{"$f":"IF(ISBLANK($B191),\"\",LOOKUP($B191,Inscriptions!A$2:A$65496,Inscriptions!D$2:D$65498))","v":""},null,null,null,0,0,0,"",""]
[188,null,{"$f":"IF(ISBLANK($B192),\"\",LOOKUP($B192,Inscriptions!A$2:A$65496,Inscriptions!B$2:B$65498))","v":""},{"$f":"IF(ISBLANK($B192),\"\",LOOKUP($B192,Inscriptions!A$2:A$65496,Inscriptions!C$2:C$65498))","v":""},{"$f":"IF(ISBLANK($B192),\"\",LOOKUP($B192,Inscriptions!A$2:A$65496,Inscriptions!D$2:D$65498))","v":""},null,null,null,0,0,0,"",""]
[189,null,{"$f":"IF(ISBLANK($B193),\"\",LOOKUP($B193,Inscriptions!A$2:A$65496,Inscriptions!B$2:B$65498))","v":""},{"$f":"IF(ISBLANK($B193),\"\",LOOKUP($B193,Inscriptions!A$2:A$65496,Inscriptions!C$2:C$65498))","v":""},{"$f":"IF(ISBLANK($B193),\"\",LOOKUP($B193,Inscriptions!A$2:A$65496,Inscriptions!D$2:D$65498))","v":""},null,null,null,0,0,0,"",""]
[190,null,{"$f":"IF(ISBLANK($B194),\"\",LOOKUP($B194,Inscriptions!A$2:A$65496,Inscriptions!B$2:B$65498))","v":""},{"$f":"IF(ISBLANK($B194),\"\",LOOKUP($B194,Inscriptions!A$2:A$65496,Inscriptions!C$2:C$65498))","v":""},{"$f":"IF(ISBLANK($B194),\"\",LOOKUP($B194,Inscriptions!A$2:A$65496,Inscriptions!D$2:D$65498))","v":""},null,null,null,0,0,0,"",""]
[191,null,{"$f":"IF(ISBLANK($B195),\"\",LOOKUP($B195,Inscriptions!A$2:A$65496,Inscriptions!B$2:B$65498))","v":""},{"$f":"IF(ISBLANK($B195),\"\",LOOKUP($B195,Inscriptions!A$2:A$65496,Inscriptions!C$2:C$65498))","v":""},{"$f":"IF(ISBLANK($B195),\"\",LOOKUP($B195,Inscriptions!A$2:A$65496,Inscriptions!D$2:D$65498))","v":""},null,null,null,0,0,0,"",""]
[192,null,{"$f":"IF(ISBLANK($B196),\"\",LOOKUP($B196,Inscriptions!A$2:A$65496,Inscriptions!B$2:B$65498))","v":""},{"$f":"IF(ISBLANK($B196),\"\",LOOKUP($B196,Inscriptions!A$2:A$65496,Inscriptions!C$2:C$65498))","v":""},{"$f":"IF(ISBLANK($B196),\"\",LOOKUP($B196,Inscriptions!A$2:A$65496,Inscriptions!D$2:D$65498))","v":""},null,null,null,0,0,0,"",""]
[193,null,{"$f":"IF(ISBLANK($B197),\"\",LOOKUP($B197,Inscriptions!A$2:A$65496,Inscriptions!B$2:B$65498))","v":""},{"$f":"IF(ISBLANK($B197),\"\",LOOKUP($B197,Inscriptions!A$2:A$65496,Inscriptions!C$2:C$65498))","v":""},{"$f":"IF(ISBLANK($B197),\"\",LOOKUP($B197,Inscriptions!A$2:A$65496,Inscriptions!D$2:D$65498))","v":""},null,null,null,0,0,0,"",""]
[194,null,{"$f":"IF(ISBLANK($B198),\"\",LOOKUP($B198,Inscriptions!A$2:A$65496,Inscriptions!B$2:B$65498))","v":""},{"$f":"IF(ISBLANK($B198),\"\",LOOKUP($B198,Inscriptions!A$2:A$65496,Inscriptions!C$2:C$65498))","v":""},{"$f":"IF(ISBLANK($B198),\"\",LOOKUP($B198,Inscriptions!A$2:A$65496,Inscriptions!D$2:D$65498))","v":""},null,null,null,{"$f":"ROUNDDOWN(H198/10000,0)","v":0},{"$f":"ROUNDDOWN((H198-I198*10000)/100,0)","v":0},{"$f":"ROUNDDOWN((H198-(I198*10000)-(J198*100)),0)","v":0},{"$f":"IF((I198+J198+K198)=0,\"\",ROUNDDOWN((L$4/((I198*3600)+(J198*60)+K198))*3.6,2))","v":""},{"$f":"IF(L198=\"\",\"\",\"km/h\")","v":""}]
[195,null,{"$f":"IF(ISBLANK($B199),\"\",LOOKUP($B199,Inscriptions!A$2:A$65496,Inscriptions!B$2:B$65498))","v":""},{"$f":"IF(ISBLANK($B199),\"\",LOOKUP($B199,Inscriptions!A$2:A$65496,Inscriptions!C$2:C$65498))","v":""},{"$f":"IF(ISBLANK($B199),\"\",LOOKUP($B199,Inscriptions!A$2:A$65496,Inscriptions!D$2:D$65498))","v":""},null,null,null,0,0,0,"",""]
[196,null,{"$f":"IF(ISBLANK($B200),\"\",LOOKUP($B200,Inscriptions!A$2:A$65496,Inscriptions!B$2:B$65498))","v":""},{"$f":"IF(ISBLANK($B200),\"\",LOOKUP($B200,Inscriptions!A$2:A$65496,Inscriptions!C$2:C$65498))","v":""},{"$f":"IF(ISBLANK($B200),\"\",LOOKUP($B200,Inscriptions!A$2:A$65496,Inscriptions!D$2:D$65498))","v":""},null,null,null,0,0,0,"",""]
[197,null,{"$f":"IF(ISBLANK($B201),\"\",LOOKUP($B201,Inscriptions!A$2:A$65496,Inscriptions!B$2:B$65498))","v":""},{"$f":"IF(ISBLANK($B201),\"\",LOOKUP($B201,Inscriptions!A$2:A$65496,Inscriptions!C$2:C$65498))","v":""},{"$f":"IF(ISBLANK($B201),\"\",LOOKUP($B201,Inscriptions!A$2:A$65496,Inscriptions!D$2:D$65498))","v":""},null,null,null,0,0,0,"",""]
[198,null,{"$f":"IF(ISBLANK($B202),\"\",LOOKUP($B202,Inscriptions!A$2:A$65496,Inscriptions!B$2:B$65498))","v":""},{"$f":"IF(ISBLANK($B202),\"\",LOOKUP($B202,Inscriptions!A$2:A$65496,Inscriptions!C$2:C$65498))","v":""},{"$f":"IF(ISBLANK($B202),\"\",LOOKUP($B202,Inscriptions!A$2:A$65496,Inscriptions!D$2:D$65498))","v":""},null,null,null,0,0,0,"",""]
[199,null,{"$f":"IF(ISBLANK($B203),\"\",LOOKUP($B203,Inscriptions!A$2:A$65496,Inscriptions!B$2:B$65498))","v":""},{"$f":"IF(ISBLANK($B203),\"\",LOOKUP($B203,Inscriptions!A$2:A$65496,Inscriptions!C$2:C$65498))","v":""},{"$f":"IF(ISBLANK($B203),\"\",LOOKUP($B203,Inscriptions!A$2:A$65496,Inscriptions!D$2:D$65498))","v":""},null,null,null,0,0,0,"",""]
[200,null,{"$f":"IF(ISBLANK($B204),\"\",LOOKUP($B204,Inscriptions!A$2:A$65496,Inscriptions!B$2:B$65498))","v":""},{"$f":"IF(ISBLANK($B204),\"\",LOOKUP($B204,Inscriptions!A$2:A$65496,Inscriptions!C$2:C$65498))","v":""},{"$f":"IF(ISBLANK($B204),\"\",LOOKUP($B204,Inscriptions!A$2:A$65496,Inscriptions!D$2:D$65498))","v":""},null,null,null,0,0,0,"",""]
[201,null,{"$f":"IF(ISBLANK($B205),\"\",LOOKUP($B205,Inscriptions!A$2:A$65496,Inscriptions!B$2:B$65498))","v":""},{"$f":"IF(ISBLANK($B205),\"\",LOOKUP($B205,Inscriptions!A$2:A$65496,Inscriptions!C$2:C$65498))","v":""},{"$f":"IF(ISBLANK($B205),\"\",LOOKUP($B205,Inscriptions!A$2:A$65496,Inscriptions!D$2:D$65498))","v":""},null,null,null,0,0,0,"",""]
[202,null,{"$f":"IF(ISBLANK($B206),\"\",LOOKUP($B206,Inscriptions!A$2:A$65496,Inscriptions!B$2:B$65498))","v":""},{"$f":"IF(ISBLANK($B206),\"\",LOOKUP($B206,Inscriptions!A$2:A$65496,Inscriptions!C$2:C$65498))","v":""},{"$f":"IF(ISBLANK($B206),\"\",LOOKUP($B206,Inscriptions!A$2:A$65496,Inscriptions!D$2:D$65498))","v":""},null,null,null,0,0,0,"",""]
[203,null,{"$f":"IF(ISBLANK($B207),\"\",LOOKUP($B207,Inscriptions!A$2:A$65496,Inscriptions!B$2:B$65498))","v":""},{"$f":"IF(ISBLANK($B207),\"\",LOOKUP($B207,Inscriptions!A$2:A$65496,Inscriptions!C$2:C$65498))","v":""},{"$f":"IF(ISBLANK($B207),\"\",LOOKUP($B207,Inscriptions!A$2:A$65496,Inscriptions!D$2:D$65498))","v":""},null,null,null,0,0,0,"",""]
[204,null,{"$f":"IF(ISBLANK($B208),\"\",LOOKUP($B208,Inscriptions!A$2:A$65496,Inscriptions!B$2:B$65498))","v":""},{"$f":"IF(ISBLANK($B208),\"\",LOOKUP($B208,Inscriptions!A$2:A$65496,Inscriptions!C$2:C$65498))","v":""},{"$f":"IF(ISBLANK($B208),\"\",LOOKUP($B208,Inscriptions!A$2:A$65496,Inscriptions!D$2:D$65498))","v":""},null,null,null,0,0,0,"",""]
[205,null,{"$f":"IF(ISBLANK($B209),\"\",LOOKUP($B209,Inscriptions!A$2:A$65496,Inscriptions!B$2:B$65498))","v":""},{"$f":"IF(ISBLANK($B209),\"\",LOOKUP($B209,Inscriptions!A$2:A$65496,Inscriptions!C$2:C$65498))","v":""},{"$f":"IF(ISBLANK($B209),\"\",LOOKUP($B209,Inscriptions!A$2:A$65496,Inscriptions!D$2:D$65498))","v":""},null,null,null,0,0,0,"",""]
[206,null,{"$f":"IF(ISBLANK($B210),\"\",LOOKUP($B210,Inscriptions!A$2:A$65496,Inscriptions!B$2:B$65498))","v":""},{"$f":"IF(ISBLANK($B210),\"\",LOOKUP($B210,Inscriptions!A$2:A$65496,Inscriptions!C$2:C$65498))","v":""},{"$f":"IF(ISBLANK($B210),\"\",LOOKUP($B210,Inscriptions!A$2:A$65496,Inscriptions!D$2:D$65498))","v":""},null,null,null,0,0,0,"",""]
[207,null,{"$f":"IF(ISBLANK($B211),\"\",LOOKUP($B211,Inscriptions!A$2:A$65496,Inscriptions!B$2:B$65498))","v":""},{"$f":"IF(ISBLANK($B211),\"\",LOOKUP($B211,Inscriptions!A$2:A$65496,Inscriptions!C$2:C$65498))","v":""},{"$f":"IF(ISBLANK($B211),\"\",LOOKUP($B211,Inscriptions!A$2:A$65496,Inscriptions!D$2:D$65498))","v":""},null,null,null,0,0,0,"",""]
[208,null,{"$f":"IF(ISBLANK($B212),\"\",LOOKUP($B212,Inscriptions!A$2:A$65496,Inscriptions!B$2:B$65498))","v":""},{"$f":"IF(ISBLANK($B212),\"\",LOOKUP($B212,Inscriptions!A$2:A$65496,Inscriptions!C$2:C$65498))","v":""},{"$f":"IF(ISBLANK($B212),\"\",LOOKUP($B212,Inscriptions!A$2:A$65496,Inscriptions!D$2:D$65498))","v":""},null,null,null,0,0,0,"",""]
[209,null,{"$f":"IF(ISBLANK($B213),\"\",LOOKUP($B213,Inscriptions!A$2:A$65496,Inscriptions!B$2:B$65498))","v":""},{"$f":"IF(ISBLANK($B213),\"\",LOOKUP($B213,Inscriptions!A$2:A$65496,Inscriptions!C$2:C$65498))","v":""},{"$f":"IF(ISBLANK($B213),\"\",LOOKUP($B213,Inscriptions!A$2:A$65496,Inscriptions!D$2:D$65498))","v":""},null,null,null,0,0,0,"",""]
[210,null,{"$f":"IF(ISBLANK($B214),\"\",LOOKUP($B214,Inscriptions!A$2:A$65496,Inscriptions!B$2:B$65498))","v":""},{"$f":"IF(ISBLANK($B214),\"\",LOOKUP($B214,Inscriptions!A$2:A$65496,Inscriptions!C$2:C$65498))","v":""},{"$f":"IF(ISBLANK($B214),\"\",LOOKUP($B214,Inscriptions!A$2:A$65496,Inscriptions!D$2:D$65498))","v":""},null,null,null,0,0,0,"",""]
[211,null,{"$f":"IF(ISBLANK($B215),\"\",LOOKUP($B215,Inscriptions!A$2:A$65496,Inscriptions!B$2:B$65498))","v":""},{"$f":"IF(ISBLANK($B215),\"\",LOOKUP($B215,Inscriptions!A$2:A$65496,Inscriptions!C$2:C$65498))","v":""},{"$f":"IF(ISBLANK($B215),\"\",LOOKUP($B215,Inscriptions!A$2:A$65496,Inscriptions!D$2:D$65498))","v":""},null,null,null,0,0,0,"",""]
[212,null,{"$f":"IF(ISBLANK($B216),\"\",LOOKUP($B216,Inscriptions!A$2:A$65496,Inscriptions!B$2:B$65498))","v":""},{"$f":"IF(ISBLANK($B216),\"\",LOOKUP($B216,Inscriptions!A$2:A$65496,Inscriptions!C$2:C$65498))","v":""},{"$f":"IF(ISBLANK($B216),\"\",LOOKUP($B216,Inscriptions!A$2:A$65496,Inscriptions!D$2:D$65498))","v":""},null,null,null,0,0,0,"",""]
[213,null,{"$f":"IF(ISBLANK($B217),\"\",LOOKUP($B217,Inscriptions!A$2:A$65496,Inscriptions!B$2:B$65498))","v":""},{"$f":"IF(ISBLANK($B217),\"\",LOOKUP($B217,Inscriptions!A$2:A$65496,Inscriptions!C$2:C$65498))","v":""},{"$f":"IF(ISBLANK($B217),\"\",LOOKUP($B217,Inscriptions!A$2:A$65496,Inscriptions!D$2:D$65498))","v":""},null,null,null,0,0,0,"",""]
[214,null,{"$f":"IF(ISBLANK($B218),\"\",LOOKUP($B218,Inscriptions!A$2:A$65496,Inscriptions!B$2:B$65498))","v":""},{"$f":"IF(ISBLANK($B218),\"\",LOOKUP($B218,Inscriptions!A$2:A$65496,Inscriptions!C$2:C$65498))","v":""},{"$f":"IF(ISBLANK($B218),\"\",LOOKUP($B218,Inscriptions!A$2:A$65496,Inscriptions!D$2:D$65498))","v":""},null,null,null,0,0,0,"",""]
[215,null,{"$f":"IF(ISBLANK($B219),\"\",LOOKUP($B219,Inscriptions!A$2:A$65496,Inscriptions!B$2:B$65498))","v":""},{"$f":"IF(ISBLANK($B219),\"\",LOOKUP($B219,Inscriptions!A$2:A$65496,Inscriptions!C$2:C$65498))","v":""},{"$f":"IF(ISBLANK($B219),\"\",LOOKUP($B219,Inscriptions!A$2:A$65496,Inscriptions!D$2:D$65498))","v":""},null,null,null,0,0,0,"",""]
[216,null,{"$f":"IF(ISBLANK($B220),\"\",LOOKUP($B220,Inscriptions!A$2:A$65496,Inscriptions!B$2:B$65498))","v":""},{"$f":"IF(ISBLANK($B220),\"\",LOOKUP($B220,Inscriptions!A$2:A$65496,Inscriptions!C$2:C$65498))","v":""},{"$f":"IF(ISBLANK($B220),\"\",LOOKUP($B220,Inscriptions!A$2:A$65496,Inscriptions!D$2:D$65498))","v":""},null,null,null,0,0,0,"",""]
[217,null,{"$f":"IF(ISBLANK($B221),\"\",LOOKUP($B221,Inscriptions!A$2:A$65496,Inscriptions!B$2:B$65498))","v":""},{"$f":"IF(ISBLANK($B221),\"\",LOOKUP($B221,Inscriptions!A$2:A$65496,Inscriptions!C$2:C$65498))","v":""},{"$f":"IF(ISBLANK($B221),\"\",LOOKUP($B221,Inscriptions!A$2:A$65496,Inscriptions!D$2:D$65498))","v":""},null,null,null,0,0,0,"",""]
[218,null,{"$f":"IF(ISBLANK($B222),\"\",LOOKUP($B222,Inscriptions!A$2:A$65496,Inscriptions!B$2:B$65498))","v":""},{"$f":"IF(ISBLANK($B222),\"\",LOOKUP($B222,Inscriptions!A$2:A$65496,Inscriptions!C$2:C$65498))","v":""},{"$f":"IF(ISBLANK($B222),\"\",LOOKUP($B222,Inscriptions!A$2:A$65496,Inscriptions!D$2:D$65498))","v":""},null,null,null,0,0,0,"",""]
[219,null,{"$f":"IF(ISBLANK($B223),\"\",LOOKUP($B223,Inscriptions!A$2:A$65496,Inscriptions!B$2:B$65498))","v":""},{"$f":"IF(ISBLANK($B223),\"\",LOOKUP($B223,Inscriptions!A$2:A$65496,Inscriptions!C$2:C$65498))","v":""},{"$f":"IF(ISBLANK($B223),\"\",LOOKUP($B223,Inscriptions!A$2:A$65496,Inscriptions!D$2:D$65498))","v":""},null,null,null,0,0,0,"",""]
[220,null,{"$f":"IF(ISBLANK($B224),\"\",LOOKUP($B224,Inscriptions!A$2:A$65496,Inscriptions!B$2:B$65498))","v":""},{"$f":"IF(ISBLANK($B224),\"\",LOOKUP($B224,Inscriptions!A$2:A$65496,Inscriptions!C$2:C$65498))","v":""},{"$f":"IF(ISBLANK($B224),\"\",LOOKUP($B224,Inscriptions!A$2:A$65496,Inscriptions!D$2:D$65498))","v":""},null,null,null,0,0,0,"",""]
[221,null,{"$f":"IF(ISBLANK($B225),\"\",LOOKUP($B225,Inscriptions!A$2:A$65496,Inscriptions!B$2:B$65498))","v":""},{"$f":"IF(ISBLANK($B225),\"\",LOOKUP($B225,Inscriptions!A$2:A$65496,Inscriptions!C$2:C$65498))","v":""},{"$f":"IF(ISBLANK($B225),\"\",LOOKUP($B225,Inscriptions!A$2:A$65496,Inscriptions!D$2:D$65498))","v":""},null,null,null,0,0,0,"",""]
[222,null,{"$f":"IF(ISBLANK($B226),\"\",LOOKUP($B226,Inscriptions!A$2:A$65496,Inscriptions!B$2:B$65498))","v":""},{"$f":"IF(ISBLANK($B226),\"\",LOOKUP($B226,Inscriptions!A$2:A$65496,Inscriptions!C$2:C$65498))","v":""},{"$f":"IF(ISBLANK($B226),\"\",LOOKUP($B226,Inscriptions!A$2:A$65496,Inscriptions!D$2:D$65498))","v":""},null,null,null,0,0,0,"",""]
[223,null,{"$f":"IF(ISBLANK($B227),\"\",LOOKUP($B227,Inscriptions!A$2:A$65496,Inscriptions!B$2:B$65498))","v":""},{"$f":"IF(ISBLANK($B227),\"\",LOOKUP($B227,Inscriptions!A$2:A$65496,Inscriptions!C$2:C$65498))","v":""},{"$f":"IF(ISBLANK($B227),\"\",LOOKUP($B227,Inscriptions!A$2:A$65496,Inscriptions!D$2:D$65498))","v":""},null,null,null,0,0,0,"",""]
[224,null,{"$f":"IF(ISBLANK($B228),\"\",LOOKUP($B228,Inscriptions!A$2:A$65496,Inscriptions!B$2:B$65498))","v":""},{"$f":"IF(ISBLANK($B228),\"\",LOOKUP($B228,Inscriptions!A$2:A$65496,Inscriptions!C$2:C$65498))","v":""},{"$f":"IF(ISBLANK($B228),\"\",LOOKUP($B228,Inscriptions!A$2:A$65496,Inscriptions!D$2:D$65498))","v":""},null,null,null,0,0,0,"",""]
[225,null,{"$f":"IF(ISBLANK($B229),\"\",LOOKUP($B229,Inscriptions!A$2:A$65496,Inscriptions!B$2:B$65498))","v":""},{"$f":"IF(ISBLANK($B229),\"\",LOOKUP($B229,Inscriptions!A$2:A$65496,Inscriptions!C$2:C$65498))","v":""},{"$f":"IF(ISBLANK($B229),\"\",LOOKUP($B229,Inscriptions!A$2:A$65496,Inscriptions!D$2:D$65498))","v":""},null,null,null,0,0,0,"",""]
[226,null,{"$f":"IF(ISBLANK($B230),\"\",LOOKUP($B230,Inscriptions!A$2:A$65496,Inscriptions!B$2:B$65498))","v":""},{"$f":"IF(ISBLANK($B230),\"\",LOOKUP($B230,Inscriptions!A$2:A$65496,Inscriptions!C$2:C$65498))","v":""},{"$f":"IF(ISBLANK($B230),\"\",LOOKUP($B230,Inscriptions!A$2:A$65496,Inscriptions!D$2:D$65498))","v":""},null,null,null,0,0,0,"",""]
[227,null,{"$f":"IF(ISBLANK($B231),\"\",LOOKUP($B231,Inscriptions!A$2:A$65496,Inscriptions!B$2:B$65498))","v":""},{"$f":"IF(ISBLANK($B231),\"\",LOOKUP($B231,Inscriptions!A$2:A$65496,Inscriptions!C$2:C$65498))","v":""},{"$f":"IF(ISBLANK($B231),\"\",LOOKUP($B231,Inscriptions!A$2:A$65496,Inscriptions!D$2:D$65498))","v":""},null,null,null,0,0,0,"",""]
[228,null,{"$f":"IF(ISBLANK($B232),\"\",LOOKUP($B232,Inscriptions!A$2:A$65496,Inscriptions!B$2:B$65498))","v":""},{"$f":"IF(ISBLANK($B232),\"\",LOOKUP($B232,Inscriptions!A$2:A$65496,Inscriptions!C$2:C$65498))","v":""},{"$f":"IF(ISBLANK($B232),\"\",LOOKUP($B232,Inscriptions!A$2:A$65496,Inscriptions!D$2:D$65498))","v":""},null,null,null,0,0,0,"",""]
[229,null,{"$f":"IF(ISBLANK($B233),\"\",LOOKUP($B233,Inscriptions!A$2:A$65496,Inscriptions!B$2:B$65498))","v":""},{"$f":"IF(ISBLANK($B233),\"\",LOOKUP($B233,Inscriptions!A$2:A$65496,Inscriptions!C$2:C$65498))","v":""},{"$f":"IF(ISBLANK($B233),\"\",LOOKUP($B233,Inscriptions!A$2:A$65496,Inscriptions!D$2:D$65498))","v":""},null,null,null,0,0,0,"",""]
[230,null,{"$f":"IF(ISBLANK($B234),\"\",LOOKUP($B234,Inscriptions!A$2:A$65496,Inscriptions!B$2:B$65498))","v":""},{"$f":"IF(ISBLANK($B234),\"\",LOOKUP($B234,Inscriptions!A$2:A$65496,Inscriptions!C$2:C$65498))","v":""},{"$f":"IF(ISBLANK($B234),\"\",LOOKUP($B234,Inscriptions!A$2:A$65496,Inscriptions!D$2:D$65498))","v":""},null,null,null,0,0,0,"",""]
[231,null,{"$f":"IF(ISBLANK($B235),\"\",LOOKUP($B235,Inscriptions!A$2:A$65496,Inscriptions!B$2:B$65498))","v":""},{"$f":"IF(ISBLANK($B235),\"\",LOOKUP($B235,Inscriptions!A$2:A$65496,Inscriptions!C$2:C$65498))","v":""},{"$f":"IF(ISBLANK($B235),\"\",LOOKUP($B235,Inscriptions!A$2:A$65496,Inscriptions!D$2:D$65498))","v":""},null,null,null,0,0,0,"",""]
[232,null,{"$f":"IF(ISBLANK($B236),\"\",LOOKUP($B236,Inscriptions!A$2:A$65496,Inscriptions!B$2:B$65498))","v":""},{"$f":"IF(ISBLANK($B236),\"\",LOOKUP($B236,Inscriptions!A$2:A$65496,Inscriptions!C$2:C$65498))","v":""},{"$f":"IF(ISBLANK($B236),\"\",LOOKUP($B236,Inscriptions!A$2:A$65496,Inscriptions!D$2:D$65498))","v":""},null,null,null,0,0,0,"",""]
[233,null,{"$f":"IF(ISBLANK($B237),\"\",LOOKUP($B237,Inscriptions!A$2:A$65496,Inscriptions!B$2:B$65498))","v":""},{"$f":"IF(ISBLANK($B237),\"\",LOOKUP($B237,Inscriptions!A$2:A$65496,Inscriptions!C$2:C$65498))","v":""},{"$f":"IF(ISBLANK($B237),\"\",LOOKUP($B237,Inscriptions!A$2:A$65496,Inscriptions!D$2:D$65498))","v":""},null,null,null,0,0,0,"",""]
[234,null,{"$f":"IF(ISBLANK($B238),\"\",LOOKUP($B238,Inscriptions!A$2:A$65496,Inscriptions!B$2:B$65498))","v":""},{"$f":"IF(ISBLANK($B238),\"\",LOOKUP($B238,Inscriptions!A$2:A$65496,Inscriptions!C$2:C$65498))","v":""},{"$f":"IF(ISBLANK($B238),\"\",LOOKUP($B238,Inscriptions!A$2:A$65496,Inscriptions!D$2:D$65498))","v":""},null,null,null,0,0,0,"",""]
[235,null,{"$f":"IF(ISBLANK($B239),\"\",LOOKUP($B239,Inscriptions!A$2:A$65496,Inscriptions!B$2:B$65498))","v":""},{"$f":"IF(ISBLANK($B239),\"\",LOOKUP($B239,Inscriptions!A$2:A$65496,Inscriptions!C$2:C$65498))","v":""},{"$f":"IF(ISBLANK($B239),\"\",LOOKUP($B239,Inscriptions!A$2:A$65496,Inscriptions!D$2:D$65498))","v":""},null,null,null,0,0,0,"",""]
[236,null,{"$f":"IF(ISBLANK($B240),\"\",LOOKUP($B240,Inscriptions!A$2:A$65496,Inscriptions!B$2:B$65498))","v":""},{"$f":"IF(ISBLANK($B240),\"\",LOOKUP($B240,Inscriptions!A$2:A$65496,Inscriptions!C$2:C$65498))","v":""},{"$f":"IF(ISBLANK($B240),\"\",LOOKUP($B240,Inscriptions!A$2:A$65496,Inscriptions!D$2:D$65498))","v":""},null,null,null,0,0,0,"",""]
[237,null,{"$f":"IF(ISBLANK($B241),\"\",LOOKUP($B241,Inscriptions!A$2:A$65496,Inscriptions!B$2:B$65498))","v":""},{"$f":"IF(ISBLANK($B241),\"\",LOOKUP($B241,Inscriptions!A$2:A$65496,Inscriptions!C$2:C$65498))","v":""},{"$f":"IF(ISBLANK($B241),\"\",LOOKUP($B241,Inscriptions!A$2:A$65496,Inscriptions!D$2:D$65498))","v":""},null,null,null,0,0,0,"",""]
[238,null,{"$f":"IF(ISBLANK($B242),\"\",LOOKUP($B242,Inscriptions!A$2:A$65496,Inscriptions!B$2:B$65498))","v":""},{"$f":"IF(ISBLANK($B242),\"\",LOOKUP($B242,Inscriptions!A$2:A$65496,Inscriptions!C$2:C$65498))","v":""},{"$f":"IF(ISBLANK($B242),\"\",LOOKUP($B242,Inscriptions!A$2:A$65496,Inscriptions!D$2:D$65498))","v":""},null,null,null,0,0,0,"",""]
[239,null,{"$f":"IF(ISBLANK($B243),\"\",LOOKUP($B243,Inscriptions!A$2:A$65496,Inscriptions!B$2:B$65498))","v":""},{"$f":"IF(ISBLANK($B243),\"\",LOOKUP($B243,Inscriptions!A$2:A$65496,Inscriptions!C$2:C$65498))","v":""},{"$f":"IF(ISBLANK($B243),\"\",LOOKUP($B243,Inscriptions!A$2:A$65496,Inscriptions!D$2:D$65498))","v":""},null,null,null,0,0,0,"",""]
[240,null,{"$f":"IF(ISBLANK($B244),\"\",LOOKUP($B244,Inscriptions!A$2:A$65496,Inscriptions!B$2:B$65498))","v":""},{"$f":"IF(ISBLANK($B244),\"\",LOOKUP($B244,Inscriptions!A$2:A$65496,Inscriptions!C$2:C$65498))","v":""},{"$f":"IF(ISBLANK($B244),\"\",LOOKUP($B244,Inscriptions!A$2:A$65496,Inscriptions!D$2:D$65498))","v":""},null,null,null,0,0,0,"",""]
[241,null,{"$f":"IF(ISBLANK($B245),\"\",LOOKUP($B245,Inscriptions!A$2:A$65496,Inscriptions!B$2:B$65498))","v":""},{"$f":"IF(ISBLANK($B245),\"\",LOOKUP($B245,Inscriptions!A$2:A$65496,Inscriptions!C$2:C$65498))","v":""},{"$f":"IF(ISBLANK($B245),\"\",LOOKUP($B245,Inscriptions!A$2:A$65496,Inscriptions!D$2:D$65498))","v":""},null,null,null,0,0,0,"",""]
[242,null,{"$f":"IF(ISBLANK($B246),\"\",LOOKUP($B246,Inscriptions!A$2:A$65496,Inscriptions!B$2:B$65498))","v":""},{"$f":"IF(ISBLANK($B246),\"\",LOOKUP($B246,Inscriptions!A$2:A$65496,Inscriptions!C$2:C$65498))","v":""},{"$f":"IF(ISBLANK($B246),\"\",LOOKUP($B246,Inscriptions!A$2:A$65496,Inscriptions!D$2:D$65498))","v":""},null,null,null,0,0,0,"",""]
[243,null,{"$f":"IF(ISBLANK($B247),\"\",LOOKUP($B247,Inscriptions!A$2:A$65496,Inscriptions!B$2:B$65498))","v":""},{"$f":"IF(ISBLANK($B247),\"\",LOOKUP($B247,Inscriptions!A$2:A$65496,Inscriptions!C$2:C$65498))","v":""},{"$f":"IF(ISBLANK($B247),\"\",LOOKUP($B247,Inscriptions!A$2:A$65496,Inscriptions!D$2:D$65498))","v":""},null,null,null,0,0,0,"",""]
[244,null,{"$f":"IF(ISBLANK($B248),\"\",LOOKUP($B248,Inscriptions!A$2:A$65496,Inscriptions!B$2:B$65498))","v":""},{"$f":"IF(ISBLANK($B248),\"\",LOOKUP($B248,Inscriptions!A$2:A$65496,Inscriptions!C$2:C$65498))","v":""},{"$f":"IF(ISBLANK($B248),\"\",LOOKUP($B248,Inscriptions!A$2:A$65496,Inscriptions!D$2:D$65498))","v":""},null,null,null,0,0,0,"",""]
[245,null,{"$f":"IF(ISBLANK($B249),\"\",LOOKUP($B249,Inscriptions!A$2:A$65496,Inscriptions!B$2:B$65498))","v":""},{"$f":"IF(ISBLANK($B249),\"\",LOOKUP($B249,Inscriptions!A$2:A$65496,Inscriptions!C$2:C$65498))","v":""},{"$f":"IF(ISBLANK($B249),\"\",LOOKUP($B249,Inscriptions!A$2:A$65496,Inscriptions!D$2:D$65498))","v":""},null,null,null,0,0,0,"",""]
[246,null,{"$f":"IF(ISBLANK($B250),\"\",LOOKUP($B250,Inscriptions!A$2:A$65496,Inscriptions!B$2:B$65498))","v":""},{"$f":"IF(ISBLANK($B250),\"\",LOOKUP($B250,Inscriptions!A$2:A$65496,Inscriptions!C$2:C$65498))","v":""},{"$f":"IF(ISBLANK($B250),\"\",LOOKUP($B250,Inscriptions!A$2:A$65496,Inscriptions!D$2:D$65498))","v":""},null,null,null,0,0,0,"",""]
[247,null,{"$f":"IF(ISBLANK($B251),\"\",LOOKUP($B251,Inscriptions!A$2:A$65496,Inscriptions!B$2:B$65498))","v":""},{"$f":"IF(ISBLANK($B251),\"\",LOOKUP($B251,Inscriptions!A$2:A$65496,Inscriptions!C$2:C$65498))","v":""},{"$f":"IF(ISBLANK($B251),\"\",LOOKUP($B251,Inscriptions!A$2:A$65496,Inscriptions!D$2:D$65498))","v":""},null,null,null,0,0,0,"",""]
[248,null,{"$f":"IF(ISBLANK($B252),\"\",LOOKUP($B252,Inscriptions!A$2:A$65496,Inscriptions!B$2:B$65498))","v":""},{"$f":"IF(ISBLANK($B252),\"\",LOOKUP($B252,Inscriptions!A$2:A$65496,Inscriptions!C$2:C$65498))","v":""},{"$f":"IF(ISBLANK($B252),\"\",LOOKUP($B252,Inscriptions!A$2:A$65496,Inscriptions!D$2:D$65498))","v":""},null,null,null,0,0,0,"",""]
[249,null,{"$f":"IF(ISBLANK($B253),\"\",LOOKUP($B253,Inscriptions!A$2:A$65496,Inscriptions!B$2:B$65498))","v":""},{"$f":"IF(ISBLANK($B253),\"\",LOOKUP($B253,Inscriptions!A$2:A$65496,Inscriptions!C$2:C$65498))","v":""},{"$f":"IF(ISBLANK($B253),\"\",LOOKUP($B253,Inscriptions!A$2:A$65496,Inscriptions!D$2:D$65498))","v":""},null,null,null,0,0,0,"",""]
[250,null,{"$f":"IF(ISBLANK($B254),\"\",LOOKUP($B254,Inscriptions!A$2:A$65496,Inscriptions!B$2:B$65498))","v":""},{"$f":"IF(ISBLANK($B254),\"\",LOOKUP($B254,Inscriptions!A$2:A$65496,Inscriptions!C$2:C$65498))","v":""},{"$f":"IF(ISBLANK($B254),\"\",LOOKUP($B254,Inscriptions!A$2:A$65496,Inscriptions!D$2:D$65498))","v":""},null,null,null,0,0,0,"",""]
[251,null,{"$f":"IF(ISBLANK($B255),\"\",LOOKUP($B255,Inscriptions!A$2:A$65496,Inscriptions!B$2:B$65498))","v":""},{"$f":"IF(ISBLANK($B255),\"\",LOOKUP($B255,Inscriptions!A$2:A$65496,Inscriptions!C$2:C$65498))","v":""},{"$f":"IF(ISBLANK($B255),\"\",LOOKUP($B255,Inscriptions!A$2:A$65496,Inscriptions!D$2:D$65498))","v":""},null,null,null,0,0,0,"",""]
[252,null,{"$f":"IF(ISBLANK($B256),\"\",LOOKUP($B256,Inscriptions!A$2:A$65496,Inscriptions!B$2:B$65498))","v":""},{"$f":"IF(ISBLANK($B256),\"\",LOOKUP($B256,Inscriptions!A$2:A$65496,Inscriptions!C$2:C$65498))","v":""},{"$f":"IF(ISBLANK($B256),\"\",LOOKUP($B256,Inscriptions!A$2:A$65496,Inscriptions!D$2:D$65498))","v":""},null,null,null,0,0,0,"",""]
[253,null,{"$f":"IF(ISBLANK($B257),\"\",LOOKUP($B257,Inscriptions!A$2:A$65496,Inscriptions!B$2:B$65498))","v":""},{"$f":"IF(ISBLANK($B257),\"\",LOOKUP($B257,Inscriptions!A$2:A$65496,Inscriptions!C$2:C$65498))","v":""},{"$f":"IF(ISBLANK($B257),\"\",LOOKUP($B257,Inscriptions!A$2:A$65496,Inscriptions!D$2:D$65498))","v":""},null,null,null,0,0,0,"",""]
[254,null,{"$f":"IF(ISBLANK($B258),\"\",LOOKUP($B258,Inscriptions!A$2:A$65496,Inscriptions!B$2:B$65498))","v":""},{"$f":"IF(ISBLANK($B258),\"\",LOOKUP($B258,Inscriptions!A$2:A$65496,Inscriptions!C$2:C$65498))","v":""},{"$f":"IF(ISBLANK($B258),\"\",LOOKUP($B258,Inscriptions!A$2:A$65496,Inscriptions!D$2:D$65498))","v":""},null,null,null,0,0,0,"",""]
[255,null,{"$f":"IF(ISBLANK($B259),\"\",LOOKUP($B259,Inscriptions!A$2:A$65496,Inscriptions!B$2:B$65498))","v":""},{"$f":"IF(ISBLANK($B259),\"\",LOOKUP($B259,Inscriptions!A$2:A$65496,Inscriptions!C$2:C$65498))","v":""},{"$f":"IF(ISBLANK($B259),\"\",LOOKUP($B259,Inscriptions!A$2:A$65496,Inscriptions!D$2:D$65498))","v":""},null,null,null,0,0,0,"",""]
[256,null,{"$f":"IF(ISBLANK($B260),\"\",LOOKUP($B260,Inscriptions!A$2:A$65496,Inscriptions!B$2:B$65498))","v":""},{"$f":"IF(ISBLANK($B260),\"\",LOOKUP($B260,Inscriptions!A$2:A$65496,Inscriptions!C$2:C$65498))","v":""},{"$f":"IF(ISBLANK($B260),\"\",LOOKUP($B260,Inscriptions!A$2:A$65496,Inscriptions!D$2:D$65498))","v":""},null,null,null,0,0,0,"",""]
[257,null,{"$f":"IF(ISBLANK($B261),\"\",LOOKUP($B261,Inscriptions!A$2:A$65496,Inscriptions!B$2:B$65498))","v":""},{"$f":"IF(ISBLANK($B261),\"\",LOOKUP($B261,Inscriptions!A$2:A$65496,Inscriptions!C$2:C$65498))","v":""},{"$f":"IF(ISBLANK($B261),\"\",LOOKUP($B261,Inscriptions!A$2:A$65496,Inscriptions!D$2:D$65498))","v":""},null,null,null,0,0,0,"",""]
[258,null,{"$f":"IF(ISBLANK($B262),\"\",LOOKUP($B262,Inscriptions!A$2:A$65496,Inscriptions!B$2:B$65498))","v":""},{"$f":"IF(ISBLANK($B262),\"\",LOOKUP($B262,Inscriptions!A$2:A$65496,Inscriptions!C$2:C$65498))","v":""},{"$f":"IF(ISBLANK($B262),\"\",LOOKUP($B262,Inscriptions!A$2:A$65496,Inscriptions!D$2:D$65498))","v":""},null,null,null,{"$f":"ROUNDDOWN(H262/10000,0)","v":0},{"$f":"ROUNDDOWN((H262-I262*10000)/100,0)","v":0},{"$f":"ROUNDDOWN((H262-(I262*10000)-(J262*100)),0)","v":0},{"$f":"IF((I262+J262+K262)=0,\"\",ROUNDDOWN((L$4/((I262*3600)+(J262*60)+K262))*3.6,2))","v":""},{"$f":"IF(L262=\"\",\"\",\"km/h\")","v":""}]
[259,null,{"$f":"IF(ISBLANK($B263),\"\",LOOKUP($B263,Inscriptions!A$2:A$65496,Inscriptions!B$2:B$65498))","v":""},{"$f":"IF(ISBLANK($B263),\"\",LOOKUP($B263,Inscriptions!A$2:A$65496,Inscriptions!C$2:C$65498))","v":""},{"$f":"IF(ISBLANK($B263),\"\",LOOKUP($B263,Inscriptions!A$2:A$65496,Inscriptions!D$2:D$65498))","v":""},null,null,null,0,0,0,"",""]
[260,null,{"$f":"IF(ISBLANK($B264),\"\",LOOKUP($B264,Inscriptions!A$2:A$65496,Inscriptions!B$2:B$65498))","v":""},{"$f":"IF(ISBLANK($B264),\"\",LOOKUP($B264,Inscriptions!A$2:A$65496,Inscriptions!C$2:C$65498))","v":""},{"$f":"IF(ISBLANK($B264),\"\",LOOKUP($B264,Inscriptions!A$2:A$65496,Inscriptions!D$2:D$65498))","v":""},null,null,null,0,0,0,"",""]
[261,null,{"$f":"IF(ISBLANK($B265),\"\",LOOKUP($B265,Inscriptions!A$2:A$65496,Inscriptions!B$2:B$65498))","v":""},{"$f":"IF(ISBLANK($B265),\"\",LOOKUP($B265,Inscriptions!A$2:A$65496,Inscriptions!C$2:C$65498))","v":""},{"$f":"IF(ISBLANK($B265),\"\",LOOKUP($B265,Inscriptions!A$2:A$65496,Inscriptions!D$2:D$65498))","v":""},null,null,null,0,0,0,"",""]
[262,null,{"$f":"IF(ISBLANK($B266),\"\",LOOKUP($B266,Inscriptions!A$2:A$65496,Inscriptions!B$2:B$65498))","v":""},{"$f":"IF(ISBLANK($B266),\"\",LOOKUP($B266,Inscriptions!A$2:A$65496,Inscriptions!C$2:C$65498))","v":""},{"$f":"IF(ISBLANK($B266),\"\",LOOKUP($B266,Inscriptions!A$2:A$65496,Inscriptions!D$2:D$65498))","v":""},null,null,null,0,0,0,"",""]
[263,null,{"$f":"IF(ISBLANK($B267),\"\",LOOKUP($B267,Inscriptions!A$2:A$65496,Inscriptions!B$2:B$65498))","v":""},{"$f":"IF(ISBLANK($B267),\"\",LOOKUP($B267,Inscriptions!A$2:A$65496,Inscriptions!C$2:C$65498))","v":""},{"$f":"IF(ISBLANK($B267),\"\",LOOKUP($B267,Inscriptions!A$2:A$65496,Inscriptions!D$2:D$65498))","v":""},null,null,null,0,0,0,"",""]
[264,null,{"$f":"IF(ISBLANK($B268),\"\",LOOKUP($B268,Inscriptions!A$2:A$65496,Inscriptions!B$2:B$65498))","v":""},{"$f":"IF(ISBLANK($B268),\"\",LOOKUP($B268,Inscriptions!A$2:A$65496,Inscriptions!C$2:C$65498))","v":""},{"$f":"IF(ISBLANK($B268),\"\",LOOKUP($B268,Inscriptions!A$2:A$65496,Inscriptions!D$2:D$65498))","v":""},null,null,null,0,0,0,"",""]
[265,null,{"$f":"IF(ISBLANK($B269),\"\",LOOKUP($B269,Inscriptions!A$2:A$65496,Inscriptions!B$2:B$65498))","v":""},{"$f":"IF(ISBLANK($B269),\"\",LOOKUP($B269,Inscriptions!A$2:A$65496,Inscriptions!C$2:C$65498))","v":""},{"$f":"IF(ISBLANK($B269),\"\",LOOKUP($B269,Inscriptions!A$2:A$65496,Inscriptions!D$2:D$65498))","v":""},null,null,null,0,0,0,"",""]
[266,null,{"$f":"IF(ISBLANK($B270),\"\",LOOKUP($B270,Inscriptions!A$2:A$65496,Inscriptions!B$2:B$65498))","v":""},{"$f":"IF(ISBLANK($B270),\"\",LOOKUP($B270,Inscriptions!A$2:A$65496,Inscriptions!C$2:C$65498))","v":""},{"$f":"IF(ISBLANK($B270),\"\",LOOKUP($B270,Inscriptions!A$2:A$65496,Inscriptions!D$2:D$65498))","v":""},null,null,null,0,0,0,"",""]
[267,null,{"$f":"IF(ISBLANK($B271),\"\",LOOKUP($B271,Inscriptions!A$2:A$65496,Inscriptions!B$2:B$65498))","v":""},{"$f":"IF(ISBLANK($B271),\"\",LOOKUP($B271,Inscriptions!A$2:A$65496,Inscriptions!C$2:C$65498))","v":""},{"$f":"IF(ISBLANK($B271),\"\",LOOKUP($B271,Inscriptions!A$2:A$65496,Inscriptions!D$2:D$65498))","v":""},null,null,null,0,0,0,"",""]
[268,null,{"$f":"IF(ISBLANK($B272),\"\",LOOKUP($B272,Inscriptions!A$2:A$65496,Inscriptions!B$2:B$65498))","v":""},{"$f":"IF(ISBLANK($B272),\"\",LOOKUP($B272,Inscriptions!A$2:A$65496,Inscriptions!C$2:C$65498))","v":""},{"$f":"IF(ISBLANK($B272),\"\",LOOKUP($B272,Inscriptions!A$2:A$65496,Inscriptions!D$2:D$65498))","v":""},null,null,null,0,0,0,"",""]
[269,null,{"$f":"IF(ISBLANK($B273),\"\",LOOKUP($B273,Inscriptions!A$2:A$65496,Inscriptions!B$2:B$65498))","v":""},{"$f":"IF(ISBLANK($B273),\"\",LOOKUP($B273,Inscriptions!A$2:A$65496,Inscriptions!C$2:C$65498))","v":""},{"$f":"IF(ISBLANK($B273),\"\",LOOKUP($B273,Inscriptions!A$2:A$65496,Inscriptions!D$2:D$65498))","v":""},null,null,null,0,0,0,"",""]
[270,null,{"$f":"IF(ISBLANK($B274),\"\",LOOKUP($B274,Inscriptions!A$2:A$65496,Inscriptions!B$2:B$65498))","v":""},{"$f":"IF(ISBLANK($B274),\"\",LOOKUP($B274,Inscriptions!A$2:A$65496,Inscriptions!C$2:C$65498))","v":""},{"$f":"IF(ISBLANK($B274),\"\",LOOKUP($B274,Inscriptions!A$2:A$65496,Inscriptions!D$2:D$65498))","v":""},null,null,null,0,0,0,"",""]
[271,null,{"$f":"IF(ISBLANK($B275),\"\",LOOKUP($B275,Inscriptions!A$2:A$65496,Inscriptions!B$2:B$65498))","v":""},{"$f":"IF(ISBLANK($B275),\"\",LOOKUP($B275,Inscriptions!A$2:A$65496,Inscriptions!C$2:C$65498))","v":""},{"$f":"IF(ISBLANK($B275),\"\",LOOKUP($B275,Inscriptions!A$2:A$65496,Inscriptions!D$2:D$65498))","v":""},null,null,null,0,0,0,"",""]
[272,null,{"$f":"IF(ISBLANK($B276),\"\",LOOKUP($B276,Inscriptions!A$2:A$65496,Inscriptions!B$2:B$65498))","v":""},{"$f":"IF(ISBLANK($B276),\"\",LOOKUP($B276,Inscriptions!A$2:A$65496,Inscriptions!C$2:C$65498))","v":""},{"$f":"IF(ISBLANK($B276),\"\",LOOKUP($B276,Inscriptions!A$2:A$65496,Inscriptions!D$2:D$65498))","v":""},null,null,null,0,0,0,"",""]
[273,null,{"$f":"IF(ISBLANK($B277),\"\",LOOKUP($B277,Inscriptions!A$2:A$65496,Inscriptions!B$2:B$65498))","v":""},{"$f":"IF(ISBLANK($B277),\"\",LOOKUP($B277,Inscriptions!A$2:A$65496,Inscriptions!C$2:C$65498))","v":""},{"$f":"IF(ISBLANK($B277),\"\",LOOKUP($B277,Inscriptions!A$2:A$65496,Inscriptions!D$2:D$65498))","v":""},null,null,null,0,0,0,"",""]
[274,null,{"$f":"IF(ISBLANK($B278),\"\",LOOKUP($B278,Inscriptions!A$2:A$65496,Inscriptions!B$2:B$65498))","v":""},{"$f":"IF(ISBLANK($B278),\"\",LOOKUP($B278,Inscriptions!A$2:A$65496,Inscriptions!C$2:C$65498))","v":""},{"$f":"IF(ISBLANK($B278),\"\",LOOKUP($B278,Inscriptions!A$2:A$65496,Inscriptions!D$2:D$65498))","v":""},null,null,null,0,0,0,"",""]
[275,null,{"$f":"IF(ISBLANK($B279),\"\",LOOKUP($B279,Inscriptions!A$2:A$65496,Inscriptions!B$2:B$65498))","v":""},{"$f":"IF(ISBLANK($B279),\"\",LOOKUP($B279,Inscriptions!A$2:A$65496,Inscriptions!C$2:C$65498))","v":""},{"$f":"IF(ISBLANK($B279),\"\",LOOKUP($B279,Inscriptions!A$2:A$65496,Inscriptions!D$2:D$65498))","v":""},null,null,null,0,0,0,"",""]
[276,null,{"$f":"IF(ISBLANK($B280),\"\",LOOKUP($B280,Inscriptions!A$2:A$65496,Inscriptions!B$2:B$65498))","v":""},{"$f":"IF(ISBLANK($B280),\"\",LOOKUP($B280,Inscriptions!A$2:A$65496,Inscriptions!C$2:C$65498))","v":""},{"$f":"IF(ISBLANK($B280),\"\",LOOKUP($B280,Inscriptions!A$2:A$65496,Inscriptions!D$2:D$65498))","v":""},null,null,null,0,0,0,"",""]
[277,null,{"$f":"IF(ISBLANK($B281),\"\",LOOKUP($B281,Inscriptions!A$2:A$65496,Inscriptions!B$2:B$65498))","v":""},{"$f":"IF(ISBLANK($B281),\"\",LOOKUP($B281,Inscriptions!A$2:A$65496,Inscriptions!C$2:C$65498))","v":""},{"$f":"IF(ISBLANK($B281),\"\",LOOKUP($B281,Inscriptions!A$2:A$65496,Inscriptions!D$2:D$65498))","v":""},null,null,null,0,0,0,"",""]
[278,null,{"$f":"IF(ISBLANK($B282),\"\",LOOKUP($B282,Inscriptions!A$2:A$65496,Inscriptions!B$2:B$65498))","v":""},{"$f":"IF(ISBLANK($B282),\"\",LOOKUP($B282,Inscriptions!A$2:A$65496,Inscriptions!C$2:C$65498))","v":""},{"$f":"IF(ISBLANK($B282),\"\",LOOKUP($B282,Inscriptions!A$2:A$65496,Inscriptions!D$2:D$65498))","v":""},null,null,null,0,0,0,"",""]
[279,null,{"$f":"IF(ISBLANK($B283),\"\",LOOKUP($B283,Inscriptions!A$2:A$65496,Inscriptions!B$2:B$65498))","v":""},{"$f":"IF(ISBLANK($B283),\"\",LOOKUP($B283,Inscriptions!A$2:A$65496,Inscriptions!C$2:C$65498))","v":""},{"$f":"IF(ISBLANK($B283),\"\",LOOKUP($B283,Inscriptions!A$2:A$65496,Inscriptions!D$2:D$65498))","v":""},null,null,null,0,0,0,"",""]
[280,null,{"$f":"IF(ISBLANK($B284),\"\",LOOKUP($B284,Inscriptions!A$2:A$65496,Inscriptions!B$2:B$65498))","v":""},{"$f":"IF(ISBLANK($B284),\"\",LOOKUP($B284,Inscriptions!A$2:A$65496,Inscriptions!C$2:C$65498))","v":""},{"$f":"IF(ISBLANK($B284),\"\",LOOKUP($B284,Inscriptions!A$2:A$65496,Inscriptions!D$2:D$65498))","v":""},null,null,null,0,0,0,"",""]
[281,null,{"$f":"IF(ISBLANK($B285),\"\",LOOKUP($B285,Inscriptions!A$2:A$65496,Inscriptions!B$2:B$65498))","v":""},{"$f":"IF(ISBLANK($B285),\"\",LOOKUP($B285,Inscriptions!A$2:A$65496,Inscriptions!C$2:C$65498))","v":""},{"$f":"IF(ISBLANK($B285),\"\",LOOKUP($B285,Inscriptions!A$2:A$65496,Inscriptions!D$2:D$65498))","v":""},null,null,null,0,0,0,"",""]
[282,null,{"$f":"IF(ISBLANK($B286),\"\",LOOKUP($B286,Inscriptions!A$2:A$65496,Inscriptions!B$2:B$65498))","v":""},{"$f":"IF(ISBLANK($B286),\"\",LOOKUP($B286,Inscriptions!A$2:A$65496,Inscriptions!C$2:C$65498))","v":""},{"$f":"IF(ISBLANK($B286),\"\",LOOKUP($B286,Inscriptions!A$2:A$65496,Inscriptions!D$2:D$65498))","v":""},null,null,null,0,0,0,"",""]
[283,null,{"$f":"IF(ISBLANK($B287),\"\",LOOKUP($B287,Inscriptions!A$2:A$65496,Inscriptions!B$2:B$65498))","v":""},{"$f":"IF(ISBLANK($B287),\"\",LOOKUP($B287,Inscriptions!A$2:A$65496,Inscriptions!C$2:C$65498))","v":""},{"$f":"IF(ISBLANK($B287),\"\",LOOKUP($B287,Inscriptions!A$2:A$65496,Inscriptions!D$2:D$65498))","v":""},null,null,null,0,0,0,"",""]
[284,null,{"$f":"IF(ISBLANK($B288),\"\",LOOKUP($B288,Inscriptions!A$2:A$65496,Inscriptions!B$2:B$65498))","v":""},{"$f":"IF(ISBLANK($B288),\"\",LOOKUP($B288,Inscriptions!A$2:A$65496,Inscriptions!C$2:C$65498))","v":""},{"$f":"IF(ISBLANK($B288),\"\",LOOKUP($B288,Inscriptions!A$2:A$65496,Inscriptions!D$2:D$65498))","v":""},null,null,null,0,0,0,"",""]
[285,null,{"$f":"IF(ISBLANK($B289),\"\",LOOKUP($B289,Inscriptions!A$2:A$65496,Inscriptions!B$2:B$65498))","v":""},{"$f":"IF(ISBLANK($B289),\"\",LOOKUP($B289,Inscriptions!A$2:A$65496,Inscriptions!C$2:C$65498))","v":""},{"$f":"IF(ISBLANK($B289),\"\",LOOKUP($B289,Inscriptions!A$2:A$65496,Inscriptions!D$2:D$65498))","v":""},null,null,null,0,0,0,"",""]
[286,null,{"$f":"IF(ISBLANK($B290),\"\",LOOKUP($B290,Inscriptions!A$2:A$65496,Inscriptions!B$2:B$65498))","v":""},{"$f":"IF(ISBLANK($B290),\"\",LOOKUP($B290,Inscriptions!A$2:A$65496,Inscriptions!C$2:C$65498))","v":""},{"$f":"IF(ISBLANK($B290),\"\",LOOKUP($B290,Inscriptions!A$2:A$65496,Inscriptions!D$2:D$65498))","v":""},null,null,null,0,0,0,"",""]
[287,null,{"$f":"IF(ISBLANK($B291),\"\",LOOKUP($B291,Inscriptions!A$2:A$65496,Inscriptions!B$2:B$65498))","v":""},{"$f":"IF(ISBLANK($B291),\"\",LOOKUP($B291,Inscriptions!A$2:A$65496,Inscriptions!C$2:C$65498))","v":""},{"$f":"IF(ISBLANK($B291),\"\",LOOKUP($B291,Inscriptions!A$2:A$65496,Inscriptions!D$2:D$65498))","v":""},null,null,null,0,0,0,"",""]
[288,null,{"$f":"IF(ISBLANK($B292),\"\",LOOKUP($B292,Inscriptions!A$2:A$65496,Inscriptions!B$2:B$65498))","v":""},{"$f":"IF(ISBLANK($B292),\"\",LOOKUP($B292,Inscriptions!A$2:A$65496,Inscriptions!C$2:C$65498))","v":""},{"$f":"IF(ISBLANK($B292),\"\",LOOKUP($B292,Inscriptions!A$2:A$65496,Inscriptions!D$2:D$65498))","v":""},null,null,null,0,0,0,"",""]
[289,null,{"$f":"IF(ISBLANK($B293),\"\",LOOKUP($B293,Inscriptions!A$2:A$65496,Inscriptions!B$2:B$65498))","v":""},{"$f":"IF(ISBLANK($B293),\"\",LOOKUP($B293,Inscriptions!A$2:A$65496,Inscriptions!C$2:C$65498))","v":""},{"$f":"IF(ISBLANK($B293),\"\",LOOKUP($B293,Inscriptions!A$2:A$65496,Inscriptions!D$2:D$65498))","v":""},null,null,null,0,0,0,"",""]
[290,null,{"$f":"IF(ISBLANK($B294),\"\",LOOKUP($B294,Inscriptions!A$2:A$65496,Inscriptions!B$2:B$65498))","v":""},{"$f":"IF(ISBLANK($B294),\"\",LOOKUP($B294,Inscriptions!A$2:A$65496,Inscriptions!C$2:C$65498))","v":""},{"$f":"IF(ISBLANK($B294),\"\",LOOKUP($B294,Inscriptions!A$2:A$65496,Inscriptions!D$2:D$65498))","v":""},null,null,null,0,0,0,"",""]
[291,null,{"$f":"IF(ISBLANK($B295),\"\",LOOKUP($B295,Inscriptions!A$2:A$65496,Inscriptions!B$2:B$65498))","v":""},{"$f":"IF(ISBLANK($B295),\"\",LOOKUP($B295,Inscriptions!A$2:A$65496,Inscriptions!C$2:C$65498))","v":""},{"$f":"IF(ISBLANK($B295),\"\",LOOKUP($B295,Inscriptions!A$2:A$65496,Inscriptions!D$2:D$65498))","v":""},null,null,null,0,0,0,"",""]
[292,null,{"$f":"IF(ISBLANK($B296),\"\",LOOKUP($B296,Inscriptions!A$2:A$65496,Inscriptions!B$2:B$65498))","v":""},{"$f":"IF(ISBLANK($B296),\"\",LOOKUP($B296,Inscriptions!A$2:A$65496,Inscriptions!C$2:C$65498))","v":""},{"$f":"IF(ISBLANK($B296),\"\",LOOKUP($B296,Inscriptions!A$2:A$65496,Inscriptions!D$2:D$65498))","v":""},null,null,null,0,0,0,"",""]
[293,null,{"$f":"IF(ISBLANK($B297),\"\",LOOKUP($B297,Inscriptions!A$2:A$65496,Inscriptions!B$2:B$65498))","v":""},{"$f":"IF(ISBLANK($B297),\"\",LOOKUP($B297,Inscriptions!A$2:A$65496,Inscriptions!C$2:C$65498))","v":""},{"$f":"IF(ISBLANK($B297),\"\",LOOKUP($B297,Inscriptions!A$2:A$65496,Inscriptions!D$2:D$65498))","v":""},null,null,null,0,0,0,"",""]
[294,null,{"$f":"IF(ISBLANK($B298),\"\",LOOKUP($B298,Inscriptions!A$2:A$65496,Inscriptions!B$2:B$65498))","v":""},{"$f":"IF(ISBLANK($B298),\"\",LOOKUP($B298,Inscriptions!A$2:A$65496,Inscriptions!C$2:C$65498))","v":""},{"$f":"IF(ISBLANK($B298),\"\",LOOKUP($B298,Inscriptions!A$2:A$65496,Inscriptions!D$2:D$65498))","v":""},null,null,null,0,0,0,"",""]
[295,null,{"$f":"IF(ISBLANK($B299),\"\",LOOKUP($B299,Inscriptions!A$2:A$65496,Inscriptions!B$2:B$65498))","v":""},{"$f":"IF(ISBLANK($B299),\"\",LOOKUP($B299,Inscriptions!A$2:A$65496,Inscriptions!C$2:C$65498))","v":""},{"$f":"IF(ISBLANK($B299),\"\",LOOKUP($B299,Inscriptions!A$2:A$65496,Inscriptions!D$2:D$65498))","v":""},null,null,null,0,0,0,"",""]
[296,null,{"$f":"IF(ISBLANK($B300),\"\",LOOKUP($B300,Inscriptions!A$2:A$65496,Inscriptions!B$2:B$65498))","v":""},{"$f":"IF(ISBLANK($B300),\"\",LOOKUP($B300,Inscriptions!A$2:A$65496,Inscriptions!C$2:C$65498))","v":""},{"$f":"IF(ISBLANK($B300),\"\",LOOKUP($B300,Inscriptions!A$2:A$65496,Inscriptions!D$2:D$65498))","v":""},null,null,null,0,0,0,"",""]
[297,null,{"$f":"IF(ISBLANK($B301),\"\",LOOKUP($B301,Inscriptions!A$2:A$65496,Inscriptions!B$2:B$65498))","v":""},{"$f":"IF(ISBLANK($B301),\"\",LOOKUP($B301,Inscriptions!A$2:A$65496,Inscriptions!C$2:C$65498))","v":""},{"$f":"IF(ISBLANK($B301),\"\",LOOKUP($B301,Inscriptions!A$2:A$65496,Inscriptions!D$2:D$65498))","v":""},null,null,null,0,0,0,"",""]
[298,null,{"$f":"IF(ISBLANK($B302),\"\",LOOKUP($B302,Inscriptions!A$2:A$65496,Inscriptions!B$2:B$65498))","v":""},{"$f":"IF(ISBLANK($B302),\"\",LOOKUP($B302,Inscriptions!A$2:A$65496,Inscriptions!C$2:C$65498))","v":""},{"$f":"IF(ISBLANK($B302),\"\",LOOKUP($B302,Inscriptions!A$2:A$65496,Inscriptions!D$2:D$65498))","v":""},null,null,null,null,null,null,{"$f":"IF((I302+J302+K302)=0,\"\",ROUNDDOWN((L$4/((I302*3600)+(J302*60)+K302))*3.6,2))","v":""},""]
[299,null,{"$f":"IF(ISBLANK($B303),\"\",LOOKUP($B303,Inscriptions!A$2:A$65496,Inscriptions!B$2:B$65498))","v":""},{"$f":"IF(ISBLANK($B303),\"\",LOOKUP($B303,Inscriptions!A$2:A$65496,Inscriptions!C$2:C$65498))","v":""},{"$f":"IF(ISBLANK($B303),\"\",LOOKUP($B303,Inscriptions!A$2:A$65496,Inscriptions!D$2:D$65498))","v":""},null,null,null,null,null,null,"",""]
[300,null,{"$f":"IF(ISBLANK($B304),\"\",LOOKUP($B304,Inscriptions!A$2:A$65496,Inscriptions!B$2:B$65498))","v":""},{"$f":"IF(ISBLANK($B304),\"\",LOOKUP($B304,Inscriptions!A$2:A$65496,Inscriptions!C$2:C$65498))","v":""},{"$f":"IF(ISBLANK($B304),\"\",LOOKUP($B304,Inscriptions!A$2:A$65496,Inscriptions!D$2:D$65498))","v":""},null,null,null,null,null,null,"",""]
[301,null,{"$f":"IF(ISBLANK($B305),\"\",LOOKUP($B305,Inscriptions!A$2:A$65496,Inscriptions!B$2:B$65498))","v":""},{"$f":"IF(ISBLANK($B305),\"\",LOOKUP($B305,Inscriptions!A$2:A$65496,Inscriptions!C$2:C$65498))","v":""},{"$f":"IF(ISBLANK($B305),\"\",LOOKUP($B305,Inscriptions!A$2:A$65496,Inscriptions!D$2:D$65498))","v":""},null,null,null,null,null,null,"",""]
[302,null,{"$f":"IF(ISBLANK($B306),\"\",LOOKUP($B306,Inscriptions!A$2:A$65496,Inscriptions!B$2:B$65498))","v":""},{"$f":"IF(ISBLANK($B306),\"\",LOOKUP($B306,Inscriptions!A$2:A$65496,Inscriptions!C$2:C$65498))","v":""},{"$f":"IF(ISBLANK($B306),\"\",LOOKUP($B306,Inscriptions!A$2:A$65496,Inscriptions!D$2:D$65498))","v":""},null,null,null,null,null,null,"",""]
[303,null,{"$f":"IF(ISBLANK($B307),\"\",LOOKUP($B307,Inscriptions!A$2:A$65496,Inscriptions!B$2:B$65498))","v":""},{"$f":"IF(ISBLANK($B307),\"\",LOOKUP($B307,Inscriptions!A$2:A$65496,Inscriptions!C$2:C$65498))","v":""},{"$f":"IF(ISBLANK($B307),\"\",LOOKUP($B307,Inscriptions!A$2:A$65496,Inscriptions!D$2:D$65498))","v":""},null,null,null,null,null,null,"",""]
[304,null,{"$f":"IF(ISBLANK($B308),\"\",LOOKUP($B308,Inscriptions!A$2:A$65496,Inscriptions!B$2:B$65498))","v":""},{"$f":"IF(ISBLANK($B308),\"\",LOOKUP($B308,Inscriptions!A$2:A$65496,Inscriptions!C$2:C$65498))","v":""},{"$f":"IF(ISBLANK($B308),\"\",LOOKUP($B308,Inscriptions!A$2:A$65496,Inscriptions!D$2:D$65498))","v":""},null,null,null,null,null,null,"",""]
[305,null,{"$f":"IF(ISBLANK($B309),\"\",LOOKUP($B309,Inscriptions!A$2:A$65496,Inscriptions!B$2:B$65498))","v":""},{"$f":"IF(ISBLANK($B309),\"\",LOOKUP($B309,Inscriptions!A$2:A$65496,Inscriptions!C$2:C$65498))","v":""},{"$f":"IF(ISBLANK($B309),\"\",LOOKUP($B309,Inscriptions!A$2:A$65496,Inscriptions!D$2:D$65498))","v":""},null,null,null,null,null,null,"",""]
[306,null,{"$f":"IF(ISBLANK($B310),\"\",LOOKUP($B310,Inscriptions!A$2:A$65496,Inscriptions!B$2:B$65498))","v":""},{"$f":"IF(ISBLANK($B310),\"\",LOOKUP($B310,Inscriptions!A$2:A$65496,Inscriptions!C$2:C$65498))","v":""},{"$f":"IF(ISBLANK($B310),\"\",LOOKUP($B310,Inscriptions!A$2:A$65496,Inscriptions!D$2:D$65498))","v":""},null,null,null,null,null,null,"",""]
[307,null,{"$f":"IF(ISBLANK($B311),\"\",LOOKUP($B311,Inscriptions!A$2:A$65496,Inscriptions!B$2:B$65498))","v":""},{"$f":"IF(ISBLANK($B311),\"\",LOOKUP($B311,Inscriptions!A$2:A$65496,Inscriptions!C$2:C$65498))","v":""},{"$f":"IF(ISBLANK($B311),\"\",LOOKUP($B311,Inscriptions!A$2:A$65496,Inscriptions!D$2:D$65498))","v":""},null,null,null,null,null,null,"",""]
[308,null,{"$f":"IF(ISBLANK($B312),\"\",LOOKUP($B312,Inscriptions!A$2:A$65496,Inscriptions!B$2:B$65498))","v":""},{"$f":"IF(ISBLANK($B312),\"\",LOOKUP($B312,Inscriptions!A$2:A$65496,Inscriptions!C$2:C$65498))","v":""},{"$f":"IF(ISBLANK($B312),\"\",LOOKUP($B312,Inscriptions!A$2:A$65496,Inscriptions!D$2:D$65498))","v":""},null,null,null,null,null,null,"",""]
[309,null,{"$f":"IF(ISBLANK($B313),\"\",LOOKUP($B313,Inscriptions!A$2:A$65496,Inscriptions!B$2:B$65498))","v":""},{"$f":"IF(ISBLANK($B313),\"\",LOOKUP($B313,Inscriptions!A$2:A$65496,Inscriptions!C$2:C$65498))","v":""},{"$f":"IF(ISBLANK($B313),\"\",LOOKUP($B313,Inscriptions!A$2:A$65496,Inscriptions!D$2:D$65498))","v":""},null,null,null,null,null,null,"",""]
[310,null,{"$f":"IF(ISBLANK($B314),\"\",LOOKUP($B314,Inscriptions!A$2:A$65496,Inscriptions!B$2:B$65498))","v":""},{"$f":"IF(ISBLANK($B314),\"\",LOOKUP($B314,Inscriptions!A$2:A$65496,Inscriptions!C$2:C$65498))","v":""},{"$f":"IF(ISBLANK($B314),\"\",LOOKUP($B314,Inscriptions!A$2:A$65496,Inscriptions!D$2:D$65498))","v":""},null,null,null,null,null,null,"",""]
[311,null,{"$f":"IF(ISBLANK($B315),\"\",LOOKUP($B315,Inscriptions!A$2:A$65496,Inscriptions!B$2:B$65498))","v":""},{"$f":"IF(ISBLANK($B315),\"\",LOOKUP($B315,Inscriptions!A$2:A$65496,Inscriptions!C$2:C$65498))","v":""},{"$f":"IF(ISBLANK($B315),\"\",LOOKUP($B315,Inscriptions!A$2:A$65496,Inscriptions!D$2:D$65498))","v":""},null,null,null,null,null,null,"",""]
[312,null,{"$f":"IF(ISBLANK($B316),\"\",LOOKUP($B316,Inscriptions!A$2:A$65496,Inscriptions!B$2:B$65498))","v":""},{"$f":"IF(ISBLANK($B316),\"\",LOOKUP($B316,Inscriptions!A$2:A$65496,Inscriptions!C$2:C$65498))","v":""},{"$f":"IF(ISBLANK($B316),\"\",LOOKUP($B316,Inscriptions!A$2:A$65496,Inscriptions!D$2:D$65498))","v":""},null,null,null,null,null,null,"",""]
[313,null,{"$f":"IF(ISBLANK($B317),\"\",LOOKUP($B317,Inscriptions!A$2:A$65496,Inscriptions!B$2:B$65498))","v":""},{"$f":"IF(ISBLANK($B317),\"\",LOOKUP($B317,Inscriptions!A$2:A$65496,Inscriptions!C$2:C$65498))","v":""},{"$f":"IF(ISBLANK($B317),\"\",LOOKUP($B317,Inscriptions!A$2:A$65496,Inscriptions!D$2:D$65498))","v":""},null,null,null,null,null,null,"",""]
[314,null,{"$f":"IF(ISBLANK($B318),\"\",LOOKUP($B318,Inscriptions!A$2:A$65496,Inscriptions!B$2:B$65498))","v":""},{"$f":"IF(ISBLANK($B318),\"\",LOOKUP($B318,Inscriptions!A$2:A$65496,Inscriptions!C$2:C$65498))","v":""},{"$f":"IF(ISBLANK($B318),\"\",LOOKUP($B318,Inscriptions!A$2:A$65496,Inscriptions!D$2:D$65498))","v":""},null,null,null,null,null,null,"",""]
[315,null,{"$f":"IF(ISBLANK($B319),\"\",LOOKUP($B319,Inscriptions!A$2:A$65496,Inscriptions!B$2:B$65498))","v":""},{"$f":"IF(ISBLANK($B319),\"\",LOOKUP($B319,Inscriptions!A$2:A$65496,Inscriptions!C$2:C$65498))","v":""},{"$f":"IF(ISBLANK($B319),\"\",LOOKUP($B319,Inscriptions!A$2:A$65496,Inscriptions!D$2:D$65498))","v":""},null,null,null,null,null,null,"",""]
[316,null,{"$f":"IF(ISBLANK($B320),\"\",LOOKUP($B320,Inscriptions!A$2:A$65496,Inscriptions!B$2:B$65498))","v":""},{"$f":"IF(ISBLANK($B320),\"\",LOOKUP($B320,Inscriptions!A$2:A$65496,Inscriptions!C$2:C$65498))","v":""},{"$f":"IF(ISBLANK($B320),\"\",LOOKUP($B320,Inscriptions!A$2:A$65496,Inscriptions!D$2:D$65498))","v":""},null,null,null,null,null,null,"",""]
[317,null,{"$f":"IF(ISBLANK($B321),\"\",LOOKUP($B321,Inscriptions!A$2:A$65496,Inscriptions!B$2:B$65498))","v":""},{"$f":"IF(ISBLANK($B321),\"\",LOOKUP($B321,Inscriptions!A$2:A$65496,Inscriptions!C$2:C$65498))","v":""},{"$f":"IF(ISBLANK($B321),\"\",LOOKUP($B321,Inscriptions!A$2:A$65496,Inscriptions!D$2:D$65498))","v":""},null,null,null,null,null,null,"",""]
[318,null,{"$f":"IF(ISBLANK($B322),\"\",LOOKUP($B322,Inscriptions!A$2:A$65496,Inscriptions!B$2:B$65498))","v":""},{"$f":"IF(ISBLANK($B322),\"\",LOOKUP($B322,Inscriptions!A$2:A$65496,Inscriptions!C$2:C$65498))","v":""},{"$f":"IF(ISBLANK($B322),\"\",LOOKUP($B322,Inscriptions!A$2:A$65496,Inscriptions!D$2:D$65498))","v":""},null,null,null,null,null,null,"",""]
[319,null,{"$f":"IF(ISBLANK($B323),\"\",LOOKUP($B323,Inscriptions!A$2:A$65496,Inscriptions!B$2:B$65498))","v":""},{"$f":"IF(ISBLANK($B323),\"\",LOOKUP($B323,Inscriptions!A$2:A$65496,Inscriptions!C$2:C$65498))","v":""},{"$f":"IF(ISBLANK($B323),\"\",LOOKUP($B323,Inscriptions!A$2:A$65496,Inscriptions!D$2:D$65498))","v":""},null,null,null,null,null,null,"",""]
[320,null,{"$f":"IF(ISBLANK($B324),\"\",LOOKUP($B324,Inscriptions!A$2:A$65496,Inscriptions!B$2:B$65498))","v":""},{"$f":"IF(ISBLANK($B324),\"\",LOOKUP($B324,Inscriptions!A$2:A$65496,Inscriptions!C$2:C$65498))","v":""},{"$f":"IF(ISBLANK($B324),\"\",LOOKUP($B324,Inscriptions!A$2:A$65496,Inscriptions!D$2:D$65498))","v":""},null,null,null,null,null,null,"",""]
[321,null,{"$f":"IF(ISBLANK($B325),\"\",LOOKUP($B325,Inscriptions!A$2:A$65496,Inscriptions!B$2:B$65498))","v":""},{"$f":"IF(ISBLANK($B325),\"\",LOOKUP($B325,Inscriptions!A$2:A$65496,Inscriptions!C$2:C$65498))","v":""},{"$f":"IF(ISBLANK($B325),\"\",LOOKUP($B325,Inscriptions!A$2:A$65496,Inscriptions!D$2:D$65498))","v":""},null,null,null,null,null,null,"",""]
[322,null,{"$f":"IF(ISBLANK($B326),\"\",LOOKUP($B326,Inscriptions!A$2:A$65496,Inscriptions!B$2:B$65498))","v":""},{"$f":"IF(ISBLANK($B326),\"\",LOOKUP($B326,Inscriptions!A$2:A$65496,Inscriptions!C$2:C$65498))","v":""},{"$f":"IF(ISBLANK($B326),\"\",LOOKUP($B326,Inscriptions!A$2:A$65496,Inscriptions!D$2:D$65498))","v":""},null,null,null,null,null,null,"",{"$f":"IF(L326=\"\",\"\",\"km/h\")","v":""}]
[323,null,{"$f":"IF(ISBLANK($B327),\"\",LOOKUP($B327,Inscriptions!A$2:A$65496,Inscriptions!B$2:B$65498))","v":""},{"$f":"IF(ISBLANK($B327),\"\",LOOKUP($B327,Inscriptions!A$2:A$65496,Inscriptions!C$2:C$65498))","v":""},{"$f":"IF(ISBLANK($B327),\"\",LOOKUP($B327,Inscriptions!A$2:A$65496,Inscriptions!D$2:D$65498))","v":""},null,null,null,null,null,null,"",""]
[324,null,{"$f":"IF(ISBLANK($B328),\"\",LOOKUP($B328,Inscriptions!A$2:A$65496,Inscriptions!B$2:B$65498))","v":""},{"$f":"IF(ISBLANK($B328),\"\",LOOKUP($B328,Inscriptions!A$2:A$65496,Inscriptions!C$2:C$65498))","v":""},{"$f":"IF(ISBLANK($B328),\"\",LOOKUP($B328,Inscriptions!A$2:A$65496,Inscriptions!D$2:D$65498))","v":""},null,null,null,null,null,null,"",""]
[325,null,{"$f":"IF(ISBLANK($B329),\"\",LOOKUP($B329,Inscriptions!A$2:A$65496,Inscriptions!B$2:B$65498))","v":""},{"$f":"IF(ISBLANK($B329),\"\",LOOKUP($B329,Inscriptions!A$2:A$65496,Inscriptions!C$2:C$65498))","v":""},{"$f":"IF(ISBLANK($B329),\"\",LOOKUP($B329,Inscriptions!A$2:A$65496,Inscriptions!D$2:D$65498))","v":""},null,null,null,null,null,null,"",""]
[326,null,{"$f":"IF(ISBLANK($B330),\"\",LOOKUP($B330,Inscriptions!A$2:A$65496,Inscriptions!B$2:B$65498))","v":""},{"$f":"IF(ISBLANK($B330),\"\",LOOKUP($B330,Inscriptions!A$2:A$65496,Inscriptions!C$2:C$65498))","v":""},{"$f":"IF(ISBLANK($B330),\"\",LOOKUP($B330,Inscriptions!A$2:A$65496,Inscriptions!D$2:D$65498))","v":""},null,null,null,null,null,null,"",""]
[327,null,{"$f":"IF(ISBLANK($B331),\"\",LOOKUP($B331,Inscriptions!A$2:A$65496,Inscriptions!B$2:B$65498))","v":""},{"$f":"IF(ISBLANK($B331),\"\",LOOKUP($B331,Inscriptions!A$2:A$65496,Inscriptions!C$2:C$65498))","v":""},{"$f":"IF(ISBLANK($B331),\"\",LOOKUP($B331,Inscriptions!A$2:A$65496,Inscriptions!D$2:D$65498))","v":""},null,null,null,null,null,null,"",""]
[328,null,{"$f":"IF(ISBLANK($B332),\"\",LOOKUP($B332,Inscriptions!A$2:A$65496,Inscriptions!B$2:B$65498))","v":""},{"$f":"IF(ISBLANK($B332),\"\",LOOKUP($B332,Inscriptions!A$2:A$65496,Inscriptions!C$2:C$65498))","v":""},{"$f":"IF(ISBLANK($B332),\"\",LOOKUP($B332,Inscriptions!A$2:A$65496,Inscriptions!D$2:D$65498))","v":""},null,null,null,null,null,null,"",""]
[329,null,{"$f":"IF(ISBLANK($B333),\"\",LOOKUP($B333,Inscriptions!A$2:A$65496,Inscriptions!B$2:B$65498))","v":""},{"$f":"IF(ISBLANK($B333),\"\",LOOKUP($B333,Inscriptions!A$2:A$65496,Inscriptions!C$2:C$65498))","v":""},{"$f":"IF(ISBLANK($B333),\"\",LOOKUP($B333,Inscriptions!A$2:A$65496,Inscriptions!D$2:D$65498))","v":""},null,null,null,null,null,null,"",""]
[330,null,{"$f":"IF(ISBLANK($B334),\"\",LOOKUP($B334,Inscriptions!A$2:A$65496,Inscriptions!B$2:B$65498))","v":""},{"$f":"IF(ISBLANK($B334),\"\",LOOKUP($B334,Inscriptions!A$2:A$65496,Inscriptions!C$2:C$65498))","v":""},{"$f":"IF(ISBLANK($B334),\"\",LOOKUP($B334,Inscriptions!A$2:A$65496,Inscriptions!D$2:D$65498))","v":""},null,null,null,null,null,null,"",""]
[331,null,{"$f":"IF(ISBLANK($B335),\"\",LOOKUP($B335,Inscriptions!A$2:A$65496,Inscriptions!B$2:B$65498))","v":""},{"$f":"IF(ISBLANK($B335),\"\",LOOKUP($B335,Inscriptions!A$2:A$65496,Inscriptions!C$2:C$65498))","v":""},{"$f":"IF(ISBLANK($B335),\"\",LOOKUP($B335,Inscriptions!A$2:A$65496,Inscriptions!D$2:D$65498))","v":""},null,null,null,null,null,null,"",""]
[332,null,{"$f":"IF(ISBLANK($B336),\"\",LOOKUP($B336,Inscriptions!A$2:A$65496,Inscriptions!B$2:B$65498))","v":""},{"$f":"IF(ISBLANK($B336),\"\",LOOKUP($B336,Inscriptions!A$2:A$65496,Inscriptions!C$2:C$65498))","v":""},{"$f":"IF(ISBLANK($B336),\"\",LOOKUP($B336,Inscriptions!A$2:A$65496,Inscriptions!D$2:D$65498))","v":""},null,null,null,null,null,null,"",""]
[333,null,{"$f":"IF(ISBLANK($B337),\"\",LOOKUP($B337,Inscriptions!A$2:A$65496,Inscriptions!B$2:B$65498))","v":""},{"$f":"IF(ISBLANK($B337),\"\",LOOKUP($B337,Inscriptions!A$2:A$65496,Inscriptions!C$2:C$65498))","v":""},{"$f":"IF(ISBLANK($B337),\"\",LOOKUP($B337,Inscriptions!A$2:A$65496,Inscriptions!D$2:D$65498))","v":""},null,null,null,null,null,null,"",""]
[334,null,{"$f":"IF(ISBLANK($B338),\"\",LOOKUP($B338,Inscriptions!A$2:A$65496,Inscriptions!B$2:B$65498))","v":""},{"$f":"IF(ISBLANK($B338),\"\",LOOKUP($B338,Inscriptions!A$2:A$65496,Inscriptions!C$2:C$65498))","v":""},{"$f":"IF(ISBLANK($B338),\"\",LOOKUP($B338,Inscriptions!A$2:A$65496,Inscriptions!D$2:D$65498))","v":""},null,null,null,null,null,null,"",""]
[335,null,{"$f":"IF(ISBLANK($B339),\"\",LOOKUP($B339,Inscriptions!A$2:A$65496,Inscriptions!B$2:B$65498))","v":""},{"$f":"IF(ISBLANK($B339),\"\",LOOKUP($B339,Inscriptions!A$2:A$65496,Inscriptions!C$2:C$65498))","v":""},{"$f":"IF(ISBLANK($B339),\"\",LOOKUP($B339,Inscriptions!A$2:A$65496,Inscriptions!D$2:D$65498))","v":""},null,null,null,null,null,null,"",""]
[336,null,{"$f":"IF(ISBLANK($B340),\"\",LOOKUP($B340,Inscriptions!A$2:A$65496,Inscriptions!B$2:B$65498))","v":""},{"$f":"IF(ISBLANK($B340),\"\",LOOKUP($B340,Inscriptions!A$2:A$65496,Inscriptions!C$2:C$65498))","v":""},{"$f":"IF(ISBLANK($B340),\"\",LOOKUP($B340,Inscriptions!A$2:A$65496,Inscriptions!D$2:D$65498))","v":""},null,null,null,null,null,null,"",""]
[337,null,{"$f":"IF(ISBLANK($B341),\"\",LOOKUP($B341,Inscriptions!A$2:A$65496,Inscriptions!B$2:B$65498))","v":""},{"$f":"IF(ISBLANK($B341),\"\",LOOKUP($B341,Inscriptions!A$2:A$65496,Inscriptions!C$2:C$65498))","v":""},{"$f":"IF(ISBLANK($B341),\"\",LOOKUP($B341,Inscriptions!A$2:A$65496,Inscriptions!D$2:D$65498))","v":""},null,null,null,null,null,null,"",""]
[338,null,{"$f":"IF(ISBLANK($B342),\"\",LOOKUP($B342,Inscriptions!A$2:A$65496,Inscriptions!B$2:B$65498))","v":""},{"$f":"IF(ISBLANK($B342),\"\",LOOKUP($B342,Inscriptions!A$2:A$65496,Inscriptions!C$2:C$65498))","v":""},{"$f":"IF(ISBLANK($B342),\"\",LOOKUP($B342,Inscriptions!A$2:A$65496,Inscriptions!D$2:D$65498))","v":""},null,null,null,null,null,null,"",""]
[339,null,{"$f":"IF(ISBLANK($B343),\"\",LOOKUP($B343,Inscriptions!A$2:A$65496,Inscriptions!B$2:B$65498))","v":""},{"$f":"IF(ISBLANK($B343),\"\",LOOKUP($B343,Inscriptions!A$2:A$65496,Inscriptions!C$2:C$65498))","v":""},{"$f":"IF(ISBLANK($B343),\"\",LOOKUP($B343,Inscriptions!A$2:A$65496,Inscriptions!D$2:D$65498))","v":""},null,null,null,null,null,null,"",""]
[340,null,{"$f":"IF(ISBLANK($B344),\"\",LOOKUP($B344,Inscriptions!A$2:A$65496,Inscriptions!B$2:B$65498))","v":""},{"$f":"IF(ISBLANK($B344),\"\",LOOKUP($B344,Inscriptions!A$2:A$65496,Inscriptions!C$2:C$65498))","v":""},{"$f":"IF(ISBLANK($B344),\"\",LOOKUP($B344,Inscriptions!A$2:A$65496,Inscriptions!D$2:D$65498))","v":""},null,null,null,null,null,null,"",""]
[341,null,{"$f":"IF(ISBLANK($B345),\"\",LOOKUP($B345,Inscriptions!A$2:A$65496,Inscriptions!B$2:B$65498))","v":""},{"$f":"IF(ISBLANK($B345),\"\",LOOKUP($B345,Inscriptions!A$2:A$65496,Inscriptions!C$2:C$65498))","v":""},{"$f":"IF(ISBLANK($B345),\"\",LOOKUP($B345,Inscriptions!A$2:A$65496,Inscriptions!D$2:D$65498))","v":""},null,null,null,null,null,null,"",""]
[342,null,{"$f":"IF(ISBLANK($B346),\"\",LOOKUP($B346,Inscriptions!A$2:A$65496,Inscriptions!B$2:B$65498))","v":""},{"$f":"IF(ISBLANK($B346),\"\",LOOKUP($B346,Inscriptions!A$2:A$65496,Inscriptions!C$2:C$65498))","v":""},{"$f":"IF(ISBLANK($B346),\"\",LOOKUP($B346,Inscriptions!A$2:A$65496,Inscriptions!D$2:D$65498))","v":""},null,null,null,null,null,null,"",""]
[343,null,{"$f":"IF(ISBLANK($B347),\"\",LOOKUP($B347,Inscriptions!A$2:A$65496,Inscriptions!B$2:B$65498))","v":""},{"$f":"IF(ISBLANK($B347),\"\",LOOKUP($B347,Inscriptions!A$2:A$65496,Inscriptions!C$2:C$65498))","v":""},{"$f":"IF(ISBLANK($B347),\"\",LOOKUP($B347,Inscriptions!A$2:A$65496,Inscriptions!D$2:D$65498))","v":""},null,null,null,null,null,null,"",""]
[344,null,{"$f":"IF(ISBLANK($B348),\"\",LOOKUP($B348,Inscriptions!A$2:A$65496,Inscriptions!B$2:B$65498))","v":""},{"$f":"IF(ISBLANK($B348),\"\",LOOKUP($B348,Inscriptions!A$2:A$65496,Inscriptions!C$2:C$65498))","v":""},{"$f":"IF(ISBLANK($B348),\"\",LOOKUP($B348,Inscriptions!A$2:A$65496,Inscriptions!D$2:D$65498))","v":""},null,null,null,null,null,null,"",""]
[345,null,{"$f":"IF(ISBLANK($B349),\"\",LOOKUP($B349,Inscriptions!A$2:A$65496,Inscriptions!B$2:B$65498))","v":""},{"$f":"IF(ISBLANK($B349),\"\",LOOKUP($B349,Inscriptions!A$2:A$65496,Inscriptions!C$2:C$65498))","v":""},{"$f":"IF(ISBLANK($B349),\"\",LOOKUP($B349,Inscriptions!A$2:A$65496,Inscriptions!D$2:D$65498))","v":""},null,null,null,null,null,null,"",""]
[346,null,{"$f":"IF(ISBLANK($B350),\"\",LOOKUP($B350,Inscriptions!A$2:A$65496,Inscriptions!B$2:B$65498))","v":""},{"$f":"IF(ISBLANK($B350),\"\",LOOKUP($B350,Inscriptions!A$2:A$65496,Inscriptions!C$2:C$65498))","v":""},{"$f":"IF(ISBLANK($B350),\"\",LOOKUP($B350,Inscriptions!A$2:A$65496,Inscriptions!D$2:D$65498))","v":""},null,null,null,null,null,null,"",""]
[347,null,{"$f":"IF(ISBLANK($B351),\"\",LOOKUP($B351,Inscriptions!A$2:A$65496,Inscriptions!B$2:B$65498))","v":""},{"$f":"IF(ISBLANK($B351),\"\",LOOKUP($B351,Inscriptions!A$2:A$65496,Inscriptions!C$2:C$65498))","v":""},{"$f":"IF(ISBLANK($B351),\"\",LOOKUP($B351,Inscriptions!A$2:A$65496,Inscriptions!D$2:D$65498))","v":""},null,null,null,null,null,null,"",""]
[348,null,{"$f":"IF(ISBLANK($B352),\"\",LOOKUP($B352,Inscriptions!A$2:A$65496,Inscriptions!B$2:B$65498))","v":""},{"$f":"IF(ISBLANK($B352),\"\",LOOKUP($B352,Inscriptions!A$2:A$65496,Inscriptions!C$2:C$65498))","v":""},{"$f":"IF(ISBLANK($B352),\"\",LOOKUP($B352,Inscriptions!A$2:A$65496,Inscriptions!D$2:D$65498))","v":""},null,null,null,null,null,null,"",""]
[349,null,{"$f":"IF(ISBLANK($B353),\"\",LOOKUP($B353,Inscriptions!A$2:A$65496,Inscriptions!B$2:B$65498))","v":""},{"$f":"IF(ISBLANK($B353),\"\",LOOKUP($B353,Inscriptions!A$2:A$65496,Inscriptions!C$2:C$65498))","v":""},{"$f":"IF(ISBLANK($B353),\"\",LOOKUP($B353,Inscriptions!A$2:A$65496,Inscriptions!D$2:D$65498))","v":""},null,null,null,null,null,null,"",""]
[350,null,{"$f":"IF(ISBLANK($B354),\"\",LOOKUP($B354,Inscriptions!A$2:A$65496,Inscriptions!B$2:B$65498))","v":""},{"$f":"IF(ISBLANK($B354),\"\",LOOKUP($B354,Inscriptions!A$2:A$65496,Inscriptions!C$2:C$65498))","v":""},{"$f":"IF(ISBLANK($B354),\"\",LOOKUP($B354,Inscriptions!A$2:A$65496,Inscriptions!D$2:D$65498))","v":""},null,null,null,null,null,null,"",""]

{"sheet":"C7 POF POM","index":9,"n_rows":354,"n_cols":13,"rows_kept":354,"cut":false,"hidden":false,"merged":[[0,0,0,7],[1,0,1,7],[2,5,2,6]]}
["CROSS REGIONAL FSGT - STAINS - 18/01/2015"]
["POUSSINES - POUSSINS = 1 350 mètres"]
[]
["PLACE","DOSSARD","NOM / PRENOM","CAT","CLUB","POF","POM","TEMPS","h","m","s",1350,"m"]
[1,2193,{"$f":"IF(ISBLANK($B5),\"\",LOOKUP($B5,Inscriptions!A$2:A$65496,Inscriptions!B$2:B$65498))","v":"MARIE-SAINTE MEILVYN"},{"$f":"IF(ISBLANK($B5),\"\",LOOKUP($B5,Inscriptions!A$2:A$65496,Inscriptions!C$2:C$65498))","v":"POM"},{"$f":"IF(ISBLANK($B5),\"\",LOOKUP($B5,Inscriptions!A$2:A$65496,Inscriptions!D$2:D$65498))","v":"USMA ST OUEN"},null,1,547,{"$f":"ROUNDDOWN(H5/10000,0)","v":0},{"$f":"ROUNDDOWN((H5-I5*10000)/100,0)","v":5},{"$f":"ROUNDDOWN((H5-(I5*10000)-(J5*100)),0)","v":47},{"$f":"IF((I5+J5+K5)=0,\"\",ROUNDDOWN((L$4/((I5*3600)+(J5*60)+K5))*3.6,2))","v":14},{"$f":"IF(L5=\"\",\"\",\"km/h\")","v":"km/h"}]
[2,1282,{"$f":"IF(ISBLANK($B6),\"\",LOOKUP($B6,Inscriptions!A$2:A$65496,Inscriptions!B$2:B$65498))","v":"TRAORE BAMARY"},{"$f":"IF(ISBLANK($B6),\"\",LOOKUP($B6,Inscriptions!A$2:A$65496,Inscriptions!C$2:C$65498))","v":"POM"},{"$f":"IF(ISBLANK($B6),\"\",LOOKUP($B6,Inscriptions!A$2:A$65496,Inscriptions!D$2:D$65498))","v":"ES VITRY"},null,2,550,{"$f":"ROUNDDOWN(H6/10000,0)","v":0},{"$f":"ROUNDDOWN((H6-I6*10000)/100,0)","v":5},{"$f":"ROUNDDOWN((H6-(I6*10000)-(J6*100)),0)","v":50},{"$f":"IF((I6+J6+K6)=0,\"\",ROUNDDOWN((L$4/((I6*3600)+(J6*60)+K6))*3.6,2))","v":13.88},{"$f":"IF(L6=\"\",\"\",\"km/h\")","v":"km/h"}]
[3,787,{"$f":"IF(ISBLANK($B7),\"\",LOOKUP($B7,Inscriptions!A$2:A$65496,Inscriptions!B$2:B$65498))","v":"CHASSIER MELVIN"},{"$f":"IF(ISBLANK($B7),\"\",LOOKUP($B7,Inscriptions!A$2:A$65496,Inscriptions!C$2:C$65498))","v":"POM"},{"$f":"IF(ISBLANK($B7),\"\",LOOKUP($B7,Inscriptions!A$2:A$65496,Inscriptions!D$2:D$65498))","v":"CS BRETIGNY ATHLETISME"},null,3,558,0,5,58,13.57,"km/h"]
[4,455,{"$f":"IF(ISBLANK($B8),\"\",LOOKUP($B8,Inscriptions!A$2:A$65496,Inscriptions!B$2:B$65498))","v":"POUPART LENNY"},{"$f":"IF(ISBLANK($B8),\"\",LOOKUP($B8,Inscriptions!A$2:A$65496,Inscriptions!C$2:C$65498))","v":"POM"},{"$f":"IF(ISBLANK($B8),\"\",LOOKUP($B8,Inscriptions!A$2:A$65496,Inscriptions!D$2:D$65498))","v":"ATHLE LE BOURGET DRANCY DUGNY"},null,4,623,0,6,23,12.68,"km/h"]
[5,2129,{"$f":"IF(ISBLANK($B9),\"\",LOOKUP($B9,Inscriptions!A$2:A$65496,Inscriptions!B$2:B$65498))","v":"VAIRELLES GAUTHIER"},{"$f":"IF(ISBLANK($B9),\"\",LOOKUP($B9,Inscriptions!A$2:A$65496,Inscriptions!C$2:C$65498))","v":"POM"},{"$f":"IF(ISBLANK($B9),\"\",LOOKUP($B9,Inscriptions!A$2:A$65496,Inscriptions!D$2:D$65498))","v":"US VIGNEUX"},null,5,623,0,6,23,12.68,"km/h"]
[6,57,{"$f":"IF(ISBLANK($B10),\"\",LOOKUP($B10,Inscriptions!A$2:A$65496,Inscriptions!B$2:B$65498))","v":"RAKOTOBE ADAM"},{"$f":"IF(ISBLANK($B10),\"\",LOOKUP($B10,Inscriptions!A$2:A$65496,Inscriptions!C$2:C$65498))","v":"POM"},{"$f":"IF(ISBLANK($B10),\"\",LOOKUP($B10,Inscriptions!A$2:A$65496,Inscriptions!D$2:D$65498))","v":"AC BOBIGNY"},null,6,627,0,6,27,12.55,"km/h"]
[7,2225,{"$f":"IF(ISBLANK($B11),\"\",LOOKUP($B11,Inscriptions!A$2:A$65496,Inscriptions!B$2:B$65498))","v":"BROSSELIER LÉO"},{"$f":"IF(ISBLANK($B11),\"\",LOOKUP($B11,Inscriptions!A$2:A$65496,Inscriptions!C$2:C$65498))","v":"POM"},{"$f":"IF(ISBLANK($B11),\"\",LOOKUP($B11,Inscriptions!A$2:A$65496,Inscriptions!D$2:D$65498))","v":"USO BEZONS"},null,7,635,0,6,35,12.3,"km/h"]
[8,875,{"$f":"IF(ISBLANK($B12),\"\",LOOKUP($B12,Inscriptions!A$2:A$65496,Inscriptions!B$2:B$65498))","v":"NEDELEC ROMEO"},{"$f":"IF(ISBLANK($B12),\"\",LOOKUP($B12,Inscriptions!A$2:A$65496,Inscriptions!C$2:C$65498))","v":"POM"},{"$f":"IF(ISBLANK($B12),\"\",LOOKUP($B12,Inscriptions!A$2:A$65496,Inscriptions!D$2:D$65498))","v":"CS BRETIGNY ATHLETISME"},null,8,636,0,6,36,12.27,"km/h"]
[9,980,{"$f":"IF(ISBLANK($B13),\"\",LOOKUP($B13,Inscriptions!A$2:A$65496,Inscriptions!B$2:B$65498))","v":"NEHARI ILIAN"},{"$f":"IF(ISBLANK($B13),\"\",LOOKUP($B13,Inscriptions!A$2:A$65496,Inscriptions!C$2:C$65498))","v":"POM"},{"$f":"IF(ISBLANK($B13),\"\",LOOKUP($B13,Inscriptions!A$2:A$65496,Inscriptions!D$2:D$65498))","v":"CSM GENNEVILLIERS"},null,9,636,0,6,36,12.27,"km/h"]
[10,1269,{"$f":"IF(ISBLANK($B14),\"\",LOOKUP($B14,Inscriptions!A$2:A$65496,Inscriptions!B$2:B$65498))","v":"RENAUDIN LANCELOT"},{"$f":"IF(ISBLANK($B14),\"\",LOOKUP($B14,Inscriptions!A$2:A$65496,Inscriptions!C$2:C$65498))","v":"POM"},{"$f":"IF(ISBLANK($B14),\"\",LOOKUP($B14,Inscriptions!A$2:A$65496,Inscriptions!D$2:D$65498))","v":"ES VITRY"},null,10,637,0,6,37,12.24,"km/h"]
[11,54,{"$f":"IF(ISBLANK($B15),\"\",LOOKUP($B15,Inscriptions!A$2:A$65496,Inscriptions!B$2:B$65498))","v":"PERROD HUGO"},{"$f":"IF(ISBLANK($B15),\"\",LOOKUP($B15,Inscriptions!A$2:A$65496,Inscriptions!C$2:C$65498))","v":"POM"},{"$f":"IF(ISBLANK($B15),\"\",LOOKUP($B15,Inscriptions!A$2:A$65496,Inscriptions!D$2:D$65498))","v":"AC BOBIGNY"},null,11,638,0,6,38,12.21,"km/h"]
[12,1606,{"$f":"IF(ISBLANK($B16),\"\",LOOKUP($B16,Inscriptions!A$2:A$65496,Inscriptions!B$2:B$65498))","v":"AMEZIANE ALAN"},{"$f":"IF(ISBLANK($B16),\"\",LOOKUP($B16,Inscriptions!A$2:A$65496,Inscriptions!C$2:C$65498))","v":"POM"},{"$f":"IF(ISBLANK($B16),\"\",LOOKUP($B16,Inscriptions!A$2:A$65496,Inscriptions!D$2:D$65498))","v":"TREMBLAY AC"},null,12,641,0,6,41,12.11,"km/h"]
[13,1613,{"$f":"IF(ISBLANK($B17),\"\",LOOKUP($B17,Inscriptions!A$2:A$65496,Inscriptions!B$2:B$65498))","v":"BEZZAOUYA MOHAMED"},{"$f":"IF(ISBLANK($B17),\"\",LOOKUP($B17,Inscriptions!A$2:A$65496,Inscriptions!C$2:C$65498))","v":"POM"},{"$f":"IF(ISBLANK($B17),\"\",LOOKUP($B17,Inscriptions!A$2:A$65496,Inscriptions!D$2:D$65498))","v":"TREMBLAY AC"},null,13,651,0,6,51,11.82,"km/h"]
[14,1957,{"$f":"IF(ISBLANK($B18),\"\",LOOKUP($B18,Inscriptions!A$2:A$65496,Inscriptions!B$2:B$65498))","v":"TCHOUAGA ISSA"},{"$f":"IF(ISBLANK($B18),\"\",LOOKUP($B18,Inscriptions!A$2:A$65496,Inscriptions!C$2:C$65498))","v":"POM"},{"$f":"IF(ISBLANK($B18),\"\",LOOKUP($B18,Inscriptions!A$2:A$65496,Inscriptions!D$2:D$65498))","v":"US IVRY"},null,14,652,0,6,52,11.79,"km/h"]
[15,631,{"$f":"IF(ISBLANK($B19),\"\",LOOKUP($B19,Inscriptions!A$2:A$65496,Inscriptions!B$2:B$65498))","v":"CAMARA SALIMATA"},{"$f":"IF(ISBLANK($B19),\"\",LOOKUP($B19,Inscriptions!A$2:A$65496,Inscriptions!C$2:C$65498))","v":"POF"},{"$f":"IF(ISBLANK($B19),\"\",LOOKUP($B19,Inscriptions!A$2:A$65496,Inscriptions!D$2:D$65498))","v":"CM AUBERVILLIERS ATHLETISME"},1,null,654,0,6,54,11.73,"km/h"]
[16,2356,{"$f":"IF(ISBLANK($B20),\"\",LOOKUP($B20,Inscriptions!A$2:A$65496,Inscriptions!B$2:B$65498))","v":"AKENNAD AYA"},{"$f":"IF(ISBLANK($B20),\"\",LOOKUP($B20,Inscriptions!A$2:A$65496,Inscriptions!C$2:C$65498))","v":"POF"},{"$f":"IF(ISBLANK($B20),\"\",LOOKUP($B20,Inscriptions!A$2:A$65496,Inscriptions!D$2:D$65498))","v":"COM ARGENTEUIL"},2,null,655,0,6,55,11.71,"km/h"]
[17,1214,{"$f":"IF(ISBLANK($B21),\"\",LOOKUP($B21,Inscriptions!A$2:A$65496,Inscriptions!B$2:B$65498))","v":"JEUFFRAIN OUTANA"},{"$f":"IF(ISBLANK($B21),\"\",LOOKUP($B21,Inscriptions!A$2:A$65496,Inscriptions!C$2:C$65498))","v":"POF"},{"$f":"IF(ISBLANK($B21),\"\",LOOKUP($B21,Inscriptions!A$2:A$65496,Inscriptions!D$2:D$65498))","v":"ES VITRY"},3,null,656,0,6,56,11.68,"km/h"]
[18,522,{"$f":"IF(ISBLANK($B22),\"\",LOOKUP($B22,Inscriptions!A$2:A$65496,Inscriptions!B$2:B$65498))","v":"EL YOUSSOUFI LINA"},{"$f":"IF(ISBLANK($B22),\"\",LOOKUP($B22,Inscriptions!A$2:A$65496,Inscriptions!C$2:C$65498))","v":"POF"},{"$f":"IF(ISBLANK($B22),\"\",LOOKUP($B22,Inscriptions!A$2:A$65496,Inscriptions!D$2:D$65498))","v":"BLANC MESNIL SA"},4,null,657,0,6,57,11.65,"km/h"]
[19,1328,{"$f":"IF(ISBLANK($B23),\"\",LOOKUP($B23,Inscriptions!A$2:A$65496,Inscriptions!B$2:B$65498))","v":"ATTIKIBE ALEXIS"},{"$f":"IF(ISBLANK($B23),\"\",LOOKUP($B23,Inscriptions!A$2:A$65496,Inscriptions!C$2:C$65498))","v":"POM"},{"$f":"IF(ISBLANK($B23),\"\",LOOKUP($B23,Inscriptions!A$2:A$65496,Inscriptions!D$2:D$65498))","v":"NOISY LE SEC ATHLETISME"},null,15,659,0,6,59,11.59,"km/h"]
[20,357,{"$f":"IF(ISBLANK($B24),\"\",LOOKUP($B24,Inscriptions!A$2:A$65496,Inscriptions!B$2:B$65498))","v":"BOUMAZA NADIM"},{"$f":"IF(ISBLANK($B24),\"\",LOOKUP($B24,Inscriptions!A$2:A$65496,Inscriptions!C$2:C$65498))","v":"POM"},{"$f":"IF(ISBLANK($B24),\"\",LOOKUP($B24,Inscriptions!A$2:A$65496,Inscriptions!D$2:D$65498))","v":"ATHLE LE BOURGET DRANCY DUGNY"},null,16,700,0,7,0,11.57,"km/h"]
[21,1386,{"$f":"IF(ISBLANK($B25),\"\",LOOKUP($B25,Inscriptions!A$2:A$65496,Inscriptions!B$2:B$65498))","v":"GIRARDI MATTEO"},{"$f":"IF(ISBLANK($B25),\"\",LOOKUP($B25,Inscriptions!A$2:A$65496,Inscriptions!C$2:C$65498))","v":"POM"},{"$f":"IF(ISBLANK($B25),\"\",LOOKUP($B25,Inscriptions!A$2:A$65496,Inscriptions!D$2:D$65498))","v":"NOISY LE SEC ATHLETISME"},null,17,701,0,7,1,11.54,"km/h"]
[22,1644,{"$f":"IF(ISBLANK($B26),\"\",LOOKUP($B26,Inscriptions!A$2:A$65496,Inscriptions!B$2:B$65498))","v":"DEVILLAZ MATHEO"},{"$f":"IF(ISBLANK($B26),\"\",LOOKUP($B26,Inscriptions!A$2:A$65496,Inscriptions!C$2:C$65498))","v":"POM"},{"$f":"IF(ISBLANK($B26),\"\",LOOKUP($B26,Inscriptions!A$2:A$65496,Inscriptions!D$2:D$65498))","v":"TREMBLAY AC"},null,18,704,0,7,4,11.46,"km/h"]
[23,1241,{"$f":"IF(ISBLANK($B27),\"\",LOOKUP($B27,Inscriptions!A$2:A$65496,Inscriptions!B$2:B$65498))","v":"MAREGA HASSAN"},{"$f":"IF(ISBLANK($B27),\"\",LOOKUP($B27,Inscriptions!A$2:A$65496,Inscriptions!C$2:C$65498))","v":"POM"},{"$f":"IF(ISBLANK($B27),\"\",LOOKUP($B27,Inscriptions!A$2:A$65496,Inscriptions!D$2:D$65498))","v":"ES VITRY"},null,19,705,0,7,5,11.43,"km/h"]
[24,1726,{"$f":"IF(ISBLANK($B28),\"\",LOOKUP($B28,Inscriptions!A$2:A$65496,Inscriptions!B$2:B$65498))","v":"SANGARE KAMISSA"},{"$f":"IF(ISBLANK($B28),\"\",LOOKUP($B28,Inscriptions!A$2:A$65496,Inscriptions!C$2:C$65498))","v":"POF"},{"$f":"IF(ISBLANK($B28),\"\",LOOKUP($B28,Inscriptions!A$2:A$65496,Inscriptions!D$2:D$65498))","v":"TREMBLAY AC"},5,null,706,0,7,6,11.4,"km/h"]
[25,1628,{"$f":"IF(ISBLANK($B29),\"\",LOOKUP($B29,Inscriptions!A$2:A$65496,Inscriptions!B$2:B$65498))","v":"CHALU ANN'STEPHY"},{"$f":"IF(ISBLANK($B29),\"\",LOOKUP($B29,Inscriptions!A$2:A$65496,Inscriptions!C$2:C$65498))","v":"POF"},{"$f":"IF(ISBLANK($B29),\"\",LOOKUP($B29,Inscriptions!A$2:A$65496,Inscriptions!D$2:D$65498))","v":"TREMBLAY AC"},6,null,708,0,7,8,11.35,"km/h"]
[26,2377,{"$f":"IF(ISBLANK($B30),\"\",LOOKUP($B30,Inscriptions!A$2:A$65496,Inscriptions!B$2:B$65498))","v":"SOYANN PORGO"},{"$f":"IF(ISBLANK($B30),\"\",LOOKUP($B30,Inscriptions!A$2:A$65496,Inscriptions!C$2:C$65498))","v":"POM"},{"$f":"IF(ISBLANK($B30),\"\",LOOKUP($B30,Inscriptions!A$2:A$65496,Inscriptions!D$2:D$65498))","v":"NOISY LE SEC ATHLETISME"},null,20,710,0,7,10,11.3,"km/h"]
[27,2331,{"$f":"IF(ISBLANK($B31),\"\",LOOKUP($B31,Inscriptions!A$2:A$65496,Inscriptions!B$2:B$65498))","v":"RAZAFINIMANANA MATTEO"},{"$f":"IF(ISBLANK($B31),\"\",LOOKUP($B31,Inscriptions!A$2:A$65496,Inscriptions!C$2:C$65498))","v":"POM"},{"$f":"IF(ISBLANK($B31),\"\",LOOKUP($B31,Inscriptions!A$2:A$65496,Inscriptions!D$2:D$65498))","v":"VILLEPINTE MA"},null,21,713,0,7,13,11.22,"km/h"]
[28,358,{"$f":"IF(ISBLANK($B32),\"\",LOOKUP($B32,Inscriptions!A$2:A$65496,Inscriptions!B$2:B$65498))","v":"BOUMAZA WASSIM"},{"$f":"IF(ISBLANK($B32),\"\",LOOKUP($B32,Inscriptions!A$2:A$65496,Inscriptions!C$2:C$65498))","v":"POM"},{"$f":"IF(ISBLANK($B32),\"\",LOOKUP($B32,Inscriptions!A$2:A$65496,Inscriptions!D$2:D$65498))","v":"ATHLE LE BOURGET DRANCY DUGNY"},null,22,716,0,7,16,11.14,"km/h"]
[29,436,{"$f":"IF(ISBLANK($B33),\"\",LOOKUP($B33,Inscriptions!A$2:A$65496,Inscriptions!B$2:B$65498))","v":"MALONGA-BAYINA TCHEZZA"},{"$f":"IF(ISBLANK($B33),\"\",LOOKUP($B33,Inscriptions!A$2:A$65496,Inscriptions!C$2:C$65498))","v":"POF"},{"$f":"IF(ISBLANK($B33),\"\",LOOKUP($B33,Inscriptions!A$2:A$65496,Inscriptions!D$2:D$65498))","v":"ATHLE LE BOURGET DRANCY DUGNY"},7,null,717,0,7,17,11.12,"km/h"]
[30,516,{"$f":"IF(ISBLANK($B34),\"\",LOOKUP($B34,Inscriptions!A$2:A$65496,Inscriptions!B$2:B$65498))","v":"DOUCOURE KOUTA"},{"$f":"IF(ISBLANK($B34),\"\",LOOKUP($B34,Inscriptions!A$2:A$65496,Inscriptions!C$2:C$65498))","v":"POF"},{"$f":"IF(ISBLANK($B34),\"\",LOOKUP($B34,Inscriptions!A$2:A$65496,Inscriptions!D$2:D$65498))","v":"BLANC MESNIL SA"},8,null,722,0,7,22,10.99,"km/h"]
[31,1113,{"$f":"IF(ISBLANK($B35),\"\",LOOKUP($B35,Inscriptions!A$2:A$65496,Inscriptions!B$2:B$65498))","v":"PELESTIN SULLYVAN"},{"$f":"IF(ISBLANK($B35),\"\",LOOKUP($B35,Inscriptions!A$2:A$65496,Inscriptions!C$2:C$65498))","v":"POM"},{"$f":"IF(ISBLANK($B35),\"\",LOOKUP($B35,Inscriptions!A$2:A$65496,Inscriptions!D$2:D$65498))","v":"ES STAINS"},null,23,724,0,7,24,10.94,"km/h"]
[32,2082,{"$f":"IF(ISBLANK($B36),\"\",LOOKUP($B36,Inscriptions!A$2:A$65496,Inscriptions!B$2:B$65498))","v":"GUILLARD LOANE"},{"$f":"IF(ISBLANK($B36),\"\",LOOKUP($B36,Inscriptions!A$2:A$65496,Inscriptions!C$2:C$65498))","v":"POF"},{"$f":"IF(ISBLANK($B36),\"\",LOOKUP($B36,Inscriptions!A$2:A$65496,Inscriptions!D$2:D$65498))","v":"US VIGNEUX"},9,null,725,0,7,25,10.92,"km/h"]
[33,1324,{"$f":"IF(ISBLANK($B37),\"\",LOOKUP($B37,Inscriptions!A$2:A$65496,Inscriptions!B$2:B$65498))","v":"AKKAL AMIR"},{"$f":"IF(ISBLANK($B37),\"\",LOOKUP($B37,Inscriptions!A$2:A$65496,Inscriptions!C$2:C$65498))","v":"POM"},{"$f":"IF(ISBLANK($B37),\"\",LOOKUP($B37,Inscriptions!A$2:A$65496,Inscriptions!D$2:D$65498))","v":"NOISY LE SEC ATHLETISME"},null,24,726,0,7,26,10.89,"km/h"]
[34,439,{"$f":"IF(ISBLANK($B38),\"\",LOOKUP($B38,Inscriptions!A$2:A$65496,Inscriptions!B$2:B$65498))","v":"MARTINS DUNCAN"},{"$f":"IF(ISBLANK($B38),\"\",LOOKUP($B38,Inscriptions!A$2:A$65496,Inscriptions!C$2:C$65498))","v":"POM"},{"$f":"IF(ISBLANK($B38),\"\",LOOKUP($B38,Inscriptions!A$2:A$65496,Inscriptions!D$2:D$65498))","v":"ATHLE LE BOURGET DRANCY DUGNY"},null,25,728,0,7,28,10.84,"km/h"]
[35,974,{"$f":"IF(ISBLANK($B39),\"\",LOOKUP($B39,Inscriptions!A$2:A$65496,Inscriptions!B$2:B$65498))","v":"MBIABETH MICKAÏL-ALI"},{"$f":"IF(ISBLANK($B39),\"\",LOOKUP($B39,Inscriptions!A$2:A$65496,Inscriptions!C$2:C$65498))","v":"POM"},{"$f":"IF(ISBLANK($B39),\"\",LOOKUP($B39,Inscriptions!A$2:A$65496,Inscriptions!D$2:D$65498))","v":"CSM GENNEVILLIERS"},null,26,728,0,7,28,10.84,"km/h"]
[36,2100,{"$f":"IF(ISBLANK($B40),\"\",LOOKUP($B40,Inscriptions!A$2:A$65496,Inscriptions!B$2:B$65498))","v":"MARTIN GURWAN"},{"$f":"IF(ISBLANK($B40),\"\",LOOKUP($B40,Inscriptions!A$2:A$65496,Inscriptions!C$2:C$65498))","v":"POM"},{"$f":"IF(ISBLANK($B40),\"\",LOOKUP($B40,Inscriptions!A$2:A$65496,Inscriptions!D$2:D$65498))","v":"US VIGNEUX"},null,27,729,0,7,29,10.82,"km/h"]
[37,496,{"$f":"IF(ISBLANK($B41),\"\",LOOKUP($B41,Inscriptions!A$2:A$65496,Inscriptions!B$2:B$65498))","v":"BOUMEDJANE JANA"},{"$f":"IF(ISBLANK($B41),\"\",LOOKUP($B41,Inscriptions!A$2:A$65496,Inscriptions!C$2:C$65498))","v":"POF"},{"$f":"IF(ISBLANK($B41),\"\",LOOKUP($B41,Inscriptions!A$2:A$65496,Inscriptions!D$2:D$65498))","v":"BLANC MESNIL SA"},10,null,732,0,7,32,10.75,"km/h"]
[38,927,{"$f":"IF(ISBLANK($B42),\"\",LOOKUP($B42,Inscriptions!A$2:A$65496,Inscriptions!B$2:B$65498))","v":"VALLEE ELOISE"},{"$f":"IF(ISBLANK($B42),\"\",LOOKUP($B42,Inscriptions!A$2:A$65496,Inscriptions!C$2:C$65498))","v":"POF"},{"$f":"IF(ISBLANK($B42),\"\",LOOKUP($B42,Inscriptions!A$2:A$65496,Inscriptions!D$2:D$65498))","v":"CS BRETIGNY ATHLETISME"},11,null,734,0,7,34,10.7,"km/h"]
[39,498,{"$f":"IF(ISBLANK($B43),\"\",LOOKUP($B43,Inscriptions!A$2:A$65496,Inscriptions!B$2:B$65498))","v":"BOUNGOU RODNEY"},{"$f":"IF(ISBLANK($B43),\"\",LOOKUP($B43,Inscriptions!A$2:A$65496,Inscriptions!C$2:C$65498))","v":"POM"},{"$f":"IF(ISBLANK($B43),\"\",LOOKUP($B43,Inscriptions!A$2:A$65496,Inscriptions!D$2:D$65498))","v":"BLANC MESNIL SA"},null,28,734,0,7,34,10.7,"km/h"]
[40,1194,{"$f":"IF(ISBLANK($B44),\"\",LOOKUP($B44,Inscriptions!A$2:A$65496,Inscriptions!B$2:B$65498))","v":"ETONNO OWEN"},{"$f":"IF(ISBLANK($B44),\"\",LOOKUP($B44,Inscriptions!A$2:A$65496,Inscriptions!C$2:C$65498))","v":"POM"},{"$f":"IF(ISBLANK($B44),\"\",LOOKUP($B44,Inscriptions!A$2:A$65496,Inscriptions!D$2:D$65498))","v":"ES VITRY"},null,29,737,0,7,37,10.63,"km/h"]
[41,2290,{"$f":"IF(ISBLANK($B45),\"\",LOOKUP($B45,Inscriptions!A$2:A$65496,Inscriptions!B$2:B$65498))","v":"CHAIB ABDELLAH"},{"$f":"IF(ISBLANK($B45),\"\",LOOKUP($B45,Inscriptions!A$2:A$65496,Inscriptions!C$2:C$65498))","v":"POM"},{"$f":"IF(ISBLANK($B45),\"\",LOOKUP($B45,Inscriptions!A$2:A$65496,Inscriptions!D$2:D$65498))","v":"VILLEPINTE MA"},null,30,737,0,7,37,10.63,"km/h"]
[42,1614,{"$f":"IF(ISBLANK($B46),\"\",LOOKUP($B46,Inscriptions!A$2:A$65496,Inscriptions!B$2:B$65498))","v":"BEZZAOUYA SANA"},{"$f":"IF(ISBLANK($B46),\"\",LOOKUP($B46,Inscriptions!A$2:A$65496,Inscriptions!C$2:C$65498))","v":"POF"},{"$f":"IF(ISBLANK($B46),\"\",LOOKUP($B46,Inscriptions!A$2:A$65496,Inscriptions!D$2:D$65498))","v":"TREMBLAY AC"},12,null,741,0,7,41,10.54,"km/h"]
[43,864,{"$f":"IF(ISBLANK($B47),\"\",LOOKUP($B47,Inscriptions!A$2:A$65496,Inscriptions!B$2:B$65498))","v":"MESSIAS PACHECO FLAVIE SARAH"},{"$f":"IF(ISBLANK($B47),\"\",LOOKUP($B47,Inscriptions!A$2:A$65496,Inscriptions!C$2:C$65498))","v":"POF"},{"$f":"IF(ISBLANK($B47),\"\",LOOKUP($B47,Inscriptions!A$2:A$65496,Inscriptions!D$2:D$65498))","v":"CS BRETIGNY ATHLETISME"},13,null,741,0,7,41,10.54,"km/h"]
[44,1540,{"$f":"IF(ISBLANK($B48),\"\",LOOKUP($B48,Inscriptions!A$2:A$65496,Inscriptions!B$2:B$65498))","v":"COUCHET LOIS"},{"$f":"IF(ISBLANK($B48),\"\",LOOKUP($B48,Inscriptions!A$2:A$65496,Inscriptions!C$2:C$65498))","v":"POF"},{"$f":"IF(ISBLANK($B48),\"\",LOOKUP($B48,Inscriptions!A$2:A$65496,Inscriptions!D$2:D$65498))","v":"ST DENIS US"},14,null,749,0,7,49,10.36,"km/h"]
[45,1112,{"$f":"IF(ISBLANK($B49),\"\",LOOKUP($B49,Inscriptions!A$2:A$65496,Inscriptions!B$2:B$65498))","v":"PELESTIN JORDAN"},{"$f":"IF(ISBLANK($B49),\"\",LOOKUP($B49,Inscriptions!A$2:A$65496,Inscriptions!C$2:C$65498))","v":"POM"},{"$f":"IF(ISBLANK($B49),\"\",LOOKUP($B49,Inscriptions!A$2:A$65496,Inscriptions!D$2:D$65498))","v":"ES STAINS"},null,31,752,0,7,52,10.29,"km/h"]
[46,1101,{"$f":"IF(ISBLANK($B50),\"\",LOOKUP($B50,Inscriptions!A$2:A$65496,Inscriptions!B$2:B$65498))","v":"LANGLOIS KLEMENCE"},{"$f":"IF(ISBLANK($B50),\"\",LOOKUP($B50,Inscriptions!A$2:A$65496,Inscriptions!C$2:C$65498))","v":"POF"},{"$f":"IF(ISBLANK($B50),\"\",LOOKUP($B50,Inscriptions!A$2:A$65496,Inscriptions!D$2:D$65498))","v":"ES STAINS"},15,null,753,0,7,53,10.27,"km/h"]
[47,2327,{"$f":"IF(ISBLANK($B51),\"\",LOOKUP($B51,Inscriptions!A$2:A$65496,Inscriptions!B$2:B$65498))","v":"NAGOU NOAH"},{"$f":"IF(ISBLANK($B51),\"\",LOOKUP($B51,Inscriptions!A$2:A$65496,Inscriptions!C$2:C$65498))","v":"POM"},{"$f":"IF(ISBLANK($B51),\"\",LOOKUP($B51,Inscriptions!A$2:A$65496,Inscriptions!D$2:D$65498))","v":"VILLEPINTE MA"},null,32,754,0,7,54,10.25,"km/h"]
[48,2383,{"$f":"IF(ISBLANK($B52),\"\",LOOKUP($B52,Inscriptions!A$2:A$65496,Inscriptions!B$2:B$65498))","v":"DEMBELE AÏCHA"},{"$f":"IF(ISBLANK($B52),\"\",LOOKUP($B52,Inscriptions!A$2:A$65496,Inscriptions!C$2:C$65498))","v":"POF"},{"$f":"IF(ISBLANK($B52),\"\",LOOKUP($B52,Inscriptions!A$2:A$65496,Inscriptions!D$2:D$65498))","v":"TREMBLAY AC"},16,null,755,0,7,55,10.23,"km/h"]
[49,20,{"$f":"IF(ISBLANK($B53),\"\",LOOKUP($B53,Inscriptions!A$2:A$65496,Inscriptions!B$2:B$65498))","v":"DOUKARA FATOUMATA"},{"$f":"IF(ISBLANK($B53),\"\",LOOKUP($B53,Inscriptions!A$2:A$65496,Inscriptions!C$2:C$65498))","v":"POF"},{"$f":"IF(ISBLANK($B53),\"\",LOOKUP($B53,Inscriptions!A$2:A$65496,Inscriptions!D$2:D$65498))","v":"AC BOBIGNY"},17,null,756,0,7,56,10.210000000000001,"km/h"]
[50,2229,{"$f":"IF(ISBLANK($B54),\"\",LOOKUP($B54,Inscriptions!A$2:A$65496,Inscriptions!B$2:B$65498))","v":"CHARLEMAGNE RUDY"},{"$f":"IF(ISBLANK($B54),\"\",LOOKUP($B54,Inscriptions!A$2:A$65496,Inscriptions!C$2:C$65498))","v":"POM"},{"$f":"IF(ISBLANK($B54),\"\",LOOKUP($B54,Inscriptions!A$2:A$65496,Inscriptions!D$2:D$65498))","v":"USO BEZONS"},null,33,757,0,7,57,10.18,"km/h"]
[51,1115,{"$f":"IF(ISBLANK($B55),\"\",LOOKUP($B55,Inscriptions!A$2:A$65496,Inscriptions!B$2:B$65498))","v":"POUGHON MAIA"},{"$f":"IF(ISBLANK($B55),\"\",LOOKUP($B55,Inscriptions!A$2:A$65496,Inscriptions!C$2:C$65498))","v":"POF"},{"$f":"IF(ISBLANK($B55),\"\",LOOKUP($B55,Inscriptions!A$2:A$65496,Inscriptions!D$2:D$65498))","v":"ES STAINS"},18,null,759,0,7,59,10.14,"km/h"]
[52,1093,{"$f":"IF(ISBLANK($B56),\"\",LOOKUP($B56,Inscriptions!A$2:A$65496,Inscriptions!B$2:B$65498))","v":"JOSEPH BRADLEY"},{"$f":"IF(ISBLANK($B56),\"\",LOOKUP($B56,Inscriptions!A$2:A$65496,Inscriptions!C$2:C$65498))","v":"POM"},{"$f":"IF(ISBLANK($B56),\"\",LOOKUP($B56,Inscriptions!A$2:A$65496,Inscriptions!D$2:D$65498))","v":"ES STAINS"},null,34,759,0,7,59,10.14,"km/h"]
[53,1343,{"$f":"IF(ISBLANK($B57),\"\",LOOKUP($B57,Inscriptions!A$2:A$65496,Inscriptions!B$2:B$65498))","v":"BEZARD NILS"},{"$f":"IF(ISBLANK($B57),\"\",LOOKUP($B57,Inscriptions!A$2:A$65496,Inscriptions!C$2:C$65498))","v":"POM"},{"$f":"IF(ISBLANK($B57),\"\",LOOKUP($B57,Inscriptions!A$2:A$65496,Inscriptions!D$2:D$65498))","v":"NOISY LE SEC ATHLETISME"},null,35,800,0,8,0,10.119999999999999,"km/h"]
[54,1958,{"$f":"IF(ISBLANK($B58),\"\",LOOKUP($B58,Inscriptions!A$2:A$65496,Inscriptions!B$2:B$65498))","v":"TCHOUAGA LIAZID"},{"$f":"IF(ISBLANK($B58),\"\",LOOKUP($B58,Inscriptions!A$2:A$65496,Inscriptions!C$2:C$65498))","v":"POM"},{"$f":"IF(ISBLANK($B58),\"\",LOOKUP($B58,Inscriptions!A$2:A$65496,Inscriptions!D$2:D$65498))","v":"US IVRY"},null,36,803,0,8,3,10.06,"km/h"]
[55,1376,{"$f":"IF(ISBLANK($B59),\"\",LOOKUP($B59,Inscriptions!A$2:A$65496,Inscriptions!B$2:B$65498))","v":"ETOUPE AMANDINE"},{"$f":"IF(ISBLANK($B59),\"\",LOOKUP($B59,Inscriptions!A$2:A$65496,Inscriptions!C$2:C$65498))","v":"POF"},{"$f":"IF(ISBLANK($B59),\"\",LOOKUP($B59,Inscriptions!A$2:A$65496,Inscriptions!D$2:D$65498))","v":"NOISY LE SEC ATHLETISME"},19,null,807,0,8,7,9.9700000000000006,"km/h"]
[56,2378,{"$f":"IF(ISBLANK($B60),\"\",LOOKUP($B60,Inscriptions!A$2:A$65496,Inscriptions!B$2:B$65498))","v":"DJEDJE DESANGE"},{"$f":"IF(ISBLANK($B60),\"\",LOOKUP($B60,Inscriptions!A$2:A$65496,Inscriptions!C$2:C$65498))","v":"POM"},{"$f":"IF(ISBLANK($B60),\"\",LOOKUP($B60,Inscriptions!A$2:A$65496,Inscriptions!D$2:D$65498))","v":"NOISY LE SEC ATHLETISME"},null,37,809,0,8,9,9.93,"km/h"]
[57,479,{"$f":"IF(ISBLANK($B61),\"\",LOOKUP($B61,Inscriptions!A$2:A$65496,Inscriptions!B$2:B$65498))","v":"AGBAHOSSI FEMY MARIANNE"},{"$f":"IF(ISBLANK($B61),\"\",LOOKUP($B61,Inscriptions!A$2:A$65496,Inscriptions!C$2:C$65498))","v":"POF"},{"$f":"IF(ISBLANK($B61),\"\",LOOKUP($B61,Inscriptions!A$2:A$65496,Inscriptions!D$2:D$65498))","v":"BLANC MESNIL SA"},20,null,815,0,8,15,9.81,"km/h"]
[58,1139,{"$f":"IF(ISBLANK($B62),\"\",LOOKUP($B62,Inscriptions!A$2:A$65496,Inscriptions!B$2:B$65498))","v":"VIETTE ENORAH"},{"$f":"IF(ISBLANK($B62),\"\",LOOKUP($B62,Inscriptions!A$2:A$65496,Inscriptions!C$2:C$65498))","v":"POF"},{"$f":"IF(ISBLANK($B62),\"\",LOOKUP($B62,Inscriptions!A$2:A$65496,Inscriptions!D$2:D$65498))","v":"ES STAINS"},21,null,817,0,8,17,9.77,"km/h"]
[59,526,{"$f":"IF(ISBLANK($B63),\"\",LOOKUP($B63,Inscriptions!A$2:A$65496,Inscriptions!B$2:B$65498))","v":"GARNIER LYNA-FARAH"},{"$f":"IF(ISBLANK($B63),\"\",LOOKUP($B63,Inscriptions!A$2:A$65496,Inscriptions!C$2:C$65498))","v":"POF"},{"$f":"IF(ISBLANK($B63),\"\",LOOKUP($B63,Inscriptions!A$2:A$65496,Inscriptions!D$2:D$65498))","v":"BLANC MESNIL SA"},22,null,819,0,8,19,9.73,"km/h"]
[60,624,{"$f":"IF(ISBLANK($B64),\"\",LOOKUP($B64,Inscriptions!A$2:A$65496,Inscriptions!B$2:B$65498))","v":"BENAICH ADAM"},{"$f":"IF(ISBLANK($B64),\"\",LOOKUP($B64,Inscriptions!A$2:A$65496,Inscriptions!C$2:C$65498))","v":"POM"},{"$f":"IF(ISBLANK($B64),\"\",LOOKUP($B64,Inscriptions!A$2:A$65496,Inscriptions!D$2:D$65498))","v":"CM AUBERVILLIERS ATHLETISME"},null,38,821,0,8,21,9.6999999999999993,"km/h"]
[61,1665,{"$f":"IF(ISBLANK($B65),\"\",LOOKUP($B65,Inscriptions!A$2:A$65496,Inscriptions!B$2:B$65498))","v":"GHARBI ADAM"},{"$f":"IF(ISBLANK($B65),\"\",LOOKUP($B65,Inscriptions!A$2:A$65496,Inscriptions!C$2:C$65498))","v":"POM"},{"$f":"IF(ISBLANK($B65),\"\",LOOKUP($B65,Inscriptions!A$2:A$65496,Inscriptions!D$2:D$65498))","v":"TREMBLAY AC"},null,39,822,0,8,22,9.68,"km/h"]
[62,1098,{"$f":"IF(ISBLANK($B66),\"\",LOOKUP($B66,Inscriptions!A$2:A$65496,Inscriptions!B$2:B$65498))","v":"KEITA COUMBA"},{"$f":"IF(ISBLANK($B66),\"\",LOOKUP($B66,Inscriptions!A$2:A$65496,Inscriptions!C$2:C$65498))","v":"POF"},{"$f":"IF(ISBLANK($B66),\"\",LOOKUP($B66,Inscriptions!A$2:A$65496,Inscriptions!D$2:D$65498))","v":"ES STAINS"},23,null,824,0,8,24,9.64,"km/h"]
[63,2382,{"$f":"IF(ISBLANK($B67),\"\",LOOKUP($B67,Inscriptions!A$2:A$65496,Inscriptions!B$2:B$65498))","v":"PAULICAPE EMMANUEL"},{"$f":"IF(ISBLANK($B67),\"\",LOOKUP($B67,Inscriptions!A$2:A$65496,Inscriptions!C$2:C$65498))","v":"POM"},{"$f":"IF(ISBLANK($B67),\"\",LOOKUP($B67,Inscriptions!A$2:A$65496,Inscriptions!D$2:D$65498))","v":"NOISY LE SEC ATHLETISME"},null,40,825,0,8,25,9.6199999999999992,"km/h"]
[64,1417,{"$f":"IF(ISBLANK($B68),\"\",LOOKUP($B68,Inscriptions!A$2:A$65496,Inscriptions!B$2:B$65498))","v":"MAGNE MABOU SHELLEY"},{"$f":"IF(ISBLANK($B68),\"\",LOOKUP($B68,Inscriptions!A$2:A$65496,Inscriptions!C$2:C$65498))","v":"POM"},{"$f":"IF(ISBLANK($B68),\"\",LOOKUP($B68,Inscriptions!A$2:A$65496,Inscriptions!D$2:D$65498))","v":"NOISY LE SEC ATHLETISME"},null,41,831,0,8,31,9.51,"km/h"]
[65,2371,{"$f":"IF(ISBLANK($B69),\"\",LOOKUP($B69,Inscriptions!A$2:A$65496,Inscriptions!B$2:B$65498))","v":"HAMMACHE SELENA"},{"$f":"IF(ISBLANK($B69),\"\",LOOKUP($B69,Inscriptions!A$2:A$65496,Inscriptions!C$2:C$65498))","v":"POF"},{"$f":"IF(ISBLANK($B69),\"\",LOOKUP($B69,Inscriptions!A$2:A$65496,Inscriptions!D$2:D$65498))","v":"ATHLE LE BOURGET DRANCY DUGNY"},24,null,832,0,8,32,9.49,"km/h"]
[66,1224,{"$f":"IF(ISBLANK($B70),\"\",LOOKUP($B70,Inscriptions!A$2:A$65496,Inscriptions!B$2:B$65498))","v":"LANDRES SAMANTHA"},{"$f":"IF(ISBLANK($B70),\"\",LOOKUP($B70,Inscriptions!A$2:A$65496,Inscriptions!C$2:C$65498))","v":"POF"},{"$f":"IF(ISBLANK($B70),\"\",LOOKUP($B70,Inscriptions!A$2:A$65496,Inscriptions!D$2:D$65498))","v":"ES VITRY"},25,null,833,{"$f":"ROUNDDOWN(H70/10000,0)","v":0},{"$f":"ROUNDDOWN((H70-I70*10000)/100,0)","v":8},{"$f":"ROUNDDOWN((H70-(I70*10000)-(J70*100)),0)","v":33},{"$f":"IF((I70+J70+K70)=0,\"\",ROUNDDOWN((L$4/((I70*3600)+(J70*60)+K70))*3.6,2))","v":9.4700000000000006},{"$f":"IF(L70=\"\",\"\",\"km/h\")","v":"km/h"}]
[67,2143,{"$f":"IF(ISBLANK($B71),\"\",LOOKUP($B71,Inscriptions!A$2:A$65496,Inscriptions!B$2:B$65498))","v":"BENSALEM ILIES"},{"$f":"IF(ISBLANK($B71),\"\",LOOKUP($B71,Inscriptions!A$2:A$65496,Inscriptions!C$2:C$65498))","v":"POM"},{"$f":"IF(ISBLANK($B71),\"\",LOOKUP($B71,Inscriptions!A$2:A$65496,Inscriptions!D$2:D$65498))","v":"USMA ST OUEN"},null,42,834,0,8,34,9.4499999999999993,"km/h"]
[68,977,{"$f":"IF(ISBLANK($B72),\"\",LOOKUP($B72,Inscriptions!A$2:A$65496,Inscriptions!B$2:B$65498))","v":"MONVILLE YANIS"},{"$f":"IF(ISBLANK($B72),\"\",LOOKUP($B72,Inscriptions!A$2:A$65496,Inscriptions!C$2:C$65498))","v":"POM"},{"$f":"IF(ISBLANK($B72),\"\",LOOKUP($B72,Inscriptions!A$2:A$65496,Inscriptions!D$2:D$65498))","v":"CSM GENNEVILLIERS"},null,43,835,0,8,35,9.43,"km/h"]
[69,2169,{"$f":"IF(ISBLANK($B73),\"\",LOOKUP($B73,Inscriptions!A$2:A$65496,Inscriptions!B$2:B$65498))","v":"GARRIBA LUYDJY"},{"$f":"IF(ISBLANK($B73),\"\",LOOKUP($B73,Inscriptions!A$2:A$65496,Inscriptions!C$2:C$65498))","v":"POM"},{"$f":"IF(ISBLANK($B73),\"\",LOOKUP($B73,Inscriptions!A$2:A$65496,Inscriptions!D$2:D$65498))","v":"USMA ST OUEN"},null,44,836,0,8,36,9.41,"km/h"]
[70,2191,{"$f":"IF(ISBLANK($B74),\"\",LOOKUP($B74,Inscriptions!A$2:A$65496,Inscriptions!B$2:B$65498))","v":"MALAQUIN-LEGRAND MALOU"},{"$f":"IF(ISBLANK($B74),\"\",LOOKUP($B74,Inscriptions!A$2:A$65496,Inscriptions!C$2:C$65498))","v":"POF"},{"$f":"IF(ISBLANK($B74),\"\",LOOKUP($B74,Inscriptions!A$2:A$65496,Inscriptions!D$2:D$65498))","v":"USMA ST OUEN"},26,null,837,0,8,37,9.4,"km/h"]
[71,1890,{"$f":"IF(ISBLANK($B75),\"\",LOOKUP($B75,Inscriptions!A$2:A$65496,Inscriptions!B$2:B$65498))","v":"LUYEYE OCÉANE"},{"$f":"IF(ISBLANK($B75),\"\",LOOKUP($B75,Inscriptions!A$2:A$65496,Inscriptions!C$2:C$65498))","v":"POF"},{"$f":"IF(ISBLANK($B75),\"\",LOOKUP($B75,Inscriptions!A$2:A$65496,Inscriptions!D$2:D$65498))","v":"US IVRY"},27,null,838,0,8,38,9.3800000000000008,"km/h"]
[72,2190,{"$f":"IF(ISBLANK($B76),\"\",LOOKUP($B76,Inscriptions!A$2:A$65496,Inscriptions!B$2:B$65498))","v":"MAIMOUN DYLMIE"},{"$f":"IF(ISBLANK($B76),\"\",LOOKUP($B76,Inscriptions!A$2:A$65496,Inscriptions!C$2:C$65498))","v":"POM"},{"$f":"IF(ISBLANK($B76),\"\",LOOKUP($B76,Inscriptions!A$2:A$65496,Inscriptions!D$2:D$65498))","v":"USMA ST OUEN"},null,45,841,0,8,41,9.32,"km/h"]
[73,22,{"$f":"IF(ISBLANK($B77),\"\",LOOKUP($B77,Inscriptions!A$2:A$65496,Inscriptions!B$2:B$65498))","v":"DUGAMIN DAVID"},{"$f":"IF(ISBLANK($B77),\"\",LOOKUP($B77,Inscriptions!A$2:A$65496,Inscriptions!C$2:C$65498))","v":"POM"},{"$f":"IF(ISBLANK($B77),\"\",LOOKUP($B77,Inscriptions!A$2:A$65496,Inscriptions!D$2:D$65498))","v":"AC BOBIGNY"},null,46,849,0,8,49,9.18,"km/h"]
[74,1406,{"$f":"IF(ISBLANK($B78),\"\",LOOKUP($B78,Inscriptions!A$2:A$65496,Inscriptions!B$2:B$65498))","v":"KONDE NASSIRA"},{"$f":"IF(ISBLANK($B78),\"\",LOOKUP($B78,Inscriptions!A$2:A$65496,Inscriptions!C$2:C$65498))","v":"POF"},{"$f":"IF(ISBLANK($B78),\"\",LOOKUP($B78,Inscriptions!A$2:A$65496,Inscriptions!D$2:D$65498))","v":"NOISY LE SEC ATHLETISME"},28,null,852,0,8,52,9.1300000000000008,"km/h"]
[75,560,{"$f":"IF(ISBLANK($B79),\"\",LOOKUP($B79,Inscriptions!A$2:A$65496,Inscriptions!B$2:B$65498))","v":"PHAETON MAELLY"},{"$f":"IF(ISBLANK($B79),\"\",LOOKUP($B79,Inscriptions!A$2:A$65496,Inscriptions!C$2:C$65498))","v":"POF"},{"$f":"IF(ISBLANK($B79),\"\",LOOKUP($B79,Inscriptions!A$2:A$65496,Inscriptions!D$2:D$65498))","v":"BLANC MESNIL SA"},29,null,854,0,8,54,9.1,"km/h"]
[76,1432,{"$f":"IF(ISBLANK($B80),\"\",LOOKUP($B80,Inscriptions!A$2:A$65496,Inscriptions!B$2:B$65498))","v":"MORIN-BERTHON CLEMENT"},{"$f":"IF(ISBLANK($B80),\"\",LOOKUP($B80,Inscriptions!A$2:A$65496,Inscriptions!C$2:C$65498))","v":"POM"},{"$f":"IF(ISBLANK($B80),\"\",LOOKUP($B80,Inscriptions!A$2:A$65496,Inscriptions!D$2:D$65498))","v":"NOISY LE SEC ATHLETISME"},null,47,856,0,8,56,9.06,"km/h"]
[77,1749,{"$f":"IF(ISBLANK($B81),\"\",LOOKUP($B81,Inscriptions!A$2:A$65496,Inscriptions!B$2:B$65498))","v":"ZAJAC LANA"},{"$f":"IF(ISBLANK($B81),\"\",LOOKUP($B81,Inscriptions!A$2:A$65496,Inscriptions!C$2:C$65498))","v":"POF"},{"$f":"IF(ISBLANK($B81),\"\",LOOKUP($B81,Inscriptions!A$2:A$65496,Inscriptions!D$2:D$65498))","v":"TREMBLAY AC"},30,null,857,0,8,57,9.0500000000000007,"km/h"]
[78,2145,{"$f":"IF(ISBLANK($B82),\"\",LOOKUP($B82,Inscriptions!A$2:A$65496,Inscriptions!B$2:B$65498))","v":"BOITTIAUX THEO"},{"$f":"IF(ISBLANK($B82),\"\",LOOKUP($B82,Inscriptions!A$2:A$65496,Inscriptions!C$2:C$65498))","v":"POM"},{"$f":"IF(ISBLANK($B82),\"\",LOOKUP($B82,Inscriptions!A$2:A$65496,Inscriptions!D$2:D$65498))","v":"USMA ST OUEN"},null,48,858,0,8,58,9.0299999999999994,"km/h"]
[79,1168,{"$f":"IF(ISBLANK($B83),\"\",LOOKUP($B83,Inscriptions!A$2:A$65496,Inscriptions!B$2:B$65498))","v":"CELINI QHENTIN"},{"$f":"IF(ISBLANK($B83),\"\",LOOKUP($B83,Inscriptions!A$2:A$65496,Inscriptions!C$2:C$65498))","v":"POM"},{"$f":"IF(ISBLANK($B83),\"\",LOOKUP($B83,Inscriptions!A$2:A$65496,Inscriptions!D$2:D$65498))","v":"ES VITRY"},null,49,858,0,8,58,9.0299999999999994,"km/h"]
[80,551,{"$f":"IF(ISBLANK($B84),\"\",LOOKUP($B84,Inscriptions!A$2:A$65496,Inscriptions!B$2:B$65498))","v":"MARIE-LOUISE LOUHANE"},{"$f":"IF(ISBLANK($B84),\"\",LOOKUP($B84,Inscriptions!A$2:A$65496,Inscriptions!C$2:C$65498))","v":"POF"},{"$f":"IF(ISBLANK($B84),\"\",LOOKUP($B84,Inscriptions!A$2:A$65496,Inscriptions!D$2:D$65498))","v":"BLANC MESNIL SA"},31,null,900,0,9,0,9,"km/h"]
[81,103,{"$f":"IF(ISBLANK($B85),\"\",LOOKUP($B85,Inscriptions!A$2:A$65496,Inscriptions!B$2:B$65498))","v":"ELACHE AMINA"},{"$f":"IF(ISBLANK($B85),\"\",LOOKUP($B85,Inscriptions!A$2:A$65496,Inscriptions!C$2:C$65498))","v":"POF"},{"$f":"IF(ISBLANK($B85),\"\",LOOKUP($B85,Inscriptions!A$2:A$65496,Inscriptions!D$2:D$65498))","v":"ACM AUBERVILLIERS"},32,null,901,0,9,1,8.98,"km/h"]
[82,1455,{"$f":"IF(ISBLANK($B86),\"\",LOOKUP($B86,Inscriptions!A$2:A$65496,Inscriptions!B$2:B$65498))","v":"SAID ADAM"},{"$f":"IF(ISBLANK($B86),\"\",LOOKUP($B86,Inscriptions!A$2:A$65496,Inscriptions!C$2:C$65498))","v":"POM"},{"$f":"IF(ISBLANK($B86),\"\",LOOKUP($B86,Inscriptions!A$2:A$65496,Inscriptions!D$2:D$65498))","v":"NOISY LE SEC ATHLETISME"},null,50,901,0,9,1,8.98,"km/h"]
[83,907,{"$f":"IF(ISBLANK($B87),\"\",LOOKUP($B87,Inscriptions!A$2:A$65496,Inscriptions!B$2:B$65498))","v":"RODRIGUES IURI"},{"$f":"IF(ISBLANK($B87),\"\",LOOKUP($B87,Inscriptions!A$2:A$65496,Inscriptions!C$2:C$65498))","v":"POM"},{"$f":"IF(ISBLANK($B87),\"\",LOOKUP($B87,Inscriptions!A$2:A$65496,Inscriptions!D$2:D$65498))","v":"CS BRETIGNY ATHLETISME"},null,51,902,0,9,2,8.9600000000000009,"km/h"]
[84,1528,{"$f":"IF(ISBLANK($B88),\"\",LOOKUP($B88,Inscriptions!A$2:A$65496,Inscriptions!B$2:B$65498))","v":"CAMARA MARIAM"},{"$f":"IF(ISBLANK($B88),\"\",LOOKUP($B88,Inscriptions!A$2:A$65496,Inscriptions!C$2:C$65498))","v":"POF"},{"$f":"IF(ISBLANK($B88),\"\",LOOKUP($B88,Inscriptions!A$2:A$65496,Inscriptions!D$2:D$65498))","v":"ST DENIS US"},33,null,905,0,9,5,8.91,"km/h"]
[85,1223,{"$f":"IF(ISBLANK($B89),\"\",LOOKUP($B89,Inscriptions!A$2:A$65496,Inscriptions!B$2:B$65498))","v":"LANDRES MARINE"},{"$f":"IF(ISBLANK($B89),\"\",LOOKUP($B89,Inscriptions!A$2:A$65496,Inscriptions!C$2:C$65498))","v":"POF"},{"$f":"IF(ISBLANK($B89),\"\",LOOKUP($B89,Inscriptions!A$2:A$65496,Inscriptions!D$2:D$65498))","v":"ES VITRY"},34,null,919,0,9,19,8.69,"km/h"]
[86,2032,{"$f":"IF(ISBLANK($B90),\"\",LOOKUP($B90,Inscriptions!A$2:A$65496,Inscriptions!B$2:B$65498))","v":"BACARY ADAMA"},{"$f":"IF(ISBLANK($B90),\"\",LOOKUP($B90,Inscriptions!A$2:A$65496,Inscriptions!C$2:C$65498))","v":"POF"},{"$f":"IF(ISBLANK($B90),\"\",LOOKUP($B90,Inscriptions!A$2:A$65496,Inscriptions!D$2:D$65498))","v":"US VIGNEUX"},35,null,null,0,0,0,"",""]
[87,2033,{"$f":"IF(ISBLANK($B91),\"\",LOOKUP($B91,Inscriptions!A$2:A$65496,Inscriptions!B$2:B$65498))","v":"BACARY HAWA"},{"$f":"IF(ISBLANK($B91),\"\",LOOKUP($B91,Inscriptions!A$2:A$65496,Inscriptions!C$2:C$65498))","v":"POF"},{"$f":"IF(ISBLANK($B91),\"\",LOOKUP($B91,Inscriptions!A$2:A$65496,Inscriptions!D$2:D$65498))","v":"US VIGNEUX"},36,null,null,0,0,0,"",""]
[88,2379,{"$f":"IF(ISBLANK($B92),\"\",LOOKUP($B92,Inscriptions!A$2:A$65496,Inscriptions!B$2:B$65498))","v":"OMARDIKOKE CANDICE"},{"$f":"IF(ISBLANK($B92),\"\",LOOKUP($B92,Inscriptions!A$2:A$65496,Inscriptions!C$2:C$65498))","v":"POF"},{"$f":"IF(ISBLANK($B92),\"\",LOOKUP($B92,Inscriptions!A$2:A$65496,Inscriptions!D$2:D$65498))","v":"NOISY LE SEC ATHLETISME"},37,null,null,0,0,0,"",""]
[89,1559,{"$f":"IF(ISBLANK($B93),\"\",LOOKUP($B93,Inscriptions!A$2:A$65496,Inscriptions!B$2:B$65498))","v":"FIDELE ALIYAH"},{"$f":"IF(ISBLANK($B93),\"\",LOOKUP($B93,Inscriptions!A$2:A$65496,Inscriptions!C$2:C$65498))","v":"POF"},{"$f":"IF(ISBLANK($B93),\"\",LOOKUP($B93,Inscriptions!A$2:A$65496,Inscriptions!D$2:D$65498))","v":"ST DENIS US"},38,null,null,0,0,0,"",""]
[90,1512,{"$f":"IF(ISBLANK($B94),\"\",LOOKUP($B94,Inscriptions!A$2:A$65496,Inscriptions!B$2:B$65498))","v":"BAENA AUDREY"},{"$f":"IF(ISBLANK($B94),\"\",LOOKUP($B94,Inscriptions!A$2:A$65496,Inscriptions!C$2:C$65498))","v":"POF"},{"$f":"IF(ISBLANK($B94),\"\",LOOKUP($B94,Inscriptions!A$2:A$65496,Inscriptions!D$2:D$65498))","v":"ST DENIS US"},39,null,null,0,0,0,"",""]
[91,1287,{"$f":"IF(ISBLANK($B95),\"\",LOOKUP($B95,Inscriptions!A$2:A$65496,Inscriptions!B$2:B$65498))","v":"VOLTAIRE ANGELINE"},{"$f":"IF(ISBLANK($B95),\"\",LOOKUP($B95,Inscriptions!A$2:A$65496,Inscriptions!C$2:C$65498))","v":"POF"},{"$f":"IF(ISBLANK($B95),\"\",LOOKUP($B95,Inscriptions!A$2:A$65496,Inscriptions!D$2:D$65498))","v":"ES VITRY"},40,null,null,0,0,0,"",""]
[92,555,{"$f":"IF(ISBLANK($B96),\"\",LOOKUP($B96,Inscriptions!A$2:A$65496,Inscriptions!B$2:B$65498))","v":"MOUSSA YOUSSEF"},{"$f":"IF(ISBLANK($B96),\"\",LOOKUP($B96,Inscriptions!A$2:A$65496,Inscriptions!C$2:C$65498))","v":"POM"},{"$f":"IF(ISBLANK($B96),\"\",LOOKUP($B96,Inscriptions!A$2:A$65496,Inscriptions!D$2:D$65498))","v":"BLANC MESNIL SA"},null,52,null,0,0,0,"",""]
[93,2284,{"$f":"IF(ISBLANK($B97),\"\",LOOKUP($B97,Inscriptions!A$2:A$65496,Inscriptions!B$2:B$65498))","v":"BOUBERKA NAIMA"},{"$f":"IF(ISBLANK($B97),\"\",LOOKUP($B97,Inscriptions!A$2:A$65496,Inscriptions!C$2:C$65498))","v":"POF"},{"$f":"IF(ISBLANK($B97),\"\",LOOKUP($B97,Inscriptions!A$2:A$65496,Inscriptions!D$2:D$65498))","v":"VILLEPINTE MA"},41,null,null,0,0,0,"",""]
[94,992,{"$f":"IF(ISBLANK($B98),\"\",LOOKUP($B98,Inscriptions!A$2:A$65496,Inscriptions!B$2:B$65498))","v":"SISSAKO FATOUMATA"},{"$f":"IF(ISBLANK($B98),\"\",LOOKUP($B98,Inscriptions!A$2:A$65496,Inscriptions!C$2:C$65498))","v":"POF"},{"$f":"IF(ISBLANK($B98),\"\",LOOKUP($B98,Inscriptions!A$2:A$65496,Inscriptions!D$2:D$65498))","v":"CSM GENNEVILLIERS"},42,null,null,0,0,0,"",""]
[95,1710,{"$f":"IF(ISBLANK($B99),\"\",LOOKUP($B99,Inscriptions!A$2:A$65496,Inscriptions!B$2:B$65498))","v":"MUSUNGU SIMON"},{"$f":"IF(ISBLANK($B99),\"\",LOOKUP($B99,Inscriptions!A$2:A$65496,Inscriptions!C$2:C$65498))","v":"MIM"},{"$f":"IF(ISBLANK($B99),\"\",LOOKUP($B99,Inscriptions!A$2:A$65496,Inscriptions!D$2:D$65498))","v":"TREMBLAY AC"},null,null,null,0,0,0,"",""]
[96,null,{"$f":"IF(ISBLANK($B100),\"\",LOOKUP($B100,Inscriptions!A$2:A$65496,Inscriptions!B$2:B$65498))","v":""},{"$f":"IF(ISBLANK($B100),\"\",LOOKUP($B100,Inscriptions!A$2:A$65496,Inscriptions!C$2:C$65498))","v":""},{"$f":"IF(ISBLANK($B100),\"\",LOOKUP($B100,Inscriptions!A$2:A$65496,Inscriptions!D$2:D$65498))","v":""},null,null,null,0,0,0,"",""]
[97,null,{"$f":"IF(ISBLANK($B101),\"\",LOOKUP($B101,Inscriptions!A$2:A$65496,Inscriptions!B$2:B$65498))","v":""},{"$f":"IF(ISBLANK($B101),\"\",LOOKUP($B101,Inscriptions!A$2:A$65496,Inscriptions!C$2:C$65498))","v":""},{"$f":"IF(ISBLANK($B101),\"\",LOOKUP($B101,Inscriptions!A$2:A$65496,Inscriptions!D$2:D$65498))","v":""},null,null,null,0,0,0,"",""]
[98,null,{"$f":"IF(ISBLANK($B102),\"\",LOOKUP($B102,Inscriptions!A$2:A$65496,Inscriptions!B$2:B$65498))","v":""},{"$f":"IF(ISBLANK($B102),\"\",LOOKUP($B102,Inscriptions!A$2:A$65496,Inscriptions!C$2:C$65498))","v":""},{"$f":"IF(ISBLANK($B102),\"\",LOOKUP($B102,Inscriptions!A$2:A$65496,Inscriptions!D$2:D$65498))","v":""},null,null,null,0,0,0,"",""]
[99,null,{"$f":"IF(ISBLANK($B103),\"\",LOOKUP($B103,Inscriptions!A$2:A$65496,Inscriptions!B$2:B$65498))","v":""},{"$f":"IF(ISBLANK($B103),\"\",LOOKUP($B103,Inscriptions!A$2:A$65496,Inscriptions!C$2:C$65498))","v":""},{"$f":"IF(ISBLANK($B103),\"\",LOOKUP($B103,Inscriptions!A$2:A$65496,Inscriptions!D$2:D$65498))","v":""},null,null,null,0,0,0,"",""]
[100,null,{"$f":"IF(ISBLANK($B104),\"\",LOOKUP($B104,Inscriptions!A$2:A$65496,Inscriptions!B$2:B$65498))","v":""},{"$f":"IF(ISBLANK($B104),\"\",LOOKUP($B104,Inscriptions!A$2:A$65496,Inscriptions!C$2:C$65498))","v":""},{"$f":"IF(ISBLANK($B104),\"\",LOOKUP($B104,Inscriptions!A$2:A$65496,Inscriptions!D$2:D$65498))","v":""},null,null,null,0,0,0,"",""]
[101,null,{"$f":"IF(ISBLANK($B105),\"\",LOOKUP($B105,Inscriptions!A$2:A$65496,Inscriptions!B$2:B$65498))","v":""},{"$f":"IF(ISBLANK($B105),\"\",LOOKUP($B105,Inscriptions!A$2:A$65496,Inscriptions!C$2:C$65498))","v":""},{"$f":"IF(ISBLANK($B105),\"\",LOOKUP($B105,Inscriptions!A$2:A$65496,Inscriptions!D$2:D$65498))","v":""},null,null,null,0,0,0,"",""]
[102,null,{"$f":"IF(ISBLANK($B106),\"\",LOOKUP($B106,Inscriptions!A$2:A$65496,Inscriptions!B$2:B$65498))","v":""},{"$f":"IF(ISBLANK($B106),\"\",LOOKUP($B106,Inscriptions!A$2:A$65496,Inscriptions!C$2:C$65498))","v":""},{"$f":"IF(ISBLANK($B106),\"\",LOOKUP($B106,Inscriptions!A$2:A$65496,Inscriptions!D$2:D$65498))","v":""},null,null,null,0,0,0,"",""]
[103,null,{"$f":"IF(ISBLANK($B107),\"\",LOOKUP($B107,Inscriptions!A$2:A$65496,Inscriptions!B$2:B$65498))","v":""},{"$f":"IF(ISBLANK($B107),\"\",LOOKUP($B107,Inscriptions!A$2:A$65496,Inscriptions!C$2:C$65498))","v":""},{"$f":"IF(ISBLANK($B107),\"\",LOOKUP($B107,Inscriptions!A$2:A$65496,Inscriptions!D$2:D$65498))","v":""},null,null,null,0,0,0,"",""]
[104,null,{"$f":"IF(ISBLANK($B108),\"\",LOOKUP($B108,Inscriptions!A$2:A$65496,Inscriptions!B$2:B$65498))","v":""},{"$f":"IF(ISBLANK($B108),\"\",LOOKUP($B108,Inscriptions!A$2:A$65496,Inscriptions!C$2:C$65498))","v":""},{"$f":"IF(ISBLANK($B108),\"\",LOOKUP($B108,Inscriptions!A$2:A$65496,Inscriptions!D$2:D$65498))","v":""},null,null,null,0,0,0,"",""]
[105,null,{"$f":"IF(ISBLANK($B109),\"\",LOOKUP($B109,Inscriptions!A$2:A$65496,Inscriptions!B$2:B$65498))","v":""},{"$f":"IF(ISBLANK($B109),\"\",LOOKUP($B109,Inscriptions!A$2:A$65496,Inscriptions!C$2:C$65498))","v":""},{"$f":"IF(ISBLANK($B109),\"\",LOOKUP($B109,Inscriptions!A$2:A$65496,Inscriptions!D$2:D$65498))","v":""},null,null,null,0,0,0,"",""]
[106,null,{"$f":"IF(ISBLANK($B110),\"\",LOOKUP($B110,Inscriptions!A$2:A$65496,Inscriptions!B$2:B$65498))","v":""},{"$f":"IF(ISBLANK($B110),\"\",LOOKUP($B110,Inscriptions!A$2:A$65496,Inscriptions!C$2:C$65498))","v":""},{"$f":"IF(ISBLANK($B110),\"\",LOOKUP($B110,Inscriptions!A$2:A$65496,Inscriptions!D$2:D$65498))","v":""},null,null,null,0,0,0,"",""]
[107,null,{"$f":"IF(ISBLANK($B111),\"\",LOOKUP($B111,Inscriptions!A$2:A$65496,Inscriptions!B$2:B$65498))","v":""},{"$f":"IF(ISBLANK($B111),\"\",LOOKUP($B111,Inscriptions!A$2:A$65496,Inscriptions!C$2:C$65498))","v":""},{"$f":"IF(ISBLANK($B111),\"\",LOOKUP($B111,Inscriptions!A$2:A$65496,Inscriptions!D$2:D$65498))","v":""},null,null,null,0,0,0,"",""]
[108,null,{"$f":"IF(ISBLANK($B112),\"\",LOOKUP($B112,Inscriptions!A$2:A$65496,Inscriptions!B$2:B$65498))","v":""},{"$f":"IF(ISBLANK($B112),\"\",LOOKUP($B112,Inscriptions!A$2:A$65496,Inscriptions!C$2:C$65498))","v":""},{"$f":"IF(ISBLANK($B112),\"\",LOOKUP($B112,Inscriptions!A$2:A$65496,Inscriptions!D$2:D$65498))","v":""},null,null,null,0,0,0,"",""]
[109,null,{"$f":"IF(ISBLANK($B113),\"\",LOOKUP($B113,Inscriptions!A$2:A$65496,Inscriptions!B$2:B$65498))","v":""},{"$f":"IF(ISBLANK($B113),\"\",LOOKUP($B113,Inscriptions!A$2:A$65496,Inscriptions!C$2:C$65498))","v":""},{"$f":"IF(ISBLANK($B113),\"\",LOOKUP($B113,Inscriptions!A$2:A$65496,Inscriptions!D$2:D$65498))","v":""},null,null,null,0,0,0,"",""]
[110,null,{"$f":"IF(ISBLANK($B114),\"\",LOOKUP($B114,Inscriptions!A$2:A$65496,Inscriptions!B$2:B$65498))","v":""},{"$f":"IF(ISBLANK($B114),\"\",LOOKUP($B114,Inscriptions!A$2:A$65496,Inscriptions!C$2:C$65498))","v":""},{"$f":"IF(ISBLANK($B114),\"\",LOOKUP($B114,Inscriptions!A$2:A$65496,Inscriptions!D$2:D$65498))","v":""},null,null,null,0,0,0,"",""]
[111,null,{"$f":"IF(ISBLANK($B115),\"\",LOOKUP($B115,Inscriptions!A$2:A$65496,Inscriptions!B$2:B$65498))","v":""},{"$f":"IF(ISBLANK($B115),\"\",LOOKUP($B115,Inscriptions!A$2:A$65496,Inscriptions!C$2:C$65498))","v":""},{"$f":"IF(ISBLANK($B115),\"\",LOOKUP($B115,Inscriptions!A$2:A$65496,Inscriptions!D$2:D$65498))","v":""},null,null,null,0,0,0,"",""]
[112,null,{"$f":"IF(ISBLANK($B116),\"\",LOOKUP($B116,Inscriptions!A$2:A$65496,Inscriptions!B$2:B$65498))","v":""},{"$f":"IF(ISBLANK($B116),\"\",LOOKUP($B116,Inscriptions!A$2:A$65496,Inscriptions!C$2:C$65498))","v":""},{"$f":"IF(ISBLANK($B116),\"\",LOOKUP($B116,Inscriptions!A$2:A$65496,Inscriptions!D$2:D$65498))","v":""},null,null,null,0,0,0,"",""]
[113,null,{"$f":"IF(ISBLANK($B117),\"\",LOOKUP($B117,Inscriptions!A$2:A$65496,Inscriptions!B$2:B$65498))","v":""},{"$f":"IF(ISBLANK($B117),\"\",LOOKUP($B117,Inscriptions!A$2:A$65496,Inscriptions!C$2:C$65498))","v":""},{"$f":"IF(ISBLANK($B117),\"\",LOOKUP($B117,Inscriptions!A$2:A$65496,Inscriptions!D$2:D$65498))","v":""},null,null,null,0,0,0,"",""]
[114,null,{"$f":"IF(ISBLANK($B118),\"\",LOOKUP($B118,Inscriptions!A$2:A$65496,Inscriptions!B$2:B$65498))","v":""},{"$f":"IF(ISBLANK($B118),\"\",LOOKUP($B118,Inscriptions!A$2:A$65496,Inscriptions!C$2:C$65498))","v":""},{"$f":"IF(ISBLANK($B118),\"\",LOOKUP($B118,Inscriptions!A$2:A$65496,Inscriptions!D$2:D$65498))","v":""},null,null,null,0,0,0,"",""]
[115,null,{"$f":"IF(ISBLANK($B119),\"\",LOOKUP($B119,Inscriptions!A$2:A$65496,Inscriptions!B$2:B$65498))","v":""},{"$f":"IF(ISBLANK($B119),\"\",LOOKUP($B119,Inscriptions!A$2:A$65496,Inscriptions!C$2:C$65498))","v":""},{"$f":"IF(ISBLANK($B119),\"\",LOOKUP($B119,Inscriptions!A$2:A$65496,Inscriptions!D$2:D$65498))","v":""},null,null,null,0,0,0,"",""]
[116,null,{"$f":"IF(ISBLANK($B120),\"\",LOOKUP($B120,Inscriptions!A$2:A$65496,Inscriptions!B$2:B$65498))","v":""},{"$f":"IF(ISBLANK($B120),\"\",LOOKUP($B120,Inscriptions!A$2:A$65496,Inscriptions!C$2:C$65498))","v":""},{"$f":"IF(ISBLANK($B120),\"\",LOOKUP($B120,Inscriptions!A$2:A$65496,Inscriptions!D$2:D$65498))","v":""},null,null,null,0,0,0,"",""]
[117,null,{"$f":"IF(ISBLANK($B121),\"\",LOOKUP($B121,Inscriptions!A$2:A$65496,Inscriptions!B$2:B$65498))","v":""},{"$f":"IF(ISBLANK($B121),\"\",LOOKUP($B121,Inscriptions!A$2:A$65496,Inscriptions!C$2:C$65498))","v":""},{"$f":"IF(ISBLANK($B121),\"\",LOOKUP($B121,Inscriptions!A$2:A$65496,Inscriptions!D$2:D$65498))","v":""},null,null,null,0,0,0,"",""]
[118,null,{"$f":"IF(ISBLANK($B122),\"\",LOOKUP($B122,Inscriptions!A$2:A$65496,Inscriptions!B$2:B$65498))","v":""},{"$f":"IF(ISBLANK($B122),\"\",LOOKUP($B122,Inscriptions!A$2:A$65496,Inscriptions!C$2:C$65498))","v":""},{"$f":"IF(ISBLANK($B122),\"\",LOOKUP($B122,Inscriptions!A$2:A$65496,Inscriptions!D$2:D$65498))","v":""},null,null,null,0,0,0,"",""]
[119,null,{"$f":"IF(ISBLANK($B123),\"\",LOOKUP($B123,Inscriptions!A$2:A$65496,Inscriptions!B$2:B$65498))","v":""},{"$f":"IF(ISBLANK($B123),\"\",LOOKUP($B123,Inscriptions!A$2:A$65496,Inscriptions!C$2:C$65498))","v":""},{"$f":"IF(ISBLANK($B123),\"\",LOOKUP($B123,Inscriptions!A$2:A$65496,Inscriptions!D$2:D$65498))","v":""},null,null,null,0,0,0,"",""]
[120,null,{"$f":"IF(ISBLANK($B124),\"\",LOOKUP($B124,Inscriptions!A$2:A$65496,Inscriptions!B$2:B$65498))","v":""},{"$f":"IF(ISBLANK($B124),\"\",LOOKUP($B124,Inscriptions!A$2:A$65496,Inscriptions!C$2:C$65498))","v":""},{"$f":"IF(ISBLANK($B124),\"\",LOOKUP($B124,Inscriptions!A$2:A$65496,Inscriptions!D$2:D$65498))","v":""},null,null,null,0,0,0,"",""]
[121,null,{"$f":"IF(ISBLANK($B125),\"\",LOOKUP($B125,Inscriptions!A$2:A$65496,Inscriptions!B$2:B$65498))","v":""},{"$f":"IF(ISBLANK($B125),\"\",LOOKUP($B125,Inscriptions!A$2:A$65496,Inscriptions!C$2:C$65498))","v":""},{"$f":"IF(ISBLANK($B125),\"\",LOOKUP($B125,Inscriptions!A$2:A$65496,Inscriptions!D$2:D$65498))","v":""},null,null,null,0,0,0,"",""]
[122,null,{"$f":"IF(ISBLANK($B126),\"\",LOOKUP($B126,Inscriptions!A$2:A$65496,Inscriptions!B$2:B$65498))","v":""},{"$f":"IF(ISBLANK($B126),\"\",LOOKUP($B126,Inscriptions!A$2:A$65496,Inscriptions!C$2:C$65498))","v":""},{"$f":"IF(ISBLANK($B126),\"\",LOOKUP($B126,Inscriptions!A$2:A$65496,Inscriptions!D$2:D$65498))","v":""},null,null,null,0,0,0,"",""]
[123,null,{"$f":"IF(ISBLANK($B127),\"\",LOOKUP($B127,Inscriptions!A$2:A$65496,Inscriptions!B$2:B$65498))","v":""},{"$f":"IF(ISBLANK($B127),\"\",LOOKUP($B127,Inscriptions!A$2:A$65496,Inscriptions!C$2:C$65498))","v":""},{"$f":"IF(ISBLANK($B127),\"\",LOOKUP($B127,Inscriptions!A$2:A$65496,Inscriptions!D$2:D$65498))","v":""},null,null,null,0,0,0,"",""]
[124,null,{"$f":"IF(ISBLANK($B128),\"\",LOOKUP($B128,Inscriptions!A$2:A$65496,Inscriptions!B$2:B$65498))","v":""},{"$f":"IF(ISBLANK($B128),\"\",LOOKUP($B128,Inscriptions!A$2:A$65496,Inscriptions!C$2:C$65498))","v":""},{"$f":"IF(ISBLANK($B128),\"\",LOOKUP($B128,Inscriptions!A$2:A$65496,Inscriptions!D$2:D$65498))","v":""},null,null,null,0,0,0,"",""]
[125,null,{"$f":"IF(ISBLANK($B129),\"\",LOOKUP($B129,Inscriptions!A$2:A$65496,Inscriptions!B$2:B$65498))","v":""},{"$f":"IF(ISBLANK($B129),\"\",LOOKUP($B129,Inscriptions!A$2:A$65496,Inscriptions!C$2:C$65498))","v":""},{"$f":"IF(ISBLANK($B129),\"\",LOOKUP($B129,Inscriptions!A$2:A$65496,Inscriptions!D$2:D$65498))","v":""},null,null,null,0,0,0,"",""]
[126,null,{"$f":"IF(ISBLANK($B130),\"\",LOOKUP($B130,Inscriptions!A$2:A$65496,Inscriptions!B$2:B$65498))","v":""},{"$f":"IF(ISBLANK($B130),\"\",LOOKUP($B130,Inscriptions!A$2:A$65496,Inscriptions!C$2:C$65498))","v":""},{"$f":"IF(ISBLANK($B130),\"\",LOOKUP($B130,Inscriptions!A$2:A$65496,Inscriptions!D$2:D$65498))","v":""},null,null,null,0,0,0,"",""]
[127,null,{"$f":"IF(ISBLANK($B131),\"\",LOOKUP($B131,Inscriptions!A$2:A$65496,Inscriptions!B$2:B$65498))","v":""},{"$f":"IF(ISBLANK($B131),\"\",LOOKUP($B131,Inscriptions!A$2:A$65496,Inscriptions!C$2:C$65498))","v":""},{"$f":"IF(ISBLANK($B131),\"\",LOOKUP($B131,Inscriptions!A$2:A$65496,Inscriptions!D$2:D$65498))","v":""},null,null,null,0,0,0,"",""]
[128,null,{"$f":"IF(ISBLANK($B132),\"\",LOOKUP($B132,Inscriptions!A$2:A$65496,Inscriptions!B$2:B$65498))","v":""},{"$f":"IF(ISBLANK($B132),\"\",LOOKUP($B132,Inscriptions!A$2:A$65496,Inscriptions!C$2:C$65498))","v":""},{"$f":"IF(ISBLANK($B132),\"\",LOOKUP($B132,Inscriptions!A$2:A$65496,Inscriptions!D$2:D$65498))","v":""},null,null,null,0,0,0,"",""]
[129,null,{"$f":"IF(ISBLANK($B133),\"\",LOOKUP($B133,Inscriptions!A$2:A$65496,Inscriptions!B$2:B$65498))","v":""},{"$f":"IF(ISBLANK($B133),\"\",LOOKUP($B133,Inscriptions!A$2:A$65496,Inscriptions!C$2:C$65498))","v":""},{"$f":"IF(ISBLANK($B133),\"\",LOOKUP($B133,Inscriptions!A$2:A$65496,Inscriptions!D$2:D$65498))","v":""},null,null,null,0,0,0,"",""]
[130,null,{"$f":"IF(ISBLANK($B134),\"\",LOOKUP($B134,Inscriptions!A$2:A$65496,Inscriptions!B$2:B$65498))","v":""},{"$f":"IF(ISBLANK($B134),\"\",LOOKUP($B134,Inscriptions!A$2:A$65496,Inscriptions!C$2:C$65498))","v":""},{"$f":"IF(ISBLANK($B134),\"\",LOOKUP($B134,Inscriptions!A$2:A$65496,Inscriptions!D$2:D$65498))","v":""},null,null,null,{"$f":"ROUNDDOWN(H134/10000,0)","v":0},{"$f":"ROUNDDOWN((H134-I134*10000)/100,0)","v":0},{"$f":"ROUNDDOWN((H134-(I134*10000)-(J134*100)),0)","v":0},{"$f":"IF((I134+J134+K134)=0,\"\",ROUNDDOWN((L$4/((I134*3600)+(J134*60)+K134))*3.6,2))","v":""},{"$f":"IF(L134=\"\",\"\",\"km/h\")","v":""}]
[131,null,{"$f":"IF(ISBLANK($B135),\"\",LOOKUP($B135,Inscriptions!A$2:A$65496,Inscriptions!B$2:B$65498))","v":""},{"$f":"IF(ISBLANK($B135),\"\",LOOKUP($B135,Inscriptions!A$2:A$65496,Inscriptions!C$2:C$65498))","v":""},{"$f":"IF(ISBLANK($B135),\"\",LOOKUP($B135,Inscriptions!A$2:A$65496,Inscriptions!D$2:D$65498))","v":""},null,null,null,0,0,0,"",""]
[132,null,{"$f":"IF(ISBLANK($B136),\"\",LOOKUP($B136,Inscriptions!A$2:A$65496,Inscriptions!B$2:B$65498))","v":""},{"$f":"IF(ISBLANK($B136),\"\",LOOKUP($B136,Inscriptions!A$2:A$65496,Inscriptions!C$2:C$65498))","v":""},{"$f":"IF(ISBLANK($B136),\"\",LOOKUP($B136,Inscriptions!A$2:A$65496,Inscriptions!D$2:D$65498))","v":""},null,null,null,0,0,0,"",""]
[133,null,{"$f":"IF(ISBLANK($B137),\"\",LOOKUP($B137,Inscriptions!A$2:A$65496,Inscriptions!B$2:B$65498))","v":""},{"$f":"IF(ISBLANK($B137),\"\",LOOKUP($B137,Inscriptions!A$2:A$65496,Inscriptions!C$2:C$65498))","v":""},{"$f":"IF(ISBLANK($B137),\"\",LOOKUP($B137,Inscriptions!A$2:A$65496,Inscriptions!D$2:D$65498))","v":""},null,null,null,0,0,0,"",""]
[134,null,{"$f":"IF(ISBLANK($B138),\"\",LOOKUP($B138,Inscriptions!A$2:A$65496,Inscriptions!B$2:B$65498))","v":""},{"$f":"IF(ISBLANK($B138),\"\",LOOKUP($B138,Inscriptions!A$2:A$65496,Inscriptions!C$2:C$65498))","v":""},{"$f":"IF(ISBLANK($B138),\"\",LOOKUP($B138,Inscriptions!A$2:A$65496,Inscriptions!D$2:D$65498))","v":""},null,null,null,0,0,0,"",""]
[135,null,{"$f":"IF(ISBLANK($B139),\"\",LOOKUP($B139,Inscriptions!A$2:A$65496,Inscriptions!B$2:B$65498))","v":""},{"$f":"IF(ISBLANK($B139),\"\",LOOKUP($B139,Inscriptions!A$2:A$65496,Inscriptions!C$2:C$65498))","v":""},{"$f":"IF(ISBLANK($B139),\"\",LOOKUP($B139,Inscriptions!A$2:A$65496,Inscriptions!D$2:D$65498))","v":""},null,null,null,0,0,0,"",""]
[136,null,{"$f":"IF(ISBLANK($B140),\"\",LOOKUP($B140,Inscriptions!A$2:A$65496,Inscriptions!B$2:B$65498))","v":""},{"$f":"IF(ISBLANK($B140),\"\",LOOKUP($B140,Inscriptions!A$2:A$65496,Inscriptions!C$2:C$65498))","v":""},{"$f":"IF(ISBLANK($B140),\"\",LOOKUP($B140,Inscriptions!A$2:A$65496,Inscriptions!D$2:D$65498))","v":""},null,null,null,0,0,0,"",""]
[137,null,{"$f":"IF(ISBLANK($B141),\"\",LOOKUP($B141,Inscriptions!A$2:A$65496,Inscriptions!B$2:B$65498))","v":""},{"$f":"IF(ISBLANK($B141),\"\",LOOKUP($B141,Inscriptions!A$2:A$65496,Inscriptions!C$2:C$65498))","v":""},{"$f":"IF(ISBLANK($B141),\"\",LOOKUP($B141,Inscriptions!A$2:A$65496,Inscriptions!D$2:D$65498))","v":""},null,null,null,0,0,0,"",""]
[138,null,{"$f":"IF(ISBLANK($B142),\"\",LOOKUP($B142,Inscriptions!A$2:A$65496,Inscriptions!B$2:B$65498))","v":""},{"$f":"IF(ISBLANK($B142),\"\",LOOKUP($B142,Inscriptions!A$2:A$65496,Inscriptions!C$2:C$65498))","v":""},{"$f":"IF(ISBLANK($B142),\"\",LOOKUP($B142,Inscriptions!A$2:A$65496,Inscriptions!D$2:D$65498))","v":""},null,null,null,0,0,0,"",""]
[139,null,{"$f":"IF(ISBLANK($B143),\"\",LOOKUP($B143,Inscriptions!A$2:A$65496,Inscriptions!B$2:B$65498))","v":""},{"$f":"IF(ISBLANK($B143),\"\",LOOKUP($B143,Inscriptions!A$2:A$65496,Inscriptions!C$2:C$65498))","v":""},{"$f":"IF(ISBLANK($B143),\"\",LOOKUP($B143,Inscriptions!A$2:A$65496,Inscriptions!D$2:D$65498))","v":""},null,null,null,0,0,0,"",""]
[140,null,{"$f":"IF(ISBLANK($B144),\"\",LOOKUP($B144,Inscriptions!A$2:A$65496,Inscriptions!B$2:B$65498))","v":""},{"$f":"IF(ISBLANK($B144),\"\",LOOKUP($B144,Inscriptions!A$2:A$65496,Inscriptions!C$2:C$65498))","v":""},{"$f":"IF(ISBLANK($B144),\"\",LOOKUP($B144,Inscriptions!A$2:A$65496,Inscriptions!D$2:D$65498))","v":""},null,null,null,0,0,0,"",""]
[141,null,{"$f":"IF(ISBLANK($B145),\"\",LOOKUP($B145,Inscriptions!A$2:A$65496,Inscriptions!B$2:B$65498))","v":""},{"$f":"IF(ISBLANK($B145),\"\",LOOKUP($B145,Inscriptions!A$2:A$65496,Inscriptions!C$2:C$65498))","v":""},{"$f":"IF(ISBLANK($B145),\"\",LOOKUP($B145,Inscriptions!A$2:A$65496,Inscriptions!D$2:D$65498))","v":""},null,null,null,0,0,0,"",""]
[142,null,{"$f":"IF(ISBLANK($B146),\"\",LOOKUP($B146,Inscriptions!A$2:A$65496,Inscriptions!B$2:B$65498))","v":""},{"$f":"IF(ISBLANK($B146),\"\",LOOKUP($B146,Inscriptions!A$2:A$65496,Inscriptions!C$2:C$65498))","v":""},{"$f":"IF(ISBLANK($B146),\"\",LOOKUP($B146,Inscriptions!A$2:A$65496,Inscriptions!D$2:D$65498))","v":""},null,null,null,0,0,0,"",""]
[143,null,{"$f":"IF(ISBLANK($B147),\"\",LOOKUP($B147,Inscriptions!A$2:A$65496,Inscriptions!B$2:B$65498))","v":""},{"$f":"IF(ISBLANK($B147),\"\",LOOKUP($B147,Inscriptions!A$2:A$65496,Inscriptions!C$2:C$65498))","v":""},{"$f":"IF(ISBLANK($B147),\"\",LOOKUP($B147,Inscriptions!A$2:A$65496,Inscriptions!D$2:D$65498))","v":""},null,null,null,0,0,0,"",""]
[144,null,{"$f":"IF(ISBLANK($B148),\"\",LOOKUP($B148,Inscriptions!A$2:A$65496,Inscriptions!B$2:B$65498))","v":""},{"$f":"IF(ISBLANK($B148),\"\",LOOKUP($B148,Inscriptions!A$2:A$65496,Inscriptions!C$2:C$65498))","v":""},{"$f":"IF(ISBLANK($B148),\"\",LOOKUP($B148,Inscriptions!A$2:A$65496,Inscriptions!D$2:D$65498))","v":""},null,null,null,0,0,0,"",""]
[145,null,{"$f":"IF(ISBLANK($B149),\"\",LOOKUP($B149,Inscriptions!A$2:A$65496,Inscriptions!B$2:B$65498))","v":""},{"$f":"IF(ISBLANK($B149),\"\",LOOKUP($B149,Inscriptions!A$2:A$65496,Inscriptions!C$2:C$65498))","v":""},{"$f":"IF(ISBLANK($B149),\"\",LOOKUP($B149,Inscriptions!A$2:A$65496,Inscriptions!D$2:D$65498))","v":""},null,null,null,0,0,0,"",""]
[146,null,{"$f":"IF(ISBLANK($B150),\"\",LOOKUP($B150,Inscriptions!A$2:A$65496,Inscriptions!B$2:B$65498))","v":""},{"$f":"IF(ISBLANK($B150),\"\",LOOKUP($B150,Inscriptions!A$2:A$65496,Inscriptions!C$2:C$65498))","v":""},{"$f":"IF(ISBLANK($B150),\"\",LOOKUP($B150,Inscriptions!A$2:A$65496,Inscriptions!D$2:D$65498))","v":""},null,null,null,0,0,0,"",""]
[147,null,{"$f":"IF(ISBLANK($B151),\"\",LOOKUP($B151,Inscriptions!A$2:A$65496,Inscriptions!B$2:B$65498))","v":""},{"$f":"IF(ISBLANK($B151),\"\",LOOKUP($B151,Inscriptions!A$2:A$65496,Inscriptions!C$2:C$65498))","v":""},{"$f":"IF(ISBLANK($B151),\"\",LOOKUP($B151,Inscriptions!A$2:A$65496,Inscriptions!D$2:D$65498))","v":""},null,null,null,0,0,0,"",""]
[148,null,{"$f":"IF(ISBLANK($B152),\"\",LOOKUP($B152,Inscriptions!A$2:A$65496,Inscriptions!B$2:B$65498))","v":""},{"$f":"IF(ISBLANK($B152),\"\",LOOKUP($B152,Inscriptions!A$2:A$65496,Inscriptions!C$2:C$65498))","v":""},{"$f":"IF(ISBLANK($B152),\"\",LOOKUP($B152,Inscriptions!A$2:A$65496,Inscriptions!D$2:D$65498))","v":""},null,null,null,0,0,0,"",""]
[149,null,{"$f":"IF(ISBLANK($B153),\"\",LOOKUP($B153,Inscriptions!A$2:A$65496,Inscriptions!B$2:B$65498))","v":""},{"$f":"IF(ISBLANK($B153),\"\",LOOKUP($B153,Inscriptions!A$2:A$65496,Inscriptions!C$2:C$65498))","v":""},{"$f":"IF(ISBLANK($B153),\"\",LOOKUP($B153,Inscriptions!A$2:A$65496,Inscriptions!D$2:D$65498))","v":""},null,null,null,0,0,0,"",""]
[150,null,{"$f":"IF(ISBLANK($B154),\"\",LOOKUP($B154,Inscriptions!A$2:A$65496,Inscriptions!B$2:B$65498))","v":""},{"$f":"IF(ISBLANK($B154),\"\",LOOKUP($B154,Inscriptions!A$2:A$65496,Inscriptions!C$2:C$65498))","v":""},{"$f":"IF(ISBLANK($B154),\"\",LOOKUP($B154,Inscriptions!A$2:A$65496,Inscriptions!D$2:D$65498))","v":""},null,null,null,0,0,0,"",""]
[151,null,{"$f":"IF(ISBLANK($B155),\"\",LOOKUP($B155,Inscriptions!A$2:A$65496,Inscriptions!B$2:B$65498))","v":""},{"$f":"IF(ISBLANK($B155),\"\",LOOKUP($B155,Inscriptions!A$2:A$65496,Inscriptions!C$2:C$65498))","v":""},{"$f":"IF(ISBLANK($B155),\"\",LOOKUP($B155,Inscriptions!A$2:A$65496,Inscriptions!D$2:D$65498))","v":""},null,null,null,0,0,0,"",""]
[152,null,{"$f":"IF(ISBLANK($B156),\"\",LOOKUP($B156,Inscriptions!A$2:A$65496,Inscriptions!B$2:B$65498))","v":""},{"$f":"IF(ISBLANK($B156),\"\",LOOKUP($B156,Inscriptions!A$2:A$65496,Inscriptions!C$2:C$65498))","v":""},{"$f":"IF(ISBLANK($B156),\"\",LOOKUP($B156,Inscriptions!A$2:A$65496,Inscriptions!D$2:D$65498))","v":""},null,null,null,0,0,0,"",""]
[153,null,{"$f":"IF(ISBLANK($B157),\"\",LOOKUP($B157,Inscriptions!A$2:A$65496,Inscriptions!B$2:B$65498))","v":""},{"$f":"IF(ISBLANK($B157),\"\",LOOKUP($B157,Inscriptions!A$2:A$65496,Inscriptions!C$2:C$65498))","v":""},{"$f":"IF(ISBLANK($B157),\"\",LOOKUP($B157,Inscriptions!A$2:A$65496,Inscriptions!D$2:D$65498))","v":""},null,null,null,0,0,0,"",""]
[154,null,{"$f":"IF(ISBLANK($B158),\"\",LOOKUP($B158,Inscriptions!A$2:A$65496,Inscriptions!B$2:B$65498))","v":""},{"$f":"IF(ISBLANK($B158),\"\",LOOKUP($B158,Inscriptions!A$2:A$65496,Inscriptions!C$2:C$65498))","v":""},{"$f":"IF(ISBLANK($B158),\"\",LOOKUP($B158,Inscriptions!A$2:A$65496,Inscriptions!D$2:D$65498))","v":""},null,null,null,0,0,0,"",""]
[155,null,{"$f":"IF(ISBLANK($B159),\"\",LOOKUP($B159,Inscriptions!A$2:A$65496,Inscriptions!B$2:B$65498))","v":""},{"$f":"IF(ISBLANK($B159),\"\",LOOKUP($B159,Inscriptions!A$2:A$65496,Inscriptions!C$2:C$65498))","v":""},{"$f":"IF(ISBLANK($B159),\"\",LOOKUP($B159,Inscriptions!A$2:A$65496,Inscriptions!D$2:D$65498))","v":""},null,null,null,0,0,0,"",""]
[156,null,{"$f":"IF(ISBLANK($B160),\"\",LOOKUP($B160,Inscriptions!A$2:A$65496,Inscriptions!B$2:B$65498))","v":""},{"$f":"IF(ISBLANK($B160),\"\",LOOKUP($B160,Inscriptions!A$2:A$65496,Inscriptions!C$2:C$65498))","v":""},{"$f":"IF(ISBLANK($B160),\"\",LOOKUP($B160,Inscriptions!A$2:A$65496,Inscriptions!D$2:D$65498))","v":""},null,null,null,0,0,0,"",""]
[157,null,{"$f":"IF(ISBLANK($B161),\"\",LOOKUP($B161,Inscriptions!A$2:A$65496,Inscriptions!B$2:B$65498))","v":""},{"$f":"IF(ISBLANK($B161),\"\",LOOKUP($B161,Inscriptions!A$2:A$65496,Inscriptions!C$2:C$65498))","v":""},{"$f":"IF(ISBLANK($B161),\"\",LOOKUP($B161,Inscriptions!A$2:A$65496,Inscriptions!D$2:D$65498))","v":""},null,null,null,0,0,0,"",""]
[158,null,{"$f":"IF(ISBLANK($B162),\"\",LOOKUP($B162,Inscriptions!A$2:A$65496,Inscriptions!B$2:B$65498))","v":""},{"$f":"IF(ISBLANK($B162),\"\",LOOKUP($B162,Inscriptions!A$2:A$65496,Inscriptions!C$2:C$65498))","v":""},{"$f":"IF(ISBLANK($B162),\"\",LOOKUP($B162,Inscriptions!A$2:A$65496,Inscriptions!D$2:D$65498))","v":""},null,null,null,0,0,0,"",""]
[159,null,{"$f":"IF(ISBLANK($B163),\"\",LOOKUP($B163,Inscriptions!A$2:A$65496,Inscriptions!B$2:B$65498))","v":""},{"$f":"IF(ISBLANK($B163),\"\",LOOKUP($B163,Inscriptions!A$2:A$65496,Inscriptions!C$2:C$65498))","v":""},{"$f":"IF(ISBLANK($B163),\"\",LOOKUP($B163,Inscriptions!A$2:A$65496,Inscriptions!D$2:D$65498))","v":""},null,null,null,0,0,0,"",""]
[160,null,{"$f":"IF(ISBLANK($B164),\"\",LOOKUP($B164,Inscriptions!A$2:A$65496,Inscriptions!B$2:B$65498))","v":""},{"$f":"IF(ISBLANK($B164),\"\",LOOKUP($B164,Inscriptions!A$2:A$65496,Inscriptions!C$2:C$65498))","v":""},{"$f":"IF(ISBLANK($B164),\"\",LOOKUP($B164,Inscriptions!A$2:A$65496,Inscriptions!D$2:D$65498))","v":""},null,null,null,0,0,0,"",""]
[161,null,{"$f":"IF(ISBLANK($B165),\"\",LOOKUP($B165,Inscriptions!A$2:A$65496,Inscriptions!B$2:B$65498))","v":""},{"$f":"IF(ISBLANK($B165),\"\",LOOKUP($B165,Inscriptions!A$2:A$65496,Inscriptions!C$2:C$65498))","v":""},{"$f":"IF(ISBLANK($B165),\"\",LOOKUP($B165,Inscriptions!A$2:A$65496,Inscriptions!D$2:D$65498))","v":""},null,null,null,0,0,0,"",""]
[162,null,{"$f":"IF(ISBLANK($B166),\"\",LOOKUP($B166,Inscriptions!A$2:A$65496,Inscriptions!B$2:B$65498))","v":""},{"$f":"IF(ISBLANK($B166),\"\",LOOKUP($B166,Inscriptions!A$2:A$65496,Inscriptions!C$2:C$65498))","v":""},{"$f":"IF(ISBLANK($B166),\"\",LOOKUP($B166,Inscriptions!A$2:A$65496,Inscriptions!D$2:D$65498))","v":""},null,null,null,0,0,0,"",""]
[163,null,{"$f":"IF(ISBLANK($B167),\"\",LOOKUP($B167,Inscriptions!A$2:A$65496,Inscriptions!B$2:B$65498))","v":""},{"$f":"IF(ISBLANK($B167),\"\",LOOKUP($B167,Inscriptions!A$2:A$65496,Inscriptions!C$2:C$65498))","v":""},{"$f":"IF(ISBLANK($B167),\"\",LOOKUP($B167,Inscriptions!A$2:A$65496,Inscriptions!D$2:D$65498))","v":""},null,null,null,0,0,0,"",""]
[164,null,{"$f":"IF(ISBLANK($B168),\"\",LOOKUP($B168,Inscriptions!A$2:A$65496,Inscriptions!B$2:B$65498))","v":""},{"$f":"IF(ISBLANK($B168),\"\",LOOKUP($B168,Inscriptions!A$2:A$65496,Inscriptions!C$2:C$65498))","v":""},{"$f":"IF(ISBLANK($B168),\"\",LOOKUP($B168,Inscriptions!A$2:A$65496,Inscriptions!D$2:D$65498))","v":""},null,null,null,0,0,0,"",""]
[165,null,{"$f":"IF(ISBLANK($B169),\"\",LOOKUP($B169,Inscriptions!A$2:A$65496,Inscriptions!B$2:B$65498))","v":""},{"$f":"IF(ISBLANK($B169),\"\",LOOKUP($B169,Inscriptions!A$2:A$65496,Inscriptions!C$2:C$65498))","v":""},{"$f":"IF(ISBLANK($B169),\"\",LOOKUP($B169,Inscriptions!A$2:A$65496,Inscriptions!D$2:D$65498))","v":""},null,null,null,0,0,0,"",""]
[166,null,{"$f":"IF(ISBLANK($B170),\"\",LOOKUP($B170,Inscriptions!A$2:A$65496,Inscriptions!B$2:B$65498))","v":""},{"$f":"IF(ISBLANK($B170),\"\",LOOKUP($B170,Inscriptions!A$2:A$65496,Inscriptions!C$2:C$65498))","v":""},{"$f":"IF(ISBLANK($B170),\"\",LOOKUP($B170,Inscriptions!A$2:A$65496,Inscriptions!D$2:D$65498))","v":""},null,null,null,0,0,0,"",""]
[167,null,{"$f":"IF(ISBLANK($B171),\"\",LOOKUP($B171,Inscriptions!A$2:A$65496,Inscriptions!B$2:B$65498))","v":""},{"$f":"IF(ISBLANK($B171),\"\",LOOKUP($B171,Inscriptions!A$2:A$65496,Inscriptions!C$2:C$65498))","v":""},{"$f":"IF(ISBLANK($B171),\"\",LOOKUP($B171,Inscriptions!A$2:A$65496,Inscriptions!D$2:D$65498))","v":""},null,null,null,0,0,0,"",""]
[168,null,{"$f":"IF(ISBLANK($B172),\"\",LOOKUP($B172,Inscriptions!A$2:A$65496,Inscriptions!B$2:B$65498))","v":""},{"$f":"IF(ISBLANK($B172),\"\",LOOKUP($B172,Inscriptions!A$2:A$65496,Inscriptions!C$2:C$65498))","v":""},{"$f":"IF(ISBLANK($B172),\"\",LOOKUP($B172,Inscriptions!A$2:A$65496,Inscriptions!D$2:D$65498))","v":""},null,null,null,0,0,0,"",""]
[169,null,{"$f":"IF(ISBLANK($B173),\"\",LOOKUP($B173,Inscriptions!A$2:A$65496,Inscriptions!B$2:B$65498))","v":""},{"$f":"IF(ISBLANK($B173),\"\",LOOKUP($B173,Inscriptions!A$2:A$65496,Inscriptions!C$2:C$65498))","v":""},{"$f":"IF(ISBLANK($B173),\"\",LOOKUP($B173,Inscriptions!A$2:A$65496,Inscriptions!D$2:D$65498))","v":""},null,null,null,0,0,0,"",""]
[170,null,{"$f":"IF(ISBLANK($B174),\"\",LOOKUP($B174,Inscriptions!A$2:A$65496,Inscriptions!B$2:B$65498))","v":""},{"$f":"IF(ISBLANK($B174),\"\",LOOKUP($B174,Inscriptions!A$2:A$65496,Inscriptions!C$2:C$65498))","v":""},{"$f":"IF(ISBLANK($B174),\"\",LOOKUP($B174,Inscriptions!A$2:A$65496,Inscriptions!D$2:D$65498))","v":""},null,null,null,0,0,0,"",""]
[171,null,{"$f":"IF(ISBLANK($B175),\"\",LOOKUP($B175,Inscriptions!A$2:A$65496,Inscriptions!B$2:B$65498))","v":""},{"$f":"IF(ISBLANK($B175),\"\",LOOKUP($B175,Inscriptions!A$2:A$65496,Inscriptions!C$2:C$65498))","v":""},{"$f":"IF(ISBLANK($B175),\"\",LOOKUP($B175,Inscriptions!A$2:A$65496,Inscriptions!D$2:D$65498))","v":""},null,null,null,0,0,0,"",""]
[172,null,{"$f":"IF(ISBLANK($B176),\"\",LOOKUP($B176,Inscriptions!A$2:A$65496,Inscriptions!B$2:B$65498))","v":""},{"$f":"IF(ISBLANK($B176),\"\",LOOKUP($B176,Inscriptions!A$2:A$65496,Inscriptions!C$2:C$65498))","v":""},{"$f":"IF(ISBLANK($B176),\"\",LOOKUP($B176,Inscriptions!A$2:A$65496,Inscriptions!D$2:D$65498))","v":""},null,null,null,0,0,0,"",""]
[173,null,{"$f":"IF(ISBLANK($B177),\"\",LOOKUP($B177,Inscriptions!A$2:A$65496,Inscriptions!B$2:B$65498))","v":""},{"$f":"IF(ISBLANK($B177),\"\",LOOKUP($B177,Inscriptions!A$2:A$65496,Inscriptions!C$2:C$65498))","v":""},{"$f":"IF(ISBLANK($B177),\"\",LOOKUP($B177,Inscriptions!A$2:A$65496,Inscriptions!D$2:D$65498))","v":""},null,null,null,0,0,0,"",""]
[174,null,{"$f":"IF(ISBLANK($B178),\"\",LOOKUP($B178,Inscriptions!A$2:A$65496,Inscriptions!B$2:B$65498))","v":""},{"$f":"IF(ISBLANK($B178),\"\",LOOKUP($B178,Inscriptions!A$2:A$65496,Inscriptions!C$2:C$65498))","v":""},{"$f":"IF(ISBLANK($B178),\"\",LOOKUP($B178,Inscriptions!A$2:A$65496,Inscriptions!D$2:D$65498))","v":""},null,null,null,0,0,0,"",""]
[175,null,{"$f":"IF(ISBLANK($B179),\"\",LOOKUP($B179,Inscriptions!A$2:A$65496,Inscriptions!B$2:B$65498))","v":""},{"$f":"IF(ISBLANK($B179),\"\",LOOKUP($B179,Inscriptions!A$2:A$65496,Inscriptions!C$2:C$65498))","v":""},{"$f":"IF(ISBLANK($B179),\"\",LOOKUP($B179,Inscriptions!A$2:A$65496,Inscriptions!D$2:D$65498))","v":""},null,null,null,0,0,0,"",""]
[176,null,{"$f":"IF(ISBLANK($B180),\"\",LOOKUP($B180,Inscriptions!A$2:A$65496,Inscriptions!B$2:B$65498))","v":""},{"$f":"IF(ISBLANK($B180),\"\",LOOKUP($B180,Inscriptions!A$2:A$65496,Inscriptions!C$2:C$65498))","v":""},{"$f":"IF(ISBLANK($B180),\"\",LOOKUP($B180,Inscriptions!A$2:A$65496,Inscriptions!D$2:D$65498))","v":""},null,null,null,0,0,0,"",""]
[177,null,{"$f":"IF(ISBLANK($B181),\"\",LOOKUP($B181,Inscriptions!A$2:A$65496,Inscriptions!B$2:B$65498))","v":""},{"$f":"IF(ISBLANK($B181),\"\",LOOKUP($B181,Inscriptions!A$2:A$65496,Inscriptions!C$2:C$65498))","v":""},{"$f":"IF(ISBLANK($B181),\"\",LOOKUP($B181,Inscriptions!A$2:A$65496,Inscriptions!D$2:D$65498))","v":""},null,null,null,0,0,0,"",""]
[178,null,{"$f":"IF(ISBLANK($B182),\"\",LOOKUP($B182,Inscriptions!A$2:A$65496,Inscriptions!B$2:B$65498))","v":""},{"$f":"IF(ISBLANK($B182),\"\",LOOKUP($B182,Inscriptions!A$2:A$65496,Inscriptions!C$2:C$65498))","v":""},{"$f":"IF(ISBLANK($B182),\"\",LOOKUP($B182,Inscriptions!A$2:A$65496,Inscriptions!D$2:D$65498))","v":""},null,null,null,0,0,0,"",""]
[179,null,{"$f":"IF(ISBLANK($B183),\"\",LOOKUP($B183,Inscriptions!A$2:A$65496,Inscriptions!B$2:B$65498))","v":""},{"$f":"IF(ISBLANK($B183),\"\",LOOKUP($B183,Inscriptions!A$2:A$65496,Inscriptions!C$2:C$65498))","v":""},{"$f":"IF(ISBLANK($B183),\"\",LOOKUP($B183,Inscriptions!A$2:A$65496,Inscriptions!D$2:D$65498))","v":""},null,null,null,0,0,0,"",""]
[180,null,{"$f":"IF(ISBLANK($B184),\"\",LOOKUP($B184,Inscriptions!A$2:A$65496,Inscriptions!B$2:B$65498))","v":""},{"$f":"IF(ISBLANK($B184),\"\",LOOKUP($B184,Inscriptions!A$2:A$65496,Inscriptions!C$2:C$65498))","v":""},{"$f":"IF(ISBLANK($B184),\"\",LOOKUP($B184,Inscriptions!A$2:A$65496,Inscriptions!D$2:D$65498))","v":""},null,null,null,0,0,0,"",""]
[181,null,{"$f":"IF(ISBLANK($B185),\"\",LOOKUP($B185,Inscriptions!A$2:A$65496,Inscriptions!B$2:B$65498))","v":""},{"$f":"IF(ISBLANK($B185),\"\",LOOKUP($B185,Inscriptions!A$2:A$65496,Inscriptions!C$2:C$65498))","v":""},{"$f":"IF(ISBLANK($B185),\"\",LOOKUP($B185,Inscriptions!A$2:A$65496,Inscriptions!D$2:D$65498))","v":""},null,null,null,0,0,0,"",""]
[182,null,{"$f":"IF(ISBLANK($B186),\"\",LOOKUP($B186,Inscriptions!A$2:A$65496,Inscriptions!B$2:B$65498))","v":""},{"$f":"IF(ISBLANK($B186),\"\",LOOKUP($B186,Inscriptions!A$2:A$65496,Inscriptions!C$2:C$65498))","v":""},{"$f":"IF(ISBLANK($B186),\"\",LOOKUP($B186,Inscriptions!A$2:A$65496,Inscriptions!D$2:D$65498))","v":""},null,null,null,0,0,0,"",""]
[183,null,{"$f":"IF(ISBLANK($B187),\"\",LOOKUP($B187,Inscriptions!A$2:A$65496,Inscriptions!B$2:B$65498))","v":""},{"$f":"IF(ISBLANK($B187),\"\",LOOKUP($B187,Inscriptions!A$2:A$65496,Inscriptions!C$2:C$65498))","v":""},{"$f":"IF(ISBLANK($B187),\"\",LOOKUP($B187,Inscriptions!A$2:A$65496,Inscriptions!D$2:D$65498))","v":""},null,null,null,0,0,0,"",""]
[184,null,{"$f":"IF(ISBLANK($B188),\"\",LOOKUP($B188,Inscriptions!A$2:A$65496,Inscriptions!B$2:B$65498))","v":""},{"$f":"IF(ISBLANK($B188),\"\",LOOKUP($B188,Inscriptions!A$2:A$65496,Inscriptions!C$2:C$65498))","v":""},{"$f":"IF(ISBLANK($B188),\"\",LOOKUP($B188,Inscriptions!A$2:A$65496,Inscriptions!D$2:D$65498))","v":""},null,null,null,0,0,0,"",""]
[185,null,{"$f":"IF(ISBLANK($B189),\"\",LOOKUP($B189,Inscriptions!A$2:A$65496,Inscriptions!B$2:B$65498))","v":""},{"$f":"IF(ISBLANK($B189),\"\",LOOKUP($B189,Inscriptions!A$2:A$65496,Inscriptions!C$2:C$65498))","v":""},{"$f":"IF(ISBLANK($B189),\"\",LOOKUP($B189,Inscriptions!A$2:A$65496,Inscriptions!D$2:D$65498))","v":""},null,null,null,0,0,0,"",""]
[186,null,{"$f":"IF(ISBLANK($B190),\"\",LOOKUP($B190,Inscriptions!A$2:A$65496,Inscriptions!B$2:B$65498))","v":""},{"$f":"IF(ISBLANK($B190),\"\",LOOKUP($B190,Inscriptions!A$2:A$65496,Inscriptions!C$2:C$65498))","v":""},{"$f":"IF(ISBLANK($B190),\"\",LOOKUP($B190,Inscriptions!A$2:A$65496,Inscriptions!D$2:D$65498))","v":""},null,null,null,0,0,0,"",""]
[187,null,{"$f":"IF(ISBLANK($B191),\"\",LOOKUP($B191,Inscriptions!A$2:A$65496,Inscriptions!B$2:B$65498))","v":""},{"$f":"IF(ISBLANK($B191),\"\",LOOKUP($B191,Inscriptions!A$2:A$65496,Inscriptions!C$2:C$65498))","v":""},{"$f":"IF(ISBLANK($B191),\"\",LOOKUP($B191,Inscriptions!A$2:A$65496,Inscriptions!D$2:D$65498))","v":""},null,null,null,0,0,0,"",""]
[188,null,{"$f":"IF(ISBLANK($B192),\"\",LOOKUP($B192,Inscriptions!A$2:A$65496,Inscriptions!B$2:B$65498))","v":""},{"$f":"IF(ISBLANK($B192),\"\",LOOKUP($B192,Inscriptions!A$2:A$65496,Inscriptions!C$2:C$65498))","v":""},{"$f":"IF(ISBLANK($B192),\"\",LOOKUP($B192,Inscriptions!A$2:A$65496,Inscriptions!D$2:D$65498))","v":""},null,null,null,0,0,0,"",""]
[189,null,{"$f":"IF(ISBLANK($B193),\"\",LOOKUP($B193,Inscriptions!A$2:A$65496,Inscriptions!B$2:B$65498))","v":""},{"$f":"IF(ISBLANK($B193),\"\",LOOKUP($B193,Inscriptions!A$2:A$65496,Inscriptions!C$2:C$65498))","v":""},{"$f":"IF(ISBLANK($B193),\"\",LOOKUP($B193,Inscriptions!A$2:A$65496,Inscriptions!D$2:D$65498))","v":""},null,null,null,0,0,0,"",""]
[190,null,{"$f":"IF(ISBLANK($B194),\"\",LOOKUP($B194,Inscriptions!A$2:A$65496,Inscriptions!B$2:B$65498))","v":""},{"$f":"IF(ISBLANK($B194),\"\",LOOKUP($B194,Inscriptions!A$2:A$65496,Inscriptions!C$2:C$65498))","v":""},{"$f":"IF(ISBLANK($B194),\"\",LOOKUP($B194,Inscriptions!A$2:A$65496,Inscriptions!D$2:D$65498))","v":""},null,null,null,0,0,0,"",""]
[191,null,{"$f":"IF(ISBLANK($B195),\"\",LOOKUP($B195,Inscriptions!A$2:A$65496,Inscriptions!B$2:B$65498))","v":""},{"$f":"IF(ISBLANK($B195),\"\",LOOKUP($B195,Inscriptions!A$2:A$65496,Inscriptions!C$2:C$65498))","v":""},{"$f":"IF(ISBLANK($B195),\"\",LOOKUP($B195,Inscriptions!A$2:A$65496,Inscriptions!D$2:D$65498))","v":""},null,null,null,0,0,0,"",""]
[192,null,{"$f":"IF(ISBLANK($B196),\"\",LOOKUP($B196,Inscriptions!A$2:A$65496,Inscriptions!B$2:B$65498))","v":""},{"$f":"IF(ISBLANK($B196),\"\",LOOKUP($B196,Inscriptions!A$2:A$65496,Inscriptions!C$2:C$65498))","v":""},{"$f":"IF(ISBLANK($B196),\"\",LOOKUP($B196,Inscriptions!A$2:A$65496,Inscriptions!D$2:D$65498))","v":""},null,null,null,0,0,0,"",""]
[193,null,{"$f":"IF(ISBLANK($B197),\"\",LOOKUP($B197,Inscriptions!A$2:A$65496,Inscriptions!B$2:B$65498))","v":""},{"$f":"IF(ISBLANK($B197),\"\",LOOKUP($B197,Inscriptions!A$2:A$65496,Inscriptions!C$2:C$65498))","v":""},{"$f":"IF(ISBLANK($B197),\"\",LOOKUP($B197,Inscriptions!A$2:A$65496,Inscriptions!D$2:D$65498))","v":""},null,null,null,0,0,0,"",""]
[194,null,{"$f":"IF(ISBLANK($B198),\"\",LOOKUP($B198,Inscriptions!A$2:A$65496,Inscriptions!B$2:B$65498))","v":""},{"$f":"IF(ISBLANK($B198),\"\",LOOKUP($B198,Inscriptions!A$2:A$65496,Inscriptions!C$2:C$65498))","v":""},{"$f":"IF(ISBLANK($B198),\"\",LOOKUP($B198,Inscriptions!A$2:A$65496,Inscriptions!D$2:D$65498))","v":""},null,null,null,{"$f":"ROUNDDOWN(H198/10000,0)","v":0},{"$f":"ROUNDDOWN((H198-I198*10000)/100,0)","v":0},{"$f":"ROUNDDOWN((H198-(I198*10000)-(J198*100)),0)","v":0},{"$f":"IF((I198+J198+K198)=0,\"\",ROUNDDOWN((L$4/((I198*3600)+(J198*60)+K198))*3.6,2))","v":""},{"$f":"IF(L198=\"\",\"\",\"km/h\")","v":""}]
[195,null,{"$f":"IF(ISBLANK($B199),\"\",LOOKUP($B199,Inscriptions!A$2:A$65496,Inscriptions!B$2:B$65498))","v":""},{"$f":"IF(ISBLANK($B199),\"\",LOOKUP($B199,Inscriptions!A$2:A$65496,Inscriptions!C$2:C$65498))","v":""},{"$f":"IF(ISBLANK($B199),\"\",LOOKUP($B199,Inscriptions!A$2:A$65496,Inscriptions!D$2:D$65498))","v":""},null,null,null,0,0,0,"",""]
[196,null,{"$f":"IF(ISBLANK($B200),\"\",LOOKUP($B200,Inscriptions!A$2:A$65496,Inscriptions!B$2:B$65498))","v":""},{"$f":"IF(ISBLANK($B200),\"\",LOOKUP($B200,Inscriptions!A$2:A$65496,Inscriptions!C$2:C$65498))","v":""},{"$f":"IF(ISBLANK($B200),\"\",LOOKUP($B200,Inscriptions!A$2:A$65496,Inscriptions!D$2:D$65498))","v":""},null,null,null,0,0,0,"",""]
[197,null,{"$f":"IF(ISBLANK($B201),\"\",LOOKUP($B201,Inscriptions!A$2:A$65496,Inscriptions!B$2:B$65498))","v":""},{"$f":"IF(ISBLANK($B201),\"\",LOOKUP($B201,Inscriptions!A$2:A$65496,Inscriptions!C$2:C$65498))","v":""},{"$f":"IF(ISBLANK($B201),\"\",LOOKUP($B201,Inscriptions!A$2:A$65496,Inscriptions!D$2:D$65498))","v":""},null,null,null,0,0,0,"",""]
[198,null,{"$f":"IF(ISBLANK($B202),\"\",LOOKUP($B202,Inscriptions!A$2:A$65496,Inscriptions!B$2:B$65498))","v":""},{"$f":"IF(ISBLANK($B202),\"\",LOOKUP($B202,Inscriptions!A$2:A$65496,Inscriptions!C$2:C$65498))","v":""},{"$f":"IF(ISBLANK($B202),\"\",LOOKUP($B202,Inscriptions!A$2:A$65496,Inscriptions!D$2:D$65498))","v":""},null,null,null,0,0,0,"",""]
[199,null,{"$f":"IF(ISBLANK($B203),\"\",LOOKUP($B203,Inscriptions!A$2:A$65496,Inscriptions!B$2:B$65498))","v":""},{"$f":"IF(ISBLANK($B203),\"\",LOOKUP($B203,Inscriptions!A$2:A$65496,Inscriptions!C$2:C$65498))","v":""},{"$f":"IF(ISBLANK($B203),\"\",LOOKUP($B203,Inscriptions!A$2:A$65496,Inscriptions!D$2:D$65498))","v":""},null,null,null,0,0,0,"",""]
[200,null,{"$f":"IF(ISBLANK($B204),\"\",LOOKUP($B204,Inscriptions!A$2:A$65496,Inscriptions!B$2:B$65498))","v":""},{"$f":"IF(ISBLANK($B204),\"\",LOOKUP($B204,Inscriptions!A$2:A$65496,Inscriptions!C$2:C$65498))","v":""},{"$f":"IF(ISBLANK($B204),\"\",LOOKUP($B204,Inscriptions!A$2:A$65496,Inscriptions!D$2:D$65498))","v":""},null,null,null,0,0,0,"",""]
[201,null,{"$f":"IF(ISBLANK($B205),\"\",LOOKUP($B205,Inscriptions!A$2:A$65496,Inscriptions!B$2:B$65498))","v":""},{"$f":"IF(ISBLANK($B205),\"\",LOOKUP($B205,Inscriptions!A$2:A$65496,Inscriptions!C$2:C$65498))","v":""},{"$f":"IF(ISBLANK($B205),\"\",LOOKUP($B205,Inscriptions!A$2:A$65496,Inscriptions!D$2:D$65498))","v":""},null,null,null,0,0,0,"",""]
[202,null,{"$f":"IF(ISBLANK($B206),\"\",LOOKUP($B206,Inscriptions!A$2:A$65496,Inscriptions!B$2:B$65498))","v":""},{"$f":"IF(ISBLANK($B206),\"\",LOOKUP($B206,Inscriptions!A$2:A$65496,Inscriptions!C$2:C$65498))","v":""},{"$f":"IF(ISBLANK($B206),\"\",LOOKUP($B206,Inscriptions!A$2:A$65496,Inscriptions!D$2:D$65498))","v":""},null,null,null,0,0,0,"",""]
[203,null,{"$f":"IF(ISBLANK($B207),\"\",LOOKUP($B207,Inscriptions!A$2:A$65496,Inscriptions!B$2:B$65498))","v":""},{"$f":"IF(ISBLANK($B207),\"\",LOOKUP($B207,Inscriptions!A$2:A$65496,Inscriptions!C$2:C$65498))","v":""},{"$f":"IF(ISBLANK($B207),\"\",LOOKUP($B207,Inscriptions!A$2:A$65496,Inscriptions!D$2:D$65498))","v":""},null,null,null,0,0,0,"",""]
[204,null,{"$f":"IF(ISBLANK($B208),\"\",LOOKUP($B208,Inscriptions!A$2:A$65496,Inscriptions!B$2:B$65498))","v":""},{"$f":"IF(ISBLANK($B208),\"\",LOOKUP($B208,Inscriptions!A$2:A$65496,Inscriptions!C$2:C$65498))","v":""},{"$f":"IF(ISBLANK($B208),\"\",LOOKUP($B208,Inscriptions!A$2:A$65496,Inscriptions!D$2:D$65498))","v":""},null,null,null,0,0,0,"",""]
[205,null,{"$f":"IF(ISBLANK($B209),\"\",LOOKUP($B209,Inscriptions!A$2:A$65496,Inscriptions!B$2:B$65498))","v":""},{"$f":"IF(ISBLANK($B209),\"\",LOOKUP($B209,Inscriptions!A$2:A$65496,Inscriptions!C$2:C$65498))","v":""},{"$f":"IF(ISBLANK($B209),\"\",LOOKUP($B209,Inscriptions!A$2:A$65496,Inscriptions!D$2:D$65498))","v":""},null,null,null,0,0,0,"",""]
[206,null,{"$f":"IF(ISBLANK($B210),\"\",LOOKUP($B210,Inscriptions!A$2:A$65496,Inscriptions!B$2:B$65498))","v":""},{"$f":"IF(ISBLANK($B210),\"\",LOOKUP($B210,Inscriptions!A$2:A$65496,Inscriptions!C$2:C$65498))","v":""},{"$f":"IF(ISBLANK($B210),\"\",LOOKUP($B210,Inscriptions!A$2:A$65496,Inscriptions!D$2:D$65498))","v":""},null,null,null,0,0,0,"",""]
[207,null,{"$f":"IF(ISBLANK($B211),\"\",LOOKUP($B211,Inscriptions!A$2:A$65496,Inscriptions!B$2:B$65498))","v":""},{"$f":"IF(ISBLANK($B211),\"\",LOOKUP($B211,Inscriptions!A$2:A$65496,Inscriptions!C$2:C$65498))","v":""},{"$f":"IF(ISBLANK($B211),\"\",LOOKUP($B211,Inscriptions!A$2:A$65496,Inscriptions!D$2:D$65498))","v":""},null,null,null,0,0,0,"",""]
[208,null,{"$f":"IF(ISBLANK($B212),\"\",LOOKUP($B212,Inscriptions!A$2:A$65496,Inscriptions!B$2:B$65498))","v":""},{"$f":"IF(ISBLANK($B212),\"\",LOOKUP($B212,Inscriptions!A$2:A$65496,Inscriptions!C$2:C$65498))","v":""},{"$f":"IF(ISBLANK($B212),\"\",LOOKUP($B212,Inscriptions!A$2:A$65496,Inscriptions!D$2:D$65498))","v":""},null,null,null,0,0,0,"",""]
[209,null,{"$f":"IF(ISBLANK($B213),\"\",LOOKUP($B213,Inscriptions!A$2:A$65496,Inscriptions!B$2:B$65498))","v":""},{"$f":"IF(ISBLANK($B213),\"\",LOOKUP($B213,Inscriptions!A$2:A$65496,Inscriptions!C$2:C$65498))","v":""},{"$f":"IF(ISBLANK($B213),\"\",LOOKUP($B213,Inscriptions!A$2:A$65496,Inscriptions!D$2:D$65498))","v":""},null,null,null,0,0,0,"",""]
[210,null,{"$f":"IF(ISBLANK($B214),\"\",LOOKUP($B214,Inscriptions!A$2:A$65496,Inscriptions!B$2:B$65498))","v":""},{"$f":"IF(ISBLANK($B214),\"\",LOOKUP($B214,Inscriptions!A$2:A$65496,Inscriptions!C$2:C$65498))","v":""},{"$f":"IF(ISBLANK($B214),\"\",LOOKUP($B214,Inscriptions!A$2:A$65496,Inscriptions!D$2:D$65498))","v":""},null,null,null,0,0,0,"",""]
[211,null,{"$f":"IF(ISBLANK($B215),\"\",LOOKUP($B215,Inscriptions!A$2:A$65496,Inscriptions!B$2:B$65498))","v":""},{"$f":"IF(ISBLANK($B215),\"\",LOOKUP($B215,Inscriptions!A$2:A$65496,Inscriptions!C$2:C$65498))","v":""},{"$f":"IF(ISBLANK($B215),\"\",LOOKUP($B215,Inscriptions!A$2:A$65496,Inscriptions!D$2:D$65498))","v":""},null,null,null,0,0,0,"",""]
[212,null,{"$f":"IF(ISBLANK($B216),\"\",LOOKUP($B216,Inscriptions!A$2:A$65496,Inscriptions!B$2:B$65498))","v":""},{"$f":"IF(ISBLANK($B216),\"\",LOOKUP($B216,Inscriptions!A$2:A$65496,Inscriptions!C$2:C$65498))","v":""},{"$f":"IF(ISBLANK($B216),\"\",LOOKUP($B216,Inscriptions!A$2:A$65496,Inscriptions!D$2:D$65498))","v":""},null,null,null,0,0,0,"",""]
[213,null,{"$f":"IF(ISBLANK($B217),\"\",LOOKUP($B217,Inscriptions!A$2:A$65496,Inscriptions!B$2:B$65498))","v":""},{"$f":"IF(ISBLANK($B217),\"\",LOOKUP($B217,Inscriptions!A$2:A$65496,Inscriptions!C$2:C$65498))","v":""},{"$f":"IF(ISBLANK($B217),\"\",LOOKUP($B217,Inscriptions!A$2:A$65496,Inscriptions!D$2:D$65498))","v":""},null,null,null,0,0,0,"",""]
[214,null,{"$f":"IF(ISBLANK($B218),\"\",LOOKUP($B218,Inscriptions!A$2:A$65496,Inscriptions!B$2:B$65498))","v":""},{"$f":"IF(ISBLANK($B218),\"\",LOOKUP($B218,Inscriptions!A$2:A$65496,Inscriptions!C$2:C$65498))","v":""},{"$f":"IF(ISBLANK($B218),\"\",LOOKUP($B218,Inscriptions!A$2:A$65496,Inscriptions!D$2:D$65498))","v":""},null,null,null,0,0,0,"",""]
[215,null,{"$f":"IF(ISBLANK($B219),\"\",LOOKUP($B219,Inscriptions!A$2:A$65496,Inscriptions!B$2:B$65498))","v":""},{"$f":"IF(ISBLANK($B219),\"\",LOOKUP($B219,Inscriptions!A$2:A$65496,Inscriptions!C$2:C$65498))","v":""},{"$f":"IF(ISBLANK($B219),\"\",LOOKUP($B219,Inscriptions!A$2:A$65496,Inscriptions!D$2:D$65498))","v":""},null,null,null,0,0,0,"",""]
[216,null,{"$f":"IF(ISBLANK($B220),\"\",LOOKUP($B220,Inscriptions!A$2:A$65496,Inscriptions!B$2:B$65498))","v":""},{"$f":"IF(ISBLANK($B220),\"\",LOOKUP($B220,Inscriptions!A$2:A$65496,Inscriptions!C$2:C$65498))","v":""},{"$f":"IF(ISBLANK($B220),\"\",LOOKUP($B220,Inscriptions!A$2:A$65496,Inscriptions!D$2:D$65498))","v":""},null,null,null,0,0,0,"",""]
[217,null,{"$f":"IF(ISBLANK($B221),\"\",LOOKUP($B221,Inscriptions!A$2:A$65496,Inscriptions!B$2:B$65498))","v":""},{"$f":"IF(ISBLANK($B221),\"\",LOOKUP($B221,Inscriptions!A$2:A$65496,Inscriptions!C$2:C$65498))","v":""},{"$f":"IF(ISBLANK($B221),\"\",LOOKUP($B221,Inscriptions!A$2:A$65496,Inscriptions!D$2:D$65498))","v":""},null,null,null,0,0,0,"",""]
[218,null,{"$f":"IF(ISBLANK($B222),\"\",LOOKUP($B222,Inscriptions!A$2:A$65496,Inscriptions!B$2:B$65498))","v":""},{"$f":"IF(ISBLANK($B222),\"\",LOOKUP($B222,Inscriptions!A$2:A$65496,Inscriptions!C$2:C$65498))","v":""},{"$f":"IF(ISBLANK($B222),\"\",LOOKUP($B222,Inscriptions!A$2:A$65496,Inscriptions!D$2:D$65498))","v":""},null,null,null,0,0,0,"",""]
[219,null,{"$f":"IF(ISBLANK($B223),\"\",LOOKUP($B223,Inscriptions!A$2:A$65496,Inscriptions!B$2:B$65498))","v":""},{"$f":"IF(ISBLANK($B223),\"\",LOOKUP($B223,Inscriptions!A$2:A$65496,Inscriptions!C$2:C$65498))","v":""},{"$f":"IF(ISBLANK($B223),\"\",LOOKUP($B223,Inscriptions!A$2:A$65496,Inscriptions!D$2:D$65498))","v":""},null,null,null,0,0,0,"",""]
[220,null,{"$f":"IF(ISBLANK($B224),\"\",LOOKUP($B224,Inscriptions!A$2:A$65496,Inscriptions!B$2:B$65498))","v":""},{"$f":"IF(ISBLANK($B224),\"\",LOOKUP($B224,Inscriptions!A$2:A$65496,Inscriptions!C$2:C$65498))","v":""},{"$f":"IF(ISBLANK($B224),\"\",LOOKUP($B224,Inscriptions!A$2:A$65496,Inscriptions!D$2:D$65498))","v":""},null,null,null,0,0,0,"",""]
[221,null,{"$f":"IF(ISBLANK($B225),\"\",LOOKUP($B225,Inscriptions!A$2:A$65496,Inscriptions!B$2:B$65498))","v":""},{"$f":"IF(ISBLANK($B225),\"\",LOOKUP($B225,Inscriptions!A$2:A$65496,Inscriptions!C$2:C$65498))","v":""},{"$f":"IF(ISBLANK($B225),\"\",LOOKUP($B225,Inscriptions!A$2:A$65496,Inscriptions!D$2:D$65498))","v":""},null,null,null,0,0,0,"",""]
[222,null,{"$f":"IF(ISBLANK($B226),\"\",LOOKUP($B226,Inscriptions!A$2:A$65496,Inscriptions!B$2:B$65498))","v":""},{"$f":"IF(ISBLANK($B226),\"\",LOOKUP($B226,Inscriptions!A$2:A$65496,Inscriptions!C$2:C$65498))","v":""},{"$f":"IF(ISBLANK($B226),\"\",LOOKUP($B226,Inscriptions!A$2:A$65496,Inscriptions!D$2:D$65498))","v":""},null,null,null,0,0,0,"",""]
[223,null,{"$f":"IF(ISBLANK($B227),\"\",LOOKUP($B227,Inscriptions!A$2:A$65496,Inscriptions!B$2:B$65498))","v":""},{"$f":"IF(ISBLANK($B227),\"\",LOOKUP($B227,Inscriptions!A$2:A$65496,Inscriptions!C$2:C$65498))","v":""},{"$f":"IF(ISBLANK($B227),\"\",LOOKUP($B227,Inscriptions!A$2:A$65496,Inscriptions!D$2:D$65498))","v":""},null,null,null,0,0,0,"",""]
[224,null,{"$f":"IF(ISBLANK($B228),\"\",LOOKUP($B228,Inscriptions!A$2:A$65496,Inscriptions!B$2:B$65498))","v":""},{"$f":"IF(ISBLANK($B228),\"\",LOOKUP($B228,Inscriptions!A$2:A$65496,Inscriptions!C$2:C$65498))","v":""},{"$f":"IF(ISBLANK($B228),\"\",LOOKUP($B228,Inscriptions!A$2:A$65496,Inscriptions!D$2:D$65498))","v":""},null,null,null,0,0,0,"",""]
[225,null,{"$f":"IF(ISBLANK($B229),\"\",LOOKUP($B229,Inscriptions!A$2:A$65496,Inscriptions!B$2:B$65498))","v":""},{"$f":"IF(ISBLANK($B229),\"\",LOOKUP($B229,Inscriptions!A$2:A$65496,Inscriptions!C$2:C$65498))","v":""},{"$f":"IF(ISBLANK($B229),\"\",LOOKUP($B229,Inscriptions!A$2:A$65496,Inscriptions!D$2:D$65498))","v":""},null,null,null,0,0,0,"",""]
[226,null,{"$f":"IF(ISBLANK($B230),\"\",LOOKUP($B230,Inscriptions!A$2:A$65496,Inscriptions!B$2:B$65498))","v":""},{"$f":"IF(ISBLANK($B230),\"\",LOOKUP($B230,Inscriptions!A$2:A$65496,Inscriptions!C$2:C$65498))","v":""},{"$f":"IF(ISBLANK($B230),\"\",LOOKUP($B230,Inscriptions!A$2:A$65496,Inscriptions!D$2:D$65498))","v":""},null,null,null,0,0,0,"",""]
[227,null,{"$f":"IF(ISBLANK($B231),\"\",LOOKUP($B231,Inscriptions!A$2:A$65496,Inscriptions!B$2:B$65498))","v":""},{"$f":"IF(ISBLANK($B231),\"\",LOOKUP($B231,Inscriptions!A$2:A$65496,Inscriptions!C$2:C$65498))","v":""},{"$f":"IF(ISBLANK($B231),\"\",LOOKUP($B231,Inscriptions!A$2:A$65496,Inscriptions!D$2:D$65498))","v":""},null,null,null,0,0,0,"",""]
[228,null,{"$f":"IF(ISBLANK($B232),\"\",LOOKUP($B232,Inscriptions!A$2:A$65496,Inscriptions!B$2:B$65498))","v":""},{"$f":"IF(ISBLANK($B232),\"\",LOOKUP($B232,Inscriptions!A$2:A$65496,Inscriptions!C$2:C$65498))","v":""},{"$f":"IF(ISBLANK($B232),\"\",LOOKUP($B232,Inscriptions!A$2:A$65496,Inscriptions!D$2:D$65498))","v":""},null,null,null,0,0,0,"",""]
[229,null,{"$f":"IF(ISBLANK($B233),\"\",LOOKUP($B233,Inscriptions!A$2:A$65496,Inscriptions!B$2:B$65498))","v":""},{"$f":"IF(ISBLANK($B233),\"\",LOOKUP($B233,Inscriptions!A$2:A$65496,Inscriptions!C$2:C$65498))","v":""},{"$f":"IF(ISBLANK($B233),\"\",LOOKUP($B233,Inscriptions!A$2:A$65496,Inscriptions!D$2:D$65498))","v":""},null,null,null,0,0,0,"",""]
[230,null,{"$f":"IF(ISBLANK($B234),\"\",LOOKUP($B234,Inscriptions!A$2:A$65496,Inscriptions!B$2:B$65498))","v":""},{"$f":"IF(ISBLANK($B234),\"\",LOOKUP($B234,Inscriptions!A$2:A$65496,Inscriptions!C$2:C$65498))","v":""},{"$f":"IF(ISBLANK($B234),\"\",LOOKUP($B234,Inscriptions!A$2:A$65496,Inscriptions!D$2:D$65498))","v":""},null,null,null,0,0,0,"",""]
[231,null,{"$f":"IF(ISBLANK($B235),\"\",LOOKUP($B235,Inscriptions!A$2:A$65496,Inscriptions!B$2:B$65498))","v":""},{"$f":"IF(ISBLANK($B235),\"\",LOOKUP($B235,Inscriptions!A$2:A$65496,Inscriptions!C$2:C$65498))","v":""},{"$f":"IF(ISBLANK($B235),\"\",LOOKUP($B235,Inscriptions!A$2:A$65496,Inscriptions!D$2:D$65498))","v":""},null,null,null,0,0,0,"",""]
[232,null,{"$f":"IF(ISBLANK($B236),\"\",LOOKUP($B236,Inscriptions!A$2:A$65496,Inscriptions!B$2:B$65498))","v":""},{"$f":"IF(ISBLANK($B236),\"\",LOOKUP($B236,Inscriptions!A$2:A$65496,Inscriptions!C$2:C$65498))","v":""},{"$f":"IF(ISBLANK($B236),\"\",LOOKUP($B236,Inscriptions!A$2:A$65496,Inscriptions!D$2:D$65498))","v":""},null,null,null,0,0,0,"",""]
[233,null,{"$f":"IF(ISBLANK($B237),\"\",LOOKUP($B237,Inscriptions!A$2:A$65496,Inscriptions!B$2:B$65498))","v":""},{"$f":"IF(ISBLANK($B237),\"\",LOOKUP($B237,Inscriptions!A$2:A$65496,Inscriptions!C$2:C$65498))","v":""},{"$f":"IF(ISBLANK($B237),\"\",LOOKUP($B237,Inscriptions!A$2:A$65496,Inscriptions!D$2:D$65498))","v":""},null,null,null,0,0,0,"",""]
[234,null,{"$f":"IF(ISBLANK($B238),\"\",LOOKUP($B238,Inscriptions!A$2:A$65496,Inscriptions!B$2:B$65498))","v":""},{"$f":"IF(ISBLANK($B238),\"\",LOOKUP($B238,Inscriptions!A$2:A$65496,Inscriptions!C$2:C$65498))","v":""},{"$f":"IF(ISBLANK($B238),\"\",LOOKUP($B238,Inscriptions!A$2:A$65496,Inscriptions!D$2:D$65498))","v":""},null,null,null,0,0,0,"",""]
[235,null,{"$f":"IF(ISBLANK($B239),\"\",LOOKUP($B239,Inscriptions!A$2:A$65496,Inscriptions!B$2:B$65498))","v":""},{"$f":"IF(ISBLANK($B239),\"\",LOOKUP($B239,Inscriptions!A$2:A$65496,Inscriptions!C$2:C$65498))","v":""},{"$f":"IF(ISBLANK($B239),\"\",LOOKUP($B239,Inscriptions!A$2:A$65496,Inscriptions!D$2:D$65498))","v":""},null,null,null,0,0,0,"",""]
[236,null,{"$f":"IF(ISBLANK($B240),\"\",LOOKUP($B240,Inscriptions!A$2:A$65496,Inscriptions!B$2:B$65498))","v":""},{"$f":"IF(ISBLANK($B240),\"\",LOOKUP($B240,Inscriptions!A$2:A$65496,Inscriptions!C$2:C$65498))","v":""},{"$f":"IF(ISBLANK($B240),\"\",LOOKUP($B240,Inscriptions!A$2:A$65496,Inscriptions!D$2:D$65498))","v":""},null,null,null,0,0,0,"",""]
[237,null,{"$f":"IF(ISBLANK($B241),\"\",LOOKUP($B241,Inscriptions!A$2:A$65496,Inscriptions!B$2:B$65498))","v":""},{"$f":"IF(ISBLANK($B241),\"\",LOOKUP($B241,Inscriptions!A$2:A$65496,Inscriptions!C$2:C$65498))","v":""},{"$f":"IF(ISBLANK($B241),\"\",LOOKUP($B241,Inscriptions!A$2:A$65496,Inscriptions!D$2:D$65498))","v":""},null,null,null,0,0,0,"",""]
[238,null,{"$f":"IF(ISBLANK($B242),\"\",LOOKUP($B242,Inscriptions!A$2:A$65496,Inscriptions!B$2:B$65498))","v":""},{"$f":"IF(ISBLANK($B242),\"\",LOOKUP($B242,Inscriptions!A$2:A$65496,Inscriptions!C$2:C$65498))","v":""},{"$f":"IF(ISBLANK($B242),\"\",LOOKUP($B242,Inscriptions!A$2:A$65496,Inscriptions!D$2:D$65498))","v":""},null,null,null,0,0,0,"",""]
[239,null,{"$f":"IF(ISBLANK($B243),\"\",LOOKUP($B243,Inscriptions!A$2:A$65496,Inscriptions!B$2:B$65498))","v":""},{"$f":"IF(ISBLANK($B243),\"\",LOOKUP($B243,Inscriptions!A$2:A$65496,Inscriptions!C$2:C$65498))","v":""},{"$f":"IF(ISBLANK($B243),\"\",LOOKUP($B243,Inscriptions!A$2:A$65496,Inscriptions!D$2:D$65498))","v":""},null,null,null,0,0,0,"",""]
[240,null,{"$f":"IF(ISBLANK($B244),\"\",LOOKUP($B244,Inscriptions!A$2:A$65496,Inscriptions!B$2:B$65498))","v":""},{"$f":"IF(ISBLANK($B244),\"\",LOOKUP($B244,Inscriptions!A$2:A$65496,Inscriptions!C$2:C$65498))","v":""},{"$f":"IF(ISBLANK($B244),\"\",LOOKUP($B244,Inscriptions!A$2:A$65496,Inscriptions!D$2:D$65498))","v":""},null,null,null,0,0,0,"",""]
[241,null,{"$f":"IF(ISBLANK($B245),\"\",LOOKUP($B245,Inscriptions!A$2:A$65496,Inscriptions!B$2:B$65498))","v":""},{"$f":"IF(ISBLANK($B245),\"\",LOOKUP($B245,Inscriptions!A$2:A$65496,Inscriptions!C$2:C$65498))","v":""},{"$f":"IF(ISBLANK($B245),\"\",LOOKUP($B245,Inscriptions!A$2:A$65496,Inscriptions!D$2:D$65498))","v":""},null,null,null,0,0,0,"",""]
[242,null,{"$f":"IF(ISBLANK($B246),\"\",LOOKUP($B246,Inscriptions!A$2:A$65496,Inscriptions!B$2:B$65498))","v":""},{"$f":"IF(ISBLANK($B246),\"\",LOOKUP($B246,Inscriptions!A$2:A$65496,Inscriptions!C$2:C$65498))","v":""},{"$f":"IF(ISBLANK($B246),\"\",LOOKUP($B246,Inscriptions!A$2:A$65496,Inscriptions!D$2:D$65498))","v":""},null,null,null,0,0,0,"",""]
[243,null,{"$f":"IF(ISBLANK($B247),\"\",LOOKUP($B247,Inscriptions!A$2:A$65496,Inscriptions!B$2:B$65498))","v":""},{"$f":"IF(ISBLANK($B247),\"\",LOOKUP($B247,Inscriptions!A$2:A$65496,Inscriptions!C$2:C$65498))","v":""},{"$f":"IF(ISBLANK($B247),\"\",LOOKUP($B247,Inscriptions!A$2:A$65496,Inscriptions!D$2:D$65498))","v":""},null,null,null,0,0,0,"",""]
[244,null,{"$f":"IF(ISBLANK($B248),\"\",LOOKUP($B248,Inscriptions!A$2:A$65496,Inscriptions!B$2:B$65498))","v":""},{"$f":"IF(ISBLANK($B248),\"\",LOOKUP($B248,Inscriptions!A$2:A$65496,Inscriptions!C$2:C$65498))","v":""},{"$f":"IF(ISBLANK($B248),\"\",LOOKUP($B248,Inscriptions!A$2:A$65496,Inscriptions!D$2:D$65498))","v":""},null,null,null,0,0,0,"",""]
[245,null,{"$f":"IF(ISBLANK($B249),\"\",LOOKUP($B249,Inscriptions!A$2:A$65496,Inscriptions!B$2:B$65498))","v":""},{"$f":"IF(ISBLANK($B249),\"\",LOOKUP($B249,Inscriptions!A$2:A$65496,Inscriptions!C$2:C$65498))","v":""},{"$f":"IF(ISBLANK($B249),\"\",LOOKUP($B249,Inscriptions!A$2:A$65496,Inscriptions!D$2:D$65498))","v":""},null,null,null,0,0,0,"",""]
[246,null,{"$f":"IF(ISBLANK($B250),\"\",LOOKUP($B250,Inscriptions!A$2:A$65496,Inscriptions!B$2:B$65498))","v":""},{"$f":"IF(ISBLANK($B250),\"\",LOOKUP($B250,Inscriptions!A$2:A$65496,Inscriptions!C$2:C$65498))","v":""},{"$f":"IF(ISBLANK($B250),\"\",LOOKUP($B250,Inscriptions!A$2:A$65496,Inscriptions!D$2:D$65498))","v":""},null,null,null,0,0,0,"",""]
[247,null,{"$f":"IF(ISBLANK($B251),\"\",LOOKUP($B251,Inscriptions!A$2:A$65496,Inscriptions!B$2:B$65498))","v":""},{"$f":"IF(ISBLANK($B251),\"\",LOOKUP($B251,Inscriptions!A$2:A$65496,Inscriptions!C$2:C$65498))","v":""},{"$f":"IF(ISBLANK($B251),\"\",LOOKUP($B251,Inscriptions!A$2:A$65496,Inscriptions!D$2:D$65498))","v":""},null,null,null,0,0,0,"",""]
[248,null,{"$f":"IF(ISBLANK($B252),\"\",LOOKUP($B252,Inscriptions!A$2:A$65496,Inscriptions!B$2:B$65498))","v":""},{"$f":"IF(ISBLANK($B252),\"\",LOOKUP($B252,Inscriptions!A$2:A$65496,Inscriptions!C$2:C$65498))","v":""},{"$f":"IF(ISBLANK($B252),\"\",LOOKUP($B252,Inscriptions!A$2:A$65496,Inscriptions!D$2:D$65498))","v":""},null,null,null,0,0,0,"",""]
[249,null,{"$f":"IF(ISBLANK($B253),\"\",LOOKUP($B253,Inscriptions!A$2:A$65496,Inscriptions!B$2:B$65498))","v":""},{"$f":"IF(ISBLANK($B253),\"\",LOOKUP($B253,Inscriptions!A$2:A$65496,Inscriptions!C$2:C$65498))","v":""},{"$f":"IF(ISBLANK($B253),\"\",LOOKUP($B253,Inscriptions!A$2:A$65496,Inscriptions!D$2:D$65498))","v":""},null,null,null,0,0,0,"",""]
[250,null,{"$f":"IF(ISBLANK($B254),\"\",LOOKUP($B254,Inscriptions!A$2:A$65496,Inscriptions!B$2:B$65498))","v":""},{"$f":"IF(ISBLANK($B254),\"\",LOOKUP($B254,Inscriptions!A$2:A$65496,Inscriptions!C$2:C$65498))","v":""},{"$f":"IF(ISBLANK($B254),\"\",LOOKUP($B254,Inscriptions!A$2:A$65496,Inscriptions!D$2:D$65498))","v":""},null,null,null,0,0,0,"",""]
[251,null,{"$f":"IF(ISBLANK($B255),\"\",LOOKUP($B255,Inscriptions!A$2:A$65496,Inscriptions!B$2:B$65498))","v":""},{"$f":"IF(ISBLANK($B255),\"\",LOOKUP($B255,Inscriptions!A$2:A$65496,Inscriptions!C$2:C$65498))","v":""},{"$f":"IF(ISBLANK($B255),\"\",LOOKUP($B255,Inscriptions!A$2:A$65496,Inscriptions!D$2:D$65498))","v":""},null,null,null,0,0,0,"",""]
[252,null,{"$f":"IF(ISBLANK($B256),\"\",LOOKUP($B256,Inscriptions!A$2:A$65496,Inscriptions!B$2:B$65498))","v":""},{"$f":"IF(ISBLANK($B256),\"\",LOOKUP($B256,Inscriptions!A$2:A$65496,Inscriptions!C$2:C$65498))","v":""},{"$f":"IF(ISBLANK($B256),\"\",LOOKUP($B256,Inscriptions!A$2:A$65496,Inscriptions!D$2:D$65498))","v":""},null,null,null,0,0,0,"",""]
[253,null,{"$f":"IF(ISBLANK($B257),\"\",LOOKUP($B257,Inscriptions!A$2:A$65496,Inscriptions!B$2:B$65498))","v":""},{"$f":"IF(ISBLANK($B257),\"\",LOOKUP($B257,Inscriptions!A$2:A$65496,Inscriptions!C$2:C$65498))","v":""},{"$f":"IF(ISBLANK($B257),\"\",LOOKUP($B257,Inscriptions!A$2:A$65496,Inscriptions!D$2:D$65498))","v":""},null,null,null,0,0,0,"",""]
[254,null,{"$f":"IF(ISBLANK($B258),\"\",LOOKUP($B258,Inscriptions!A$2:A$65496,Inscriptions!B$2:B$65498))","v":""},{"$f":"IF(ISBLANK($B258),\"\",LOOKUP($B258,Inscriptions!A$2:A$65496,Inscriptions!C$2:C$65498))","v":""},{"$f":"IF(ISBLANK($B258),\"\",LOOKUP($B258,Inscriptions!A$2:A$65496,Inscriptions!D$2:D$65498))","v":""},null,null,null,0,0,0,"",""]
[255,null,{"$f":"IF(ISBLANK($B259),\"\",LOOKUP($B259,Inscriptions!A$2:A$65496,Inscriptions!B$2:B$65498))","v":""},{"$f":"IF(ISBLANK($B259),\"\",LOOKUP($B259,Inscriptions!A$2:A$65496,Inscriptions!C$2:C$65498))","v":""},{"$f":"IF(ISBLANK($B259),\"\",LOOKUP($B259,Inscriptions!A$2:A$65496,Inscriptions!D$2:D$65498))","v":""},null,null,null,0,0,0,"",""]
[256,null,{"$f":"IF(ISBLANK($B260),\"\",LOOKUP($B260,Inscriptions!A$2:A$65496,Inscriptions!B$2:B$65498))","v":""},{"$f":"IF(ISBLANK($B260),\"\",LOOKUP($B260,Inscriptions!A$2:A$65496,Inscriptions!C$2:C$65498))","v":""},{"$f":"IF(ISBLANK($B260),\"\",LOOKUP($B260,Inscriptions!A$2:A$65496,Inscriptions!D$2:D$65498))","v":""},null,null,null,0,0,0,"",""]
[257,null,{"$f":"IF(ISBLANK($B261),\"\",LOOKUP($B261,Inscriptions!A$2:A$65496,Inscriptions!B$2:B$65498))","v":""},{"$f":"IF(ISBLANK($B261),\"\",LOOKUP($B261,Inscriptions!A$2:A$65496,Inscriptions!C$2:C$65498))","v":""},{"$f":"IF(ISBLANK($B261),\"\",LOOKUP($B261,Inscriptions!A$2:A$65496,Inscriptions!D$2:D$65498))","v":""},null,null,null,0,0,0,"",""]
[258,null,{"$f":"IF(ISBLANK($B262),\"\",LOOKUP($B262,Inscriptions!A$2:A$65496,Inscriptions!B$2:B$65498))","v":""},{"$f":"IF(ISBLANK($B262),\"\",LOOKUP($B262,Inscriptions!A$2:A$65496,Inscriptions!C$2:C$65498))","v":""},{"$f":"IF(ISBLANK($B262),\"\",LOOKUP($B262,Inscriptions!A$2:A$65496,Inscriptions!D$2:D$65498))","v":""},null,null,null,{"$f":"ROUNDDOWN(H262/10000,0)","v":0},{"$f":"ROUNDDOWN((H262-I262*10000)/100,0)","v":0},{"$f":"ROUNDDOWN((H262-(I262*10000)-(J262*100)),0)","v":0},{"$f":"IF((I262+J262+K262)=0,\"\",ROUNDDOWN((L$4/((I262*3600)+(J262*60)+K262))*3.6,2))","v":""},{"$f":"IF(L262=\"\",\"\",\"km/h\")","v":""}]
[259,null,{"$f":"IF(ISBLANK($B263),\"\",LOOKUP($B263,Inscriptions!A$2:A$65496,Inscriptions!B$2:B$65498))","v":""},{"$f":"IF(ISBLANK($B263),\"\",LOOKUP($B263,Inscriptions!A$2:A$65496,Inscriptions!C$2:C$65498))","v":""},{"$f":"IF(ISBLANK($B263),\"\",LOOKUP($B263,Inscriptions!A$2:A$65496,Inscriptions!D$2:D$65498))","v":""},null,null,null,0,0,0,"",""]
[260,null,{"$f":"IF(ISBLANK($B264),\"\",LOOKUP($B264,Inscriptions!A$2:A$65496,Inscriptions!B$2:B$65498))","v":""},{"$f":"IF(ISBLANK($B264),\"\",LOOKUP($B264,Inscriptions!A$2:A$65496,Inscriptions!C$2:C$65498))","v":""},{"$f":"IF(ISBLANK($B264),\"\",LOOKUP($B264,Inscriptions!A$2:A$65496,Inscriptions!D$2:D$65498))","v":""},null,null,null,0,0,0,"",""]
[261,null,{"$f":"IF(ISBLANK($B265),\"\",LOOKUP($B265,Inscriptions!A$2:A$65496,Inscriptions!B$2:B$65498))","v":""},{"$f":"IF(ISBLANK($B265),\"\",LOOKUP($B265,Inscriptions!A$2:A$65496,Inscriptions!C$2:C$65498))","v":""},{"$f":"IF(ISBLANK($B265),\"\",LOOKUP($B265,Inscriptions!A$2:A$65496,Inscriptions!D$2:D$65498))","v":""},null,null,null,0,0,0,"",""]
[262,null,{"$f":"IF(ISBLANK($B266),\"\",LOOKUP($B266,Inscriptions!A$2:A$65496,Inscriptions!B$2:B$65498))","v":""},{"$f":"IF(ISBLANK($B266),\"\",LOOKUP($B266,Inscriptions!A$2:A$65496,Inscriptions!C$2:C$65498))","v":""},{"$f":"IF(ISBLANK($B266),\"\",LOOKUP($B266,Inscriptions!A$2:A$65496,Inscriptions!D$2:D$65498))","v":""},null,null,null,0,0,0,"",""]
[263,null,{"$f":"IF(ISBLANK($B267),\"\",LOOKUP($B267,Inscriptions!A$2:A$65496,Inscriptions!B$2:B$65498))","v":""},{"$f":"IF(ISBLANK($B267),\"\",LOOKUP($B267,Inscriptions!A$2:A$65496,Inscriptions!C$2:C$65498))","v":""},{"$f":"IF(ISBLANK($B267),\"\",LOOKUP($B267,Inscriptions!A$2:A$65496,Inscriptions!D$2:D$65498))","v":""},null,null,null,0,0,0,"",""]
[264,null,{"$f":"IF(ISBLANK($B268),\"\",LOOKUP($B268,Inscriptions!A$2:A$65496,Inscriptions!B$2:B$65498))","v":""},{"$f":"IF(ISBLANK($B268),\"\",LOOKUP($B268,Inscriptions!A$2:A$65496,Inscriptions!C$2:C$65498))","v":""},{"$f":"IF(ISBLANK($B268),\"\",LOOKUP($B268,Inscriptions!A$2:A$65496,Inscriptions!D$2:D$65498))","v":""},null,null,null,0,0,0,"",""]
[265,null,{"$f":"IF(ISBLANK($B269),\"\",LOOKUP($B269,Inscriptions!A$2:A$65496,Inscriptions!B$2:B$65498))","v":""},{"$f":"IF(ISBLANK($B269),\"\",LOOKUP($B269,Inscriptions!A$2:A$65496,Inscriptions!C$2:C$65498))","v":""},{"$f":"IF(ISBLANK($B269),\"\",LOOKUP($B269,Inscriptions!A$2:A$65496,Inscriptions!D$2:D$65498))","v":""},null,null,null,0,0,0,"",""]
[266,null,{"$f":"IF(ISBLANK($B270),\"\",LOOKUP($B270,Inscriptions!A$2:A$65496,Inscriptions!B$2:B$65498))","v":""},{"$f":"IF(ISBLANK($B270),\"\",LOOKUP($B270,Inscriptions!A$2:A$65496,Inscriptions!C$2:C$65498))","v":""},{"$f":"IF(ISBLANK($B270),\"\",LOOKUP($B270,Inscriptions!A$2:A$65496,Inscriptions!D$2:D$65498))","v":""},null,null,null,0,0,0,"",""]
[267,null,{"$f":"IF(ISBLANK($B271),\"\",LOOKUP($B271,Inscriptions!A$2:A$65496,Inscriptions!B$2:B$65498))","v":""},{"$f":"IF(ISBLANK($B271),\"\",LOOKUP($B271,Inscriptions!A$2:A$65496,Inscriptions!C$2:C$65498))","v":""},{"$f":"IF(ISBLANK($B271),\"\",LOOKUP($B271,Inscriptions!A$2:A$65496,Inscriptions!D$2:D$65498))","v":""},null,null,null,0,0,0,"",""]
[268,null,{"$f":"IF(ISBLANK($B272),\"\",LOOKUP($B272,Inscriptions!A$2:A$65496,Inscriptions!B$2:B$65498))","v":""},{"$f":"IF(ISBLANK($B272),\"\",LOOKUP($B272,Inscriptions!A$2:A$65496,Inscriptions!C$2:C$65498))","v":""},{"$f":"IF(ISBLANK($B272),\"\",LOOKUP($B272,Inscriptions!A$2:A$65496,Inscriptions!D$2:D$65498))","v":""},null,null,null,0,0,0,"",""]
[269,null,{"$f":"IF(ISBLANK($B273),\"\",LOOKUP($B273,Inscriptions!A$2:A$65496,Inscriptions!B$2:B$65498))","v":""},{"$f":"IF(ISBLANK($B273),\"\",LOOKUP($B273,Inscriptions!A$2:A$65496,Inscriptions!C$2:C$65498))","v":""},{"$f":"IF(ISBLANK($B273),\"\",LOOKUP($B273,Inscriptions!A$2:A$65496,Inscriptions!D$2:D$65498))","v":""},null,null,null,0,0,0,"",""]
[270,null,{"$f":"IF(ISBLANK($B274),\"\",LOOKUP($B274,Inscriptions!A$2:A$65496,Inscriptions!B$2:B$65498))","v":""},{"$f":"IF(ISBLANK($B274),\"\",LOOKUP($B274,Inscriptions!A$2:A$65496,Inscriptions!C$2:C$65498))","v":""},{"$f":"IF(ISBLANK($B274),\"\",LOOKUP($B274,Inscriptions!A$2:A$65496,Inscriptions!D$2:D$65498))","v":""},null,null,null,0,0,0,"",""]
[271,null,{"$f":"IF(ISBLANK($B275),\"\",LOOKUP($B275,Inscriptions!A$2:A$65496,Inscriptions!B$2:B$65498))","v":""},{"$f":"IF(ISBLANK($B275),\"\",LOOKUP($B275,Inscriptions!A$2:A$65496,Inscriptions!C$2:C$65498))","v":""},{"$f":"IF(ISBLANK($B275),\"\",LOOKUP($B275,Inscriptions!A$2:A$65496,Inscriptions!D$2:D$65498))","v":""},null,null,null,0,0,0,"",""]
[272,null,{"$f":"IF(ISBLANK($B276),\"\",LOOKUP($B276,Inscriptions!A$2:A$65496,Inscriptions!B$2:B$65498))","v":""},{"$f":"IF(ISBLANK($B276),\"\",LOOKUP($B276,Inscriptions!A$2:A$65496,Inscriptions!C$2:C$65498))","v":""},{"$f":"IF(ISBLANK($B276),\"\",LOOKUP($B276,Inscriptions!A$2:A$65496,Inscriptions!D$2:D$65498))","v":""},null,null,null,0,0,0,"",""]
[273,null,{"$f":"IF(ISBLANK($B277),\"\",LOOKUP($B277,Inscriptions!A$2:A$65496,Inscriptions!B$2:B$65498))","v":""},{"$f":"IF(ISBLANK($B277),\"\",LOOKUP($B277,Inscriptions!A$2:A$65496,Inscriptions!C$2:C$65498))","v":""},{"$f":"IF(ISBLANK($B277),\"\",LOOKUP($B277,Inscriptions!A$2:A$65496,Inscriptions!D$2:D$65498))","v":""},null,null,null,0,0,0,"",""]
[274,null,{"$f":"IF(ISBLANK($B278),\"\",LOOKUP($B278,Inscriptions!A$2:A$65496,Inscriptions!B$2:B$65498))","v":""},{"$f":"IF(ISBLANK($B278),\"\",LOOKUP($B278,Inscriptions!A$2:A$65496,Inscriptions!C$2:C$65498))","v":""},{"$f":"IF(ISBLANK($B278),\"\",LOOKUP($B278,Inscriptions!A$2:A$65496,Inscriptions!D$2:D$65498))","v":""},null,null,null,0,0,0,"",""]
[275,null,{"$f":"IF(ISBLANK($B279),\"\",LOOKUP($B279,Inscriptions!A$2:A$65496,Inscriptions!B$2:B$65498))","v":""},{"$f":"IF(ISBLANK($B279),\"\",LOOKUP($B279,Inscriptions!A$2:A$65496,Inscriptions!C$2:C$65498))","v":""},{"$f":"IF(ISBLANK($B279),\"\",LOOKUP($B279,Inscriptions!A$2:A$65496,Inscriptions!D$2:D$65498))","v":""},null,null,null,0,0,0,"",""]
[276,null,{"$f":"IF(ISBLANK($B280),\"\",LOOKUP($B280,Inscriptions!A$2:A$65496,Inscriptions!B$2:B$65498))","v":""},{"$f":"IF(ISBLANK($B280),\"\",LOOKUP($B280,Inscriptions!A$2:A$65496,Inscriptions!C$2:C$65498))","v":""},{"$f":"IF(ISBLANK($B280),\"\",LOOKUP($B280,Inscriptions!A$2:A$65496,Inscriptions!D$2:D$65498))","v":""},null,null,null,0,0,0,"",""]
[277,null,{"$f":"IF(ISBLANK($B281),\"\",LOOKUP($B281,Inscriptions!A$2:A$65496,Inscriptions!B$2:B$65498))","v":""},{"$f":"IF(ISBLANK($B281),\"\",LOOKUP($B281,Inscriptions!A$2:A$65496,Inscriptions!C$2:C$65498))","v":""},{"$f":"IF(ISBLANK($B281),\"\",LOOKUP($B281,Inscriptions!A$2:A$65496,Inscriptions!D$2:D$65498))","v":""},null,null,null,0,0,0,"",""]
[278,null,{"$f":"IF(ISBLANK($B282),\"\",LOOKUP($B282,Inscriptions!A$2:A$65496,Inscriptions!B$2:B$65498))","v":""},{"$f":"IF(ISBLANK($B282),\"\",LOOKUP($B282,Inscriptions!A$2:A$65496,Inscriptions!C$2:C$65498))","v":""},{"$f":"IF(ISBLANK($B282),\"\",LOOKUP($B282,Inscriptions!A$2:A$65496,Inscriptions!D$2:D$65498))","v":""},null,null,null,0,0,0,"",""]
[279,null,{"$f":"IF(ISBLANK($B283),\"\",LOOKUP($B283,Inscriptions!A$2:A$65496,Inscriptions!B$2:B$65498))","v":""},{"$f":"IF(ISBLANK($B283),\"\",LOOKUP($B283,Inscriptions!A$2:A$65496,Inscriptions!C$2:C$65498))","v":""},{"$f":"IF(ISBLANK($B283),\"\",LOOKUP($B283,Inscriptions!A$2:A$65496,Inscriptions!D$2:D$65498))","v":""},null,null,null,0,0,0,"",""]
[280,null,{"$f":"IF(ISBLANK($B284),\"\",LOOKUP($B284,Inscriptions!A$2:A$65496,Inscriptions!B$2:B$65498))","v":""},{"$f":"IF(ISBLANK($B284),\"\",LOOKUP($B284,Inscriptions!A$2:A$65496,Inscriptions!C$2:C$65498))","v":""},{"$f":"IF(ISBLANK($B284),\"\",LOOKUP($B284,Inscriptions!A$2:A$65496,Inscriptions!D$2:D$65498))","v":""},null,null,null,0,0,0,"",""]
[281,null,{"$f":"IF(ISBLANK($B285),\"\",LOOKUP($B285,Inscriptions!A$2:A$65496,Inscriptions!B$2:B$65498))","v":""},{"$f":"IF(ISBLANK($B285),\"\",LOOKUP($B285,Inscriptions!A$2:A$65496,Inscriptions!C$2:C$65498))","v":""},{"$f":"IF(ISBLANK($B285),\"\",LOOKUP($B285,Inscriptions!A$2:A$65496,Inscriptions!D$2:D$65498))","v":""},null,null,null,0,0,0,"",""]
[282,null,{"$f":"IF(ISBLANK($B286),\"\",LOOKUP($B286,Inscriptions!A$2:A$65496,Inscriptions!B$2:B$65498))","v":""},{"$f":"IF(ISBLANK($B286),\"\",LOOKUP($B286,Inscriptions!A$2:A$65496,Inscriptions!C$2:C$65498))","v":""},{"$f":"IF(ISBLANK($B286),\"\",LOOKUP($B286,Inscriptions!A$2:A$65496,Inscriptions!D$2:D$65498))","v":""},null,null,null,0,0,0,"",""]
[283,null,{"$f":"IF(ISBLANK($B287),\"\",LOOKUP($B287,Inscriptions!A$2:A$65496,Inscriptions!B$2:B$65498))","v":""},{"$f":"IF(ISBLANK($B287),\"\",LOOKUP($B287,Inscriptions!A$2:A$65496,Inscriptions!C$2:C$65498))","v":""},{"$f":"IF(ISBLANK($B287),\"\",LOOKUP($B287,Inscriptions!A$2:A$65496,Inscriptions!D$2:D$65498))","v":""},null,null,null,0,0,0,"",""]
[284,null,{"$f":"IF(ISBLANK($B288),\"\",LOOKUP($B288,Inscriptions!A$2:A$65496,Inscriptions!B$2:B$65498))","v":""},{"$f":"IF(ISBLANK($B288),\"\",LOOKUP($B288,Inscriptions!A$2:A$65496,Inscriptions!C$2:C$65498))","v":""},{"$f":"IF(ISBLANK($B288),\"\",LOOKUP($B288,Inscriptions!A$2:A$65496,Inscriptions!D$2:D$65498))","v":""},null,null,null,0,0,0,"",""]
[285,null,{"$f":"IF(ISBLANK($B289),\"\",LOOKUP($B289,Inscriptions!A$2:A$65496,Inscriptions!B$2:B$65498))","v":""},{"$f":"IF(ISBLANK($B289),\"\",LOOKUP($B289,Inscriptions!A$2:A$65496,Inscriptions!C$2:C$65498))","v":""},{"$f":"IF(ISBLANK($B289),\"\",LOOKUP($B289,Inscriptions!A$2:A$65496,Inscriptions!D$2:D$65498))","v":""},null,null,null,0,0,0,"",""]
[286,null,{"$f":"IF(ISBLANK($B290),\"\",LOOKUP($B290,Inscriptions!A$2:A$65496,Inscriptions!B$2:B$65498))","v":""},{"$f":"IF(ISBLANK($B290),\"\",LOOKUP($B290,Inscriptions!A$2:A$65496,Inscriptions!C$2:C$65498))","v":""},{"$f":"IF(ISBLANK($B290),\"\",LOOKUP($B290,Inscriptions!A$2:A$65496,Inscriptions!D$2:D$65498))","v":""},null,null,null,0,0,0,"",""]
[287,null,{"$f":"IF(ISBLANK($B291),\"\",LOOKUP($B291,Inscriptions!A$2:A$65496,Inscriptions!B$2:B$65498))","v":""},{"$f":"IF(ISBLANK($B291),\"\",LOOKUP($B291,Inscriptions!A$2:A$65496,Inscriptions!C$2:C$65498))","v":""},{"$f":"IF(ISBLANK($B291),\"\",LOOKUP($B291,Inscriptions!A$2:A$65496,Inscriptions!D$2:D$65498))","v":""},null,null,null,0,0,0,"",""]
[288,null,{"$f":"IF(ISBLANK($B292),\"\",LOOKUP($B292,Inscriptions!A$2:A$65496,Inscriptions!B$2:B$65498))","v":""},{"$f":"IF(ISBLANK($B292),\"\",LOOKUP($B292,Inscriptions!A$2:A$65496,Inscriptions!C$2:C$65498))","v":""},{"$f":"IF(ISBLANK($B292),\"\",LOOKUP($B292,Inscriptions!A$2:A$65496,Inscriptions!D$2:D$65498))","v":""},null,null,null,0,0,0,"",""]
[289,null,{"$f":"IF(ISBLANK($B293),\"\",LOOKUP($B293,Inscriptions!A$2:A$65496,Inscriptions!B$2:B$65498))","v":""},{"$f":"IF(ISBLANK($B293),\"\",LOOKUP($B293,Inscriptions!A$2:A$65496,Inscriptions!C$2:C$65498))","v":""},{"$f":"IF(ISBLANK($B293),\"\",LOOKUP($B293,Inscriptions!A$2:A$65496,Inscriptions!D$2:D$65498))","v":""},null,null,null,0,0,0,"",""]
[290,null,{"$f":"IF(ISBLANK($B294),\"\",LOOKUP($B294,Inscriptions!A$2:A$65496,Inscriptions!B$2:B$65498))","v":""},{"$f":"IF(ISBLANK($B294),\"\",LOOKUP($B294,Inscriptions!A$2:A$65496,Inscriptions!C$2:C$65498))","v":""},{"$f":"IF(ISBLANK($B294),\"\",LOOKUP($B294,Inscriptions!A$2:A$65496,Inscriptions!D$2:D$65498))","v":""},null,null,null,0,0,0,"",""]
[291,null,{"$f":"IF(ISBLANK($B295),\"\",LOOKUP($B295,Inscriptions!A$2:A$65496,Inscriptions!B$2:B$65498))","v":""},{"$f":"IF(ISBLANK($B295),\"\",LOOKUP($B295,Inscriptions!A$2:A$65496,Inscriptions!C$2:C$65498))","v":""},{"$f":"IF(ISBLANK($B295),\"\",LOOKUP($B295,Inscriptions!A$2:A$65496,Inscriptions!D$2:D$65498))","v":""},null,null,null,0,0,0,"",""]
[292,null,{"$f":"IF(ISBLANK($B296),\"\",LOOKUP($B296,Inscriptions!A$2:A$65496,Inscriptions!B$2:B$65498))","v":""},{"$f":"IF(ISBLANK($B296),\"\",LOOKUP($B296,Inscriptions!A$2:A$65496,Inscriptions!C$2:C$65498))","v":""},{"$f":"IF(ISBLANK($B296),\"\",LOOKUP($B296,Inscriptions!A$2:A$65496,Inscriptions!D$2:D$65498))","v":""},null,null,null,0,0,0,"",""]
[293,null,{"$f":"IF(ISBLANK($B297),\"\",LOOKUP($B297,Inscriptions!A$2:A$65496,Inscriptions!B$2:B$65498))","v":""},{"$f":"IF(ISBLANK($B297),\"\",LOOKUP($B297,Inscriptions!A$2:A$65496,Inscriptions!C$2:C$65498))","v":""},{"$f":"IF(ISBLANK($B297),\"\",LOOKUP($B297,Inscriptions!A$2:A$65496,Inscriptions!D$2:D$65498))","v":""},null,null,null,0,0,0,"",""]
[294,null,{"$f":"IF(ISBLANK($B298),\"\",LOOKUP($B298,Inscriptions!A$2:A$65496,Inscriptions!B$2:B$65498))","v":""},{"$f":"IF(ISBLANK($B298),\"\",LOOKUP($B298,Inscriptions!A$2:A$65496,Inscriptions!C$2:C$65498))","v":""},{"$f":"IF(ISBLANK($B298),\"\",LOOKUP($B298,Inscriptions!A$2:A$65496,Inscriptions!D$2:D$65498))","v":""},null,null,null,0,0,0,"",""]
[295,null,{"$f":"IF(ISBLANK($B299),\"\",LOOKUP($B299,Inscriptions!A$2:A$65496,Inscriptions!B$2:B$65498))","v":""},{"$f":"IF(ISBLANK($B299),\"\",LOOKUP($B299,Inscriptions!A$2:A$65496,Inscriptions!C$2:C$65498))","v":""},{"$f":"IF(ISBLANK($B299),\"\",LOOKUP($B299,Inscriptions!A$2:A$65496,Inscriptions!D$2:D$65498))","v":""},null,null,null,0,0,0,"",""]
[296,null,{"$f":"IF(ISBLANK($B300),\"\",LOOKUP($B300,Inscriptions!A$2:A$65496,Inscriptions!B$2:B$65498))","v":""},{"$f":"IF(ISBLANK($B300),\"\",LOOKUP($B300,Inscriptions!A$2:A$65496,Inscriptions!C$2:C$65498))","v":""},{"$f":"IF(ISBLANK($B300),\"\",LOOKUP($B300,Inscriptions!A$2:A$65496,Inscriptions!D$2:D$65498))","v":""},null,null,null,0,0,0,"",""]
[297,null,{"$f":"IF(ISBLANK($B301),\"\",LOOKUP($B301,Inscriptions!A$2:A$65496,Inscriptions!B$2:B$65498))","v":""},{"$f":"IF(ISBLANK($B301),\"\",LOOKUP($B301,Inscriptions!A$2:A$65496,Inscriptions!C$2:C$65498))","v":""},{"$f":"IF(ISBLANK($B301),\"\",LOOKUP($B301,Inscriptions!A$2:A$65496,Inscriptions!D$2:D$65498))","v":""},null,null,null,0,0,0,"",""]
[298,null,{"$f":"IF(ISBLANK($B302),\"\",LOOKUP($B302,Inscriptions!A$2:A$65496,Inscriptions!B$2:B$65498))","v":""},{"$f":"IF(ISBLANK($B302),\"\",LOOKUP($B302,Inscriptions!A$2:A$65496,Inscriptions!C$2:C$65498))","v":""},{"$f":"IF(ISBLANK($B302),\"\",LOOKUP($B302,Inscriptions!A$2:A$65496,Inscriptions!D$2:D$65498))","v":""},null,null,null,null,null,null,{"$f":"IF((I302+J302+K302)=0,\"\",ROUNDDOWN((L$4/((I302*3600)+(J302*60)+K302))*3.6,2))","v":""},""]
[299,null,{"$f":"IF(ISBLANK($B303),\"\",LOOKUP($B303,Inscriptions!A$2:A$65496,Inscriptions!B$2:B$65498))","v":""},{"$f":"IF(ISBLANK($B303),\"\",LOOKUP($B303,Inscriptions!A$2:A$65496,Inscriptions!C$2:C$65498))","v":""},{"$f":"IF(ISBLANK($B303),\"\",LOOKUP($B303,Inscriptions!A$2:A$65496,Inscriptions!D$2:D$65498))","v":""},null,null,null,null,null,null,"",""]
[300,null,{"$f":"IF(ISBLANK($B304),\"\",LOOKUP($B304,Inscriptions!A$2:A$65496,Inscriptions!B$2:B$65498))","v":""},{"$f":"IF(ISBLANK($B304),\"\",LOOKUP($B304,Inscriptions!A$2:A$65496,Inscriptions!C$2:C$65498))","v":""},{"$f":"IF(ISBLANK($B304),\"\",LOOKUP($B304,Inscriptions!A$2:A$65496,Inscriptions!D$2:D$65498))","v":""},null,null,null,null,null,null,"",""]
[301,null,{"$f":"IF(ISBLANK($B305),\"\",LOOKUP($B305,Inscriptions!A$2:A$65496,Inscriptions!B$2:B$65498))","v":""},{"$f":"IF(ISBLANK($B305),\"\",LOOKUP($B305,Inscriptions!A$2:A$65496,Inscriptions!C$2:C$65498))","v":""},{"$f":"IF(ISBLANK($B305),\"\",LOOKUP($B305,Inscriptions!A$2:A$65496,Inscriptions!D$2:D$65498))","v":""},null,null,null,null,null,null,"",""]
[302,null,{"$f":"IF(ISBLANK($B306),\"\",LOOKUP($B306,Inscriptions!A$2:A$65496,Inscriptions!B$2:B$65498))","v":""},{"$f":"IF(ISBLANK($B306),\"\",LOOKUP($B306,Inscriptions!A$2:A$65496,Inscriptions!C$2:C$65498))","v":""},{"$f":"IF(ISBLANK($B306),\"\",LOOKUP($B306,Inscriptions!A$2:A$65496,Inscriptions!D$2:D$65498))","v":""},null,null,null,null,null,null,"",""]
[303,null,{"$f":"IF(ISBLANK($B307),\"\",LOOKUP($B307,Inscriptions!A$2:A$65496,Inscriptions!B$2:B$65498))","v":""},{"$f":"IF(ISBLANK($B307),\"\",LOOKUP($B307,Inscriptions!A$2:A$65496,Inscriptions!C$2:C$65498))","v":""},{"$f":"IF(ISBLANK($B307),\"\",LOOKUP($B307,Inscriptions!A$2:A$65496,Inscriptions!D$2:D$65498))","v":""},null,null,null,null,null,null,"",""]
[304,null,{"$f":"IF(ISBLANK($B308),\"\",LOOKUP($B308,Inscriptions!A$2:A$65496,Inscriptions!B$2:B$65498))","v":""},{"$f":"IF(ISBLANK($B308),\"\",LOOKUP($B308,Inscriptions!A$2:A$65496,Inscriptions!C$2:C$65498))","v":""},{"$f":"IF(ISBLANK($B308),\"\",LOOKUP($B308,Inscriptions!A$2:A$65496,Inscriptions!D$2:D$65498))","v":""},null,null,null,null,null,null,"",""]
[305,null,{"$f":"IF(ISBLANK($B309),\"\",LOOKUP($B309,Inscriptions!A$2:A$65496,Inscriptions!B$2:B$65498))","v":""},{"$f":"IF(ISBLANK($B309),\"\",LOOKUP($B309,Inscriptions!A$2:A$65496,Inscriptions!C$2:C$65498))","v":""},{"$f":"IF(ISBLANK($B309),\"\",LOOKUP($B309,Inscriptions!A$2:A$65496,Inscriptions!D$2:D$65498))","v":""},null,null,null,null,null,null,"",""]
[306,null,{"$f":"IF(ISBLANK($B310),\"\",LOOKUP($B310,Inscriptions!A$2:A$65496,Inscriptions!B$2:B$65498))","v":""},{"$f":"IF(ISBLANK($B310),\"\",LOOKUP($B310,Inscriptions!A$2:A$65496,Inscriptions!C$2:C$65498))","v":""},{"$f":"IF(ISBLANK($B310),\"\",LOOKUP($B310,Inscriptions!A$2:A$65496,Inscriptions!D$2:D$65498))","v":""},null,null,null,null,null,null,"",""]
[307,null,{"$f":"IF(ISBLANK($B311),\"\",LOOKUP($B311,Inscriptions!A$2:A$65496,Inscriptions!B$2:B$65498))","v":""},{"$f":"IF(ISBLANK($B311),\"\",LOOKUP($B311,Inscriptions!A$2:A$65496,Inscriptions!C$2:C$65498))","v":""},{"$f":"IF(ISBLANK($B311),\"\",LOOKUP($B311,Inscriptions!A$2:A$65496,Inscriptions!D$2:D$65498))","v":""},null,null,null,null,null,null,"",""]
[308,null,{"$f":"IF(ISBLANK($B312),\"\",LOOKUP($B312,Inscriptions!A$2:A$65496,Inscriptions!B$2:B$65498))","v":""},{"$f":"IF(ISBLANK($B312),\"\",LOOKUP($B312,Inscriptions!A$2:A$65496,Inscriptions!C$2:C$65498))","v":""},{"$f":"IF(ISBLANK($B312),\"\",LOOKUP($B312,Inscriptions!A$2:A$65496,Inscriptions!D$2:D$65498))","v":""},null,null,null,null,null,null,"",""]
[309,null,{"$f":"IF(ISBLANK($B313),\"\",LOOKUP($B313,Inscriptions!A$2:A$65496,Inscriptions!B$2:B$65498))","v":""},{"$f":"IF(ISBLANK($B313),\"\",LOOKUP($B313,Inscriptions!A$2:A$65496,Inscriptions!C$2:C$65498))","v":""},{"$f":"IF(ISBLANK($B313),\"\",LOOKUP($B313,Inscriptions!A$2:A$65496,Inscriptions!D$2:D$65498))","v":""},null,null,null,null,null,null,"",""]
[310,null,{"$f":"IF(ISBLANK($B314),\"\",LOOKUP($B314,Inscriptions!A$2:A$65496,Inscriptions!B$2:B$65498))","v":""},{"$f":"IF(ISBLANK($B314),\"\",LOOKUP($B314,Inscriptions!A$2:A$65496,Inscriptions!C$2:C$65498))","v":""},{"$f":"IF(ISBLANK($B314),\"\",LOOKUP($B314,Inscriptions!A$2:A$65496,Inscriptions!D$2:D$65498))","v":""},null,null,null,null,null,null,"",""]
[311,null,{"$f":"IF(ISBLANK($B315),\"\",LOOKUP($B315,Inscriptions!A$2:A$65496,Inscriptions!B$2:B$65498))","v":""},{"$f":"IF(ISBLANK($B315),\"\",LOOKUP($B315,Inscriptions!A$2:A$65496,Inscriptions!C$2:C$65498))","v":""},{"$f":"IF(ISBLANK($B315),\"\",LOOKUP($B315,Inscriptions!A$2:A$65496,Inscriptions!D$2:D$65498))","v":""},null,null,null,null,null,null,"",""]
[312,null,{"$f":"IF(ISBLANK($B316),\"\",LOOKUP($B316,Inscriptions!A$2:A$65496,Inscriptions!B$2:B$65498))","v":""},{"$f":"IF(ISBLANK($B316),\"\",LOOKUP($B316,Inscriptions!A$2:A$65496,Inscriptions!C$2:C$65498))","v":""},{"$f":"IF(ISBLANK($B316),\"\",LOOKUP($B316,Inscriptions!A$2:A$65496,Inscriptions!D$2:D$65498))","v":""},null,null,null,null,null,null,"",""]
[313,null,{"$f":"IF(ISBLANK($B317),\"\",LOOKUP($B317,Inscriptions!A$2:A$65496,Inscriptions!B$2:B$65498))","v":""},{"$f":"IF(ISBLANK($B317),\"\",LOOKUP($B317,Inscriptions!A$2:A$65496,Inscriptions!C$2:C$65498))","v":""},{"$f":"IF(ISBLANK($B317),\"\",LOOKUP($B317,Inscriptions!A$2:A$65496,Inscriptions!D$2:D$65498))","v":""},null,null,null,null,null,null,"",""]
[314,null,{"$f":"IF(ISBLANK($B318),\"\",LOOKUP($B318,Inscriptions!A$2:A$65496,Inscriptions!B$2:B$65498))","v":""},{"$f":"IF(ISBLANK($B318),\"\",LOOKUP($B318,Inscriptions!A$2:A$65496,Inscriptions!C$2:C$65498))","v":""},{"$f":"IF(ISBLANK($B318),\"\",LOOKUP($B318,Inscriptions!A$2:A$65496,Inscriptions!D$2:D$65498))","v":""},null,null,null,null,null,null,"",""]
[315,null,{"$f":"IF(ISBLANK($B319),\"\",LOOKUP($B319,Inscriptions!A$2:A$65496,Inscriptions!B$2:B$65498))","v":""},{"$f":"IF(ISBLANK($B319),\"\",LOOKUP($B319,Inscriptions!A$2:A$65496,Inscriptions!C$2:C$65498))","v":""},{"$f":"IF(ISBLANK($B319),\"\",LOOKUP($B319,Inscriptions!A$2:A$65496,Inscriptions!D$2:D$65498))","v":""},null,null,null,null,null,null,"",""]
[316,null,{"$f":"IF(ISBLANK($B320),\"\",LOOKUP($B320,Inscriptions!A$2:A$65496,Inscriptions!B$2:B$65498))","v":""},{"$f":"IF(ISBLANK($B320),\"\",LOOKUP($B320,Inscriptions!A$2:A$65496,Inscriptions!C$2:C$65498))","v":""},{"$f":"IF(ISBLANK($B320),\"\",LOOKUP($B320,Inscriptions!A$2:A$65496,Inscriptions!D$2:D$65498))","v":""},null,null,null,null,null,null,"",""]
[317,null,{"$f":"IF(ISBLANK($B321),\"\",LOOKUP($B321,Inscriptions!A$2:A$65496,Inscriptions!B$2:B$65498))","v":""},{"$f":"IF(ISBLANK($B321),\"\",LOOKUP($B321,Inscriptions!A$2:A$65496,Inscriptions!C$2:C$65498))","v":""},{"$f":"IF(ISBLANK($B321),\"\",LOOKUP($B321,Inscriptions!A$2:A$65496,Inscriptions!D$2:D$65498))","v":""},null,null,null,null,null,null,"",""]
[318,null,{"$f":"IF(ISBLANK($B322),\"\",LOOKUP($B322,Inscriptions!A$2:A$65496,Inscriptions!B$2:B$65498))","v":""},{"$f":"IF(ISBLANK($B322),\"\",LOOKUP($B322,Inscriptions!A$2:A$65496,Inscriptions!C$2:C$65498))","v":""},{"$f":"IF(ISBLANK($B322),\"\",LOOKUP($B322,Inscriptions!A$2:A$65496,Inscriptions!D$2:D$65498))","v":""},null,null,null,null,null,null,"",""]
[319,null,{"$f":"IF(ISBLANK($B323),\"\",LOOKUP($B323,Inscriptions!A$2:A$65496,Inscriptions!B$2:B$65498))","v":""},{"$f":"IF(ISBLANK($B323),\"\",LOOKUP($B323,Inscriptions!A$2:A$65496,Inscriptions!C$2:C$65498))","v":""},{"$f":"IF(ISBLANK($B323),\"\",LOOKUP($B323,Inscriptions!A$2:A$65496,Inscriptions!D$2:D$65498))","v":""},null,null,null,null,null,null,"",""]
[320,null,{"$f":"IF(ISBLANK($B324),\"\",LOOKUP($B324,Inscriptions!A$2:A$65496,Inscriptions!B$2:B$65498))","v":""},{"$f":"IF(ISBLANK($B324),\"\",LOOKUP($B324,Inscriptions!A$2:A$65496,Inscriptions!C$2:C$65498))","v":""},{"$f":"IF(ISBLANK($B324),\"\",LOOKUP($B324,Inscriptions!A$2:A$65496,Inscriptions!D$2:D$65498))","v":""},null,null,null,null,null,null,"",""]
[321,null,{"$f":"IF(ISBLANK($B325),\"\",LOOKUP($B325,Inscriptions!A$2:A$65496,Inscriptions!B$2:B$65498))","v":""},{"$f":"IF(ISBLANK($B325),\"\",LOOKUP($B325,Inscriptions!A$2:A$65496,Inscriptions!C$2:C$65498))","v":""},{"$f":"IF(ISBLANK($B325),\"\",LOOKUP($B325,Inscriptions!A$2:A$65496,Inscriptions!D$2:D$65498))","v":""},null,null,null,null,null,null,"",""]
[322,null,{"$f":"IF(ISBLANK($B326),\"\",LOOKUP($B326,Inscriptions!A$2:A$65496,Inscriptions!B$2:B$65498))","v":""},{"$f":"IF(ISBLANK($B326),\"\",LOOKUP($B326,Inscriptions!A$2:A$65496,Inscriptions!C$2:C$65498))","v":""},{"$f":"IF(ISBLANK($B326),\"\",LOOKUP($B326,Inscriptions!A$2:A$65496,Inscriptions!D$2:D$65498))","v":""},null,null,null,null,null,null,"",{"$f":"IF(L326=\"\",\"\",\"km/h\")","v":""}]
[323,null,{"$f":"IF(ISBLANK($B327),\"\",LOOKUP($B327,Inscriptions!A$2:A$65496,Inscriptions!B$2:B$65498))","v":""},{"$f":"IF(ISBLANK($B327),\"\",LOOKUP($B327,Inscriptions!A$2:A$65496,Inscriptions!C$2:C$65498))","v":""},{"$f":"IF(ISBLANK($B327),\"\",LOOKUP($B327,Inscriptions!A$2:A$65496,Inscriptions!D$2:D$65498))","v":""},null,null,null,null,null,null,"",""]
[324,null,{"$f":"IF(ISBLANK($B328),\"\",LOOKUP($B328,Inscriptions!A$2:A$65496,Inscriptions!B$2:B$65498))","v":""},{"$f":"IF(ISBLANK($B328),\"\",LOOKUP($B328,Inscriptions!A$2:A$65496,Inscriptions!C$2:C$65498))","v":""},{"$f":"IF(ISBLANK($B328),\"\",LOOKUP($B328,Inscriptions!A$2:A$65496,Inscriptions!D$2:D$65498))","v":""},null,null,null,null,null,null,"",""]
[325,null,{"$f":"IF(ISBLANK($B329),\"\",LOOKUP($B329,Inscriptions!A$2:A$65496,Inscriptions!B$2:B$65498))","v":""},{"$f":"IF(ISBLANK($B329),\"\",LOOKUP($B329,Inscriptions!A$2:A$65496,Inscriptions!C$2:C$65498))","v":""},{"$f":"IF(ISBLANK($B329),\"\",LOOKUP($B329,Inscriptions!A$2:A$65496,Inscriptions!D$2:D$65498))","v":""},null,null,null,null,null,null,"",""]
[326,null,{"$f":"IF(ISBLANK($B330),\"\",LOOKUP($B330,Inscriptions!A$2:A$65496,Inscriptions!B$2:B$65498))","v":""},{"$f":"IF(ISBLANK($B330),\"\",LOOKUP($B330,Inscriptions!A$2:A$65496,Inscriptions!C$2:C$65498))","v":""},{"$f":"IF(ISBLANK($B330),\"\",LOOKUP($B330,Inscriptions!A$2:A$65496,Inscriptions!D$2:D$65498))","v":""},null,null,null,null,null,null,"",""]
[327,null,{"$f":"IF(ISBLANK($B331),\"\",LOOKUP($B331,Inscriptions!A$2:A$65496,Inscriptions!B$2:B$65498))","v":""},{"$f":"IF(ISBLANK($B331),\"\",LOOKUP($B331,Inscriptions!A$2:A$65496,Inscriptions!C$2:C$65498))","v":""},{"$f":"IF(ISBLANK($B331),\"\",LOOKUP($B331,Inscriptions!A$2:A$65496,Inscriptions!D$2:D$65498))","v":""},null,null,null,null,null,null,"",""]
[328,null,{"$f":"IF(ISBLANK($B332),\"\",LOOKUP($B332,Inscriptions!A$2:A$65496,Inscriptions!B$2:B$65498))","v":""},{"$f":"IF(ISBLANK($B332),\"\",LOOKUP($B332,Inscriptions!A$2:A$65496,Inscriptions!C$2:C$65498))","v":""},{"$f":"IF(ISBLANK($B332),\"\",LOOKUP($B332,Inscriptions!A$2:A$65496,Inscriptions!D$2:D$65498))","v":""},null,null,null,null,null,null,"",""]
[329,null,{"$f":"IF(ISBLANK($B333),\"\",LOOKUP($B333,Inscriptions!A$2:A$65496,Inscriptions!B$2:B$65498))","v":""},{"$f":"IF(ISBLANK($B333),\"\",LOOKUP($B333,Inscriptions!A$2:A$65496,Inscriptions!C$2:C$65498))","v":""},{"$f":"IF(ISBLANK($B333),\"\",LOOKUP($B333,Inscriptions!A$2:A$65496,Inscriptions!D$2:D$65498))","v":""},null,null,null,null,null,null,"",""]
[330,null,{"$f":"IF(ISBLANK($B334),\"\",LOOKUP($B334,Inscriptions!A$2:A$65496,Inscriptions!B$2:B$65498))","v":""},{"$f":"IF(ISBLANK($B334),\"\",LOOKUP($B334,Inscriptions!A$2:A$65496,Inscriptions!C$2:C$65498))","v":""},{"$f":"IF(ISBLANK($B334),\"\",LOOKUP($B334,Inscriptions!A$2:A$65496,Inscriptions!D$2:D$65498))","v":""},null,null,null,null,null,null,"",""]
[331,null,{"$f":"IF(ISBLANK($B335),\"\",LOOKUP($B335,Inscriptions!A$2:A$65496,Inscriptions!B$2:B$65498))","v":""},{"$f":"IF(ISBLANK($B335),\"\",LOOKUP($B335,Inscriptions!A$2:A$65496,Inscriptions!C$2:C$65498))","v":""},{"$f":"IF(ISBLANK($B335),\"\",LOOKUP($B335,Inscriptions!A$2:A$65496,Inscriptions!D$2:D$65498))","v":""},null,null,null,null,null,null,"",""]
[332,null,{"$f":"IF(ISBLANK($B336),\"\",LOOKUP($B336,Inscriptions!A$2:A$65496,Inscriptions!B$2:B$65498))","v":""},{"$f":"IF(ISBLANK($B336),\"\",LOOKUP($B336,Inscriptions!A$2:A$65496,Inscriptions!C$2:C$65498))","v":""},{"$f":"IF(ISBLANK($B336),\"\",LOOKUP($B336,Inscriptions!A$2:A$65496,Inscriptions!D$2:D$65498))","v":""},null,null,null,null,null,null,"",""]
[333,null,{"$f":"IF(ISBLANK($B337),\"\",LOOKUP($B337,Inscriptions!A$2:A$65496,Inscriptions!B$2:B$65498))","v":""},{"$f":"IF(ISBLANK($B337),\"\",LOOKUP($B337,Inscriptions!A$2:A$65496,Inscriptions!C$2:C$65498))","v":""},{"$f":"IF(ISBLANK($B337),\"\",LOOKUP($B337,Inscriptions!A$2:A$65496,Inscriptions!D$2:D$65498))","v":""},null,null,null,null,null,null,"",""]
[334,null,{"$f":"IF(ISBLANK($B338),\"\",LOOKUP($B338,Inscriptions!A$2:A$65496,Inscriptions!B$2:B$65498))","v":""},{"$f":"IF(ISBLANK($B338),\"\",LOOKUP($B338,Inscriptions!A$2:A$65496,Inscriptions!C$2:C$65498))","v":""},{"$f":"IF(ISBLANK($B338),\"\",LOOKUP($B338,Inscriptions!A$2:A$65496,Inscriptions!D$2:D$65498))","v":""},null,null,null,null,null,null,"",""]
[335,null,{"$f":"IF(ISBLANK($B339),\"\",LOOKUP($B339,Inscriptions!A$2:A$65496,Inscriptions!B$2:B$65498))","v":""},{"$f":"IF(ISBLANK($B339),\"\",LOOKUP($B339,Inscriptions!A$2:A$65496,Inscriptions!C$2:C$65498))","v":""},{"$f":"IF(ISBLANK($B339),\"\",LOOKUP($B339,Inscriptions!A$2:A$65496,Inscriptions!D$2:D$65498))","v":""},null,null,null,null,null,null,"",""]
[336,null,{"$f":"IF(ISBLANK($B340),\"\",LOOKUP($B340,Inscriptions!A$2:A$65496,Inscriptions!B$2:B$65498))","v":""},{"$f":"IF(ISBLANK($B340),\"\",LOOKUP($B340,Inscriptions!A$2:A$65496,Inscriptions!C$2:C$65498))","v":""},{"$f":"IF(ISBLANK($B340),\"\",LOOKUP($B340,Inscriptions!A$2:A$65496,Inscriptions!D$2:D$65498))","v":""},null,null,null,null,null,null,"",""]
[337,null,{"$f":"IF(ISBLANK($B341),\"\",LOOKUP($B341,Inscriptions!A$2:A$65496,Inscriptions!B$2:B$65498))","v":""},{"$f":"IF(ISBLANK($B341),\"\",LOOKUP($B341,Inscriptions!A$2:A$65496,Inscriptions!C$2:C$65498))","v":""},{"$f":"IF(ISBLANK($B341),\"\",LOOKUP($B341,Inscriptions!A$2:A$65496,Inscriptions!D$2:D$65498))","v":""},null,null,null,null,null,null,"",""]
[338,null,{"$f":"IF(ISBLANK($B342),\"\",LOOKUP($B342,Inscriptions!A$2:A$65496,Inscriptions!B$2:B$65498))","v":""},{"$f":"IF(ISBLANK($B342),\"\",LOOKUP($B342,Inscriptions!A$2:A$65496,Inscriptions!C$2:C$65498))","v":""},{"$f":"IF(ISBLANK($B342),\"\",LOOKUP($B342,Inscriptions!A$2:A$65496,Inscriptions!D$2:D$65498))","v":""},null,null,null,null,null,null,"",""]
[339,null,{"$f":"IF(ISBLANK($B343),\"\",LOOKUP($B343,Inscriptions!A$2:A$65496,Inscriptions!B$2:B$65498))","v":""},{"$f":"IF(ISBLANK($B343),\"\",LOOKUP($B343,Inscriptions!A$2:A$65496,Inscriptions!C$2:C$65498))","v":""},{"$f":"IF(ISBLANK($B343),\"\",LOOKUP($B343,Inscriptions!A$2:A$65496,Inscriptions!D$2:D$65498))","v":""},null,null,null,null,null,null,"",""]
[340,null,{"$f":"IF(ISBLANK($B344),\"\",LOOKUP($B344,Inscriptions!A$2:A$65496,Inscriptions!B$2:B$65498))","v":""},{"$f":"IF(ISBLANK($B344),\"\",LOOKUP($B344,Inscriptions!A$2:A$65496,Inscriptions!C$2:C$65498))","v":""},{"$f":"IF(ISBLANK($B344),\"\",LOOKUP($B344,Inscriptions!A$2:A$65496,Inscriptions!D$2:D$65498))","v":""},null,null,null,null,null,null,"",""]
[341,null,{"$f":"IF(ISBLANK($B345),\"\",LOOKUP($B345,Inscriptions!A$2:A$65496,Inscriptions!B$2:B$65498))","v":""},{"$f":"IF(ISBLANK($B345),\"\",LOOKUP($B345,Inscriptions!A$2:A$65496,Inscriptions!C$2:C$65498))","v":""},{"$f":"IF(ISBLANK($B345),\"\",LOOKUP($B345,Inscriptions!A$2:A$65496,Inscriptions!D$2:D$65498))","v":""},null,null,null,null,null,null,"",""]
[342,null,{"$f":"IF(ISBLANK($B346),\"\",LOOKUP($B346,Inscriptions!A$2:A$65496,Inscriptions!B$2:B$65498))","v":""},{"$f":"IF(ISBLANK($B346),\"\",LOOKUP($B346,Inscriptions!A$2:A$65496,Inscriptions!C$2:C$65498))","v":""},{"$f":"IF(ISBLANK($B346),\"\",LOOKUP($B346,Inscriptions!A$2:A$65496,Inscriptions!D$2:D$65498))","v":""},null,null,null,null,null,null,"",""]
[343,null,{"$f":"IF(ISBLANK($B347),\"\",LOOKUP($B347,Inscriptions!A$2:A$65496,Inscriptions!B$2:B$65498))","v":""},{"$f":"IF(ISBLANK($B347),\"\",LOOKUP($B347,Inscriptions!A$2:A$65496,Inscriptions!C$2:C$65498))","v":""},{"$f":"IF(ISBLANK($B347),\"\",LOOKUP($B347,Inscriptions!A$2:A$65496,Inscriptions!D$2:D$65498))","v":""},null,null,null,null,null,null,"",""]
[344,null,{"$f":"IF(ISBLANK($B348),\"\",LOOKUP($B348,Inscriptions!A$2:A$65496,Inscriptions!B$2:B$65498))","v":""},{"$f":"IF(ISBLANK($B348),\"\",LOOKUP($B348,Inscriptions!A$2:A$65496,Inscriptions!C$2:C$65498))","v":""},{"$f":"IF(ISBLANK($B348),\"\",LOOKUP($B348,Inscriptions!A$2:A$65496,Inscriptions!D$2:D$65498))","v":""},null,null,null,null,null,null,"",""]
[345,null,{"$f":"IF(ISBLANK($B349),\"\",LOOKUP($B349,Inscriptions!A$2:A$65496,Inscriptions!B$2:B$65498))","v":""},{"$f":"IF(ISBLANK($B349),\"\",LOOKUP($B349,Inscriptions!A$2:A$65496,Inscriptions!C$2:C$65498))","v":""},{"$f":"IF(ISBLANK($B349),\"\",LOOKUP($B349,Inscriptions!A$2:A$65496,Inscriptions!D$2:D$65498))","v":""},null,null,null,null,null,null,"",""]
[346,null,{"$f":"IF(ISBLANK($B350),\"\",LOOKUP($B350,Inscriptions!A$2:A$65496,Inscriptions!B$2:B$65498))","v":""},{"$f":"IF(ISBLANK($B350),\"\",LOOKUP($B350,Inscriptions!A$2:A$65496,Inscriptions!C$2:C$65498))","v":""},{"$f":"IF(ISBLANK($B350),\"\",LOOKUP($B350,Inscriptions!A$2:A$65496,Inscriptions!D$2:D$65498))","v":""},null,null,null,null,null,null,"",""]
[347,null,{"$f":"IF(ISBLANK($B351),\"\",LOOKUP($B351,Inscriptions!A$2:A$65496,Inscriptions!B$2:B$65498))","v":""},{"$f":"IF(ISBLANK($B351),\"\",LOOKUP($B351,Inscriptions!A$2:A$65496,Inscriptions!C$2:C$65498))","v":""},{"$f":"IF(ISBLANK($B351),\"\",LOOKUP($B351,Inscriptions!A$2:A$65496,Inscriptions!D$2:D$65498))","v":""},null,null,null,null,null,null,"",""]
[348,null,{"$f":"IF(ISBLANK($B352),\"\",LOOKUP($B352,Inscriptions!A$2:A$65496,Inscriptions!B$2:B$65498))","v":""},{"$f":"IF(ISBLANK($B352),\"\",LOOKUP($B352,Inscriptions!A$2:A$65496,Inscriptions!C$2:C$65498))","v":""},{"$f":"IF(ISBLANK($B352),\"\",LOOKUP($B352,Inscriptions!A$2:A$65496,Inscriptions!D$2:D$65498))","v":""},null,null,null,null,null,null,"",""]
[349,null,{"$f":"IF(ISBLANK($B353),\"\",LOOKUP($B353,Inscriptions!A$2:A$65496,Inscriptions!B$2:B$65498))","v":""},{"$f":"IF(ISBLANK($B353),\"\",LOOKUP($B353,Inscriptions!A$2:A$65496,Inscriptions!C$2:C$65498))","v":""},{"$f":"IF(ISBLANK($B353),\"\",LOOKUP($B353,Inscriptions!A$2:A$65496,Inscriptions!D$2:D$65498))","v":""},null,null,null,null,null,null,"",""]
[350,null,{"$f":"IF(ISBLANK($B354),\"\",LOOKUP($B354,Inscriptions!A$2:A$65496,Inscriptions!B$2:B$65498))","v":""},{"$f":"IF(ISBLANK($B354),\"\",LOOKUP($B354,Inscriptions!A$2:A$65496,Inscriptions!C$2:C$65498))","v":""},{"$f":"IF(ISBLANK($B354),\"\",LOOKUP($B354,Inscriptions!A$2:A$65496,Inscriptions!D$2:D$65498))","v":""},null,null,null,null,null,null,"",""]

{"sheet":"C8 BEF CC","index":10,"n_rows":354,"n_cols":13,"rows_kept":354,"cut":false,"hidden":false,"merged":[[0,0,0,7],[1,0,1,7],[2,5,2,6]]}
["CROSS REGIONAL FSGT - STAINS - 18/01/2015"]
["BENJAMINES - CROSS COURT  = 2 500 mètres"]
[]
["PLACE","DOSSARD","NOM / PRENOM","CAT","CLUB","BEF","CC","TEMPS","h","m","s",2500,"m"]
[1,613,{"$f":"IF(ISBLANK($B5),\"\",LOOKUP($B5,Inscriptions!A$2:A$65496,Inscriptions!B$2:B$65498))","v":"SOTO TANGUY"},{"$f":"IF(ISBLANK($B5),\"\",LOOKUP($B5,Inscriptions!A$2:A$65496,Inscriptions!C$2:C$65498))","v":"S1M"},{"$f":"IF(ISBLANK($B5),\"\",LOOKUP($B5,Inscriptions!A$2:A$65496,Inscriptions!D$2:D$65498))","v":"CA ROMAINVILLE"},null,null,1036,{"$f":"ROUNDDOWN(H5/10000,0)","v":0},{"$f":"ROUNDDOWN((H5-I5*10000)/100,0)","v":10},{"$f":"ROUNDDOWN((H5-(I5*10000)-(J5*100)),0)","v":36},{"$f":"IF((I5+J5+K5)=0,\"\",ROUNDDOWN((L$4/((I5*3600)+(J5*60)+K5))*3.6,2))","v":14.15},{"$f":"IF(L5=\"\",\"\",\"km/h\")","v":"km/h"}]
[2,41,{"$f":"IF(ISBLANK($B6),\"\",LOOKUP($B6,Inscriptions!A$2:A$65496,Inscriptions!B$2:B$65498))","v":"MALULU KHETIA"},{"$f":"IF(ISBLANK($B6),\"\",LOOKUP($B6,Inscriptions!A$2:A$65496,Inscriptions!C$2:C$65498))","v":"BEF"},{"$f":"IF(ISBLANK($B6),\"\",LOOKUP($B6,Inscriptions!A$2:A$65496,Inscriptions!D$2:D$65498))","v":"AC BOBIGNY"},1,null,1157,{"$f":"ROUNDDOWN(H6/10000,0)","v":0},{"$f":"ROUNDDOWN((H6-I6*10000)/100,0)","v":11},{"$f":"ROUNDDOWN((H6-(I6*10000)-(J6*100)),0)","v":57},{"$f":"IF((I6+J6+K6)=0,\"\",ROUNDDOWN((L$4/((I6*3600)+(J6*60)+K6))*3.6,2))","v":12.55},{"$f":"IF(L6=\"\",\"\",\"km/h\")","v":"km/h"}]
[3,983,{"$f":"IF(ISBLANK($B7),\"\",LOOKUP($B7,Inscriptions!A$2:A$65496,Inscriptions!B$2:B$65498))","v":"OUSSOUKPEVI MARYAME"},{"$f":"IF(ISBLANK($B7),\"\",LOOKUP($B7,Inscriptions!A$2:A$65496,Inscriptions!C$2:C$65498))","v":"BEF"},{"$f":"IF(ISBLANK($B7),\"\",LOOKUP($B7,Inscriptions!A$2:A$65496,Inscriptions!D$2:D$65498))","v":"CSM GENNEVILLIERS"},2,null,1231,0,12,31,11.98,"km/h"]
[4,1089,{"$f":"IF(ISBLANK($B8),\"\",LOOKUP($B8,Inscriptions!A$2:A$65496,Inscriptions!B$2:B$65498))","v":"GICQUEL MARINA"},{"$f":"IF(ISBLANK($B8),\"\",LOOKUP($B8,Inscriptions!A$2:A$65496,Inscriptions!C$2:C$65498))","v":"BEF"},{"$f":"IF(ISBLANK($B8),\"\",LOOKUP($B8,Inscriptions!A$2:A$65496,Inscriptions!D$2:D$65498))","v":"ES STAINS"},3,null,1233,0,12,33,11.95,"km/h"]
[5,2159,{"$f":"IF(ISBLANK($B9),\"\",LOOKUP($B9,Inscriptions!A$2:A$65496,Inscriptions!B$2:B$65498))","v":"DIANE MADY"},{"$f":"IF(ISBLANK($B9),\"\",LOOKUP($B9,Inscriptions!A$2:A$65496,Inscriptions!C$2:C$65498))","v":"BEF"},{"$f":"IF(ISBLANK($B9),\"\",LOOKUP($B9,Inscriptions!A$2:A$65496,Inscriptions!D$2:D$65498))","v":"USMA ST OUEN"},4,null,1303,0,13,3,11.49,"km/h"]
[6,2368,{"$f":"IF(ISBLANK($B10),\"\",LOOKUP($B10,Inscriptions!A$2:A$65496,Inscriptions!B$2:B$65498))","v":"MBUYI HELOÏME"},{"$f":"IF(ISBLANK($B10),\"\",LOOKUP($B10,Inscriptions!A$2:A$65496,Inscriptions!C$2:C$65498))","v":"BEF"},{"$f":"IF(ISBLANK($B10),\"\",LOOKUP($B10,Inscriptions!A$2:A$65496,Inscriptions!D$2:D$65498))","v":"ES STAINS"},5,null,1307,0,13,7,11.43,"km/h"]
[7,1471,{"$f":"IF(ISBLANK($B11),\"\",LOOKUP($B11,Inscriptions!A$2:A$65496,Inscriptions!B$2:B$65498))","v":"TEQUI ALICE"},{"$f":"IF(ISBLANK($B11),\"\",LOOKUP($B11,Inscriptions!A$2:A$65496,Inscriptions!C$2:C$65498))","v":"BEF"},{"$f":"IF(ISBLANK($B11),\"\",LOOKUP($B11,Inscriptions!A$2:A$65496,Inscriptions!D$2:D$65498))","v":"NOISY LE SEC ATHLETISME"},6,null,1308,0,13,8,11.42,"km/h"]
[8,2357,{"$f":"IF(ISBLANK($B12),\"\",LOOKUP($B12,Inscriptions!A$2:A$65496,Inscriptions!B$2:B$65498))","v":"AKENNAD ASSIA"},{"$f":"IF(ISBLANK($B12),\"\",LOOKUP($B12,Inscriptions!A$2:A$65496,Inscriptions!C$2:C$65498))","v":"BEF"},{"$f":"IF(ISBLANK($B12),\"\",LOOKUP($B12,Inscriptions!A$2:A$65496,Inscriptions!D$2:D$65498))","v":"COM ARGENTEUIL"},7,null,1324,0,13,24,11.19,"km/h"]
[9,1192,{"$f":"IF(ISBLANK($B13),\"\",LOOKUP($B13,Inscriptions!A$2:A$65496,Inscriptions!B$2:B$65498))","v":"DUQUENNE CHLOÉE"},{"$f":"IF(ISBLANK($B13),\"\",LOOKUP($B13,Inscriptions!A$2:A$65496,Inscriptions!C$2:C$65498))","v":"BEF"},{"$f":"IF(ISBLANK($B13),\"\",LOOKUP($B13,Inscriptions!A$2:A$65496,Inscriptions!D$2:D$65498))","v":"ES VITRY"},8,null,1330,0,13,30,11.11,"km/h"]
[10,632,{"$f":"IF(ISBLANK($B14),\"\",LOOKUP($B14,Inscriptions!A$2:A$65496,Inscriptions!B$2:B$65498))","v":"CHOUAOUI ASYA"},{"$f":"IF(ISBLANK($B14),\"\",LOOKUP($B14,Inscriptions!A$2:A$65496,Inscriptions!C$2:C$65498))","v":"BEM"},{"$f":"IF(ISBLANK($B14),\"\",LOOKUP($B14,Inscriptions!A$2:A$65496,Inscriptions!D$2:D$65498))","v":"CM AUBERVILLIERS ATHLETISME"},null,null,1352,0,13,52,10.81,"km/h"]
[11,1365,{"$f":"IF(ISBLANK($B15),\"\",LOOKUP($B15,Inscriptions!A$2:A$65496,Inscriptions!B$2:B$65498))","v":"DESCOUTURE CHARLOTTE"},{"$f":"IF(ISBLANK($B15),\"\",LOOKUP($B15,Inscriptions!A$2:A$65496,Inscriptions!C$2:C$65498))","v":"BEF"},{"$f":"IF(ISBLANK($B15),\"\",LOOKUP($B15,Inscriptions!A$2:A$65496,Inscriptions!D$2:D$65498))","v":"NOISY LE SEC ATHLETISME"},9,null,1400,0,14,0,10.71,"km/h"]
[12,2184,{"$f":"IF(ISBLANK($B16),\"\",LOOKUP($B16,Inscriptions!A$2:A$65496,Inscriptions!B$2:B$65498))","v":"LEGENDRE SORAYA"},{"$f":"IF(ISBLANK($B16),\"\",LOOKUP($B16,Inscriptions!A$2:A$65496,Inscriptions!C$2:C$65498))","v":"BEF"},{"$f":"IF(ISBLANK($B16),\"\",LOOKUP($B16,Inscriptions!A$2:A$65496,Inscriptions!D$2:D$65498))","v":"USMA ST OUEN"},10,null,1403,0,14,3,10.67,"km/h"]
[13,851,{"$f":"IF(ISBLANK($B17),\"\",LOOKUP($B17,Inscriptions!A$2:A$65496,Inscriptions!B$2:B$65498))","v":"MARTIGNE AURELIE"},{"$f":"IF(ISBLANK($B17),\"\",LOOKUP($B17,Inscriptions!A$2:A$65496,Inscriptions!C$2:C$65498))","v":"BEF"},{"$f":"IF(ISBLANK($B17),\"\",LOOKUP($B17,Inscriptions!A$2:A$65496,Inscriptions!D$2:D$65498))","v":"CS BRETIGNY ATHLETISME"},11,null,1404,0,14,4,10.66,"km/h"]
[14,1,{"$f":"IF(ISBLANK($B18),\"\",LOOKUP($B18,Inscriptions!A$2:A$65496,Inscriptions!B$2:B$65498))","v":"ABDERRAHMANE DOUNIA"},{"$f":"IF(ISBLANK($B18),\"\",LOOKUP($B18,Inscriptions!A$2:A$65496,Inscriptions!C$2:C$65498))","v":"BEF"},{"$f":"IF(ISBLANK($B18),\"\",LOOKUP($B18,Inscriptions!A$2:A$65496,Inscriptions!D$2:D$65498))","v":"AC BOBIGNY"},12,null,1431,0,14,31,10.33,"km/h"]
[15,4,{"$f":"IF(ISBLANK($B19),\"\",LOOKUP($B19,Inscriptions!A$2:A$65496,Inscriptions!B$2:B$65498))","v":"AIT MEDJBER SYLIA"},{"$f":"IF(ISBLANK($B19),\"\",LOOKUP($B19,Inscriptions!A$2:A$65496,Inscriptions!C$2:C$65498))","v":"BEF"},{"$f":"IF(ISBLANK($B19),\"\",LOOKUP($B19,Inscriptions!A$2:A$65496,Inscriptions!D$2:D$65498))","v":"AC BOBIGNY"},13,null,1437,0,14,37,10.26,"km/h"]
[16,952,{"$f":"IF(ISBLANK($B20),\"\",LOOKUP($B20,Inscriptions!A$2:A$65496,Inscriptions!B$2:B$65498))","v":"DARTOIS MÉRYL"},{"$f":"IF(ISBLANK($B20),\"\",LOOKUP($B20,Inscriptions!A$2:A$65496,Inscriptions!C$2:C$65498))","v":"BEF"},{"$f":"IF(ISBLANK($B20),\"\",LOOKUP($B20,Inscriptions!A$2:A$65496,Inscriptions!D$2:D$65498))","v":"CSM GENNEVILLIERS"},14,null,1447,0,14,47,10.14,"km/h"]
[17,15,{"$f":"IF(ISBLANK($B21),\"\",LOOKUP($B21,Inscriptions!A$2:A$65496,Inscriptions!B$2:B$65498))","v":"BOUAICH THAYRI"},{"$f":"IF(ISBLANK($B21),\"\",LOOKUP($B21,Inscriptions!A$2:A$65496,Inscriptions!C$2:C$65498))","v":"BEF"},{"$f":"IF(ISBLANK($B21),\"\",LOOKUP($B21,Inscriptions!A$2:A$65496,Inscriptions!D$2:D$65498))","v":"AC BOBIGNY"},15,null,1503,0,15,3,9.9600000000000009,"km/h"]
[18,446,{"$f":"IF(ISBLANK($B22),\"\",LOOKUP($B22,Inscriptions!A$2:A$65496,Inscriptions!B$2:B$65498))","v":"NEVES SIMOES KATIA"},{"$f":"IF(ISBLANK($B22),\"\",LOOKUP($B22,Inscriptions!A$2:A$65496,Inscriptions!C$2:C$65498))","v":"BEF"},{"$f":"IF(ISBLANK($B22),\"\",LOOKUP($B22,Inscriptions!A$2:A$65496,Inscriptions!D$2:D$65498))","v":"ATHLE LE BOURGET DRANCY DUGNY"},16,null,1503,0,15,3,9.9600000000000009,"km/h"]
[19,1482,{"$f":"IF(ISBLANK($B23),\"\",LOOKUP($B23,Inscriptions!A$2:A$65496,Inscriptions!B$2:B$65498))","v":"YVONNET APOLLINE"},{"$f":"IF(ISBLANK($B23),\"\",LOOKUP($B23,Inscriptions!A$2:A$65496,Inscriptions!C$2:C$65498))","v":"BEF"},{"$f":"IF(ISBLANK($B23),\"\",LOOKUP($B23,Inscriptions!A$2:A$65496,Inscriptions!D$2:D$65498))","v":"NOISY LE SEC ATHLETISME"},17,null,1517,0,15,17,9.81,"km/h"]
[20,121,{"$f":"IF(ISBLANK($B24),\"\",LOOKUP($B24,Inscriptions!A$2:A$65496,Inscriptions!B$2:B$65498))","v":"KNOPF ELORA"},{"$f":"IF(ISBLANK($B24),\"\",LOOKUP($B24,Inscriptions!A$2:A$65496,Inscriptions!C$2:C$65498))","v":"BEF"},{"$f":"IF(ISBLANK($B24),\"\",LOOKUP($B24,Inscriptions!A$2:A$65496,Inscriptions!D$2:D$65498))","v":"ACM AUBERVILLIERS"},18,null,1526,0,15,26,9.7100000000000009,"km/h"]
[21,2370,{"$f":"IF(ISBLANK($B25),\"\",LOOKUP($B25,Inscriptions!A$2:A$65496,Inscriptions!B$2:B$65498))","v":"LIMAGE JESSY"},{"$f":"IF(ISBLANK($B25),\"\",LOOKUP($B25,Inscriptions!A$2:A$65496,Inscriptions!C$2:C$65498))","v":"BEF"},{"$f":"IF(ISBLANK($B25),\"\",LOOKUP($B25,Inscriptions!A$2:A$65496,Inscriptions!D$2:D$65498))","v":"ES STAINS"},19,null,1542,0,15,42,9.5500000000000007,"km/h"]
[22,435,{"$f":"IF(ISBLANK($B26),\"\",LOOKUP($B26,Inscriptions!A$2:A$65496,Inscriptions!B$2:B$65498))","v":"MALONGA- BAYINA BITCHOUA"},{"$f":"IF(ISBLANK($B26),\"\",LOOKUP($B26,Inscriptions!A$2:A$65496,Inscriptions!C$2:C$65498))","v":"BEF"},{"$f":"IF(ISBLANK($B26),\"\",LOOKUP($B26,Inscriptions!A$2:A$65496,Inscriptions!D$2:D$65498))","v":"ATHLE LE BOURGET DRANCY DUGNY"},20,null,1545,0,15,45,9.52,"km/h"]
[23,52,{"$f":"IF(ISBLANK($B27),\"\",LOOKUP($B27,Inscriptions!A$2:A$65496,Inscriptions!B$2:B$65498))","v":"NDOSALA NOLWENN"},{"$f":"IF(ISBLANK($B27),\"\",LOOKUP($B27,Inscriptions!A$2:A$65496,Inscriptions!C$2:C$65498))","v":"BEF"},{"$f":"IF(ISBLANK($B27),\"\",LOOKUP($B27,Inscriptions!A$2:A$65496,Inscriptions!D$2:D$65498))","v":"AC BOBIGNY"},21,null,1551,0,15,51,9.4600000000000009,"km/h"]
[24,422,{"$f":"IF(ISBLANK($B28),\"\",LOOKUP($B28,Inscriptions!A$2:A$65496,Inscriptions!B$2:B$65498))","v":"KONTE HAROUMA"},{"$f":"IF(ISBLANK($B28),\"\",LOOKUP($B28,Inscriptions!A$2:A$65496,Inscriptions!C$2:C$65498))","v":"BEF"},{"$f":"IF(ISBLANK($B28),\"\",LOOKUP($B28,Inscriptions!A$2:A$65496,Inscriptions!D$2:D$65498))","v":"ATHLE LE BOURGET DRANCY DUGNY"},22,null,1620,0,16,20,9.18,"km/h"]
[25,2179,{"$f":"IF(ISBLANK($B29),\"\",LOOKUP($B29,Inscriptions!A$2:A$65496,Inscriptions!B$2:B$65498))","v":"KAMENI DE DJANI POUASSI SUEVA"},{"$f":"IF(ISBLANK($B29),\"\",LOOKUP($B29,Inscriptions!A$2:A$65496,Inscriptions!C$2:C$65498))","v":"BEF"},{"$f":"IF(ISBLANK($B29),\"\",LOOKUP($B29,Inscriptions!A$2:A$65496,Inscriptions!D$2:D$65498))","v":"USMA ST OUEN"},23,null,1702,0,17,2,8.8000000000000007,"km/h"]
[26,889,{"$f":"IF(ISBLANK($B30),\"\",LOOKUP($B30,Inscriptions!A$2:A$65496,Inscriptions!B$2:B$65498))","v":"PELTAN ALIX"},{"$f":"IF(ISBLANK($B30),\"\",LOOKUP($B30,Inscriptions!A$2:A$65496,Inscriptions!C$2:C$65498))","v":"BEF"},{"$f":"IF(ISBLANK($B30),\"\",LOOKUP($B30,Inscriptions!A$2:A$65496,Inscriptions!D$2:D$65498))","v":"CS BRETIGNY ATHLETISME"},24,null,1715,0,17,15,8.69,"km/h"]
[27,717,{"$f":"IF(ISBLANK($B31),\"\",LOOKUP($B31,Inscriptions!A$2:A$65496,Inscriptions!B$2:B$65498))","v":"MALACKY SAMUELLA"},{"$f":"IF(ISBLANK($B31),\"\",LOOKUP($B31,Inscriptions!A$2:A$65496,Inscriptions!C$2:C$65498))","v":"BEF"},{"$f":"IF(ISBLANK($B31),\"\",LOOKUP($B31,Inscriptions!A$2:A$65496,Inscriptions!D$2:D$65498))","v":"COM ARGENTEUIL"},25,null,1733,0,17,33,8.5399999999999991,"km/h"]
[28,461,{"$f":"IF(ISBLANK($B32),\"\",LOOKUP($B32,Inscriptions!A$2:A$65496,Inscriptions!B$2:B$65498))","v":"SAMGARE MALADO"},{"$f":"IF(ISBLANK($B32),\"\",LOOKUP($B32,Inscriptions!A$2:A$65496,Inscriptions!C$2:C$65498))","v":"BEF"},{"$f":"IF(ISBLANK($B32),\"\",LOOKUP($B32,Inscriptions!A$2:A$65496,Inscriptions!D$2:D$65498))","v":"ATHLE LE BOURGET DRANCY DUGNY"},26,null,1737,0,17,37,8.51,"km/h"]
[29,1065,{"$f":"IF(ISBLANK($B33),\"\",LOOKUP($B33,Inscriptions!A$2:A$65496,Inscriptions!B$2:B$65498))","v":"DEMBELE FATIMATA"},{"$f":"IF(ISBLANK($B33),\"\",LOOKUP($B33,Inscriptions!A$2:A$65496,Inscriptions!C$2:C$65498))","v":"BEF"},{"$f":"IF(ISBLANK($B33),\"\",LOOKUP($B33,Inscriptions!A$2:A$65496,Inscriptions!D$2:D$65498))","v":"ES STAINS"},27,null,1741,0,17,41,8.48,"km/h"]
[30,1291,{"$f":"IF(ISBLANK($B34),\"\",LOOKUP($B34,Inscriptions!A$2:A$65496,Inscriptions!B$2:B$65498))","v":"ZIDANI ALYA"},{"$f":"IF(ISBLANK($B34),\"\",LOOKUP($B34,Inscriptions!A$2:A$65496,Inscriptions!C$2:C$65498))","v":"BEF"},{"$f":"IF(ISBLANK($B34),\"\",LOOKUP($B34,Inscriptions!A$2:A$65496,Inscriptions!D$2:D$65498))","v":"ES VITRY"},28,null,1753,0,17,53,8.3800000000000008,"km/h"]
[31,1450,{"$f":"IF(ISBLANK($B35),\"\",LOOKUP($B35,Inscriptions!A$2:A$65496,Inscriptions!B$2:B$65498))","v":"RODRIGUES ELUISA"},{"$f":"IF(ISBLANK($B35),\"\",LOOKUP($B35,Inscriptions!A$2:A$65496,Inscriptions!C$2:C$65498))","v":"BEF"},{"$f":"IF(ISBLANK($B35),\"\",LOOKUP($B35,Inscriptions!A$2:A$65496,Inscriptions!D$2:D$65498))","v":"NOISY LE SEC ATHLETISME"},29,null,1808,0,18,8,8.27,"km/h"]
[32,950,{"$f":"IF(ISBLANK($B36),\"\",LOOKUP($B36,Inscriptions!A$2:A$65496,Inscriptions!B$2:B$65498))","v":"CRISAN JOANA"},{"$f":"IF(ISBLANK($B36),\"\",LOOKUP($B36,Inscriptions!A$2:A$65496,Inscriptions!C$2:C$65498))","v":"BEF"},{"$f":"IF(ISBLANK($B36),\"\",LOOKUP($B36,Inscriptions!A$2:A$65496,Inscriptions!D$2:D$65498))","v":"CSM GENNEVILLIERS"},30,null,1840,0,18,40,8.0299999999999994,"km/h"]
[33,1354,{"$f":"IF(ISBLANK($B37),\"\",LOOKUP($B37,Inscriptions!A$2:A$65496,Inscriptions!B$2:B$65498))","v":"BOURASSIN CLARA"},{"$f":"IF(ISBLANK($B37),\"\",LOOKUP($B37,Inscriptions!A$2:A$65496,Inscriptions!C$2:C$65498))","v":"BEF"},{"$f":"IF(ISBLANK($B37),\"\",LOOKUP($B37,Inscriptions!A$2:A$65496,Inscriptions!D$2:D$65498))","v":"NOISY LE SEC ATHLETISME"},31,null,1904,0,19,4,7.86,"km/h"]
[34,1635,{"$f":"IF(ISBLANK($B38),\"\",LOOKUP($B38,Inscriptions!A$2:A$65496,Inscriptions!B$2:B$65498))","v":"DECADE LEYA"},{"$f":"IF(ISBLANK($B38),\"\",LOOKUP($B38,Inscriptions!A$2:A$65496,Inscriptions!C$2:C$65498))","v":"BEF"},{"$f":"IF(ISBLANK($B38),\"\",LOOKUP($B38,Inscriptions!A$2:A$65496,Inscriptions!D$2:D$65498))","v":"TREMBLAY AC"},32,null,1911,0,19,11,7.81,"km/h"]
[35,2359,{"$f":"IF(ISBLANK($B39),\"\",LOOKUP($B39,Inscriptions!A$2:A$65496,Inscriptions!B$2:B$65498))","v":"MARCOUS PIERRE"},{"$f":"IF(ISBLANK($B39),\"\",LOOKUP($B39,Inscriptions!A$2:A$65496,Inscriptions!C$2:C$65498))","v":"S1M"},{"$f":"IF(ISBLANK($B39),\"\",LOOKUP($B39,Inscriptions!A$2:A$65496,Inscriptions!D$2:D$65498))","v":"COM ARGENTEUIL"},null,null,1935,0,19,35,7.65,"km/h"]
[36,1096,{"$f":"IF(ISBLANK($B40),\"\",LOOKUP($B40,Inscriptions!A$2:A$65496,Inscriptions!B$2:B$65498))","v":"KARAMOKO MARIAM"},{"$f":"IF(ISBLANK($B40),\"\",LOOKUP($B40,Inscriptions!A$2:A$65496,Inscriptions!C$2:C$65498))","v":"BEF"},{"$f":"IF(ISBLANK($B40),\"\",LOOKUP($B40,Inscriptions!A$2:A$65496,Inscriptions!D$2:D$65498))","v":"ES STAINS"},33,null,null,0,0,0,"",""]
[37,1099,{"$f":"IF(ISBLANK($B41),\"\",LOOKUP($B41,Inscriptions!A$2:A$65496,Inscriptions!B$2:B$65498))","v":"KORE WAHI REBECCA"},{"$f":"IF(ISBLANK($B41),\"\",LOOKUP($B41,Inscriptions!A$2:A$65496,Inscriptions!C$2:C$65498))","v":"BEF"},{"$f":"IF(ISBLANK($B41),\"\",LOOKUP($B41,Inscriptions!A$2:A$65496,Inscriptions!D$2:D$65498))","v":"ES STAINS"},34,null,null,0,0,0,"",""]
[38,1378,{"$f":"IF(ISBLANK($B42),\"\",LOOKUP($B42,Inscriptions!A$2:A$65496,Inscriptions!B$2:B$65498))","v":"ETOUPE OCEANNE"},{"$f":"IF(ISBLANK($B42),\"\",LOOKUP($B42,Inscriptions!A$2:A$65496,Inscriptions!C$2:C$65498))","v":"BEF"},{"$f":"IF(ISBLANK($B42),\"\",LOOKUP($B42,Inscriptions!A$2:A$65496,Inscriptions!D$2:D$65498))","v":"NOISY LE SEC ATHLETISME"},35,null,null,0,0,0,"",""]
[39,354,{"$f":"IF(ISBLANK($B43),\"\",LOOKUP($B43,Inscriptions!A$2:A$65496,Inscriptions!B$2:B$65498))","v":"BOUGHAZI MONIA"},{"$f":"IF(ISBLANK($B43),\"\",LOOKUP($B43,Inscriptions!A$2:A$65496,Inscriptions!C$2:C$65498))","v":"BEF"},{"$f":"IF(ISBLANK($B43),\"\",LOOKUP($B43,Inscriptions!A$2:A$65496,Inscriptions!D$2:D$65498))","v":"ATHLE LE BOURGET DRANCY DUGNY"},36,null,null,0,0,0,"",""]
[40,2153,{"$f":"IF(ISBLANK($B44),\"\",LOOKUP($B44,Inscriptions!A$2:A$65496,Inscriptions!B$2:B$65498))","v":"DABO BINETA"},{"$f":"IF(ISBLANK($B44),\"\",LOOKUP($B44,Inscriptions!A$2:A$65496,Inscriptions!C$2:C$65498))","v":"BEF"},{"$f":"IF(ISBLANK($B44),\"\",LOOKUP($B44,Inscriptions!A$2:A$65496,Inscriptions!D$2:D$65498))","v":"USMA ST OUEN"},37,null,null,0,0,0,"",""]
[41,1466,{"$f":"IF(ISBLANK($B45),\"\",LOOKUP($B45,Inscriptions!A$2:A$65496,Inscriptions!B$2:B$65498))","v":"SONKON'GUYEN HANYSSA"},{"$f":"IF(ISBLANK($B45),\"\",LOOKUP($B45,Inscriptions!A$2:A$65496,Inscriptions!C$2:C$65498))","v":"BEF"},{"$f":"IF(ISBLANK($B45),\"\",LOOKUP($B45,Inscriptions!A$2:A$65496,Inscriptions!D$2:D$65498))","v":"NOISY LE SEC ATHLETISME"},38,null,null,0,0,0,"",""]
[42,2213,{"$f":"IF(ISBLANK($B46),\"\",LOOKUP($B46,Inscriptions!A$2:A$65496,Inscriptions!B$2:B$65498))","v":"ZERKANI KENZA"},{"$f":"IF(ISBLANK($B46),\"\",LOOKUP($B46,Inscriptions!A$2:A$65496,Inscriptions!C$2:C$65498))","v":"BEF"},{"$f":"IF(ISBLANK($B46),\"\",LOOKUP($B46,Inscriptions!A$2:A$65496,Inscriptions!D$2:D$65498))","v":"USMA ST OUEN"},39,null,null,0,0,0,"",""]
[43,2154,{"$f":"IF(ISBLANK($B47),\"\",LOOKUP($B47,Inscriptions!A$2:A$65496,Inscriptions!B$2:B$65498))","v":"DEMBELE AWA"},{"$f":"IF(ISBLANK($B47),\"\",LOOKUP($B47,Inscriptions!A$2:A$65496,Inscriptions!C$2:C$65498))","v":"BEF"},{"$f":"IF(ISBLANK($B47),\"\",LOOKUP($B47,Inscriptions!A$2:A$65496,Inscriptions!D$2:D$65498))","v":"USMA ST OUEN"},40,null,null,0,0,0,"",""]
[44,995,{"$f":"IF(ISBLANK($B48),\"\",LOOKUP($B48,Inscriptions!A$2:A$65496,Inscriptions!B$2:B$65498))","v":"TITRAOUI FATIHA"},{"$f":"IF(ISBLANK($B48),\"\",LOOKUP($B48,Inscriptions!A$2:A$65496,Inscriptions!C$2:C$65498))","v":"BEF"},{"$f":"IF(ISBLANK($B48),\"\",LOOKUP($B48,Inscriptions!A$2:A$65496,Inscriptions!D$2:D$65498))","v":"CSM GENNEVILLIERS"},41,null,null,0,0,0,"",""]
[45,990,{"$f":"IF(ISBLANK($B49),\"\",LOOKUP($B49,Inscriptions!A$2:A$65496,Inscriptions!B$2:B$65498))","v":"SEHIL MAÏSSA"},{"$f":"IF(ISBLANK($B49),\"\",LOOKUP($B49,Inscriptions!A$2:A$65496,Inscriptions!C$2:C$65498))","v":"BEF"},{"$f":"IF(ISBLANK($B49),\"\",LOOKUP($B49,Inscriptions!A$2:A$65496,Inscriptions!D$2:D$65498))","v":"CSM GENNEVILLIERS"},42,null,null,0,0,0,"",""]
[46,1405,{"$f":"IF(ISBLANK($B50),\"\",LOOKUP($B50,Inscriptions!A$2:A$65496,Inscriptions!B$2:B$65498))","v":"KONDE KHADY"},{"$f":"IF(ISBLANK($B50),\"\",LOOKUP($B50,Inscriptions!A$2:A$65496,Inscriptions!C$2:C$65498))","v":"BEF"},{"$f":"IF(ISBLANK($B50),\"\",LOOKUP($B50,Inscriptions!A$2:A$65496,Inscriptions!D$2:D$65498))","v":"NOISY LE SEC ATHLETISME"},43,null,null,0,0,0,"",""]
[47,null,{"$f":"IF(ISBLANK($B51),\"\",LOOKUP($B51,Inscriptions!A$2:A$65496,Inscriptions!B$2:B$65498))","v":""},{"$f":"IF(ISBLANK($B51),\"\",LOOKUP($B51,Inscriptions!A$2:A$65496,Inscriptions!C$2:C$65498))","v":""},{"$f":"IF(ISBLANK($B51),\"\",LOOKUP($B51,Inscriptions!A$2:A$65496,Inscriptions!D$2:D$65498))","v":""},null,null,null,0,0,0,"",""]
[48,null,{"$f":"IF(ISBLANK($B52),\"\",LOOKUP($B52,Inscriptions!A$2:A$65496,Inscriptions!B$2:B$65498))","v":""},{"$f":"IF(ISBLANK($B52),\"\",LOOKUP($B52,Inscriptions!A$2:A$65496,Inscriptions!C$2:C$65498))","v":""},{"$f":"IF(ISBLANK($B52),\"\",LOOKUP($B52,Inscriptions!A$2:A$65496,Inscriptions!D$2:D$65498))","v":""},null,null,null,0,0,0,"",""]
[49,null,{"$f":"IF(ISBLANK($B53),\"\",LOOKUP($B53,Inscriptions!A$2:A$65496,Inscriptions!B$2:B$65498))","v":""},{"$f":"IF(ISBLANK($B53),\"\",LOOKUP($B53,Inscriptions!A$2:A$65496,Inscriptions!C$2:C$65498))","v":""},{"$f":"IF(ISBLANK($B53),\"\",LOOKUP($B53,Inscriptions!A$2:A$65496,Inscriptions!D$2:D$65498))","v":""},null,null,null,0,0,0,"",""]
[50,null,{"$f":"IF(ISBLANK($B54),\"\",LOOKUP($B54,Inscriptions!A$2:A$65496,Inscriptions!B$2:B$65498))","v":""},{"$f":"IF(ISBLANK($B54),\"\",LOOKUP($B54,Inscriptions!A$2:A$65496,Inscriptions!C$2:C$65498))","v":""},{"$f":"IF(ISBLANK($B54),\"\",LOOKUP($B54,Inscriptions!A$2:A$65496,Inscriptions!D$2:D$65498))","v":""},null,null,null,0,0,0,"",""]
[51,null,{"$f":"IF(ISBLANK($B55),\"\",LOOKUP($B55,Inscriptions!A$2:A$65496,Inscriptions!B$2:B$65498))","v":""},{"$f":"IF(ISBLANK($B55),\"\",LOOKUP($B55,Inscriptions!A$2:A$65496,Inscriptions!C$2:C$65498))","v":""},{"$f":"IF(ISBLANK($B55),\"\",LOOKUP($B55,Inscriptions!A$2:A$65496,Inscriptions!D$2:D$65498))","v":""},null,null,null,0,0,0,"",""]
[52,null,{"$f":"IF(ISBLANK($B56),\"\",LOOKUP($B56,Inscriptions!A$2:A$65496,Inscriptions!B$2:B$65498))","v":""},{"$f":"IF(ISBLANK($B56),\"\",LOOKUP($B56,Inscriptions!A$2:A$65496,Inscriptions!C$2:C$65498))","v":""},{"$f":"IF(ISBLANK($B56),\"\",LOOKUP($B56,Inscriptions!A$2:A$65496,Inscriptions!D$2:D$65498))","v":""},null,null,null,0,0,0,"",""]
[53,null,{"$f":"IF(ISBLANK($B57),\"\",LOOKUP($B57,Inscriptions!A$2:A$65496,Inscriptions!B$2:B$65498))","v":""},{"$f":"IF(ISBLANK($B57),\"\",LOOKUP($B57,Inscriptions!A$2:A$65496,Inscriptions!C$2:C$65498))","v":""},{"$f":"IF(ISBLANK($B57),\"\",LOOKUP($B57,Inscriptions!A$2:A$65496,Inscriptions!D$2:D$65498))","v":""},null,null,null,0,0,0,"",""]
[54,null,{"$f":"IF(ISBLANK($B58),\"\",LOOKUP($B58,Inscriptions!A$2:A$65496,Inscriptions!B$2:B$65498))","v":""},{"$f":"IF(ISBLANK($B58),\"\",LOOKUP($B58,Inscriptions!A$2:A$65496,Inscriptions!C$2:C$65498))","v":""},{"$f":"IF(ISBLANK($B58),\"\",LOOKUP($B58,Inscriptions!A$2:A$65496,Inscriptions!D$2:D$65498))","v":""},null,null,null,0,0,0,"",""]
[55,null,{"$f":"IF(ISBLANK($B59),\"\",LOOKUP($B59,Inscriptions!A$2:A$65496,Inscriptions!B$2:B$65498))","v":""},{"$f":"IF(ISBLANK($B59),\"\",LOOKUP($B59,Inscriptions!A$2:A$65496,Inscriptions!C$2:C$65498))","v":""},{"$f":"IF(ISBLANK($B59),\"\",LOOKUP($B59,Inscriptions!A$2:A$65496,Inscriptions!D$2:D$65498))","v":""},null,null,null,0,0,0,"",""]
[56,null,{"$f":"IF(ISBLANK($B60),\"\",LOOKUP($B60,Inscriptions!A$2:A$65496,Inscriptions!B$2:B$65498))","v":""},{"$f":"IF(ISBLANK($B60),\"\",LOOKUP($B60,Inscriptions!A$2:A$65496,Inscriptions!C$2:C$65498))","v":""},{"$f":"IF(ISBLANK($B60),\"\",LOOKUP($B60,Inscriptions!A$2:A$65496,Inscriptions!D$2:D$65498))","v":""},null,null,null,0,0,0,"",""]
[57,null,{"$f":"IF(ISBLANK($B61),\"\",LOOKUP($B61,Inscriptions!A$2:A$65496,Inscriptions!B$2:B$65498))","v":""},{"$f":"IF(ISBLANK($B61),\"\",LOOKUP($B61,Inscriptions!A$2:A$65496,Inscriptions!C$2:C$65498))","v":""},{"$f":"IF(ISBLANK($B61),\"\",LOOKUP($B61,Inscriptions!A$2:A$65496,Inscriptions!D$2:D$65498))","v":""},null,null,null,0,0,0,"",""]
[58,null,{"$f":"IF(ISBLANK($B62),\"\",LOOKUP($B62,Inscriptions!A$2:A$65496,Inscriptions!B$2:B$65498))","v":""},{"$f":"IF(ISBLANK($B62),\"\",LOOKUP($B62,Inscriptions!A$2:A$65496,Inscriptions!C$2:C$65498))","v":""},{"$f":"IF(ISBLANK($B62),\"\",LOOKUP($B62,Inscriptions!A$2:A$65496,Inscriptions!D$2:D$65498))","v":""},null,null,null,0,0,0,"",""]
[59,null,{"$f":"IF(ISBLANK($B63),\"\",LOOKUP($B63,Inscriptions!A$2:A$65496,Inscriptions!B$2:B$65498))","v":""},{"$f":"IF(ISBLANK($B63),\"\",LOOKUP($B63,Inscriptions!A$2:A$65496,Inscriptions!C$2:C$65498))","v":""},{"$f":"IF(ISBLANK($B63),\"\",LOOKUP($B63,Inscriptions!A$2:A$65496,Inscriptions!D$2:D$65498))","v":""},null,null,null,0,0,0,"",""]
[60,null,{"$f":"IF(ISBLANK($B64),\"\",LOOKUP($B64,Inscriptions!A$2:A$65496,Inscriptions!B$2:B$65498))","v":""},{"$f":"IF(ISBLANK($B64),\"\",LOOKUP($B64,Inscriptions!A$2:A$65496,Inscriptions!C$2:C$65498))","v":""},{"$f":"IF(ISBLANK($B64),\"\",LOOKUP($B64,Inscriptions!A$2:A$65496,Inscriptions!D$2:D$65498))","v":""},null,null,null,0,0,0,"",""]
[61,null,{"$f":"IF(ISBLANK($B65),\"\",LOOKUP($B65,Inscriptions!A$2:A$65496,Inscriptions!B$2:B$65498))","v":""},{"$f":"IF(ISBLANK($B65),\"\",LOOKUP($B65,Inscriptions!A$2:A$65496,Inscriptions!C$2:C$65498))","v":""},{"$f":"IF(ISBLANK($B65),\"\",LOOKUP($B65,Inscriptions!A$2:A$65496,Inscriptions!D$2:D$65498))","v":""},null,null,null,0,0,0,"",""]
[62,null,{"$f":"IF(ISBLANK($B66),\"\",LOOKUP($B66,Inscriptions!A$2:A$65496,Inscriptions!B$2:B$65498))","v":""},{"$f":"IF(ISBLANK($B66),\"\",LOOKUP($B66,Inscriptions!A$2:A$65496,Inscriptions!C$2:C$65498))","v":""},{"$f":"IF(ISBLANK($B66),\"\",LOOKUP($B66,Inscriptions!A$2:A$65496,Inscriptions!D$2:D$65498))","v":""},null,null,null,0,0,0,"",""]
[63,null,{"$f":"IF(ISBLANK($B67),\"\",LOOKUP($B67,Inscriptions!A$2:A$65496,Inscriptions!B$2:B$65498))","v":""},{"$f":"IF(ISBLANK($B67),\"\",LOOKUP($B67,Inscriptions!A$2:A$65496,Inscriptions!C$2:C$65498))","v":""},{"$f":"IF(ISBLANK($B67),\"\",LOOKUP($B67,Inscriptions!A$2:A$65496,Inscriptions!D$2:D$65498))","v":""},null,null,null,0,0,0,"",""]
[64,null,{"$f":"IF(ISBLANK($B68),\"\",LOOKUP($B68,Inscriptions!A$2:A$65496,Inscriptions!B$2:B$65498))","v":""},{"$f":"IF(ISBLANK($B68),\"\",LOOKUP($B68,Inscriptions!A$2:A$65496,Inscriptions!C$2:C$65498))","v":""},{"$f":"IF(ISBLANK($B68),\"\",LOOKUP($B68,Inscriptions!A$2:A$65496,Inscriptions!D$2:D$65498))","v":""},null,null,null,0,0,0,"",""]
[65,null,{"$f":"IF(ISBLANK($B69),\"\",LOOKUP($B69,Inscriptions!A$2:A$65496,Inscriptions!B$2:B$65498))","v":""},{"$f":"IF(ISBLANK($B69),\"\",LOOKUP($B69,Inscriptions!A$2:A$65496,Inscriptions!C$2:C$65498))","v":""},{"$f":"IF(ISBLANK($B69),\"\",LOOKUP($B69,Inscriptions!A$2:A$65496,Inscriptions!D$2:D$65498))","v":""},null,null,null,0,0,0,"",""]
[66,null,{"$f":"IF(ISBLANK($B70),\"\",LOOKUP($B70,Inscriptions!A$2:A$65496,Inscriptions!B$2:B$65498))","v":""},{"$f":"IF(ISBLANK($B70),\"\",LOOKUP($B70,Inscriptions!A$2:A$65496,Inscriptions!C$2:C$65498))","v":""},{"$f":"IF(ISBLANK($B70),\"\",LOOKUP($B70,Inscriptions!A$2:A$65496,Inscriptions!D$2:D$65498))","v":""},null,null,null,{"$f":"ROUNDDOWN(H70/10000,0)","v":0},{"$f":"ROUNDDOWN((H70-I70*10000)/100,0)","v":0},{"$f":"ROUNDDOWN((H70-(I70*10000)-(J70*100)),0)","v":0},{"$f":"IF((I70+J70+K70)=0,\"\",ROUNDDOWN((L$4/((I70*3600)+(J70*60)+K70))*3.6,2))","v":""},{"$f":"IF(L70=\"\",\"\",\"km/h\")","v":""}]
[67,null,{"$f":"IF(ISBLANK($B71),\"\",LOOKUP($B71,Inscriptions!A$2:A$65496,Inscriptions!B$2:B$65498))","v":""},{"$f":"IF(ISBLANK($B71),\"\",LOOKUP($B71,Inscriptions!A$2:A$65496,Inscriptions!C$2:C$65498))","v":""},{"$f":"IF(ISBLANK($B71),\"\",LOOKUP($B71,Inscriptions!A$2:A$65496,Inscriptions!D$2:D$65498))","v":""},null,null,null,0,0,0,"",""]
[68,null,{"$f":"IF(ISBLANK($B72),\"\",LOOKUP($B72,Inscriptions!A$2:A$65496,Inscriptions!B$2:B$65498))","v":""},{"$f":"IF(ISBLANK($B72),\"\",LOOKUP($B72,Inscriptions!A$2:A$65496,Inscriptions!C$2:C$65498))","v":""},{"$f":"IF(ISBLANK($B72),\"\",LOOKUP($B72,Inscriptions!A$2:A$65496,Inscriptions!D$2:D$65498))","v":""},null,null,null,0,0,0,"",""]
[69,null,{"$f":"IF(ISBLANK($B73),\"\",LOOKUP($B73,Inscriptions!A$2:A$65496,Inscriptions!B$2:B$65498))","v":""},{"$f":"IF(ISBLANK($B73),\"\",LOOKUP($B73,Inscriptions!A$2:A$65496,Inscriptions!C$2:C$65498))","v":""},{"$f":"IF(ISBLANK($B73),\"\",LOOKUP($B73,Inscriptions!A$2:A$65496,Inscriptions!D$2:D$65498))","v":""},null,null,null,0,0,0,"",""]
[70,null,{"$f":"IF(ISBLANK($B74),\"\",LOOKUP($B74,Inscriptions!A$2:A$65496,Inscriptions!B$2:B$65498))","v":""},{"$f":"IF(ISBLANK($B74),\"\",LOOKUP($B74,Inscriptions!A$2:A$65496,Inscriptions!C$2:C$65498))","v":""},{"$f":"IF(ISBLANK($B74),\"\",LOOKUP($B74,Inscriptions!A$2:A$65496,Inscriptions!D$2:D$65498))","v":""},null,null,null,0,0,0,"",""]
[71,null,{"$f":"IF(ISBLANK($B75),\"\",LOOKUP($B75,Inscriptions!A$2:A$65496,Inscriptions!B$2:B$65498))","v":""},{"$f":"IF(ISBLANK($B75),\"\",LOOKUP($B75,Inscriptions!A$2:A$65496,Inscriptions!C$2:C$65498))","v":""},{"$f":"IF(ISBLANK($B75),\"\",LOOKUP($B75,Inscriptions!A$2:A$65496,Inscriptions!D$2:D$65498))","v":""},null,null,null,0,0,0,"",""]
[72,null,{"$f":"IF(ISBLANK($B76),\"\",LOOKUP($B76,Inscriptions!A$2:A$65496,Inscriptions!B$2:B$65498))","v":""},{"$f":"IF(ISBLANK($B76),\"\",LOOKUP($B76,Inscriptions!A$2:A$65496,Inscriptions!C$2:C$65498))","v":""},{"$f":"IF(ISBLANK($B76),\"\",LOOKUP($B76,Inscriptions!A$2:A$65496,Inscriptions!D$2:D$65498))","v":""},null,null,null,0,0,0,"",""]
[73,null,{"$f":"IF(ISBLANK($B77),\"\",LOOKUP($B77,Inscriptions!A$2:A$65496,Inscriptions!B$2:B$65498))","v":""},{"$f":"IF(ISBLANK($B77),\"\",LOOKUP($B77,Inscriptions!A$2:A$65496,Inscriptions!C$2:C$65498))","v":""},{"$f":"IF(ISBLANK($B77),\"\",LOOKUP($B77,Inscriptions!A$2:A$65496,Inscriptions!D$2:D$65498))","v":""},null,null,null,0,0,0,"",""]
[74,null,{"$f":"IF(ISBLANK($B78),\"\",LOOKUP($B78,Inscriptions!A$2:A$65496,Inscriptions!B$2:B$65498))","v":""},{"$f":"IF(ISBLANK($B78),\"\",LOOKUP($B78,Inscriptions!A$2:A$65496,Inscriptions!C$2:C$65498))","v":""},{"$f":"IF(ISBLANK($B78),\"\",LOOKUP($B78,Inscriptions!A$2:A$65496,Inscriptions!D$2:D$65498))","v":""},null,null,null,0,0,0,"",""]
[75,null,{"$f":"IF(ISBLANK($B79),\"\",LOOKUP($B79,Inscriptions!A$2:A$65496,Inscriptions!B$2:B$65498))","v":""},{"$f":"IF(ISBLANK($B79),\"\",LOOKUP($B79,Inscriptions!A$2:A$65496,Inscriptions!C$2:C$65498))","v":""},{"$f":"IF(ISBLANK($B79),\"\",LOOKUP($B79,Inscriptions!A$2:A$65496,Inscriptions!D$2:D$65498))","v":""},null,null,null,0,0,0,"",""]
[76,null,{"$f":"IF(ISBLANK($B80),\"\",LOOKUP($B80,Inscriptions!A$2:A$65496,Inscriptions!B$2:B$65498))","v":""},{"$f":"IF(ISBLANK($B80),\"\",LOOKUP($B80,Inscriptions!A$2:A$65496,Inscriptions!C$2:C$65498))","v":""},{"$f":"IF(ISBLANK($B80),\"\",LOOKUP($B80,Inscriptions!A$2:A$65496,Inscriptions!D$2:D$65498))","v":""},null,null,null,0,0,0,"",""]
[77,null,{"$f":"IF(ISBLANK($B81),\"\",LOOKUP($B81,Inscriptions!A$2:A$65496,Inscriptions!B$2:B$65498))","v":""},{"$f":"IF(ISBLANK($B81),\"\",LOOKUP($B81,Inscriptions!A$2:A$65496,Inscriptions!C$2:C$65498))","v":""},{"$f":"IF(ISBLANK($B81),\"\",LOOKUP($B81,Inscriptions!A$2:A$65496,Inscriptions!D$2:D$65498))","v":""},null,null,null,0,0,0,"",""]
[78,null,{"$f":"IF(ISBLANK($B82),\"\",LOOKUP($B82,Inscriptions!A$2:A$65496,Inscriptions!B$2:B$65498))","v":""},{"$f":"IF(ISBLANK($B82),\"\",LOOKUP($B82,Inscriptions!A$2:A$65496,Inscriptions!C$2:C$65498))","v":""},{"$f":"IF(ISBLANK($B82),\"\",LOOKUP($B82,Inscriptions!A$2:A$65496,Inscriptions!D$2:D$65498))","v":""},null,null,null,0,0,0,"",""]
[79,null,{"$f":"IF(ISBLANK($B83),\"\",LOOKUP($B83,Inscriptions!A$2:A$65496,Inscriptions!B$2:B$65498))","v":""},{"$f":"IF(ISBLANK($B83),\"\",LOOKUP($B83,Inscriptions!A$2:A$65496,Inscriptions!C$2:C$65498))","v":""},{"$f":"IF(ISBLANK($B83),\"\",LOOKUP($B83,Inscriptions!A$2:A$65496,Inscriptions!D$2:D$65498))","v":""},null,null,null,0,0,0,"",""]
[80,null,{"$f":"IF(ISBLANK($B84),\"\",LOOKUP($B84,Inscriptions!A$2:A$65496,Inscriptions!B$2:B$65498))","v":""},{"$f":"IF(ISBLANK($B84),\"\",LOOKUP($B84,Inscriptions!A$2:A$65496,Inscriptions!C$2:C$65498))","v":""},{"$f":"IF(ISBLANK($B84),\"\",LOOKUP($B84,Inscriptions!A$2:A$65496,Inscriptions!D$2:D$65498))","v":""},null,null,null,0,0,0,"",""]
[81,null,{"$f":"IF(ISBLANK($B85),\"\",LOOKUP($B85,Inscriptions!A$2:A$65496,Inscriptions!B$2:B$65498))","v":""},{"$f":"IF(ISBLANK($B85),\"\",LOOKUP($B85,Inscriptions!A$2:A$65496,Inscriptions!C$2:C$65498))","v":""},{"$f":"IF(ISBLANK($B85),\"\",LOOKUP($B85,Inscriptions!A$2:A$65496,Inscriptions!D$2:D$65498))","v":""},null,null,null,0,0,0,"",""]
[82,null,{"$f":"IF(ISBLANK($B86),\"\",LOOKUP($B86,Inscriptions!A$2:A$65496,Inscriptions!B$2:B$65498))","v":""},{"$f":"IF(ISBLANK($B86),\"\",LOOKUP($B86,Inscriptions!A$2:A$65496,Inscriptions!C$2:C$65498))","v":""},{"$f":"IF(ISBLANK($B86),\"\",LOOKUP($B86,Inscriptions!A$2:A$65496,Inscriptions!D$2:D$65498))","v":""},null,null,null,0,0,0,"",""]
[83,null,{"$f":"IF(ISBLANK($B87),\"\",LOOKUP($B87,Inscriptions!A$2:A$65496,Inscriptions!B$2:B$65498))","v":""},{"$f":"IF(ISBLANK($B87),\"\",LOOKUP($B87,Inscriptions!A$2:A$65496,Inscriptions!C$2:C$65498))","v":""},{"$f":"IF(ISBLANK($B87),\"\",LOOKUP($B87,Inscriptions!A$2:A$65496,Inscriptions!D$2:D$65498))","v":""},null,null,null,0,0,0,"",""]
[84,null,{"$f":"IF(ISBLANK($B88),\"\",LOOKUP($B88,Inscriptions!A$2:A$65496,Inscriptions!B$2:B$65498))","v":""},{"$f":"IF(ISBLANK($B88),\"\",LOOKUP($B88,Inscriptions!A$2:A$65496,Inscriptions!C$2:C$65498))","v":""},{"$f":"IF(ISBLANK($B88),\"\",LOOKUP($B88,Inscriptions!A$2:A$65496,Inscriptions!D$2:D$65498))","v":""},null,null,null,0,0,0,"",""]
[85,null,{"$f":"IF(ISBLANK($B89),\"\",LOOKUP($B89,Inscriptions!A$2:A$65496,Inscriptions!B$2:B$65498))","v":""},{"$f":"IF(ISBLANK($B89),\"\",LOOKUP($B89,Inscriptions!A$2:A$65496,Inscriptions!C$2:C$65498))","v":""},{"$f":"IF(ISBLANK($B89),\"\",LOOKUP($B89,Inscriptions!A$2:A$65496,Inscriptions!D$2:D$65498))","v":""},null,null,null,0,0,0,"",""]
[86,null,{"$f":"IF(ISBLANK($B90),\"\",LOOKUP($B90,Inscriptions!A$2:A$65496,Inscriptions!B$2:B$65498))","v":""},{"$f":"IF(ISBLANK($B90),\"\",LOOKUP($B90,Inscriptions!A$2:A$65496,Inscriptions!C$2:C$65498))","v":""},{"$f":"IF(ISBLANK($B90),\"\",LOOKUP($B90,Inscriptions!A$2:A$65496,Inscriptions!D$2:D$65498))","v":""},null,null,null,0,0,0,"",""]
[87,null,{"$f":"IF(ISBLANK($B91),\"\",LOOKUP($B91,Inscriptions!A$2:A$65496,Inscriptions!B$2:B$65498))","v":""},{"$f":"IF(ISBLANK($B91),\"\",LOOKUP($B91,Inscriptions!A$2:A$65496,Inscriptions!C$2:C$65498))","v":""},{"$f":"IF(ISBLANK($B91),\"\",LOOKUP($B91,Inscriptions!A$2:A$65496,Inscriptions!D$2:D$65498))","v":""},null,null,null,0,0,0,"",""]
[88,null,{"$f":"IF(ISBLANK($B92),\"\",LOOKUP($B92,Inscriptions!A$2:A$65496,Inscriptions!B$2:B$65498))","v":""},{"$f":"IF(ISBLANK($B92),\"\",LOOKUP($B92,Inscriptions!A$2:A$65496,Inscriptions!C$2:C$65498))","v":""},{"$f":"IF(ISBLANK($B92),\"\",LOOKUP($B92,Inscriptions!A$2:A$65496,Inscriptions!D$2:D$65498))","v":""},null,null,null,0,0,0,"",""]
[89,null,{"$f":"IF(ISBLANK($B93),\"\",LOOKUP($B93,Inscriptions!A$2:A$65496,Inscriptions!B$2:B$65498))","v":""},{"$f":"IF(ISBLANK($B93),\"\",LOOKUP($B93,Inscriptions!A$2:A$65496,Inscriptions!C$2:C$65498))","v":""},{"$f":"IF(ISBLANK($B93),\"\",LOOKUP($B93,Inscriptions!A$2:A$65496,Inscriptions!D$2:D$65498))","v":""},null,null,null,0,0,0,"",""]
[90,null,{"$f":"IF(ISBLANK($B94),\"\",LOOKUP($B94,Inscriptions!A$2:A$65496,Inscriptions!B$2:B$65498))","v":""},{"$f":"IF(ISBLANK($B94),\"\",LOOKUP($B94,Inscriptions!A$2:A$65496,Inscriptions!C$2:C$65498))","v":""},{"$f":"IF(ISBLANK($B94),\"\",LOOKUP($B94,Inscriptions!A$2:A$65496,Inscriptions!D$2:D$65498))","v":""},null,null,null,0,0,0,"",""]
[91,null,{"$f":"IF(ISBLANK($B95),\"\",LOOKUP($B95,Inscriptions!A$2:A$65496,Inscriptions!B$2:B$65498))","v":""},{"$f":"IF(ISBLANK($B95),\"\",LOOKUP($B95,Inscriptions!A$2:A$65496,Inscriptions!C$2:C$65498))","v":""},{"$f":"IF(ISBLANK($B95),\"\",LOOKUP($B95,Inscriptions!A$2:A$65496,Inscriptions!D$2:D$65498))","v":""},null,null,null,0,0,0,"",""]
[92,null,{"$f":"IF(ISBLANK($B96),\"\",LOOKUP($B96,Inscriptions!A$2:A$65496,Inscriptions!B$2:B$65498))","v":""},{"$f":"IF(ISBLANK($B96),\"\",LOOKUP($B96,Inscriptions!A$2:A$65496,Inscriptions!C$2:C$65498))","v":""},{"$f":"IF(ISBLANK($B96),\"\",LOOKUP($B96,Inscriptions!A$2:A$65496,Inscriptions!D$2:D$65498))","v":""},null,null,null,0,0,0,"",""]
[93,null,{"$f":"IF(ISBLANK($B97),\"\",LOOKUP($B97,Inscriptions!A$2:A$65496,Inscriptions!B$2:B$65498))","v":""},{"$f":"IF(ISBLANK($B97),\"\",LOOKUP($B97,Inscriptions!A$2:A$65496,Inscriptions!C$2:C$65498))","v":""},{"$f":"IF(ISBLANK($B97),\"\",LOOKUP($B97,Inscriptions!A$2:A$65496,Inscriptions!D$2:D$65498))","v":""},null,null,null,0,0,0,"",""]
[94,null,{"$f":"IF(ISBLANK($B98),\"\",LOOKUP($B98,Inscriptions!A$2:A$65496,Inscriptions!B$2:B$65498))","v":""},{"$f":"IF(ISBLANK($B98),\"\",LOOKUP($B98,Inscriptions!A$2:A$65496,Inscriptions!C$2:C$65498))","v":""},{"$f":"IF(ISBLANK($B98),\"\",LOOKUP($B98,Inscriptions!A$2:A$65496,Inscriptions!D$2:D$65498))","v":""},null,null,null,0,0,0,"",""]
[95,null,{"$f":"IF(ISBLANK($B99),\"\",LOOKUP($B99,Inscriptions!A$2:A$65496,Inscriptions!B$2:B$65498))","v":""},{"$f":"IF(ISBLANK($B99),\"\",LOOKUP($B99,Inscriptions!A$2:A$65496,Inscriptions!C$2:C$65498))","v":""},{"$f":"IF(ISBLANK($B99),\"\",LOOKUP($B99,Inscriptions!A$2:A$65496,Inscriptions!D$2:D$65498))","v":""},null,null,null,0,0,0,"",""]
[96,null,{"$f":"IF(ISBLANK($B100),\"\",LOOKUP($B100,Inscriptions!A$2:A$65496,Inscriptions!B$2:B$65498))","v":""},{"$f":"IF(ISBLANK($B100),\"\",LOOKUP($B100,Inscriptions!A$2:A$65496,Inscriptions!C$2:C$65498))","v":""},{"$f":"IF(ISBLANK($B100),\"\",LOOKUP($B100,Inscriptions!A$2:A$65496,Inscriptions!D$2:D$65498))","v":""},null,null,null,0,0,0,"",""]
[97,null,{"$f":"IF(ISBLANK($B101),\"\",LOOKUP($B101,Inscriptions!A$2:A$65496,Inscriptions!B$2:B$65498))","v":""},{"$f":"IF(ISBLANK($B101),\"\",LOOKUP($B101,Inscriptions!A$2:A$65496,Inscriptions!C$2:C$65498))","v":""},{"$f":"IF(ISBLANK($B101),\"\",LOOKUP($B101,Inscriptions!A$2:A$65496,Inscriptions!D$2:D$65498))","v":""},null,null,null,0,0,0,"",""]
[98,null,{"$f":"IF(ISBLANK($B102),\"\",LOOKUP($B102,Inscriptions!A$2:A$65496,Inscriptions!B$2:B$65498))","v":""},{"$f":"IF(ISBLANK($B102),\"\",LOOKUP($B102,Inscriptions!A$2:A$65496,Inscriptions!C$2:C$65498))","v":""},{"$f":"IF(ISBLANK($B102),\"\",LOOKUP($B102,Inscriptions!A$2:A$65496,Inscriptions!D$2:D$65498))","v":""},null,null,null,0,0,0,"",""]
[99,null,{"$f":"IF(ISBLANK($B103),\"\",LOOKUP($B103,Inscriptions!A$2:A$65496,Inscriptions!B$2:B$65498))","v":""},{"$f":"IF(ISBLANK($B103),\"\",LOOKUP($B103,Inscriptions!A$2:A$65496,Inscriptions!C$2:C$65498))","v":""},{"$f":"IF(ISBLANK($B103),\"\",LOOKUP($B103,Inscriptions!A$2:A$65496,Inscriptions!D$2:D$65498))","v":""},null,null,null,0,0,0,"",""]
[100,null,{"$f":"IF(ISBLANK($B104),\"\",LOOKUP($B104,Inscriptions!A$2:A$65496,Inscriptions!B$2:B$65498))","v":""},{"$f":"IF(ISBLANK($B104),\"\",LOOKUP($B104,Inscriptions!A$2:A$65496,Inscriptions!C$2:C$65498))","v":""},{"$f":"IF(ISBLANK($B104),\"\",LOOKUP($B104,Inscriptions!A$2:A$65496,Inscriptions!D$2:D$65498))","v":""},null,null,null,0,0,0,"",""]
[101,null,{"$f":"IF(ISBLANK($B105),\"\",LOOKUP($B105,Inscriptions!A$2:A$65496,Inscriptions!B$2:B$65498))","v":""},{"$f":"IF(ISBLANK($B105),\"\",LOOKUP($B105,Inscriptions!A$2:A$65496,Inscriptions!C$2:C$65498))","v":""},{"$f":"IF(ISBLANK($B105),\"\",LOOKUP($B105,Inscriptions!A$2:A$65496,Inscriptions!D$2:D$65498))","v":""},null,null,null,0,0,0,"",""]
[102,null,{"$f":"IF(ISBLANK($B106),\"\",LOOKUP($B106,Inscriptions!A$2:A$65496,Inscriptions!B$2:B$65498))","v":""},{"$f":"IF(ISBLANK($B106),\"\",LOOKUP($B106,Inscriptions!A$2:A$65496,Inscriptions!C$2:C$65498))","v":""},{"$f":"IF(ISBLANK($B106),\"\",LOOKUP($B106,Inscriptions!A$2:A$65496,Inscriptions!D$2:D$65498))","v":""},null,null,null,0,0,0,"",""]
[103,null,{"$f":"IF(ISBLANK($B107),\"\",LOOKUP($B107,Inscriptions!A$2:A$65496,Inscriptions!B$2:B$65498))","v":""},{"$f":"IF(ISBLANK($B107),\"\",LOOKUP($B107,Inscriptions!A$2:A$65496,Inscriptions!C$2:C$65498))","v":""},{"$f":"IF(ISBLANK($B107),\"\",LOOKUP($B107,Inscriptions!A$2:A$65496,Inscriptions!D$2:D$65498))","v":""},null,null,null,0,0,0,"",""]
[104,null,{"$f":"IF(ISBLANK($B108),\"\",LOOKUP($B108,Inscriptions!A$2:A$65496,Inscriptions!B$2:B$65498))","v":""},{"$f":"IF(ISBLANK($B108),\"\",LOOKUP($B108,Inscriptions!A$2:A$65496,Inscriptions!C$2:C$65498))","v":""},{"$f":"IF(ISBLANK($B108),\"\",LOOKUP($B108,Inscriptions!A$2:A$65496,Inscriptions!D$2:D$65498))","v":""},null,null,null,0,0,0,"",""]
[105,null,{"$f":"IF(ISBLANK($B109),\"\",LOOKUP($B109,Inscriptions!A$2:A$65496,Inscriptions!B$2:B$65498))","v":""},{"$f":"IF(ISBLANK($B109),\"\",LOOKUP($B109,Inscriptions!A$2:A$65496,Inscriptions!C$2:C$65498))","v":""},{"$f":"IF(ISBLANK($B109),\"\",LOOKUP($B109,Inscriptions!A$2:A$65496,Inscriptions!D$2:D$65498))","v":""},null,null,null,0,0,0,"",""]
[106,null,{"$f":"IF(ISBLANK($B110),\"\",LOOKUP($B110,Inscriptions!A$2:A$65496,Inscriptions!B$2:B$65498))","v":""},{"$f":"IF(ISBLANK($B110),\"\",LOOKUP($B110,Inscriptions!A$2:A$65496,Inscriptions!C$2:C$65498))","v":""},{"$f":"IF(ISBLANK($B110),\"\",LOOKUP($B110,Inscriptions!A$2:A$65496,Inscriptions!D$2:D$65498))","v":""},null,null,null,0,0,0,"",""]
[107,null,{"$f":"IF(ISBLANK($B111),\"\",LOOKUP($B111,Inscriptions!A$2:A$65496,Inscriptions!B$2:B$65498))","v":""},{"$f":"IF(ISBLANK($B111),\"\",LOOKUP($B111,Inscriptions!A$2:A$65496,Inscriptions!C$2:C$65498))","v":""},{"$f":"IF(ISBLANK($B111),\"\",LOOKUP($B111,Inscriptions!A$2:A$65496,Inscriptions!D$2:D$65498))","v":""},null,null,null,0,0,0,"",""]
[108,null,{"$f":"IF(ISBLANK($B112),\"\",LOOKUP($B112,Inscriptions!A$2:A$65496,Inscriptions!B$2:B$65498))","v":""},{"$f":"IF(ISBLANK($B112),\"\",LOOKUP($B112,Inscriptions!A$2:A$65496,Inscriptions!C$2:C$65498))","v":""},{"$f":"IF(ISBLANK($B112),\"\",LOOKUP($B112,Inscriptions!A$2:A$65496,Inscriptions!D$2:D$65498))","v":""},null,null,null,0,0,0,"",""]
[109,null,{"$f":"IF(ISBLANK($B113),\"\",LOOKUP($B113,Inscriptions!A$2:A$65496,Inscriptions!B$2:B$65498))","v":""},{"$f":"IF(ISBLANK($B113),\"\",LOOKUP($B113,Inscriptions!A$2:A$65496,Inscriptions!C$2:C$65498))","v":""},{"$f":"IF(ISBLANK($B113),\"\",LOOKUP($B113,Inscriptions!A$2:A$65496,Inscriptions!D$2:D$65498))","v":""},null,null,null,0,0,0,"",""]
[110,null,{"$f":"IF(ISBLANK($B114),\"\",LOOKUP($B114,Inscriptions!A$2:A$65496,Inscriptions!B$2:B$65498))","v":""},{"$f":"IF(ISBLANK($B114),\"\",LOOKUP($B114,Inscriptions!A$2:A$65496,Inscriptions!C$2:C$65498))","v":""},{"$f":"IF(ISBLANK($B114),\"\",LOOKUP($B114,Inscriptions!A$2:A$65496,Inscriptions!D$2:D$65498))","v":""},null,null,null,0,0,0,"",""]
[111,null,{"$f":"IF(ISBLANK($B115),\"\",LOOKUP($B115,Inscriptions!A$2:A$65496,Inscriptions!B$2:B$65498))","v":""},{"$f":"IF(ISBLANK($B115),\"\",LOOKUP($B115,Inscriptions!A$2:A$65496,Inscriptions!C$2:C$65498))","v":""},{"$f":"IF(ISBLANK($B115),\"\",LOOKUP($B115,Inscriptions!A$2:A$65496,Inscriptions!D$2:D$65498))","v":""},null,null,null,0,0,0,"",""]
[112,null,{"$f":"IF(ISBLANK($B116),\"\",LOOKUP($B116,Inscriptions!A$2:A$65496,Inscriptions!B$2:B$65498))","v":""},{"$f":"IF(ISBLANK($B116),\"\",LOOKUP($B116,Inscriptions!A$2:A$65496,Inscriptions!C$2:C$65498))","v":""},{"$f":"IF(ISBLANK($B116),\"\",LOOKUP($B116,Inscriptions!A$2:A$65496,Inscriptions!D$2:D$65498))","v":""},null,null,null,0,0,0,"",""]
[113,null,{"$f":"IF(ISBLANK($B117),\"\",LOOKUP($B117,Inscriptions!A$2:A$65496,Inscriptions!B$2:B$65498))","v":""},{"$f":"IF(ISBLANK($B117),\"\",LOOKUP($B117,Inscriptions!A$2:A$65496,Inscriptions!C$2:C$65498))","v":""},{"$f":"IF(ISBLANK($B117),\"\",LOOKUP($B117,Inscriptions!A$2:A$65496,Inscriptions!D$2:D$65498))","v":""},null,null,null,0,0,0,"",""]
[114,null,{"$f":"IF(ISBLANK($B118),\"\",LOOKUP($B118,Inscriptions!A$2:A$65496,Inscriptions!B$2:B$65498))","v":""},{"$f":"IF(ISBLANK($B118),\"\",LOOKUP($B118,Inscriptions!A$2:A$65496,Inscriptions!C$2:C$65498))","v":""},{"$f":"IF(ISBLANK($B118),\"\",LOOKUP($B118,Inscriptions!A$2:A$65496,Inscriptions!D$2:D$65498))","v":""},null,null,null,0,0,0,"",""]
[115,null,{"$f":"IF(ISBLANK($B119),\"\",LOOKUP($B119,Inscriptions!A$2:A$65496,Inscriptions!B$2:B$65498))","v":""},{"$f":"IF(ISBLANK($B119),\"\",LOOKUP($B119,Inscriptions!A$2:A$65496,Inscriptions!C$2:C$65498))","v":""},{"$f":"IF(ISBLANK($B119),\"\",LOOKUP($B119,Inscriptions!A$2:A$65496,Inscriptions!D$2:D$65498))","v":""},null,null,null,0,0,0,"",""]
[116,null,{"$f":"IF(ISBLANK($B120),\"\",LOOKUP($B120,Inscriptions!A$2:A$65496,Inscriptions!B$2:B$65498))","v":""},{"$f":"IF(ISBLANK($B120),\"\",LOOKUP($B120,Inscriptions!A$2:A$65496,Inscriptions!C$2:C$65498))","v":""},{"$f":"IF(ISBLANK($B120),\"\",LOOKUP($B120,Inscriptions!A$2:A$65496,Inscriptions!D$2:D$65498))","v":""},null,null,null,0,0,0,"",""]
[117,null,{"$f":"IF(ISBLANK($B121),\"\",LOOKUP($B121,Inscriptions!A$2:A$65496,Inscriptions!B$2:B$65498))","v":""},{"$f":"IF(ISBLANK($B121),\"\",LOOKUP($B121,Inscriptions!A$2:A$65496,Inscriptions!C$2:C$65498))","v":""},{"$f":"IF(ISBLANK($B121),\"\",LOOKUP($B121,Inscriptions!A$2:A$65496,Inscriptions!D$2:D$65498))","v":""},null,null,null,0,0,0,"",""]
[118,null,{"$f":"IF(ISBLANK($B122),\"\",LOOKUP($B122,Inscriptions!A$2:A$65496,Inscriptions!B$2:B$65498))","v":""},{"$f":"IF(ISBLANK($B122),\"\",LOOKUP($B122,Inscriptions!A$2:A$65496,Inscriptions!C$2:C$65498))","v":""},{"$f":"IF(ISBLANK($B122),\"\",LOOKUP($B122,Inscriptions!A$2:A$65496,Inscriptions!D$2:D$65498))","v":""},null,null,null,0,0,0,"",""]
[119,null,{"$f":"IF(ISBLANK($B123),\"\",LOOKUP($B123,Inscriptions!A$2:A$65496,Inscriptions!B$2:B$65498))","v":""},{"$f":"IF(ISBLANK($B123),\"\",LOOKUP($B123,Inscriptions!A$2:A$65496,Inscriptions!C$2:C$65498))","v":""},{"$f":"IF(ISBLANK($B123),\"\",LOOKUP($B123,Inscriptions!A$2:A$65496,Inscriptions!D$2:D$65498))","v":""},null,null,null,0,0,0,"",""]
[120,null,{"$f":"IF(ISBLANK($B124),\"\",LOOKUP($B124,Inscriptions!A$2:A$65496,Inscriptions!B$2:B$65498))","v":""},{"$f":"IF(ISBLANK($B124),\"\",LOOKUP($B124,Inscriptions!A$2:A$65496,Inscriptions!C$2:C$65498))","v":""},{"$f":"IF(ISBLANK($B124),\"\",LOOKUP($B124,Inscriptions!A$2:A$65496,Inscriptions!D$2:D$65498))","v":""},null,null,null,0,0,0,"",""]
[121,null,{"$f":"IF(ISBLANK($B125),\"\",LOOKUP($B125,Inscriptions!A$2:A$65496,Inscriptions!B$2:B$65498))","v":""},{"$f":"IF(ISBLANK($B125),\"\",LOOKUP($B125,Inscriptions!A$2:A$65496,Inscriptions!C$2:C$65498))","v":""},{"$f":"IF(ISBLANK($B125),\"\",LOOKUP($B125,Inscriptions!A$2:A$65496,Inscriptions!D$2:D$65498))","v":""},null,null,null,0,0,0,"",""]
[122,null,{"$f":"IF(ISBLANK($B126),\"\",LOOKUP($B126,Inscriptions!A$2:A$65496,Inscriptions!B$2:B$65498))","v":""},{"$f":"IF(ISBLANK($B126),\"\",LOOKUP($B126,Inscriptions!A$2:A$65496,Inscriptions!C$2:C$65498))","v":""},{"$f":"IF(ISBLANK($B126),\"\",LOOKUP($B126,Inscriptions!A$2:A$65496,Inscriptions!D$2:D$65498))","v":""},null,null,null,0,0,0,"",""]
[123,null,{"$f":"IF(ISBLANK($B127),\"\",LOOKUP($B127,Inscriptions!A$2:A$65496,Inscriptions!B$2:B$65498))","v":""},{"$f":"IF(ISBLANK($B127),\"\",LOOKUP($B127,Inscriptions!A$2:A$65496,Inscriptions!C$2:C$65498))","v":""},{"$f":"IF(ISBLANK($B127),\"\",LOOKUP($B127,Inscriptions!A$2:A$65496,Inscriptions!D$2:D$65498))","v":""},null,null,null,0,0,0,"",""]
[124,null,{"$f":"IF(ISBLANK($B128),\"\",LOOKUP($B128,Inscriptions!A$2:A$65496,Inscriptions!B$2:B$65498))","v":""},{"$f":"IF(ISBLANK($B128),\"\",LOOKUP($B128,Inscriptions!A$2:A$65496,Inscriptions!C$2:C$65498))","v":""},{"$f":"IF(ISBLANK($B128),\"\",LOOKUP($B128,Inscriptions!A$2:A$65496,Inscriptions!D$2:D$65498))","v":""},null,null,null,0,0,0,"",""]
[125,null,{"$f":"IF(ISBLANK($B129),\"\",LOOKUP($B129,Inscriptions!A$2:A$65496,Inscriptions!B$2:B$65498))","v":""},{"$f":"IF(ISBLANK($B129),\"\",LOOKUP($B129,Inscriptions!A$2:A$65496,Inscriptions!C$2:C$65498))","v":""},{"$f":"IF(ISBLANK($B129),\"\",LOOKUP($B129,Inscriptions!A$2:A$65496,Inscriptions!D$2:D$65498))","v":""},null,null,null,0,0,0,"",""]
[126,null,{"$f":"IF(ISBLANK($B130),\"\",LOOKUP($B130,Inscriptions!A$2:A$65496,Inscriptions!B$2:B$65498))","v":""},{"$f":"IF(ISBLANK($B130),\"\",LOOKUP($B130,Inscriptions!A$2:A$65496,Inscriptions!C$2:C$65498))","v":""},{"$f":"IF(ISBLANK($B130),\"\",LOOKUP($B130,Inscriptions!A$2:A$65496,Inscriptions!D$2:D$65498))","v":""},null,null,null,0,0,0,"",""]
[127,null,{"$f":"IF(ISBLANK($B131),\"\",LOOKUP($B131,Inscriptions!A$2:A$65496,Inscriptions!B$2:B$65498))","v":""},{"$f":"IF(ISBLANK($B131),\"\",LOOKUP($B131,Inscriptions!A$2:A$65496,Inscriptions!C$2:C$65498))","v":""},{"$f":"IF(ISBLANK($B131),\"\",LOOKUP($B131,Inscriptions!A$2:A$65496,Inscriptions!D$2:D$65498))","v":""},null,null,null,0,0,0,"",""]
[128,null,{"$f":"IF(ISBLANK($B132),\"\",LOOKUP($B132,Inscriptions!A$2:A$65496,Inscriptions!B$2:B$65498))","v":""},{"$f":"IF(ISBLANK($B132),\"\",LOOKUP($B132,Inscriptions!A$2:A$65496,Inscriptions!C$2:C$65498))","v":""},{"$f":"IF(ISBLANK($B132),\"\",LOOKUP($B132,Inscriptions!A$2:A$65496,Inscriptions!D$2:D$65498))","v":""},null,null,null,0,0,0,"",""]
[129,null,{"$f":"IF(ISBLANK($B133),\"\",LOOKUP($B133,Inscriptions!A$2:A$65496,Inscriptions!B$2:B$65498))","v":""},{"$f":"IF(ISBLANK($B133),\"\",LOOKUP($B133,Inscriptions!A$2:A$65496,Inscriptions!C$2:C$65498))","v":""},{"$f":"IF(ISBLANK($B133),\"\",LOOKUP($B133,Inscriptions!A$2:A$65496,Inscriptions!D$2:D$65498))","v":""},null,null,null,0,0,0,"",""]
[130,null,{"$f":"IF(ISBLANK($B134),\"\",LOOKUP($B134,Inscriptions!A$2:A$65496,Inscriptions!B$2:B$65498))","v":""},{"$f":"IF(ISBLANK($B134),\"\",LOOKUP($B134,Inscriptions!A$2:A$65496,Inscriptions!C$2:C$65498))","v":""},{"$f":"IF(ISBLANK($B134),\"\",LOOKUP($B134,Inscriptions!A$2:A$65496,Inscriptions!D$2:D$65498))","v":""},null,null,null,{"$f":"ROUNDDOWN(H134/10000,0)","v":0},{"$f":"ROUNDDOWN((H134-I134*10000)/100,0)","v":0},{"$f":"ROUNDDOWN((H134-(I134*10000)-(J134*100)),0)","v":0},{"$f":"IF((I134+J134+K134)=0,\"\",ROUNDDOWN((L$4/((I134*3600)+(J134*60)+K134))*3.6,2))","v":""},{"$f":"IF(L134=\"\",\"\",\"km/h\")","v":""}]
[131,null,{"$f":"IF(ISBLANK($B135),\"\",LOOKUP($B135,Inscriptions!A$2:A$65496,Inscriptions!B$2:B$65498))","v":""},{"$f":"IF(ISBLANK($B135),\"\",LOOKUP($B135,Inscriptions!A$2:A$65496,Inscriptions!C$2:C$65498))","v":""},{"$f":"IF(ISBLANK($B135),\"\",LOOKUP($B135,Inscriptions!A$2:A$65496,Inscriptions!D$2:D$65498))","v":""},null,null,null,0,0,0,"",""]
[132,null,{"$f":"IF(ISBLANK($B136),\"\",LOOKUP($B136,Inscriptions!A$2:A$65496,Inscriptions!B$2:B$65498))","v":""},{"$f":"IF(ISBLANK($B136),\"\",LOOKUP($B136,Inscriptions!A$2:A$65496,Inscriptions!C$2:C$65498))","v":""},{"$f":"IF(ISBLANK($B136),\"\",LOOKUP($B136,Inscriptions!A$2:A$65496,Inscriptions!D$2:D$65498))","v":""},null,null,null,0,0,0,"",""]
[133,null,{"$f":"IF(ISBLANK($B137),\"\",LOOKUP($B137,Inscriptions!A$2:A$65496,Inscriptions!B$2:B$65498))","v":""},{"$f":"IF(ISBLANK($B137),\"\",LOOKUP($B137,Inscriptions!A$2:A$65496,Inscriptions!C$2:C$65498))","v":""},{"$f":"IF(ISBLANK($B137),\"\",LOOKUP($B137,Inscriptions!A$2:A$65496,Inscriptions!D$2:D$65498))","v":""},null,null,null,0,0,0,"",""]
[134,null,{"$f":"IF(ISBLANK($B138),\"\",LOOKUP($B138,Inscriptions!A$2:A$65496,Inscriptions!B$2:B$65498))","v":""},{"$f":"IF(ISBLANK($B138),\"\",LOOKUP($B138,Inscriptions!A$2:A$65496,Inscriptions!C$2:C$65498))","v":""},{"$f":"IF(ISBLANK($B138),\"\",LOOKUP($B138,Inscriptions!A$2:A$65496,Inscriptions!D$2:D$65498))","v":""},null,null,null,0,0,0,"",""]
[135,null,{"$f":"IF(ISBLANK($B139),\"\",LOOKUP($B139,Inscriptions!A$2:A$65496,Inscriptions!B$2:B$65498))","v":""},{"$f":"IF(ISBLANK($B139),\"\",LOOKUP($B139,Inscriptions!A$2:A$65496,Inscriptions!C$2:C$65498))","v":""},{"$f":"IF(ISBLANK($B139),\"\",LOOKUP($B139,Inscriptions!A$2:A$65496,Inscriptions!D$2:D$65498))","v":""},null,null,null,0,0,0,"",""]
[136,null,{"$f":"IF(ISBLANK($B140),\"\",LOOKUP($B140,Inscriptions!A$2:A$65496,Inscriptions!B$2:B$65498))","v":""},{"$f":"IF(ISBLANK($B140),\"\",LOOKUP($B140,Inscriptions!A$2:A$65496,Inscriptions!C$2:C$65498))","v":""},{"$f":"IF(ISBLANK($B140),\"\",LOOKUP($B140,Inscriptions!A$2:A$65496,Inscriptions!D$2:D$65498))","v":""},null,null,null,0,0,0,"",""]
[137,null,{"$f":"IF(ISBLANK($B141),\"\",LOOKUP($B141,Inscriptions!A$2:A$65496,Inscriptions!B$2:B$65498))","v":""},{"$f":"IF(ISBLANK($B141),\"\",LOOKUP($B141,Inscriptions!A$2:A$65496,Inscriptions!C$2:C$65498))","v":""},{"$f":"IF(ISBLANK($B141),\"\",LOOKUP($B141,Inscriptions!A$2:A$65496,Inscriptions!D$2:D$65498))","v":""},null,null,null,0,0,0,"",""]
[138,null,{"$f":"IF(ISBLANK($B142),\"\",LOOKUP($B142,Inscriptions!A$2:A$65496,Inscriptions!B$2:B$65498))","v":""},{"$f":"IF(ISBLANK($B142),\"\",LOOKUP($B142,Inscriptions!A$2:A$65496,Inscriptions!C$2:C$65498))","v":""},{"$f":"IF(ISBLANK($B142),\"\",LOOKUP($B142,Inscriptions!A$2:A$65496,Inscriptions!D$2:D$65498))","v":""},null,null,null,0,0,0,"",""]
[139,null,{"$f":"IF(ISBLANK($B143),\"\",LOOKUP($B143,Inscriptions!A$2:A$65496,Inscriptions!B$2:B$65498))","v":""},{"$f":"IF(ISBLANK($B143),\"\",LOOKUP($B143,Inscriptions!A$2:A$65496,Inscriptions!C$2:C$65498))","v":""},{"$f":"IF(ISBLANK($B143),\"\",LOOKUP($B143,Inscriptions!A$2:A$65496,Inscriptions!D$2:D$65498))","v":""},null,null,null,0,0,0,"",""]
[140,null,{"$f":"IF(ISBLANK($B144),\"\",LOOKUP($B144,Inscriptions!A$2:A$65496,Inscriptions!B$2:B$65498))","v":""},{"$f":"IF(ISBLANK($B144),\"\",LOOKUP($B144,Inscriptions!A$2:A$65496,Inscriptions!C$2:C$65498))","v":""},{"$f":"IF(ISBLANK($B144),\"\",LOOKUP($B144,Inscriptions!A$2:A$65496,Inscriptions!D$2:D$65498))","v":""},null,null,null,0,0,0,"",""]
[141,null,{"$f":"IF(ISBLANK($B145),\"\",LOOKUP($B145,Inscriptions!A$2:A$65496,Inscriptions!B$2:B$65498))","v":""},{"$f":"IF(ISBLANK($B145),\"\",LOOKUP($B145,Inscriptions!A$2:A$65496,Inscriptions!C$2:C$65498))","v":""},{"$f":"IF(ISBLANK($B145),\"\",LOOKUP($B145,Inscriptions!A$2:A$65496,Inscriptions!D$2:D$65498))","v":""},null,null,null,0,0,0,"",""]
[142,null,{"$f":"IF(ISBLANK($B146),\"\",LOOKUP($B146,Inscriptions!A$2:A$65496,Inscriptions!B$2:B$65498))","v":""},{"$f":"IF(ISBLANK($B146),\"\",LOOKUP($B146,Inscriptions!A$2:A$65496,Inscriptions!C$2:C$65498))","v":""},{"$f":"IF(ISBLANK($B146),\"\",LOOKUP($B146,Inscriptions!A$2:A$65496,Inscriptions!D$2:D$65498))","v":""},null,null,null,0,0,0,"",""]
[143,null,{"$f":"IF(ISBLANK($B147),\"\",LOOKUP($B147,Inscriptions!A$2:A$65496,Inscriptions!B$2:B$65498))","v":""},{"$f":"IF(ISBLANK($B147),\"\",LOOKUP($B147,Inscriptions!A$2:A$65496,Inscriptions!C$2:C$65498))","v":""},{"$f":"IF(ISBLANK($B147),\"\",LOOKUP($B147,Inscriptions!A$2:A$65496,Inscriptions!D$2:D$65498))","v":""},null,null,null,0,0,0,"",""]
[144,null,{"$f":"IF(ISBLANK($B148),\"\",LOOKUP($B148,Inscriptions!A$2:A$65496,Inscriptions!B$2:B$65498))","v":""},{"$f":"IF(ISBLANK($B148),\"\",LOOKUP($B148,Inscriptions!A$2:A$65496,Inscriptions!C$2:C$65498))","v":""},{"$f":"IF(ISBLANK($B148),\"\",LOOKUP($B148,Inscriptions!A$2:A$65496,Inscriptions!D$2:D$65498))","v":""},null,null,null,0,0,0,"",""]
[145,null,{"$f":"IF(ISBLANK($B149),\"\",LOOKUP($B149,Inscriptions!A$2:A$65496,Inscriptions!B$2:B$65498))","v":""},{"$f":"IF(ISBLANK($B149),\"\",LOOKUP($B149,Inscriptions!A$2:A$65496,Inscriptions!C$2:C$65498))","v":""},{"$f":"IF(ISBLANK($B149),\"\",LOOKUP($B149,Inscriptions!A$2:A$65496,Inscriptions!D$2:D$65498))","v":""},null,null,null,0,0,0,"",""]
[146,null,{"$f":"IF(ISBLANK($B150),\"\",LOOKUP($B150,Inscriptions!A$2:A$65496,Inscriptions!B$2:B$65498))","v":""},{"$f":"IF(ISBLANK($B150),\"\",LOOKUP($B150,Inscriptions!A$2:A$65496,Inscriptions!C$2:C$65498))","v":""},{"$f":"IF(ISBLANK($B150),\"\",LOOKUP($B150,Inscriptions!A$2:A$65496,Inscriptions!D$2:D$65498))","v":""},null,null,null,0,0,0,"",""]
[147,null,{"$f":"IF(ISBLANK($B151),\"\",LOOKUP($B151,Inscriptions!A$2:A$65496,Inscriptions!B$2:B$65498))","v":""},{"$f":"IF(ISBLANK($B151),\"\",LOOKUP($B151,Inscriptions!A$2:A$65496,Inscriptions!C$2:C$65498))","v":""},{"$f":"IF(ISBLANK($B151),\"\",LOOKUP($B151,Inscriptions!A$2:A$65496,Inscriptions!D$2:D$65498))","v":""},null,null,null,0,0,0,"",""]
[148,null,{"$f":"IF(ISBLANK($B152),\"\",LOOKUP($B152,Inscriptions!A$2:A$65496,Inscriptions!B$2:B$65498))","v":""},{"$f":"IF(ISBLANK($B152),\"\",LOOKUP($B152,Inscriptions!A$2:A$65496,Inscriptions!C$2:C$65498))","v":""},{"$f":"IF(ISBLANK($B152),\"\",LOOKUP($B152,Inscriptions!A$2:A$65496,Inscriptions!D$2:D$65498))","v":""},null,null,null,0,0,0,"",""]
[149,null,{"$f":"IF(ISBLANK($B153),\"\",LOOKUP($B153,Inscriptions!A$2:A$65496,Inscriptions!B$2:B$65498))","v":""},{"$f":"IF(ISBLANK($B153),\"\",LOOKUP($B153,Inscriptions!A$2:A$65496,Inscriptions!C$2:C$65498))","v":""},{"$f":"IF(ISBLANK($B153),\"\",LOOKUP($B153,Inscriptions!A$2:A$65496,Inscriptions!D$2:D$65498))","v":""},null,null,null,0,0,0,"",""]
[150,null,{"$f":"IF(ISBLANK($B154),\"\",LOOKUP($B154,Inscriptions!A$2:A$65496,Inscriptions!B$2:B$65498))","v":""},{"$f":"IF(ISBLANK($B154),\"\",LOOKUP($B154,Inscriptions!A$2:A$65496,Inscriptions!C$2:C$65498))","v":""},{"$f":"IF(ISBLANK($B154),\"\",LOOKUP($B154,Inscriptions!A$2:A$65496,Inscriptions!D$2:D$65498))","v":""},null,null,null,0,0,0,"",""]
[151,null,{"$f":"IF(ISBLANK($B155),\"\",LOOKUP($B155,Inscriptions!A$2:A$65496,Inscriptions!B$2:B$65498))","v":""},{"$f":"IF(ISBLANK($B155),\"\",LOOKUP($B155,Inscriptions!A$2:A$65496,Inscriptions!C$2:C$65498))","v":""},{"$f":"IF(ISBLANK($B155),\"\",LOOKUP($B155,Inscriptions!A$2:A$65496,Inscriptions!D$2:D$65498))","v":""},null,null,null,0,0,0,"",""]
[152,null,{"$f":"IF(ISBLANK($B156),\"\",LOOKUP($B156,Inscriptions!A$2:A$65496,Inscriptions!B$2:B$65498))","v":""},{"$f":"IF(ISBLANK($B156),\"\",LOOKUP($B156,Inscriptions!A$2:A$65496,Inscriptions!C$2:C$65498))","v":""},{"$f":"IF(ISBLANK($B156),\"\",LOOKUP($B156,Inscriptions!A$2:A$65496,Inscriptions!D$2:D$65498))","v":""},null,null,null,0,0,0,"",""]
[153,null,{"$f":"IF(ISBLANK($B157),\"\",LOOKUP($B157,Inscriptions!A$2:A$65496,Inscriptions!B$2:B$65498))","v":""},{"$f":"IF(ISBLANK($B157),\"\",LOOKUP($B157,Inscriptions!A$2:A$65496,Inscriptions!C$2:C$65498))","v":""},{"$f":"IF(ISBLANK($B157),\"\",LOOKUP($B157,Inscriptions!A$2:A$65496,Inscriptions!D$2:D$65498))","v":""},null,null,null,0,0,0,"",""]
[154,null,{"$f":"IF(ISBLANK($B158),\"\",LOOKUP($B158,Inscriptions!A$2:A$65496,Inscriptions!B$2:B$65498))","v":""},{"$f":"IF(ISBLANK($B158),\"\",LOOKUP($B158,Inscriptions!A$2:A$65496,Inscriptions!C$2:C$65498))","v":""},{"$f":"IF(ISBLANK($B158),\"\",LOOKUP($B158,Inscriptions!A$2:A$65496,Inscriptions!D$2:D$65498))","v":""},null,null,null,0,0,0,"",""]
[155,null,{"$f":"IF(ISBLANK($B159),\"\",LOOKUP($B159,Inscriptions!A$2:A$65496,Inscriptions!B$2:B$65498))","v":""},{"$f":"IF(ISBLANK($B159),\"\",LOOKUP($B159,Inscriptions!A$2:A$65496,Inscriptions!C$2:C$65498))","v":""},{"$f":"IF(ISBLANK($B159),\"\",LOOKUP($B159,Inscriptions!A$2:A$65496,Inscriptions!D$2:D$65498))","v":""},null,null,null,0,0,0,"",""]
[156,null,{"$f":"IF(ISBLANK($B160),\"\",LOOKUP($B160,Inscriptions!A$2:A$65496,Inscriptions!B$2:B$65498))","v":""},{"$f":"IF(ISBLANK($B160),\"\",LOOKUP($B160,Inscriptions!A$2:A$65496,Inscriptions!C$2:C$65498))","v":""},{"$f":"IF(ISBLANK($B160),\"\",LOOKUP($B160,Inscriptions!A$2:A$65496,Inscriptions!D$2:D$65498))","v":""},null,null,null,0,0,0,"",""]
[157,null,{"$f":"IF(ISBLANK($B161),\"\",LOOKUP($B161,Inscriptions!A$2:A$65496,Inscriptions!B$2:B$65498))","v":""},{"$f":"IF(ISBLANK($B161),\"\",LOOKUP($B161,Inscriptions!A$2:A$65496,Inscriptions!C$2:C$65498))","v":""},{"$f":"IF(ISBLANK($B161),\"\",LOOKUP($B161,Inscriptions!A$2:A$65496,Inscriptions!D$2:D$65498))","v":""},null,null,null,0,0,0,"",""]
[158,null,{"$f":"IF(ISBLANK($B162),\"\",LOOKUP($B162,Inscriptions!A$2:A$65496,Inscriptions!B$2:B$65498))","v":""},{"$f":"IF(ISBLANK($B162),\"\",LOOKUP($B162,Inscriptions!A$2:A$65496,Inscriptions!C$2:C$65498))","v":""},{"$f":"IF(ISBLANK($B162),\"\",LOOKUP($B162,Inscriptions!A$2:A$65496,Inscriptions!D$2:D$65498))","v":""},null,null,null,0,0,0,"",""]
[159,null,{"$f":"IF(ISBLANK($B163),\"\",LOOKUP($B163,Inscriptions!A$2:A$65496,Inscriptions!B$2:B$65498))","v":""},{"$f":"IF(ISBLANK($B163),\"\",LOOKUP($B163,Inscriptions!A$2:A$65496,Inscriptions!C$2:C$65498))","v":""},{"$f":"IF(ISBLANK($B163),\"\",LOOKUP($B163,Inscriptions!A$2:A$65496,Inscriptions!D$2:D$65498))","v":""},null,null,null,0,0,0,"",""]
[160,null,{"$f":"IF(ISBLANK($B164),\"\",LOOKUP($B164,Inscriptions!A$2:A$65496,Inscriptions!B$2:B$65498))","v":""},{"$f":"IF(ISBLANK($B164),\"\",LOOKUP($B164,Inscriptions!A$2:A$65496,Inscriptions!C$2:C$65498))","v":""},{"$f":"IF(ISBLANK($B164),\"\",LOOKUP($B164,Inscriptions!A$2:A$65496,Inscriptions!D$2:D$65498))","v":""},null,null,null,0,0,0,"",""]
[161,null,{"$f":"IF(ISBLANK($B165),\"\",LOOKUP($B165,Inscriptions!A$2:A$65496,Inscriptions!B$2:B$65498))","v":""},{"$f":"IF(ISBLANK($B165),\"\",LOOKUP($B165,Inscriptions!A$2:A$65496,Inscriptions!C$2:C$65498))","v":""},{"$f":"IF(ISBLANK($B165),\"\",LOOKUP($B165,Inscriptions!A$2:A$65496,Inscriptions!D$2:D$65498))","v":""},null,null,null,0,0,0,"",""]
[162,null,{"$f":"IF(ISBLANK($B166),\"\",LOOKUP($B166,Inscriptions!A$2:A$65496,Inscriptions!B$2:B$65498))","v":""},{"$f":"IF(ISBLANK($B166),\"\",LOOKUP($B166,Inscriptions!A$2:A$65496,Inscriptions!C$2:C$65498))","v":""},{"$f":"IF(ISBLANK($B166),\"\",LOOKUP($B166,Inscriptions!A$2:A$65496,Inscriptions!D$2:D$65498))","v":""},null,null,null,0,0,0,"",""]
[163,null,{"$f":"IF(ISBLANK($B167),\"\",LOOKUP($B167,Inscriptions!A$2:A$65496,Inscriptions!B$2:B$65498))","v":""},{"$f":"IF(ISBLANK($B167),\"\",LOOKUP($B167,Inscriptions!A$2:A$65496,Inscriptions!C$2:C$65498))","v":""},{"$f":"IF(ISBLANK($B167),\"\",LOOKUP($B167,Inscriptions!A$2:A$65496,Inscriptions!D$2:D$65498))","v":""},null,null,null,0,0,0,"",""]
[164,null,{"$f":"IF(ISBLANK($B168),\"\",LOOKUP($B168,Inscriptions!A$2:A$65496,Inscriptions!B$2:B$65498))","v":""},{"$f":"IF(ISBLANK($B168),\"\",LOOKUP($B168,Inscriptions!A$2:A$65496,Inscriptions!C$2:C$65498))","v":""},{"$f":"IF(ISBLANK($B168),\"\",LOOKUP($B168,Inscriptions!A$2:A$65496,Inscriptions!D$2:D$65498))","v":""},null,null,null,0,0,0,"",""]
[165,null,{"$f":"IF(ISBLANK($B169),\"\",LOOKUP($B169,Inscriptions!A$2:A$65496,Inscriptions!B$2:B$65498))","v":""},{"$f":"IF(ISBLANK($B169),\"\",LOOKUP($B169,Inscriptions!A$2:A$65496,Inscriptions!C$2:C$65498))","v":""},{"$f":"IF(ISBLANK($B169),\"\",LOOKUP($B169,Inscriptions!A$2:A$65496,Inscriptions!D$2:D$65498))","v":""},null,null,null,0,0,0,"",""]
[166,null,{"$f":"IF(ISBLANK($B170),\"\",LOOKUP($B170,Inscriptions!A$2:A$65496,Inscriptions!B$2:B$65498))","v":""},{"$f":"IF(ISBLANK($B170),\"\",LOOKUP($B170,Inscriptions!A$2:A$65496,Inscriptions!C$2:C$65498))","v":""},{"$f":"IF(ISBLANK($B170),\"\",LOOKUP($B170,Inscriptions!A$2:A$65496,Inscriptions!D$2:D$65498))","v":""},null,null,null,0,0,0,"",""]
[167,null,{"$f":"IF(ISBLANK($B171),\"\",LOOKUP($B171,Inscriptions!A$2:A$65496,Inscriptions!B$2:B$65498))","v":""},{"$f":"IF(ISBLANK($B171),\"\",LOOKUP($B171,Inscriptions!A$2:A$65496,Inscriptions!C$2:C$65498))","v":""},{"$f":"IF(ISBLANK($B171),\"\",LOOKUP($B171,Inscriptions!A$2:A$65496,Inscriptions!D$2:D$65498))","v":""},null,null,null,0,0,0,"",""]
[168,null,{"$f":"IF(ISBLANK($B172),\"\",LOOKUP($B172,Inscriptions!A$2:A$65496,Inscriptions!B$2:B$65498))","v":""},{"$f":"IF(ISBLANK($B172),\"\",LOOKUP($B172,Inscriptions!A$2:A$65496,Inscriptions!C$2:C$65498))","v":""},{"$f":"IF(ISBLANK($B172),\"\",LOOKUP($B172,Inscriptions!A$2:A$65496,Inscriptions!D$2:D$65498))","v":""},null,null,null,0,0,0,"",""]
[169,null,{"$f":"IF(ISBLANK($B173),\"\",LOOKUP($B173,Inscriptions!A$2:A$65496,Inscriptions!B$2:B$65498))","v":""},{"$f":"IF(ISBLANK($B173),\"\",LOOKUP($B173,Inscriptions!A$2:A$65496,Inscriptions!C$2:C$65498))","v":""},{"$f":"IF(ISBLANK($B173),\"\",LOOKUP($B173,Inscriptions!A$2:A$65496,Inscriptions!D$2:D$65498))","v":""},null,null,null,0,0,0,"",""]
[170,null,{"$f":"IF(ISBLANK($B174),\"\",LOOKUP($B174,Inscriptions!A$2:A$65496,Inscriptions!B$2:B$65498))","v":""},{"$f":"IF(ISBLANK($B174),\"\",LOOKUP($B174,Inscriptions!A$2:A$65496,Inscriptions!C$2:C$65498))","v":""},{"$f":"IF(ISBLANK($B174),\"\",LOOKUP($B174,Inscriptions!A$2:A$65496,Inscriptions!D$2:D$65498))","v":""},null,null,null,0,0,0,"",""]
[171,null,{"$f":"IF(ISBLANK($B175),\"\",LOOKUP($B175,Inscriptions!A$2:A$65496,Inscriptions!B$2:B$65498))","v":""},{"$f":"IF(ISBLANK($B175),\"\",LOOKUP($B175,Inscriptions!A$2:A$65496,Inscriptions!C$2:C$65498))","v":""},{"$f":"IF(ISBLANK($B175),\"\",LOOKUP($B175,Inscriptions!A$2:A$65496,Inscriptions!D$2:D$65498))","v":""},null,null,null,0,0,0,"",""]
[172,null,{"$f":"IF(ISBLANK($B176),\"\",LOOKUP($B176,Inscriptions!A$2:A$65496,Inscriptions!B$2:B$65498))","v":""},{"$f":"IF(ISBLANK($B176),\"\",LOOKUP($B176,Inscriptions!A$2:A$65496,Inscriptions!C$2:C$65498))","v":""},{"$f":"IF(ISBLANK($B176),\"\",LOOKUP($B176,Inscriptions!A$2:A$65496,Inscriptions!D$2:D$65498))","v":""},null,null,null,0,0,0,"",""]
[173,null,{"$f":"IF(ISBLANK($B177),\"\",LOOKUP($B177,Inscriptions!A$2:A$65496,Inscriptions!B$2:B$65498))","v":""},{"$f":"IF(ISBLANK($B177),\"\",LOOKUP($B177,Inscriptions!A$2:A$65496,Inscriptions!C$2:C$65498))","v":""},{"$f":"IF(ISBLANK($B177),\"\",LOOKUP($B177,Inscriptions!A$2:A$65496,Inscriptions!D$2:D$65498))","v":""},null,null,null,0,0,0,"",""]
[174,null,{"$f":"IF(ISBLANK($B178),\"\",LOOKUP($B178,Inscriptions!A$2:A$65496,Inscriptions!B$2:B$65498))","v":""},{"$f":"IF(ISBLANK($B178),\"\",LOOKUP($B178,Inscriptions!A$2:A$65496,Inscriptions!C$2:C$65498))","v":""},{"$f":"IF(ISBLANK($B178),\"\",LOOKUP($B178,Inscriptions!A$2:A$65496,Inscriptions!D$2:D$65498))","v":""},null,null,null,0,0,0,"",""]
[175,null,{"$f":"IF(ISBLANK($B179),\"\",LOOKUP($B179,Inscriptions!A$2:A$65496,Inscriptions!B$2:B$65498))","v":""},{"$f":"IF(ISBLANK($B179),\"\",LOOKUP($B179,Inscriptions!A$2:A$65496,Inscriptions!C$2:C$65498))","v":""},{"$f":"IF(ISBLANK($B179),\"\",LOOKUP($B179,Inscriptions!A$2:A$65496,Inscriptions!D$2:D$65498))","v":""},null,null,null,0,0,0,"",""]
[176,null,{"$f":"IF(ISBLANK($B180),\"\",LOOKUP($B180,Inscriptions!A$2:A$65496,Inscriptions!B$2:B$65498))","v":""},{"$f":"IF(ISBLANK($B180),\"\",LOOKUP($B180,Inscriptions!A$2:A$65496,Inscriptions!C$2:C$65498))","v":""},{"$f":"IF(ISBLANK($B180),\"\",LOOKUP($B180,Inscriptions!A$2:A$65496,Inscriptions!D$2:D$65498))","v":""},null,null,null,0,0,0,"",""]
[177,null,{"$f":"IF(ISBLANK($B181),\"\",LOOKUP($B181,Inscriptions!A$2:A$65496,Inscriptions!B$2:B$65498))","v":""},{"$f":"IF(ISBLANK($B181),\"\",LOOKUP($B181,Inscriptions!A$2:A$65496,Inscriptions!C$2:C$65498))","v":""},{"$f":"IF(ISBLANK($B181),\"\",LOOKUP($B181,Inscriptions!A$2:A$65496,Inscriptions!D$2:D$65498))","v":""},null,null,null,0,0,0,"",""]
[178,null,{"$f":"IF(ISBLANK($B182),\"\",LOOKUP($B182,Inscriptions!A$2:A$65496,Inscriptions!B$2:B$65498))","v":""},{"$f":"IF(ISBLANK($B182),\"\",LOOKUP($B182,Inscriptions!A$2:A$65496,Inscriptions!C$2:C$65498))","v":""},{"$f":"IF(ISBLANK($B182),\"\",LOOKUP($B182,Inscriptions!A$2:A$65496,Inscriptions!D$2:D$65498))","v":""},null,null,null,0,0,0,"",""]
[179,null,{"$f":"IF(ISBLANK($B183),\"\",LOOKUP($B183,Inscriptions!A$2:A$65496,Inscriptions!B$2:B$65498))","v":""},{"$f":"IF(ISBLANK($B183),\"\",LOOKUP($B183,Inscriptions!A$2:A$65496,Inscriptions!C$2:C$65498))","v":""},{"$f":"IF(ISBLANK($B183),\"\",LOOKUP($B183,Inscriptions!A$2:A$65496,Inscriptions!D$2:D$65498))","v":""},null,null,null,0,0,0,"",""]
[180,null,{"$f":"IF(ISBLANK($B184),\"\",LOOKUP($B184,Inscriptions!A$2:A$65496,Inscriptions!B$2:B$65498))","v":""},{"$f":"IF(ISBLANK($B184),\"\",LOOKUP($B184,Inscriptions!A$2:A$65496,Inscriptions!C$2:C$65498))","v":""},{"$f":"IF(ISBLANK($B184),\"\",LOOKUP($B184,Inscriptions!A$2:A$65496,Inscriptions!D$2:D$65498))","v":""},null,null,null,0,0,0,"",""]
[181,null,{"$f":"IF(ISBLANK($B185),\"\",LOOKUP($B185,Inscriptions!A$2:A$65496,Inscriptions!B$2:B$65498))","v":""},{"$f":"IF(ISBLANK($B185),\"\",LOOKUP($B185,Inscriptions!A$2:A$65496,Inscriptions!C$2:C$65498))","v":""},{"$f":"IF(ISBLANK($B185),\"\",LOOKUP($B185,Inscriptions!A$2:A$65496,Inscriptions!D$2:D$65498))","v":""},null,null,null,0,0,0,"",""]
[182,null,{"$f":"IF(ISBLANK($B186),\"\",LOOKUP($B186,Inscriptions!A$2:A$65496,Inscriptions!B$2:B$65498))","v":""},{"$f":"IF(ISBLANK($B186),\"\",LOOKUP($B186,Inscriptions!A$2:A$65496,Inscriptions!C$2:C$65498))","v":""},{"$f":"IF(ISBLANK($B186),\"\",LOOKUP($B186,Inscriptions!A$2:A$65496,Inscriptions!D$2:D$65498))","v":""},null,null,null,0,0,0,"",""]
[183,null,{"$f":"IF(ISBLANK($B187),\"\",LOOKUP($B187,Inscriptions!A$2:A$65496,Inscriptions!B$2:B$65498))","v":""},{"$f":"IF(ISBLANK($B187),\"\",LOOKUP($B187,Inscriptions!A$2:A$65496,Inscriptions!C$2:C$65498))","v":""},{"$f":"IF(ISBLANK($B187),\"\",LOOKUP($B187,Inscriptions!A$2:A$65496,Inscriptions!D$2:D$65498))","v":""},null,null,null,0,0,0,"",""]
[184,null,{"$f":"IF(ISBLANK($B188),\"\",LOOKUP($B188,Inscriptions!A$2:A$65496,Inscriptions!B$2:B$65498))","v":""},{"$f":"IF(ISBLANK($B188),\"\",LOOKUP($B188,Inscriptions!A$2:A$65496,Inscriptions!C$2:C$65498))","v":""},{"$f":"IF(ISBLANK($B188),\"\",LOOKUP($B188,Inscriptions!A$2:A$65496,Inscriptions!D$2:D$65498))","v":""},null,null,null,0,0,0,"",""]
[185,null,{"$f":"IF(ISBLANK($B189),\"\",LOOKUP($B189,Inscriptions!A$2:A$65496,Inscriptions!B$2:B$65498))","v":""},{"$f":"IF(ISBLANK($B189),\"\",LOOKUP($B189,Inscriptions!A$2:A$65496,Inscriptions!C$2:C$65498))","v":""},{"$f":"IF(ISBLANK($B189),\"\",LOOKUP($B189,Inscriptions!A$2:A$65496,Inscriptions!D$2:D$65498))","v":""},null,null,null,0,0,0,"",""]
[186,null,{"$f":"IF(ISBLANK($B190),\"\",LOOKUP($B190,Inscriptions!A$2:A$65496,Inscriptions!B$2:B$65498))","v":""},{"$f":"IF(ISBLANK($B190),\"\",LOOKUP($B190,Inscriptions!A$2:A$65496,Inscriptions!C$2:C$65498))","v":""},{"$f":"IF(ISBLANK($B190),\"\",LOOKUP($B190,Inscriptions!A$2:A$65496,Inscriptions!D$2:D$65498))","v":""},null,null,null,0,0,0,"",""]
[187,null,{"$f":"IF(ISBLANK($B191),\"\",LOOKUP($B191,Inscriptions!A$2:A$65496,Inscriptions!B$2:B$65498))","v":""},{"$f":"IF(ISBLANK($B191),\"\",LOOKUP($B191,Inscriptions!A$2:A$65496,Inscriptions!C$2:C$65498))","v":""},{"$f":"IF(ISBLANK($B191),\"\",LOOKUP($B191,Inscriptions!A$2:A$65496,Inscriptions!D$2:D$65498))","v":""},null,null,null,0,0,0,"",""]
[188,null,{"$f":"IF(ISBLANK($B192),\"\",LOOKUP($B192,Inscriptions!A$2:A$65496,Inscriptions!B$2:B$65498))","v":""},{"$f":"IF(ISBLANK($B192),\"\",LOOKUP($B192,Inscriptions!A$2:A$65496,Inscriptions!C$2:C$65498))","v":""},{"$f":"IF(ISBLANK($B192),\"\",LOOKUP($B192,Inscriptions!A$2:A$65496,Inscriptions!D$2:D$65498))","v":""},null,null,null,0,0,0,"",""]
[189,null,{"$f":"IF(ISBLANK($B193),\"\",LOOKUP($B193,Inscriptions!A$2:A$65496,Inscriptions!B$2:B$65498))","v":""},{"$f":"IF(ISBLANK($B193),\"\",LOOKUP($B193,Inscriptions!A$2:A$65496,Inscriptions!C$2:C$65498))","v":""},{"$f":"IF(ISBLANK($B193),\"\",LOOKUP($B193,Inscriptions!A$2:A$65496,Inscriptions!D$2:D$65498))","v":""},null,null,null,0,0,0,"",""]
[190,null,{"$f":"IF(ISBLANK($B194),\"\",LOOKUP($B194,Inscriptions!A$2:A$65496,Inscriptions!B$2:B$65498))","v":""},{"$f":"IF(ISBLANK($B194),\"\",LOOKUP($B194,Inscriptions!A$2:A$65496,Inscriptions!C$2:C$65498))","v":""},{"$f":"IF(ISBLANK($B194),\"\",LOOKUP($B194,Inscriptions!A$2:A$65496,Inscriptions!D$2:D$65498))","v":""},null,null,null,0,0,0,"",""]
[191,null,{"$f":"IF(ISBLANK($B195),\"\",LOOKUP($B195,Inscriptions!A$2:A$65496,Inscriptions!B$2:B$65498))","v":""},{"$f":"IF(ISBLANK($B195),\"\",LOOKUP($B195,Inscriptions!A$2:A$65496,Inscriptions!C$2:C$65498))","v":""},{"$f":"IF(ISBLANK($B195),\"\",LOOKUP($B195,Inscriptions!A$2:A$65496,Inscriptions!D$2:D$65498))","v":""},null,null,null,0,0,0,"",""]
[192,null,{"$f":"IF(ISBLANK($B196),\"\",LOOKUP($B196,Inscriptions!A$2:A$65496,Inscriptions!B$2:B$65498))","v":""},{"$f":"IF(ISBLANK($B196),\"\",LOOKUP($B196,Inscriptions!A$2:A$65496,Inscriptions!C$2:C$65498))","v":""},{"$f":"IF(ISBLANK($B196),\"\",LOOKUP($B196,Inscriptions!A$2:A$65496,Inscriptions!D$2:D$65498))","v":""},null,null,null,0,0,0,"",""]
[193,null,{"$f":"IF(ISBLANK($B197),\"\",LOOKUP($B197,Inscriptions!A$2:A$65496,Inscriptions!B$2:B$65498))","v":""},{"$f":"IF(ISBLANK($B197),\"\",LOOKUP($B197,Inscriptions!A$2:A$65496,Inscriptions!C$2:C$65498))","v":""},{"$f":"IF(ISBLANK($B197),\"\",LOOKUP($B197,Inscriptions!A$2:A$65496,Inscriptions!D$2:D$65498))","v":""},null,null,null,0,0,0,"",""]
[194,null,{"$f":"IF(ISBLANK($B198),\"\",LOOKUP($B198,Inscriptions!A$2:A$65496,Inscriptions!B$2:B$65498))","v":""},{"$f":"IF(ISBLANK($B198),\"\",LOOKUP($B198,Inscriptions!A$2:A$65496,Inscriptions!C$2:C$65498))","v":""},{"$f":"IF(ISBLANK($B198),\"\",LOOKUP($B198,Inscriptions!A$2:A$65496,Inscriptions!D$2:D$65498))","v":""},null,null,null,{"$f":"ROUNDDOWN(H198/10000,0)","v":0},{"$f":"ROUNDDOWN((H198-I198*10000)/100,0)","v":0},{"$f":"ROUNDDOWN((H198-(I198*10000)-(J198*100)),0)","v":0},{"$f":"IF((I198+J198+K198)=0,\"\",ROUNDDOWN((L$4/((I198*3600)+(J198*60)+K198))*3.6,2))","v":""},{"$f":"IF(L198=\"\",\"\",\"km/h\")","v":""}]
[195,null,{"$f":"IF(ISBLANK($B199),\"\",LOOKUP($B199,Inscriptions!A$2:A$65496,Inscriptions!B$2:B$65498))","v":""},{"$f":"IF(ISBLANK($B199),\"\",LOOKUP($B199,Inscriptions!A$2:A$65496,Inscriptions!C$2:C$65498))","v":""},{"$f":"IF(ISBLANK($B199),\"\",LOOKUP($B199,Inscriptions!A$2:A$65496,Inscriptions!D$2:D$65498))","v":""},null,null,null,0,0,0,"",""]
[196,null,{"$f":"IF(ISBLANK($B200),\"\",LOOKUP($B200,Inscriptions!A$2:A$65496,Inscriptions!B$2:B$65498))","v":""},{"$f":"IF(ISBLANK($B200),\"\",LOOKUP($B200,Inscriptions!A$2:A$65496,Inscriptions!C$2:C$65498))","v":""},{"$f":"IF(ISBLANK($B200),\"\",LOOKUP($B200,Inscriptions!A$2:A$65496,Inscriptions!D$2:D$65498))","v":""},null,null,null,0,0,0,"",""]
[197,null,{"$f":"IF(ISBLANK($B201),\"\",LOOKUP($B201,Inscriptions!A$2:A$65496,Inscriptions!B$2:B$65498))","v":""},{"$f":"IF(ISBLANK($B201),\"\",LOOKUP($B201,Inscriptions!A$2:A$65496,Inscriptions!C$2:C$65498))","v":""},{"$f":"IF(ISBLANK($B201),\"\",LOOKUP($B201,Inscriptions!A$2:A$65496,Inscriptions!D$2:D$65498))","v":""},null,null,null,0,0,0,"",""]
[198,null,{"$f":"IF(ISBLANK($B202),\"\",LOOKUP($B202,Inscriptions!A$2:A$65496,Inscriptions!B$2:B$65498))","v":""},{"$f":"IF(ISBLANK($B202),\"\",LOOKUP($B202,Inscriptions!A$2:A$65496,Inscriptions!C$2:C$65498))","v":""},{"$f":"IF(ISBLANK($B202),\"\",LOOKUP($B202,Inscriptions!A$2:A$65496,Inscriptions!D$2:D$65498))","v":""},null,null,null,0,0,0,"",""]
[199,null,{"$f":"IF(ISBLANK($B203),\"\",LOOKUP($B203,Inscriptions!A$2:A$65496,Inscriptions!B$2:B$65498))","v":""},{"$f":"IF(ISBLANK($B203),\"\",LOOKUP($B203,Inscriptions!A$2:A$65496,Inscriptions!C$2:C$65498))","v":""},{"$f":"IF(ISBLANK($B203),\"\",LOOKUP($B203,Inscriptions!A$2:A$65496,Inscriptions!D$2:D$65498))","v":""},null,null,null,0,0,0,"",""]
[200,null,{"$f":"IF(ISBLANK($B204),\"\",LOOKUP($B204,Inscriptions!A$2:A$65496,Inscriptions!B$2:B$65498))","v":""},{"$f":"IF(ISBLANK($B204),\"\",LOOKUP($B204,Inscriptions!A$2:A$65496,Inscriptions!C$2:C$65498))","v":""},{"$f":"IF(ISBLANK($B204),\"\",LOOKUP($B204,Inscriptions!A$2:A$65496,Inscriptions!D$2:D$65498))","v":""},null,null,null,0,0,0,"",""]
[201,null,{"$f":"IF(ISBLANK($B205),\"\",LOOKUP($B205,Inscriptions!A$2:A$65496,Inscriptions!B$2:B$65498))","v":""},{"$f":"IF(ISBLANK($B205),\"\",LOOKUP($B205,Inscriptions!A$2:A$65496,Inscriptions!C$2:C$65498))","v":""},{"$f":"IF(ISBLANK($B205),\"\",LOOKUP($B205,Inscriptions!A$2:A$65496,Inscriptions!D$2:D$65498))","v":""},null,null,null,0,0,0,"",""]
[202,null,{"$f":"IF(ISBLANK($B206),\"\",LOOKUP($B206,Inscriptions!A$2:A$65496,Inscriptions!B$2:B$65498))","v":""},{"$f":"IF(ISBLANK($B206),\"\",LOOKUP($B206,Inscriptions!A$2:A$65496,Inscriptions!C$2:C$65498))","v":""},{"$f":"IF(ISBLANK($B206),\"\",LOOKUP($B206,Inscriptions!A$2:A$65496,Inscriptions!D$2:D$65498))","v":""},null,null,null,0,0,0,"",""]
[203,null,{"$f":"IF(ISBLANK($B207),\"\",LOOKUP($B207,Inscriptions!A$2:A$65496,Inscriptions!B$2:B$65498))","v":""},{"$f":"IF(ISBLANK($B207),\"\",LOOKUP($B207,Inscriptions!A$2:A$65496,Inscriptions!C$2:C$65498))","v":""},{"$f":"IF(ISBLANK($B207),\"\",LOOKUP($B207,Inscriptions!A$2:A$65496,Inscriptions!D$2:D$65498))","v":""},null,null,null,0,0,0,"",""]
[204,null,{"$f":"IF(ISBLANK($B208),\"\",LOOKUP($B208,Inscriptions!A$2:A$65496,Inscriptions!B$2:B$65498))","v":""},{"$f":"IF(ISBLANK($B208),\"\",LOOKUP($B208,Inscriptions!A$2:A$65496,Inscriptions!C$2:C$65498))","v":""},{"$f":"IF(ISBLANK($B208),\"\",LOOKUP($B208,Inscriptions!A$2:A$65496,Inscriptions!D$2:D$65498))","v":""},null,null,null,0,0,0,"",""]
[205,null,{"$f":"IF(ISBLANK($B209),\"\",LOOKUP($B209,Inscriptions!A$2:A$65496,Inscriptions!B$2:B$65498))","v":""},{"$f":"IF(ISBLANK($B209),\"\",LOOKUP($B209,Inscriptions!A$2:A$65496,Inscriptions!C$2:C$65498))","v":""},{"$f":"IF(ISBLANK($B209),\"\",LOOKUP($B209,Inscriptions!A$2:A$65496,Inscriptions!D$2:D$65498))","v":""},null,null,null,0,0,0,"",""]
[206,null,{"$f":"IF(ISBLANK($B210),\"\",LOOKUP($B210,Inscriptions!A$2:A$65496,Inscriptions!B$2:B$65498))","v":""},{"$f":"IF(ISBLANK($B210),\"\",LOOKUP($B210,Inscriptions!A$2:A$65496,Inscriptions!C$2:C$65498))","v":""},{"$f":"IF(ISBLANK($B210),\"\",LOOKUP($B210,Inscriptions!A$2:A$65496,Inscriptions!D$2:D$65498))","v":""},null,null,null,0,0,0,"",""]
[207,null,{"$f":"IF(ISBLANK($B211),\"\",LOOKUP($B211,Inscriptions!A$2:A$65496,Inscriptions!B$2:B$65498))","v":""},{"$f":"IF(ISBLANK($B211),\"\",LOOKUP($B211,Inscriptions!A$2:A$65496,Inscriptions!C$2:C$65498))","v":""},{"$f":"IF(ISBLANK($B211),\"\",LOOKUP($B211,Inscriptions!A$2:A$65496,Inscriptions!D$2:D$65498))","v":""},null,null,null,0,0,0,"",""]
[208,null,{"$f":"IF(ISBLANK($B212),\"\",LOOKUP($B212,Inscriptions!A$2:A$65496,Inscriptions!B$2:B$65498))","v":""},{"$f":"IF(ISBLANK($B212),\"\",LOOKUP($B212,Inscriptions!A$2:A$65496,Inscriptions!C$2:C$65498))","v":""},{"$f":"IF(ISBLANK($B212),\"\",LOOKUP($B212,Inscriptions!A$2:A$65496,Inscriptions!D$2:D$65498))","v":""},null,null,null,0,0,0,"",""]
[209,null,{"$f":"IF(ISBLANK($B213),\"\",LOOKUP($B213,Inscriptions!A$2:A$65496,Inscriptions!B$2:B$65498))","v":""},{"$f":"IF(ISBLANK($B213),\"\",LOOKUP($B213,Inscriptions!A$2:A$65496,Inscriptions!C$2:C$65498))","v":""},{"$f":"IF(ISBLANK($B213),\"\",LOOKUP($B213,Inscriptions!A$2:A$65496,Inscriptions!D$2:D$65498))","v":""},null,null,null,0,0,0,"",""]
[210,null,{"$f":"IF(ISBLANK($B214),\"\",LOOKUP($B214,Inscriptions!A$2:A$65496,Inscriptions!B$2:B$65498))","v":""},{"$f":"IF(ISBLANK($B214),\"\",LOOKUP($B214,Inscriptions!A$2:A$65496,Inscriptions!C$2:C$65498))","v":""},{"$f":"IF(ISBLANK($B214),\"\",LOOKUP($B214,Inscriptions!A$2:A$65496,Inscriptions!D$2:D$65498))","v":""},null,null,null,0,0,0,"",""]
[211,null,{"$f":"IF(ISBLANK($B215),\"\",LOOKUP($B215,Inscriptions!A$2:A$65496,Inscriptions!B$2:B$65498))","v":""},{"$f":"IF(ISBLANK($B215),\"\",LOOKUP($B215,Inscriptions!A$2:A$65496,Inscriptions!C$2:C$65498))","v":""},{"$f":"IF(ISBLANK($B215),\"\",LOOKUP($B215,Inscriptions!A$2:A$65496,Inscriptions!D$2:D$65498))","v":""},null,null,null,0,0,0,"",""]
[212,null,{"$f":"IF(ISBLANK($B216),\"\",LOOKUP($B216,Inscriptions!A$2:A$65496,Inscriptions!B$2:B$65498))","v":""},{"$f":"IF(ISBLANK($B216),\"\",LOOKUP($B216,Inscriptions!A$2:A$65496,Inscriptions!C$2:C$65498))","v":""},{"$f":"IF(ISBLANK($B216),\"\",LOOKUP($B216,Inscriptions!A$2:A$65496,Inscriptions!D$2:D$65498))","v":""},null,null,null,0,0,0,"",""]
[213,null,{"$f":"IF(ISBLANK($B217),\"\",LOOKUP($B217,Inscriptions!A$2:A$65496,Inscriptions!B$2:B$65498))","v":""},{"$f":"IF(ISBLANK($B217),\"\",LOOKUP($B217,Inscriptions!A$2:A$65496,Inscriptions!C$2:C$65498))","v":""},{"$f":"IF(ISBLANK($B217),\"\",LOOKUP($B217,Inscriptions!A$2:A$65496,Inscriptions!D$2:D$65498))","v":""},null,null,null,0,0,0,"",""]
[214,null,{"$f":"IF(ISBLANK($B218),\"\",LOOKUP($B218,Inscriptions!A$2:A$65496,Inscriptions!B$2:B$65498))","v":""},{"$f":"IF(ISBLANK($B218),\"\",LOOKUP($B218,Inscriptions!A$2:A$65496,Inscriptions!C$2:C$65498))","v":""},{"$f":"IF(ISBLANK($B218),\"\",LOOKUP($B218,Inscriptions!A$2:A$65496,Inscriptions!D$2:D$65498))","v":""},null,null,null,0,0,0,"",""]
[215,null,{"$f":"IF(ISBLANK($B219),\"\",LOOKUP($B219,Inscriptions!A$2:A$65496,Inscriptions!B$2:B$65498))","v":""},{"$f":"IF(ISBLANK($B219),\"\",LOOKUP($B219,Inscriptions!A$2:A$65496,Inscriptions!C$2:C$65498))","v":""},{"$f":"IF(ISBLANK($B219),\"\",LOOKUP($B219,Inscriptions!A$2:A$65496,Inscriptions!D$2:D$65498))","v":""},null,null,null,0,0,0,"",""]
[216,null,{"$f":"IF(ISBLANK($B220),\"\",LOOKUP($B220,Inscriptions!A$2:A$65496,Inscriptions!B$2:B$65498))","v":""},{"$f":"IF(ISBLANK($B220),\"\",LOOKUP($B220,Inscriptions!A$2:A$65496,Inscriptions!C$2:C$65498))","v":""},{"$f":"IF(ISBLANK($B220),\"\",LOOKUP($B220,Inscriptions!A$2:A$65496,Inscriptions!D$2:D$65498))","v":""},null,null,null,0,0,0,"",""]
[217,null,{"$f":"IF(ISBLANK($B221),\"\",LOOKUP($B221,Inscriptions!A$2:A$65496,Inscriptions!B$2:B$65498))","v":""},{"$f":"IF(ISBLANK($B221),\"\",LOOKUP($B221,Inscriptions!A$2:A$65496,Inscriptions!C$2:C$65498))","v":""},{"$f":"IF(ISBLANK($B221),\"\",LOOKUP($B221,Inscriptions!A$2:A$65496,Inscriptions!D$2:D$65498))","v":""},null,null,null,0,0,0,"",""]
[218,null,{"$f":"IF(ISBLANK($B222),\"\",LOOKUP($B222,Inscriptions!A$2:A$65496,Inscriptions!B$2:B$65498))","v":""},{"$f":"IF(ISBLANK($B222),\"\",LOOKUP($B222,Inscriptions!A$2:A$65496,Inscriptions!C$2:C$65498))","v":""},{"$f":"IF(ISBLANK($B222),\"\",LOOKUP($B222,Inscriptions!A$2:A$65496,Inscriptions!D$2:D$65498))","v":""},null,null,null,0,0,0,"",""]
[219,null,{"$f":"IF(ISBLANK($B223),\"\",LOOKUP($B223,Inscriptions!A$2:A$65496,Inscriptions!B$2:B$65498))","v":""},{"$f":"IF(ISBLANK($B223),\"\",LOOKUP($B223,Inscriptions!A$2:A$65496,Inscriptions!C$2:C$65498))","v":""},{"$f":"IF(ISBLANK($B223),\"\",LOOKUP($B223,Inscriptions!A$2:A$65496,Inscriptions!D$2:D$65498))","v":""},null,null,null,0,0,0,"",""]
[220,null,{"$f":"IF(ISBLANK($B224),\"\",LOOKUP($B224,Inscriptions!A$2:A$65496,Inscriptions!B$2:B$65498))","v":""},{"$f":"IF(ISBLANK($B224),\"\",LOOKUP($B224,Inscriptions!A$2:A$65496,Inscriptions!C$2:C$65498))","v":""},{"$f":"IF(ISBLANK($B224),\"\",LOOKUP($B224,Inscriptions!A$2:A$65496,Inscriptions!D$2:D$65498))","v":""},null,null,null,0,0,0,"",""]
[221,null,{"$f":"IF(ISBLANK($B225),\"\",LOOKUP($B225,Inscriptions!A$2:A$65496,Inscriptions!B$2:B$65498))","v":""},{"$f":"IF(ISBLANK($B225),\"\",LOOKUP($B225,Inscriptions!A$2:A$65496,Inscriptions!C$2:C$65498))","v":""},{"$f":"IF(ISBLANK($B225),\"\",LOOKUP($B225,Inscriptions!A$2:A$65496,Inscriptions!D$2:D$65498))","v":""},null,null,null,0,0,0,"",""]
[222,null,{"$f":"IF(ISBLANK($B226),\"\",LOOKUP($B226,Inscriptions!A$2:A$65496,Inscriptions!B$2:B$65498))","v":""},{"$f":"IF(ISBLANK($B226),\"\",LOOKUP($B226,Inscriptions!A$2:A$65496,Inscriptions!C$2:C$65498))","v":""},{"$f":"IF(ISBLANK($B226),\"\",LOOKUP($B226,Inscriptions!A$2:A$65496,Inscriptions!D$2:D$65498))","v":""},null,null,null,0,0,0,"",""]
[223,null,{"$f":"IF(ISBLANK($B227),\"\",LOOKUP($B227,Inscriptions!A$2:A$65496,Inscriptions!B$2:B$65498))","v":""},{"$f":"IF(ISBLANK($B227),\"\",LOOKUP($B227,Inscriptions!A$2:A$65496,Inscriptions!C$2:C$65498))","v":""},{"$f":"IF(ISBLANK($B227),\"\",LOOKUP($B227,Inscriptions!A$2:A$65496,Inscriptions!D$2:D$65498))","v":""},null,null,null,0,0,0,"",""]
[224,null,{"$f":"IF(ISBLANK($B228),\"\",LOOKUP($B228,Inscriptions!A$2:A$65496,Inscriptions!B$2:B$65498))","v":""},{"$f":"IF(ISBLANK($B228),\"\",LOOKUP($B228,Inscriptions!A$2:A$65496,Inscriptions!C$2:C$65498))","v":""},{"$f":"IF(ISBLANK($B228),\"\",LOOKUP($B228,Inscriptions!A$2:A$65496,Inscriptions!D$2:D$65498))","v":""},null,null,null,0,0,0,"",""]
[225,null,{"$f":"IF(ISBLANK($B229),\"\",LOOKUP($B229,Inscriptions!A$2:A$65496,Inscriptions!B$2:B$65498))","v":""},{"$f":"IF(ISBLANK($B229),\"\",LOOKUP($B229,Inscriptions!A$2:A$65496,Inscriptions!C$2:C$65498))","v":""},{"$f":"IF(ISBLANK($B229),\"\",LOOKUP($B229,Inscriptions!A$2:A$65496,Inscriptions!D$2:D$65498))","v":""},null,null,null,0,0,0,"",""]
[226,null,{"$f":"IF(ISBLANK($B230),\"\",LOOKUP($B230,Inscriptions!A$2:A$65496,Inscriptions!B$2:B$65498))","v":""},{"$f":"IF(ISBLANK($B230),\"\",LOOKUP($B230,Inscriptions!A$2:A$65496,Inscriptions!C$2:C$65498))","v":""},{"$f":"IF(ISBLANK($B230),\"\",LOOKUP($B230,Inscriptions!A$2:A$65496,Inscriptions!D$2:D$65498))","v":""},null,null,null,0,0,0,"",""]
[227,null,{"$f":"IF(ISBLANK($B231),\"\",LOOKUP($B231,Inscriptions!A$2:A$65496,Inscriptions!B$2:B$65498))","v":""},{"$f":"IF(ISBLANK($B231),\"\",LOOKUP($B231,Inscriptions!A$2:A$65496,Inscriptions!C$2:C$65498))","v":""},{"$f":"IF(ISBLANK($B231),\"\",LOOKUP($B231,Inscriptions!A$2:A$65496,Inscriptions!D$2:D$65498))","v":""},null,null,null,0,0,0,"",""]
[228,null,{"$f":"IF(ISBLANK($B232),\"\",LOOKUP($B232,Inscriptions!A$2:A$65496,Inscriptions!B$2:B$65498))","v":""},{"$f":"IF(ISBLANK($B232),\"\",LOOKUP($B232,Inscriptions!A$2:A$65496,Inscriptions!C$2:C$65498))","v":""},{"$f":"IF(ISBLANK($B232),\"\",LOOKUP($B232,Inscriptions!A$2:A$65496,Inscriptions!D$2:D$65498))","v":""},null,null,null,0,0,0,"",""]
[229,null,{"$f":"IF(ISBLANK($B233),\"\",LOOKUP($B233,Inscriptions!A$2:A$65496,Inscriptions!B$2:B$65498))","v":""},{"$f":"IF(ISBLANK($B233),\"\",LOOKUP($B233,Inscriptions!A$2:A$65496,Inscriptions!C$2:C$65498))","v":""},{"$f":"IF(ISBLANK($B233),\"\",LOOKUP($B233,Inscriptions!A$2:A$65496,Inscriptions!D$2:D$65498))","v":""},null,null,null,0,0,0,"",""]
[230,null,{"$f":"IF(ISBLANK($B234),\"\",LOOKUP($B234,Inscriptions!A$2:A$65496,Inscriptions!B$2:B$65498))","v":""},{"$f":"IF(ISBLANK($B234),\"\",LOOKUP($B234,Inscriptions!A$2:A$65496,Inscriptions!C$2:C$65498))","v":""},{"$f":"IF(ISBLANK($B234),\"\",LOOKUP($B234,Inscriptions!A$2:A$65496,Inscriptions!D$2:D$65498))","v":""},null,null,null,0,0,0,"",""]
[231,null,{"$f":"IF(ISBLANK($B235),\"\",LOOKUP($B235,Inscriptions!A$2:A$65496,Inscriptions!B$2:B$65498))","v":""},{"$f":"IF(ISBLANK($B235),\"\",LOOKUP($B235,Inscriptions!A$2:A$65496,Inscriptions!C$2:C$65498))","v":""},{"$f":"IF(ISBLANK($B235),\"\",LOOKUP($B235,Inscriptions!A$2:A$65496,Inscriptions!D$2:D$65498))","v":""},null,null,null,0,0,0,"",""]
[232,null,{"$f":"IF(ISBLANK($B236),\"\",LOOKUP($B236,Inscriptions!A$2:A$65496,Inscriptions!B$2:B$65498))","v":""},{"$f":"IF(ISBLANK($B236),\"\",LOOKUP($B236,Inscriptions!A$2:A$65496,Inscriptions!C$2:C$65498))","v":""},{"$f":"IF(ISBLANK($B236),\"\",LOOKUP($B236,Inscriptions!A$2:A$65496,Inscriptions!D$2:D$65498))","v":""},null,null,null,0,0,0,"",""]
[233,null,{"$f":"IF(ISBLANK($B237),\"\",LOOKUP($B237,Inscriptions!A$2:A$65496,Inscriptions!B$2:B$65498))","v":""},{"$f":"IF(ISBLANK($B237),\"\",LOOKUP($B237,Inscriptions!A$2:A$65496,Inscriptions!C$2:C$65498))","v":""},{"$f":"IF(ISBLANK($B237),\"\",LOOKUP($B237,Inscriptions!A$2:A$65496,Inscriptions!D$2:D$65498))","v":""},null,null,null,0,0,0,"",""]
[234,null,{"$f":"IF(ISBLANK($B238),\"\",LOOKUP($B238,Inscriptions!A$2:A$65496,Inscriptions!B$2:B$65498))","v":""},{"$f":"IF(ISBLANK($B238),\"\",LOOKUP($B238,Inscriptions!A$2:A$65496,Inscriptions!C$2:C$65498))","v":""},{"$f":"IF(ISBLANK($B238),\"\",LOOKUP($B238,Inscriptions!A$2:A$65496,Inscriptions!D$2:D$65498))","v":""},null,null,null,0,0,0,"",""]
[235,null,{"$f":"IF(ISBLANK($B239),\"\",LOOKUP($B239,Inscriptions!A$2:A$65496,Inscriptions!B$2:B$65498))","v":""},{"$f":"IF(ISBLANK($B239),\"\",LOOKUP($B239,Inscriptions!A$2:A$65496,Inscriptions!C$2:C$65498))","v":""},{"$f":"IF(ISBLANK($B239),\"\",LOOKUP($B239,Inscriptions!A$2:A$65496,Inscriptions!D$2:D$65498))","v":""},null,null,null,0,0,0,"",""]
[236,null,{"$f":"IF(ISBLANK($B240),\"\",LOOKUP($B240,Inscriptions!A$2:A$65496,Inscriptions!B$2:B$65498))","v":""},{"$f":"IF(ISBLANK($B240),\"\",LOOKUP($B240,Inscriptions!A$2:A$65496,Inscriptions!C$2:C$65498))","v":""},{"$f":"IF(ISBLANK($B240),\"\",LOOKUP($B240,Inscriptions!A$2:A$65496,Inscriptions!D$2:D$65498))","v":""},null,null,null,0,0,0,"",""]
[237,null,{"$f":"IF(ISBLANK($B241),\"\",LOOKUP($B241,Inscriptions!A$2:A$65496,Inscriptions!B$2:B$65498))","v":""},{"$f":"IF(ISBLANK($B241),\"\",LOOKUP($B241,Inscriptions!A$2:A$65496,Inscriptions!C$2:C$65498))","v":""},{"$f":"IF(ISBLANK($B241),\"\",LOOKUP($B241,Inscriptions!A$2:A$65496,Inscriptions!D$2:D$65498))","v":""},null,null,null,0,0,0,"",""]
[238,null,{"$f":"IF(ISBLANK($B242),\"\",LOOKUP($B242,Inscriptions!A$2:A$65496,Inscriptions!B$2:B$65498))","v":""},{"$f":"IF(ISBLANK($B242),\"\",LOOKUP($B242,Inscriptions!A$2:A$65496,Inscriptions!C$2:C$65498))","v":""},{"$f":"IF(ISBLANK($B242),\"\",LOOKUP($B242,Inscriptions!A$2:A$65496,Inscriptions!D$2:D$65498))","v":""},null,null,null,0,0,0,"",""]
[239,null,{"$f":"IF(ISBLANK($B243),\"\",LOOKUP($B243,Inscriptions!A$2:A$65496,Inscriptions!B$2:B$65498))","v":""},{"$f":"IF(ISBLANK($B243),\"\",LOOKUP($B243,Inscriptions!A$2:A$65496,Inscriptions!C$2:C$65498))","v":""},{"$f":"IF(ISBLANK($B243),\"\",LOOKUP($B243,Inscriptions!A$2:A$65496,Inscriptions!D$2:D$65498))","v":""},null,null,null,0,0,0,"",""]
[240,null,{"$f":"IF(ISBLANK($B244),\"\",LOOKUP($B244,Inscriptions!A$2:A$65496,Inscriptions!B$2:B$65498))","v":""},{"$f":"IF(ISBLANK($B244),\"\",LOOKUP($B244,Inscriptions!A$2:A$65496,Inscriptions!C$2:C$65498))","v":""},{"$f":"IF(ISBLANK($B244),\"\",LOOKUP($B244,Inscriptions!A$2:A$65496,Inscriptions!D$2:D$65498))","v":""},null,null,null,0,0,0,"",""]
[241,null,{"$f":"IF(ISBLANK($B245),\"\",LOOKUP($B245,Inscriptions!A$2:A$65496,Inscriptions!B$2:B$65498))","v":""},{"$f":"IF(ISBLANK($B245),\"\",LOOKUP($B245,Inscriptions!A$2:A$65496,Inscriptions!C$2:C$65498))","v":""},{"$f":"IF(ISBLANK($B245),\"\",LOOKUP($B245,Inscriptions!A$2:A$65496,Inscriptions!D$2:D$65498))","v":""},null,null,null,0,0,0,"",""]
[242,null,{"$f":"IF(ISBLANK($B246),\"\",LOOKUP($B246,Inscriptions!A$2:A$65496,Inscriptions!B$2:B$65498))","v":""},{"$f":"IF(ISBLANK($B246),\"\",LOOKUP($B246,Inscriptions!A$2:A$65496,Inscriptions!C$2:C$65498))","v":""},{"$f":"IF(ISBLANK($B246),\"\",LOOKUP($B246,Inscriptions!A$2:A$65496,Inscriptions!D$2:D$65498))","v":""},null,null,null,0,0,0,"",""]
[243,null,{"$f":"IF(ISBLANK($B247),\"\",LOOKUP($B247,Inscriptions!A$2:A$65496,Inscriptions!B$2:B$65498))","v":""},{"$f":"IF(ISBLANK($B247),\"\",LOOKUP($B247,Inscriptions!A$2:A$65496,Inscriptions!C$2:C$65498))","v":""},{"$f":"IF(ISBLANK($B247),\"\",LOOKUP($B247,Inscriptions!A$2:A$65496,Inscriptions!D$2:D$65498))","v":""},null,null,null,0,0,0,"",""]
[244,null,{"$f":"IF(ISBLANK($B248),\"\",LOOKUP($B248,Inscriptions!A$2:A$65496,Inscriptions!B$2:B$65498))","v":""},{"$f":"IF(ISBLANK($B248),\"\",LOOKUP($B248,Inscriptions!A$2:A$65496,Inscriptions!C$2:C$65498))","v":""},{"$f":"IF(ISBLANK($B248),\"\",LOOKUP($B248,Inscriptions!A$2:A$65496,Inscriptions!D$2:D$65498))","v":""},null,null,null,0,0,0,"",""]
[245,null,{"$f":"IF(ISBLANK($B249),\"\",LOOKUP($B249,Inscriptions!A$2:A$65496,Inscriptions!B$2:B$65498))","v":""},{"$f":"IF(ISBLANK($B249),\"\",LOOKUP($B249,Inscriptions!A$2:A$65496,Inscriptions!C$2:C$65498))","v":""},{"$f":"IF(ISBLANK($B249),\"\",LOOKUP($B249,Inscriptions!A$2:A$65496,Inscriptions!D$2:D$65498))","v":""},null,null,null,0,0,0,"",""]
[246,null,{"$f":"IF(ISBLANK($B250),\"\",LOOKUP($B250,Inscriptions!A$2:A$65496,Inscriptions!B$2:B$65498))","v":""},{"$f":"IF(ISBLANK($B250),\"\",LOOKUP($B250,Inscriptions!A$2:A$65496,Inscriptions!C$2:C$65498))","v":""},{"$f":"IF(ISBLANK($B250),\"\",LOOKUP($B250,Inscriptions!A$2:A$65496,Inscriptions!D$2:D$65498))","v":""},null,null,null,0,0,0,"",""]
[247,null,{"$f":"IF(ISBLANK($B251),\"\",LOOKUP($B251,Inscriptions!A$2:A$65496,Inscriptions!B$2:B$65498))","v":""},{"$f":"IF(ISBLANK($B251),\"\",LOOKUP($B251,Inscriptions!A$2:A$65496,Inscriptions!C$2:C$65498))","v":""},{"$f":"IF(ISBLANK($B251),\"\",LOOKUP($B251,Inscriptions!A$2:A$65496,Inscriptions!D$2:D$65498))","v":""},null,null,null,0,0,0,"",""]
[248,null,{"$f":"IF(ISBLANK($B252),\"\",LOOKUP($B252,Inscriptions!A$2:A$65496,Inscriptions!B$2:B$65498))","v":""},{"$f":"IF(ISBLANK($B252),\"\",LOOKUP($B252,Inscriptions!A$2:A$65496,Inscriptions!C$2:C$65498))","v":""},{"$f":"IF(ISBLANK($B252),\"\",LOOKUP($B252,Inscriptions!A$2:A$65496,Inscriptions!D$2:D$65498))","v":""},null,null,null,0,0,0,"",""]
[249,null,{"$f":"IF(ISBLANK($B253),\"\",LOOKUP($B253,Inscriptions!A$2:A$65496,Inscriptions!B$2:B$65498))","v":""},{"$f":"IF(ISBLANK($B253),\"\",LOOKUP($B253,Inscriptions!A$2:A$65496,Inscriptions!C$2:C$65498))","v":""},{"$f":"IF(ISBLANK($B253),\"\",LOOKUP($B253,Inscriptions!A$2:A$65496,Inscriptions!D$2:D$65498))","v":""},null,null,null,0,0,0,"",""]
[250,null,{"$f":"IF(ISBLANK($B254),\"\",LOOKUP($B254,Inscriptions!A$2:A$65496,Inscriptions!B$2:B$65498))","v":""},{"$f":"IF(ISBLANK($B254),\"\",LOOKUP($B254,Inscriptions!A$2:A$65496,Inscriptions!C$2:C$65498))","v":""},{"$f":"IF(ISBLANK($B254),\"\",LOOKUP($B254,Inscriptions!A$2:A$65496,Inscriptions!D$2:D$65498))","v":""},null,null,null,0,0,0,"",""]
[251,null,{"$f":"IF(ISBLANK($B255),\"\",LOOKUP($B255,Inscriptions!A$2:A$65496,Inscriptions!B$2:B$65498))","v":""},{"$f":"IF(ISBLANK($B255),\"\",LOOKUP($B255,Inscriptions!A$2:A$65496,Inscriptions!C$2:C$65498))","v":""},{"$f":"IF(ISBLANK($B255),\"\",LOOKUP($B255,Inscriptions!A$2:A$65496,Inscriptions!D$2:D$65498))","v":""},null,null,null,0,0,0,"",""]
[252,null,{"$f":"IF(ISBLANK($B256),\"\",LOOKUP($B256,Inscriptions!A$2:A$65496,Inscriptions!B$2:B$65498))","v":""},{"$f":"IF(ISBLANK($B256),\"\",LOOKUP($B256,Inscriptions!A$2:A$65496,Inscriptions!C$2:C$65498))","v":""},{"$f":"IF(ISBLANK($B256),\"\",LOOKUP($B256,Inscriptions!A$2:A$65496,Inscriptions!D$2:D$65498))","v":""},null,null,null,0,0,0,"",""]
[253,null,{"$f":"IF(ISBLANK($B257),\"\",LOOKUP($B257,Inscriptions!A$2:A$65496,Inscriptions!B$2:B$65498))","v":""},{"$f":"IF(ISBLANK($B257),\"\",LOOKUP($B257,Inscriptions!A$2:A$65496,Inscriptions!C$2:C$65498))","v":""},{"$f":"IF(ISBLANK($B257),\"\",LOOKUP($B257,Inscriptions!A$2:A$65496,Inscriptions!D$2:D$65498))","v":""},null,null,null,0,0,0,"",""]
[254,null,{"$f":"IF(ISBLANK($B258),\"\",LOOKUP($B258,Inscriptions!A$2:A$65496,Inscriptions!B$2:B$65498))","v":""},{"$f":"IF(ISBLANK($B258),\"\",LOOKUP($B258,Inscriptions!A$2:A$65496,Inscriptions!C$2:C$65498))","v":""},{"$f":"IF(ISBLANK($B258),\"\",LOOKUP($B258,Inscriptions!A$2:A$65496,Inscriptions!D$2:D$65498))","v":""},null,null,null,0,0,0,"",""]
[255,null,{"$f":"IF(ISBLANK($B259),\"\",LOOKUP($B259,Inscriptions!A$2:A$65496,Inscriptions!B$2:B$65498))","v":""},{"$f":"IF(ISBLANK($B259),\"\",LOOKUP($B259,Inscriptions!A$2:A$65496,Inscriptions!C$2:C$65498))","v":""},{"$f":"IF(ISBLANK($B259),\"\",LOOKUP($B259,Inscriptions!A$2:A$65496,Inscriptions!D$2:D$65498))","v":""},null,null,null,0,0,0,"",""]
[256,null,{"$f":"IF(ISBLANK($B260),\"\",LOOKUP($B260,Inscriptions!A$2:A$65496,Inscriptions!B$2:B$65498))","v":""},{"$f":"IF(ISBLANK($B260),\"\",LOOKUP($B260,Inscriptions!A$2:A$65496,Inscriptions!C$2:C$65498))","v":""},{"$f":"IF(ISBLANK($B260),\"\",LOOKUP($B260,Inscriptions!A$2:A$65496,Inscriptions!D$2:D$65498))","v":""},null,null,null,0,0,0,"",""]
[257,null,{"$f":"IF(ISBLANK($B261),\"\",LOOKUP($B261,Inscriptions!A$2:A$65496,Inscriptions!B$2:B$65498))","v":""},{"$f":"IF(ISBLANK($B261),\"\",LOOKUP($B261,Inscriptions!A$2:A$65496,Inscriptions!C$2:C$65498))","v":""},{"$f":"IF(ISBLANK($B261),\"\",LOOKUP($B261,Inscriptions!A$2:A$65496,Inscriptions!D$2:D$65498))","v":""},null,null,null,0,0,0,"",""]
[258,null,{"$f":"IF(ISBLANK($B262),\"\",LOOKUP($B262,Inscriptions!A$2:A$65496,Inscriptions!B$2:B$65498))","v":""},{"$f":"IF(ISBLANK($B262),\"\",LOOKUP($B262,Inscriptions!A$2:A$65496,Inscriptions!C$2:C$65498))","v":""},{"$f":"IF(ISBLANK($B262),\"\",LOOKUP($B262,Inscriptions!A$2:A$65496,Inscriptions!D$2:D$65498))","v":""},null,null,null,{"$f":"ROUNDDOWN(H262/10000,0)","v":0},{"$f":"ROUNDDOWN((H262-I262*10000)/100,0)","v":0},{"$f":"ROUNDDOWN((H262-(I262*10000)-(J262*100)),0)","v":0},{"$f":"IF((I262+J262+K262)=0,\"\",ROUNDDOWN((L$4/((I262*3600)+(J262*60)+K262))*3.6,2))","v":""},{"$f":"IF(L262=\"\",\"\",\"km/h\")","v":""}]
[259,null,{"$f":"IF(ISBLANK($B263),\"\",LOOKUP($B263,Inscriptions!A$2:A$65496,Inscriptions!B$2:B$65498))","v":""},{"$f":"IF(ISBLANK($B263),\"\",LOOKUP($B263,Inscriptions!A$2:A$65496,Inscriptions!C$2:C$65498))","v":""},{"$f":"IF(ISBLANK($B263),\"\",LOOKUP($B263,Inscriptions!A$2:A$65496,Inscriptions!D$2:D$65498))","v":""},null,null,null,0,0,0,"",""]
[260,null,{"$f":"IF(ISBLANK($B264),\"\",LOOKUP($B264,Inscriptions!A$2:A$65496,Inscriptions!B$2:B$65498))","v":""},{"$f":"IF(ISBLANK($B264),\"\",LOOKUP($B264,Inscriptions!A$2:A$65496,Inscriptions!C$2:C$65498))","v":""},{"$f":"IF(ISBLANK($B264),\"\",LOOKUP($B264,Inscriptions!A$2:A$65496,Inscriptions!D$2:D$65498))","v":""},null,null,null,0,0,0,"",""]
[261,null,{"$f":"IF(ISBLANK($B265),\"\",LOOKUP($B265,Inscriptions!A$2:A$65496,Inscriptions!B$2:B$65498))","v":""},{"$f":"IF(ISBLANK($B265),\"\",LOOKUP($B265,Inscriptions!A$2:A$65496,Inscriptions!C$2:C$65498))","v":""},{"$f":"IF(ISBLANK($B265),\"\",LOOKUP($B265,Inscriptions!A$2:A$65496,Inscriptions!D$2:D$65498))","v":""},null,null,null,0,0,0,"",""]
[262,null,{"$f":"IF(ISBLANK($B266),\"\",LOOKUP($B266,Inscriptions!A$2:A$65496,Inscriptions!B$2:B$65498))","v":""},{"$f":"IF(ISBLANK($B266),\"\",LOOKUP($B266,Inscriptions!A$2:A$65496,Inscriptions!C$2:C$65498))","v":""},{"$f":"IF(ISBLANK($B266),\"\",LOOKUP($B266,Inscriptions!A$2:A$65496,Inscriptions!D$2:D$65498))","v":""},null,null,null,0,0,0,"",""]
[263,null,{"$f":"IF(ISBLANK($B267),\"\",LOOKUP($B267,Inscriptions!A$2:A$65496,Inscriptions!B$2:B$65498))","v":""},{"$f":"IF(ISBLANK($B267),\"\",LOOKUP($B267,Inscriptions!A$2:A$65496,Inscriptions!C$2:C$65498))","v":""},{"$f":"IF(ISBLANK($B267),\"\",LOOKUP($B267,Inscriptions!A$2:A$65496,Inscriptions!D$2:D$65498))","v":""},null,null,null,0,0,0,"",""]
[264,null,{"$f":"IF(ISBLANK($B268),\"\",LOOKUP($B268,Inscriptions!A$2:A$65496,Inscriptions!B$2:B$65498))","v":""},{"$f":"IF(ISBLANK($B268),\"\",LOOKUP($B268,Inscriptions!A$2:A$65496,Inscriptions!C$2:C$65498))","v":""},{"$f":"IF(ISBLANK($B268),\"\",LOOKUP($B268,Inscriptions!A$2:A$65496,Inscriptions!D$2:D$65498))","v":""},null,null,null,0,0,0,"",""]
[265,null,{"$f":"IF(ISBLANK($B269),\"\",LOOKUP($B269,Inscriptions!A$2:A$65496,Inscriptions!B$2:B$65498))","v":""},{"$f":"IF(ISBLANK($B269),\"\",LOOKUP($B269,Inscriptions!A$2:A$65496,Inscriptions!C$2:C$65498))","v":""},{"$f":"IF(ISBLANK($B269),\"\",LOOKUP($B269,Inscriptions!A$2:A$65496,Inscriptions!D$2:D$65498))","v":""},null,null,null,0,0,0,"",""]
[266,null,{"$f":"IF(ISBLANK($B270),\"\",LOOKUP($B270,Inscriptions!A$2:A$65496,Inscriptions!B$2:B$65498))","v":""},{"$f":"IF(ISBLANK($B270),\"\",LOOKUP($B270,Inscriptions!A$2:A$65496,Inscriptions!C$2:C$65498))","v":""},{"$f":"IF(ISBLANK($B270),\"\",LOOKUP($B270,Inscriptions!A$2:A$65496,Inscriptions!D$2:D$65498))","v":""},null,null,null,0,0,0,"",""]
[267,null,{"$f":"IF(ISBLANK($B271),\"\",LOOKUP($B271,Inscriptions!A$2:A$65496,Inscriptions!B$2:B$65498))","v":""},{"$f":"IF(ISBLANK($B271),\"\",LOOKUP($B271,Inscriptions!A$2:A$65496,Inscriptions!C$2:C$65498))","v":""},{"$f":"IF(ISBLANK($B271),\"\",LOOKUP($B271,Inscriptions!A$2:A$65496,Inscriptions!D$2:D$65498))","v":""},null,null,null,0,0,0,"",""]
[268,null,{"$f":"IF(ISBLANK($B272),\"\",LOOKUP($B272,Inscriptions!A$2:A$65496,Inscriptions!B$2:B$65498))","v":""},{"$f":"IF(ISBLANK($B272),\"\",LOOKUP($B272,Inscriptions!A$2:A$65496,Inscriptions!C$2:C$65498))","v":""},{"$f":"IF(ISBLANK($B272),\"\",LOOKUP($B272,Inscriptions!A$2:A$65496,Inscriptions!D$2:D$65498))","v":""},null,null,null,0,0,0,"",""]
[269,null,{"$f":"IF(ISBLANK($B273),\"\",LOOKUP($B273,Inscriptions!A$2:A$65496,Inscriptions!B$2:B$65498))","v":""},{"$f":"IF(ISBLANK($B273),\"\",LOOKUP($B273,Inscriptions!A$2:A$65496,Inscriptions!C$2:C$65498))","v":""},{"$f":"IF(ISBLANK($B273),\"\",LOOKUP($B273,Inscriptions!A$2:A$65496,Inscriptions!D$2:D$65498))","v":""},null,null,null,0,0,0,"",""]
[270,null,{"$f":"IF(ISBLANK($B274),\"\",LOOKUP($B274,Inscriptions!A$2:A$65496,Inscriptions!B$2:B$65498))","v":""},{"$f":"IF(ISBLANK($B274),\"\",LOOKUP($B274,Inscriptions!A$2:A$65496,Inscriptions!C$2:C$65498))","v":""},{"$f":"IF(ISBLANK($B274),\"\",LOOKUP($B274,Inscriptions!A$2:A$65496,Inscriptions!D$2:D$65498))","v":""},null,null,null,0,0,0,"",""]
[271,null,{"$f":"IF(ISBLANK($B275),\"\",LOOKUP($B275,Inscriptions!A$2:A$65496,Inscriptions!B$2:B$65498))","v":""},{"$f":"IF(ISBLANK($B275),\"\",LOOKUP($B275,Inscriptions!A$2:A$65496,Inscriptions!C$2:C$65498))","v":""},{"$f":"IF(ISBLANK($B275),\"\",LOOKUP($B275,Inscriptions!A$2:A$65496,Inscriptions!D$2:D$65498))","v":""},null,null,null,0,0,0,"",""]
[272,null,{"$f":"IF(ISBLANK($B276),\"\",LOOKUP($B276,Inscriptions!A$2:A$65496,Inscriptions!B$2:B$65498))","v":""},{"$f":"IF(ISBLANK($B276),\"\",LOOKUP($B276,Inscriptions!A$2:A$65496,Inscriptions!C$2:C$65498))","v":""},{"$f":"IF(ISBLANK($B276),\"\",LOOKUP($B276,Inscriptions!A$2:A$65496,Inscriptions!D$2:D$65498))","v":""},null,null,null,0,0,0,"",""]
[273,null,{"$f":"IF(ISBLANK($B277),\"\",LOOKUP($B277,Inscriptions!A$2:A$65496,Inscriptions!B$2:B$65498))","v":""},{"$f":"IF(ISBLANK($B277),\"\",LOOKUP($B277,Inscriptions!A$2:A$65496,Inscriptions!C$2:C$65498))","v":""},{"$f":"IF(ISBLANK($B277),\"\",LOOKUP($B277,Inscriptions!A$2:A$65496,Inscriptions!D$2:D$65498))","v":""},null,null,null,0,0,0,"",""]
[274,null,{"$f":"IF(ISBLANK($B278),\"\",LOOKUP($B278,Inscriptions!A$2:A$65496,Inscriptions!B$2:B$65498))","v":""},{"$f":"IF(ISBLANK($B278),\"\",LOOKUP($B278,Inscriptions!A$2:A$65496,Inscriptions!C$2:C$65498))","v":""},{"$f":"IF(ISBLANK($B278),\"\",LOOKUP($B278,Inscriptions!A$2:A$65496,Inscriptions!D$2:D$65498))","v":""},null,null,null,0,0,0,"",""]
[275,null,{"$f":"IF(ISBLANK($B279),\"\",LOOKUP($B279,Inscriptions!A$2:A$65496,Inscriptions!B$2:B$65498))","v":""},{"$f":"IF(ISBLANK($B279),\"\",LOOKUP($B279,Inscriptions!A$2:A$65496,Inscriptions!C$2:C$65498))","v":""},{"$f":"IF(ISBLANK($B279),\"\",LOOKUP($B279,Inscriptions!A$2:A$65496,Inscriptions!D$2:D$65498))","v":""},null,null,null,0,0,0,"",""]
[276,null,{"$f":"IF(ISBLANK($B280),\"\",LOOKUP($B280,Inscriptions!A$2:A$65496,Inscriptions!B$2:B$65498))","v":""},{"$f":"IF(ISBLANK($B280),\"\",LOOKUP($B280,Inscriptions!A$2:A$65496,Inscriptions!C$2:C$65498))","v":""},{"$f":"IF(ISBLANK($B280),\"\",LOOKUP($B280,Inscriptions!A$2:A$65496,Inscriptions!D$2:D$65498))","v":""},null,null,null,0,0,0,"",""]
[277,null,{"$f":"IF(ISBLANK($B281),\"\",LOOKUP($B281,Inscriptions!A$2:A$65496,Inscriptions!B$2:B$65498))","v":""},{"$f":"IF(ISBLANK($B281),\"\",LOOKUP($B281,Inscriptions!A$2:A$65496,Inscriptions!C$2:C$65498))","v":""},{"$f":"IF(ISBLANK($B281),\"\",LOOKUP($B281,Inscriptions!A$2:A$65496,Inscriptions!D$2:D$65498))","v":""},null,null,null,0,0,0,"",""]
[278,null,{"$f":"IF(ISBLANK($B282),\"\",LOOKUP($B282,Inscriptions!A$2:A$65496,Inscriptions!B$2:B$65498))","v":""},{"$f":"IF(ISBLANK($B282),\"\",LOOKUP($B282,Inscriptions!A$2:A$65496,Inscriptions!C$2:C$65498))","v":""},{"$f":"IF(ISBLANK($B282),\"\",LOOKUP($B282,Inscriptions!A$2:A$65496,Inscriptions!D$2:D$65498))","v":""},null,null,null,0,0,0,"",""]
[279,null,{"$f":"IF(ISBLANK($B283),\"\",LOOKUP($B283,Inscriptions!A$2:A$65496,Inscriptions!B$2:B$65498))","v":""},{"$f":"IF(ISBLANK($B283),\"\",LOOKUP($B283,Inscriptions!A$2:A$65496,Inscriptions!C$2:C$65498))","v":""},{"$f":"IF(ISBLANK($B283),\"\",LOOKUP($B283,Inscriptions!A$2:A$65496,Inscriptions!D$2:D$65498))","v":""},null,null,null,0,0,0,"",""]
[280,null,{"$f":"IF(ISBLANK($B284),\"\",LOOKUP($B284,Inscriptions!A$2:A$65496,Inscriptions!B$2:B$65498))","v":""},{"$f":"IF(ISBLANK($B284),\"\",LOOKUP($B284,Inscriptions!A$2:A$65496,Inscriptions!C$2:C$65498))","v":""},{"$f":"IF(ISBLANK($B284),\"\",LOOKUP($B284,Inscriptions!A$2:A$65496,Inscriptions!D$2:D$65498))","v":""},null,null,null,0,0,0,"",""]
[281,null,{"$f":"IF(ISBLANK($B285),\"\",LOOKUP($B285,Inscriptions!A$2:A$65496,Inscriptions!B$2:B$65498))","v":""},{"$f":"IF(ISBLANK($B285),\"\",LOOKUP($B285,Inscriptions!A$2:A$65496,Inscriptions!C$2:C$65498))","v":""},{"$f":"IF(ISBLANK($B285),\"\",LOOKUP($B285,Inscriptions!A$2:A$65496,Inscriptions!D$2:D$65498))","v":""},null,null,null,0,0,0,"",""]
[282,null,{"$f":"IF(ISBLANK($B286),\"\",LOOKUP($B286,Inscriptions!A$2:A$65496,Inscriptions!B$2:B$65498))","v":""},{"$f":"IF(ISBLANK($B286),\"\",LOOKUP($B286,Inscriptions!A$2:A$65496,Inscriptions!C$2:C$65498))","v":""},{"$f":"IF(ISBLANK($B286),\"\",LOOKUP($B286,Inscriptions!A$2:A$65496,Inscriptions!D$2:D$65498))","v":""},null,null,null,0,0,0,"",""]
[283,null,{"$f":"IF(ISBLANK($B287),\"\",LOOKUP($B287,Inscriptions!A$2:A$65496,Inscriptions!B$2:B$65498))","v":""},{"$f":"IF(ISBLANK($B287),\"\",LOOKUP($B287,Inscriptions!A$2:A$65496,Inscriptions!C$2:C$65498))","v":""},{"$f":"IF(ISBLANK($B287),\"\",LOOKUP($B287,Inscriptions!A$2:A$65496,Inscriptions!D$2:D$65498))","v":""},null,null,null,0,0,0,"",""]
[284,null,{"$f":"IF(ISBLANK($B288),\"\",LOOKUP($B288,Inscriptions!A$2:A$65496,Inscriptions!B$2:B$65498))","v":""},{"$f":"IF(ISBLANK($B288),\"\",LOOKUP($B288,Inscriptions!A$2:A$65496,Inscriptions!C$2:C$65498))","v":""},{"$f":"IF(ISBLANK($B288),\"\",LOOKUP($B288,Inscriptions!A$2:A$65496,Inscriptions!D$2:D$65498))","v":""},null,null,null,0,0,0,"",""]
[285,null,{"$f":"IF(ISBLANK($B289),\"\",LOOKUP($B289,Inscriptions!A$2:A$65496,Inscriptions!B$2:B$65498))","v":""},{"$f":"IF(ISBLANK($B289),\"\",LOOKUP($B289,Inscriptions!A$2:A$65496,Inscriptions!C$2:C$65498))","v":""},{"$f":"IF(ISBLANK($B289),\"\",LOOKUP($B289,Inscriptions!A$2:A$65496,Inscriptions!D$2:D$65498))","v":""},null,null,null,0,0,0,"",""]
[286,null,{"$f":"IF(ISBLANK($B290),\"\",LOOKUP($B290,Inscriptions!A$2:A$65496,Inscriptions!B$2:B$65498))","v":""},{"$f":"IF(ISBLANK($B290),\"\",LOOKUP($B290,Inscriptions!A$2:A$65496,Inscriptions!C$2:C$65498))","v":""},{"$f":"IF(ISBLANK($B290),\"\",LOOKUP($B290,Inscriptions!A$2:A$65496,Inscriptions!D$2:D$65498))","v":""},null,null,null,0,0,0,"",""]
[287,null,{"$f":"IF(ISBLANK($B291),\"\",LOOKUP($B291,Inscriptions!A$2:A$65496,Inscriptions!B$2:B$65498))","v":""},{"$f":"IF(ISBLANK($B291),\"\",LOOKUP($B291,Inscriptions!A$2:A$65496,Inscriptions!C$2:C$65498))","v":""},{"$f":"IF(ISBLANK($B291),\"\",LOOKUP($B291,Inscriptions!A$2:A$65496,Inscriptions!D$2:D$65498))","v":""},null,null,null,0,0,0,"",""]
[288,null,{"$f":"IF(ISBLANK($B292),\"\",LOOKUP($B292,Inscriptions!A$2:A$65496,Inscriptions!B$2:B$65498))","v":""},{"$f":"IF(ISBLANK($B292),\"\",LOOKUP($B292,Inscriptions!A$2:A$65496,Inscriptions!C$2:C$65498))","v":""},{"$f":"IF(ISBLANK($B292),\"\",LOOKUP($B292,Inscriptions!A$2:A$65496,Inscriptions!D$2:D$65498))","v":""},null,null,null,0,0,0,"",""]
[289,null,{"$f":"IF(ISBLANK($B293),\"\",LOOKUP($B293,Inscriptions!A$2:A$65496,Inscriptions!B$2:B$65498))","v":""},{"$f":"IF(ISBLANK($B293),\"\",LOOKUP($B293,Inscriptions!A$2:A$65496,Inscriptions!C$2:C$65498))","v":""},{"$f":"IF(ISBLANK($B293),\"\",LOOKUP($B293,Inscriptions!A$2:A$65496,Inscriptions!D$2:D$65498))","v":""},null,null,null,0,0,0,"",""]
[290,null,{"$f":"IF(ISBLANK($B294),\"\",LOOKUP($B294,Inscriptions!A$2:A$65496,Inscriptions!B$2:B$65498))","v":""},{"$f":"IF(ISBLANK($B294),\"\",LOOKUP($B294,Inscriptions!A$2:A$65496,Inscriptions!C$2:C$65498))","v":""},{"$f":"IF(ISBLANK($B294),\"\",LOOKUP($B294,Inscriptions!A$2:A$65496,Inscriptions!D$2:D$65498))","v":""},null,null,null,0,0,0,"",""]
[291,null,{"$f":"IF(ISBLANK($B295),\"\",LOOKUP($B295,Inscriptions!A$2:A$65496,Inscriptions!B$2:B$65498))","v":""},{"$f":"IF(ISBLANK($B295),\"\",LOOKUP($B295,Inscriptions!A$2:A$65496,Inscriptions!C$2:C$65498))","v":""},{"$f":"IF(ISBLANK($B295),\"\",LOOKUP($B295,Inscriptions!A$2:A$65496,Inscriptions!D$2:D$65498))","v":""},null,null,null,0,0,0,"",""]
[292,null,{"$f":"IF(ISBLANK($B296),\"\",LOOKUP($B296,Inscriptions!A$2:A$65496,Inscriptions!B$2:B$65498))","v":""},{"$f":"IF(ISBLANK($B296),\"\",LOOKUP($B296,Inscriptions!A$2:A$65496,Inscriptions!C$2:C$65498))","v":""},{"$f":"IF(ISBLANK($B296),\"\",LOOKUP($B296,Inscriptions!A$2:A$65496,Inscriptions!D$2:D$65498))","v":""},null,null,null,0,0,0,"",""]
[293,null,{"$f":"IF(ISBLANK($B297),\"\",LOOKUP($B297,Inscriptions!A$2:A$65496,Inscriptions!B$2:B$65498))","v":""},{"$f":"IF(ISBLANK($B297),\"\",LOOKUP($B297,Inscriptions!A$2:A$65496,Inscriptions!C$2:C$65498))","v":""},{"$f":"IF(ISBLANK($B297),\"\",LOOKUP($B297,Inscriptions!A$2:A$65496,Inscriptions!D$2:D$65498))","v":""},null,null,null,0,0,0,"",""]
[294,null,{"$f":"IF(ISBLANK($B298),\"\",LOOKUP($B298,Inscriptions!A$2:A$65496,Inscriptions!B$2:B$65498))","v":""},{"$f":"IF(ISBLANK($B298),\"\",LOOKUP($B298,Inscriptions!A$2:A$65496,Inscriptions!C$2:C$65498))","v":""},{"$f":"IF(ISBLANK($B298),\"\",LOOKUP($B298,Inscriptions!A$2:A$65496,Inscriptions!D$2:D$65498))","v":""},null,null,null,0,0,0,"",""]
[295,null,{"$f":"IF(ISBLANK($B299),\"\",LOOKUP($B299,Inscriptions!A$2:A$65496,Inscriptions!B$2:B$65498))","v":""},{"$f":"IF(ISBLANK($B299),\"\",LOOKUP($B299,Inscriptions!A$2:A$65496,Inscriptions!C$2:C$65498))","v":""},{"$f":"IF(ISBLANK($B299),\"\",LOOKUP($B299,Inscriptions!A$2:A$65496,Inscriptions!D$2:D$65498))","v":""},null,null,null,0,0,0,"",""]
[296,null,{"$f":"IF(ISBLANK($B300),\"\",LOOKUP($B300,Inscriptions!A$2:A$65496,Inscriptions!B$2:B$65498))","v":""},{"$f":"IF(ISBLANK($B300),\"\",LOOKUP($B300,Inscriptions!A$2:A$65496,Inscriptions!C$2:C$65498))","v":""},{"$f":"IF(ISBLANK($B300),\"\",LOOKUP($B300,Inscriptions!A$2:A$65496,Inscriptions!D$2:D$65498))","v":""},null,null,null,0,0,0,"",""]
[297,null,{"$f":"IF(ISBLANK($B301),\"\",LOOKUP($B301,Inscriptions!A$2:A$65496,Inscriptions!B$2:B$65498))","v":""},{"$f":"IF(ISBLANK($B301),\"\",LOOKUP($B301,Inscriptions!A$2:A$65496,Inscriptions!C$2:C$65498))","v":""},{"$f":"IF(ISBLANK($B301),\"\",LOOKUP($B301,Inscriptions!A$2:A$65496,Inscriptions!D$2:D$65498))","v":""},null,null,null,0,0,0,"",""]
[298,null,{"$f":"IF(ISBLANK($B302),\"\",LOOKUP($B302,Inscriptions!A$2:A$65496,Inscriptions!B$2:B$65498))","v":""},{"$f":"IF(ISBLANK($B302),\"\",LOOKUP($B302,Inscriptions!A$2:A$65496,Inscriptions!C$2:C$65498))","v":""},{"$f":"IF(ISBLANK($B302),\"\",LOOKUP($B302,Inscriptions!A$2:A$65496,Inscriptions!D$2:D$65498))","v":""},null,null,null,null,null,null,{"$f":"IF((I302+J302+K302)=0,\"\",ROUNDDOWN((L$4/((I302*3600)+(J302*60)+K302))*3.6,2))","v":""},""]
[299,null,{"$f":"IF(ISBLANK($B303),\"\",LOOKUP($B303,Inscriptions!A$2:A$65496,Inscriptions!B$2:B$65498))","v":""},{"$f":"IF(ISBLANK($B303),\"\",LOOKUP($B303,Inscriptions!A$2:A$65496,Inscriptions!C$2:C$65498))","v":""},{"$f":"IF(ISBLANK($B303),\"\",LOOKUP($B303,Inscriptions!A$2:A$65496,Inscriptions!D$2:D$65498))","v":""},null,null,null,null,null,null,"",""]
[300,null,{"$f":"IF(ISBLANK($B304),\"\",LOOKUP($B304,Inscriptions!A$2:A$65496,Inscriptions!B$2:B$65498))","v":""},{"$f":"IF(ISBLANK($B304),\"\",LOOKUP($B304,Inscriptions!A$2:A$65496,Inscriptions!C$2:C$65498))","v":""},{"$f":"IF(ISBLANK($B304),\"\",LOOKUP($B304,Inscriptions!A$2:A$65496,Inscriptions!D$2:D$65498))","v":""},null,null,null,null,null,null,"",""]
[301,null,{"$f":"IF(ISBLANK($B305),\"\",LOOKUP($B305,Inscriptions!A$2:A$65496,Inscriptions!B$2:B$65498))","v":""},{"$f":"IF(ISBLANK($B305),\"\",LOOKUP($B305,Inscriptions!A$2:A$65496,Inscriptions!C$2:C$65498))","v":""},{"$f":"IF(ISBLANK($B305),\"\",LOOKUP($B305,Inscriptions!A$2:A$65496,Inscriptions!D$2:D$65498))","v":""},null,null,null,null,null,null,"",""]
[302,null,{"$f":"IF(ISBLANK($B306),\"\",LOOKUP($B306,Inscriptions!A$2:A$65496,Inscriptions!B$2:B$65498))","v":""},{"$f":"IF(ISBLANK($B306),\"\",LOOKUP($B306,Inscriptions!A$2:A$65496,Inscriptions!C$2:C$65498))","v":""},{"$f":"IF(ISBLANK($B306),\"\",LOOKUP($B306,Inscriptions!A$2:A$65496,Inscriptions!D$2:D$65498))","v":""},null,null,null,null,null,null,"",""]
[303,null,{"$f":"IF(ISBLANK($B307),\"\",LOOKUP($B307,Inscriptions!A$2:A$65496,Inscriptions!B$2:B$65498))","v":""},{"$f":"IF(ISBLANK($B307),\"\",LOOKUP($B307,Inscriptions!A$2:A$65496,Inscriptions!C$2:C$65498))","v":""},{"$f":"IF(ISBLANK($B307),\"\",LOOKUP($B307,Inscriptions!A$2:A$65496,Inscriptions!D$2:D$65498))","v":""},null,null,null,null,null,null,"",""]
[304,null,{"$f":"IF(ISBLANK($B308),\"\",LOOKUP($B308,Inscriptions!A$2:A$65496,Inscriptions!B$2:B$65498))","v":""},{"$f":"IF(ISBLANK($B308),\"\",LOOKUP($B308,Inscriptions!A$2:A$65496,Inscriptions!C$2:C$65498))","v":""},{"$f":"IF(ISBLANK($B308),\"\",LOOKUP($B308,Inscriptions!A$2:A$65496,Inscriptions!D$2:D$65498))","v":""},null,null,null,null,null,null,"",""]
[305,null,{"$f":"IF(ISBLANK($B309),\"\",LOOKUP($B309,Inscriptions!A$2:A$65496,Inscriptions!B$2:B$65498))","v":""},{"$f":"IF(ISBLANK($B309),\"\",LOOKUP($B309,Inscriptions!A$2:A$65496,Inscriptions!C$2:C$65498))","v":""},{"$f":"IF(ISBLANK($B309),\"\",LOOKUP($B309,Inscriptions!A$2:A$65496,Inscriptions!D$2:D$65498))","v":""},null,null,null,null,null,null,"",""]
[306,null,{"$f":"IF(ISBLANK($B310),\"\",LOOKUP($B310,Inscriptions!A$2:A$65496,Inscriptions!B$2:B$65498))","v":""},{"$f":"IF(ISBLANK($B310),\"\",LOOKUP($B310,Inscriptions!A$2:A$65496,Inscriptions!C$2:C$65498))","v":""},{"$f":"IF(ISBLANK($B310),\"\",LOOKUP($B310,Inscriptions!A$2:A$65496,Inscriptions!D$2:D$65498))","v":""},null,null,null,null,null,null,"",""]
[307,null,{"$f":"IF(ISBLANK($B311),\"\",LOOKUP($B311,Inscriptions!A$2:A$65496,Inscriptions!B$2:B$65498))","v":""},{"$f":"IF(ISBLANK($B311),\"\",LOOKUP($B311,Inscriptions!A$2:A$65496,Inscriptions!C$2:C$65498))","v":""},{"$f":"IF(ISBLANK($B311),\"\",LOOKUP($B311,Inscriptions!A$2:A$65496,Inscriptions!D$2:D$65498))","v":""},null,null,null,null,null,null,"",""]
[308,null,{"$f":"IF(ISBLANK($B312),\"\",LOOKUP($B312,Inscriptions!A$2:A$65496,Inscriptions!B$2:B$65498))","v":""},{"$f":"IF(ISBLANK($B312),\"\",LOOKUP($B312,Inscriptions!A$2:A$65496,Inscriptions!C$2:C$65498))","v":""},{"$f":"IF(ISBLANK($B312),\"\",LOOKUP($B312,Inscriptions!A$2:A$65496,Inscriptions!D$2:D$65498))","v":""},null,null,null,null,null,null,"",""]
[309,null,{"$f":"IF(ISBLANK($B313),\"\",LOOKUP($B313,Inscriptions!A$2:A$65496,Inscriptions!B$2:B$65498))","v":""},{"$f":"IF(ISBLANK($B313),\"\",LOOKUP($B313,Inscriptions!A$2:A$65496,Inscriptions!C$2:C$65498))","v":""},{"$f":"IF(ISBLANK($B313),\"\",LOOKUP($B313,Inscriptions!A$2:A$65496,Inscriptions!D$2:D$65498))","v":""},null,null,null,null,null,null,"",""]
[310,null,{"$f":"IF(ISBLANK($B314),\"\",LOOKUP($B314,Inscriptions!A$2:A$65496,Inscriptions!B$2:B$65498))","v":""},{"$f":"IF(ISBLANK($B314),\"\",LOOKUP($B314,Inscriptions!A$2:A$65496,Inscriptions!C$2:C$65498))","v":""},{"$f":"IF(ISBLANK($B314),\"\",LOOKUP($B314,Inscriptions!A$2:A$65496,Inscriptions!D$2:D$65498))","v":""},null,null,null,null,null,null,"",""]
[311,null,{"$f":"IF(ISBLANK($B315),\"\",LOOKUP($B315,Inscriptions!A$2:A$65496,Inscriptions!B$2:B$65498))","v":""},{"$f":"IF(ISBLANK($B315),\"\",LOOKUP($B315,Inscriptions!A$2:A$65496,Inscriptions!C$2:C$65498))","v":""},{"$f":"IF(ISBLANK($B315),\"\",LOOKUP($B315,Inscriptions!A$2:A$65496,Inscriptions!D$2:D$65498))","v":""},null,null,null,null,null,null,"",""]
[312,null,{"$f":"IF(ISBLANK($B316),\"\",LOOKUP($B316,Inscriptions!A$2:A$65496,Inscriptions!B$2:B$65498))","v":""},{"$f":"IF(ISBLANK($B316),\"\",LOOKUP($B316,Inscriptions!A$2:A$65496,Inscriptions!C$2:C$65498))","v":""},{"$f":"IF(ISBLANK($B316),\"\",LOOKUP($B316,Inscriptions!A$2:A$65496,Inscriptions!D$2:D$65498))","v":""},null,null,null,null,null,null,"",""]
[313,null,{"$f":"IF(ISBLANK($B317),\"\",LOOKUP($B317,Inscriptions!A$2:A$65496,Inscriptions!B$2:B$65498))","v":""},{"$f":"IF(ISBLANK($B317),\"\",LOOKUP($B317,Inscriptions!A$2:A$65496,Inscriptions!C$2:C$65498))","v":""},{"$f":"IF(ISBLANK($B317),\"\",LOOKUP($B317,Inscriptions!A$2:A$65496,Inscriptions!D$2:D$65498))","v":""},null,null,null,null,null,null,"",""]
[314,null,{"$f":"IF(ISBLANK($B318),\"\",LOOKUP($B318,Inscriptions!A$2:A$65496,Inscriptions!B$2:B$65498))","v":""},{"$f":"IF(ISBLANK($B318),\"\",LOOKUP($B318,Inscriptions!A$2:A$65496,Inscriptions!C$2:C$65498))","v":""},{"$f":"IF(ISBLANK($B318),\"\",LOOKUP($B318,Inscriptions!A$2:A$65496,Inscriptions!D$2:D$65498))","v":""},null,null,null,null,null,null,"",""]
[315,null,{"$f":"IF(ISBLANK($B319),\"\",LOOKUP($B319,Inscriptions!A$2:A$65496,Inscriptions!B$2:B$65498))","v":""},{"$f":"IF(ISBLANK($B319),\"\",LOOKUP($B319,Inscriptions!A$2:A$65496,Inscriptions!C$2:C$65498))","v":""},{"$f":"IF(ISBLANK($B319),\"\",LOOKUP($B319,Inscriptions!A$2:A$65496,Inscriptions!D$2:D$65498))","v":""},null,null,null,null,null,null,"",""]
[316,null,{"$f":"IF(ISBLANK($B320),\"\",LOOKUP($B320,Inscriptions!A$2:A$65496,Inscriptions!B$2:B$65498))","v":""},{"$f":"IF(ISBLANK($B320),\"\",LOOKUP($B320,Inscriptions!A$2:A$65496,Inscriptions!C$2:C$65498))","v":""},{"$f":"IF(ISBLANK($B320),\"\",LOOKUP($B320,Inscriptions!A$2:A$65496,Inscriptions!D$2:D$65498))","v":""},null,null,null,null,null,null,"",""]
[317,null,{"$f":"IF(ISBLANK($B321),\"\",LOOKUP($B321,Inscriptions!A$2:A$65496,Inscriptions!B$2:B$65498))","v":""},{"$f":"IF(ISBLANK($B321),\"\",LOOKUP($B321,Inscriptions!A$2:A$65496,Inscriptions!C$2:C$65498))","v":""},{"$f":"IF(ISBLANK($B321),\"\",LOOKUP($B321,Inscriptions!A$2:A$65496,Inscriptions!D$2:D$65498))","v":""},null,null,null,null,null,null,"",""]
[318,null,{"$f":"IF(ISBLANK($B322),\"\",LOOKUP($B322,Inscriptions!A$2:A$65496,Inscriptions!B$2:B$65498))","v":""},{"$f":"IF(ISBLANK($B322),\"\",LOOKUP($B322,Inscriptions!A$2:A$65496,Inscriptions!C$2:C$65498))","v":""},{"$f":"IF(ISBLANK($B322),\"\",LOOKUP($B322,Inscriptions!A$2:A$65496,Inscriptions!D$2:D$65498))","v":""},null,null,null,null,null,null,"",""]
[319,null,{"$f":"IF(ISBLANK($B323),\"\",LOOKUP($B323,Inscriptions!A$2:A$65496,Inscriptions!B$2:B$65498))","v":""},{"$f":"IF(ISBLANK($B323),\"\",LOOKUP($B323,Inscriptions!A$2:A$65496,Inscriptions!C$2:C$65498))","v":""},{"$f":"IF(ISBLANK($B323),\"\",LOOKUP($B323,Inscriptions!A$2:A$65496,Inscriptions!D$2:D$65498))","v":""},null,null,null,null,null,null,"",""]
[320,null,{"$f":"IF(ISBLANK($B324),\"\",LOOKUP($B324,Inscriptions!A$2:A$65496,Inscriptions!B$2:B$65498))","v":""},{"$f":"IF(ISBLANK($B324),\"\",LOOKUP($B324,Inscriptions!A$2:A$65496,Inscriptions!C$2:C$65498))","v":""},{"$f":"IF(ISBLANK($B324),\"\",LOOKUP($B324,Inscriptions!A$2:A$65496,Inscriptions!D$2:D$65498))","v":""},null,null,null,null,null,null,"",""]
[321,null,{"$f":"IF(ISBLANK($B325),\"\",LOOKUP($B325,Inscriptions!A$2:A$65496,Inscriptions!B$2:B$65498))","v":""},{"$f":"IF(ISBLANK($B325),\"\",LOOKUP($B325,Inscriptions!A$2:A$65496,Inscriptions!C$2:C$65498))","v":""},{"$f":"IF(ISBLANK($B325),\"\",LOOKUP($B325,Inscriptions!A$2:A$65496,Inscriptions!D$2:D$65498))","v":""},null,null,null,null,null,null,"",""]
[322,null,{"$f":"IF(ISBLANK($B326),\"\",LOOKUP($B326,Inscriptions!A$2:A$65496,Inscriptions!B$2:B$65498))","v":""},{"$f":"IF(ISBLANK($B326),\"\",LOOKUP($B326,Inscriptions!A$2:A$65496,Inscriptions!C$2:C$65498))","v":""},{"$f":"IF(ISBLANK($B326),\"\",LOOKUP($B326,Inscriptions!A$2:A$65496,Inscriptions!D$2:D$65498))","v":""},null,null,null,null,null,null,"",{"$f":"IF(L326=\"\",\"\",\"km/h\")","v":""}]
[323,null,{"$f":"IF(ISBLANK($B327),\"\",LOOKUP($B327,Inscriptions!A$2:A$65496,Inscriptions!B$2:B$65498))","v":""},{"$f":"IF(ISBLANK($B327),\"\",LOOKUP($B327,Inscriptions!A$2:A$65496,Inscriptions!C$2:C$65498))","v":""},{"$f":"IF(ISBLANK($B327),\"\",LOOKUP($B327,Inscriptions!A$2:A$65496,Inscriptions!D$2:D$65498))","v":""},null,null,null,null,null,null,"",""]
[324,null,{"$f":"IF(ISBLANK($B328),\"\",LOOKUP($B328,Inscriptions!A$2:A$65496,Inscriptions!B$2:B$65498))","v":""},{"$f":"IF(ISBLANK($B328),\"\",LOOKUP($B328,Inscriptions!A$2:A$65496,Inscriptions!C$2:C$65498))","v":""},{"$f":"IF(ISBLANK($B328),\"\",LOOKUP($B328,Inscriptions!A$2:A$65496,Inscriptions!D$2:D$65498))","v":""},null,null,null,null,null,null,"",""]
[325,null,{"$f":"IF(ISBLANK($B329),\"\",LOOKUP($B329,Inscriptions!A$2:A$65496,Inscriptions!B$2:B$65498))","v":""},{"$f":"IF(ISBLANK($B329),\"\",LOOKUP($B329,Inscriptions!A$2:A$65496,Inscriptions!C$2:C$65498))","v":""},{"$f":"IF(ISBLANK($B329),\"\",LOOKUP($B329,Inscriptions!A$2:A$65496,Inscriptions!D$2:D$65498))","v":""},null,null,null,null,null,null,"",""]
[326,null,{"$f":"IF(ISBLANK($B330),\"\",LOOKUP($B330,Inscriptions!A$2:A$65496,Inscriptions!B$2:B$65498))","v":""},{"$f":"IF(ISBLANK($B330),\"\",LOOKUP($B330,Inscriptions!A$2:A$65496,Inscriptions!C$2:C$65498))","v":""},{"$f":"IF(ISBLANK($B330),\"\",LOOKUP($B330,Inscriptions!A$2:A$65496,Inscriptions!D$2:D$65498))","v":""},null,null,null,null,null,null,"",""]
[327,null,{"$f":"IF(ISBLANK($B331),\"\",LOOKUP($B331,Inscriptions!A$2:A$65496,Inscriptions!B$2:B$65498))","v":""},{"$f":"IF(ISBLANK($B331),\"\",LOOKUP($B331,Inscriptions!A$2:A$65496,Inscriptions!C$2:C$65498))","v":""},{"$f":"IF(ISBLANK($B331),\"\",LOOKUP($B331,Inscriptions!A$2:A$65496,Inscriptions!D$2:D$65498))","v":""},null,null,null,null,null,null,"",""]
[328,null,{"$f":"IF(ISBLANK($B332),\"\",LOOKUP($B332,Inscriptions!A$2:A$65496,Inscriptions!B$2:B$65498))","v":""},{"$f":"IF(ISBLANK($B332),\"\",LOOKUP($B332,Inscriptions!A$2:A$65496,Inscriptions!C$2:C$65498))","v":""},{"$f":"IF(ISBLANK($B332),\"\",LOOKUP($B332,Inscriptions!A$2:A$65496,Inscriptions!D$2:D$65498))","v":""},null,null,null,null,null,null,"",""]
[329,null,{"$f":"IF(ISBLANK($B333),\"\",LOOKUP($B333,Inscriptions!A$2:A$65496,Inscriptions!B$2:B$65498))","v":""},{"$f":"IF(ISBLANK($B333),\"\",LOOKUP($B333,Inscriptions!A$2:A$65496,Inscriptions!C$2:C$65498))","v":""},{"$f":"IF(ISBLANK($B333),\"\",LOOKUP($B333,Inscriptions!A$2:A$65496,Inscriptions!D$2:D$65498))","v":""},null,null,null,null,null,null,"",""]
[330,null,{"$f":"IF(ISBLANK($B334),\"\",LOOKUP($B334,Inscriptions!A$2:A$65496,Inscriptions!B$2:B$65498))","v":""},{"$f":"IF(ISBLANK($B334),\"\",LOOKUP($B334,Inscriptions!A$2:A$65496,Inscriptions!C$2:C$65498))","v":""},{"$f":"IF(ISBLANK($B334),\"\",LOOKUP($B334,Inscriptions!A$2:A$65496,Inscriptions!D$2:D$65498))","v":""},null,null,null,null,null,null,"",""]
[331,null,{"$f":"IF(ISBLANK($B335),\"\",LOOKUP($B335,Inscriptions!A$2:A$65496,Inscriptions!B$2:B$65498))","v":""},{"$f":"IF(ISBLANK($B335),\"\",LOOKUP($B335,Inscriptions!A$2:A$65496,Inscriptions!C$2:C$65498))","v":""},{"$f":"IF(ISBLANK($B335),\"\",LOOKUP($B335,Inscriptions!A$2:A$65496,Inscriptions!D$2:D$65498))","v":""},null,null,null,null,null,null,"",""]
[332,null,{"$f":"IF(ISBLANK($B336),\"\",LOOKUP($B336,Inscriptions!A$2:A$65496,Inscriptions!B$2:B$65498))","v":""},{"$f":"IF(ISBLANK($B336),\"\",LOOKUP($B336,Inscriptions!A$2:A$65496,Inscriptions!C$2:C$65498))","v":""},{"$f":"IF(ISBLANK($B336),\"\",LOOKUP($B336,Inscriptions!A$2:A$65496,Inscriptions!D$2:D$65498))","v":""},null,null,null,null,null,null,"",""]
[333,null,{"$f":"IF(ISBLANK($B337),\"\",LOOKUP($B337,Inscriptions!A$2:A$65496,Inscriptions!B$2:B$65498))","v":""},{"$f":"IF(ISBLANK($B337),\"\",LOOKUP($B337,Inscriptions!A$2:A$65496,Inscriptions!C$2:C$65498))","v":""},{"$f":"IF(ISBLANK($B337),\"\",LOOKUP($B337,Inscriptions!A$2:A$65496,Inscriptions!D$2:D$65498))","v":""},null,null,null,null,null,null,"",""]
[334,null,{"$f":"IF(ISBLANK($B338),\"\",LOOKUP($B338,Inscriptions!A$2:A$65496,Inscriptions!B$2:B$65498))","v":""},{"$f":"IF(ISBLANK($B338),\"\",LOOKUP($B338,Inscriptions!A$2:A$65496,Inscriptions!C$2:C$65498))","v":""},{"$f":"IF(ISBLANK($B338),\"\",LOOKUP($B338,Inscriptions!A$2:A$65496,Inscriptions!D$2:D$65498))","v":""},null,null,null,null,null,null,"",""]
[335,null,{"$f":"IF(ISBLANK($B339),\"\",LOOKUP($B339,Inscriptions!A$2:A$65496,Inscriptions!B$2:B$65498))","v":""},{"$f":"IF(ISBLANK($B339),\"\",LOOKUP($B339,Inscriptions!A$2:A$65496,Inscriptions!C$2:C$65498))","v":""},{"$f":"IF(ISBLANK($B339),\"\",LOOKUP($B339,Inscriptions!A$2:A$65496,Inscriptions!D$2:D$65498))","v":""},null,null,null,null,null,null,"",""]
[336,null,{"$f":"IF(ISBLANK($B340),\"\",LOOKUP($B340,Inscriptions!A$2:A$65496,Inscriptions!B$2:B$65498))","v":""},{"$f":"IF(ISBLANK($B340),\"\",LOOKUP($B340,Inscriptions!A$2:A$65496,Inscriptions!C$2:C$65498))","v":""},{"$f":"IF(ISBLANK($B340),\"\",LOOKUP($B340,Inscriptions!A$2:A$65496,Inscriptions!D$2:D$65498))","v":""},null,null,null,null,null,null,"",""]
[337,null,{"$f":"IF(ISBLANK($B341),\"\",LOOKUP($B341,Inscriptions!A$2:A$65496,Inscriptions!B$2:B$65498))","v":""},{"$f":"IF(ISBLANK($B341),\"\",LOOKUP($B341,Inscriptions!A$2:A$65496,Inscriptions!C$2:C$65498))","v":""},{"$f":"IF(ISBLANK($B341),\"\",LOOKUP($B341,Inscriptions!A$2:A$65496,Inscriptions!D$2:D$65498))","v":""},null,null,null,null,null,null,"",""]
[338,null,{"$f":"IF(ISBLANK($B342),\"\",LOOKUP($B342,Inscriptions!A$2:A$65496,Inscriptions!B$2:B$65498))","v":""},{"$f":"IF(ISBLANK($B342),\"\",LOOKUP($B342,Inscriptions!A$2:A$65496,Inscriptions!C$2:C$65498))","v":""},{"$f":"IF(ISBLANK($B342),\"\",LOOKUP($B342,Inscriptions!A$2:A$65496,Inscriptions!D$2:D$65498))","v":""},null,null,null,null,null,null,"",""]
[339,null,{"$f":"IF(ISBLANK($B343),\"\",LOOKUP($B343,Inscriptions!A$2:A$65496,Inscriptions!B$2:B$65498))","v":""},{"$f":"IF(ISBLANK($B343),\"\",LOOKUP($B343,Inscriptions!A$2:A$65496,Inscriptions!C$2:C$65498))","v":""},{"$f":"IF(ISBLANK($B343),\"\",LOOKUP($B343,Inscriptions!A$2:A$65496,Inscriptions!D$2:D$65498))","v":""},null,null,null,null,null,null,"",""]
[340,null,{"$f":"IF(ISBLANK($B344),\"\",LOOKUP($B344,Inscriptions!A$2:A$65496,Inscriptions!B$2:B$65498))","v":""},{"$f":"IF(ISBLANK($B344),\"\",LOOKUP($B344,Inscriptions!A$2:A$65496,Inscriptions!C$2:C$65498))","v":""},{"$f":"IF(ISBLANK($B344),\"\",LOOKUP($B344,Inscriptions!A$2:A$65496,Inscriptions!D$2:D$65498))","v":""},null,null,null,null,null,null,"",""]
[341,null,{"$f":"IF(ISBLANK($B345),\"\",LOOKUP($B345,Inscriptions!A$2:A$65496,Inscriptions!B$2:B$65498))","v":""},{"$f":"IF(ISBLANK($B345),\"\",LOOKUP($B345,Inscriptions!A$2:A$65496,Inscriptions!C$2:C$65498))","v":""},{"$f":"IF(ISBLANK($B345),\"\",LOOKUP($B345,Inscriptions!A$2:A$65496,Inscriptions!D$2:D$65498))","v":""},null,null,null,null,null,null,"",""]
[342,null,{"$f":"IF(ISBLANK($B346),\"\",LOOKUP($B346,Inscriptions!A$2:A$65496,Inscriptions!B$2:B$65498))","v":""},{"$f":"IF(ISBLANK($B346),\"\",LOOKUP($B346,Inscriptions!A$2:A$65496,Inscriptions!C$2:C$65498))","v":""},{"$f":"IF(ISBLANK($B346),\"\",LOOKUP($B346,Inscriptions!A$2:A$65496,Inscriptions!D$2:D$65498))","v":""},null,null,null,null,null,null,"",""]
[343,null,{"$f":"IF(ISBLANK($B347),\"\",LOOKUP($B347,Inscriptions!A$2:A$65496,Inscriptions!B$2:B$65498))","v":""},{"$f":"IF(ISBLANK($B347),\"\",LOOKUP($B347,Inscriptions!A$2:A$65496,Inscriptions!C$2:C$65498))","v":""},{"$f":"IF(ISBLANK($B347),\"\",LOOKUP($B347,Inscriptions!A$2:A$65496,Inscriptions!D$2:D$65498))","v":""},null,null,null,null,null,null,"",""]
[344,null,{"$f":"IF(ISBLANK($B348),\"\",LOOKUP($B348,Inscriptions!A$2:A$65496,Inscriptions!B$2:B$65498))","v":""},{"$f":"IF(ISBLANK($B348),\"\",LOOKUP($B348,Inscriptions!A$2:A$65496,Inscriptions!C$2:C$65498))","v":""},{"$f":"IF(ISBLANK($B348),\"\",LOOKUP($B348,Inscriptions!A$2:A$65496,Inscriptions!D$2:D$65498))","v":""},null,null,null,null,null,null,"",""]
[345,null,{"$f":"IF(ISBLANK($B349),\"\",LOOKUP($B349,Inscriptions!A$2:A$65496,Inscriptions!B$2:B$65498))","v":""},{"$f":"IF(ISBLANK($B349),\"\",LOOKUP($B349,Inscriptions!A$2:A$65496,Inscriptions!C$2:C$65498))","v":""},{"$f":"IF(ISBLANK($B349),\"\",LOOKUP($B349,Inscriptions!A$2:A$65496,Inscriptions!D$2:D$65498))","v":""},null,null,null,null,null,null,"",""]
[346,null,{"$f":"IF(ISBLANK($B350),\"\",LOOKUP($B350,Inscriptions!A$2:A$65496,Inscriptions!B$2:B$65498))","v":""},{"$f":"IF(ISBLANK($B350),\"\",LOOKUP($B350,Inscriptions!A$2:A$65496,Inscriptions!C$2:C$65498))","v":""},{"$f":"IF(ISBLANK($B350),\"\",LOOKUP($B350,Inscriptions!A$2:A$65496,Inscriptions!D$2:D$65498))","v":""},null,null,null,null,null,null,"",""]
[347,null,{"$f":"IF(ISBLANK($B351),\"\",LOOKUP($B351,Inscriptions!A$2:A$65496,Inscriptions!B$2:B$65498))","v":""},{"$f":"IF(ISBLANK($B351),\"\",LOOKUP($B351,Inscriptions!A$2:A$65496,Inscriptions!C$2:C$65498))","v":""},{"$f":"IF(ISBLANK($B351),\"\",LOOKUP($B351,Inscriptions!A$2:A$65496,Inscriptions!D$2:D$65498))","v":""},null,null,null,null,null,null,"",""]
[348,null,{"$f":"IF(ISBLANK($B352),\"\",LOOKUP($B352,Inscriptions!A$2:A$65496,Inscriptions!B$2:B$65498))","v":""},{"$f":"IF(ISBLANK($B352),\"\",LOOKUP($B352,Inscriptions!A$2:A$65496,Inscriptions!C$2:C$65498))","v":""},{"$f":"IF(ISBLANK($B352),\"\",LOOKUP($B352,Inscriptions!A$2:A$65496,Inscriptions!D$2:D$65498))","v":""},null,null,null,null,null,null,"",""]
[349,null,{"$f":"IF(ISBLANK($B353),\"\",LOOKUP($B353,Inscriptions!A$2:A$65496,Inscriptions!B$2:B$65498))","v":""},{"$f":"IF(ISBLANK($B353),\"\",LOOKUP($B353,Inscriptions!A$2:A$65496,Inscriptions!C$2:C$65498))","v":""},{"$f":"IF(ISBLANK($B353),\"\",LOOKUP($B353,Inscriptions!A$2:A$65496,Inscriptions!D$2:D$65498))","v":""},null,null,null,null,null,null,"",""]
[350,null,{"$f":"IF(ISBLANK($B354),\"\",LOOKUP($B354,Inscriptions!A$2:A$65496,Inscriptions!B$2:B$65498))","v":""},{"$f":"IF(ISBLANK($B354),\"\",LOOKUP($B354,Inscriptions!A$2:A$65496,Inscriptions!C$2:C$65498))","v":""},{"$f":"IF(ISBLANK($B354),\"\",LOOKUP($B354,Inscriptions!A$2:A$65496,Inscriptions!D$2:D$65498))","v":""},null,null,null,null,null,null,"",""]

{"sheet":"C9 BEM MIF","index":11,"n_rows":354,"n_cols":13,"rows_kept":354,"cut":false,"hidden":false,"merged":[[0,0,0,7],[1,0,1,7],[2,5,2,6]]}
["CROSS REGIONAL FSGT - STAINS - 18/01/2015"]
["BENJAMINS - MINIMES féminines  = 2 750 mètres"]
[]
["PLACE","DOSSARD","NOM / PRENOM","CAT","CLUB","BEM","MIF","TEMPS","h","m","s",2750,"m"]
[1,2385,{"$f":"IF(ISBLANK($B5),\"\",LOOKUP($B5,Inscriptions!A$2:A$65496,Inscriptions!B$2:B$65498))","v":"OPET MATHIEU"},{"$f":"IF(ISBLANK($B5),\"\",LOOKUP($B5,Inscriptions!A$2:A$65496,Inscriptions!C$2:C$65498))","v":"BEM"},{"$f":"IF(ISBLANK($B5),\"\",LOOKUP($B5,Inscriptions!A$2:A$65496,Inscriptions!D$2:D$65498))","v":"ATHLE LE BOURGET DRANCY DUGNY"},1,null,1203,{"$f":"ROUNDDOWN(H5/10000,0)","v":0},{"$f":"ROUNDDOWN((H5-I5*10000)/100,0)","v":12},{"$f":"ROUNDDOWN((H5-(I5*10000)-(J5*100)),0)","v":3},{"$f":"IF((I5+J5+K5)=0,\"\",ROUNDDOWN((L$4/((I5*3600)+(J5*60)+K5))*3.6,2))","v":13.69},{"$f":"IF(L5=\"\",\"\",\"km/h\")","v":"km/h"}]
[2,1047,{"$f":"IF(ISBLANK($B6),\"\",LOOKUP($B6,Inscriptions!A$2:A$65496,Inscriptions!B$2:B$65498))","v":"BOUZIT KHALED"},{"$f":"IF(ISBLANK($B6),\"\",LOOKUP($B6,Inscriptions!A$2:A$65496,Inscriptions!C$2:C$65498))","v":"BEM"},{"$f":"IF(ISBLANK($B6),\"\",LOOKUP($B6,Inscriptions!A$2:A$65496,Inscriptions!D$2:D$65498))","v":"ES STAINS"},2,null,1207,{"$f":"ROUNDDOWN(H6/10000,0)","v":0},{"$f":"ROUNDDOWN((H6-I6*10000)/100,0)","v":12},{"$f":"ROUNDDOWN((H6-(I6*10000)-(J6*100)),0)","v":7},{"$f":"IF((I6+J6+K6)=0,\"\",ROUNDDOWN((L$4/((I6*3600)+(J6*60)+K6))*3.6,2))","v":13.61},{"$f":"IF(L6=\"\",\"\",\"km/h\")","v":"km/h"}]
[3,1419,{"$f":"IF(ISBLANK($B7),\"\",LOOKUP($B7,Inscriptions!A$2:A$65496,Inscriptions!B$2:B$65498))","v":"MARGUET MATHEO"},{"$f":"IF(ISBLANK($B7),\"\",LOOKUP($B7,Inscriptions!A$2:A$65496,Inscriptions!C$2:C$65498))","v":"BEM"},{"$f":"IF(ISBLANK($B7),\"\",LOOKUP($B7,Inscriptions!A$2:A$65496,Inscriptions!D$2:D$65498))","v":"NOISY LE SEC ATHLETISME"},3,null,1218,0,12,18,13.41,"km/h"]
[4,1157,{"$f":"IF(ISBLANK($B8),\"\",LOOKUP($B8,Inscriptions!A$2:A$65496,Inscriptions!B$2:B$65498))","v":"BIQUE DYLAN"},{"$f":"IF(ISBLANK($B8),\"\",LOOKUP($B8,Inscriptions!A$2:A$65496,Inscriptions!C$2:C$65498))","v":"BEM"},{"$f":"IF(ISBLANK($B8),\"\",LOOKUP($B8,Inscriptions!A$2:A$65496,Inscriptions!D$2:D$65498))","v":"ES VITRY"},4,null,1229,0,12,29,13.21,"km/h"]
[5,2047,{"$f":"IF(ISBLANK($B9),\"\",LOOKUP($B9,Inscriptions!A$2:A$65496,Inscriptions!B$2:B$65498))","v":"CAPRON JONAS"},{"$f":"IF(ISBLANK($B9),\"\",LOOKUP($B9,Inscriptions!A$2:A$65496,Inscriptions!C$2:C$65498))","v":"BEM"},{"$f":"IF(ISBLANK($B9),\"\",LOOKUP($B9,Inscriptions!A$2:A$65496,Inscriptions!D$2:D$65498))","v":"US VIGNEUX"},5,null,1235,0,12,35,13.11,"km/h"]
[6,442,{"$f":"IF(ISBLANK($B10),\"\",LOOKUP($B10,Inscriptions!A$2:A$65496,Inscriptions!B$2:B$65498))","v":"MENDES DIEUDONNEE VALENTINA"},{"$f":"IF(ISBLANK($B10),\"\",LOOKUP($B10,Inscriptions!A$2:A$65496,Inscriptions!C$2:C$65498))","v":"MIF"},{"$f":"IF(ISBLANK($B10),\"\",LOOKUP($B10,Inscriptions!A$2:A$65496,Inscriptions!D$2:D$65498))","v":"ATHLE LE BOURGET DRANCY DUGNY"},null,1,1236,0,12,36,13.09,"km/h"]
[7,426,{"$f":"IF(ISBLANK($B11),\"\",LOOKUP($B11,Inscriptions!A$2:A$65496,Inscriptions!B$2:B$65498))","v":"LAINE ROMANE"},{"$f":"IF(ISBLANK($B11),\"\",LOOKUP($B11,Inscriptions!A$2:A$65496,Inscriptions!C$2:C$65498))","v":"MIF"},{"$f":"IF(ISBLANK($B11),\"\",LOOKUP($B11,Inscriptions!A$2:A$65496,Inscriptions!D$2:D$65498))","v":"ATHLE LE BOURGET DRANCY DUGNY"},null,2,1237,0,12,37,13.07,"km/h"]
[8,852,{"$f":"IF(ISBLANK($B12),\"\",LOOKUP($B12,Inscriptions!A$2:A$65496,Inscriptions!B$2:B$65498))","v":"MARTIGNE JULIEN"},{"$f":"IF(ISBLANK($B12),\"\",LOOKUP($B12,Inscriptions!A$2:A$65496,Inscriptions!C$2:C$65498))","v":"BEM"},{"$f":"IF(ISBLANK($B12),\"\",LOOKUP($B12,Inscriptions!A$2:A$65496,Inscriptions!D$2:D$65498))","v":"CS BRETIGNY ATHLETISME"},6,null,1239,0,12,39,13.04,"km/h"]
[9,2197,{"$f":"IF(ISBLANK($B13),\"\",LOOKUP($B13,Inscriptions!A$2:A$65496,Inscriptions!B$2:B$65498))","v":"MOUABONGO SULLYVAN"},{"$f":"IF(ISBLANK($B13),\"\",LOOKUP($B13,Inscriptions!A$2:A$65496,Inscriptions!C$2:C$65498))","v":"BEM"},{"$f":"IF(ISBLANK($B13),\"\",LOOKUP($B13,Inscriptions!A$2:A$65496,Inscriptions!D$2:D$65498))","v":"USMA ST OUEN"},7,null,1257,0,12,57,12.74,"km/h"]
[10,1366,{"$f":"IF(ISBLANK($B14),\"\",LOOKUP($B14,Inscriptions!A$2:A$65496,Inscriptions!B$2:B$65498))","v":"DOLLE ANDRE"},{"$f":"IF(ISBLANK($B14),\"\",LOOKUP($B14,Inscriptions!A$2:A$65496,Inscriptions!C$2:C$65498))","v":"BEM"},{"$f":"IF(ISBLANK($B14),\"\",LOOKUP($B14,Inscriptions!A$2:A$65496,Inscriptions!D$2:D$65498))","v":"NOISY LE SEC ATHLETISME"},8,null,1306,0,13,6,12.59,"km/h"]
[11,1580,{"$f":"IF(ISBLANK($B15),\"\",LOOKUP($B15,Inscriptions!A$2:A$65496,Inscriptions!B$2:B$65498))","v":"MELCHIOR MELVIN"},{"$f":"IF(ISBLANK($B15),\"\",LOOKUP($B15,Inscriptions!A$2:A$65496,Inscriptions!C$2:C$65498))","v":"BEM"},{"$f":"IF(ISBLANK($B15),\"\",LOOKUP($B15,Inscriptions!A$2:A$65496,Inscriptions!D$2:D$65498))","v":"ST DENIS US"},9,null,1309,0,13,9,12.54,"km/h"]
[12,1567,{"$f":"IF(ISBLANK($B16),\"\",LOOKUP($B16,Inscriptions!A$2:A$65496,Inscriptions!B$2:B$65498))","v":"KHIAL MEDHI MICKAEL"},{"$f":"IF(ISBLANK($B16),\"\",LOOKUP($B16,Inscriptions!A$2:A$65496,Inscriptions!C$2:C$65498))","v":"BEM"},{"$f":"IF(ISBLANK($B16),\"\",LOOKUP($B16,Inscriptions!A$2:A$65496,Inscriptions!D$2:D$65498))","v":"ST DENIS US"},10,null,1310,0,13,10,12.53,"km/h"]
[13,1936,{"$f":"IF(ISBLANK($B17),\"\",LOOKUP($B17,Inscriptions!A$2:A$65496,Inscriptions!B$2:B$65498))","v":"SAKHO BASSIROU"},{"$f":"IF(ISBLANK($B17),\"\",LOOKUP($B17,Inscriptions!A$2:A$65496,Inscriptions!C$2:C$65498))","v":"BEM"},{"$f":"IF(ISBLANK($B17),\"\",LOOKUP($B17,Inscriptions!A$2:A$65496,Inscriptions!D$2:D$65498))","v":"US IVRY"},11,null,1319,0,13,19,12.39,"km/h"]
[14,1730,{"$f":"IF(ISBLANK($B18),\"\",LOOKUP($B18,Inscriptions!A$2:A$65496,Inscriptions!B$2:B$65498))","v":"SOFRANI QASSIM"},{"$f":"IF(ISBLANK($B18),\"\",LOOKUP($B18,Inscriptions!A$2:A$65496,Inscriptions!C$2:C$65498))","v":"BEM"},{"$f":"IF(ISBLANK($B18),\"\",LOOKUP($B18,Inscriptions!A$2:A$65496,Inscriptions!D$2:D$65498))","v":"TREMBLAY AC"},12,null,1332,0,13,32,12.19,"km/h"]
[15,382,{"$f":"IF(ISBLANK($B19),\"\",LOOKUP($B19,Inscriptions!A$2:A$65496,Inscriptions!B$2:B$65498))","v":"DURAND HUGO"},{"$f":"IF(ISBLANK($B19),\"\",LOOKUP($B19,Inscriptions!A$2:A$65496,Inscriptions!C$2:C$65498))","v":"BEM"},{"$f":"IF(ISBLANK($B19),\"\",LOOKUP($B19,Inscriptions!A$2:A$65496,Inscriptions!D$2:D$65498))","v":"ATHLE LE BOURGET DRANCY DUGNY"},13,null,1336,0,13,36,12.13,"km/h"]
[16,397,{"$f":"IF(ISBLANK($B20),\"\",LOOKUP($B20,Inscriptions!A$2:A$65496,Inscriptions!B$2:B$65498))","v":"HAGGANI ENZO"},{"$f":"IF(ISBLANK($B20),\"\",LOOKUP($B20,Inscriptions!A$2:A$65496,Inscriptions!C$2:C$65498))","v":"BEM"},{"$f":"IF(ISBLANK($B20),\"\",LOOKUP($B20,Inscriptions!A$2:A$65496,Inscriptions!D$2:D$65498))","v":"ATHLE LE BOURGET DRANCY DUGNY"},14,null,1350,0,13,50,11.92,"km/h"]
[17,421,{"$f":"IF(ISBLANK($B21),\"\",LOOKUP($B21,Inscriptions!A$2:A$65496,Inscriptions!B$2:B$65498))","v":"KONATE RAMATA"},{"$f":"IF(ISBLANK($B21),\"\",LOOKUP($B21,Inscriptions!A$2:A$65496,Inscriptions!C$2:C$65498))","v":"MIF"},{"$f":"IF(ISBLANK($B21),\"\",LOOKUP($B21,Inscriptions!A$2:A$65496,Inscriptions!D$2:D$65498))","v":"ATHLE LE BOURGET DRANCY DUGNY"},null,3,1355,0,13,55,11.85,"km/h"]
[18,1652,{"$f":"IF(ISBLANK($B22),\"\",LOOKUP($B22,Inscriptions!A$2:A$65496,Inscriptions!B$2:B$65498))","v":"FERKAL MEYSSANE"},{"$f":"IF(ISBLANK($B22),\"\",LOOKUP($B22,Inscriptions!A$2:A$65496,Inscriptions!C$2:C$65498))","v":"BEM"},{"$f":"IF(ISBLANK($B22),\"\",LOOKUP($B22,Inscriptions!A$2:A$65496,Inscriptions!D$2:D$65498))","v":"TREMBLAY AC"},15,null,1355,0,13,55,11.85,"km/h"]
[19,1331,{"$f":"IF(ISBLANK($B23),\"\",LOOKUP($B23,Inscriptions!A$2:A$65496,Inscriptions!B$2:B$65498))","v":"AZOR EWANS"},{"$f":"IF(ISBLANK($B23),\"\",LOOKUP($B23,Inscriptions!A$2:A$65496,Inscriptions!C$2:C$65498))","v":"BEM"},{"$f":"IF(ISBLANK($B23),\"\",LOOKUP($B23,Inscriptions!A$2:A$65496,Inscriptions!D$2:D$65498))","v":"NOISY LE SEC ATHLETISME"},16,null,1355,0,13,55,11.85,"km/h"]
[20,1740,{"$f":"IF(ISBLANK($B24),\"\",LOOKUP($B24,Inscriptions!A$2:A$65496,Inscriptions!B$2:B$65498))","v":"VALERIN LUANA"},{"$f":"IF(ISBLANK($B24),\"\",LOOKUP($B24,Inscriptions!A$2:A$65496,Inscriptions!C$2:C$65498))","v":"MIF"},{"$f":"IF(ISBLANK($B24),\"\",LOOKUP($B24,Inscriptions!A$2:A$65496,Inscriptions!D$2:D$65498))","v":"TREMBLAY AC"},null,4,1356,0,13,56,11.84,"km/h"]
[21,1598,{"$f":"IF(ISBLANK($B25),\"\",LOOKUP($B25,Inscriptions!A$2:A$65496,Inscriptions!B$2:B$65498))","v":"ABDELLAOUI NASSIM"},{"$f":"IF(ISBLANK($B25),\"\",LOOKUP($B25,Inscriptions!A$2:A$65496,Inscriptions!C$2:C$65498))","v":"BEM"},{"$f":"IF(ISBLANK($B25),\"\",LOOKUP($B25,Inscriptions!A$2:A$65496,Inscriptions!D$2:D$65498))","v":"TREMBLAY AC"},17,null,1411,0,14,11,11.63,"km/h"]
[22,2049,{"$f":"IF(ISBLANK($B26),\"\",LOOKUP($B26,Inscriptions!A$2:A$65496,Inscriptions!B$2:B$65498))","v":"CHARLOTON AMANDINE"},{"$f":"IF(ISBLANK($B26),\"\",LOOKUP($B26,Inscriptions!A$2:A$65496,Inscriptions!C$2:C$65498))","v":"MIF"},{"$f":"IF(ISBLANK($B26),\"\",LOOKUP($B26,Inscriptions!A$2:A$65496,Inscriptions!D$2:D$65498))","v":"US VIGNEUX"},null,5,1414,0,14,14,11.59,"km/h"]
[23,1984,{"$f":"IF(ISBLANK($B27),\"\",LOOKUP($B27,Inscriptions!A$2:A$65496,Inscriptions!B$2:B$65498))","v":"BOTTARD PAUL"},{"$f":"IF(ISBLANK($B27),\"\",LOOKUP($B27,Inscriptions!A$2:A$65496,Inscriptions!C$2:C$65498))","v":"BEM"},{"$f":"IF(ISBLANK($B27),\"\",LOOKUP($B27,Inscriptions!A$2:A$65496,Inscriptions!D$2:D$65498))","v":"US MERY AC"},18,null,1417,0,14,17,11.55,"km/h"]
[24,797,{"$f":"IF(ISBLANK($B28),\"\",LOOKUP($B28,Inscriptions!A$2:A$65496,Inscriptions!B$2:B$65498))","v":"DARIK ERWAN"},{"$f":"IF(ISBLANK($B28),\"\",LOOKUP($B28,Inscriptions!A$2:A$65496,Inscriptions!C$2:C$65498))","v":"BEM"},{"$f":"IF(ISBLANK($B28),\"\",LOOKUP($B28,Inscriptions!A$2:A$65496,Inscriptions!D$2:D$65498))","v":"CS BRETIGNY ATHLETISME"},19,null,1422,0,14,22,11.48,"km/h"]
[25,1738,{"$f":"IF(ISBLANK($B29),\"\",LOOKUP($B29,Inscriptions!A$2:A$65496,Inscriptions!B$2:B$65498))","v":"TAHI OUSSAN"},{"$f":"IF(ISBLANK($B29),\"\",LOOKUP($B29,Inscriptions!A$2:A$65496,Inscriptions!C$2:C$65498))","v":"BEM"},{"$f":"IF(ISBLANK($B29),\"\",LOOKUP($B29,Inscriptions!A$2:A$65496,Inscriptions!D$2:D$65498))","v":"TREMBLAY AC"},20,null,1433,0,14,33,11.34,"km/h"]
[26,1551,{"$f":"IF(ISBLANK($B30),\"\",LOOKUP($B30,Inscriptions!A$2:A$65496,Inscriptions!B$2:B$65498))","v":"DUPERVAL THEO ALEXIS"},{"$f":"IF(ISBLANK($B30),\"\",LOOKUP($B30,Inscriptions!A$2:A$65496,Inscriptions!C$2:C$65498))","v":"BEM"},{"$f":"IF(ISBLANK($B30),\"\",LOOKUP($B30,Inscriptions!A$2:A$65496,Inscriptions!D$2:D$65498))","v":"ST DENIS US"},21,null,1444,0,14,44,11.19,"km/h"]
[27,566,{"$f":"IF(ISBLANK($B31),\"\",LOOKUP($B31,Inscriptions!A$2:A$65496,Inscriptions!B$2:B$65498))","v":"SANTOS KYLIAN"},{"$f":"IF(ISBLANK($B31),\"\",LOOKUP($B31,Inscriptions!A$2:A$65496,Inscriptions!C$2:C$65498))","v":"BEM"},{"$f":"IF(ISBLANK($B31),\"\",LOOKUP($B31,Inscriptions!A$2:A$65496,Inscriptions!D$2:D$65498))","v":"BLANC MESNIL SA"},22,null,1451,0,14,51,11.11,"km/h"]
[28,1057,{"$f":"IF(ISBLANK($B32),\"\",LOOKUP($B32,Inscriptions!A$2:A$65496,Inscriptions!B$2:B$65498))","v":"COGNET MEDERIC"},{"$f":"IF(ISBLANK($B32),\"\",LOOKUP($B32,Inscriptions!A$2:A$65496,Inscriptions!C$2:C$65498))","v":"BEM"},{"$f":"IF(ISBLANK($B32),\"\",LOOKUP($B32,Inscriptions!A$2:A$65496,Inscriptions!D$2:D$65498))","v":"ES STAINS"},23,null,1456,0,14,56,11.04,"km/h"]
[29,80,{"$f":"IF(ISBLANK($B33),\"\",LOOKUP($B33,Inscriptions!A$2:A$65496,Inscriptions!B$2:B$65498))","v":"BOCO CLAUDINE"},{"$f":"IF(ISBLANK($B33),\"\",LOOKUP($B33,Inscriptions!A$2:A$65496,Inscriptions!C$2:C$65498))","v":"MIF"},{"$f":"IF(ISBLANK($B33),\"\",LOOKUP($B33,Inscriptions!A$2:A$65496,Inscriptions!D$2:D$65498))","v":"ACM AUBERVILLIERS"},null,6,1458,0,14,58,11.02,"km/h"]
[30,53,{"$f":"IF(ISBLANK($B34),\"\",LOOKUP($B34,Inscriptions!A$2:A$65496,Inscriptions!B$2:B$65498))","v":"OUGHOU SILINA"},{"$f":"IF(ISBLANK($B34),\"\",LOOKUP($B34,Inscriptions!A$2:A$65496,Inscriptions!C$2:C$65498))","v":"MIF"},{"$f":"IF(ISBLANK($B34),\"\",LOOKUP($B34,Inscriptions!A$2:A$65496,Inscriptions!D$2:D$65498))","v":"AC BOBIGNY"},null,7,1501,0,15,1,10.98,"km/h"]
[31,824,{"$f":"IF(ISBLANK($B35),\"\",LOOKUP($B35,Inscriptions!A$2:A$65496,Inscriptions!B$2:B$65498))","v":"HARDIVILLERS ELISE"},{"$f":"IF(ISBLANK($B35),\"\",LOOKUP($B35,Inscriptions!A$2:A$65496,Inscriptions!C$2:C$65498))","v":"MIF"},{"$f":"IF(ISBLANK($B35),\"\",LOOKUP($B35,Inscriptions!A$2:A$65496,Inscriptions!D$2:D$65498))","v":"CS BRETIGNY ATHLETISME"},null,8,1501,0,15,1,10.98,"km/h"]
[32,900,{"$f":"IF(ISBLANK($B36),\"\",LOOKUP($B36,Inscriptions!A$2:A$65496,Inscriptions!B$2:B$65498))","v":"POUSSIER LUCAS"},{"$f":"IF(ISBLANK($B36),\"\",LOOKUP($B36,Inscriptions!A$2:A$65496,Inscriptions!C$2:C$65498))","v":"BEM"},{"$f":"IF(ISBLANK($B36),\"\",LOOKUP($B36,Inscriptions!A$2:A$65496,Inscriptions!D$2:D$65498))","v":"CS BRETIGNY ATHLETISME"},24,null,1510,0,15,10,10.87,"km/h"]
[33,1639,{"$f":"IF(ISBLANK($B37),\"\",LOOKUP($B37,Inscriptions!A$2:A$65496,Inscriptions!B$2:B$65498))","v":"DELVIN DJELISSA"},{"$f":"IF(ISBLANK($B37),\"\",LOOKUP($B37,Inscriptions!A$2:A$65496,Inscriptions!C$2:C$65498))","v":"MIF"},{"$f":"IF(ISBLANK($B37),\"\",LOOKUP($B37,Inscriptions!A$2:A$65496,Inscriptions!D$2:D$65498))","v":"TREMBLAY AC"},null,9,1512,0,15,12,10.85,"km/h"]
[34,1694,{"$f":"IF(ISBLANK($B38),\"\",LOOKUP($B38,Inscriptions!A$2:A$65496,Inscriptions!B$2:B$65498))","v":"LOUWAGIE MANON"},{"$f":"IF(ISBLANK($B38),\"\",LOOKUP($B38,Inscriptions!A$2:A$65496,Inscriptions!C$2:C$65498))","v":"MIF"},{"$f":"IF(ISBLANK($B38),\"\",LOOKUP($B38,Inscriptions!A$2:A$65496,Inscriptions!D$2:D$65498))","v":"TREMBLAY AC"},null,10,1512,0,15,12,10.85,"km/h"]
[35,2295,{"$f":"IF(ISBLANK($B39),\"\",LOOKUP($B39,Inscriptions!A$2:A$65496,Inscriptions!B$2:B$65498))","v":"CHOUITER MAGALI"},{"$f":"IF(ISBLANK($B39),\"\",LOOKUP($B39,Inscriptions!A$2:A$65496,Inscriptions!C$2:C$65498))","v":"MIF"},{"$f":"IF(ISBLANK($B39),\"\",LOOKUP($B39,Inscriptions!A$2:A$65496,Inscriptions!D$2:D$65498))","v":"VILLEPINTE MA"},null,11,1529,0,15,29,10.65,"km/h"]
[36,453,{"$f":"IF(ISBLANK($B40),\"\",LOOKUP($B40,Inscriptions!A$2:A$65496,Inscriptions!B$2:B$65498))","v":"PESTANA PAULINE"},{"$f":"IF(ISBLANK($B40),\"\",LOOKUP($B40,Inscriptions!A$2:A$65496,Inscriptions!C$2:C$65498))","v":"MIF"},{"$f":"IF(ISBLANK($B40),\"\",LOOKUP($B40,Inscriptions!A$2:A$65496,Inscriptions!D$2:D$65498))","v":"ATHLE LE BOURGET DRANCY DUGNY"},null,12,1543,0,15,43,10.49,"km/h"]
[37,438,{"$f":"IF(ISBLANK($B41),\"\",LOOKUP($B41,Inscriptions!A$2:A$65496,Inscriptions!B$2:B$65498))","v":"MARMION JEANNE"},{"$f":"IF(ISBLANK($B41),\"\",LOOKUP($B41,Inscriptions!A$2:A$65496,Inscriptions!C$2:C$65498))","v":"MIF"},{"$f":"IF(ISBLANK($B41),\"\",LOOKUP($B41,Inscriptions!A$2:A$65496,Inscriptions!D$2:D$65498))","v":"ATHLE LE BOURGET DRANCY DUGNY"},null,13,1604,0,16,4,10.26,"km/h"]
[38,468,{"$f":"IF(ISBLANK($B42),\"\",LOOKUP($B42,Inscriptions!A$2:A$65496,Inscriptions!B$2:B$65498))","v":"TANRIVERDI EREN"},{"$f":"IF(ISBLANK($B42),\"\",LOOKUP($B42,Inscriptions!A$2:A$65496,Inscriptions!C$2:C$65498))","v":"MIM"},{"$f":"IF(ISBLANK($B42),\"\",LOOKUP($B42,Inscriptions!A$2:A$65496,Inscriptions!D$2:D$65498))","v":"ATHLE LE BOURGET DRANCY DUGNY"},null,null,1611,0,16,11,10.19,"km/h"]
[39,1409,{"$f":"IF(ISBLANK($B43),\"\",LOOKUP($B43,Inscriptions!A$2:A$65496,Inscriptions!B$2:B$65498))","v":"LAMBLETIN JOSHUA"},{"$f":"IF(ISBLANK($B43),\"\",LOOKUP($B43,Inscriptions!A$2:A$65496,Inscriptions!C$2:C$65498))","v":"BEM"},{"$f":"IF(ISBLANK($B43),\"\",LOOKUP($B43,Inscriptions!A$2:A$65496,Inscriptions!D$2:D$65498))","v":"NOISY LE SEC ATHLETISME"},25,null,1612,0,16,12,10.18,"km/h"]
[40,2386,{"$f":"IF(ISBLANK($B44),\"\",LOOKUP($B44,Inscriptions!A$2:A$65496,Inscriptions!B$2:B$65498))","v":"ZIDANI NOE"},{"$f":"IF(ISBLANK($B44),\"\",LOOKUP($B44,Inscriptions!A$2:A$65496,Inscriptions!C$2:C$65498))","v":"BEM"},{"$f":"IF(ISBLANK($B44),\"\",LOOKUP($B44,Inscriptions!A$2:A$65496,Inscriptions!D$2:D$65498))","v":"ES VITRY"},26,null,1614,0,16,14,10.16,"km/h"]
[41,1956,{"$f":"IF(ISBLANK($B45),\"\",LOOKUP($B45,Inscriptions!A$2:A$65496,Inscriptions!B$2:B$65498))","v":"TCHOUAGA BILAL"},{"$f":"IF(ISBLANK($B45),\"\",LOOKUP($B45,Inscriptions!A$2:A$65496,Inscriptions!C$2:C$65498))","v":"BEM"},{"$f":"IF(ISBLANK($B45),\"\",LOOKUP($B45,Inscriptions!A$2:A$65496,Inscriptions!D$2:D$65498))","v":"US IVRY"},27,null,1622,0,16,22,10.08,"km/h"]
[42,1127,{"$f":"IF(ISBLANK($B46),\"\",LOOKUP($B46,Inscriptions!A$2:A$65496,Inscriptions!B$2:B$65498))","v":"SOUNGA OHEL"},{"$f":"IF(ISBLANK($B46),\"\",LOOKUP($B46,Inscriptions!A$2:A$65496,Inscriptions!C$2:C$65498))","v":"BEM"},{"$f":"IF(ISBLANK($B46),\"\",LOOKUP($B46,Inscriptions!A$2:A$65496,Inscriptions!D$2:D$65498))","v":"ES STAINS"},28,null,1635,0,16,35,9.94,"km/h"]
[43,947,{"$f":"IF(ISBLANK($B47),\"\",LOOKUP($B47,Inscriptions!A$2:A$65496,Inscriptions!B$2:B$65498))","v":"BENTIZI ILYÈS"},{"$f":"IF(ISBLANK($B47),\"\",LOOKUP($B47,Inscriptions!A$2:A$65496,Inscriptions!C$2:C$65498))","v":"BEM"},{"$f":"IF(ISBLANK($B47),\"\",LOOKUP($B47,Inscriptions!A$2:A$65496,Inscriptions!D$2:D$65498))","v":"CSM GENNEVILLIERS"},29,null,1645,0,16,45,9.85,"km/h"]
[44,1659,{"$f":"IF(ISBLANK($B48),\"\",LOOKUP($B48,Inscriptions!A$2:A$65496,Inscriptions!B$2:B$65498))","v":"GALLARDO MANON"},{"$f":"IF(ISBLANK($B48),\"\",LOOKUP($B48,Inscriptions!A$2:A$65496,Inscriptions!C$2:C$65498))","v":"MIF"},{"$f":"IF(ISBLANK($B48),\"\",LOOKUP($B48,Inscriptions!A$2:A$65496,Inscriptions!D$2:D$65498))","v":"TREMBLAY AC"},null,14,1646,0,16,46,9.84,"km/h"]
[45,2163,{"$f":"IF(ISBLANK($B49),\"\",LOOKUP($B49,Inscriptions!A$2:A$65496,Inscriptions!B$2:B$65498))","v":"DUBREUCQ THEO"},{"$f":"IF(ISBLANK($B49),\"\",LOOKUP($B49,Inscriptions!A$2:A$65496,Inscriptions!C$2:C$65498))","v":"BEM"},{"$f":"IF(ISBLANK($B49),\"\",LOOKUP($B49,Inscriptions!A$2:A$65496,Inscriptions!D$2:D$65498))","v":"USMA ST OUEN"},30,null,1650,0,16,50,9.8000000000000007,"km/h"]
[46,2358,{"$f":"IF(ISBLANK($B50),\"\",LOOKUP($B50,Inscriptions!A$2:A$65496,Inscriptions!B$2:B$65498))","v":"AKENNAD SABRINA"},{"$f":"IF(ISBLANK($B50),\"\",LOOKUP($B50,Inscriptions!A$2:A$65496,Inscriptions!C$2:C$65498))","v":"MIF"},{"$f":"IF(ISBLANK($B50),\"\",LOOKUP($B50,Inscriptions!A$2:A$65496,Inscriptions!D$2:D$65498))","v":"COM ARGENTEUIL"},null,15,1651,0,16,51,9.7899999999999991,"km/h"]
[47,424,{"$f":"IF(ISBLANK($B51),\"\",LOOKUP($B51,Inscriptions!A$2:A$65496,Inscriptions!B$2:B$65498))","v":"LAGUERRE OCEANE"},{"$f":"IF(ISBLANK($B51),\"\",LOOKUP($B51,Inscriptions!A$2:A$65496,Inscriptions!C$2:C$65498))","v":"MIF"},{"$f":"IF(ISBLANK($B51),\"\",LOOKUP($B51,Inscriptions!A$2:A$65496,Inscriptions!D$2:D$65498))","v":"ATHLE LE BOURGET DRANCY DUGNY"},null,16,1656,0,16,56,9.74,"km/h"]
[48,342,{"$f":"IF(ISBLANK($B52),\"\",LOOKUP($B52,Inscriptions!A$2:A$65496,Inscriptions!B$2:B$65498))","v":"BALASUBRAMANIAM VITHURSHAN"},{"$f":"IF(ISBLANK($B52),\"\",LOOKUP($B52,Inscriptions!A$2:A$65496,Inscriptions!C$2:C$65498))","v":"BEM"},{"$f":"IF(ISBLANK($B52),\"\",LOOKUP($B52,Inscriptions!A$2:A$65496,Inscriptions!D$2:D$65498))","v":"ATHLE LE BOURGET DRANCY DUGNY"},31,null,1704,0,17,4,9.66,"km/h"]
[49,1574,{"$f":"IF(ISBLANK($B53),\"\",LOOKUP($B53,Inscriptions!A$2:A$65496,Inscriptions!B$2:B$65498))","v":"LOPEZ CASSANDRA"},{"$f":"IF(ISBLANK($B53),\"\",LOOKUP($B53,Inscriptions!A$2:A$65496,Inscriptions!C$2:C$65498))","v":"MIF"},{"$f":"IF(ISBLANK($B53),\"\",LOOKUP($B53,Inscriptions!A$2:A$65496,Inscriptions!D$2:D$65498))","v":"ST DENIS US"},null,17,1712,0,17,12,9.59,"km/h"]
[50,1525,{"$f":"IF(ISBLANK($B54),\"\",LOOKUP($B54,Inscriptions!A$2:A$65496,Inscriptions!B$2:B$65498))","v":"CAIRO ALEXIS"},{"$f":"IF(ISBLANK($B54),\"\",LOOKUP($B54,Inscriptions!A$2:A$65496,Inscriptions!C$2:C$65498))","v":"BEM"},{"$f":"IF(ISBLANK($B54),\"\",LOOKUP($B54,Inscriptions!A$2:A$65496,Inscriptions!D$2:D$65498))","v":"ST DENIS US"},32,null,1720,0,17,20,9.51,"km/h"]
[51,1599,{"$f":"IF(ISBLANK($B55),\"\",LOOKUP($B55,Inscriptions!A$2:A$65496,Inscriptions!B$2:B$65498))","v":"ABDI CHAÏMA"},{"$f":"IF(ISBLANK($B55),\"\",LOOKUP($B55,Inscriptions!A$2:A$65496,Inscriptions!C$2:C$65498))","v":"MIF"},{"$f":"IF(ISBLANK($B55),\"\",LOOKUP($B55,Inscriptions!A$2:A$65496,Inscriptions!D$2:D$65498))","v":"TREMBLAY AC"},null,18,1722,0,17,22,9.5,"km/h"]
[52,1129,{"$f":"IF(ISBLANK($B56),\"\",LOOKUP($B56,Inscriptions!A$2:A$65496,Inscriptions!B$2:B$65498))","v":"SOW MAKAN"},{"$f":"IF(ISBLANK($B56),\"\",LOOKUP($B56,Inscriptions!A$2:A$65496,Inscriptions!C$2:C$65498))","v":"BEM"},{"$f":"IF(ISBLANK($B56),\"\",LOOKUP($B56,Inscriptions!A$2:A$65496,Inscriptions!D$2:D$65498))","v":"ES STAINS"},33,null,1804,0,18,4,9.1300000000000008,"km/h"]
[53,2038,{"$f":"IF(ISBLANK($B57),\"\",LOOKUP($B57,Inscriptions!A$2:A$65496,Inscriptions!B$2:B$65498))","v":"BOINA MESNIL"},{"$f":"IF(ISBLANK($B57),\"\",LOOKUP($B57,Inscriptions!A$2:A$65496,Inscriptions!C$2:C$65498))","v":"BEM"},{"$f":"IF(ISBLANK($B57),\"\",LOOKUP($B57,Inscriptions!A$2:A$65496,Inscriptions!D$2:D$65498))","v":"US VIGNEUX"},34,null,1822,0,18,22,8.98,"km/h"]
[54,497,{"$f":"IF(ISBLANK($B58),\"\",LOOKUP($B58,Inscriptions!A$2:A$65496,Inscriptions!B$2:B$65498))","v":"BOUMEDJANE MANIS"},{"$f":"IF(ISBLANK($B58),\"\",LOOKUP($B58,Inscriptions!A$2:A$65496,Inscriptions!C$2:C$65498))","v":"BEM"},{"$f":"IF(ISBLANK($B58),\"\",LOOKUP($B58,Inscriptions!A$2:A$65496,Inscriptions!D$2:D$65498))","v":"BLANC MESNIL SA"},35,null,1850,0,18,50,8.76,"km/h"]
[55,1838,{"$f":"IF(ISBLANK($B59),\"\",LOOKUP($B59,Inscriptions!A$2:A$65496,Inscriptions!B$2:B$65498))","v":"GOMBERT NICOLAS"},{"$f":"IF(ISBLANK($B59),\"\",LOOKUP($B59,Inscriptions!A$2:A$65496,Inscriptions!C$2:C$65498))","v":"BEM"},{"$f":"IF(ISBLANK($B59),\"\",LOOKUP($B59,Inscriptions!A$2:A$65496,Inscriptions!D$2:D$65498))","v":"US IVRY"},36,null,1854,0,18,54,8.73,"km/h"]
[56,2384,{"$f":"IF(ISBLANK($B60),\"\",LOOKUP($B60,Inscriptions!A$2:A$65496,Inscriptions!B$2:B$65498))","v":"NABI BRAHIM"},{"$f":"IF(ISBLANK($B60),\"\",LOOKUP($B60,Inscriptions!A$2:A$65496,Inscriptions!C$2:C$65498))","v":"BEM"},{"$f":"IF(ISBLANK($B60),\"\",LOOKUP($B60,Inscriptions!A$2:A$65496,Inscriptions!D$2:D$65498))","v":"TREMBLAY AC"},37,null,1929,0,19,29,8.4600000000000009,"km/h"]
[57,1664,{"$f":"IF(ISBLANK($B61),\"\",LOOKUP($B61,Inscriptions!A$2:A$65496,Inscriptions!B$2:B$65498))","v":"GHANDRI NAWEL"},{"$f":"IF(ISBLANK($B61),\"\",LOOKUP($B61,Inscriptions!A$2:A$65496,Inscriptions!C$2:C$65498))","v":"MIF"},{"$f":"IF(ISBLANK($B61),\"\",LOOKUP($B61,Inscriptions!A$2:A$65496,Inscriptions!D$2:D$65498))","v":"TREMBLAY AC"},null,19,2004,0,20,4,8.2200000000000006,"km/h"]
[58,2137,{"$f":"IF(ISBLANK($B62),\"\",LOOKUP($B62,Inscriptions!A$2:A$65496,Inscriptions!B$2:B$65498))","v":"BAKALA-KILAMBI YISSA"},{"$f":"IF(ISBLANK($B62),\"\",LOOKUP($B62,Inscriptions!A$2:A$65496,Inscriptions!C$2:C$65498))","v":"BEM"},{"$f":"IF(ISBLANK($B62),\"\",LOOKUP($B62,Inscriptions!A$2:A$65496,Inscriptions!D$2:D$65498))","v":"USMA ST OUEN"},38,null,2013,0,20,13,8.16,"km/h"]
[59,1663,{"$f":"IF(ISBLANK($B63),\"\",LOOKUP($B63,Inscriptions!A$2:A$65496,Inscriptions!B$2:B$65498))","v":"GHANDRI MANEL"},{"$f":"IF(ISBLANK($B63),\"\",LOOKUP($B63,Inscriptions!A$2:A$65496,Inscriptions!C$2:C$65498))","v":"MIF"},{"$f":"IF(ISBLANK($B63),\"\",LOOKUP($B63,Inscriptions!A$2:A$65496,Inscriptions!D$2:D$65498))","v":"TREMBLAY AC"},null,20,2021,0,20,21,8.1,"km/h"]
[60,1174,{"$f":"IF(ISBLANK($B64),\"\",LOOKUP($B64,Inscriptions!A$2:A$65496,Inscriptions!B$2:B$65498))","v":"CISSÉ FOUNÉ"},{"$f":"IF(ISBLANK($B64),\"\",LOOKUP($B64,Inscriptions!A$2:A$65496,Inscriptions!C$2:C$65498))","v":"MIF"},{"$f":"IF(ISBLANK($B64),\"\",LOOKUP($B64,Inscriptions!A$2:A$65496,Inscriptions!D$2:D$65498))","v":"ES VITRY"},null,21,2052,0,20,52,7.9,"km/h"]
[61,1737,{"$f":"IF(ISBLANK($B65),\"\",LOOKUP($B65,Inscriptions!A$2:A$65496,Inscriptions!B$2:B$65498))","v":"TABIAN TESS"},{"$f":"IF(ISBLANK($B65),\"\",LOOKUP($B65,Inscriptions!A$2:A$65496,Inscriptions!C$2:C$65498))","v":"MIF"},{"$f":"IF(ISBLANK($B65),\"\",LOOKUP($B65,Inscriptions!A$2:A$65496,Inscriptions!D$2:D$65498))","v":"TREMBLAY AC"},null,22,2106,0,21,6,7.81,"km/h"]
[62,1458,{"$f":"IF(ISBLANK($B66),\"\",LOOKUP($B66,Inscriptions!A$2:A$65496,Inscriptions!B$2:B$65498))","v":"SAINTIMA SEBASTIEN"},{"$f":"IF(ISBLANK($B66),\"\",LOOKUP($B66,Inscriptions!A$2:A$65496,Inscriptions!C$2:C$65498))","v":"BEM"},{"$f":"IF(ISBLANK($B66),\"\",LOOKUP($B66,Inscriptions!A$2:A$65496,Inscriptions!D$2:D$65498))","v":"NOISY LE SEC ATHLETISME"},39,null,2144,0,21,44,7.59,"km/h"]
[63,986,{"$f":"IF(ISBLANK($B67),\"\",LOOKUP($B67,Inscriptions!A$2:A$65496,Inscriptions!B$2:B$65498))","v":"PRIEZ JULIE"},{"$f":"IF(ISBLANK($B67),\"\",LOOKUP($B67,Inscriptions!A$2:A$65496,Inscriptions!C$2:C$65498))","v":"MIF"},{"$f":"IF(ISBLANK($B67),\"\",LOOKUP($B67,Inscriptions!A$2:A$65496,Inscriptions!D$2:D$65498))","v":"CSM GENNEVILLIERS"},null,23,2145,0,21,45,7.58,"km/h"]
[64,1546,{"$f":"IF(ISBLANK($B68),\"\",LOOKUP($B68,Inscriptions!A$2:A$65496,Inscriptions!B$2:B$65498))","v":"DIALLO BINETA CLEMENCE"},{"$f":"IF(ISBLANK($B68),\"\",LOOKUP($B68,Inscriptions!A$2:A$65496,Inscriptions!C$2:C$65498))","v":"MIF"},{"$f":"IF(ISBLANK($B68),\"\",LOOKUP($B68,Inscriptions!A$2:A$65496,Inscriptions!D$2:D$65498))","v":"ST DENIS US"},null,24,2146,0,21,46,7.58,"km/h"]
["AB",1705,{"$f":"IF(ISBLANK($B69),\"\",LOOKUP($B69,Inscriptions!A$2:A$65496,Inscriptions!B$2:B$65498))","v":"MOMBRUNO PHILEMON AYANA"},{"$f":"IF(ISBLANK($B69),\"\",LOOKUP($B69,Inscriptions!A$2:A$65496,Inscriptions!C$2:C$65498))","v":"MIF"},{"$f":"IF(ISBLANK($B69),\"\",LOOKUP($B69,Inscriptions!A$2:A$65496,Inscriptions!D$2:D$65498))","v":"TREMBLAY AC"},null,null,null,0,0,0,"",""]
[66,null,{"$f":"IF(ISBLANK($B70),\"\",LOOKUP($B70,Inscriptions!A$2:A$65496,Inscriptions!B$2:B$65498))","v":""},{"$f":"IF(ISBLANK($B70),\"\",LOOKUP($B70,Inscriptions!A$2:A$65496,Inscriptions!C$2:C$65498))","v":""},{"$f":"IF(ISBLANK($B70),\"\",LOOKUP($B70,Inscriptions!A$2:A$65496,Inscriptions!D$2:D$65498))","v":""},null,null,null,{"$f":"ROUNDDOWN(H70/10000,0)","v":0},{"$f":"ROUNDDOWN((H70-I70*10000)/100,0)","v":0},{"$f":"ROUNDDOWN((H70-(I70*10000)-(J70*100)),0)","v":0},{"$f":"IF((I70+J70+K70)=0,\"\",ROUNDDOWN((L$4/((I70*3600)+(J70*60)+K70))*3.6,2))","v":""},{"$f":"IF(L70=\"\",\"\",\"km/h\")","v":""}]
[67,null,{"$f":"IF(ISBLANK($B71),\"\",LOOKUP($B71,Inscriptions!A$2:A$65496,Inscriptions!B$2:B$65498))","v":""},{"$f":"IF(ISBLANK($B71),\"\",LOOKUP($B71,Inscriptions!A$2:A$65496,Inscriptions!C$2:C$65498))","v":""},{"$f":"IF(ISBLANK($B71),\"\",LOOKUP($B71,Inscriptions!A$2:A$65496,Inscriptions!D$2:D$65498))","v":""},null,null,null,0,0,0,"",""]
[68,null,{"$f":"IF(ISBLANK($B72),\"\",LOOKUP($B72,Inscriptions!A$2:A$65496,Inscriptions!B$2:B$65498))","v":""},{"$f":"IF(ISBLANK($B72),\"\",LOOKUP($B72,Inscriptions!A$2:A$65496,Inscriptions!C$2:C$65498))","v":""},{"$f":"IF(ISBLANK($B72),\"\",LOOKUP($B72,Inscriptions!A$2:A$65496,Inscriptions!D$2:D$65498))","v":""},null,null,null,0,0,0,"",""]
[69,null,{"$f":"IF(ISBLANK($B73),\"\",LOOKUP($B73,Inscriptions!A$2:A$65496,Inscriptions!B$2:B$65498))","v":""},{"$f":"IF(ISBLANK($B73),\"\",LOOKUP($B73,Inscriptions!A$2:A$65496,Inscriptions!C$2:C$65498))","v":""},{"$f":"IF(ISBLANK($B73),\"\",LOOKUP($B73,Inscriptions!A$2:A$65496,Inscriptions!D$2:D$65498))","v":""},null,null,null,0,0,0,"",""]
[70,null,{"$f":"IF(ISBLANK($B74),\"\",LOOKUP($B74,Inscriptions!A$2:A$65496,Inscriptions!B$2:B$65498))","v":""},{"$f":"IF(ISBLANK($B74),\"\",LOOKUP($B74,Inscriptions!A$2:A$65496,Inscriptions!C$2:C$65498))","v":""},{"$f":"IF(ISBLANK($B74),\"\",LOOKUP($B74,Inscriptions!A$2:A$65496,Inscriptions!D$2:D$65498))","v":""},null,null,null,0,0,0,"",""]
[71,null,{"$f":"IF(ISBLANK($B75),\"\",LOOKUP($B75,Inscriptions!A$2:A$65496,Inscriptions!B$2:B$65498))","v":""},{"$f":"IF(ISBLANK($B75),\"\",LOOKUP($B75,Inscriptions!A$2:A$65496,Inscriptions!C$2:C$65498))","v":""},{"$f":"IF(ISBLANK($B75),\"\",LOOKUP($B75,Inscriptions!A$2:A$65496,Inscriptions!D$2:D$65498))","v":""},null,null,null,0,0,0,"",""]
[72,null,{"$f":"IF(ISBLANK($B76),\"\",LOOKUP($B76,Inscriptions!A$2:A$65496,Inscriptions!B$2:B$65498))","v":""},{"$f":"IF(ISBLANK($B76),\"\",LOOKUP($B76,Inscriptions!A$2:A$65496,Inscriptions!C$2:C$65498))","v":""},{"$f":"IF(ISBLANK($B76),\"\",LOOKUP($B76,Inscriptions!A$2:A$65496,Inscriptions!D$2:D$65498))","v":""},null,null,null,0,0,0,"",""]
[73,null,{"$f":"IF(ISBLANK($B77),\"\",LOOKUP($B77,Inscriptions!A$2:A$65496,Inscriptions!B$2:B$65498))","v":""},{"$f":"IF(ISBLANK($B77),\"\",LOOKUP($B77,Inscriptions!A$2:A$65496,Inscriptions!C$2:C$65498))","v":""},{"$f":"IF(ISBLANK($B77),\"\",LOOKUP($B77,Inscriptions!A$2:A$65496,Inscriptions!D$2:D$65498))","v":""},null,null,null,0,0,0,"",""]
[74,null,{"$f":"IF(ISBLANK($B78),\"\",LOOKUP($B78,Inscriptions!A$2:A$65496,Inscriptions!B$2:B$65498))","v":""},{"$f":"IF(ISBLANK($B78),\"\",LOOKUP($B78,Inscriptions!A$2:A$65496,Inscriptions!C$2:C$65498))","v":""},{"$f":"IF(ISBLANK($B78),\"\",LOOKUP($B78,Inscriptions!A$2:A$65496,Inscriptions!D$2:D$65498))","v":""},null,null,null,0,0,0,"",""]
[75,null,{"$f":"IF(ISBLANK($B79),\"\",LOOKUP($B79,Inscriptions!A$2:A$65496,Inscriptions!B$2:B$65498))","v":""},{"$f":"IF(ISBLANK($B79),\"\",LOOKUP($B79,Inscriptions!A$2:A$65496,Inscriptions!C$2:C$65498))","v":""},{"$f":"IF(ISBLANK($B79),\"\",LOOKUP($B79,Inscriptions!A$2:A$65496,Inscriptions!D$2:D$65498))","v":""},null,null,null,0,0,0,"",""]
[76,null,{"$f":"IF(ISBLANK($B80),\"\",LOOKUP($B80,Inscriptions!A$2:A$65496,Inscriptions!B$2:B$65498))","v":""},{"$f":"IF(ISBLANK($B80),\"\",LOOKUP($B80,Inscriptions!A$2:A$65496,Inscriptions!C$2:C$65498))","v":""},{"$f":"IF(ISBLANK($B80),\"\",LOOKUP($B80,Inscriptions!A$2:A$65496,Inscriptions!D$2:D$65498))","v":""},null,null,null,0,0,0,"",""]
[77,null,{"$f":"IF(ISBLANK($B81),\"\",LOOKUP($B81,Inscriptions!A$2:A$65496,Inscriptions!B$2:B$65498))","v":""},{"$f":"IF(ISBLANK($B81),\"\",LOOKUP($B81,Inscriptions!A$2:A$65496,Inscriptions!C$2:C$65498))","v":""},{"$f":"IF(ISBLANK($B81),\"\",LOOKUP($B81,Inscriptions!A$2:A$65496,Inscriptions!D$2:D$65498))","v":""},null,null,null,0,0,0,"",""]
[78,null,{"$f":"IF(ISBLANK($B82),\"\",LOOKUP($B82,Inscriptions!A$2:A$65496,Inscriptions!B$2:B$65498))","v":""},{"$f":"IF(ISBLANK($B82),\"\",LOOKUP($B82,Inscriptions!A$2:A$65496,Inscriptions!C$2:C$65498))","v":""},{"$f":"IF(ISBLANK($B82),\"\",LOOKUP($B82,Inscriptions!A$2:A$65496,Inscriptions!D$2:D$65498))","v":""},null,null,null,0,0,0,"",""]
[79,null,{"$f":"IF(ISBLANK($B83),\"\",LOOKUP($B83,Inscriptions!A$2:A$65496,Inscriptions!B$2:B$65498))","v":""},{"$f":"IF(ISBLANK($B83),\"\",LOOKUP($B83,Inscriptions!A$2:A$65496,Inscriptions!C$2:C$65498))","v":""},{"$f":"IF(ISBLANK($B83),\"\",LOOKUP($B83,Inscriptions!A$2:A$65496,Inscriptions!D$2:D$65498))","v":""},null,null,null,0,0,0,"",""]
[80,null,{"$f":"IF(ISBLANK($B84),\"\",LOOKUP($B84,Inscriptions!A$2:A$65496,Inscriptions!B$2:B$65498))","v":""},{"$f":"IF(ISBLANK($B84),\"\",LOOKUP($B84,Inscriptions!A$2:A$65496,Inscriptions!C$2:C$65498))","v":""},{"$f":"IF(ISBLANK($B84),\"\",LOOKUP($B84,Inscriptions!A$2:A$65496,Inscriptions!D$2:D$65498))","v":""},null,null,null,0,0,0,"",""]
[81,null,{"$f":"IF(ISBLANK($B85),\"\",LOOKUP($B85,Inscriptions!A$2:A$65496,Inscriptions!B$2:B$65498))","v":""},{"$f":"IF(ISBLANK($B85),\"\",LOOKUP($B85,Inscriptions!A$2:A$65496,Inscriptions!C$2:C$65498))","v":""},{"$f":"IF(ISBLANK($B85),\"\",LOOKUP($B85,Inscriptions!A$2:A$65496,Inscriptions!D$2:D$65498))","v":""},null,null,null,0,0,0,"",""]
[82,null,{"$f":"IF(ISBLANK($B86),\"\",LOOKUP($B86,Inscriptions!A$2:A$65496,Inscriptions!B$2:B$65498))","v":""},{"$f":"IF(ISBLANK($B86),\"\",LOOKUP($B86,Inscriptions!A$2:A$65496,Inscriptions!C$2:C$65498))","v":""},{"$f":"IF(ISBLANK($B86),\"\",LOOKUP($B86,Inscriptions!A$2:A$65496,Inscriptions!D$2:D$65498))","v":""},null,null,null,0,0,0,"",""]
[83,null,{"$f":"IF(ISBLANK($B87),\"\",LOOKUP($B87,Inscriptions!A$2:A$65496,Inscriptions!B$2:B$65498))","v":""},{"$f":"IF(ISBLANK($B87),\"\",LOOKUP($B87,Inscriptions!A$2:A$65496,Inscriptions!C$2:C$65498))","v":""},{"$f":"IF(ISBLANK($B87),\"\",LOOKUP($B87,Inscriptions!A$2:A$65496,Inscriptions!D$2:D$65498))","v":""},null,null,null,0,0,0,"",""]
[84,null,{"$f":"IF(ISBLANK($B88),\"\",LOOKUP($B88,Inscriptions!A$2:A$65496,Inscriptions!B$2:B$65498))","v":""},{"$f":"IF(ISBLANK($B88),\"\",LOOKUP($B88,Inscriptions!A$2:A$65496,Inscriptions!C$2:C$65498))","v":""},{"$f":"IF(ISBLANK($B88),\"\",LOOKUP($B88,Inscriptions!A$2:A$65496,Inscriptions!D$2:D$65498))","v":""},null,null,null,0,0,0,"",""]
[85,null,{"$f":"IF(ISBLANK($B89),\"\",LOOKUP($B89,Inscriptions!A$2:A$65496,Inscriptions!B$2:B$65498))","v":""},{"$f":"IF(ISBLANK($B89),\"\",LOOKUP($B89,Inscriptions!A$2:A$65496,Inscriptions!C$2:C$65498))","v":""},{"$f":"IF(ISBLANK($B89),\"\",LOOKUP($B89,Inscriptions!A$2:A$65496,Inscriptions!D$2:D$65498))","v":""},null,null,null,0,0,0,"",""]
[86,null,{"$f":"IF(ISBLANK($B90),\"\",LOOKUP($B90,Inscriptions!A$2:A$65496,Inscriptions!B$2:B$65498))","v":""},{"$f":"IF(ISBLANK($B90),\"\",LOOKUP($B90,Inscriptions!A$2:A$65496,Inscriptions!C$2:C$65498))","v":""},{"$f":"IF(ISBLANK($B90),\"\",LOOKUP($B90,Inscriptions!A$2:A$65496,Inscriptions!D$2:D$65498))","v":""},null,null,null,0,0,0,"",""]
[87,null,{"$f":"IF(ISBLANK($B91),\"\",LOOKUP($B91,Inscriptions!A$2:A$65496,Inscriptions!B$2:B$65498))","v":""},{"$f":"IF(ISBLANK($B91),\"\",LOOKUP($B91,Inscriptions!A$2:A$65496,Inscriptions!C$2:C$65498))","v":""},{"$f":"IF(ISBLANK($B91),\"\",LOOKUP($B91,Inscriptions!A$2:A$65496,Inscriptions!D$2:D$65498))","v":""},null,null,null,0,0,0,"",""]
[88,null,{"$f":"IF(ISBLANK($B92),\"\",LOOKUP($B92,Inscriptions!A$2:A$65496,Inscriptions!B$2:B$65498))","v":""},{"$f":"IF(ISBLANK($B92),\"\",LOOKUP($B92,Inscriptions!A$2:A$65496,Inscriptions!C$2:C$65498))","v":""},{"$f":"IF(ISBLANK($B92),\"\",LOOKUP($B92,Inscriptions!A$2:A$65496,Inscriptions!D$2:D$65498))","v":""},null,null,null,0,0,0,"",""]
[89,null,{"$f":"IF(ISBLANK($B93),\"\",LOOKUP($B93,Inscriptions!A$2:A$65496,Inscriptions!B$2:B$65498))","v":""},{"$f":"IF(ISBLANK($B93),\"\",LOOKUP($B93,Inscriptions!A$2:A$65496,Inscriptions!C$2:C$65498))","v":""},{"$f":"IF(ISBLANK($B93),\"\",LOOKUP($B93,Inscriptions!A$2:A$65496,Inscriptions!D$2:D$65498))","v":""},null,null,null,0,0,0,"",""]
[90,null,{"$f":"IF(ISBLANK($B94),\"\",LOOKUP($B94,Inscriptions!A$2:A$65496,Inscriptions!B$2:B$65498))","v":""},{"$f":"IF(ISBLANK($B94),\"\",LOOKUP($B94,Inscriptions!A$2:A$65496,Inscriptions!C$2:C$65498))","v":""},{"$f":"IF(ISBLANK($B94),\"\",LOOKUP($B94,Inscriptions!A$2:A$65496,Inscriptions!D$2:D$65498))","v":""},null,null,null,0,0,0,"",""]
[91,null,{"$f":"IF(ISBLANK($B95),\"\",LOOKUP($B95,Inscriptions!A$2:A$65496,Inscriptions!B$2:B$65498))","v":""},{"$f":"IF(ISBLANK($B95),\"\",LOOKUP($B95,Inscriptions!A$2:A$65496,Inscriptions!C$2:C$65498))","v":""},{"$f":"IF(ISBLANK($B95),\"\",LOOKUP($B95,Inscriptions!A$2:A$65496,Inscriptions!D$2:D$65498))","v":""},null,null,null,0,0,0,"",""]
[92,null,{"$f":"IF(ISBLANK($B96),\"\",LOOKUP($B96,Inscriptions!A$2:A$65496,Inscriptions!B$2:B$65498))","v":""},{"$f":"IF(ISBLANK($B96),\"\",LOOKUP($B96,Inscriptions!A$2:A$65496,Inscriptions!C$2:C$65498))","v":""},{"$f":"IF(ISBLANK($B96),\"\",LOOKUP($B96,Inscriptions!A$2:A$65496,Inscriptions!D$2:D$65498))","v":""},null,null,null,0,0,0,"",""]
[93,null,{"$f":"IF(ISBLANK($B97),\"\",LOOKUP($B97,Inscriptions!A$2:A$65496,Inscriptions!B$2:B$65498))","v":""},{"$f":"IF(ISBLANK($B97),\"\",LOOKUP($B97,Inscriptions!A$2:A$65496,Inscriptions!C$2:C$65498))","v":""},{"$f":"IF(ISBLANK($B97),\"\",LOOKUP($B97,Inscriptions!A$2:A$65496,Inscriptions!D$2:D$65498))","v":""},null,null,null,0,0,0,"",""]
[94,null,{"$f":"IF(ISBLANK($B98),\"\",LOOKUP($B98,Inscriptions!A$2:A$65496,Inscriptions!B$2:B$65498))","v":""},{"$f":"IF(ISBLANK($B98),\"\",LOOKUP($B98,Inscriptions!A$2:A$65496,Inscriptions!C$2:C$65498))","v":""},{"$f":"IF(ISBLANK($B98),\"\",LOOKUP($B98,Inscriptions!A$2:A$65496,Inscriptions!D$2:D$65498))","v":""},null,null,null,0,0,0,"",""]
[95,null,{"$f":"IF(ISBLANK($B99),\"\",LOOKUP($B99,Inscriptions!A$2:A$65496,Inscriptions!B$2:B$65498))","v":""},{"$f":"IF(ISBLANK($B99),\"\",LOOKUP($B99,Inscriptions!A$2:A$65496,Inscriptions!C$2:C$65498))","v":""},{"$f":"IF(ISBLANK($B99),\"\",LOOKUP($B99,Inscriptions!A$2:A$65496,Inscriptions!D$2:D$65498))","v":""},null,null,null,0,0,0,"",""]
[96,null,{"$f":"IF(ISBLANK($B100),\"\",LOOKUP($B100,Inscriptions!A$2:A$65496,Inscriptions!B$2:B$65498))","v":""},{"$f":"IF(ISBLANK($B100),\"\",LOOKUP($B100,Inscriptions!A$2:A$65496,Inscriptions!C$2:C$65498))","v":""},{"$f":"IF(ISBLANK($B100),\"\",LOOKUP($B100,Inscriptions!A$2:A$65496,Inscriptions!D$2:D$65498))","v":""},null,null,null,0,0,0,"",""]
[97,null,{"$f":"IF(ISBLANK($B101),\"\",LOOKUP($B101,Inscriptions!A$2:A$65496,Inscriptions!B$2:B$65498))","v":""},{"$f":"IF(ISBLANK($B101),\"\",LOOKUP($B101,Inscriptions!A$2:A$65496,Inscriptions!C$2:C$65498))","v":""},{"$f":"IF(ISBLANK($B101),\"\",LOOKUP($B101,Inscriptions!A$2:A$65496,Inscriptions!D$2:D$65498))","v":""},null,null,null,0,0,0,"",""]
[98,null,{"$f":"IF(ISBLANK($B102),\"\",LOOKUP($B102,Inscriptions!A$2:A$65496,Inscriptions!B$2:B$65498))","v":""},{"$f":"IF(ISBLANK($B102),\"\",LOOKUP($B102,Inscriptions!A$2:A$65496,Inscriptions!C$2:C$65498))","v":""},{"$f":"IF(ISBLANK($B102),\"\",LOOKUP($B102,Inscriptions!A$2:A$65496,Inscriptions!D$2:D$65498))","v":""},null,null,null,0,0,0,"",""]
[99,null,{"$f":"IF(ISBLANK($B103),\"\",LOOKUP($B103,Inscriptions!A$2:A$65496,Inscriptions!B$2:B$65498))","v":""},{"$f":"IF(ISBLANK($B103),\"\",LOOKUP($B103,Inscriptions!A$2:A$65496,Inscriptions!C$2:C$65498))","v":""},{"$f":"IF(ISBLANK($B103),\"\",LOOKUP($B103,Inscriptions!A$2:A$65496,Inscriptions!D$2:D$65498))","v":""},null,null,null,0,0,0,"",""]
[100,null,{"$f":"IF(ISBLANK($B104),\"\",LOOKUP($B104,Inscriptions!A$2:A$65496,Inscriptions!B$2:B$65498))","v":""},{"$f":"IF(ISBLANK($B104),\"\",LOOKUP($B104,Inscriptions!A$2:A$65496,Inscriptions!C$2:C$65498))","v":""},{"$f":"IF(ISBLANK($B104),\"\",LOOKUP($B104,Inscriptions!A$2:A$65496,Inscriptions!D$2:D$65498))","v":""},null,null,null,0,0,0,"",""]
[101,null,{"$f":"IF(ISBLANK($B105),\"\",LOOKUP($B105,Inscriptions!A$2:A$65496,Inscriptions!B$2:B$65498))","v":""},{"$f":"IF(ISBLANK($B105),\"\",LOOKUP($B105,Inscriptions!A$2:A$65496,Inscriptions!C$2:C$65498))","v":""},{"$f":"IF(ISBLANK($B105),\"\",LOOKUP($B105,Inscriptions!A$2:A$65496,Inscriptions!D$2:D$65498))","v":""},null,null,null,0,0,0,"",""]
[102,null,{"$f":"IF(ISBLANK($B106),\"\",LOOKUP($B106,Inscriptions!A$2:A$65496,Inscriptions!B$2:B$65498))","v":""},{"$f":"IF(ISBLANK($B106),\"\",LOOKUP($B106,Inscriptions!A$2:A$65496,Inscriptions!C$2:C$65498))","v":""},{"$f":"IF(ISBLANK($B106),\"\",LOOKUP($B106,Inscriptions!A$2:A$65496,Inscriptions!D$2:D$65498))","v":""},null,null,null,0,0,0,"",""]
[103,null,{"$f":"IF(ISBLANK($B107),\"\",LOOKUP($B107,Inscriptions!A$2:A$65496,Inscriptions!B$2:B$65498))","v":""},{"$f":"IF(ISBLANK($B107),\"\",LOOKUP($B107,Inscriptions!A$2:A$65496,Inscriptions!C$2:C$65498))","v":""},{"$f":"IF(ISBLANK($B107),\"\",LOOKUP($B107,Inscriptions!A$2:A$65496,Inscriptions!D$2:D$65498))","v":""},null,null,null,0,0,0,"",""]
[104,null,{"$f":"IF(ISBLANK($B108),\"\",LOOKUP($B108,Inscriptions!A$2:A$65496,Inscriptions!B$2:B$65498))","v":""},{"$f":"IF(ISBLANK($B108),\"\",LOOKUP($B108,Inscriptions!A$2:A$65496,Inscriptions!C$2:C$65498))","v":""},{"$f":"IF(ISBLANK($B108),\"\",LOOKUP($B108,Inscriptions!A$2:A$65496,Inscriptions!D$2:D$65498))","v":""},null,null,null,0,0,0,"",""]
[105,null,{"$f":"IF(ISBLANK($B109),\"\",LOOKUP($B109,Inscriptions!A$2:A$65496,Inscriptions!B$2:B$65498))","v":""},{"$f":"IF(ISBLANK($B109),\"\",LOOKUP($B109,Inscriptions!A$2:A$65496,Inscriptions!C$2:C$65498))","v":""},{"$f":"IF(ISBLANK($B109),\"\",LOOKUP($B109,Inscriptions!A$2:A$65496,Inscriptions!D$2:D$65498))","v":""},null,null,null,0,0,0,"",""]
[106,null,{"$f":"IF(ISBLANK($B110),\"\",LOOKUP($B110,Inscriptions!A$2:A$65496,Inscriptions!B$2:B$65498))","v":""},{"$f":"IF(ISBLANK($B110),\"\",LOOKUP($B110,Inscriptions!A$2:A$65496,Inscriptions!C$2:C$65498))","v":""},{"$f":"IF(ISBLANK($B110),\"\",LOOKUP($B110,Inscriptions!A$2:A$65496,Inscriptions!D$2:D$65498))","v":""},null,null,null,0,0,0,"",""]
[107,null,{"$f":"IF(ISBLANK($B111),\"\",LOOKUP($B111,Inscriptions!A$2:A$65496,Inscriptions!B$2:B$65498))","v":""},{"$f":"IF(ISBLANK($B111),\"\",LOOKUP($B111,Inscriptions!A$2:A$65496,Inscriptions!C$2:C$65498))","v":""},{"$f":"IF(ISBLANK($B111),\"\",LOOKUP($B111,Inscriptions!A$2:A$65496,Inscriptions!D$2:D$65498))","v":""},null,null,null,0,0,0,"",""]
[108,null,{"$f":"IF(ISBLANK($B112),\"\",LOOKUP($B112,Inscriptions!A$2:A$65496,Inscriptions!B$2:B$65498))","v":""},{"$f":"IF(ISBLANK($B112),\"\",LOOKUP($B112,Inscriptions!A$2:A$65496,Inscriptions!C$2:C$65498))","v":""},{"$f":"IF(ISBLANK($B112),\"\",LOOKUP($B112,Inscriptions!A$2:A$65496,Inscriptions!D$2:D$65498))","v":""},null,null,null,0,0,0,"",""]
[109,null,{"$f":"IF(ISBLANK($B113),\"\",LOOKUP($B113,Inscriptions!A$2:A$65496,Inscriptions!B$2:B$65498))","v":""},{"$f":"IF(ISBLANK($B113),\"\",LOOKUP($B113,Inscriptions!A$2:A$65496,Inscriptions!C$2:C$65498))","v":""},{"$f":"IF(ISBLANK($B113),\"\",LOOKUP($B113,Inscriptions!A$2:A$65496,Inscriptions!D$2:D$65498))","v":""},null,null,null,0,0,0,"",""]
[110,null,{"$f":"IF(ISBLANK($B114),\"\",LOOKUP($B114,Inscriptions!A$2:A$65496,Inscriptions!B$2:B$65498))","v":""},{"$f":"IF(ISBLANK($B114),\"\",LOOKUP($B114,Inscriptions!A$2:A$65496,Inscriptions!C$2:C$65498))","v":""},{"$f":"IF(ISBLANK($B114),\"\",LOOKUP($B114,Inscriptions!A$2:A$65496,Inscriptions!D$2:D$65498))","v":""},null,null,null,0,0,0,"",""]
[111,null,{"$f":"IF(ISBLANK($B115),\"\",LOOKUP($B115,Inscriptions!A$2:A$65496,Inscriptions!B$2:B$65498))","v":""},{"$f":"IF(ISBLANK($B115),\"\",LOOKUP($B115,Inscriptions!A$2:A$65496,Inscriptions!C$2:C$65498))","v":""},{"$f":"IF(ISBLANK($B115),\"\",LOOKUP($B115,Inscriptions!A$2:A$65496,Inscriptions!D$2:D$65498))","v":""},null,null,null,0,0,0,"",""]
[112,null,{"$f":"IF(ISBLANK($B116),\"\",LOOKUP($B116,Inscriptions!A$2:A$65496,Inscriptions!B$2:B$65498))","v":""},{"$f":"IF(ISBLANK($B116),\"\",LOOKUP($B116,Inscriptions!A$2:A$65496,Inscriptions!C$2:C$65498))","v":""},{"$f":"IF(ISBLANK($B116),\"\",LOOKUP($B116,Inscriptions!A$2:A$65496,Inscriptions!D$2:D$65498))","v":""},null,null,null,0,0,0,"",""]
[113,null,{"$f":"IF(ISBLANK($B117),\"\",LOOKUP($B117,Inscriptions!A$2:A$65496,Inscriptions!B$2:B$65498))","v":""},{"$f":"IF(ISBLANK($B117),\"\",LOOKUP($B117,Inscriptions!A$2:A$65496,Inscriptions!C$2:C$65498))","v":""},{"$f":"IF(ISBLANK($B117),\"\",LOOKUP($B117,Inscriptions!A$2:A$65496,Inscriptions!D$2:D$65498))","v":""},null,null,null,0,0,0,"",""]
[114,null,{"$f":"IF(ISBLANK($B118),\"\",LOOKUP($B118,Inscriptions!A$2:A$65496,Inscriptions!B$2:B$65498))","v":""},{"$f":"IF(ISBLANK($B118),\"\",LOOKUP($B118,Inscriptions!A$2:A$65496,Inscriptions!C$2:C$65498))","v":""},{"$f":"IF(ISBLANK($B118),\"\",LOOKUP($B118,Inscriptions!A$2:A$65496,Inscriptions!D$2:D$65498))","v":""},null,null,null,0,0,0,"",""]
[115,null,{"$f":"IF(ISBLANK($B119),\"\",LOOKUP($B119,Inscriptions!A$2:A$65496,Inscriptions!B$2:B$65498))","v":""},{"$f":"IF(ISBLANK($B119),\"\",LOOKUP($B119,Inscriptions!A$2:A$65496,Inscriptions!C$2:C$65498))","v":""},{"$f":"IF(ISBLANK($B119),\"\",LOOKUP($B119,Inscriptions!A$2:A$65496,Inscriptions!D$2:D$65498))","v":""},null,null,null,0,0,0,"",""]
[116,null,{"$f":"IF(ISBLANK($B120),\"\",LOOKUP($B120,Inscriptions!A$2:A$65496,Inscriptions!B$2:B$65498))","v":""},{"$f":"IF(ISBLANK($B120),\"\",LOOKUP($B120,Inscriptions!A$2:A$65496,Inscriptions!C$2:C$65498))","v":""},{"$f":"IF(ISBLANK($B120),\"\",LOOKUP($B120,Inscriptions!A$2:A$65496,Inscriptions!D$2:D$65498))","v":""},null,null,null,0,0,0,"",""]
[117,null,{"$f":"IF(ISBLANK($B121),\"\",LOOKUP($B121,Inscriptions!A$2:A$65496,Inscriptions!B$2:B$65498))","v":""},{"$f":"IF(ISBLANK($B121),\"\",LOOKUP($B121,Inscriptions!A$2:A$65496,Inscriptions!C$2:C$65498))","v":""},{"$f":"IF(ISBLANK($B121),\"\",LOOKUP($B121,Inscriptions!A$2:A$65496,Inscriptions!D$2:D$65498))","v":""},null,null,null,0,0,0,"",""]
[118,null,{"$f":"IF(ISBLANK($B122),\"\",LOOKUP($B122,Inscriptions!A$2:A$65496,Inscriptions!B$2:B$65498))","v":""},{"$f":"IF(ISBLANK($B122),\"\",LOOKUP($B122,Inscriptions!A$2:A$65496,Inscriptions!C$2:C$65498))","v":""},{"$f":"IF(ISBLANK($B122),\"\",LOOKUP($B122,Inscriptions!A$2:A$65496,Inscriptions!D$2:D$65498))","v":""},null,null,null,0,0,0,"",""]
[119,null,{"$f":"IF(ISBLANK($B123),\"\",LOOKUP($B123,Inscriptions!A$2:A$65496,Inscriptions!B$2:B$65498))","v":""},{"$f":"IF(ISBLANK($B123),\"\",LOOKUP($B123,Inscriptions!A$2:A$65496,Inscriptions!C$2:C$65498))","v":""},{"$f":"IF(ISBLANK($B123),\"\",LOOKUP($B123,Inscriptions!A$2:A$65496,Inscriptions!D$2:D$65498))","v":""},null,null,null,0,0,0,"",""]
[120,null,{"$f":"IF(ISBLANK($B124),\"\",LOOKUP($B124,Inscriptions!A$2:A$65496,Inscriptions!B$2:B$65498))","v":""},{"$f":"IF(ISBLANK($B124),\"\",LOOKUP($B124,Inscriptions!A$2:A$65496,Inscriptions!C$2:C$65498))","v":""},{"$f":"IF(ISBLANK($B124),\"\",LOOKUP($B124,Inscriptions!A$2:A$65496,Inscriptions!D$2:D$65498))","v":""},null,null,null,0,0,0,"",""]
[121,null,{"$f":"IF(ISBLANK($B125),\"\",LOOKUP($B125,Inscriptions!A$2:A$65496,Inscriptions!B$2:B$65498))","v":""},{"$f":"IF(ISBLANK($B125),\"\",LOOKUP($B125,Inscriptions!A$2:A$65496,Inscriptions!C$2:C$65498))","v":""},{"$f":"IF(ISBLANK($B125),\"\",LOOKUP($B125,Inscriptions!A$2:A$65496,Inscriptions!D$2:D$65498))","v":""},null,null,null,0,0,0,"",""]
[122,null,{"$f":"IF(ISBLANK($B126),\"\",LOOKUP($B126,Inscriptions!A$2:A$65496,Inscriptions!B$2:B$65498))","v":""},{"$f":"IF(ISBLANK($B126),\"\",LOOKUP($B126,Inscriptions!A$2:A$65496,Inscriptions!C$2:C$65498))","v":""},{"$f":"IF(ISBLANK($B126),\"\",LOOKUP($B126,Inscriptions!A$2:A$65496,Inscriptions!D$2:D$65498))","v":""},null,null,null,0,0,0,"",""]
[123,null,{"$f":"IF(ISBLANK($B127),\"\",LOOKUP($B127,Inscriptions!A$2:A$65496,Inscriptions!B$2:B$65498))","v":""},{"$f":"IF(ISBLANK($B127),\"\",LOOKUP($B127,Inscriptions!A$2:A$65496,Inscriptions!C$2:C$65498))","v":""},{"$f":"IF(ISBLANK($B127),\"\",LOOKUP($B127,Inscriptions!A$2:A$65496,Inscriptions!D$2:D$65498))","v":""},null,null,null,0,0,0,"",""]
[124,null,{"$f":"IF(ISBLANK($B128),\"\",LOOKUP($B128,Inscriptions!A$2:A$65496,Inscriptions!B$2:B$65498))","v":""},{"$f":"IF(ISBLANK($B128),\"\",LOOKUP($B128,Inscriptions!A$2:A$65496,Inscriptions!C$2:C$65498))","v":""},{"$f":"IF(ISBLANK($B128),\"\",LOOKUP($B128,Inscriptions!A$2:A$65496,Inscriptions!D$2:D$65498))","v":""},null,null,null,0,0,0,"",""]
[125,null,{"$f":"IF(ISBLANK($B129),\"\",LOOKUP($B129,Inscriptions!A$2:A$65496,Inscriptions!B$2:B$65498))","v":""},{"$f":"IF(ISBLANK($B129),\"\",LOOKUP($B129,Inscriptions!A$2:A$65496,Inscriptions!C$2:C$65498))","v":""},{"$f":"IF(ISBLANK($B129),\"\",LOOKUP($B129,Inscriptions!A$2:A$65496,Inscriptions!D$2:D$65498))","v":""},null,null,null,0,0,0,"",""]
[126,null,{"$f":"IF(ISBLANK($B130),\"\",LOOKUP($B130,Inscriptions!A$2:A$65496,Inscriptions!B$2:B$65498))","v":""},{"$f":"IF(ISBLANK($B130),\"\",LOOKUP($B130,Inscriptions!A$2:A$65496,Inscriptions!C$2:C$65498))","v":""},{"$f":"IF(ISBLANK($B130),\"\",LOOKUP($B130,Inscriptions!A$2:A$65496,Inscriptions!D$2:D$65498))","v":""},null,null,null,0,0,0,"",""]
[127,null,{"$f":"IF(ISBLANK($B131),\"\",LOOKUP($B131,Inscriptions!A$2:A$65496,Inscriptions!B$2:B$65498))","v":""},{"$f":"IF(ISBLANK($B131),\"\",LOOKUP($B131,Inscriptions!A$2:A$65496,Inscriptions!C$2:C$65498))","v":""},{"$f":"IF(ISBLANK($B131),\"\",LOOKUP($B131,Inscriptions!A$2:A$65496,Inscriptions!D$2:D$65498))","v":""},null,null,null,0,0,0,"",""]
[128,null,{"$f":"IF(ISBLANK($B132),\"\",LOOKUP($B132,Inscriptions!A$2:A$65496,Inscriptions!B$2:B$65498))","v":""},{"$f":"IF(ISBLANK($B132),\"\",LOOKUP($B132,Inscriptions!A$2:A$65496,Inscriptions!C$2:C$65498))","v":""},{"$f":"IF(ISBLANK($B132),\"\",LOOKUP($B132,Inscriptions!A$2:A$65496,Inscriptions!D$2:D$65498))","v":""},null,null,null,0,0,0,"",""]
[129,null,{"$f":"IF(ISBLANK($B133),\"\",LOOKUP($B133,Inscriptions!A$2:A$65496,Inscriptions!B$2:B$65498))","v":""},{"$f":"IF(ISBLANK($B133),\"\",LOOKUP($B133,Inscriptions!A$2:A$65496,Inscriptions!C$2:C$65498))","v":""},{"$f":"IF(ISBLANK($B133),\"\",LOOKUP($B133,Inscriptions!A$2:A$65496,Inscriptions!D$2:D$65498))","v":""},null,null,null,0,0,0,"",""]
[130,null,{"$f":"IF(ISBLANK($B134),\"\",LOOKUP($B134,Inscriptions!A$2:A$65496,Inscriptions!B$2:B$65498))","v":""},{"$f":"IF(ISBLANK($B134),\"\",LOOKUP($B134,Inscriptions!A$2:A$65496,Inscriptions!C$2:C$65498))","v":""},{"$f":"IF(ISBLANK($B134),\"\",LOOKUP($B134,Inscriptions!A$2:A$65496,Inscriptions!D$2:D$65498))","v":""},null,null,null,{"$f":"ROUNDDOWN(H134/10000,0)","v":0},{"$f":"ROUNDDOWN((H134-I134*10000)/100,0)","v":0},{"$f":"ROUNDDOWN((H134-(I134*10000)-(J134*100)),0)","v":0},{"$f":"IF((I134+J134+K134)=0,\"\",ROUNDDOWN((L$4/((I134*3600)+(J134*60)+K134))*3.6,2))","v":""},{"$f":"IF(L134=\"\",\"\",\"km/h\")","v":""}]
[131,null,{"$f":"IF(ISBLANK($B135),\"\",LOOKUP($B135,Inscriptions!A$2:A$65496,Inscriptions!B$2:B$65498))","v":""},{"$f":"IF(ISBLANK($B135),\"\",LOOKUP($B135,Inscriptions!A$2:A$65496,Inscriptions!C$2:C$65498))","v":""},{"$f":"IF(ISBLANK($B135),\"\",LOOKUP($B135,Inscriptions!A$2:A$65496,Inscriptions!D$2:D$65498))","v":""},null,null,null,0,0,0,"",""]
[132,null,{"$f":"IF(ISBLANK($B136),\"\",LOOKUP($B136,Inscriptions!A$2:A$65496,Inscriptions!B$2:B$65498))","v":""},{"$f":"IF(ISBLANK($B136),\"\",LOOKUP($B136,Inscriptions!A$2:A$65496,Inscriptions!C$2:C$65498))","v":""},{"$f":"IF(ISBLANK($B136),\"\",LOOKUP($B136,Inscriptions!A$2:A$65496,Inscriptions!D$2:D$65498))","v":""},null,null,null,0,0,0,"",""]
[133,null,{"$f":"IF(ISBLANK($B137),\"\",LOOKUP($B137,Inscriptions!A$2:A$65496,Inscriptions!B$2:B$65498))","v":""},{"$f":"IF(ISBLANK($B137),\"\",LOOKUP($B137,Inscriptions!A$2:A$65496,Inscriptions!C$2:C$65498))","v":""},{"$f":"IF(ISBLANK($B137),\"\",LOOKUP($B137,Inscriptions!A$2:A$65496,Inscriptions!D$2:D$65498))","v":""},null,null,null,0,0,0,"",""]
[134,null,{"$f":"IF(ISBLANK($B138),\"\",LOOKUP($B138,Inscriptions!A$2:A$65496,Inscriptions!B$2:B$65498))","v":""},{"$f":"IF(ISBLANK($B138),\"\",LOOKUP($B138,Inscriptions!A$2:A$65496,Inscriptions!C$2:C$65498))","v":""},{"$f":"IF(ISBLANK($B138),\"\",LOOKUP($B138,Inscriptions!A$2:A$65496,Inscriptions!D$2:D$65498))","v":""},null,null,null,0,0,0,"",""]
[135,null,{"$f":"IF(ISBLANK($B139),\"\",LOOKUP($B139,Inscriptions!A$2:A$65496,Inscriptions!B$2:B$65498))","v":""},{"$f":"IF(ISBLANK($B139),\"\",LOOKUP($B139,Inscriptions!A$2:A$65496,Inscriptions!C$2:C$65498))","v":""},{"$f":"IF(ISBLANK($B139),\"\",LOOKUP($B139,Inscriptions!A$2:A$65496,Inscriptions!D$2:D$65498))","v":""},null,null,null,0,0,0,"",""]
[136,null,{"$f":"IF(ISBLANK($B140),\"\",LOOKUP($B140,Inscriptions!A$2:A$65496,Inscriptions!B$2:B$65498))","v":""},{"$f":"IF(ISBLANK($B140),\"\",LOOKUP($B140,Inscriptions!A$2:A$65496,Inscriptions!C$2:C$65498))","v":""},{"$f":"IF(ISBLANK($B140),\"\",LOOKUP($B140,Inscriptions!A$2:A$65496,Inscriptions!D$2:D$65498))","v":""},null,null,null,0,0,0,"",""]
[137,null,{"$f":"IF(ISBLANK($B141),\"\",LOOKUP($B141,Inscriptions!A$2:A$65496,Inscriptions!B$2:B$65498))","v":""},{"$f":"IF(ISBLANK($B141),\"\",LOOKUP($B141,Inscriptions!A$2:A$65496,Inscriptions!C$2:C$65498))","v":""},{"$f":"IF(ISBLANK($B141),\"\",LOOKUP($B141,Inscriptions!A$2:A$65496,Inscriptions!D$2:D$65498))","v":""},null,null,null,0,0,0,"",""]
[138,null,{"$f":"IF(ISBLANK($B142),\"\",LOOKUP($B142,Inscriptions!A$2:A$65496,Inscriptions!B$2:B$65498))","v":""},{"$f":"IF(ISBLANK($B142),\"\",LOOKUP($B142,Inscriptions!A$2:A$65496,Inscriptions!C$2:C$65498))","v":""},{"$f":"IF(ISBLANK($B142),\"\",LOOKUP($B142,Inscriptions!A$2:A$65496,Inscriptions!D$2:D$65498))","v":""},null,null,null,0,0,0,"",""]
[139,null,{"$f":"IF(ISBLANK($B143),\"\",LOOKUP($B143,Inscriptions!A$2:A$65496,Inscriptions!B$2:B$65498))","v":""},{"$f":"IF(ISBLANK($B143),\"\",LOOKUP($B143,Inscriptions!A$2:A$65496,Inscriptions!C$2:C$65498))","v":""},{"$f":"IF(ISBLANK($B143),\"\",LOOKUP($B143,Inscriptions!A$2:A$65496,Inscriptions!D$2:D$65498))","v":""},null,null,null,0,0,0,"",""]
[140,null,{"$f":"IF(ISBLANK($B144),\"\",LOOKUP($B144,Inscriptions!A$2:A$65496,Inscriptions!B$2:B$65498))","v":""},{"$f":"IF(ISBLANK($B144),\"\",LOOKUP($B144,Inscriptions!A$2:A$65496,Inscriptions!C$2:C$65498))","v":""},{"$f":"IF(ISBLANK($B144),\"\",LOOKUP($B144,Inscriptions!A$2:A$65496,Inscriptions!D$2:D$65498))","v":""},null,null,null,0,0,0,"",""]
[141,null,{"$f":"IF(ISBLANK($B145),\"\",LOOKUP($B145,Inscriptions!A$2:A$65496,Inscriptions!B$2:B$65498))","v":""},{"$f":"IF(ISBLANK($B145),\"\",LOOKUP($B145,Inscriptions!A$2:A$65496,Inscriptions!C$2:C$65498))","v":""},{"$f":"IF(ISBLANK($B145),\"\",LOOKUP($B145,Inscriptions!A$2:A$65496,Inscriptions!D$2:D$65498))","v":""},null,null,null,0,0,0,"",""]
[142,null,{"$f":"IF(ISBLANK($B146),\"\",LOOKUP($B146,Inscriptions!A$2:A$65496,Inscriptions!B$2:B$65498))","v":""},{"$f":"IF(ISBLANK($B146),\"\",LOOKUP($B146,Inscriptions!A$2:A$65496,Inscriptions!C$2:C$65498))","v":""},{"$f":"IF(ISBLANK($B146),\"\",LOOKUP($B146,Inscriptions!A$2:A$65496,Inscriptions!D$2:D$65498))","v":""},null,null,null,0,0,0,"",""]
[143,null,{"$f":"IF(ISBLANK($B147),\"\",LOOKUP($B147,Inscriptions!A$2:A$65496,Inscriptions!B$2:B$65498))","v":""},{"$f":"IF(ISBLANK($B147),\"\",LOOKUP($B147,Inscriptions!A$2:A$65496,Inscriptions!C$2:C$65498))","v":""},{"$f":"IF(ISBLANK($B147),\"\",LOOKUP($B147,Inscriptions!A$2:A$65496,Inscriptions!D$2:D$65498))","v":""},null,null,null,0,0,0,"",""]
[144,null,{"$f":"IF(ISBLANK($B148),\"\",LOOKUP($B148,Inscriptions!A$2:A$65496,Inscriptions!B$2:B$65498))","v":""},{"$f":"IF(ISBLANK($B148),\"\",LOOKUP($B148,Inscriptions!A$2:A$65496,Inscriptions!C$2:C$65498))","v":""},{"$f":"IF(ISBLANK($B148),\"\",LOOKUP($B148,Inscriptions!A$2:A$65496,Inscriptions!D$2:D$65498))","v":""},null,null,null,0,0,0,"",""]
[145,null,{"$f":"IF(ISBLANK($B149),\"\",LOOKUP($B149,Inscriptions!A$2:A$65496,Inscriptions!B$2:B$65498))","v":""},{"$f":"IF(ISBLANK($B149),\"\",LOOKUP($B149,Inscriptions!A$2:A$65496,Inscriptions!C$2:C$65498))","v":""},{"$f":"IF(ISBLANK($B149),\"\",LOOKUP($B149,Inscriptions!A$2:A$65496,Inscriptions!D$2:D$65498))","v":""},null,null,null,0,0,0,"",""]
[146,null,{"$f":"IF(ISBLANK($B150),\"\",LOOKUP($B150,Inscriptions!A$2:A$65496,Inscriptions!B$2:B$65498))","v":""},{"$f":"IF(ISBLANK($B150),\"\",LOOKUP($B150,Inscriptions!A$2:A$65496,Inscriptions!C$2:C$65498))","v":""},{"$f":"IF(ISBLANK($B150),\"\",LOOKUP($B150,Inscriptions!A$2:A$65496,Inscriptions!D$2:D$65498))","v":""},null,null,null,0,0,0,"",""]
[147,null,{"$f":"IF(ISBLANK($B151),\"\",LOOKUP($B151,Inscriptions!A$2:A$65496,Inscriptions!B$2:B$65498))","v":""},{"$f":"IF(ISBLANK($B151),\"\",LOOKUP($B151,Inscriptions!A$2:A$65496,Inscriptions!C$2:C$65498))","v":""},{"$f":"IF(ISBLANK($B151),\"\",LOOKUP($B151,Inscriptions!A$2:A$65496,Inscriptions!D$2:D$65498))","v":""},null,null,null,0,0,0,"",""]
[148,null,{"$f":"IF(ISBLANK($B152),\"\",LOOKUP($B152,Inscriptions!A$2:A$65496,Inscriptions!B$2:B$65498))","v":""},{"$f":"IF(ISBLANK($B152),\"\",LOOKUP($B152,Inscriptions!A$2:A$65496,Inscriptions!C$2:C$65498))","v":""},{"$f":"IF(ISBLANK($B152),\"\",LOOKUP($B152,Inscriptions!A$2:A$65496,Inscriptions!D$2:D$65498))","v":""},null,null,null,0,0,0,"",""]
[149,null,{"$f":"IF(ISBLANK($B153),\"\",LOOKUP($B153,Inscriptions!A$2:A$65496,Inscriptions!B$2:B$65498))","v":""},{"$f":"IF(ISBLANK($B153),\"\",LOOKUP($B153,Inscriptions!A$2:A$65496,Inscriptions!C$2:C$65498))","v":""},{"$f":"IF(ISBLANK($B153),\"\",LOOKUP($B153,Inscriptions!A$2:A$65496,Inscriptions!D$2:D$65498))","v":""},null,null,null,0,0,0,"",""]
[150,null,{"$f":"IF(ISBLANK($B154),\"\",LOOKUP($B154,Inscriptions!A$2:A$65496,Inscriptions!B$2:B$65498))","v":""},{"$f":"IF(ISBLANK($B154),\"\",LOOKUP($B154,Inscriptions!A$2:A$65496,Inscriptions!C$2:C$65498))","v":""},{"$f":"IF(ISBLANK($B154),\"\",LOOKUP($B154,Inscriptions!A$2:A$65496,Inscriptions!D$2:D$65498))","v":""},null,null,null,0,0,0,"",""]
[151,null,{"$f":"IF(ISBLANK($B155),\"\",LOOKUP($B155,Inscriptions!A$2:A$65496,Inscriptions!B$2:B$65498))","v":""},{"$f":"IF(ISBLANK($B155),\"\",LOOKUP($B155,Inscriptions!A$2:A$65496,Inscriptions!C$2:C$65498))","v":""},{"$f":"IF(ISBLANK($B155),\"\",LOOKUP($B155,Inscriptions!A$2:A$65496,Inscriptions!D$2:D$65498))","v":""},null,null,null,0,0,0,"",""]
[152,null,{"$f":"IF(ISBLANK($B156),\"\",LOOKUP($B156,Inscriptions!A$2:A$65496,Inscriptions!B$2:B$65498))","v":""},{"$f":"IF(ISBLANK($B156),\"\",LOOKUP($B156,Inscriptions!A$2:A$65496,Inscriptions!C$2:C$65498))","v":""},{"$f":"IF(ISBLANK($B156),\"\",LOOKUP($B156,Inscriptions!A$2:A$65496,Inscriptions!D$2:D$65498))","v":""},null,null,null,0,0,0,"",""]
[153,null,{"$f":"IF(ISBLANK($B157),\"\",LOOKUP($B157,Inscriptions!A$2:A$65496,Inscriptions!B$2:B$65498))","v":""},{"$f":"IF(ISBLANK($B157),\"\",LOOKUP($B157,Inscriptions!A$2:A$65496,Inscriptions!C$2:C$65498))","v":""},{"$f":"IF(ISBLANK($B157),\"\",LOOKUP($B157,Inscriptions!A$2:A$65496,Inscriptions!D$2:D$65498))","v":""},null,null,null,0,0,0,"",""]
[154,null,{"$f":"IF(ISBLANK($B158),\"\",LOOKUP($B158,Inscriptions!A$2:A$65496,Inscriptions!B$2:B$65498))","v":""},{"$f":"IF(ISBLANK($B158),\"\",LOOKUP($B158,Inscriptions!A$2:A$65496,Inscriptions!C$2:C$65498))","v":""},{"$f":"IF(ISBLANK($B158),\"\",LOOKUP($B158,Inscriptions!A$2:A$65496,Inscriptions!D$2:D$65498))","v":""},null,null,null,0,0,0,"",""]
[155,null,{"$f":"IF(ISBLANK($B159),\"\",LOOKUP($B159,Inscriptions!A$2:A$65496,Inscriptions!B$2:B$65498))","v":""},{"$f":"IF(ISBLANK($B159),\"\",LOOKUP($B159,Inscriptions!A$2:A$65496,Inscriptions!C$2:C$65498))","v":""},{"$f":"IF(ISBLANK($B159),\"\",LOOKUP($B159,Inscriptions!A$2:A$65496,Inscriptions!D$2:D$65498))","v":""},null,null,null,0,0,0,"",""]
[156,null,{"$f":"IF(ISBLANK($B160),\"\",LOOKUP($B160,Inscriptions!A$2:A$65496,Inscriptions!B$2:B$65498))","v":""},{"$f":"IF(ISBLANK($B160),\"\",LOOKUP($B160,Inscriptions!A$2:A$65496,Inscriptions!C$2:C$65498))","v":""},{"$f":"IF(ISBLANK($B160),\"\",LOOKUP($B160,Inscriptions!A$2:A$65496,Inscriptions!D$2:D$65498))","v":""},null,null,null,0,0,0,"",""]
[157,null,{"$f":"IF(ISBLANK($B161),\"\",LOOKUP($B161,Inscriptions!A$2:A$65496,Inscriptions!B$2:B$65498))","v":""},{"$f":"IF(ISBLANK($B161),\"\",LOOKUP($B161,Inscriptions!A$2:A$65496,Inscriptions!C$2:C$65498))","v":""},{"$f":"IF(ISBLANK($B161),\"\",LOOKUP($B161,Inscriptions!A$2:A$65496,Inscriptions!D$2:D$65498))","v":""},null,null,null,0,0,0,"",""]
[158,null,{"$f":"IF(ISBLANK($B162),\"\",LOOKUP($B162,Inscriptions!A$2:A$65496,Inscriptions!B$2:B$65498))","v":""},{"$f":"IF(ISBLANK($B162),\"\",LOOKUP($B162,Inscriptions!A$2:A$65496,Inscriptions!C$2:C$65498))","v":""},{"$f":"IF(ISBLANK($B162),\"\",LOOKUP($B162,Inscriptions!A$2:A$65496,Inscriptions!D$2:D$65498))","v":""},null,null,null,0,0,0,"",""]
[159,null,{"$f":"IF(ISBLANK($B163),\"\",LOOKUP($B163,Inscriptions!A$2:A$65496,Inscriptions!B$2:B$65498))","v":""},{"$f":"IF(ISBLANK($B163),\"\",LOOKUP($B163,Inscriptions!A$2:A$65496,Inscriptions!C$2:C$65498))","v":""},{"$f":"IF(ISBLANK($B163),\"\",LOOKUP($B163,Inscriptions!A$2:A$65496,Inscriptions!D$2:D$65498))","v":""},null,null,null,0,0,0,"",""]
[160,null,{"$f":"IF(ISBLANK($B164),\"\",LOOKUP($B164,Inscriptions!A$2:A$65496,Inscriptions!B$2:B$65498))","v":""},{"$f":"IF(ISBLANK($B164),\"\",LOOKUP($B164,Inscriptions!A$2:A$65496,Inscriptions!C$2:C$65498))","v":""},{"$f":"IF(ISBLANK($B164),\"\",LOOKUP($B164,Inscriptions!A$2:A$65496,Inscriptions!D$2:D$65498))","v":""},null,null,null,0,0,0,"",""]
[161,null,{"$f":"IF(ISBLANK($B165),\"\",LOOKUP($B165,Inscriptions!A$2:A$65496,Inscriptions!B$2:B$65498))","v":""},{"$f":"IF(ISBLANK($B165),\"\",LOOKUP($B165,Inscriptions!A$2:A$65496,Inscriptions!C$2:C$65498))","v":""},{"$f":"IF(ISBLANK($B165),\"\",LOOKUP($B165,Inscriptions!A$2:A$65496,Inscriptions!D$2:D$65498))","v":""},null,null,null,0,0,0,"",""]
[162,null,{"$f":"IF(ISBLANK($B166),\"\",LOOKUP($B166,Inscriptions!A$2:A$65496,Inscriptions!B$2:B$65498))","v":""},{"$f":"IF(ISBLANK($B166),\"\",LOOKUP($B166,Inscriptions!A$2:A$65496,Inscriptions!C$2:C$65498))","v":""},{"$f":"IF(ISBLANK($B166),\"\",LOOKUP($B166,Inscriptions!A$2:A$65496,Inscriptions!D$2:D$65498))","v":""},null,null,null,0,0,0,"",""]
[163,null,{"$f":"IF(ISBLANK($B167),\"\",LOOKUP($B167,Inscriptions!A$2:A$65496,Inscriptions!B$2:B$65498))","v":""},{"$f":"IF(ISBLANK($B167),\"\",LOOKUP($B167,Inscriptions!A$2:A$65496,Inscriptions!C$2:C$65498))","v":""},{"$f":"IF(ISBLANK($B167),\"\",LOOKUP($B167,Inscriptions!A$2:A$65496,Inscriptions!D$2:D$65498))","v":""},null,null,null,0,0,0,"",""]
[164,null,{"$f":"IF(ISBLANK($B168),\"\",LOOKUP($B168,Inscriptions!A$2:A$65496,Inscriptions!B$2:B$65498))","v":""},{"$f":"IF(ISBLANK($B168),\"\",LOOKUP($B168,Inscriptions!A$2:A$65496,Inscriptions!C$2:C$65498))","v":""},{"$f":"IF(ISBLANK($B168),\"\",LOOKUP($B168,Inscriptions!A$2:A$65496,Inscriptions!D$2:D$65498))","v":""},null,null,null,0,0,0,"",""]
[165,null,{"$f":"IF(ISBLANK($B169),\"\",LOOKUP($B169,Inscriptions!A$2:A$65496,Inscriptions!B$2:B$65498))","v":""},{"$f":"IF(ISBLANK($B169),\"\",LOOKUP($B169,Inscriptions!A$2:A$65496,Inscriptions!C$2:C$65498))","v":""},{"$f":"IF(ISBLANK($B169),\"\",LOOKUP($B169,Inscriptions!A$2:A$65496,Inscriptions!D$2:D$65498))","v":""},null,null,null,0,0,0,"",""]
[166,null,{"$f":"IF(ISBLANK($B170),\"\",LOOKUP($B170,Inscriptions!A$2:A$65496,Inscriptions!B$2:B$65498))","v":""},{"$f":"IF(ISBLANK($B170),\"\",LOOKUP($B170,Inscriptions!A$2:A$65496,Inscriptions!C$2:C$65498))","v":""},{"$f":"IF(ISBLANK($B170),\"\",LOOKUP($B170,Inscriptions!A$2:A$65496,Inscriptions!D$2:D$65498))","v":""},null,null,null,0,0,0,"",""]
[167,null,{"$f":"IF(ISBLANK($B171),\"\",LOOKUP($B171,Inscriptions!A$2:A$65496,Inscriptions!B$2:B$65498))","v":""},{"$f":"IF(ISBLANK($B171),\"\",LOOKUP($B171,Inscriptions!A$2:A$65496,Inscriptions!C$2:C$65498))","v":""},{"$f":"IF(ISBLANK($B171),\"\",LOOKUP($B171,Inscriptions!A$2:A$65496,Inscriptions!D$2:D$65498))","v":""},null,null,null,0,0,0,"",""]
[168,null,{"$f":"IF(ISBLANK($B172),\"\",LOOKUP($B172,Inscriptions!A$2:A$65496,Inscriptions!B$2:B$65498))","v":""},{"$f":"IF(ISBLANK($B172),\"\",LOOKUP($B172,Inscriptions!A$2:A$65496,Inscriptions!C$2:C$65498))","v":""},{"$f":"IF(ISBLANK($B172),\"\",LOOKUP($B172,Inscriptions!A$2:A$65496,Inscriptions!D$2:D$65498))","v":""},null,null,null,0,0,0,"",""]
[169,null,{"$f":"IF(ISBLANK($B173),\"\",LOOKUP($B173,Inscriptions!A$2:A$65496,Inscriptions!B$2:B$65498))","v":""},{"$f":"IF(ISBLANK($B173),\"\",LOOKUP($B173,Inscriptions!A$2:A$65496,Inscriptions!C$2:C$65498))","v":""},{"$f":"IF(ISBLANK($B173),\"\",LOOKUP($B173,Inscriptions!A$2:A$65496,Inscriptions!D$2:D$65498))","v":""},null,null,null,0,0,0,"",""]
[170,null,{"$f":"IF(ISBLANK($B174),\"\",LOOKUP($B174,Inscriptions!A$2:A$65496,Inscriptions!B$2:B$65498))","v":""},{"$f":"IF(ISBLANK($B174),\"\",LOOKUP($B174,Inscriptions!A$2:A$65496,Inscriptions!C$2:C$65498))","v":""},{"$f":"IF(ISBLANK($B174),\"\",LOOKUP($B174,Inscriptions!A$2:A$65496,Inscriptions!D$2:D$65498))","v":""},null,null,null,0,0,0,"",""]
[171,null,{"$f":"IF(ISBLANK($B175),\"\",LOOKUP($B175,Inscriptions!A$2:A$65496,Inscriptions!B$2:B$65498))","v":""},{"$f":"IF(ISBLANK($B175),\"\",LOOKUP($B175,Inscriptions!A$2:A$65496,Inscriptions!C$2:C$65498))","v":""},{"$f":"IF(ISBLANK($B175),\"\",LOOKUP($B175,Inscriptions!A$2:A$65496,Inscriptions!D$2:D$65498))","v":""},null,null,null,0,0,0,"",""]
[172,null,{"$f":"IF(ISBLANK($B176),\"\",LOOKUP($B176,Inscriptions!A$2:A$65496,Inscriptions!B$2:B$65498))","v":""},{"$f":"IF(ISBLANK($B176),\"\",LOOKUP($B176,Inscriptions!A$2:A$65496,Inscriptions!C$2:C$65498))","v":""},{"$f":"IF(ISBLANK($B176),\"\",LOOKUP($B176,Inscriptions!A$2:A$65496,Inscriptions!D$2:D$65498))","v":""},null,null,null,0,0,0,"",""]
[173,null,{"$f":"IF(ISBLANK($B177),\"\",LOOKUP($B177,Inscriptions!A$2:A$65496,Inscriptions!B$2:B$65498))","v":""},{"$f":"IF(ISBLANK($B177),\"\",LOOKUP($B177,Inscriptions!A$2:A$65496,Inscriptions!C$2:C$65498))","v":""},{"$f":"IF(ISBLANK($B177),\"\",LOOKUP($B177,Inscriptions!A$2:A$65496,Inscriptions!D$2:D$65498))","v":""},null,null,null,0,0,0,"",""]
[174,null,{"$f":"IF(ISBLANK($B178),\"\",LOOKUP($B178,Inscriptions!A$2:A$65496,Inscriptions!B$2:B$65498))","v":""},{"$f":"IF(ISBLANK($B178),\"\",LOOKUP($B178,Inscriptions!A$2:A$65496,Inscriptions!C$2:C$65498))","v":""},{"$f":"IF(ISBLANK($B178),\"\",LOOKUP($B178,Inscriptions!A$2:A$65496,Inscriptions!D$2:D$65498))","v":""},null,null,null,0,0,0,"",""]
[175,null,{"$f":"IF(ISBLANK($B179),\"\",LOOKUP($B179,Inscriptions!A$2:A$65496,Inscriptions!B$2:B$65498))","v":""},{"$f":"IF(ISBLANK($B179),\"\",LOOKUP($B179,Inscriptions!A$2:A$65496,Inscriptions!C$2:C$65498))","v":""},{"$f":"IF(ISBLANK($B179),\"\",LOOKUP($B179,Inscriptions!A$2:A$65496,Inscriptions!D$2:D$65498))","v":""},null,null,null,0,0,0,"",""]
[176,null,{"$f":"IF(ISBLANK($B180),\"\",LOOKUP($B180,Inscriptions!A$2:A$65496,Inscriptions!B$2:B$65498))","v":""},{"$f":"IF(ISBLANK($B180),\"\",LOOKUP($B180,Inscriptions!A$2:A$65496,Inscriptions!C$2:C$65498))","v":""},{"$f":"IF(ISBLANK($B180),\"\",LOOKUP($B180,Inscriptions!A$2:A$65496,Inscriptions!D$2:D$65498))","v":""},null,null,null,0,0,0,"",""]
[177,null,{"$f":"IF(ISBLANK($B181),\"\",LOOKUP($B181,Inscriptions!A$2:A$65496,Inscriptions!B$2:B$65498))","v":""},{"$f":"IF(ISBLANK($B181),\"\",LOOKUP($B181,Inscriptions!A$2:A$65496,Inscriptions!C$2:C$65498))","v":""},{"$f":"IF(ISBLANK($B181),\"\",LOOKUP($B181,Inscriptions!A$2:A$65496,Inscriptions!D$2:D$65498))","v":""},null,null,null,0,0,0,"",""]
[178,null,{"$f":"IF(ISBLANK($B182),\"\",LOOKUP($B182,Inscriptions!A$2:A$65496,Inscriptions!B$2:B$65498))","v":""},{"$f":"IF(ISBLANK($B182),\"\",LOOKUP($B182,Inscriptions!A$2:A$65496,Inscriptions!C$2:C$65498))","v":""},{"$f":"IF(ISBLANK($B182),\"\",LOOKUP($B182,Inscriptions!A$2:A$65496,Inscriptions!D$2:D$65498))","v":""},null,null,null,0,0,0,"",""]
[179,null,{"$f":"IF(ISBLANK($B183),\"\",LOOKUP($B183,Inscriptions!A$2:A$65496,Inscriptions!B$2:B$65498))","v":""},{"$f":"IF(ISBLANK($B183),\"\",LOOKUP($B183,Inscriptions!A$2:A$65496,Inscriptions!C$2:C$65498))","v":""},{"$f":"IF(ISBLANK($B183),\"\",LOOKUP($B183,Inscriptions!A$2:A$65496,Inscriptions!D$2:D$65498))","v":""},null,null,null,0,0,0,"",""]
[180,null,{"$f":"IF(ISBLANK($B184),\"\",LOOKUP($B184,Inscriptions!A$2:A$65496,Inscriptions!B$2:B$65498))","v":""},{"$f":"IF(ISBLANK($B184),\"\",LOOKUP($B184,Inscriptions!A$2:A$65496,Inscriptions!C$2:C$65498))","v":""},{"$f":"IF(ISBLANK($B184),\"\",LOOKUP($B184,Inscriptions!A$2:A$65496,Inscriptions!D$2:D$65498))","v":""},null,null,null,0,0,0,"",""]
[181,null,{"$f":"IF(ISBLANK($B185),\"\",LOOKUP($B185,Inscriptions!A$2:A$65496,Inscriptions!B$2:B$65498))","v":""},{"$f":"IF(ISBLANK($B185),\"\",LOOKUP($B185,Inscriptions!A$2:A$65496,Inscriptions!C$2:C$65498))","v":""},{"$f":"IF(ISBLANK($B185),\"\",LOOKUP($B185,Inscriptions!A$2:A$65496,Inscriptions!D$2:D$65498))","v":""},null,null,null,0,0,0,"",""]
[182,null,{"$f":"IF(ISBLANK($B186),\"\",LOOKUP($B186,Inscriptions!A$2:A$65496,Inscriptions!B$2:B$65498))","v":""},{"$f":"IF(ISBLANK($B186),\"\",LOOKUP($B186,Inscriptions!A$2:A$65496,Inscriptions!C$2:C$65498))","v":""},{"$f":"IF(ISBLANK($B186),\"\",LOOKUP($B186,Inscriptions!A$2:A$65496,Inscriptions!D$2:D$65498))","v":""},null,null,null,0,0,0,"",""]
[183,null,{"$f":"IF(ISBLANK($B187),\"\",LOOKUP($B187,Inscriptions!A$2:A$65496,Inscriptions!B$2:B$65498))","v":""},{"$f":"IF(ISBLANK($B187),\"\",LOOKUP($B187,Inscriptions!A$2:A$65496,Inscriptions!C$2:C$65498))","v":""},{"$f":"IF(ISBLANK($B187),\"\",LOOKUP($B187,Inscriptions!A$2:A$65496,Inscriptions!D$2:D$65498))","v":""},null,null,null,0,0,0,"",""]
[184,null,{"$f":"IF(ISBLANK($B188),\"\",LOOKUP($B188,Inscriptions!A$2:A$65496,Inscriptions!B$2:B$65498))","v":""},{"$f":"IF(ISBLANK($B188),\"\",LOOKUP($B188,Inscriptions!A$2:A$65496,Inscriptions!C$2:C$65498))","v":""},{"$f":"IF(ISBLANK($B188),\"\",LOOKUP($B188,Inscriptions!A$2:A$65496,Inscriptions!D$2:D$65498))","v":""},null,null,null,0,0,0,"",""]
[185,null,{"$f":"IF(ISBLANK($B189),\"\",LOOKUP($B189,Inscriptions!A$2:A$65496,Inscriptions!B$2:B$65498))","v":""},{"$f":"IF(ISBLANK($B189),\"\",LOOKUP($B189,Inscriptions!A$2:A$65496,Inscriptions!C$2:C$65498))","v":""},{"$f":"IF(ISBLANK($B189),\"\",LOOKUP($B189,Inscriptions!A$2:A$65496,Inscriptions!D$2:D$65498))","v":""},null,null,null,0,0,0,"",""]
[186,null,{"$f":"IF(ISBLANK($B190),\"\",LOOKUP($B190,Inscriptions!A$2:A$65496,Inscriptions!B$2:B$65498))","v":""},{"$f":"IF(ISBLANK($B190),\"\",LOOKUP($B190,Inscriptions!A$2:A$65496,Inscriptions!C$2:C$65498))","v":""},{"$f":"IF(ISBLANK($B190),\"\",LOOKUP($B190,Inscriptions!A$2:A$65496,Inscriptions!D$2:D$65498))","v":""},null,null,null,0,0,0,"",""]
[187,null,{"$f":"IF(ISBLANK($B191),\"\",LOOKUP($B191,Inscriptions!A$2:A$65496,Inscriptions!B$2:B$65498))","v":""},{"$f":"IF(ISBLANK($B191),\"\",LOOKUP($B191,Inscriptions!A$2:A$65496,Inscriptions!C$2:C$65498))","v":""},{"$f":"IF(ISBLANK($B191),\"\",LOOKUP($B191,Inscriptions!A$2:A$65496,Inscriptions!D$2:D$65498))","v":""},null,null,null,0,0,0,"",""]
[188,null,{"$f":"IF(ISBLANK($B192),\"\",LOOKUP($B192,Inscriptions!A$2:A$65496,Inscriptions!B$2:B$65498))","v":""},{"$f":"IF(ISBLANK($B192),\"\",LOOKUP($B192,Inscriptions!A$2:A$65496,Inscriptions!C$2:C$65498))","v":""},{"$f":"IF(ISBLANK($B192),\"\",LOOKUP($B192,Inscriptions!A$2:A$65496,Inscriptions!D$2:D$65498))","v":""},null,null,null,0,0,0,"",""]
[189,null,{"$f":"IF(ISBLANK($B193),\"\",LOOKUP($B193,Inscriptions!A$2:A$65496,Inscriptions!B$2:B$65498))","v":""},{"$f":"IF(ISBLANK($B193),\"\",LOOKUP($B193,Inscriptions!A$2:A$65496,Inscriptions!C$2:C$65498))","v":""},{"$f":"IF(ISBLANK($B193),\"\",LOOKUP($B193,Inscriptions!A$2:A$65496,Inscriptions!D$2:D$65498))","v":""},null,null,null,0,0,0,"",""]
[190,null,{"$f":"IF(ISBLANK($B194),\"\",LOOKUP($B194,Inscriptions!A$2:A$65496,Inscriptions!B$2:B$65498))","v":""},{"$f":"IF(ISBLANK($B194),\"\",LOOKUP($B194,Inscriptions!A$2:A$65496,Inscriptions!C$2:C$65498))","v":""},{"$f":"IF(ISBLANK($B194),\"\",LOOKUP($B194,Inscriptions!A$2:A$65496,Inscriptions!D$2:D$65498))","v":""},null,null,null,0,0,0,"",""]
[191,null,{"$f":"IF(ISBLANK($B195),\"\",LOOKUP($B195,Inscriptions!A$2:A$65496,Inscriptions!B$2:B$65498))","v":""},{"$f":"IF(ISBLANK($B195),\"\",LOOKUP($B195,Inscriptions!A$2:A$65496,Inscriptions!C$2:C$65498))","v":""},{"$f":"IF(ISBLANK($B195),\"\",LOOKUP($B195,Inscriptions!A$2:A$65496,Inscriptions!D$2:D$65498))","v":""},null,null,null,0,0,0,"",""]
[192,null,{"$f":"IF(ISBLANK($B196),\"\",LOOKUP($B196,Inscriptions!A$2:A$65496,Inscriptions!B$2:B$65498))","v":""},{"$f":"IF(ISBLANK($B196),\"\",LOOKUP($B196,Inscriptions!A$2:A$65496,Inscriptions!C$2:C$65498))","v":""},{"$f":"IF(ISBLANK($B196),\"\",LOOKUP($B196,Inscriptions!A$2:A$65496,Inscriptions!D$2:D$65498))","v":""},null,null,null,0,0,0,"",""]
[193,null,{"$f":"IF(ISBLANK($B197),\"\",LOOKUP($B197,Inscriptions!A$2:A$65496,Inscriptions!B$2:B$65498))","v":""},{"$f":"IF(ISBLANK($B197),\"\",LOOKUP($B197,Inscriptions!A$2:A$65496,Inscriptions!C$2:C$65498))","v":""},{"$f":"IF(ISBLANK($B197),\"\",LOOKUP($B197,Inscriptions!A$2:A$65496,Inscriptions!D$2:D$65498))","v":""},null,null,null,0,0,0,"",""]
[194,null,{"$f":"IF(ISBLANK($B198),\"\",LOOKUP($B198,Inscriptions!A$2:A$65496,Inscriptions!B$2:B$65498))","v":""},{"$f":"IF(ISBLANK($B198),\"\",LOOKUP($B198,Inscriptions!A$2:A$65496,Inscriptions!C$2:C$65498))","v":""},{"$f":"IF(ISBLANK($B198),\"\",LOOKUP($B198,Inscriptions!A$2:A$65496,Inscriptions!D$2:D$65498))","v":""},null,null,null,{"$f":"ROUNDDOWN(H198/10000,0)","v":0},{"$f":"ROUNDDOWN((H198-I198*10000)/100,0)","v":0},{"$f":"ROUNDDOWN((H198-(I198*10000)-(J198*100)),0)","v":0},{"$f":"IF((I198+J198+K198)=0,\"\",ROUNDDOWN((L$4/((I198*3600)+(J198*60)+K198))*3.6,2))","v":""},{"$f":"IF(L198=\"\",\"\",\"km/h\")","v":""}]
[195,null,{"$f":"IF(ISBLANK($B199),\"\",LOOKUP($B199,Inscriptions!A$2:A$65496,Inscriptions!B$2:B$65498))","v":""},{"$f":"IF(ISBLANK($B199),\"\",LOOKUP($B199,Inscriptions!A$2:A$65496,Inscriptions!C$2:C$65498))","v":""},{"$f":"IF(ISBLANK($B199),\"\",LOOKUP($B199,Inscriptions!A$2:A$65496,Inscriptions!D$2:D$65498))","v":""},null,null,null,0,0,0,"",""]
[196,null,{"$f":"IF(ISBLANK($B200),\"\",LOOKUP($B200,Inscriptions!A$2:A$65496,Inscriptions!B$2:B$65498))","v":""},{"$f":"IF(ISBLANK($B200),\"\",LOOKUP($B200,Inscriptions!A$2:A$65496,Inscriptions!C$2:C$65498))","v":""},{"$f":"IF(ISBLANK($B200),\"\",LOOKUP($B200,Inscriptions!A$2:A$65496,Inscriptions!D$2:D$65498))","v":""},null,null,null,0,0,0,"",""]
[197,null,{"$f":"IF(ISBLANK($B201),\"\",LOOKUP($B201,Inscriptions!A$2:A$65496,Inscriptions!B$2:B$65498))","v":""},{"$f":"IF(ISBLANK($B201),\"\",LOOKUP($B201,Inscriptions!A$2:A$65496,Inscriptions!C$2:C$65498))","v":""},{"$f":"IF(ISBLANK($B201),\"\",LOOKUP($B201,Inscriptions!A$2:A$65496,Inscriptions!D$2:D$65498))","v":""},null,null,null,0,0,0,"",""]
[198,null,{"$f":"IF(ISBLANK($B202),\"\",LOOKUP($B202,Inscriptions!A$2:A$65496,Inscriptions!B$2:B$65498))","v":""},{"$f":"IF(ISBLANK($B202),\"\",LOOKUP($B202,Inscriptions!A$2:A$65496,Inscriptions!C$2:C$65498))","v":""},{"$f":"IF(ISBLANK($B202),\"\",LOOKUP($B202,Inscriptions!A$2:A$65496,Inscriptions!D$2:D$65498))","v":""},null,null,null,0,0,0,"",""]
[199,null,{"$f":"IF(ISBLANK($B203),\"\",LOOKUP($B203,Inscriptions!A$2:A$65496,Inscriptions!B$2:B$65498))","v":""},{"$f":"IF(ISBLANK($B203),\"\",LOOKUP($B203,Inscriptions!A$2:A$65496,Inscriptions!C$2:C$65498))","v":""},{"$f":"IF(ISBLANK($B203),\"\",LOOKUP($B203,Inscriptions!A$2:A$65496,Inscriptions!D$2:D$65498))","v":""},null,null,null,0,0,0,"",""]
[200,null,{"$f":"IF(ISBLANK($B204),\"\",LOOKUP($B204,Inscriptions!A$2:A$65496,Inscriptions!B$2:B$65498))","v":""},{"$f":"IF(ISBLANK($B204),\"\",LOOKUP($B204,Inscriptions!A$2:A$65496,Inscriptions!C$2:C$65498))","v":""},{"$f":"IF(ISBLANK($B204),\"\",LOOKUP($B204,Inscriptions!A$2:A$65496,Inscriptions!D$2:D$65498))","v":""},null,null,null,0,0,0,"",""]
[201,null,{"$f":"IF(ISBLANK($B205),\"\",LOOKUP($B205,Inscriptions!A$2:A$65496,Inscriptions!B$2:B$65498))","v":""},{"$f":"IF(ISBLANK($B205),\"\",LOOKUP($B205,Inscriptions!A$2:A$65496,Inscriptions!C$2:C$65498))","v":""},{"$f":"IF(ISBLANK($B205),\"\",LOOKUP($B205,Inscriptions!A$2:A$65496,Inscriptions!D$2:D$65498))","v":""},null,null,null,0,0,0,"",""]
[202,null,{"$f":"IF(ISBLANK($B206),\"\",LOOKUP($B206,Inscriptions!A$2:A$65496,Inscriptions!B$2:B$65498))","v":""},{"$f":"IF(ISBLANK($B206),\"\",LOOKUP($B206,Inscriptions!A$2:A$65496,Inscriptions!C$2:C$65498))","v":""},{"$f":"IF(ISBLANK($B206),\"\",LOOKUP($B206,Inscriptions!A$2:A$65496,Inscriptions!D$2:D$65498))","v":""},null,null,null,0,0,0,"",""]
[203,null,{"$f":"IF(ISBLANK($B207),\"\",LOOKUP($B207,Inscriptions!A$2:A$65496,Inscriptions!B$2:B$65498))","v":""},{"$f":"IF(ISBLANK($B207),\"\",LOOKUP($B207,Inscriptions!A$2:A$65496,Inscriptions!C$2:C$65498))","v":""},{"$f":"IF(ISBLANK($B207),\"\",LOOKUP($B207,Inscriptions!A$2:A$65496,Inscriptions!D$2:D$65498))","v":""},null,null,null,0,0,0,"",""]
[204,null,{"$f":"IF(ISBLANK($B208),\"\",LOOKUP($B208,Inscriptions!A$2:A$65496,Inscriptions!B$2:B$65498))","v":""},{"$f":"IF(ISBLANK($B208),\"\",LOOKUP($B208,Inscriptions!A$2:A$65496,Inscriptions!C$2:C$65498))","v":""},{"$f":"IF(ISBLANK($B208),\"\",LOOKUP($B208,Inscriptions!A$2:A$65496,Inscriptions!D$2:D$65498))","v":""},null,null,null,0,0,0,"",""]
[205,null,{"$f":"IF(ISBLANK($B209),\"\",LOOKUP($B209,Inscriptions!A$2:A$65496,Inscriptions!B$2:B$65498))","v":""},{"$f":"IF(ISBLANK($B209),\"\",LOOKUP($B209,Inscriptions!A$2:A$65496,Inscriptions!C$2:C$65498))","v":""},{"$f":"IF(ISBLANK($B209),\"\",LOOKUP($B209,Inscriptions!A$2:A$65496,Inscriptions!D$2:D$65498))","v":""},null,null,null,0,0,0,"",""]
[206,null,{"$f":"IF(ISBLANK($B210),\"\",LOOKUP($B210,Inscriptions!A$2:A$65496,Inscriptions!B$2:B$65498))","v":""},{"$f":"IF(ISBLANK($B210),\"\",LOOKUP($B210,Inscriptions!A$2:A$65496,Inscriptions!C$2:C$65498))","v":""},{"$f":"IF(ISBLANK($B210),\"\",LOOKUP($B210,Inscriptions!A$2:A$65496,Inscriptions!D$2:D$65498))","v":""},null,null,null,0,0,0,"",""]
[207,null,{"$f":"IF(ISBLANK($B211),\"\",LOOKUP($B211,Inscriptions!A$2:A$65496,Inscriptions!B$2:B$65498))","v":""},{"$f":"IF(ISBLANK($B211),\"\",LOOKUP($B211,Inscriptions!A$2:A$65496,Inscriptions!C$2:C$65498))","v":""},{"$f":"IF(ISBLANK($B211),\"\",LOOKUP($B211,Inscriptions!A$2:A$65496,Inscriptions!D$2:D$65498))","v":""},null,null,null,0,0,0,"",""]
[208,null,{"$f":"IF(ISBLANK($B212),\"\",LOOKUP($B212,Inscriptions!A$2:A$65496,Inscriptions!B$2:B$65498))","v":""},{"$f":"IF(ISBLANK($B212),\"\",LOOKUP($B212,Inscriptions!A$2:A$65496,Inscriptions!C$2:C$65498))","v":""},{"$f":"IF(ISBLANK($B212),\"\",LOOKUP($B212,Inscriptions!A$2:A$65496,Inscriptions!D$2:D$65498))","v":""},null,null,null,0,0,0,"",""]
[209,null,{"$f":"IF(ISBLANK($B213),\"\",LOOKUP($B213,Inscriptions!A$2:A$65496,Inscriptions!B$2:B$65498))","v":""},{"$f":"IF(ISBLANK($B213),\"\",LOOKUP($B213,Inscriptions!A$2:A$65496,Inscriptions!C$2:C$65498))","v":""},{"$f":"IF(ISBLANK($B213),\"\",LOOKUP($B213,Inscriptions!A$2:A$65496,Inscriptions!D$2:D$65498))","v":""},null,null,null,0,0,0,"",""]
[210,null,{"$f":"IF(ISBLANK($B214),\"\",LOOKUP($B214,Inscriptions!A$2:A$65496,Inscriptions!B$2:B$65498))","v":""},{"$f":"IF(ISBLANK($B214),\"\",LOOKUP($B214,Inscriptions!A$2:A$65496,Inscriptions!C$2:C$65498))","v":""},{"$f":"IF(ISBLANK($B214),\"\",LOOKUP($B214,Inscriptions!A$2:A$65496,Inscriptions!D$2:D$65498))","v":""},null,null,null,0,0,0,"",""]
[211,null,{"$f":"IF(ISBLANK($B215),\"\",LOOKUP($B215,Inscriptions!A$2:A$65496,Inscriptions!B$2:B$65498))","v":""},{"$f":"IF(ISBLANK($B215),\"\",LOOKUP($B215,Inscriptions!A$2:A$65496,Inscriptions!C$2:C$65498))","v":""},{"$f":"IF(ISBLANK($B215),\"\",LOOKUP($B215,Inscriptions!A$2:A$65496,Inscriptions!D$2:D$65498))","v":""},null,null,null,0,0,0,"",""]
[212,null,{"$f":"IF(ISBLANK($B216),\"\",LOOKUP($B216,Inscriptions!A$2:A$65496,Inscriptions!B$2:B$65498))","v":""},{"$f":"IF(ISBLANK($B216),\"\",LOOKUP($B216,Inscriptions!A$2:A$65496,Inscriptions!C$2:C$65498))","v":""},{"$f":"IF(ISBLANK($B216),\"\",LOOKUP($B216,Inscriptions!A$2:A$65496,Inscriptions!D$2:D$65498))","v":""},null,null,null,0,0,0,"",""]
[213,null,{"$f":"IF(ISBLANK($B217),\"\",LOOKUP($B217,Inscriptions!A$2:A$65496,Inscriptions!B$2:B$65498))","v":""},{"$f":"IF(ISBLANK($B217),\"\",LOOKUP($B217,Inscriptions!A$2:A$65496,Inscriptions!C$2:C$65498))","v":""},{"$f":"IF(ISBLANK($B217),\"\",LOOKUP($B217,Inscriptions!A$2:A$65496,Inscriptions!D$2:D$65498))","v":""},null,null,null,0,0,0,"",""]
[214,null,{"$f":"IF(ISBLANK($B218),\"\",LOOKUP($B218,Inscriptions!A$2:A$65496,Inscriptions!B$2:B$65498))","v":""},{"$f":"IF(ISBLANK($B218),\"\",LOOKUP($B218,Inscriptions!A$2:A$65496,Inscriptions!C$2:C$65498))","v":""},{"$f":"IF(ISBLANK($B218),\"\",LOOKUP($B218,Inscriptions!A$2:A$65496,Inscriptions!D$2:D$65498))","v":""},null,null,null,0,0,0,"",""]
[215,null,{"$f":"IF(ISBLANK($B219),\"\",LOOKUP($B219,Inscriptions!A$2:A$65496,Inscriptions!B$2:B$65498))","v":""},{"$f":"IF(ISBLANK($B219),\"\",LOOKUP($B219,Inscriptions!A$2:A$65496,Inscriptions!C$2:C$65498))","v":""},{"$f":"IF(ISBLANK($B219),\"\",LOOKUP($B219,Inscriptions!A$2:A$65496,Inscriptions!D$2:D$65498))","v":""},null,null,null,0,0,0,"",""]
[216,null,{"$f":"IF(ISBLANK($B220),\"\",LOOKUP($B220,Inscriptions!A$2:A$65496,Inscriptions!B$2:B$65498))","v":""},{"$f":"IF(ISBLANK($B220),\"\",LOOKUP($B220,Inscriptions!A$2:A$65496,Inscriptions!C$2:C$65498))","v":""},{"$f":"IF(ISBLANK($B220),\"\",LOOKUP($B220,Inscriptions!A$2:A$65496,Inscriptions!D$2:D$65498))","v":""},null,null,null,0,0,0,"",""]
[217,null,{"$f":"IF(ISBLANK($B221),\"\",LOOKUP($B221,Inscriptions!A$2:A$65496,Inscriptions!B$2:B$65498))","v":""},{"$f":"IF(ISBLANK($B221),\"\",LOOKUP($B221,Inscriptions!A$2:A$65496,Inscriptions!C$2:C$65498))","v":""},{"$f":"IF(ISBLANK($B221),\"\",LOOKUP($B221,Inscriptions!A$2:A$65496,Inscriptions!D$2:D$65498))","v":""},null,null,null,0,0,0,"",""]
[218,null,{"$f":"IF(ISBLANK($B222),\"\",LOOKUP($B222,Inscriptions!A$2:A$65496,Inscriptions!B$2:B$65498))","v":""},{"$f":"IF(ISBLANK($B222),\"\",LOOKUP($B222,Inscriptions!A$2:A$65496,Inscriptions!C$2:C$65498))","v":""},{"$f":"IF(ISBLANK($B222),\"\",LOOKUP($B222,Inscriptions!A$2:A$65496,Inscriptions!D$2:D$65498))","v":""},null,null,null,0,0,0,"",""]
[219,null,{"$f":"IF(ISBLANK($B223),\"\",LOOKUP($B223,Inscriptions!A$2:A$65496,Inscriptions!B$2:B$65498))","v":""},{"$f":"IF(ISBLANK($B223),\"\",LOOKUP($B223,Inscriptions!A$2:A$65496,Inscriptions!C$2:C$65498))","v":""},{"$f":"IF(ISBLANK($B223),\"\",LOOKUP($B223,Inscriptions!A$2:A$65496,Inscriptions!D$2:D$65498))","v":""},null,null,null,0,0,0,"",""]
[220,null,{"$f":"IF(ISBLANK($B224),\"\",LOOKUP($B224,Inscriptions!A$2:A$65496,Inscriptions!B$2:B$65498))","v":""},{"$f":"IF(ISBLANK($B224),\"\",LOOKUP($B224,Inscriptions!A$2:A$65496,Inscriptions!C$2:C$65498))","v":""},{"$f":"IF(ISBLANK($B224),\"\",LOOKUP($B224,Inscriptions!A$2:A$65496,Inscriptions!D$2:D$65498))","v":""},null,null,null,0,0,0,"",""]
[221,null,{"$f":"IF(ISBLANK($B225),\"\",LOOKUP($B225,Inscriptions!A$2:A$65496,Inscriptions!B$2:B$65498))","v":""},{"$f":"IF(ISBLANK($B225),\"\",LOOKUP($B225,Inscriptions!A$2:A$65496,Inscriptions!C$2:C$65498))","v":""},{"$f":"IF(ISBLANK($B225),\"\",LOOKUP($B225,Inscriptions!A$2:A$65496,Inscriptions!D$2:D$65498))","v":""},null,null,null,0,0,0,"",""]
[222,null,{"$f":"IF(ISBLANK($B226),\"\",LOOKUP($B226,Inscriptions!A$2:A$65496,Inscriptions!B$2:B$65498))","v":""},{"$f":"IF(ISBLANK($B226),\"\",LOOKUP($B226,Inscriptions!A$2:A$65496,Inscriptions!C$2:C$65498))","v":""},{"$f":"IF(ISBLANK($B226),\"\",LOOKUP($B226,Inscriptions!A$2:A$65496,Inscriptions!D$2:D$65498))","v":""},null,null,null,0,0,0,"",""]
[223,null,{"$f":"IF(ISBLANK($B227),\"\",LOOKUP($B227,Inscriptions!A$2:A$65496,Inscriptions!B$2:B$65498))","v":""},{"$f":"IF(ISBLANK($B227),\"\",LOOKUP($B227,Inscriptions!A$2:A$65496,Inscriptions!C$2:C$65498))","v":""},{"$f":"IF(ISBLANK($B227),\"\",LOOKUP($B227,Inscriptions!A$2:A$65496,Inscriptions!D$2:D$65498))","v":""},null,null,null,0,0,0,"",""]
[224,null,{"$f":"IF(ISBLANK($B228),\"\",LOOKUP($B228,Inscriptions!A$2:A$65496,Inscriptions!B$2:B$65498))","v":""},{"$f":"IF(ISBLANK($B228),\"\",LOOKUP($B228,Inscriptions!A$2:A$65496,Inscriptions!C$2:C$65498))","v":""},{"$f":"IF(ISBLANK($B228),\"\",LOOKUP($B228,Inscriptions!A$2:A$65496,Inscriptions!D$2:D$65498))","v":""},null,null,null,0,0,0,"",""]
[225,null,{"$f":"IF(ISBLANK($B229),\"\",LOOKUP($B229,Inscriptions!A$2:A$65496,Inscriptions!B$2:B$65498))","v":""},{"$f":"IF(ISBLANK($B229),\"\",LOOKUP($B229,Inscriptions!A$2:A$65496,Inscriptions!C$2:C$65498))","v":""},{"$f":"IF(ISBLANK($B229),\"\",LOOKUP($B229,Inscriptions!A$2:A$65496,Inscriptions!D$2:D$65498))","v":""},null,null,null,0,0,0,"",""]
[226,null,{"$f":"IF(ISBLANK($B230),\"\",LOOKUP($B230,Inscriptions!A$2:A$65496,Inscriptions!B$2:B$65498))","v":""},{"$f":"IF(ISBLANK($B230),\"\",LOOKUP($B230,Inscriptions!A$2:A$65496,Inscriptions!C$2:C$65498))","v":""},{"$f":"IF(ISBLANK($B230),\"\",LOOKUP($B230,Inscriptions!A$2:A$65496,Inscriptions!D$2:D$65498))","v":""},null,null,null,0,0,0,"",""]
[227,null,{"$f":"IF(ISBLANK($B231),\"\",LOOKUP($B231,Inscriptions!A$2:A$65496,Inscriptions!B$2:B$65498))","v":""},{"$f":"IF(ISBLANK($B231),\"\",LOOKUP($B231,Inscriptions!A$2:A$65496,Inscriptions!C$2:C$65498))","v":""},{"$f":"IF(ISBLANK($B231),\"\",LOOKUP($B231,Inscriptions!A$2:A$65496,Inscriptions!D$2:D$65498))","v":""},null,null,null,0,0,0,"",""]
[228,null,{"$f":"IF(ISBLANK($B232),\"\",LOOKUP($B232,Inscriptions!A$2:A$65496,Inscriptions!B$2:B$65498))","v":""},{"$f":"IF(ISBLANK($B232),\"\",LOOKUP($B232,Inscriptions!A$2:A$65496,Inscriptions!C$2:C$65498))","v":""},{"$f":"IF(ISBLANK($B232),\"\",LOOKUP($B232,Inscriptions!A$2:A$65496,Inscriptions!D$2:D$65498))","v":""},null,null,null,0,0,0,"",""]
[229,null,{"$f":"IF(ISBLANK($B233),\"\",LOOKUP($B233,Inscriptions!A$2:A$65496,Inscriptions!B$2:B$65498))","v":""},{"$f":"IF(ISBLANK($B233),\"\",LOOKUP($B233,Inscriptions!A$2:A$65496,Inscriptions!C$2:C$65498))","v":""},{"$f":"IF(ISBLANK($B233),\"\",LOOKUP($B233,Inscriptions!A$2:A$65496,Inscriptions!D$2:D$65498))","v":""},null,null,null,0,0,0,"",""]
[230,null,{"$f":"IF(ISBLANK($B234),\"\",LOOKUP($B234,Inscriptions!A$2:A$65496,Inscriptions!B$2:B$65498))","v":""},{"$f":"IF(ISBLANK($B234),\"\",LOOKUP($B234,Inscriptions!A$2:A$65496,Inscriptions!C$2:C$65498))","v":""},{"$f":"IF(ISBLANK($B234),\"\",LOOKUP($B234,Inscriptions!A$2:A$65496,Inscriptions!D$2:D$65498))","v":""},null,null,null,0,0,0,"",""]
[231,null,{"$f":"IF(ISBLANK($B235),\"\",LOOKUP($B235,Inscriptions!A$2:A$65496,Inscriptions!B$2:B$65498))","v":""},{"$f":"IF(ISBLANK($B235),\"\",LOOKUP($B235,Inscriptions!A$2:A$65496,Inscriptions!C$2:C$65498))","v":""},{"$f":"IF(ISBLANK($B235),\"\",LOOKUP($B235,Inscriptions!A$2:A$65496,Inscriptions!D$2:D$65498))","v":""},null,null,null,0,0,0,"",""]
[232,null,{"$f":"IF(ISBLANK($B236),\"\",LOOKUP($B236,Inscriptions!A$2:A$65496,Inscriptions!B$2:B$65498))","v":""},{"$f":"IF(ISBLANK($B236),\"\",LOOKUP($B236,Inscriptions!A$2:A$65496,Inscriptions!C$2:C$65498))","v":""},{"$f":"IF(ISBLANK($B236),\"\",LOOKUP($B236,Inscriptions!A$2:A$65496,Inscriptions!D$2:D$65498))","v":""},null,null,null,0,0,0,"",""]
[233,null,{"$f":"IF(ISBLANK($B237),\"\",LOOKUP($B237,Inscriptions!A$2:A$65496,Inscriptions!B$2:B$65498))","v":""},{"$f":"IF(ISBLANK($B237),\"\",LOOKUP($B237,Inscriptions!A$2:A$65496,Inscriptions!C$2:C$65498))","v":""},{"$f":"IF(ISBLANK($B237),\"\",LOOKUP($B237,Inscriptions!A$2:A$65496,Inscriptions!D$2:D$65498))","v":""},null,null,null,0,0,0,"",""]
[234,null,{"$f":"IF(ISBLANK($B238),\"\",LOOKUP($B238,Inscriptions!A$2:A$65496,Inscriptions!B$2:B$65498))","v":""},{"$f":"IF(ISBLANK($B238),\"\",LOOKUP($B238,Inscriptions!A$2:A$65496,Inscriptions!C$2:C$65498))","v":""},{"$f":"IF(ISBLANK($B238),\"\",LOOKUP($B238,Inscriptions!A$2:A$65496,Inscriptions!D$2:D$65498))","v":""},null,null,null,0,0,0,"",""]
[235,null,{"$f":"IF(ISBLANK($B239),\"\",LOOKUP($B239,Inscriptions!A$2:A$65496,Inscriptions!B$2:B$65498))","v":""},{"$f":"IF(ISBLANK($B239),\"\",LOOKUP($B239,Inscriptions!A$2:A$65496,Inscriptions!C$2:C$65498))","v":""},{"$f":"IF(ISBLANK($B239),\"\",LOOKUP($B239,Inscriptions!A$2:A$65496,Inscriptions!D$2:D$65498))","v":""},null,null,null,0,0,0,"",""]
[236,null,{"$f":"IF(ISBLANK($B240),\"\",LOOKUP($B240,Inscriptions!A$2:A$65496,Inscriptions!B$2:B$65498))","v":""},{"$f":"IF(ISBLANK($B240),\"\",LOOKUP($B240,Inscriptions!A$2:A$65496,Inscriptions!C$2:C$65498))","v":""},{"$f":"IF(ISBLANK($B240),\"\",LOOKUP($B240,Inscriptions!A$2:A$65496,Inscriptions!D$2:D$65498))","v":""},null,null,null,0,0,0,"",""]
[237,null,{"$f":"IF(ISBLANK($B241),\"\",LOOKUP($B241,Inscriptions!A$2:A$65496,Inscriptions!B$2:B$65498))","v":""},{"$f":"IF(ISBLANK($B241),\"\",LOOKUP($B241,Inscriptions!A$2:A$65496,Inscriptions!C$2:C$65498))","v":""},{"$f":"IF(ISBLANK($B241),\"\",LOOKUP($B241,Inscriptions!A$2:A$65496,Inscriptions!D$2:D$65498))","v":""},null,null,null,0,0,0,"",""]
[238,null,{"$f":"IF(ISBLANK($B242),\"\",LOOKUP($B242,Inscriptions!A$2:A$65496,Inscriptions!B$2:B$65498))","v":""},{"$f":"IF(ISBLANK($B242),\"\",LOOKUP($B242,Inscriptions!A$2:A$65496,Inscriptions!C$2:C$65498))","v":""},{"$f":"IF(ISBLANK($B242),\"\",LOOKUP($B242,Inscriptions!A$2:A$65496,Inscriptions!D$2:D$65498))","v":""},null,null,null,0,0,0,"",""]
[239,null,{"$f":"IF(ISBLANK($B243),\"\",LOOKUP($B243,Inscriptions!A$2:A$65496,Inscriptions!B$2:B$65498))","v":""},{"$f":"IF(ISBLANK($B243),\"\",LOOKUP($B243,Inscriptions!A$2:A$65496,Inscriptions!C$2:C$65498))","v":""},{"$f":"IF(ISBLANK($B243),\"\",LOOKUP($B243,Inscriptions!A$2:A$65496,Inscriptions!D$2:D$65498))","v":""},null,null,null,0,0,0,"",""]
[240,null,{"$f":"IF(ISBLANK($B244),\"\",LOOKUP($B244,Inscriptions!A$2:A$65496,Inscriptions!B$2:B$65498))","v":""},{"$f":"IF(ISBLANK($B244),\"\",LOOKUP($B244,Inscriptions!A$2:A$65496,Inscriptions!C$2:C$65498))","v":""},{"$f":"IF(ISBLANK($B244),\"\",LOOKUP($B244,Inscriptions!A$2:A$65496,Inscriptions!D$2:D$65498))","v":""},null,null,null,0,0,0,"",""]
[241,null,{"$f":"IF(ISBLANK($B245),\"\",LOOKUP($B245,Inscriptions!A$2:A$65496,Inscriptions!B$2:B$65498))","v":""},{"$f":"IF(ISBLANK($B245),\"\",LOOKUP($B245,Inscriptions!A$2:A$65496,Inscriptions!C$2:C$65498))","v":""},{"$f":"IF(ISBLANK($B245),\"\",LOOKUP($B245,Inscriptions!A$2:A$65496,Inscriptions!D$2:D$65498))","v":""},null,null,null,0,0,0,"",""]
[242,null,{"$f":"IF(ISBLANK($B246),\"\",LOOKUP($B246,Inscriptions!A$2:A$65496,Inscriptions!B$2:B$65498))","v":""},{"$f":"IF(ISBLANK($B246),\"\",LOOKUP($B246,Inscriptions!A$2:A$65496,Inscriptions!C$2:C$65498))","v":""},{"$f":"IF(ISBLANK($B246),\"\",LOOKUP($B246,Inscriptions!A$2:A$65496,Inscriptions!D$2:D$65498))","v":""},null,null,null,0,0,0,"",""]
[243,null,{"$f":"IF(ISBLANK($B247),\"\",LOOKUP($B247,Inscriptions!A$2:A$65496,Inscriptions!B$2:B$65498))","v":""},{"$f":"IF(ISBLANK($B247),\"\",LOOKUP($B247,Inscriptions!A$2:A$65496,Inscriptions!C$2:C$65498))","v":""},{"$f":"IF(ISBLANK($B247),\"\",LOOKUP($B247,Inscriptions!A$2:A$65496,Inscriptions!D$2:D$65498))","v":""},null,null,null,0,0,0,"",""]
[244,null,{"$f":"IF(ISBLANK($B248),\"\",LOOKUP($B248,Inscriptions!A$2:A$65496,Inscriptions!B$2:B$65498))","v":""},{"$f":"IF(ISBLANK($B248),\"\",LOOKUP($B248,Inscriptions!A$2:A$65496,Inscriptions!C$2:C$65498))","v":""},{"$f":"IF(ISBLANK($B248),\"\",LOOKUP($B248,Inscriptions!A$2:A$65496,Inscriptions!D$2:D$65498))","v":""},null,null,null,0,0,0,"",""]
[245,null,{"$f":"IF(ISBLANK($B249),\"\",LOOKUP($B249,Inscriptions!A$2:A$65496,Inscriptions!B$2:B$65498))","v":""},{"$f":"IF(ISBLANK($B249),\"\",LOOKUP($B249,Inscriptions!A$2:A$65496,Inscriptions!C$2:C$65498))","v":""},{"$f":"IF(ISBLANK($B249),\"\",LOOKUP($B249,Inscriptions!A$2:A$65496,Inscriptions!D$2:D$65498))","v":""},null,null,null,0,0,0,"",""]
[246,null,{"$f":"IF(ISBLANK($B250),\"\",LOOKUP($B250,Inscriptions!A$2:A$65496,Inscriptions!B$2:B$65498))","v":""},{"$f":"IF(ISBLANK($B250),\"\",LOOKUP($B250,Inscriptions!A$2:A$65496,Inscriptions!C$2:C$65498))","v":""},{"$f":"IF(ISBLANK($B250),\"\",LOOKUP($B250,Inscriptions!A$2:A$65496,Inscriptions!D$2:D$65498))","v":""},null,null,null,0,0,0,"",""]
[247,null,{"$f":"IF(ISBLANK($B251),\"\",LOOKUP($B251,Inscriptions!A$2:A$65496,Inscriptions!B$2:B$65498))","v":""},{"$f":"IF(ISBLANK($B251),\"\",LOOKUP($B251,Inscriptions!A$2:A$65496,Inscriptions!C$2:C$65498))","v":""},{"$f":"IF(ISBLANK($B251),\"\",LOOKUP($B251,Inscriptions!A$2:A$65496,Inscriptions!D$2:D$65498))","v":""},null,null,null,0,0,0,"",""]
[248,null,{"$f":"IF(ISBLANK($B252),\"\",LOOKUP($B252,Inscriptions!A$2:A$65496,Inscriptions!B$2:B$65498))","v":""},{"$f":"IF(ISBLANK($B252),\"\",LOOKUP($B252,Inscriptions!A$2:A$65496,Inscriptions!C$2:C$65498))","v":""},{"$f":"IF(ISBLANK($B252),\"\",LOOKUP($B252,Inscriptions!A$2:A$65496,Inscriptions!D$2:D$65498))","v":""},null,null,null,0,0,0,"",""]
[249,null,{"$f":"IF(ISBLANK($B253),\"\",LOOKUP($B253,Inscriptions!A$2:A$65496,Inscriptions!B$2:B$65498))","v":""},{"$f":"IF(ISBLANK($B253),\"\",LOOKUP($B253,Inscriptions!A$2:A$65496,Inscriptions!C$2:C$65498))","v":""},{"$f":"IF(ISBLANK($B253),\"\",LOOKUP($B253,Inscriptions!A$2:A$65496,Inscriptions!D$2:D$65498))","v":""},null,null,null,0,0,0,"",""]
[250,null,{"$f":"IF(ISBLANK($B254),\"\",LOOKUP($B254,Inscriptions!A$2:A$65496,Inscriptions!B$2:B$65498))","v":""},{"$f":"IF(ISBLANK($B254),\"\",LOOKUP($B254,Inscriptions!A$2:A$65496,Inscriptions!C$2:C$65498))","v":""},{"$f":"IF(ISBLANK($B254),\"\",LOOKUP($B254,Inscriptions!A$2:A$65496,Inscriptions!D$2:D$65498))","v":""},null,null,null,0,0,0,"",""]
[251,null,{"$f":"IF(ISBLANK($B255),\"\",LOOKUP($B255,Inscriptions!A$2:A$65496,Inscriptions!B$2:B$65498))","v":""},{"$f":"IF(ISBLANK($B255),\"\",LOOKUP($B255,Inscriptions!A$2:A$65496,Inscriptions!C$2:C$65498))","v":""},{"$f":"IF(ISBLANK($B255),\"\",LOOKUP($B255,Inscriptions!A$2:A$65496,Inscriptions!D$2:D$65498))","v":""},null,null,null,0,0,0,"",""]
[252,null,{"$f":"IF(ISBLANK($B256),\"\",LOOKUP($B256,Inscriptions!A$2:A$65496,Inscriptions!B$2:B$65498))","v":""},{"$f":"IF(ISBLANK($B256),\"\",LOOKUP($B256,Inscriptions!A$2:A$65496,Inscriptions!C$2:C$65498))","v":""},{"$f":"IF(ISBLANK($B256),\"\",LOOKUP($B256,Inscriptions!A$2:A$65496,Inscriptions!D$2:D$65498))","v":""},null,null,null,0,0,0,"",""]
[253,null,{"$f":"IF(ISBLANK($B257),\"\",LOOKUP($B257,Inscriptions!A$2:A$65496,Inscriptions!B$2:B$65498))","v":""},{"$f":"IF(ISBLANK($B257),\"\",LOOKUP($B257,Inscriptions!A$2:A$65496,Inscriptions!C$2:C$65498))","v":""},{"$f":"IF(ISBLANK($B257),\"\",LOOKUP($B257,Inscriptions!A$2:A$65496,Inscriptions!D$2:D$65498))","v":""},null,null,null,0,0,0,"",""]
[254,null,{"$f":"IF(ISBLANK($B258),\"\",LOOKUP($B258,Inscriptions!A$2:A$65496,Inscriptions!B$2:B$65498))","v":""},{"$f":"IF(ISBLANK($B258),\"\",LOOKUP($B258,Inscriptions!A$2:A$65496,Inscriptions!C$2:C$65498))","v":""},{"$f":"IF(ISBLANK($B258),\"\",LOOKUP($B258,Inscriptions!A$2:A$65496,Inscriptions!D$2:D$65498))","v":""},null,null,null,0,0,0,"",""]
[255,null,{"$f":"IF(ISBLANK($B259),\"\",LOOKUP($B259,Inscriptions!A$2:A$65496,Inscriptions!B$2:B$65498))","v":""},{"$f":"IF(ISBLANK($B259),\"\",LOOKUP($B259,Inscriptions!A$2:A$65496,Inscriptions!C$2:C$65498))","v":""},{"$f":"IF(ISBLANK($B259),\"\",LOOKUP($B259,Inscriptions!A$2:A$65496,Inscriptions!D$2:D$65498))","v":""},null,null,null,0,0,0,"",""]
[256,null,{"$f":"IF(ISBLANK($B260),\"\",LOOKUP($B260,Inscriptions!A$2:A$65496,Inscriptions!B$2:B$65498))","v":""},{"$f":"IF(ISBLANK($B260),\"\",LOOKUP($B260,Inscriptions!A$2:A$65496,Inscriptions!C$2:C$65498))","v":""},{"$f":"IF(ISBLANK($B260),\"\",LOOKUP($B260,Inscriptions!A$2:A$65496,Inscriptions!D$2:D$65498))","v":""},null,null,null,0,0,0,"",""]
[257,null,{"$f":"IF(ISBLANK($B261),\"\",LOOKUP($B261,Inscriptions!A$2:A$65496,Inscriptions!B$2:B$65498))","v":""},{"$f":"IF(ISBLANK($B261),\"\",LOOKUP($B261,Inscriptions!A$2:A$65496,Inscriptions!C$2:C$65498))","v":""},{"$f":"IF(ISBLANK($B261),\"\",LOOKUP($B261,Inscriptions!A$2:A$65496,Inscriptions!D$2:D$65498))","v":""},null,null,null,0,0,0,"",""]
[258,null,{"$f":"IF(ISBLANK($B262),\"\",LOOKUP($B262,Inscriptions!A$2:A$65496,Inscriptions!B$2:B$65498))","v":""},{"$f":"IF(ISBLANK($B262),\"\",LOOKUP($B262,Inscriptions!A$2:A$65496,Inscriptions!C$2:C$65498))","v":""},{"$f":"IF(ISBLANK($B262),\"\",LOOKUP($B262,Inscriptions!A$2:A$65496,Inscriptions!D$2:D$65498))","v":""},null,null,null,{"$f":"ROUNDDOWN(H262/10000,0)","v":0},{"$f":"ROUNDDOWN((H262-I262*10000)/100,0)","v":0},{"$f":"ROUNDDOWN((H262-(I262*10000)-(J262*100)),0)","v":0},{"$f":"IF((I262+J262+K262)=0,\"\",ROUNDDOWN((L$4/((I262*3600)+(J262*60)+K262))*3.6,2))","v":""},{"$f":"IF(L262=\"\",\"\",\"km/h\")","v":""}]
[259,null,{"$f":"IF(ISBLANK($B263),\"\",LOOKUP($B263,Inscriptions!A$2:A$65496,Inscriptions!B$2:B$65498))","v":""},{"$f":"IF(ISBLANK($B263),\"\",LOOKUP($B263,Inscriptions!A$2:A$65496,Inscriptions!C$2:C$65498))","v":""},{"$f":"IF(ISBLANK($B263),\"\",LOOKUP($B263,Inscriptions!A$2:A$65496,Inscriptions!D$2:D$65498))","v":""},null,null,null,0,0,0,"",""]
[260,null,{"$f":"IF(ISBLANK($B264),\"\",LOOKUP($B264,Inscriptions!A$2:A$65496,Inscriptions!B$2:B$65498))","v":""},{"$f":"IF(ISBLANK($B264),\"\",LOOKUP($B264,Inscriptions!A$2:A$65496,Inscriptions!C$2:C$65498))","v":""},{"$f":"IF(ISBLANK($B264),\"\",LOOKUP($B264,Inscriptions!A$2:A$65496,Inscriptions!D$2:D$65498))","v":""},null,null,null,0,0,0,"",""]
[261,null,{"$f":"IF(ISBLANK($B265),\"\",LOOKUP($B265,Inscriptions!A$2:A$65496,Inscriptions!B$2:B$65498))","v":""},{"$f":"IF(ISBLANK($B265),\"\",LOOKUP($B265,Inscriptions!A$2:A$65496,Inscriptions!C$2:C$65498))","v":""},{"$f":"IF(ISBLANK($B265),\"\",LOOKUP($B265,Inscriptions!A$2:A$65496,Inscriptions!D$2:D$65498))","v":""},null,null,null,0,0,0,"",""]
[262,null,{"$f":"IF(ISBLANK($B266),\"\",LOOKUP($B266,Inscriptions!A$2:A$65496,Inscriptions!B$2:B$65498))","v":""},{"$f":"IF(ISBLANK($B266),\"\",LOOKUP($B266,Inscriptions!A$2:A$65496,Inscriptions!C$2:C$65498))","v":""},{"$f":"IF(ISBLANK($B266),\"\",LOOKUP($B266,Inscriptions!A$2:A$65496,Inscriptions!D$2:D$65498))","v":""},null,null,null,0,0,0,"",""]
[263,null,{"$f":"IF(ISBLANK($B267),\"\",LOOKUP($B267,Inscriptions!A$2:A$65496,Inscriptions!B$2:B$65498))","v":""},{"$f":"IF(ISBLANK($B267),\"\",LOOKUP($B267,Inscriptions!A$2:A$65496,Inscriptions!C$2:C$65498))","v":""},{"$f":"IF(ISBLANK($B267),\"\",LOOKUP($B267,Inscriptions!A$2:A$65496,Inscriptions!D$2:D$65498))","v":""},null,null,null,0,0,0,"",""]
[264,null,{"$f":"IF(ISBLANK($B268),\"\",LOOKUP($B268,Inscriptions!A$2:A$65496,Inscriptions!B$2:B$65498))","v":""},{"$f":"IF(ISBLANK($B268),\"\",LOOKUP($B268,Inscriptions!A$2:A$65496,Inscriptions!C$2:C$65498))","v":""},{"$f":"IF(ISBLANK($B268),\"\",LOOKUP($B268,Inscriptions!A$2:A$65496,Inscriptions!D$2:D$65498))","v":""},null,null,null,0,0,0,"",""]
[265,null,{"$f":"IF(ISBLANK($B269),\"\",LOOKUP($B269,Inscriptions!A$2:A$65496,Inscriptions!B$2:B$65498))","v":""},{"$f":"IF(ISBLANK($B269),\"\",LOOKUP($B269,Inscriptions!A$2:A$65496,Inscriptions!C$2:C$65498))","v":""},{"$f":"IF(ISBLANK($B269),\"\",LOOKUP($B269,Inscriptions!A$2:A$65496,Inscriptions!D$2:D$65498))","v":""},null,null,null,0,0,0,"",""]
[266,null,{"$f":"IF(ISBLANK($B270),\"\",LOOKUP($B270,Inscriptions!A$2:A$65496,Inscriptions!B$2:B$65498))","v":""},{"$f":"IF(ISBLANK($B270),\"\",LOOKUP($B270,Inscriptions!A$2:A$65496,Inscriptions!C$2:C$65498))","v":""},{"$f":"IF(ISBLANK($B270),\"\",LOOKUP($B270,Inscriptions!A$2:A$65496,Inscriptions!D$2:D$65498))","v":""},null,null,null,0,0,0,"",""]
[267,null,{"$f":"IF(ISBLANK($B271),\"\",LOOKUP($B271,Inscriptions!A$2:A$65496,Inscriptions!B$2:B$65498))","v":""},{"$f":"IF(ISBLANK($B271),\"\",LOOKUP($B271,Inscriptions!A$2:A$65496,Inscriptions!C$2:C$65498))","v":""},{"$f":"IF(ISBLANK($B271),\"\",LOOKUP($B271,Inscriptions!A$2:A$65496,Inscriptions!D$2:D$65498))","v":""},null,null,null,0,0,0,"",""]
[268,null,{"$f":"IF(ISBLANK($B272),\"\",LOOKUP($B272,Inscriptions!A$2:A$65496,Inscriptions!B$2:B$65498))","v":""},{"$f":"IF(ISBLANK($B272),\"\",LOOKUP($B272,Inscriptions!A$2:A$65496,Inscriptions!C$2:C$65498))","v":""},{"$f":"IF(ISBLANK($B272),\"\",LOOKUP($B272,Inscriptions!A$2:A$65496,Inscriptions!D$2:D$65498))","v":""},null,null,null,0,0,0,"",""]
[269,null,{"$f":"IF(ISBLANK($B273),\"\",LOOKUP($B273,Inscriptions!A$2:A$65496,Inscriptions!B$2:B$65498))","v":""},{"$f":"IF(ISBLANK($B273),\"\",LOOKUP($B273,Inscriptions!A$2:A$65496,Inscriptions!C$2:C$65498))","v":""},{"$f":"IF(ISBLANK($B273),\"\",LOOKUP($B273,Inscriptions!A$2:A$65496,Inscriptions!D$2:D$65498))","v":""},null,null,null,0,0,0,"",""]
[270,null,{"$f":"IF(ISBLANK($B274),\"\",LOOKUP($B274,Inscriptions!A$2:A$65496,Inscriptions!B$2:B$65498))","v":""},{"$f":"IF(ISBLANK($B274),\"\",LOOKUP($B274,Inscriptions!A$2:A$65496,Inscriptions!C$2:C$65498))","v":""},{"$f":"IF(ISBLANK($B274),\"\",LOOKUP($B274,Inscriptions!A$2:A$65496,Inscriptions!D$2:D$65498))","v":""},null,null,null,0,0,0,"",""]
[271,null,{"$f":"IF(ISBLANK($B275),\"\",LOOKUP($B275,Inscriptions!A$2:A$65496,Inscriptions!B$2:B$65498))","v":""},{"$f":"IF(ISBLANK($B275),\"\",LOOKUP($B275,Inscriptions!A$2:A$65496,Inscriptions!C$2:C$65498))","v":""},{"$f":"IF(ISBLANK($B275),\"\",LOOKUP($B275,Inscriptions!A$2:A$65496,Inscriptions!D$2:D$65498))","v":""},null,null,null,0,0,0,"",""]
[272,null,{"$f":"IF(ISBLANK($B276),\"\",LOOKUP($B276,Inscriptions!A$2:A$65496,Inscriptions!B$2:B$65498))","v":""},{"$f":"IF(ISBLANK($B276),\"\",LOOKUP($B276,Inscriptions!A$2:A$65496,Inscriptions!C$2:C$65498))","v":""},{"$f":"IF(ISBLANK($B276),\"\",LOOKUP($B276,Inscriptions!A$2:A$65496,Inscriptions!D$2:D$65498))","v":""},null,null,null,0,0,0,"",""]
[273,null,{"$f":"IF(ISBLANK($B277),\"\",LOOKUP($B277,Inscriptions!A$2:A$65496,Inscriptions!B$2:B$65498))","v":""},{"$f":"IF(ISBLANK($B277),\"\",LOOKUP($B277,Inscriptions!A$2:A$65496,Inscriptions!C$2:C$65498))","v":""},{"$f":"IF(ISBLANK($B277),\"\",LOOKUP($B277,Inscriptions!A$2:A$65496,Inscriptions!D$2:D$65498))","v":""},null,null,null,0,0,0,"",""]
[274,null,{"$f":"IF(ISBLANK($B278),\"\",LOOKUP($B278,Inscriptions!A$2:A$65496,Inscriptions!B$2:B$65498))","v":""},{"$f":"IF(ISBLANK($B278),\"\",LOOKUP($B278,Inscriptions!A$2:A$65496,Inscriptions!C$2:C$65498))","v":""},{"$f":"IF(ISBLANK($B278),\"\",LOOKUP($B278,Inscriptions!A$2:A$65496,Inscriptions!D$2:D$65498))","v":""},null,null,null,0,0,0,"",""]
[275,null,{"$f":"IF(ISBLANK($B279),\"\",LOOKUP($B279,Inscriptions!A$2:A$65496,Inscriptions!B$2:B$65498))","v":""},{"$f":"IF(ISBLANK($B279),\"\",LOOKUP($B279,Inscriptions!A$2:A$65496,Inscriptions!C$2:C$65498))","v":""},{"$f":"IF(ISBLANK($B279),\"\",LOOKUP($B279,Inscriptions!A$2:A$65496,Inscriptions!D$2:D$65498))","v":""},null,null,null,0,0,0,"",""]
[276,null,{"$f":"IF(ISBLANK($B280),\"\",LOOKUP($B280,Inscriptions!A$2:A$65496,Inscriptions!B$2:B$65498))","v":""},{"$f":"IF(ISBLANK($B280),\"\",LOOKUP($B280,Inscriptions!A$2:A$65496,Inscriptions!C$2:C$65498))","v":""},{"$f":"IF(ISBLANK($B280),\"\",LOOKUP($B280,Inscriptions!A$2:A$65496,Inscriptions!D$2:D$65498))","v":""},null,null,null,0,0,0,"",""]
[277,null,{"$f":"IF(ISBLANK($B281),\"\",LOOKUP($B281,Inscriptions!A$2:A$65496,Inscriptions!B$2:B$65498))","v":""},{"$f":"IF(ISBLANK($B281),\"\",LOOKUP($B281,Inscriptions!A$2:A$65496,Inscriptions!C$2:C$65498))","v":""},{"$f":"IF(ISBLANK($B281),\"\",LOOKUP($B281,Inscriptions!A$2:A$65496,Inscriptions!D$2:D$65498))","v":""},null,null,null,0,0,0,"",""]
[278,null,{"$f":"IF(ISBLANK($B282),\"\",LOOKUP($B282,Inscriptions!A$2:A$65496,Inscriptions!B$2:B$65498))","v":""},{"$f":"IF(ISBLANK($B282),\"\",LOOKUP($B282,Inscriptions!A$2:A$65496,Inscriptions!C$2:C$65498))","v":""},{"$f":"IF(ISBLANK($B282),\"\",LOOKUP($B282,Inscriptions!A$2:A$65496,Inscriptions!D$2:D$65498))","v":""},null,null,null,0,0,0,"",""]
[279,null,{"$f":"IF(ISBLANK($B283),\"\",LOOKUP($B283,Inscriptions!A$2:A$65496,Inscriptions!B$2:B$65498))","v":""},{"$f":"IF(ISBLANK($B283),\"\",LOOKUP($B283,Inscriptions!A$2:A$65496,Inscriptions!C$2:C$65498))","v":""},{"$f":"IF(ISBLANK($B283),\"\",LOOKUP($B283,Inscriptions!A$2:A$65496,Inscriptions!D$2:D$65498))","v":""},null,null,null,0,0,0,"",""]
[280,null,{"$f":"IF(ISBLANK($B284),\"\",LOOKUP($B284,Inscriptions!A$2:A$65496,Inscriptions!B$2:B$65498))","v":""},{"$f":"IF(ISBLANK($B284),\"\",LOOKUP($B284,Inscriptions!A$2:A$65496,Inscriptions!C$2:C$65498))","v":""},{"$f":"IF(ISBLANK($B284),\"\",LOOKUP($B284,Inscriptions!A$2:A$65496,Inscriptions!D$2:D$65498))","v":""},null,null,null,0,0,0,"",""]
[281,null,{"$f":"IF(ISBLANK($B285),\"\",LOOKUP($B285,Inscriptions!A$2:A$65496,Inscriptions!B$2:B$65498))","v":""},{"$f":"IF(ISBLANK($B285),\"\",LOOKUP($B285,Inscriptions!A$2:A$65496,Inscriptions!C$2:C$65498))","v":""},{"$f":"IF(ISBLANK($B285),\"\",LOOKUP($B285,Inscriptions!A$2:A$65496,Inscriptions!D$2:D$65498))","v":""},null,null,null,0,0,0,"",""]
[282,null,{"$f":"IF(ISBLANK($B286),\"\",LOOKUP($B286,Inscriptions!A$2:A$65496,Inscriptions!B$2:B$65498))","v":""},{"$f":"IF(ISBLANK($B286),\"\",LOOKUP($B286,Inscriptions!A$2:A$65496,Inscriptions!C$2:C$65498))","v":""},{"$f":"IF(ISBLANK($B286),\"\",LOOKUP($B286,Inscriptions!A$2:A$65496,Inscriptions!D$2:D$65498))","v":""},null,null,null,0,0,0,"",""]
[283,null,{"$f":"IF(ISBLANK($B287),\"\",LOOKUP($B287,Inscriptions!A$2:A$65496,Inscriptions!B$2:B$65498))","v":""},{"$f":"IF(ISBLANK($B287),\"\",LOOKUP($B287,Inscriptions!A$2:A$65496,Inscriptions!C$2:C$65498))","v":""},{"$f":"IF(ISBLANK($B287),\"\",LOOKUP($B287,Inscriptions!A$2:A$65496,Inscriptions!D$2:D$65498))","v":""},null,null,null,0,0,0,"",""]
[284,null,{"$f":"IF(ISBLANK($B288),\"\",LOOKUP($B288,Inscriptions!A$2:A$65496,Inscriptions!B$2:B$65498))","v":""},{"$f":"IF(ISBLANK($B288),\"\",LOOKUP($B288,Inscriptions!A$2:A$65496,Inscriptions!C$2:C$65498))","v":""},{"$f":"IF(ISBLANK($B288),\"\",LOOKUP($B288,Inscriptions!A$2:A$65496,Inscriptions!D$2:D$65498))","v":""},null,null,null,0,0,0,"",""]
[285,null,{"$f":"IF(ISBLANK($B289),\"\",LOOKUP($B289,Inscriptions!A$2:A$65496,Inscriptions!B$2:B$65498))","v":""},{"$f":"IF(ISBLANK($B289),\"\",LOOKUP($B289,Inscriptions!A$2:A$65496,Inscriptions!C$2:C$65498))","v":""},{"$f":"IF(ISBLANK($B289),\"\",LOOKUP($B289,Inscriptions!A$2:A$65496,Inscriptions!D$2:D$65498))","v":""},null,null,null,0,0,0,"",""]
[286,null,{"$f":"IF(ISBLANK($B290),\"\",LOOKUP($B290,Inscriptions!A$2:A$65496,Inscriptions!B$2:B$65498))","v":""},{"$f":"IF(ISBLANK($B290),\"\",LOOKUP($B290,Inscriptions!A$2:A$65496,Inscriptions!C$2:C$65498))","v":""},{"$f":"IF(ISBLANK($B290),\"\",LOOKUP($B290,Inscriptions!A$2:A$65496,Inscriptions!D$2:D$65498))","v":""},null,null,null,0,0,0,"",""]
[287,null,{"$f":"IF(ISBLANK($B291),\"\",LOOKUP($B291,Inscriptions!A$2:A$65496,Inscriptions!B$2:B$65498))","v":""},{"$f":"IF(ISBLANK($B291),\"\",LOOKUP($B291,Inscriptions!A$2:A$65496,Inscriptions!C$2:C$65498))","v":""},{"$f":"IF(ISBLANK($B291),\"\",LOOKUP($B291,Inscriptions!A$2:A$65496,Inscriptions!D$2:D$65498))","v":""},null,null,null,0,0,0,"",""]
[288,null,{"$f":"IF(ISBLANK($B292),\"\",LOOKUP($B292,Inscriptions!A$2:A$65496,Inscriptions!B$2:B$65498))","v":""},{"$f":"IF(ISBLANK($B292),\"\",LOOKUP($B292,Inscriptions!A$2:A$65496,Inscriptions!C$2:C$65498))","v":""},{"$f":"IF(ISBLANK($B292),\"\",LOOKUP($B292,Inscriptions!A$2:A$65496,Inscriptions!D$2:D$65498))","v":""},null,null,null,0,0,0,"",""]
[289,null,{"$f":"IF(ISBLANK($B293),\"\",LOOKUP($B293,Inscriptions!A$2:A$65496,Inscriptions!B$2:B$65498))","v":""},{"$f":"IF(ISBLANK($B293),\"\",LOOKUP($B293,Inscriptions!A$2:A$65496,Inscriptions!C$2:C$65498))","v":""},{"$f":"IF(ISBLANK($B293),\"\",LOOKUP($B293,Inscriptions!A$2:A$65496,Inscriptions!D$2:D$65498))","v":""},null,null,null,0,0,0,"",""]
[290,null,{"$f":"IF(ISBLANK($B294),\"\",LOOKUP($B294,Inscriptions!A$2:A$65496,Inscriptions!B$2:B$65498))","v":""},{"$f":"IF(ISBLANK($B294),\"\",LOOKUP($B294,Inscriptions!A$2:A$65496,Inscriptions!C$2:C$65498))","v":""},{"$f":"IF(ISBLANK($B294),\"\",LOOKUP($B294,Inscriptions!A$2:A$65496,Inscriptions!D$2:D$65498))","v":""},null,null,null,0,0,0,"",""]
[291,null,{"$f":"IF(ISBLANK($B295),\"\",LOOKUP($B295,Inscriptions!A$2:A$65496,Inscriptions!B$2:B$65498))","v":""},{"$f":"IF(ISBLANK($B295),\"\",LOOKUP($B295,Inscriptions!A$2:A$65496,Inscriptions!C$2:C$65498))","v":""},{"$f":"IF(ISBLANK($B295),\"\",LOOKUP($B295,Inscriptions!A$2:A$65496,Inscriptions!D$2:D$65498))","v":""},null,null,null,0,0,0,"",""]
[292,null,{"$f":"IF(ISBLANK($B296),\"\",LOOKUP($B296,Inscriptions!A$2:A$65496,Inscriptions!B$2:B$65498))","v":""},{"$f":"IF(ISBLANK($B296),\"\",LOOKUP($B296,Inscriptions!A$2:A$65496,Inscriptions!C$2:C$65498))","v":""},{"$f":"IF(ISBLANK($B296),\"\",LOOKUP($B296,Inscriptions!A$2:A$65496,Inscriptions!D$2:D$65498))","v":""},null,null,null,0,0,0,"",""]
[293,null,{"$f":"IF(ISBLANK($B297),\"\",LOOKUP($B297,Inscriptions!A$2:A$65496,Inscriptions!B$2:B$65498))","v":""},{"$f":"IF(ISBLANK($B297),\"\",LOOKUP($B297,Inscriptions!A$2:A$65496,Inscriptions!C$2:C$65498))","v":""},{"$f":"IF(ISBLANK($B297),\"\",LOOKUP($B297,Inscriptions!A$2:A$65496,Inscriptions!D$2:D$65498))","v":""},null,null,null,0,0,0,"",""]
[294,null,{"$f":"IF(ISBLANK($B298),\"\",LOOKUP($B298,Inscriptions!A$2:A$65496,Inscriptions!B$2:B$65498))","v":""},{"$f":"IF(ISBLANK($B298),\"\",LOOKUP($B298,Inscriptions!A$2:A$65496,Inscriptions!C$2:C$65498))","v":""},{"$f":"IF(ISBLANK($B298),\"\",LOOKUP($B298,Inscriptions!A$2:A$65496,Inscriptions!D$2:D$65498))","v":""},null,null,null,0,0,0,"",""]
[295,null,{"$f":"IF(ISBLANK($B299),\"\",LOOKUP($B299,Inscriptions!A$2:A$65496,Inscriptions!B$2:B$65498))","v":""},{"$f":"IF(ISBLANK($B299),\"\",LOOKUP($B299,Inscriptions!A$2:A$65496,Inscriptions!C$2:C$65498))","v":""},{"$f":"IF(ISBLANK($B299),\"\",LOOKUP($B299,Inscriptions!A$2:A$65496,Inscriptions!D$2:D$65498))","v":""},null,null,null,0,0,0,"",""]
[296,null,{"$f":"IF(ISBLANK($B300),\"\",LOOKUP($B300,Inscriptions!A$2:A$65496,Inscriptions!B$2:B$65498))","v":""},{"$f":"IF(ISBLANK($B300),\"\",LOOKUP($B300,Inscriptions!A$2:A$65496,Inscriptions!C$2:C$65498))","v":""},{"$f":"IF(ISBLANK($B300),\"\",LOOKUP($B300,Inscriptions!A$2:A$65496,Inscriptions!D$2:D$65498))","v":""},null,null,null,0,0,0,"",""]
[297,null,{"$f":"IF(ISBLANK($B301),\"\",LOOKUP($B301,Inscriptions!A$2:A$65496,Inscriptions!B$2:B$65498))","v":""},{"$f":"IF(ISBLANK($B301),\"\",LOOKUP($B301,Inscriptions!A$2:A$65496,Inscriptions!C$2:C$65498))","v":""},{"$f":"IF(ISBLANK($B301),\"\",LOOKUP($B301,Inscriptions!A$2:A$65496,Inscriptions!D$2:D$65498))","v":""},null,null,null,0,0,0,"",""]
[298,null,{"$f":"IF(ISBLANK($B302),\"\",LOOKUP($B302,Inscriptions!A$2:A$65496,Inscriptions!B$2:B$65498))","v":""},{"$f":"IF(ISBLANK($B302),\"\",LOOKUP($B302,Inscriptions!A$2:A$65496,Inscriptions!C$2:C$65498))","v":""},{"$f":"IF(ISBLANK($B302),\"\",LOOKUP($B302,Inscriptions!A$2:A$65496,Inscriptions!D$2:D$65498))","v":""},null,null,null,null,null,null,{"$f":"IF((I302+J302+K302)=0,\"\",ROUNDDOWN((L$4/((I302*3600)+(J302*60)+K302))*3.6,2))","v":""},""]
[299,null,{"$f":"IF(ISBLANK($B303),\"\",LOOKUP($B303,Inscriptions!A$2:A$65496,Inscriptions!B$2:B$65498))","v":""},{"$f":"IF(ISBLANK($B303),\"\",LOOKUP($B303,Inscriptions!A$2:A$65496,Inscriptions!C$2:C$65498))","v":""},{"$f":"IF(ISBLANK($B303),\"\",LOOKUP($B303,Inscriptions!A$2:A$65496,Inscriptions!D$2:D$65498))","v":""},null,null,null,null,null,null,"",""]
[300,null,{"$f":"IF(ISBLANK($B304),\"\",LOOKUP($B304,Inscriptions!A$2:A$65496,Inscriptions!B$2:B$65498))","v":""},{"$f":"IF(ISBLANK($B304),\"\",LOOKUP($B304,Inscriptions!A$2:A$65496,Inscriptions!C$2:C$65498))","v":""},{"$f":"IF(ISBLANK($B304),\"\",LOOKUP($B304,Inscriptions!A$2:A$65496,Inscriptions!D$2:D$65498))","v":""},null,null,null,null,null,null,"",""]
[301,null,{"$f":"IF(ISBLANK($B305),\"\",LOOKUP($B305,Inscriptions!A$2:A$65496,Inscriptions!B$2:B$65498))","v":""},{"$f":"IF(ISBLANK($B305),\"\",LOOKUP($B305,Inscriptions!A$2:A$65496,Inscriptions!C$2:C$65498))","v":""},{"$f":"IF(ISBLANK($B305),\"\",LOOKUP($B305,Inscriptions!A$2:A$65496,Inscriptions!D$2:D$65498))","v":""},null,null,null,null,null,null,"",""]
[302,null,{"$f":"IF(ISBLANK($B306),\"\",LOOKUP($B306,Inscriptions!A$2:A$65496,Inscriptions!B$2:B$65498))","v":""},{"$f":"IF(ISBLANK($B306),\"\",LOOKUP($B306,Inscriptions!A$2:A$65496,Inscriptions!C$2:C$65498))","v":""},{"$f":"IF(ISBLANK($B306),\"\",LOOKUP($B306,Inscriptions!A$2:A$65496,Inscriptions!D$2:D$65498))","v":""},null,null,null,null,null,null,"",""]
[303,null,{"$f":"IF(ISBLANK($B307),\"\",LOOKUP($B307,Inscriptions!A$2:A$65496,Inscriptions!B$2:B$65498))","v":""},{"$f":"IF(ISBLANK($B307),\"\",LOOKUP($B307,Inscriptions!A$2:A$65496,Inscriptions!C$2:C$65498))","v":""},{"$f":"IF(ISBLANK($B307),\"\",LOOKUP($B307,Inscriptions!A$2:A$65496,Inscriptions!D$2:D$65498))","v":""},null,null,null,null,null,null,"",""]
[304,null,{"$f":"IF(ISBLANK($B308),\"\",LOOKUP($B308,Inscriptions!A$2:A$65496,Inscriptions!B$2:B$65498))","v":""},{"$f":"IF(ISBLANK($B308),\"\",LOOKUP($B308,Inscriptions!A$2:A$65496,Inscriptions!C$2:C$65498))","v":""},{"$f":"IF(ISBLANK($B308),\"\",LOOKUP($B308,Inscriptions!A$2:A$65496,Inscriptions!D$2:D$65498))","v":""},null,null,null,null,null,null,"",""]
[305,null,{"$f":"IF(ISBLANK($B309),\"\",LOOKUP($B309,Inscriptions!A$2:A$65496,Inscriptions!B$2:B$65498))","v":""},{"$f":"IF(ISBLANK($B309),\"\",LOOKUP($B309,Inscriptions!A$2:A$65496,Inscriptions!C$2:C$65498))","v":""},{"$f":"IF(ISBLANK($B309),\"\",LOOKUP($B309,Inscriptions!A$2:A$65496,Inscriptions!D$2:D$65498))","v":""},null,null,null,null,null,null,"",""]
[306,null,{"$f":"IF(ISBLANK($B310),\"\",LOOKUP($B310,Inscriptions!A$2:A$65496,Inscriptions!B$2:B$65498))","v":""},{"$f":"IF(ISBLANK($B310),\"\",LOOKUP($B310,Inscriptions!A$2:A$65496,Inscriptions!C$2:C$65498))","v":""},{"$f":"IF(ISBLANK($B310),\"\",LOOKUP($B310,Inscriptions!A$2:A$65496,Inscriptions!D$2:D$65498))","v":""},null,null,null,null,null,null,"",""]
[307,null,{"$f":"IF(ISBLANK($B311),\"\",LOOKUP($B311,Inscriptions!A$2:A$65496,Inscriptions!B$2:B$65498))","v":""},{"$f":"IF(ISBLANK($B311),\"\",LOOKUP($B311,Inscriptions!A$2:A$65496,Inscriptions!C$2:C$65498))","v":""},{"$f":"IF(ISBLANK($B311),\"\",LOOKUP($B311,Inscriptions!A$2:A$65496,Inscriptions!D$2:D$65498))","v":""},null,null,null,null,null,null,"",""]
[308,null,{"$f":"IF(ISBLANK($B312),\"\",LOOKUP($B312,Inscriptions!A$2:A$65496,Inscriptions!B$2:B$65498))","v":""},{"$f":"IF(ISBLANK($B312),\"\",LOOKUP($B312,Inscriptions!A$2:A$65496,Inscriptions!C$2:C$65498))","v":""},{"$f":"IF(ISBLANK($B312),\"\",LOOKUP($B312,Inscriptions!A$2:A$65496,Inscriptions!D$2:D$65498))","v":""},null,null,null,null,null,null,"",""]
[309,null,{"$f":"IF(ISBLANK($B313),\"\",LOOKUP($B313,Inscriptions!A$2:A$65496,Inscriptions!B$2:B$65498))","v":""},{"$f":"IF(ISBLANK($B313),\"\",LOOKUP($B313,Inscriptions!A$2:A$65496,Inscriptions!C$2:C$65498))","v":""},{"$f":"IF(ISBLANK($B313),\"\",LOOKUP($B313,Inscriptions!A$2:A$65496,Inscriptions!D$2:D$65498))","v":""},null,null,null,null,null,null,"",""]
[310,null,{"$f":"IF(ISBLANK($B314),\"\",LOOKUP($B314,Inscriptions!A$2:A$65496,Inscriptions!B$2:B$65498))","v":""},{"$f":"IF(ISBLANK($B314),\"\",LOOKUP($B314,Inscriptions!A$2:A$65496,Inscriptions!C$2:C$65498))","v":""},{"$f":"IF(ISBLANK($B314),\"\",LOOKUP($B314,Inscriptions!A$2:A$65496,Inscriptions!D$2:D$65498))","v":""},null,null,null,null,null,null,"",""]
[311,null,{"$f":"IF(ISBLANK($B315),\"\",LOOKUP($B315,Inscriptions!A$2:A$65496,Inscriptions!B$2:B$65498))","v":""},{"$f":"IF(ISBLANK($B315),\"\",LOOKUP($B315,Inscriptions!A$2:A$65496,Inscriptions!C$2:C$65498))","v":""},{"$f":"IF(ISBLANK($B315),\"\",LOOKUP($B315,Inscriptions!A$2:A$65496,Inscriptions!D$2:D$65498))","v":""},null,null,null,null,null,null,"",""]
[312,null,{"$f":"IF(ISBLANK($B316),\"\",LOOKUP($B316,Inscriptions!A$2:A$65496,Inscriptions!B$2:B$65498))","v":""},{"$f":"IF(ISBLANK($B316),\"\",LOOKUP($B316,Inscriptions!A$2:A$65496,Inscriptions!C$2:C$65498))","v":""},{"$f":"IF(ISBLANK($B316),\"\",LOOKUP($B316,Inscriptions!A$2:A$65496,Inscriptions!D$2:D$65498))","v":""},null,null,null,null,null,null,"",""]
[313,null,{"$f":"IF(ISBLANK($B317),\"\",LOOKUP($B317,Inscriptions!A$2:A$65496,Inscriptions!B$2:B$65498))","v":""},{"$f":"IF(ISBLANK($B317),\"\",LOOKUP($B317,Inscriptions!A$2:A$65496,Inscriptions!C$2:C$65498))","v":""},{"$f":"IF(ISBLANK($B317),\"\",LOOKUP($B317,Inscriptions!A$2:A$65496,Inscriptions!D$2:D$65498))","v":""},null,null,null,null,null,null,"",""]
[314,null,{"$f":"IF(ISBLANK($B318),\"\",LOOKUP($B318,Inscriptions!A$2:A$65496,Inscriptions!B$2:B$65498))","v":""},{"$f":"IF(ISBLANK($B318),\"\",LOOKUP($B318,Inscriptions!A$2:A$65496,Inscriptions!C$2:C$65498))","v":""},{"$f":"IF(ISBLANK($B318),\"\",LOOKUP($B318,Inscriptions!A$2:A$65496,Inscriptions!D$2:D$65498))","v":""},null,null,null,null,null,null,"",""]
[315,null,{"$f":"IF(ISBLANK($B319),\"\",LOOKUP($B319,Inscriptions!A$2:A$65496,Inscriptions!B$2:B$65498))","v":""},{"$f":"IF(ISBLANK($B319),\"\",LOOKUP($B319,Inscriptions!A$2:A$65496,Inscriptions!C$2:C$65498))","v":""},{"$f":"IF(ISBLANK($B319),\"\",LOOKUP($B319,Inscriptions!A$2:A$65496,Inscriptions!D$2:D$65498))","v":""},null,null,null,null,null,null,"",""]
[316,null,{"$f":"IF(ISBLANK($B320),\"\",LOOKUP($B320,Inscriptions!A$2:A$65496,Inscriptions!B$2:B$65498))","v":""},{"$f":"IF(ISBLANK($B320),\"\",LOOKUP($B320,Inscriptions!A$2:A$65496,Inscriptions!C$2:C$65498))","v":""},{"$f":"IF(ISBLANK($B320),\"\",LOOKUP($B320,Inscriptions!A$2:A$65496,Inscriptions!D$2:D$65498))","v":""},null,null,null,null,null,null,"",""]
[317,null,{"$f":"IF(ISBLANK($B321),\"\",LOOKUP($B321,Inscriptions!A$2:A$65496,Inscriptions!B$2:B$65498))","v":""},{"$f":"IF(ISBLANK($B321),\"\",LOOKUP($B321,Inscriptions!A$2:A$65496,Inscriptions!C$2:C$65498))","v":""},{"$f":"IF(ISBLANK($B321),\"\",LOOKUP($B321,Inscriptions!A$2:A$65496,Inscriptions!D$2:D$65498))","v":""},null,null,null,null,null,null,"",""]
[318,null,{"$f":"IF(ISBLANK($B322),\"\",LOOKUP($B322,Inscriptions!A$2:A$65496,Inscriptions!B$2:B$65498))","v":""},{"$f":"IF(ISBLANK($B322),\"\",LOOKUP($B322,Inscriptions!A$2:A$65496,Inscriptions!C$2:C$65498))","v":""},{"$f":"IF(ISBLANK($B322),\"\",LOOKUP($B322,Inscriptions!A$2:A$65496,Inscriptions!D$2:D$65498))","v":""},null,null,null,null,null,null,"",""]
[319,null,{"$f":"IF(ISBLANK($B323),\"\",LOOKUP($B323,Inscriptions!A$2:A$65496,Inscriptions!B$2:B$65498))","v":""},{"$f":"IF(ISBLANK($B323),\"\",LOOKUP($B323,Inscriptions!A$2:A$65496,Inscriptions!C$2:C$65498))","v":""},{"$f":"IF(ISBLANK($B323),\"\",LOOKUP($B323,Inscriptions!A$2:A$65496,Inscriptions!D$2:D$65498))","v":""},null,null,null,null,null,null,"",""]
[320,null,{"$f":"IF(ISBLANK($B324),\"\",LOOKUP($B324,Inscriptions!A$2:A$65496,Inscriptions!B$2:B$65498))","v":""},{"$f":"IF(ISBLANK($B324),\"\",LOOKUP($B324,Inscriptions!A$2:A$65496,Inscriptions!C$2:C$65498))","v":""},{"$f":"IF(ISBLANK($B324),\"\",LOOKUP($B324,Inscriptions!A$2:A$65496,Inscriptions!D$2:D$65498))","v":""},null,null,null,null,null,null,"",""]
[321,null,{"$f":"IF(ISBLANK($B325),\"\",LOOKUP($B325,Inscriptions!A$2:A$65496,Inscriptions!B$2:B$65498))","v":""},{"$f":"IF(ISBLANK($B325),\"\",LOOKUP($B325,Inscriptions!A$2:A$65496,Inscriptions!C$2:C$65498))","v":""},{"$f":"IF(ISBLANK($B325),\"\",LOOKUP($B325,Inscriptions!A$2:A$65496,Inscriptions!D$2:D$65498))","v":""},null,null,null,null,null,null,"",""]
[322,null,{"$f":"IF(ISBLANK($B326),\"\",LOOKUP($B326,Inscriptions!A$2:A$65496,Inscriptions!B$2:B$65498))","v":""},{"$f":"IF(ISBLANK($B326),\"\",LOOKUP($B326,Inscriptions!A$2:A$65496,Inscriptions!C$2:C$65498))","v":""},{"$f":"IF(ISBLANK($B326),\"\",LOOKUP($B326,Inscriptions!A$2:A$65496,Inscriptions!D$2:D$65498))","v":""},null,null,null,null,null,null,"",{"$f":"IF(L326=\"\",\"\",\"km/h\")","v":""}]
[323,null,{"$f":"IF(ISBLANK($B327),\"\",LOOKUP($B327,Inscriptions!A$2:A$65496,Inscriptions!B$2:B$65498))","v":""},{"$f":"IF(ISBLANK($B327),\"\",LOOKUP($B327,Inscriptions!A$2:A$65496,Inscriptions!C$2:C$65498))","v":""},{"$f":"IF(ISBLANK($B327),\"\",LOOKUP($B327,Inscriptions!A$2:A$65496,Inscriptions!D$2:D$65498))","v":""},null,null,null,null,null,null,"",""]
[324,null,{"$f":"IF(ISBLANK($B328),\"\",LOOKUP($B328,Inscriptions!A$2:A$65496,Inscriptions!B$2:B$65498))","v":""},{"$f":"IF(ISBLANK($B328),\"\",LOOKUP($B328,Inscriptions!A$2:A$65496,Inscriptions!C$2:C$65498))","v":""},{"$f":"IF(ISBLANK($B328),\"\",LOOKUP($B328,Inscriptions!A$2:A$65496,Inscriptions!D$2:D$65498))","v":""},null,null,null,null,null,null,"",""]
[325,null,{"$f":"IF(ISBLANK($B329),\"\",LOOKUP($B329,Inscriptions!A$2:A$65496,Inscriptions!B$2:B$65498))","v":""},{"$f":"IF(ISBLANK($B329),\"\",LOOKUP($B329,Inscriptions!A$2:A$65496,Inscriptions!C$2:C$65498))","v":""},{"$f":"IF(ISBLANK($B329),\"\",LOOKUP($B329,Inscriptions!A$2:A$65496,Inscriptions!D$2:D$65498))","v":""},null,null,null,null,null,null,"",""]
[326,null,{"$f":"IF(ISBLANK($B330),\"\",LOOKUP($B330,Inscriptions!A$2:A$65496,Inscriptions!B$2:B$65498))","v":""},{"$f":"IF(ISBLANK($B330),\"\",LOOKUP($B330,Inscriptions!A$2:A$65496,Inscriptions!C$2:C$65498))","v":""},{"$f":"IF(ISBLANK($B330),\"\",LOOKUP($B330,Inscriptions!A$2:A$65496,Inscriptions!D$2:D$65498))","v":""},null,null,null,null,null,null,"",""]
[327,null,{"$f":"IF(ISBLANK($B331),\"\",LOOKUP($B331,Inscriptions!A$2:A$65496,Inscriptions!B$2:B$65498))","v":""},{"$f":"IF(ISBLANK($B331),\"\",LOOKUP($B331,Inscriptions!A$2:A$65496,Inscriptions!C$2:C$65498))","v":""},{"$f":"IF(ISBLANK($B331),\"\",LOOKUP($B331,Inscriptions!A$2:A$65496,Inscriptions!D$2:D$65498))","v":""},null,null,null,null,null,null,"",""]
[328,null,{"$f":"IF(ISBLANK($B332),\"\",LOOKUP($B332,Inscriptions!A$2:A$65496,Inscriptions!B$2:B$65498))","v":""},{"$f":"IF(ISBLANK($B332),\"\",LOOKUP($B332,Inscriptions!A$2:A$65496,Inscriptions!C$2:C$65498))","v":""},{"$f":"IF(ISBLANK($B332),\"\",LOOKUP($B332,Inscriptions!A$2:A$65496,Inscriptions!D$2:D$65498))","v":""},null,null,null,null,null,null,"",""]
[329,null,{"$f":"IF(ISBLANK($B333),\"\",LOOKUP($B333,Inscriptions!A$2:A$65496,Inscriptions!B$2:B$65498))","v":""},{"$f":"IF(ISBLANK($B333),\"\",LOOKUP($B333,Inscriptions!A$2:A$65496,Inscriptions!C$2:C$65498))","v":""},{"$f":"IF(ISBLANK($B333),\"\",LOOKUP($B333,Inscriptions!A$2:A$65496,Inscriptions!D$2:D$65498))","v":""},null,null,null,null,null,null,"",""]
[330,null,{"$f":"IF(ISBLANK($B334),\"\",LOOKUP($B334,Inscriptions!A$2:A$65496,Inscriptions!B$2:B$65498))","v":""},{"$f":"IF(ISBLANK($B334),\"\",LOOKUP($B334,Inscriptions!A$2:A$65496,Inscriptions!C$2:C$65498))","v":""},{"$f":"IF(ISBLANK($B334),\"\",LOOKUP($B334,Inscriptions!A$2:A$65496,Inscriptions!D$2:D$65498))","v":""},null,null,null,null,null,null,"",""]
[331,null,{"$f":"IF(ISBLANK($B335),\"\",LOOKUP($B335,Inscriptions!A$2:A$65496,Inscriptions!B$2:B$65498))","v":""},{"$f":"IF(ISBLANK($B335),\"\",LOOKUP($B335,Inscriptions!A$2:A$65496,Inscriptions!C$2:C$65498))","v":""},{"$f":"IF(ISBLANK($B335),\"\",LOOKUP($B335,Inscriptions!A$2:A$65496,Inscriptions!D$2:D$65498))","v":""},null,null,null,null,null,null,"",""]
[332,null,{"$f":"IF(ISBLANK($B336),\"\",LOOKUP($B336,Inscriptions!A$2:A$65496,Inscriptions!B$2:B$65498))","v":""},{"$f":"IF(ISBLANK($B336),\"\",LOOKUP($B336,Inscriptions!A$2:A$65496,Inscriptions!C$2:C$65498))","v":""},{"$f":"IF(ISBLANK($B336),\"\",LOOKUP($B336,Inscriptions!A$2:A$65496,Inscriptions!D$2:D$65498))","v":""},null,null,null,null,null,null,"",""]
[333,null,{"$f":"IF(ISBLANK($B337),\"\",LOOKUP($B337,Inscriptions!A$2:A$65496,Inscriptions!B$2:B$65498))","v":""},{"$f":"IF(ISBLANK($B337),\"\",LOOKUP($B337,Inscriptions!A$2:A$65496,Inscriptions!C$2:C$65498))","v":""},{"$f":"IF(ISBLANK($B337),\"\",LOOKUP($B337,Inscriptions!A$2:A$65496,Inscriptions!D$2:D$65498))","v":""},null,null,null,null,null,null,"",""]
[334,null,{"$f":"IF(ISBLANK($B338),\"\",LOOKUP($B338,Inscriptions!A$2:A$65496,Inscriptions!B$2:B$65498))","v":""},{"$f":"IF(ISBLANK($B338),\"\",LOOKUP($B338,Inscriptions!A$2:A$65496,Inscriptions!C$2:C$65498))","v":""},{"$f":"IF(ISBLANK($B338),\"\",LOOKUP($B338,Inscriptions!A$2:A$65496,Inscriptions!D$2:D$65498))","v":""},null,null,null,null,null,null,"",""]
[335,null,{"$f":"IF(ISBLANK($B339),\"\",LOOKUP($B339,Inscriptions!A$2:A$65496,Inscriptions!B$2:B$65498))","v":""},{"$f":"IF(ISBLANK($B339),\"\",LOOKUP($B339,Inscriptions!A$2:A$65496,Inscriptions!C$2:C$65498))","v":""},{"$f":"IF(ISBLANK($B339),\"\",LOOKUP($B339,Inscriptions!A$2:A$65496,Inscriptions!D$2:D$65498))","v":""},null,null,null,null,null,null,"",""]
[336,null,{"$f":"IF(ISBLANK($B340),\"\",LOOKUP($B340,Inscriptions!A$2:A$65496,Inscriptions!B$2:B$65498))","v":""},{"$f":"IF(ISBLANK($B340),\"\",LOOKUP($B340,Inscriptions!A$2:A$65496,Inscriptions!C$2:C$65498))","v":""},{"$f":"IF(ISBLANK($B340),\"\",LOOKUP($B340,Inscriptions!A$2:A$65496,Inscriptions!D$2:D$65498))","v":""},null,null,null,null,null,null,"",""]
[337,null,{"$f":"IF(ISBLANK($B341),\"\",LOOKUP($B341,Inscriptions!A$2:A$65496,Inscriptions!B$2:B$65498))","v":""},{"$f":"IF(ISBLANK($B341),\"\",LOOKUP($B341,Inscriptions!A$2:A$65496,Inscriptions!C$2:C$65498))","v":""},{"$f":"IF(ISBLANK($B341),\"\",LOOKUP($B341,Inscriptions!A$2:A$65496,Inscriptions!D$2:D$65498))","v":""},null,null,null,null,null,null,"",""]
[338,null,{"$f":"IF(ISBLANK($B342),\"\",LOOKUP($B342,Inscriptions!A$2:A$65496,Inscriptions!B$2:B$65498))","v":""},{"$f":"IF(ISBLANK($B342),\"\",LOOKUP($B342,Inscriptions!A$2:A$65496,Inscriptions!C$2:C$65498))","v":""},{"$f":"IF(ISBLANK($B342),\"\",LOOKUP($B342,Inscriptions!A$2:A$65496,Inscriptions!D$2:D$65498))","v":""},null,null,null,null,null,null,"",""]
[339,null,{"$f":"IF(ISBLANK($B343),\"\",LOOKUP($B343,Inscriptions!A$2:A$65496,Inscriptions!B$2:B$65498))","v":""},{"$f":"IF(ISBLANK($B343),\"\",LOOKUP($B343,Inscriptions!A$2:A$65496,Inscriptions!C$2:C$65498))","v":""},{"$f":"IF(ISBLANK($B343),\"\",LOOKUP($B343,Inscriptions!A$2:A$65496,Inscriptions!D$2:D$65498))","v":""},null,null,null,null,null,null,"",""]
[340,null,{"$f":"IF(ISBLANK($B344),\"\",LOOKUP($B344,Inscriptions!A$2:A$65496,Inscriptions!B$2:B$65498))","v":""},{"$f":"IF(ISBLANK($B344),\"\",LOOKUP($B344,Inscriptions!A$2:A$65496,Inscriptions!C$2:C$65498))","v":""},{"$f":"IF(ISBLANK($B344),\"\",LOOKUP($B344,Inscriptions!A$2:A$65496,Inscriptions!D$2:D$65498))","v":""},null,null,null,null,null,null,"",""]
[341,null,{"$f":"IF(ISBLANK($B345),\"\",LOOKUP($B345,Inscriptions!A$2:A$65496,Inscriptions!B$2:B$65498))","v":""},{"$f":"IF(ISBLANK($B345),\"\",LOOKUP($B345,Inscriptions!A$2:A$65496,Inscriptions!C$2:C$65498))","v":""},{"$f":"IF(ISBLANK($B345),\"\",LOOKUP($B345,Inscriptions!A$2:A$65496,Inscriptions!D$2:D$65498))","v":""},null,null,null,null,null,null,"",""]
[342,null,{"$f":"IF(ISBLANK($B346),\"\",LOOKUP($B346,Inscriptions!A$2:A$65496,Inscriptions!B$2:B$65498))","v":""},{"$f":"IF(ISBLANK($B346),\"\",LOOKUP($B346,Inscriptions!A$2:A$65496,Inscriptions!C$2:C$65498))","v":""},{"$f":"IF(ISBLANK($B346),\"\",LOOKUP($B346,Inscriptions!A$2:A$65496,Inscriptions!D$2:D$65498))","v":""},null,null,null,null,null,null,"",""]
[343,null,{"$f":"IF(ISBLANK($B347),\"\",LOOKUP($B347,Inscriptions!A$2:A$65496,Inscriptions!B$2:B$65498))","v":""},{"$f":"IF(ISBLANK($B347),\"\",LOOKUP($B347,Inscriptions!A$2:A$65496,Inscriptions!C$2:C$65498))","v":""},{"$f":"IF(ISBLANK($B347),\"\",LOOKUP($B347,Inscriptions!A$2:A$65496,Inscriptions!D$2:D$65498))","v":""},null,null,null,null,null,null,"",""]
[344,null,{"$f":"IF(ISBLANK($B348),\"\",LOOKUP($B348,Inscriptions!A$2:A$65496,Inscriptions!B$2:B$65498))","v":""},{"$f":"IF(ISBLANK($B348),\"\",LOOKUP($B348,Inscriptions!A$2:A$65496,Inscriptions!C$2:C$65498))","v":""},{"$f":"IF(ISBLANK($B348),\"\",LOOKUP($B348,Inscriptions!A$2:A$65496,Inscriptions!D$2:D$65498))","v":""},null,null,null,null,null,null,"",""]
[345,null,{"$f":"IF(ISBLANK($B349),\"\",LOOKUP($B349,Inscriptions!A$2:A$65496,Inscriptions!B$2:B$65498))","v":""},{"$f":"IF(ISBLANK($B349),\"\",LOOKUP($B349,Inscriptions!A$2:A$65496,Inscriptions!C$2:C$65498))","v":""},{"$f":"IF(ISBLANK($B349),\"\",LOOKUP($B349,Inscriptions!A$2:A$65496,Inscriptions!D$2:D$65498))","v":""},null,null,null,null,null,null,"",""]
[346,null,{"$f":"IF(ISBLANK($B350),\"\",LOOKUP($B350,Inscriptions!A$2:A$65496,Inscriptions!B$2:B$65498))","v":""},{"$f":"IF(ISBLANK($B350),\"\",LOOKUP($B350,Inscriptions!A$2:A$65496,Inscriptions!C$2:C$65498))","v":""},{"$f":"IF(ISBLANK($B350),\"\",LOOKUP($B350,Inscriptions!A$2:A$65496,Inscriptions!D$2:D$65498))","v":""},null,null,null,null,null,null,"",""]
[347,null,{"$f":"IF(ISBLANK($B351),\"\",LOOKUP($B351,Inscriptions!A$2:A$65496,Inscriptions!B$2:B$65498))","v":""},{"$f":"IF(ISBLANK($B351),\"\",LOOKUP($B351,Inscriptions!A$2:A$65496,Inscriptions!C$2:C$65498))","v":""},{"$f":"IF(ISBLANK($B351),\"\",LOOKUP($B351,Inscriptions!A$2:A$65496,Inscriptions!D$2:D$65498))","v":""},null,null,null,null,null,null,"",""]
[348,null,{"$f":"IF(ISBLANK($B352),\"\",LOOKUP($B352,Inscriptions!A$2:A$65496,Inscriptions!B$2:B$65498))","v":""},{"$f":"IF(ISBLANK($B352),\"\",LOOKUP($B352,Inscriptions!A$2:A$65496,Inscriptions!C$2:C$65498))","v":""},{"$f":"IF(ISBLANK($B352),\"\",LOOKUP($B352,Inscriptions!A$2:A$65496,Inscriptions!D$2:D$65498))","v":""},null,null,null,null,null,null,"",""]
[349,null,{"$f":"IF(ISBLANK($B353),\"\",LOOKUP($B353,Inscriptions!A$2:A$65496,Inscriptions!B$2:B$65498))","v":""},{"$f":"IF(ISBLANK($B353),\"\",LOOKUP($B353,Inscriptions!A$2:A$65496,Inscriptions!C$2:C$65498))","v":""},{"$f":"IF(ISBLANK($B353),\"\",LOOKUP($B353,Inscriptions!A$2:A$65496,Inscriptions!D$2:D$65498))","v":""},null,null,null,null,null,null,"",""]
[350,null,{"$f":"IF(ISBLANK($B354),\"\",LOOKUP($B354,Inscriptions!A$2:A$65496,Inscriptions!B$2:B$65498))","v":""},{"$f":"IF(ISBLANK($B354),\"\",LOOKUP($B354,Inscriptions!A$2:A$65496,Inscriptions!C$2:C$65498))","v":""},{"$f":"IF(ISBLANK($B354),\"\",LOOKUP($B354,Inscriptions!A$2:A$65496,Inscriptions!D$2:D$65498))","v":""},null,null,null,null,null,null,"",""]

{"sheet":"C10 CAF MIM","index":12,"n_rows":354,"n_cols":13,"rows_kept":354,"cut":false,"hidden":false,"merged":[[0,0,0,7],[1,0,1,7],[2,5,2,6]]}
["CROSS REGIONAL FSGT - STAINS - 18/01/2015"]
["CADETTES - MINIMES masculins  = 3 050 mètres"]
[]
["PLACE","DOSSARD","NOM / PRENOM","CAT","CLUB","CAF","MIM","TEMPS","h","m","s",3050,"m"]
[1,761,{"$f":"IF(ISBLANK($B5),\"\",LOOKUP($B5,Inscriptions!A$2:A$65496,Inscriptions!B$2:B$65498))","v":"BACCOUCHE BESSEM"},{"$f":"IF(ISBLANK($B5),\"\",LOOKUP($B5,Inscriptions!A$2:A$65496,Inscriptions!C$2:C$65498))","v":"MIM"},{"$f":"IF(ISBLANK($B5),\"\",LOOKUP($B5,Inscriptions!A$2:A$65496,Inscriptions!D$2:D$65498))","v":"CS BRETIGNY ATHLETISME"},null,1,1225,{"$f":"ROUNDDOWN(H5/10000,0)","v":0},{"$f":"ROUNDDOWN((H5-I5*10000)/100,0)","v":12},{"$f":"ROUNDDOWN((H5-(I5*10000)-(J5*100)),0)","v":25},{"$f":"IF((I5+J5+K5)=0,\"\",ROUNDDOWN((L$4/((I5*3600)+(J5*60)+K5))*3.6,2))","v":14.73},{"$f":"IF(L5=\"\",\"\",\"km/h\")","v":"km/h"}]
[2,501,{"$f":"IF(ISBLANK($B6),\"\",LOOKUP($B6,Inscriptions!A$2:A$65496,Inscriptions!B$2:B$65498))","v":"CELESTE AXEL"},{"$f":"IF(ISBLANK($B6),\"\",LOOKUP($B6,Inscriptions!A$2:A$65496,Inscriptions!C$2:C$65498))","v":"MIM"},{"$f":"IF(ISBLANK($B6),\"\",LOOKUP($B6,Inscriptions!A$2:A$65496,Inscriptions!D$2:D$65498))","v":"BLANC MESNIL SA"},null,2,1227,{"$f":"ROUNDDOWN(H6/10000,0)","v":0},{"$f":"ROUNDDOWN((H6-I6*10000)/100,0)","v":12},{"$f":"ROUNDDOWN((H6-(I6*10000)-(J6*100)),0)","v":27},{"$f":"IF((I6+J6+K6)=0,\"\",ROUNDDOWN((L$4/((I6*3600)+(J6*60)+K6))*3.6,2))","v":14.69},{"$f":"IF(L6=\"\",\"\",\"km/h\")","v":"km/h"}]
[3,558,{"$f":"IF(ISBLANK($B7),\"\",LOOKUP($B7,Inscriptions!A$2:A$65496,Inscriptions!B$2:B$65498))","v":"ODE ALEXIS"},{"$f":"IF(ISBLANK($B7),\"\",LOOKUP($B7,Inscriptions!A$2:A$65496,Inscriptions!C$2:C$65498))","v":"MIM"},{"$f":"IF(ISBLANK($B7),\"\",LOOKUP($B7,Inscriptions!A$2:A$65496,Inscriptions!D$2:D$65498))","v":"BLANC MESNIL SA"},null,3,1242,0,12,42,14.4,"km/h"]
[4,1692,{"$f":"IF(ISBLANK($B8),\"\",LOOKUP($B8,Inscriptions!A$2:A$65496,Inscriptions!B$2:B$65498))","v":"LIERE REMY"},{"$f":"IF(ISBLANK($B8),\"\",LOOKUP($B8,Inscriptions!A$2:A$65496,Inscriptions!C$2:C$65498))","v":"MIM"},{"$f":"IF(ISBLANK($B8),\"\",LOOKUP($B8,Inscriptions!A$2:A$65496,Inscriptions!D$2:D$65498))","v":"TREMBLAY AC"},null,4,1249,0,12,49,14.27,"km/h"]
[5,1106,{"$f":"IF(ISBLANK($B9),\"\",LOOKUP($B9,Inscriptions!A$2:A$65496,Inscriptions!B$2:B$65498))","v":"MINOS TAYLOR"},{"$f":"IF(ISBLANK($B9),\"\",LOOKUP($B9,Inscriptions!A$2:A$65496,Inscriptions!C$2:C$65498))","v":"MIM"},{"$f":"IF(ISBLANK($B9),\"\",LOOKUP($B9,Inscriptions!A$2:A$65496,Inscriptions!D$2:D$65498))","v":"ES STAINS"},null,5,1310,0,13,10,13.89,"km/h"]
[6,1087,{"$f":"IF(ISBLANK($B10),\"\",LOOKUP($B10,Inscriptions!A$2:A$65496,Inscriptions!B$2:B$65498))","v":"GICQUEL HUGO"},{"$f":"IF(ISBLANK($B10),\"\",LOOKUP($B10,Inscriptions!A$2:A$65496,Inscriptions!C$2:C$65498))","v":"MIM"},{"$f":"IF(ISBLANK($B10),\"\",LOOKUP($B10,Inscriptions!A$2:A$65496,Inscriptions!D$2:D$65498))","v":"ES STAINS"},null,6,1312,0,13,12,13.86,"km/h"]
[7,2099,{"$f":"IF(ISBLANK($B11),\"\",LOOKUP($B11,Inscriptions!A$2:A$65496,Inscriptions!B$2:B$65498))","v":"MARTIN ANDREW"},{"$f":"IF(ISBLANK($B11),\"\",LOOKUP($B11,Inscriptions!A$2:A$65496,Inscriptions!C$2:C$65498))","v":"MIM"},{"$f":"IF(ISBLANK($B11),\"\",LOOKUP($B11,Inscriptions!A$2:A$65496,Inscriptions!D$2:D$65498))","v":"US VIGNEUX"},null,7,1316,0,13,16,13.79,"km/h"]
[8,1695,{"$f":"IF(ISBLANK($B12),\"\",LOOKUP($B12,Inscriptions!A$2:A$65496,Inscriptions!B$2:B$65498))","v":"MACHROUB ADIL"},{"$f":"IF(ISBLANK($B12),\"\",LOOKUP($B12,Inscriptions!A$2:A$65496,Inscriptions!C$2:C$65498))","v":"MIM"},{"$f":"IF(ISBLANK($B12),\"\",LOOKUP($B12,Inscriptions!A$2:A$65496,Inscriptions!D$2:D$65498))","v":"TREMBLAY AC"},null,8,1317,0,13,17,13.77,"km/h"]
[9,1674,{"$f":"IF(ISBLANK($B13),\"\",LOOKUP($B13,Inscriptions!A$2:A$65496,Inscriptions!B$2:B$65498))","v":"ICHOU ADAM"},{"$f":"IF(ISBLANK($B13),\"\",LOOKUP($B13,Inscriptions!A$2:A$65496,Inscriptions!C$2:C$65498))","v":"MIM"},{"$f":"IF(ISBLANK($B13),\"\",LOOKUP($B13,Inscriptions!A$2:A$65496,Inscriptions!D$2:D$65498))","v":"TREMBLAY AC"},null,9,1318,0,13,18,13.75,"km/h"]
[10,1518,{"$f":"IF(ISBLANK($B14),\"\",LOOKUP($B14,Inscriptions!A$2:A$65496,Inscriptions!B$2:B$65498))","v":"BENREZZAQ BILAL"},{"$f":"IF(ISBLANK($B14),\"\",LOOKUP($B14,Inscriptions!A$2:A$65496,Inscriptions!C$2:C$65498))","v":"MIM"},{"$f":"IF(ISBLANK($B14),\"\",LOOKUP($B14,Inscriptions!A$2:A$65496,Inscriptions!D$2:D$65498))","v":"ST DENIS US"},null,10,1407,0,14,7,12.96,"km/h"]
[11,252,{"$f":"IF(ISBLANK($B15),\"\",LOOKUP($B15,Inscriptions!A$2:A$65496,Inscriptions!B$2:B$65498))","v":"DJOUHRI BADIS"},{"$f":"IF(ISBLANK($B15),\"\",LOOKUP($B15,Inscriptions!A$2:A$65496,Inscriptions!C$2:C$65498))","v":"MIM"},{"$f":"IF(ISBLANK($B15),\"\",LOOKUP($B15,Inscriptions!A$2:A$65496,Inscriptions!D$2:D$65498))","v":"ASG BAGNOLET"},null,11,1407,0,14,7,12.96,"km/h"]
[12,525,{"$f":"IF(ISBLANK($B16),\"\",LOOKUP($B16,Inscriptions!A$2:A$65496,Inscriptions!B$2:B$65498))","v":"GARNIER AMINE"},{"$f":"IF(ISBLANK($B16),\"\",LOOKUP($B16,Inscriptions!A$2:A$65496,Inscriptions!C$2:C$65498))","v":"MIM"},{"$f":"IF(ISBLANK($B16),\"\",LOOKUP($B16,Inscriptions!A$2:A$65496,Inscriptions!D$2:D$65498))","v":"BLANC MESNIL SA"},null,12,1438,0,14,38,12.5,"km/h"]
[13,1590,{"$f":"IF(ISBLANK($B17),\"\",LOOKUP($B17,Inscriptions!A$2:A$65496,Inscriptions!B$2:B$65498))","v":"SAJJAD ALI RAZA"},{"$f":"IF(ISBLANK($B17),\"\",LOOKUP($B17,Inscriptions!A$2:A$65496,Inscriptions!C$2:C$65498))","v":"MIM"},{"$f":"IF(ISBLANK($B17),\"\",LOOKUP($B17,Inscriptions!A$2:A$65496,Inscriptions!D$2:D$65498))","v":"ST DENIS US"},null,13,1445,0,14,45,12.4,"km/h"]
[14,1562,{"$f":"IF(ISBLANK($B18),\"\",LOOKUP($B18,Inscriptions!A$2:A$65496,Inscriptions!B$2:B$65498))","v":"HADJI YACINE"},{"$f":"IF(ISBLANK($B18),\"\",LOOKUP($B18,Inscriptions!A$2:A$65496,Inscriptions!C$2:C$65498))","v":"MIM"},{"$f":"IF(ISBLANK($B18),\"\",LOOKUP($B18,Inscriptions!A$2:A$65496,Inscriptions!D$2:D$65498))","v":"ST DENIS US"},null,14,1448,0,14,48,12.36,"km/h"]
[15,249,{"$f":"IF(ISBLANK($B19),\"\",LOOKUP($B19,Inscriptions!A$2:A$65496,Inscriptions!B$2:B$65498))","v":"DESCOMBES CLEMENT"},{"$f":"IF(ISBLANK($B19),\"\",LOOKUP($B19,Inscriptions!A$2:A$65496,Inscriptions!C$2:C$65498))","v":"MIM"},{"$f":"IF(ISBLANK($B19),\"\",LOOKUP($B19,Inscriptions!A$2:A$65496,Inscriptions!D$2:D$65498))","v":"ASG BAGNOLET"},null,15,1503,0,15,3,12.15,"km/h"]
[16,1060,{"$f":"IF(ISBLANK($B20),\"\",LOOKUP($B20,Inscriptions!A$2:A$65496,Inscriptions!B$2:B$65498))","v":"DA COSTA MARLÈNE"},{"$f":"IF(ISBLANK($B20),\"\",LOOKUP($B20,Inscriptions!A$2:A$65496,Inscriptions!C$2:C$65498))","v":"CAF"},{"$f":"IF(ISBLANK($B20),\"\",LOOKUP($B20,Inscriptions!A$2:A$65496,Inscriptions!D$2:D$65498))","v":"ES STAINS"},1,null,1504,0,15,4,12.14,"km/h"]
[17,799,{"$f":"IF(ISBLANK($B21),\"\",LOOKUP($B21,Inscriptions!A$2:A$65496,Inscriptions!B$2:B$65498))","v":"DESCROIX GUILLAUME"},{"$f":"IF(ISBLANK($B21),\"\",LOOKUP($B21,Inscriptions!A$2:A$65496,Inscriptions!C$2:C$65498))","v":"MIM"},{"$f":"IF(ISBLANK($B21),\"\",LOOKUP($B21,Inscriptions!A$2:A$65496,Inscriptions!D$2:D$65498))","v":"CS BRETIGNY ATHLETISME"},null,16,1528,0,15,28,11.83,"km/h"]
[18,1578,{"$f":"IF(ISBLANK($B22),\"\",LOOKUP($B22,Inscriptions!A$2:A$65496,Inscriptions!B$2:B$65498))","v":"MEDOUNI VICTORIA"},{"$f":"IF(ISBLANK($B22),\"\",LOOKUP($B22,Inscriptions!A$2:A$65496,Inscriptions!C$2:C$65498))","v":"CAF"},{"$f":"IF(ISBLANK($B22),\"\",LOOKUP($B22,Inscriptions!A$2:A$65496,Inscriptions!D$2:D$65498))","v":"ST DENIS US"},2,null,1531,0,15,31,11.79,"km/h"]
[19,454,{"$f":"IF(ISBLANK($B23),\"\",LOOKUP($B23,Inscriptions!A$2:A$65496,Inscriptions!B$2:B$65498))","v":"PESTANA SOPHIE"},{"$f":"IF(ISBLANK($B23),\"\",LOOKUP($B23,Inscriptions!A$2:A$65496,Inscriptions!C$2:C$65498))","v":"CAF"},{"$f":"IF(ISBLANK($B23),\"\",LOOKUP($B23,Inscriptions!A$2:A$65496,Inscriptions!D$2:D$65498))","v":"ATHLE LE BOURGET DRANCY DUGNY"},3,null,1534,0,15,34,11.75,"km/h"]
[20,1514,{"$f":"IF(ISBLANK($B24),\"\",LOOKUP($B24,Inscriptions!A$2:A$65496,Inscriptions!B$2:B$65498))","v":"BARADJI BAMAM"},{"$f":"IF(ISBLANK($B24),\"\",LOOKUP($B24,Inscriptions!A$2:A$65496,Inscriptions!C$2:C$65498))","v":"MIM"},{"$f":"IF(ISBLANK($B24),\"\",LOOKUP($B24,Inscriptions!A$2:A$65496,Inscriptions!D$2:D$65498))","v":"ST DENIS US"},null,17,1539,0,15,39,11.69,"km/h"]
[21,240,{"$f":"IF(ISBLANK($B25),\"\",LOOKUP($B25,Inscriptions!A$2:A$65496,Inscriptions!B$2:B$65498))","v":"COUE MEDERIC"},{"$f":"IF(ISBLANK($B25),\"\",LOOKUP($B25,Inscriptions!A$2:A$65496,Inscriptions!C$2:C$65498))","v":"MIM"},{"$f":"IF(ISBLANK($B25),\"\",LOOKUP($B25,Inscriptions!A$2:A$65496,Inscriptions!D$2:D$65498))","v":"ASG BAGNOLET"},null,18,1551,0,15,51,11.54,"km/h"]
[22,2115,{"$f":"IF(ISBLANK($B26),\"\",LOOKUP($B26,Inscriptions!A$2:A$65496,Inscriptions!B$2:B$65498))","v":"ROHART KEVIN"},{"$f":"IF(ISBLANK($B26),\"\",LOOKUP($B26,Inscriptions!A$2:A$65496,Inscriptions!C$2:C$65498))","v":"MIM"},{"$f":"IF(ISBLANK($B26),\"\",LOOKUP($B26,Inscriptions!A$2:A$65496,Inscriptions!D$2:D$65498))","v":"US VIGNEUX"},null,19,1553,0,15,53,11.52,"km/h"]
[23,971,{"$f":"IF(ISBLANK($B27),\"\",LOOKUP($B27,Inscriptions!A$2:A$65496,Inscriptions!B$2:B$65498))","v":"MALLET LÉO"},{"$f":"IF(ISBLANK($B27),\"\",LOOKUP($B27,Inscriptions!A$2:A$65496,Inscriptions!C$2:C$65498))","v":"MIM"},{"$f":"IF(ISBLANK($B27),\"\",LOOKUP($B27,Inscriptions!A$2:A$65496,Inscriptions!D$2:D$65498))","v":"CSM GENNEVILLIERS"},null,20,1553,0,15,53,11.52,"km/h"]
[24,1989,{"$f":"IF(ISBLANK($B28),\"\",LOOKUP($B28,Inscriptions!A$2:A$65496,Inscriptions!B$2:B$65498))","v":"DRAME DEMBA"},{"$f":"IF(ISBLANK($B28),\"\",LOOKUP($B28,Inscriptions!A$2:A$65496,Inscriptions!C$2:C$65498))","v":"MIM"},{"$f":"IF(ISBLANK($B28),\"\",LOOKUP($B28,Inscriptions!A$2:A$65496,Inscriptions!D$2:D$65498))","v":"US MERY AC"},null,21,1600,0,16,0,11.43,"km/h"]
[25,2261,{"$f":"IF(ISBLANK($B29),\"\",LOOKUP($B29,Inscriptions!A$2:A$65496,Inscriptions!B$2:B$65498))","v":"MOUEZY CORENTIN"},{"$f":"IF(ISBLANK($B29),\"\",LOOKUP($B29,Inscriptions!A$2:A$65496,Inscriptions!C$2:C$65498))","v":"MIM"},{"$f":"IF(ISBLANK($B29),\"\",LOOKUP($B29,Inscriptions!A$2:A$65496,Inscriptions!D$2:D$65498))","v":"USO BEZONS"},null,22,1601,0,16,1,11.42,"km/h"]
[26,1697,{"$f":"IF(ISBLANK($B30),\"\",LOOKUP($B30,Inscriptions!A$2:A$65496,Inscriptions!B$2:B$65498))","v":"MACHROUB SHAHD"},{"$f":"IF(ISBLANK($B30),\"\",LOOKUP($B30,Inscriptions!A$2:A$65496,Inscriptions!C$2:C$65498))","v":"CAF"},{"$f":"IF(ISBLANK($B30),\"\",LOOKUP($B30,Inscriptions!A$2:A$65496,Inscriptions!D$2:D$65498))","v":"TREMBLAY AC"},4,null,1603,0,16,3,11.4,"km/h"]
[27,467,{"$f":"IF(ISBLANK($B31),\"\",LOOKUP($B31,Inscriptions!A$2:A$65496,Inscriptions!B$2:B$65498))","v":"TAFNA JEREMY"},{"$f":"IF(ISBLANK($B31),\"\",LOOKUP($B31,Inscriptions!A$2:A$65496,Inscriptions!C$2:C$65498))","v":"MIM"},{"$f":"IF(ISBLANK($B31),\"\",LOOKUP($B31,Inscriptions!A$2:A$65496,Inscriptions!D$2:D$65498))","v":"ATHLE LE BOURGET DRANCY DUGNY"},null,23,1606,0,16,6,11.36,"km/h"]
[28,926,{"$f":"IF(ISBLANK($B32),\"\",LOOKUP($B32,Inscriptions!A$2:A$65496,Inscriptions!B$2:B$65498))","v":"VALLEE ALEXIS"},{"$f":"IF(ISBLANK($B32),\"\",LOOKUP($B32,Inscriptions!A$2:A$65496,Inscriptions!C$2:C$65498))","v":"MIM"},{"$f":"IF(ISBLANK($B32),\"\",LOOKUP($B32,Inscriptions!A$2:A$65496,Inscriptions!D$2:D$65498))","v":"CS BRETIGNY ATHLETISME"},null,24,1621,0,16,21,11.19,"km/h"]
[29,637,{"$f":"IF(ISBLANK($B33),\"\",LOOKUP($B33,Inscriptions!A$2:A$65496,Inscriptions!B$2:B$65498))","v":"DIOP SAMARO"},{"$f":"IF(ISBLANK($B33),\"\",LOOKUP($B33,Inscriptions!A$2:A$65496,Inscriptions!C$2:C$65498))","v":"MIM"},{"$f":"IF(ISBLANK($B33),\"\",LOOKUP($B33,Inscriptions!A$2:A$65496,Inscriptions!D$2:D$65498))","v":"CM AUBERVILLIERS ATHLETISME"},null,25,1628,0,16,28,11.11,"km/h"]
[30,545,{"$f":"IF(ISBLANK($B34),\"\",LOOKUP($B34,Inscriptions!A$2:A$65496,Inscriptions!B$2:B$65498))","v":"LOKETEMBO NATHAN"},{"$f":"IF(ISBLANK($B34),\"\",LOOKUP($B34,Inscriptions!A$2:A$65496,Inscriptions!C$2:C$65498))","v":"MIM"},{"$f":"IF(ISBLANK($B34),\"\",LOOKUP($B34,Inscriptions!A$2:A$65496,Inscriptions!D$2:D$65498))","v":"BLANC MESNIL SA"},null,26,1637,0,16,37,11.01,"km/h"]
[31,1647,{"$f":"IF(ISBLANK($B35),\"\",LOOKUP($B35,Inscriptions!A$2:A$65496,Inscriptions!B$2:B$65498))","v":"DRUMEL CLEMENT"},{"$f":"IF(ISBLANK($B35),\"\",LOOKUP($B35,Inscriptions!A$2:A$65496,Inscriptions!C$2:C$65498))","v":"MIM"},{"$f":"IF(ISBLANK($B35),\"\",LOOKUP($B35,Inscriptions!A$2:A$65496,Inscriptions!D$2:D$65498))","v":"TREMBLAY AC"},null,27,1641,0,16,41,10.96,"km/h"]
[32,935,{"$f":"IF(ISBLANK($B36),\"\",LOOKUP($B36,Inscriptions!A$2:A$65496,Inscriptions!B$2:B$65498))","v":"AÏTAHNIA MATHIS"},{"$f":"IF(ISBLANK($B36),\"\",LOOKUP($B36,Inscriptions!A$2:A$65496,Inscriptions!C$2:C$65498))","v":"MIM"},{"$f":"IF(ISBLANK($B36),\"\",LOOKUP($B36,Inscriptions!A$2:A$65496,Inscriptions!D$2:D$65498))","v":"CSM GENNEVILLIERS"},null,28,1641,0,16,41,10.96,"km/h"]
[33,1751,{"$f":"IF(ISBLANK($B37),\"\",LOOKUP($B37,Inscriptions!A$2:A$65496,Inscriptions!B$2:B$65498))","v":"ZOUBIR YACINE"},{"$f":"IF(ISBLANK($B37),\"\",LOOKUP($B37,Inscriptions!A$2:A$65496,Inscriptions!C$2:C$65498))","v":"MIM"},{"$f":"IF(ISBLANK($B37),\"\",LOOKUP($B37,Inscriptions!A$2:A$65496,Inscriptions!D$2:D$65498))","v":"TREMBLAY AC"},null,29,1645,0,16,45,10.92,"km/h"]
[34,1594,{"$f":"IF(ISBLANK($B38),\"\",LOOKUP($B38,Inscriptions!A$2:A$65496,Inscriptions!B$2:B$65498))","v":"THIMON LOQUES IDRISS"},{"$f":"IF(ISBLANK($B38),\"\",LOOKUP($B38,Inscriptions!A$2:A$65496,Inscriptions!C$2:C$65498))","v":"MIM"},{"$f":"IF(ISBLANK($B38),\"\",LOOKUP($B38,Inscriptions!A$2:A$65496,Inscriptions!D$2:D$65498))","v":"ST DENIS US"},null,30,1649,0,16,49,10.88,"km/h"]
[35,2375,{"$f":"IF(ISBLANK($B39),\"\",LOOKUP($B39,Inscriptions!A$2:A$65496,Inscriptions!B$2:B$65498))","v":"ADJAOUA AMILES"},{"$f":"IF(ISBLANK($B39),\"\",LOOKUP($B39,Inscriptions!A$2:A$65496,Inscriptions!C$2:C$65498))","v":"BEM"},{"$f":"IF(ISBLANK($B39),\"\",LOOKUP($B39,Inscriptions!A$2:A$65496,Inscriptions!D$2:D$65498))","v":"CS BRETIGNY ATHLETISME"},null,null,1653,0,16,53,10.83,"km/h"]
[36,1078,{"$f":"IF(ISBLANK($B40),\"\",LOOKUP($B40,Inscriptions!A$2:A$65496,Inscriptions!B$2:B$65498))","v":"EN NEHDAOUI MANAL"},{"$f":"IF(ISBLANK($B40),\"\",LOOKUP($B40,Inscriptions!A$2:A$65496,Inscriptions!C$2:C$65498))","v":"CAF"},{"$f":"IF(ISBLANK($B40),\"\",LOOKUP($B40,Inscriptions!A$2:A$65496,Inscriptions!D$2:D$65498))","v":"ES STAINS"},5,null,1711,0,17,11,10.64,"km/h"]
[37,2291,{"$f":"IF(ISBLANK($B41),\"\",LOOKUP($B41,Inscriptions!A$2:A$65496,Inscriptions!B$2:B$65498))","v":"CHAIB OUSSAMA"},{"$f":"IF(ISBLANK($B41),\"\",LOOKUP($B41,Inscriptions!A$2:A$65496,Inscriptions!C$2:C$65498))","v":"MIM"},{"$f":"IF(ISBLANK($B41),\"\",LOOKUP($B41,Inscriptions!A$2:A$65496,Inscriptions!D$2:D$65498))","v":"VILLEPINTE MA"},null,31,1733,0,17,33,10.42,"km/h"]
[38,1650,{"$f":"IF(ISBLANK($B42),\"\",LOOKUP($B42,Inscriptions!A$2:A$65496,Inscriptions!B$2:B$65498))","v":"ESTEVES ELMA"},{"$f":"IF(ISBLANK($B42),\"\",LOOKUP($B42,Inscriptions!A$2:A$65496,Inscriptions!C$2:C$65498))","v":"CAF"},{"$f":"IF(ISBLANK($B42),\"\",LOOKUP($B42,Inscriptions!A$2:A$65496,Inscriptions!D$2:D$65498))","v":"TREMBLAY AC"},6,null,1742,0,17,42,10.33,"km/h"]
[39,1055,{"$f":"IF(ISBLANK($B43),\"\",LOOKUP($B43,Inscriptions!A$2:A$65496,Inscriptions!B$2:B$65498))","v":"CHIPAN WEDLEYNE"},{"$f":"IF(ISBLANK($B43),\"\",LOOKUP($B43,Inscriptions!A$2:A$65496,Inscriptions!C$2:C$65498))","v":"CAF"},{"$f":"IF(ISBLANK($B43),\"\",LOOKUP($B43,Inscriptions!A$2:A$65496,Inscriptions!D$2:D$65498))","v":"ES STAINS"},7,null,1750,0,17,50,10.26,"km/h"]
[40,1685,{"$f":"IF(ISBLANK($B44),\"\",LOOKUP($B44,Inscriptions!A$2:A$65496,Inscriptions!B$2:B$65498))","v":"KOUIDER AKIL NESRINE"},{"$f":"IF(ISBLANK($B44),\"\",LOOKUP($B44,Inscriptions!A$2:A$65496,Inscriptions!C$2:C$65498))","v":"CAF"},{"$f":"IF(ISBLANK($B44),\"\",LOOKUP($B44,Inscriptions!A$2:A$65496,Inscriptions!D$2:D$65498))","v":"TREMBLAY AC"},8,null,1757,0,17,57,10.19,"km/h"]
[41,440,{"$f":"IF(ISBLANK($B45),\"\",LOOKUP($B45,Inscriptions!A$2:A$65496,Inscriptions!B$2:B$65498))","v":"MARTINS LOGAN"},{"$f":"IF(ISBLANK($B45),\"\",LOOKUP($B45,Inscriptions!A$2:A$65496,Inscriptions!C$2:C$65498))","v":"MIM"},{"$f":"IF(ISBLANK($B45),\"\",LOOKUP($B45,Inscriptions!A$2:A$65496,Inscriptions!D$2:D$65498))","v":"ATHLE LE BOURGET DRANCY DUGNY"},null,32,1845,0,18,45,9.76,"km/h"]
[42,659,{"$f":"IF(ISBLANK($B46),\"\",LOOKUP($B46,Inscriptions!A$2:A$65496,Inscriptions!B$2:B$65498))","v":"RAJENDRABOSE SHAMENS"},{"$f":"IF(ISBLANK($B46),\"\",LOOKUP($B46,Inscriptions!A$2:A$65496,Inscriptions!C$2:C$65498))","v":"CAF"},{"$f":"IF(ISBLANK($B46),\"\",LOOKUP($B46,Inscriptions!A$2:A$65496,Inscriptions!D$2:D$65498))","v":"CM AUBERVILLIERS ATHLETISME"},9,null,1923,0,19,23,9.44,"km/h"]
[43,333,{"$f":"IF(ISBLANK($B47),\"\",LOOKUP($B47,Inscriptions!A$2:A$65496,Inscriptions!B$2:B$65498))","v":"VIGNAL PAUL"},{"$f":"IF(ISBLANK($B47),\"\",LOOKUP($B47,Inscriptions!A$2:A$65496,Inscriptions!C$2:C$65498))","v":"MIM"},{"$f":"IF(ISBLANK($B47),\"\",LOOKUP($B47,Inscriptions!A$2:A$65496,Inscriptions!D$2:D$65498))","v":"ASG BAGNOLET"},null,33,1956,0,19,56,9.18,"km/h"]
[44,1092,{"$f":"IF(ISBLANK($B48),\"\",LOOKUP($B48,Inscriptions!A$2:A$65496,Inscriptions!B$2:B$65498))","v":"JEAN LAGNAUSE"},{"$f":"IF(ISBLANK($B48),\"\",LOOKUP($B48,Inscriptions!A$2:A$65496,Inscriptions!C$2:C$65498))","v":"CAF"},{"$f":"IF(ISBLANK($B48),\"\",LOOKUP($B48,Inscriptions!A$2:A$65496,Inscriptions!D$2:D$65498))","v":"ES STAINS"},10,null,2037,0,20,37,8.8699999999999992,"km/h"]
[45,468,{"$f":"IF(ISBLANK($B49),\"\",LOOKUP($B49,Inscriptions!A$2:A$65496,Inscriptions!B$2:B$65498))","v":"TANRIVERDI EREN"},{"$f":"IF(ISBLANK($B49),\"\",LOOKUP($B49,Inscriptions!A$2:A$65496,Inscriptions!C$2:C$65498))","v":"MIM"},{"$f":"IF(ISBLANK($B49),\"\",LOOKUP($B49,Inscriptions!A$2:A$65496,Inscriptions!D$2:D$65498))","v":"ATHLE LE BOURGET DRANCY DUGNY"},null,34,2148,0,21,48,8.39,"km/h"]
[46,null,{"$f":"IF(ISBLANK($B50),\"\",LOOKUP($B50,Inscriptions!A$2:A$65496,Inscriptions!B$2:B$65498))","v":""},{"$f":"IF(ISBLANK($B50),\"\",LOOKUP($B50,Inscriptions!A$2:A$65496,Inscriptions!C$2:C$65498))","v":""},{"$f":"IF(ISBLANK($B50),\"\",LOOKUP($B50,Inscriptions!A$2:A$65496,Inscriptions!D$2:D$65498))","v":""},null,null,null,0,0,0,"",""]
[47,null,{"$f":"IF(ISBLANK($B51),\"\",LOOKUP($B51,Inscriptions!A$2:A$65496,Inscriptions!B$2:B$65498))","v":""},{"$f":"IF(ISBLANK($B51),\"\",LOOKUP($B51,Inscriptions!A$2:A$65496,Inscriptions!C$2:C$65498))","v":""},{"$f":"IF(ISBLANK($B51),\"\",LOOKUP($B51,Inscriptions!A$2:A$65496,Inscriptions!D$2:D$65498))","v":""},null,null,null,0,0,0,"",""]
[48,null,{"$f":"IF(ISBLANK($B52),\"\",LOOKUP($B52,Inscriptions!A$2:A$65496,Inscriptions!B$2:B$65498))","v":""},{"$f":"IF(ISBLANK($B52),\"\",LOOKUP($B52,Inscriptions!A$2:A$65496,Inscriptions!C$2:C$65498))","v":""},{"$f":"IF(ISBLANK($B52),\"\",LOOKUP($B52,Inscriptions!A$2:A$65496,Inscriptions!D$2:D$65498))","v":""},null,null,null,0,0,0,"",""]
[49,null,{"$f":"IF(ISBLANK($B53),\"\",LOOKUP($B53,Inscriptions!A$2:A$65496,Inscriptions!B$2:B$65498))","v":""},{"$f":"IF(ISBLANK($B53),\"\",LOOKUP($B53,Inscriptions!A$2:A$65496,Inscriptions!C$2:C$65498))","v":""},{"$f":"IF(ISBLANK($B53),\"\",LOOKUP($B53,Inscriptions!A$2:A$65496,Inscriptions!D$2:D$65498))","v":""},null,null,null,0,0,0,"",""]
[50,null,{"$f":"IF(ISBLANK($B54),\"\",LOOKUP($B54,Inscriptions!A$2:A$65496,Inscriptions!B$2:B$65498))","v":""},{"$f":"IF(ISBLANK($B54),\"\",LOOKUP($B54,Inscriptions!A$2:A$65496,Inscriptions!C$2:C$65498))","v":""},{"$f":"IF(ISBLANK($B54),\"\",LOOKUP($B54,Inscriptions!A$2:A$65496,Inscriptions!D$2:D$65498))","v":""},null,null,null,0,0,0,"",""]
[51,null,{"$f":"IF(ISBLANK($B55),\"\",LOOKUP($B55,Inscriptions!A$2:A$65496,Inscriptions!B$2:B$65498))","v":""},{"$f":"IF(ISBLANK($B55),\"\",LOOKUP($B55,Inscriptions!A$2:A$65496,Inscriptions!C$2:C$65498))","v":""},{"$f":"IF(ISBLANK($B55),\"\",LOOKUP($B55,Inscriptions!A$2:A$65496,Inscriptions!D$2:D$65498))","v":""},null,null,null,0,0,0,"",""]
[52,null,{"$f":"IF(ISBLANK($B56),\"\",LOOKUP($B56,Inscriptions!A$2:A$65496,Inscriptions!B$2:B$65498))","v":""},{"$f":"IF(ISBLANK($B56),\"\",LOOKUP($B56,Inscriptions!A$2:A$65496,Inscriptions!C$2:C$65498))","v":""},{"$f":"IF(ISBLANK($B56),\"\",LOOKUP($B56,Inscriptions!A$2:A$65496,Inscriptions!D$2:D$65498))","v":""},null,null,null,0,0,0,"",""]
[53,null,{"$f":"IF(ISBLANK($B57),\"\",LOOKUP($B57,Inscriptions!A$2:A$65496,Inscriptions!B$2:B$65498))","v":""},{"$f":"IF(ISBLANK($B57),\"\",LOOKUP($B57,Inscriptions!A$2:A$65496,Inscriptions!C$2:C$65498))","v":""},{"$f":"IF(ISBLANK($B57),\"\",LOOKUP($B57,Inscriptions!A$2:A$65496,Inscriptions!D$2:D$65498))","v":""},null,null,null,0,0,0,"",""]
[54,null,{"$f":"IF(ISBLANK($B58),\"\",LOOKUP($B58,Inscriptions!A$2:A$65496,Inscriptions!B$2:B$65498))","v":""},{"$f":"IF(ISBLANK($B58),\"\",LOOKUP($B58,Inscriptions!A$2:A$65496,Inscriptions!C$2:C$65498))","v":""},{"$f":"IF(ISBLANK($B58),\"\",LOOKUP($B58,Inscriptions!A$2:A$65496,Inscriptions!D$2:D$65498))","v":""},null,null,null,0,0,0,"",""]
[55,null,{"$f":"IF(ISBLANK($B59),\"\",LOOKUP($B59,Inscriptions!A$2:A$65496,Inscriptions!B$2:B$65498))","v":""},{"$f":"IF(ISBLANK($B59),\"\",LOOKUP($B59,Inscriptions!A$2:A$65496,Inscriptions!C$2:C$65498))","v":""},{"$f":"IF(ISBLANK($B59),\"\",LOOKUP($B59,Inscriptions!A$2:A$65496,Inscriptions!D$2:D$65498))","v":""},null,null,null,0,0,0,"",""]
[56,null,{"$f":"IF(ISBLANK($B60),\"\",LOOKUP($B60,Inscriptions!A$2:A$65496,Inscriptions!B$2:B$65498))","v":""},{"$f":"IF(ISBLANK($B60),\"\",LOOKUP($B60,Inscriptions!A$2:A$65496,Inscriptions!C$2:C$65498))","v":""},{"$f":"IF(ISBLANK($B60),\"\",LOOKUP($B60,Inscriptions!A$2:A$65496,Inscriptions!D$2:D$65498))","v":""},null,null,null,0,0,0,"",""]
[57,null,{"$f":"IF(ISBLANK($B61),\"\",LOOKUP($B61,Inscriptions!A$2:A$65496,Inscriptions!B$2:B$65498))","v":""},{"$f":"IF(ISBLANK($B61),\"\",LOOKUP($B61,Inscriptions!A$2:A$65496,Inscriptions!C$2:C$65498))","v":""},{"$f":"IF(ISBLANK($B61),\"\",LOOKUP($B61,Inscriptions!A$2:A$65496,Inscriptions!D$2:D$65498))","v":""},null,null,null,0,0,0,"",""]
[58,null,{"$f":"IF(ISBLANK($B62),\"\",LOOKUP($B62,Inscriptions!A$2:A$65496,Inscriptions!B$2:B$65498))","v":""},{"$f":"IF(ISBLANK($B62),\"\",LOOKUP($B62,Inscriptions!A$2:A$65496,Inscriptions!C$2:C$65498))","v":""},{"$f":"IF(ISBLANK($B62),\"\",LOOKUP($B62,Inscriptions!A$2:A$65496,Inscriptions!D$2:D$65498))","v":""},null,null,null,0,0,0,"",""]
[59,null,{"$f":"IF(ISBLANK($B63),\"\",LOOKUP($B63,Inscriptions!A$2:A$65496,Inscriptions!B$2:B$65498))","v":""},{"$f":"IF(ISBLANK($B63),\"\",LOOKUP($B63,Inscriptions!A$2:A$65496,Inscriptions!C$2:C$65498))","v":""},{"$f":"IF(ISBLANK($B63),\"\",LOOKUP($B63,Inscriptions!A$2:A$65496,Inscriptions!D$2:D$65498))","v":""},null,null,null,0,0,0,"",""]
[60,null,{"$f":"IF(ISBLANK($B64),\"\",LOOKUP($B64,Inscriptions!A$2:A$65496,Inscriptions!B$2:B$65498))","v":""},{"$f":"IF(ISBLANK($B64),\"\",LOOKUP($B64,Inscriptions!A$2:A$65496,Inscriptions!C$2:C$65498))","v":""},{"$f":"IF(ISBLANK($B64),\"\",LOOKUP($B64,Inscriptions!A$2:A$65496,Inscriptions!D$2:D$65498))","v":""},null,null,null,0,0,0,"",""]
[61,null,{"$f":"IF(ISBLANK($B65),\"\",LOOKUP($B65,Inscriptions!A$2:A$65496,Inscriptions!B$2:B$65498))","v":""},{"$f":"IF(ISBLANK($B65),\"\",LOOKUP($B65,Inscriptions!A$2:A$65496,Inscriptions!C$2:C$65498))","v":""},{"$f":"IF(ISBLANK($B65),\"\",LOOKUP($B65,Inscriptions!A$2:A$65496,Inscriptions!D$2:D$65498))","v":""},null,null,null,0,0,0,"",""]
[62,null,{"$f":"IF(ISBLANK($B66),\"\",LOOKUP($B66,Inscriptions!A$2:A$65496,Inscriptions!B$2:B$65498))","v":""},{"$f":"IF(ISBLANK($B66),\"\",LOOKUP($B66,Inscriptions!A$2:A$65496,Inscriptions!C$2:C$65498))","v":""},{"$f":"IF(ISBLANK($B66),\"\",LOOKUP($B66,Inscriptions!A$2:A$65496,Inscriptions!D$2:D$65498))","v":""},null,null,null,0,0,0,"",""]
[63,null,{"$f":"IF(ISBLANK($B67),\"\",LOOKUP($B67,Inscriptions!A$2:A$65496,Inscriptions!B$2:B$65498))","v":""},{"$f":"IF(ISBLANK($B67),\"\",LOOKUP($B67,Inscriptions!A$2:A$65496,Inscriptions!C$2:C$65498))","v":""},{"$f":"IF(ISBLANK($B67),\"\",LOOKUP($B67,Inscriptions!A$2:A$65496,Inscriptions!D$2:D$65498))","v":""},null,null,null,0,0,0,"",""]
[64,null,{"$f":"IF(ISBLANK($B68),\"\",LOOKUP($B68,Inscriptions!A$2:A$65496,Inscriptions!B$2:B$65498))","v":""},{"$f":"IF(ISBLANK($B68),\"\",LOOKUP($B68,Inscriptions!A$2:A$65496,Inscriptions!C$2:C$65498))","v":""},{"$f":"IF(ISBLANK($B68),\"\",LOOKUP($B68,Inscriptions!A$2:A$65496,Inscriptions!D$2:D$65498))","v":""},null,null,null,0,0,0,"",""]
[65,null,{"$f":"IF(ISBLANK($B69),\"\",LOOKUP($B69,Inscriptions!A$2:A$65496,Inscriptions!B$2:B$65498))","v":""},{"$f":"IF(ISBLANK($B69),\"\",LOOKUP($B69,Inscriptions!A$2:A$65496,Inscriptions!C$2:C$65498))","v":""},{"$f":"IF(ISBLANK($B69),\"\",LOOKUP($B69,Inscriptions!A$2:A$65496,Inscriptions!D$2:D$65498))","v":""},null,null,null,0,0,0,"",""]
[66,null,{"$f":"IF(ISBLANK($B70),\"\",LOOKUP($B70,Inscriptions!A$2:A$65496,Inscriptions!B$2:B$65498))","v":""},{"$f":"IF(ISBLANK($B70),\"\",LOOKUP($B70,Inscriptions!A$2:A$65496,Inscriptions!C$2:C$65498))","v":""},{"$f":"IF(ISBLANK($B70),\"\",LOOKUP($B70,Inscriptions!A$2:A$65496,Inscriptions!D$2:D$65498))","v":""},null,null,null,{"$f":"ROUNDDOWN(H70/10000,0)","v":0},{"$f":"ROUNDDOWN((H70-I70*10000)/100,0)","v":0},{"$f":"ROUNDDOWN((H70-(I70*10000)-(J70*100)),0)","v":0},{"$f":"IF((I70+J70+K70)=0,\"\",ROUNDDOWN((L$4/((I70*3600)+(J70*60)+K70))*3.6,2))","v":""},{"$f":"IF(L70=\"\",\"\",\"km/h\")","v":""}]
[67,null,{"$f":"IF(ISBLANK($B71),\"\",LOOKUP($B71,Inscriptions!A$2:A$65496,Inscriptions!B$2:B$65498))","v":""},{"$f":"IF(ISBLANK($B71),\"\",LOOKUP($B71,Inscriptions!A$2:A$65496,Inscriptions!C$2:C$65498))","v":""},{"$f":"IF(ISBLANK($B71),\"\",LOOKUP($B71,Inscriptions!A$2:A$65496,Inscriptions!D$2:D$65498))","v":""},null,null,null,0,0,0,"",""]
[68,null,{"$f":"IF(ISBLANK($B72),\"\",LOOKUP($B72,Inscriptions!A$2:A$65496,Inscriptions!B$2:B$65498))","v":""},{"$f":"IF(ISBLANK($B72),\"\",LOOKUP($B72,Inscriptions!A$2:A$65496,Inscriptions!C$2:C$65498))","v":""},{"$f":"IF(ISBLANK($B72),\"\",LOOKUP($B72,Inscriptions!A$2:A$65496,Inscriptions!D$2:D$65498))","v":""},null,null,null,0,0,0,"",""]
[69,null,{"$f":"IF(ISBLANK($B73),\"\",LOOKUP($B73,Inscriptions!A$2:A$65496,Inscriptions!B$2:B$65498))","v":""},{"$f":"IF(ISBLANK($B73),\"\",LOOKUP($B73,Inscriptions!A$2:A$65496,Inscriptions!C$2:C$65498))","v":""},{"$f":"IF(ISBLANK($B73),\"\",LOOKUP($B73,Inscriptions!A$2:A$65496,Inscriptions!D$2:D$65498))","v":""},null,null,null,0,0,0,"",""]
[70,null,{"$f":"IF(ISBLANK($B74),\"\",LOOKUP($B74,Inscriptions!A$2:A$65496,Inscriptions!B$2:B$65498))","v":""},{"$f":"IF(ISBLANK($B74),\"\",LOOKUP($B74,Inscriptions!A$2:A$65496,Inscriptions!C$2:C$65498))","v":""},{"$f":"IF(ISBLANK($B74),\"\",LOOKUP($B74,Inscriptions!A$2:A$65496,Inscriptions!D$2:D$65498))","v":""},null,null,null,0,0,0,"",""]
[71,null,{"$f":"IF(ISBLANK($B75),\"\",LOOKUP($B75,Inscriptions!A$2:A$65496,Inscriptions!B$2:B$65498))","v":""},{"$f":"IF(ISBLANK($B75),\"\",LOOKUP($B75,Inscriptions!A$2:A$65496,Inscriptions!C$2:C$65498))","v":""},{"$f":"IF(ISBLANK($B75),\"\",LOOKUP($B75,Inscriptions!A$2:A$65496,Inscriptions!D$2:D$65498))","v":""},null,null,null,0,0,0,"",""]
[72,null,{"$f":"IF(ISBLANK($B76),\"\",LOOKUP($B76,Inscriptions!A$2:A$65496,Inscriptions!B$2:B$65498))","v":""},{"$f":"IF(ISBLANK($B76),\"\",LOOKUP($B76,Inscriptions!A$2:A$65496,Inscriptions!C$2:C$65498))","v":""},{"$f":"IF(ISBLANK($B76),\"\",LOOKUP($B76,Inscriptions!A$2:A$65496,Inscriptions!D$2:D$65498))","v":""},null,null,null,0,0,0,"",""]
[73,null,{"$f":"IF(ISBLANK($B77),\"\",LOOKUP($B77,Inscriptions!A$2:A$65496,Inscriptions!B$2:B$65498))","v":""},{"$f":"IF(ISBLANK($B77),\"\",LOOKUP($B77,Inscriptions!A$2:A$65496,Inscriptions!C$2:C$65498))","v":""},{"$f":"IF(ISBLANK($B77),\"\",LOOKUP($B77,Inscriptions!A$2:A$65496,Inscriptions!D$2:D$65498))","v":""},null,null,null,0,0,0,"",""]
[74,null,{"$f":"IF(ISBLANK($B78),\"\",LOOKUP($B78,Inscriptions!A$2:A$65496,Inscriptions!B$2:B$65498))","v":""},{"$f":"IF(ISBLANK($B78),\"\",LOOKUP($B78,Inscriptions!A$2:A$65496,Inscriptions!C$2:C$65498))","v":""},{"$f":"IF(ISBLANK($B78),\"\",LOOKUP($B78,Inscriptions!A$2:A$65496,Inscriptions!D$2:D$65498))","v":""},null,null,null,0,0,0,"",""]
[75,null,{"$f":"IF(ISBLANK($B79),\"\",LOOKUP($B79,Inscriptions!A$2:A$65496,Inscriptions!B$2:B$65498))","v":""},{"$f":"IF(ISBLANK($B79),\"\",LOOKUP($B79,Inscriptions!A$2:A$65496,Inscriptions!C$2:C$65498))","v":""},{"$f":"IF(ISBLANK($B79),\"\",LOOKUP($B79,Inscriptions!A$2:A$65496,Inscriptions!D$2:D$65498))","v":""},null,null,null,0,0,0,"",""]
[76,null,{"$f":"IF(ISBLANK($B80),\"\",LOOKUP($B80,Inscriptions!A$2:A$65496,Inscriptions!B$2:B$65498))","v":""},{"$f":"IF(ISBLANK($B80),\"\",LOOKUP($B80,Inscriptions!A$2:A$65496,Inscriptions!C$2:C$65498))","v":""},{"$f":"IF(ISBLANK($B80),\"\",LOOKUP($B80,Inscriptions!A$2:A$65496,Inscriptions!D$2:D$65498))","v":""},null,null,null,0,0,0,"",""]
[77,null,{"$f":"IF(ISBLANK($B81),\"\",LOOKUP($B81,Inscriptions!A$2:A$65496,Inscriptions!B$2:B$65498))","v":""},{"$f":"IF(ISBLANK($B81),\"\",LOOKUP($B81,Inscriptions!A$2:A$65496,Inscriptions!C$2:C$65498))","v":""},{"$f":"IF(ISBLANK($B81),\"\",LOOKUP($B81,Inscriptions!A$2:A$65496,Inscriptions!D$2:D$65498))","v":""},null,null,null,0,0,0,"",""]
[78,null,{"$f":"IF(ISBLANK($B82),\"\",LOOKUP($B82,Inscriptions!A$2:A$65496,Inscriptions!B$2:B$65498))","v":""},{"$f":"IF(ISBLANK($B82),\"\",LOOKUP($B82,Inscriptions!A$2:A$65496,Inscriptions!C$2:C$65498))","v":""},{"$f":"IF(ISBLANK($B82),\"\",LOOKUP($B82,Inscriptions!A$2:A$65496,Inscriptions!D$2:D$65498))","v":""},null,null,null,0,0,0,"",""]
[79,null,{"$f":"IF(ISBLANK($B83),\"\",LOOKUP($B83,Inscriptions!A$2:A$65496,Inscriptions!B$2:B$65498))","v":""},{"$f":"IF(ISBLANK($B83),\"\",LOOKUP($B83,Inscriptions!A$2:A$65496,Inscriptions!C$2:C$65498))","v":""},{"$f":"IF(ISBLANK($B83),\"\",LOOKUP($B83,Inscriptions!A$2:A$65496,Inscriptions!D$2:D$65498))","v":""},null,null,null,0,0,0,"",""]
[80,null,{"$f":"IF(ISBLANK($B84),\"\",LOOKUP($B84,Inscriptions!A$2:A$65496,Inscriptions!B$2:B$65498))","v":""},{"$f":"IF(ISBLANK($B84),\"\",LOOKUP($B84,Inscriptions!A$2:A$65496,Inscriptions!C$2:C$65498))","v":""},{"$f":"IF(ISBLANK($B84),\"\",LOOKUP($B84,Inscriptions!A$2:A$65496,Inscriptions!D$2:D$65498))","v":""},null,null,null,0,0,0,"",""]
[81,null,{"$f":"IF(ISBLANK($B85),\"\",LOOKUP($B85,Inscriptions!A$2:A$65496,Inscriptions!B$2:B$65498))","v":""},{"$f":"IF(ISBLANK($B85),\"\",LOOKUP($B85,Inscriptions!A$2:A$65496,Inscriptions!C$2:C$65498))","v":""},{"$f":"IF(ISBLANK($B85),\"\",LOOKUP($B85,Inscriptions!A$2:A$65496,Inscriptions!D$2:D$65498))","v":""},null,null,null,0,0,0,"",""]
[82,null,{"$f":"IF(ISBLANK($B86),\"\",LOOKUP($B86,Inscriptions!A$2:A$65496,Inscriptions!B$2:B$65498))","v":""},{"$f":"IF(ISBLANK($B86),\"\",LOOKUP($B86,Inscriptions!A$2:A$65496,Inscriptions!C$2:C$65498))","v":""},{"$f":"IF(ISBLANK($B86),\"\",LOOKUP($B86,Inscriptions!A$2:A$65496,Inscriptions!D$2:D$65498))","v":""},null,null,null,0,0,0,"",""]
[83,null,{"$f":"IF(ISBLANK($B87),\"\",LOOKUP($B87,Inscriptions!A$2:A$65496,Inscriptions!B$2:B$65498))","v":""},{"$f":"IF(ISBLANK($B87),\"\",LOOKUP($B87,Inscriptions!A$2:A$65496,Inscriptions!C$2:C$65498))","v":""},{"$f":"IF(ISBLANK($B87),\"\",LOOKUP($B87,Inscriptions!A$2:A$65496,Inscriptions!D$2:D$65498))","v":""},null,null,null,0,0,0,"",""]
[84,null,{"$f":"IF(ISBLANK($B88),\"\",LOOKUP($B88,Inscriptions!A$2:A$65496,Inscriptions!B$2:B$65498))","v":""},{"$f":"IF(ISBLANK($B88),\"\",LOOKUP($B88,Inscriptions!A$2:A$65496,Inscriptions!C$2:C$65498))","v":""},{"$f":"IF(ISBLANK($B88),\"\",LOOKUP($B88,Inscriptions!A$2:A$65496,Inscriptions!D$2:D$65498))","v":""},null,null,null,0,0,0,"",""]
[85,null,{"$f":"IF(ISBLANK($B89),\"\",LOOKUP($B89,Inscriptions!A$2:A$65496,Inscriptions!B$2:B$65498))","v":""},{"$f":"IF(ISBLANK($B89),\"\",LOOKUP($B89,Inscriptions!A$2:A$65496,Inscriptions!C$2:C$65498))","v":""},{"$f":"IF(ISBLANK($B89),\"\",LOOKUP($B89,Inscriptions!A$2:A$65496,Inscriptions!D$2:D$65498))","v":""},null,null,null,0,0,0,"",""]
[86,null,{"$f":"IF(ISBLANK($B90),\"\",LOOKUP($B90,Inscriptions!A$2:A$65496,Inscriptions!B$2:B$65498))","v":""},{"$f":"IF(ISBLANK($B90),\"\",LOOKUP($B90,Inscriptions!A$2:A$65496,Inscriptions!C$2:C$65498))","v":""},{"$f":"IF(ISBLANK($B90),\"\",LOOKUP($B90,Inscriptions!A$2:A$65496,Inscriptions!D$2:D$65498))","v":""},null,null,null,0,0,0,"",""]
[87,null,{"$f":"IF(ISBLANK($B91),\"\",LOOKUP($B91,Inscriptions!A$2:A$65496,Inscriptions!B$2:B$65498))","v":""},{"$f":"IF(ISBLANK($B91),\"\",LOOKUP($B91,Inscriptions!A$2:A$65496,Inscriptions!C$2:C$65498))","v":""},{"$f":"IF(ISBLANK($B91),\"\",LOOKUP($B91,Inscriptions!A$2:A$65496,Inscriptions!D$2:D$65498))","v":""},null,null,null,0,0,0,"",""]
[88,null,{"$f":"IF(ISBLANK($B92),\"\",LOOKUP($B92,Inscriptions!A$2:A$65496,Inscriptions!B$2:B$65498))","v":""},{"$f":"IF(ISBLANK($B92),\"\",LOOKUP($B92,Inscriptions!A$2:A$65496,Inscriptions!C$2:C$65498))","v":""},{"$f":"IF(ISBLANK($B92),\"\",LOOKUP($B92,Inscriptions!A$2:A$65496,Inscriptions!D$2:D$65498))","v":""},null,null,null,0,0,0,"",""]
[89,null,{"$f":"IF(ISBLANK($B93),\"\",LOOKUP($B93,Inscriptions!A$2:A$65496,Inscriptions!B$2:B$65498))","v":""},{"$f":"IF(ISBLANK($B93),\"\",LOOKUP($B93,Inscriptions!A$2:A$65496,Inscriptions!C$2:C$65498))","v":""},{"$f":"IF(ISBLANK($B93),\"\",LOOKUP($B93,Inscriptions!A$2:A$65496,Inscriptions!D$2:D$65498))","v":""},null,null,null,0,0,0,"",""]
[90,null,{"$f":"IF(ISBLANK($B94),\"\",LOOKUP($B94,Inscriptions!A$2:A$65496,Inscriptions!B$2:B$65498))","v":""},{"$f":"IF(ISBLANK($B94),\"\",LOOKUP($B94,Inscriptions!A$2:A$65496,Inscriptions!C$2:C$65498))","v":""},{"$f":"IF(ISBLANK($B94),\"\",LOOKUP($B94,Inscriptions!A$2:A$65496,Inscriptions!D$2:D$65498))","v":""},null,null,null,0,0,0,"",""]
[91,null,{"$f":"IF(ISBLANK($B95),\"\",LOOKUP($B95,Inscriptions!A$2:A$65496,Inscriptions!B$2:B$65498))","v":""},{"$f":"IF(ISBLANK($B95),\"\",LOOKUP($B95,Inscriptions!A$2:A$65496,Inscriptions!C$2:C$65498))","v":""},{"$f":"IF(ISBLANK($B95),\"\",LOOKUP($B95,Inscriptions!A$2:A$65496,Inscriptions!D$2:D$65498))","v":""},null,null,null,0,0,0,"",""]
[92,null,{"$f":"IF(ISBLANK($B96),\"\",LOOKUP($B96,Inscriptions!A$2:A$65496,Inscriptions!B$2:B$65498))","v":""},{"$f":"IF(ISBLANK($B96),\"\",LOOKUP($B96,Inscriptions!A$2:A$65496,Inscriptions!C$2:C$65498))","v":""},{"$f":"IF(ISBLANK($B96),\"\",LOOKUP($B96,Inscriptions!A$2:A$65496,Inscriptions!D$2:D$65498))","v":""},null,null,null,0,0,0,"",""]
[93,null,{"$f":"IF(ISBLANK($B97),\"\",LOOKUP($B97,Inscriptions!A$2:A$65496,Inscriptions!B$2:B$65498))","v":""},{"$f":"IF(ISBLANK($B97),\"\",LOOKUP($B97,Inscriptions!A$2:A$65496,Inscriptions!C$2:C$65498))","v":""},{"$f":"IF(ISBLANK($B97),\"\",LOOKUP($B97,Inscriptions!A$2:A$65496,Inscriptions!D$2:D$65498))","v":""},null,null,null,0,0,0,"",""]
[94,null,{"$f":"IF(ISBLANK($B98),\"\",LOOKUP($B98,Inscriptions!A$2:A$65496,Inscriptions!B$2:B$65498))","v":""},{"$f":"IF(ISBLANK($B98),\"\",LOOKUP($B98,Inscriptions!A$2:A$65496,Inscriptions!C$2:C$65498))","v":""},{"$f":"IF(ISBLANK($B98),\"\",LOOKUP($B98,Inscriptions!A$2:A$65496,Inscriptions!D$2:D$65498))","v":""},null,null,null,0,0,0,"",""]
[95,null,{"$f":"IF(ISBLANK($B99),\"\",LOOKUP($B99,Inscriptions!A$2:A$65496,Inscriptions!B$2:B$65498))","v":""},{"$f":"IF(ISBLANK($B99),\"\",LOOKUP($B99,Inscriptions!A$2:A$65496,Inscriptions!C$2:C$65498))","v":""},{"$f":"IF(ISBLANK($B99),\"\",LOOKUP($B99,Inscriptions!A$2:A$65496,Inscriptions!D$2:D$65498))","v":""},null,null,null,0,0,0,"",""]
[96,null,{"$f":"IF(ISBLANK($B100),\"\",LOOKUP($B100,Inscriptions!A$2:A$65496,Inscriptions!B$2:B$65498))","v":""},{"$f":"IF(ISBLANK($B100),\"\",LOOKUP($B100,Inscriptions!A$2:A$65496,Inscriptions!C$2:C$65498))","v":""},{"$f":"IF(ISBLANK($B100),\"\",LOOKUP($B100,Inscriptions!A$2:A$65496,Inscriptions!D$2:D$65498))","v":""},null,null,null,0,0,0,"",""]
[97,null,{"$f":"IF(ISBLANK($B101),\"\",LOOKUP($B101,Inscriptions!A$2:A$65496,Inscriptions!B$2:B$65498))","v":""},{"$f":"IF(ISBLANK($B101),\"\",LOOKUP($B101,Inscriptions!A$2:A$65496,Inscriptions!C$2:C$65498))","v":""},{"$f":"IF(ISBLANK($B101),\"\",LOOKUP($B101,Inscriptions!A$2:A$65496,Inscriptions!D$2:D$65498))","v":""},null,null,null,0,0,0,"",""]
[98,null,{"$f":"IF(ISBLANK($B102),\"\",LOOKUP($B102,Inscriptions!A$2:A$65496,Inscriptions!B$2:B$65498))","v":""},{"$f":"IF(ISBLANK($B102),\"\",LOOKUP($B102,Inscriptions!A$2:A$65496,Inscriptions!C$2:C$65498))","v":""},{"$f":"IF(ISBLANK($B102),\"\",LOOKUP($B102,Inscriptions!A$2:A$65496,Inscriptions!D$2:D$65498))","v":""},null,null,null,0,0,0,"",""]
[99,null,{"$f":"IF(ISBLANK($B103),\"\",LOOKUP($B103,Inscriptions!A$2:A$65496,Inscriptions!B$2:B$65498))","v":""},{"$f":"IF(ISBLANK($B103),\"\",LOOKUP($B103,Inscriptions!A$2:A$65496,Inscriptions!C$2:C$65498))","v":""},{"$f":"IF(ISBLANK($B103),\"\",LOOKUP($B103,Inscriptions!A$2:A$65496,Inscriptions!D$2:D$65498))","v":""},null,null,null,0,0,0,"",""]
[100,null,{"$f":"IF(ISBLANK($B104),\"\",LOOKUP($B104,Inscriptions!A$2:A$65496,Inscriptions!B$2:B$65498))","v":""},{"$f":"IF(ISBLANK($B104),\"\",LOOKUP($B104,Inscriptions!A$2:A$65496,Inscriptions!C$2:C$65498))","v":""},{"$f":"IF(ISBLANK($B104),\"\",LOOKUP($B104,Inscriptions!A$2:A$65496,Inscriptions!D$2:D$65498))","v":""},null,null,null,0,0,0,"",""]
[101,null,{"$f":"IF(ISBLANK($B105),\"\",LOOKUP($B105,Inscriptions!A$2:A$65496,Inscriptions!B$2:B$65498))","v":""},{"$f":"IF(ISBLANK($B105),\"\",LOOKUP($B105,Inscriptions!A$2:A$65496,Inscriptions!C$2:C$65498))","v":""},{"$f":"IF(ISBLANK($B105),\"\",LOOKUP($B105,Inscriptions!A$2:A$65496,Inscriptions!D$2:D$65498))","v":""},null,null,null,0,0,0,"",""]
[102,null,{"$f":"IF(ISBLANK($B106),\"\",LOOKUP($B106,Inscriptions!A$2:A$65496,Inscriptions!B$2:B$65498))","v":""},{"$f":"IF(ISBLANK($B106),\"\",LOOKUP($B106,Inscriptions!A$2:A$65496,Inscriptions!C$2:C$65498))","v":""},{"$f":"IF(ISBLANK($B106),\"\",LOOKUP($B106,Inscriptions!A$2:A$65496,Inscriptions!D$2:D$65498))","v":""},null,null,null,0,0,0,"",""]
[103,null,{"$f":"IF(ISBLANK($B107),\"\",LOOKUP($B107,Inscriptions!A$2:A$65496,Inscriptions!B$2:B$65498))","v":""},{"$f":"IF(ISBLANK($B107),\"\",LOOKUP($B107,Inscriptions!A$2:A$65496,Inscriptions!C$2:C$65498))","v":""},{"$f":"IF(ISBLANK($B107),\"\",LOOKUP($B107,Inscriptions!A$2:A$65496,Inscriptions!D$2:D$65498))","v":""},null,null,null,0,0,0,"",""]
[104,null,{"$f":"IF(ISBLANK($B108),\"\",LOOKUP($B108,Inscriptions!A$2:A$65496,Inscriptions!B$2:B$65498))","v":""},{"$f":"IF(ISBLANK($B108),\"\",LOOKUP($B108,Inscriptions!A$2:A$65496,Inscriptions!C$2:C$65498))","v":""},{"$f":"IF(ISBLANK($B108),\"\",LOOKUP($B108,Inscriptions!A$2:A$65496,Inscriptions!D$2:D$65498))","v":""},null,null,null,0,0,0,"",""]
[105,null,{"$f":"IF(ISBLANK($B109),\"\",LOOKUP($B109,Inscriptions!A$2:A$65496,Inscriptions!B$2:B$65498))","v":""},{"$f":"IF(ISBLANK($B109),\"\",LOOKUP($B109,Inscriptions!A$2:A$65496,Inscriptions!C$2:C$65498))","v":""},{"$f":"IF(ISBLANK($B109),\"\",LOOKUP($B109,Inscriptions!A$2:A$65496,Inscriptions!D$2:D$65498))","v":""},null,null,null,0,0,0,"",""]
[106,null,{"$f":"IF(ISBLANK($B110),\"\",LOOKUP($B110,Inscriptions!A$2:A$65496,Inscriptions!B$2:B$65498))","v":""},{"$f":"IF(ISBLANK($B110),\"\",LOOKUP($B110,Inscriptions!A$2:A$65496,Inscriptions!C$2:C$65498))","v":""},{"$f":"IF(ISBLANK($B110),\"\",LOOKUP($B110,Inscriptions!A$2:A$65496,Inscriptions!D$2:D$65498))","v":""},null,null,null,0,0,0,"",""]
[107,null,{"$f":"IF(ISBLANK($B111),\"\",LOOKUP($B111,Inscriptions!A$2:A$65496,Inscriptions!B$2:B$65498))","v":""},{"$f":"IF(ISBLANK($B111),\"\",LOOKUP($B111,Inscriptions!A$2:A$65496,Inscriptions!C$2:C$65498))","v":""},{"$f":"IF(ISBLANK($B111),\"\",LOOKUP($B111,Inscriptions!A$2:A$65496,Inscriptions!D$2:D$65498))","v":""},null,null,null,0,0,0,"",""]
[108,null,{"$f":"IF(ISBLANK($B112),\"\",LOOKUP($B112,Inscriptions!A$2:A$65496,Inscriptions!B$2:B$65498))","v":""},{"$f":"IF(ISBLANK($B112),\"\",LOOKUP($B112,Inscriptions!A$2:A$65496,Inscriptions!C$2:C$65498))","v":""},{"$f":"IF(ISBLANK($B112),\"\",LOOKUP($B112,Inscriptions!A$2:A$65496,Inscriptions!D$2:D$65498))","v":""},null,null,null,0,0,0,"",""]
[109,null,{"$f":"IF(ISBLANK($B113),\"\",LOOKUP($B113,Inscriptions!A$2:A$65496,Inscriptions!B$2:B$65498))","v":""},{"$f":"IF(ISBLANK($B113),\"\",LOOKUP($B113,Inscriptions!A$2:A$65496,Inscriptions!C$2:C$65498))","v":""},{"$f":"IF(ISBLANK($B113),\"\",LOOKUP($B113,Inscriptions!A$2:A$65496,Inscriptions!D$2:D$65498))","v":""},null,null,null,0,0,0,"",""]
[110,null,{"$f":"IF(ISBLANK($B114),\"\",LOOKUP($B114,Inscriptions!A$2:A$65496,Inscriptions!B$2:B$65498))","v":""},{"$f":"IF(ISBLANK($B114),\"\",LOOKUP($B114,Inscriptions!A$2:A$65496,Inscriptions!C$2:C$65498))","v":""},{"$f":"IF(ISBLANK($B114),\"\",LOOKUP($B114,Inscriptions!A$2:A$65496,Inscriptions!D$2:D$65498))","v":""},null,null,null,0,0,0,"",""]
[111,null,{"$f":"IF(ISBLANK($B115),\"\",LOOKUP($B115,Inscriptions!A$2:A$65496,Inscriptions!B$2:B$65498))","v":""},{"$f":"IF(ISBLANK($B115),\"\",LOOKUP($B115,Inscriptions!A$2:A$65496,Inscriptions!C$2:C$65498))","v":""},{"$f":"IF(ISBLANK($B115),\"\",LOOKUP($B115,Inscriptions!A$2:A$65496,Inscriptions!D$2:D$65498))","v":""},null,null,null,0,0,0,"",""]
[112,null,{"$f":"IF(ISBLANK($B116),\"\",LOOKUP($B116,Inscriptions!A$2:A$65496,Inscriptions!B$2:B$65498))","v":""},{"$f":"IF(ISBLANK($B116),\"\",LOOKUP($B116,Inscriptions!A$2:A$65496,Inscriptions!C$2:C$65498))","v":""},{"$f":"IF(ISBLANK($B116),\"\",LOOKUP($B116,Inscriptions!A$2:A$65496,Inscriptions!D$2:D$65498))","v":""},null,null,null,0,0,0,"",""]
[113,null,{"$f":"IF(ISBLANK($B117),\"\",LOOKUP($B117,Inscriptions!A$2:A$65496,Inscriptions!B$2:B$65498))","v":""},{"$f":"IF(ISBLANK($B117),\"\",LOOKUP($B117,Inscriptions!A$2:A$65496,Inscriptions!C$2:C$65498))","v":""},{"$f":"IF(ISBLANK($B117),\"\",LOOKUP($B117,Inscriptions!A$2:A$65496,Inscriptions!D$2:D$65498))","v":""},null,null,null,0,0,0,"",""]
[114,null,{"$f":"IF(ISBLANK($B118),\"\",LOOKUP($B118,Inscriptions!A$2:A$65496,Inscriptions!B$2:B$65498))","v":""},{"$f":"IF(ISBLANK($B118),\"\",LOOKUP($B118,Inscriptions!A$2:A$65496,Inscriptions!C$2:C$65498))","v":""},{"$f":"IF(ISBLANK($B118),\"\",LOOKUP($B118,Inscriptions!A$2:A$65496,Inscriptions!D$2:D$65498))","v":""},null,null,null,0,0,0,"",""]
[115,null,{"$f":"IF(ISBLANK($B119),\"\",LOOKUP($B119,Inscriptions!A$2:A$65496,Inscriptions!B$2:B$65498))","v":""},{"$f":"IF(ISBLANK($B119),\"\",LOOKUP($B119,Inscriptions!A$2:A$65496,Inscriptions!C$2:C$65498))","v":""},{"$f":"IF(ISBLANK($B119),\"\",LOOKUP($B119,Inscriptions!A$2:A$65496,Inscriptions!D$2:D$65498))","v":""},null,null,null,0,0,0,"",""]
[116,null,{"$f":"IF(ISBLANK($B120),\"\",LOOKUP($B120,Inscriptions!A$2:A$65496,Inscriptions!B$2:B$65498))","v":""},{"$f":"IF(ISBLANK($B120),\"\",LOOKUP($B120,Inscriptions!A$2:A$65496,Inscriptions!C$2:C$65498))","v":""},{"$f":"IF(ISBLANK($B120),\"\",LOOKUP($B120,Inscriptions!A$2:A$65496,Inscriptions!D$2:D$65498))","v":""},null,null,null,0,0,0,"",""]
[117,null,{"$f":"IF(ISBLANK($B121),\"\",LOOKUP($B121,Inscriptions!A$2:A$65496,Inscriptions!B$2:B$65498))","v":""},{"$f":"IF(ISBLANK($B121),\"\",LOOKUP($B121,Inscriptions!A$2:A$65496,Inscriptions!C$2:C$65498))","v":""},{"$f":"IF(ISBLANK($B121),\"\",LOOKUP($B121,Inscriptions!A$2:A$65496,Inscriptions!D$2:D$65498))","v":""},null,null,null,0,0,0,"",""]
[118,null,{"$f":"IF(ISBLANK($B122),\"\",LOOKUP($B122,Inscriptions!A$2:A$65496,Inscriptions!B$2:B$65498))","v":""},{"$f":"IF(ISBLANK($B122),\"\",LOOKUP($B122,Inscriptions!A$2:A$65496,Inscriptions!C$2:C$65498))","v":""},{"$f":"IF(ISBLANK($B122),\"\",LOOKUP($B122,Inscriptions!A$2:A$65496,Inscriptions!D$2:D$65498))","v":""},null,null,null,0,0,0,"",""]
[119,null,{"$f":"IF(ISBLANK($B123),\"\",LOOKUP($B123,Inscriptions!A$2:A$65496,Inscriptions!B$2:B$65498))","v":""},{"$f":"IF(ISBLANK($B123),\"\",LOOKUP($B123,Inscriptions!A$2:A$65496,Inscriptions!C$2:C$65498))","v":""},{"$f":"IF(ISBLANK($B123),\"\",LOOKUP($B123,Inscriptions!A$2:A$65496,Inscriptions!D$2:D$65498))","v":""},null,null,null,0,0,0,"",""]
[120,null,{"$f":"IF(ISBLANK($B124),\"\",LOOKUP($B124,Inscriptions!A$2:A$65496,Inscriptions!B$2:B$65498))","v":""},{"$f":"IF(ISBLANK($B124),\"\",LOOKUP($B124,Inscriptions!A$2:A$65496,Inscriptions!C$2:C$65498))","v":""},{"$f":"IF(ISBLANK($B124),\"\",LOOKUP($B124,Inscriptions!A$2:A$65496,Inscriptions!D$2:D$65498))","v":""},null,null,null,0,0,0,"",""]
[121,null,{"$f":"IF(ISBLANK($B125),\"\",LOOKUP($B125,Inscriptions!A$2:A$65496,Inscriptions!B$2:B$65498))","v":""},{"$f":"IF(ISBLANK($B125),\"\",LOOKUP($B125,Inscriptions!A$2:A$65496,Inscriptions!C$2:C$65498))","v":""},{"$f":"IF(ISBLANK($B125),\"\",LOOKUP($B125,Inscriptions!A$2:A$65496,Inscriptions!D$2:D$65498))","v":""},null,null,null,0,0,0,"",""]
[122,null,{"$f":"IF(ISBLANK($B126),\"\",LOOKUP($B126,Inscriptions!A$2:A$65496,Inscriptions!B$2:B$65498))","v":""},{"$f":"IF(ISBLANK($B126),\"\",LOOKUP($B126,Inscriptions!A$2:A$65496,Inscriptions!C$2:C$65498))","v":""},{"$f":"IF(ISBLANK($B126),\"\",LOOKUP($B126,Inscriptions!A$2:A$65496,Inscriptions!D$2:D$65498))","v":""},null,null,null,0,0,0,"",""]
[123,null,{"$f":"IF(ISBLANK($B127),\"\",LOOKUP($B127,Inscriptions!A$2:A$65496,Inscriptions!B$2:B$65498))","v":""},{"$f":"IF(ISBLANK($B127),\"\",LOOKUP($B127,Inscriptions!A$2:A$65496,Inscriptions!C$2:C$65498))","v":""},{"$f":"IF(ISBLANK($B127),\"\",LOOKUP($B127,Inscriptions!A$2:A$65496,Inscriptions!D$2:D$65498))","v":""},null,null,null,0,0,0,"",""]
[124,null,{"$f":"IF(ISBLANK($B128),\"\",LOOKUP($B128,Inscriptions!A$2:A$65496,Inscriptions!B$2:B$65498))","v":""},{"$f":"IF(ISBLANK($B128),\"\",LOOKUP($B128,Inscriptions!A$2:A$65496,Inscriptions!C$2:C$65498))","v":""},{"$f":"IF(ISBLANK($B128),\"\",LOOKUP($B128,Inscriptions!A$2:A$65496,Inscriptions!D$2:D$65498))","v":""},null,null,null,0,0,0,"",""]
[125,null,{"$f":"IF(ISBLANK($B129),\"\",LOOKUP($B129,Inscriptions!A$2:A$65496,Inscriptions!B$2:B$65498))","v":""},{"$f":"IF(ISBLANK($B129),\"\",LOOKUP($B129,Inscriptions!A$2:A$65496,Inscriptions!C$2:C$65498))","v":""},{"$f":"IF(ISBLANK($B129),\"\",LOOKUP($B129,Inscriptions!A$2:A$65496,Inscriptions!D$2:D$65498))","v":""},null,null,null,0,0,0,"",""]
[126,null,{"$f":"IF(ISBLANK($B130),\"\",LOOKUP($B130,Inscriptions!A$2:A$65496,Inscriptions!B$2:B$65498))","v":""},{"$f":"IF(ISBLANK($B130),\"\",LOOKUP($B130,Inscriptions!A$2:A$65496,Inscriptions!C$2:C$65498))","v":""},{"$f":"IF(ISBLANK($B130),\"\",LOOKUP($B130,Inscriptions!A$2:A$65496,Inscriptions!D$2:D$65498))","v":""},null,null,null,0,0,0,"",""]
[127,null,{"$f":"IF(ISBLANK($B131),\"\",LOOKUP($B131,Inscriptions!A$2:A$65496,Inscriptions!B$2:B$65498))","v":""},{"$f":"IF(ISBLANK($B131),\"\",LOOKUP($B131,Inscriptions!A$2:A$65496,Inscriptions!C$2:C$65498))","v":""},{"$f":"IF(ISBLANK($B131),\"\",LOOKUP($B131,Inscriptions!A$2:A$65496,Inscriptions!D$2:D$65498))","v":""},null,null,null,0,0,0,"",""]
[128,null,{"$f":"IF(ISBLANK($B132),\"\",LOOKUP($B132,Inscriptions!A$2:A$65496,Inscriptions!B$2:B$65498))","v":""},{"$f":"IF(ISBLANK($B132),\"\",LOOKUP($B132,Inscriptions!A$2:A$65496,Inscriptions!C$2:C$65498))","v":""},{"$f":"IF(ISBLANK($B132),\"\",LOOKUP($B132,Inscriptions!A$2:A$65496,Inscriptions!D$2:D$65498))","v":""},null,null,null,0,0,0,"",""]
[129,null,{"$f":"IF(ISBLANK($B133),\"\",LOOKUP($B133,Inscriptions!A$2:A$65496,Inscriptions!B$2:B$65498))","v":""},{"$f":"IF(ISBLANK($B133),\"\",LOOKUP($B133,Inscriptions!A$2:A$65496,Inscriptions!C$2:C$65498))","v":""},{"$f":"IF(ISBLANK($B133),\"\",LOOKUP($B133,Inscriptions!A$2:A$65496,Inscriptions!D$2:D$65498))","v":""},null,null,null,0,0,0,"",""]
[130,null,{"$f":"IF(ISBLANK($B134),\"\",LOOKUP($B134,Inscriptions!A$2:A$65496,Inscriptions!B$2:B$65498))","v":""},{"$f":"IF(ISBLANK($B134),\"\",LOOKUP($B134,Inscriptions!A$2:A$65496,Inscriptions!C$2:C$65498))","v":""},{"$f":"IF(ISBLANK($B134),\"\",LOOKUP($B134,Inscriptions!A$2:A$65496,Inscriptions!D$2:D$65498))","v":""},null,null,null,{"$f":"ROUNDDOWN(H134/10000,0)","v":0},{"$f":"ROUNDDOWN((H134-I134*10000)/100,0)","v":0},{"$f":"ROUNDDOWN((H134-(I134*10000)-(J134*100)),0)","v":0},{"$f":"IF((I134+J134+K134)=0,\"\",ROUNDDOWN((L$4/((I134*3600)+(J134*60)+K134))*3.6,2))","v":""},{"$f":"IF(L134=\"\",\"\",\"km/h\")","v":""}]
[131,null,{"$f":"IF(ISBLANK($B135),\"\",LOOKUP($B135,Inscriptions!A$2:A$65496,Inscriptions!B$2:B$65498))","v":""},{"$f":"IF(ISBLANK($B135),\"\",LOOKUP($B135,Inscriptions!A$2:A$65496,Inscriptions!C$2:C$65498))","v":""},{"$f":"IF(ISBLANK($B135),\"\",LOOKUP($B135,Inscriptions!A$2:A$65496,Inscriptions!D$2:D$65498))","v":""},null,null,null,0,0,0,"",""]
[132,null,{"$f":"IF(ISBLANK($B136),\"\",LOOKUP($B136,Inscriptions!A$2:A$65496,Inscriptions!B$2:B$65498))","v":""},{"$f":"IF(ISBLANK($B136),\"\",LOOKUP($B136,Inscriptions!A$2:A$65496,Inscriptions!C$2:C$65498))","v":""},{"$f":"IF(ISBLANK($B136),\"\",LOOKUP($B136,Inscriptions!A$2:A$65496,Inscriptions!D$2:D$65498))","v":""},null,null,null,0,0,0,"",""]
[133,null,{"$f":"IF(ISBLANK($B137),\"\",LOOKUP($B137,Inscriptions!A$2:A$65496,Inscriptions!B$2:B$65498))","v":""},{"$f":"IF(ISBLANK($B137),\"\",LOOKUP($B137,Inscriptions!A$2:A$65496,Inscriptions!C$2:C$65498))","v":""},{"$f":"IF(ISBLANK($B137),\"\",LOOKUP($B137,Inscriptions!A$2:A$65496,Inscriptions!D$2:D$65498))","v":""},null,null,null,0,0,0,"",""]
[134,null,{"$f":"IF(ISBLANK($B138),\"\",LOOKUP($B138,Inscriptions!A$2:A$65496,Inscriptions!B$2:B$65498))","v":""},{"$f":"IF(ISBLANK($B138),\"\",LOOKUP($B138,Inscriptions!A$2:A$65496,Inscriptions!C$2:C$65498))","v":""},{"$f":"IF(ISBLANK($B138),\"\",LOOKUP($B138,Inscriptions!A$2:A$65496,Inscriptions!D$2:D$65498))","v":""},null,null,null,0,0,0,"",""]
[135,null,{"$f":"IF(ISBLANK($B139),\"\",LOOKUP($B139,Inscriptions!A$2:A$65496,Inscriptions!B$2:B$65498))","v":""},{"$f":"IF(ISBLANK($B139),\"\",LOOKUP($B139,Inscriptions!A$2:A$65496,Inscriptions!C$2:C$65498))","v":""},{"$f":"IF(ISBLANK($B139),\"\",LOOKUP($B139,Inscriptions!A$2:A$65496,Inscriptions!D$2:D$65498))","v":""},null,null,null,0,0,0,"",""]
[136,null,{"$f":"IF(ISBLANK($B140),\"\",LOOKUP($B140,Inscriptions!A$2:A$65496,Inscriptions!B$2:B$65498))","v":""},{"$f":"IF(ISBLANK($B140),\"\",LOOKUP($B140,Inscriptions!A$2:A$65496,Inscriptions!C$2:C$65498))","v":""},{"$f":"IF(ISBLANK($B140),\"\",LOOKUP($B140,Inscriptions!A$2:A$65496,Inscriptions!D$2:D$65498))","v":""},null,null,null,0,0,0,"",""]
[137,null,{"$f":"IF(ISBLANK($B141),\"\",LOOKUP($B141,Inscriptions!A$2:A$65496,Inscriptions!B$2:B$65498))","v":""},{"$f":"IF(ISBLANK($B141),\"\",LOOKUP($B141,Inscriptions!A$2:A$65496,Inscriptions!C$2:C$65498))","v":""},{"$f":"IF(ISBLANK($B141),\"\",LOOKUP($B141,Inscriptions!A$2:A$65496,Inscriptions!D$2:D$65498))","v":""},null,null,null,0,0,0,"",""]
[138,null,{"$f":"IF(ISBLANK($B142),\"\",LOOKUP($B142,Inscriptions!A$2:A$65496,Inscriptions!B$2:B$65498))","v":""},{"$f":"IF(ISBLANK($B142),\"\",LOOKUP($B142,Inscriptions!A$2:A$65496,Inscriptions!C$2:C$65498))","v":""},{"$f":"IF(ISBLANK($B142),\"\",LOOKUP($B142,Inscriptions!A$2:A$65496,Inscriptions!D$2:D$65498))","v":""},null,null,null,0,0,0,"",""]
[139,null,{"$f":"IF(ISBLANK($B143),\"\",LOOKUP($B143,Inscriptions!A$2:A$65496,Inscriptions!B$2:B$65498))","v":""},{"$f":"IF(ISBLANK($B143),\"\",LOOKUP($B143,Inscriptions!A$2:A$65496,Inscriptions!C$2:C$65498))","v":""},{"$f":"IF(ISBLANK($B143),\"\",LOOKUP($B143,Inscriptions!A$2:A$65496,Inscriptions!D$2:D$65498))","v":""},null,null,null,0,0,0,"",""]
[140,null,{"$f":"IF(ISBLANK($B144),\"\",LOOKUP($B144,Inscriptions!A$2:A$65496,Inscriptions!B$2:B$65498))","v":""},{"$f":"IF(ISBLANK($B144),\"\",LOOKUP($B144,Inscriptions!A$2:A$65496,Inscriptions!C$2:C$65498))","v":""},{"$f":"IF(ISBLANK($B144),\"\",LOOKUP($B144,Inscriptions!A$2:A$65496,Inscriptions!D$2:D$65498))","v":""},null,null,null,0,0,0,"",""]
[141,null,{"$f":"IF(ISBLANK($B145),\"\",LOOKUP($B145,Inscriptions!A$2:A$65496,Inscriptions!B$2:B$65498))","v":""},{"$f":"IF(ISBLANK($B145),\"\",LOOKUP($B145,Inscriptions!A$2:A$65496,Inscriptions!C$2:C$65498))","v":""},{"$f":"IF(ISBLANK($B145),\"\",LOOKUP($B145,Inscriptions!A$2:A$65496,Inscriptions!D$2:D$65498))","v":""},null,null,null,0,0,0,"",""]
[142,null,{"$f":"IF(ISBLANK($B146),\"\",LOOKUP($B146,Inscriptions!A$2:A$65496,Inscriptions!B$2:B$65498))","v":""},{"$f":"IF(ISBLANK($B146),\"\",LOOKUP($B146,Inscriptions!A$2:A$65496,Inscriptions!C$2:C$65498))","v":""},{"$f":"IF(ISBLANK($B146),\"\",LOOKUP($B146,Inscriptions!A$2:A$65496,Inscriptions!D$2:D$65498))","v":""},null,null,null,0,0,0,"",""]
[143,null,{"$f":"IF(ISBLANK($B147),\"\",LOOKUP($B147,Inscriptions!A$2:A$65496,Inscriptions!B$2:B$65498))","v":""},{"$f":"IF(ISBLANK($B147),\"\",LOOKUP($B147,Inscriptions!A$2:A$65496,Inscriptions!C$2:C$65498))","v":""},{"$f":"IF(ISBLANK($B147),\"\",LOOKUP($B147,Inscriptions!A$2:A$65496,Inscriptions!D$2:D$65498))","v":""},null,null,null,0,0,0,"",""]
[144,null,{"$f":"IF(ISBLANK($B148),\"\",LOOKUP($B148,Inscriptions!A$2:A$65496,Inscriptions!B$2:B$65498))","v":""},{"$f":"IF(ISBLANK($B148),\"\",LOOKUP($B148,Inscriptions!A$2:A$65496,Inscriptions!C$2:C$65498))","v":""},{"$f":"IF(ISBLANK($B148),\"\",LOOKUP($B148,Inscriptions!A$2:A$65496,Inscriptions!D$2:D$65498))","v":""},null,null,null,0,0,0,"",""]
[145,null,{"$f":"IF(ISBLANK($B149),\"\",LOOKUP($B149,Inscriptions!A$2:A$65496,Inscriptions!B$2:B$65498))","v":""},{"$f":"IF(ISBLANK($B149),\"\",LOOKUP($B149,Inscriptions!A$2:A$65496,Inscriptions!C$2:C$65498))","v":""},{"$f":"IF(ISBLANK($B149),\"\",LOOKUP($B149,Inscriptions!A$2:A$65496,Inscriptions!D$2:D$65498))","v":""},null,null,null,0,0,0,"",""]
[146,null,{"$f":"IF(ISBLANK($B150),\"\",LOOKUP($B150,Inscriptions!A$2:A$65496,Inscriptions!B$2:B$65498))","v":""},{"$f":"IF(ISBLANK($B150),\"\",LOOKUP($B150,Inscriptions!A$2:A$65496,Inscriptions!C$2:C$65498))","v":""},{"$f":"IF(ISBLANK($B150),\"\",LOOKUP($B150,Inscriptions!A$2:A$65496,Inscriptions!D$2:D$65498))","v":""},null,null,null,0,0,0,"",""]
[147,null,{"$f":"IF(ISBLANK($B151),\"\",LOOKUP($B151,Inscriptions!A$2:A$65496,Inscriptions!B$2:B$65498))","v":""},{"$f":"IF(ISBLANK($B151),\"\",LOOKUP($B151,Inscriptions!A$2:A$65496,Inscriptions!C$2:C$65498))","v":""},{"$f":"IF(ISBLANK($B151),\"\",LOOKUP($B151,Inscriptions!A$2:A$65496,Inscriptions!D$2:D$65498))","v":""},null,null,null,0,0,0,"",""]
[148,null,{"$f":"IF(ISBLANK($B152),\"\",LOOKUP($B152,Inscriptions!A$2:A$65496,Inscriptions!B$2:B$65498))","v":""},{"$f":"IF(ISBLANK($B152),\"\",LOOKUP($B152,Inscriptions!A$2:A$65496,Inscriptions!C$2:C$65498))","v":""},{"$f":"IF(ISBLANK($B152),\"\",LOOKUP($B152,Inscriptions!A$2:A$65496,Inscriptions!D$2:D$65498))","v":""},null,null,null,0,0,0,"",""]
[149,null,{"$f":"IF(ISBLANK($B153),\"\",LOOKUP($B153,Inscriptions!A$2:A$65496,Inscriptions!B$2:B$65498))","v":""},{"$f":"IF(ISBLANK($B153),\"\",LOOKUP($B153,Inscriptions!A$2:A$65496,Inscriptions!C$2:C$65498))","v":""},{"$f":"IF(ISBLANK($B153),\"\",LOOKUP($B153,Inscriptions!A$2:A$65496,Inscriptions!D$2:D$65498))","v":""},null,null,null,0,0,0,"",""]
[150,null,{"$f":"IF(ISBLANK($B154),\"\",LOOKUP($B154,Inscriptions!A$2:A$65496,Inscriptions!B$2:B$65498))","v":""},{"$f":"IF(ISBLANK($B154),\"\",LOOKUP($B154,Inscriptions!A$2:A$65496,Inscriptions!C$2:C$65498))","v":""},{"$f":"IF(ISBLANK($B154),\"\",LOOKUP($B154,Inscriptions!A$2:A$65496,Inscriptions!D$2:D$65498))","v":""},null,null,null,0,0,0,"",""]
[151,null,{"$f":"IF(ISBLANK($B155),\"\",LOOKUP($B155,Inscriptions!A$2:A$65496,Inscriptions!B$2:B$65498))","v":""},{"$f":"IF(ISBLANK($B155),\"\",LOOKUP($B155,Inscriptions!A$2:A$65496,Inscriptions!C$2:C$65498))","v":""},{"$f":"IF(ISBLANK($B155),\"\",LOOKUP($B155,Inscriptions!A$2:A$65496,Inscriptions!D$2:D$65498))","v":""},null,null,null,0,0,0,"",""]
[152,null,{"$f":"IF(ISBLANK($B156),\"\",LOOKUP($B156,Inscriptions!A$2:A$65496,Inscriptions!B$2:B$65498))","v":""},{"$f":"IF(ISBLANK($B156),\"\",LOOKUP($B156,Inscriptions!A$2:A$65496,Inscriptions!C$2:C$65498))","v":""},{"$f":"IF(ISBLANK($B156),\"\",LOOKUP($B156,Inscriptions!A$2:A$65496,Inscriptions!D$2:D$65498))","v":""},null,null,null,0,0,0,"",""]
[153,null,{"$f":"IF(ISBLANK($B157),\"\",LOOKUP($B157,Inscriptions!A$2:A$65496,Inscriptions!B$2:B$65498))","v":""},{"$f":"IF(ISBLANK($B157),\"\",LOOKUP($B157,Inscriptions!A$2:A$65496,Inscriptions!C$2:C$65498))","v":""},{"$f":"IF(ISBLANK($B157),\"\",LOOKUP($B157,Inscriptions!A$2:A$65496,Inscriptions!D$2:D$65498))","v":""},null,null,null,0,0,0,"",""]
[154,null,{"$f":"IF(ISBLANK($B158),\"\",LOOKUP($B158,Inscriptions!A$2:A$65496,Inscriptions!B$2:B$65498))","v":""},{"$f":"IF(ISBLANK($B158),\"\",LOOKUP($B158,Inscriptions!A$2:A$65496,Inscriptions!C$2:C$65498))","v":""},{"$f":"IF(ISBLANK($B158),\"\",LOOKUP($B158,Inscriptions!A$2:A$65496,Inscriptions!D$2:D$65498))","v":""},null,null,null,0,0,0,"",""]
[155,null,{"$f":"IF(ISBLANK($B159),\"\",LOOKUP($B159,Inscriptions!A$2:A$65496,Inscriptions!B$2:B$65498))","v":""},{"$f":"IF(ISBLANK($B159),\"\",LOOKUP($B159,Inscriptions!A$2:A$65496,Inscriptions!C$2:C$65498))","v":""},{"$f":"IF(ISBLANK($B159),\"\",LOOKUP($B159,Inscriptions!A$2:A$65496,Inscriptions!D$2:D$65498))","v":""},null,null,null,0,0,0,"",""]
[156,null,{"$f":"IF(ISBLANK($B160),\"\",LOOKUP($B160,Inscriptions!A$2:A$65496,Inscriptions!B$2:B$65498))","v":""},{"$f":"IF(ISBLANK($B160),\"\",LOOKUP($B160,Inscriptions!A$2:A$65496,Inscriptions!C$2:C$65498))","v":""},{"$f":"IF(ISBLANK($B160),\"\",LOOKUP($B160,Inscriptions!A$2:A$65496,Inscriptions!D$2:D$65498))","v":""},null,null,null,0,0,0,"",""]
[157,null,{"$f":"IF(ISBLANK($B161),\"\",LOOKUP($B161,Inscriptions!A$2:A$65496,Inscriptions!B$2:B$65498))","v":""},{"$f":"IF(ISBLANK($B161),\"\",LOOKUP($B161,Inscriptions!A$2:A$65496,Inscriptions!C$2:C$65498))","v":""},{"$f":"IF(ISBLANK($B161),\"\",LOOKUP($B161,Inscriptions!A$2:A$65496,Inscriptions!D$2:D$65498))","v":""},null,null,null,0,0,0,"",""]
[158,null,{"$f":"IF(ISBLANK($B162),\"\",LOOKUP($B162,Inscriptions!A$2:A$65496,Inscriptions!B$2:B$65498))","v":""},{"$f":"IF(ISBLANK($B162),\"\",LOOKUP($B162,Inscriptions!A$2:A$65496,Inscriptions!C$2:C$65498))","v":""},{"$f":"IF(ISBLANK($B162),\"\",LOOKUP($B162,Inscriptions!A$2:A$65496,Inscriptions!D$2:D$65498))","v":""},null,null,null,0,0,0,"",""]
[159,null,{"$f":"IF(ISBLANK($B163),\"\",LOOKUP($B163,Inscriptions!A$2:A$65496,Inscriptions!B$2:B$65498))","v":""},{"$f":"IF(ISBLANK($B163),\"\",LOOKUP($B163,Inscriptions!A$2:A$65496,Inscriptions!C$2:C$65498))","v":""},{"$f":"IF(ISBLANK($B163),\"\",LOOKUP($B163,Inscriptions!A$2:A$65496,Inscriptions!D$2:D$65498))","v":""},null,null,null,0,0,0,"",""]
[160,null,{"$f":"IF(ISBLANK($B164),\"\",LOOKUP($B164,Inscriptions!A$2:A$65496,Inscriptions!B$2:B$65498))","v":""},{"$f":"IF(ISBLANK($B164),\"\",LOOKUP($B164,Inscriptions!A$2:A$65496,Inscriptions!C$2:C$65498))","v":""},{"$f":"IF(ISBLANK($B164),\"\",LOOKUP($B164,Inscriptions!A$2:A$65496,Inscriptions!D$2:D$65498))","v":""},null,null,null,0,0,0,"",""]
[161,null,{"$f":"IF(ISBLANK($B165),\"\",LOOKUP($B165,Inscriptions!A$2:A$65496,Inscriptions!B$2:B$65498))","v":""},{"$f":"IF(ISBLANK($B165),\"\",LOOKUP($B165,Inscriptions!A$2:A$65496,Inscriptions!C$2:C$65498))","v":""},{"$f":"IF(ISBLANK($B165),\"\",LOOKUP($B165,Inscriptions!A$2:A$65496,Inscriptions!D$2:D$65498))","v":""},null,null,null,0,0,0,"",""]
[162,null,{"$f":"IF(ISBLANK($B166),\"\",LOOKUP($B166,Inscriptions!A$2:A$65496,Inscriptions!B$2:B$65498))","v":""},{"$f":"IF(ISBLANK($B166),\"\",LOOKUP($B166,Inscriptions!A$2:A$65496,Inscriptions!C$2:C$65498))","v":""},{"$f":"IF(ISBLANK($B166),\"\",LOOKUP($B166,Inscriptions!A$2:A$65496,Inscriptions!D$2:D$65498))","v":""},null,null,null,0,0,0,"",""]
[163,null,{"$f":"IF(ISBLANK($B167),\"\",LOOKUP($B167,Inscriptions!A$2:A$65496,Inscriptions!B$2:B$65498))","v":""},{"$f":"IF(ISBLANK($B167),\"\",LOOKUP($B167,Inscriptions!A$2:A$65496,Inscriptions!C$2:C$65498))","v":""},{"$f":"IF(ISBLANK($B167),\"\",LOOKUP($B167,Inscriptions!A$2:A$65496,Inscriptions!D$2:D$65498))","v":""},null,null,null,0,0,0,"",""]
[164,null,{"$f":"IF(ISBLANK($B168),\"\",LOOKUP($B168,Inscriptions!A$2:A$65496,Inscriptions!B$2:B$65498))","v":""},{"$f":"IF(ISBLANK($B168),\"\",LOOKUP($B168,Inscriptions!A$2:A$65496,Inscriptions!C$2:C$65498))","v":""},{"$f":"IF(ISBLANK($B168),\"\",LOOKUP($B168,Inscriptions!A$2:A$65496,Inscriptions!D$2:D$65498))","v":""},null,null,null,0,0,0,"",""]
[165,null,{"$f":"IF(ISBLANK($B169),\"\",LOOKUP($B169,Inscriptions!A$2:A$65496,Inscriptions!B$2:B$65498))","v":""},{"$f":"IF(ISBLANK($B169),\"\",LOOKUP($B169,Inscriptions!A$2:A$65496,Inscriptions!C$2:C$65498))","v":""},{"$f":"IF(ISBLANK($B169),\"\",LOOKUP($B169,Inscriptions!A$2:A$65496,Inscriptions!D$2:D$65498))","v":""},null,null,null,0,0,0,"",""]
[166,null,{"$f":"IF(ISBLANK($B170),\"\",LOOKUP($B170,Inscriptions!A$2:A$65496,Inscriptions!B$2:B$65498))","v":""},{"$f":"IF(ISBLANK($B170),\"\",LOOKUP($B170,Inscriptions!A$2:A$65496,Inscriptions!C$2:C$65498))","v":""},{"$f":"IF(ISBLANK($B170),\"\",LOOKUP($B170,Inscriptions!A$2:A$65496,Inscriptions!D$2:D$65498))","v":""},null,null,null,0,0,0,"",""]
[167,null,{"$f":"IF(ISBLANK($B171),\"\",LOOKUP($B171,Inscriptions!A$2:A$65496,Inscriptions!B$2:B$65498))","v":""},{"$f":"IF(ISBLANK($B171),\"\",LOOKUP($B171,Inscriptions!A$2:A$65496,Inscriptions!C$2:C$65498))","v":""},{"$f":"IF(ISBLANK($B171),\"\",LOOKUP($B171,Inscriptions!A$2:A$65496,Inscriptions!D$2:D$65498))","v":""},null,null,null,0,0,0,"",""]
[168,null,{"$f":"IF(ISBLANK($B172),\"\",LOOKUP($B172,Inscriptions!A$2:A$65496,Inscriptions!B$2:B$65498))","v":""},{"$f":"IF(ISBLANK($B172),\"\",LOOKUP($B172,Inscriptions!A$2:A$65496,Inscriptions!C$2:C$65498))","v":""},{"$f":"IF(ISBLANK($B172),\"\",LOOKUP($B172,Inscriptions!A$2:A$65496,Inscriptions!D$2:D$65498))","v":""},null,null,null,0,0,0,"",""]
[169,null,{"$f":"IF(ISBLANK($B173),\"\",LOOKUP($B173,Inscriptions!A$2:A$65496,Inscriptions!B$2:B$65498))","v":""},{"$f":"IF(ISBLANK($B173),\"\",LOOKUP($B173,Inscriptions!A$2:A$65496,Inscriptions!C$2:C$65498))","v":""},{"$f":"IF(ISBLANK($B173),\"\",LOOKUP($B173,Inscriptions!A$2:A$65496,Inscriptions!D$2:D$65498))","v":""},null,null,null,0,0,0,"",""]
[170,null,{"$f":"IF(ISBLANK($B174),\"\",LOOKUP($B174,Inscriptions!A$2:A$65496,Inscriptions!B$2:B$65498))","v":""},{"$f":"IF(ISBLANK($B174),\"\",LOOKUP($B174,Inscriptions!A$2:A$65496,Inscriptions!C$2:C$65498))","v":""},{"$f":"IF(ISBLANK($B174),\"\",LOOKUP($B174,Inscriptions!A$2:A$65496,Inscriptions!D$2:D$65498))","v":""},null,null,null,0,0,0,"",""]
[171,null,{"$f":"IF(ISBLANK($B175),\"\",LOOKUP($B175,Inscriptions!A$2:A$65496,Inscriptions!B$2:B$65498))","v":""},{"$f":"IF(ISBLANK($B175),\"\",LOOKUP($B175,Inscriptions!A$2:A$65496,Inscriptions!C$2:C$65498))","v":""},{"$f":"IF(ISBLANK($B175),\"\",LOOKUP($B175,Inscriptions!A$2:A$65496,Inscriptions!D$2:D$65498))","v":""},null,null,null,0,0,0,"",""]
[172,null,{"$f":"IF(ISBLANK($B176),\"\",LOOKUP($B176,Inscriptions!A$2:A$65496,Inscriptions!B$2:B$65498))","v":""},{"$f":"IF(ISBLANK($B176),\"\",LOOKUP($B176,Inscriptions!A$2:A$65496,Inscriptions!C$2:C$65498))","v":""},{"$f":"IF(ISBLANK($B176),\"\",LOOKUP($B176,Inscriptions!A$2:A$65496,Inscriptions!D$2:D$65498))","v":""},null,null,null,0,0,0,"",""]
[173,null,{"$f":"IF(ISBLANK($B177),\"\",LOOKUP($B177,Inscriptions!A$2:A$65496,Inscriptions!B$2:B$65498))","v":""},{"$f":"IF(ISBLANK($B177),\"\",LOOKUP($B177,Inscriptions!A$2:A$65496,Inscriptions!C$2:C$65498))","v":""},{"$f":"IF(ISBLANK($B177),\"\",LOOKUP($B177,Inscriptions!A$2:A$65496,Inscriptions!D$2:D$65498))","v":""},null,null,null,0,0,0,"",""]
[174,null,{"$f":"IF(ISBLANK($B178),\"\",LOOKUP($B178,Inscriptions!A$2:A$65496,Inscriptions!B$2:B$65498))","v":""},{"$f":"IF(ISBLANK($B178),\"\",LOOKUP($B178,Inscriptions!A$2:A$65496,Inscriptions!C$2:C$65498))","v":""},{"$f":"IF(ISBLANK($B178),\"\",LOOKUP($B178,Inscriptions!A$2:A$65496,Inscriptions!D$2:D$65498))","v":""},null,null,null,0,0,0,"",""]
[175,null,{"$f":"IF(ISBLANK($B179),\"\",LOOKUP($B179,Inscriptions!A$2:A$65496,Inscriptions!B$2:B$65498))","v":""},{"$f":"IF(ISBLANK($B179),\"\",LOOKUP($B179,Inscriptions!A$2:A$65496,Inscriptions!C$2:C$65498))","v":""},{"$f":"IF(ISBLANK($B179),\"\",LOOKUP($B179,Inscriptions!A$2:A$65496,Inscriptions!D$2:D$65498))","v":""},null,null,null,0,0,0,"",""]
[176,null,{"$f":"IF(ISBLANK($B180),\"\",LOOKUP($B180,Inscriptions!A$2:A$65496,Inscriptions!B$2:B$65498))","v":""},{"$f":"IF(ISBLANK($B180),\"\",LOOKUP($B180,Inscriptions!A$2:A$65496,Inscriptions!C$2:C$65498))","v":""},{"$f":"IF(ISBLANK($B180),\"\",LOOKUP($B180,Inscriptions!A$2:A$65496,Inscriptions!D$2:D$65498))","v":""},null,null,null,0,0,0,"",""]
[177,null,{"$f":"IF(ISBLANK($B181),\"\",LOOKUP($B181,Inscriptions!A$2:A$65496,Inscriptions!B$2:B$65498))","v":""},{"$f":"IF(ISBLANK($B181),\"\",LOOKUP($B181,Inscriptions!A$2:A$65496,Inscriptions!C$2:C$65498))","v":""},{"$f":"IF(ISBLANK($B181),\"\",LOOKUP($B181,Inscriptions!A$2:A$65496,Inscriptions!D$2:D$65498))","v":""},null,null,null,0,0,0,"",""]
[178,null,{"$f":"IF(ISBLANK($B182),\"\",LOOKUP($B182,Inscriptions!A$2:A$65496,Inscriptions!B$2:B$65498))","v":""},{"$f":"IF(ISBLANK($B182),\"\",LOOKUP($B182,Inscriptions!A$2:A$65496,Inscriptions!C$2:C$65498))","v":""},{"$f":"IF(ISBLANK($B182),\"\",LOOKUP($B182,Inscriptions!A$2:A$65496,Inscriptions!D$2:D$65498))","v":""},null,null,null,0,0,0,"",""]
[179,null,{"$f":"IF(ISBLANK($B183),\"\",LOOKUP($B183,Inscriptions!A$2:A$65496,Inscriptions!B$2:B$65498))","v":""},{"$f":"IF(ISBLANK($B183),\"\",LOOKUP($B183,Inscriptions!A$2:A$65496,Inscriptions!C$2:C$65498))","v":""},{"$f":"IF(ISBLANK($B183),\"\",LOOKUP($B183,Inscriptions!A$2:A$65496,Inscriptions!D$2:D$65498))","v":""},null,null,null,0,0,0,"",""]
[180,null,{"$f":"IF(ISBLANK($B184),\"\",LOOKUP($B184,Inscriptions!A$2:A$65496,Inscriptions!B$2:B$65498))","v":""},{"$f":"IF(ISBLANK($B184),\"\",LOOKUP($B184,Inscriptions!A$2:A$65496,Inscriptions!C$2:C$65498))","v":""},{"$f":"IF(ISBLANK($B184),\"\",LOOKUP($B184,Inscriptions!A$2:A$65496,Inscriptions!D$2:D$65498))","v":""},null,null,null,0,0,0,"",""]
[181,null,{"$f":"IF(ISBLANK($B185),\"\",LOOKUP($B185,Inscriptions!A$2:A$65496,Inscriptions!B$2:B$65498))","v":""},{"$f":"IF(ISBLANK($B185),\"\",LOOKUP($B185,Inscriptions!A$2:A$65496,Inscriptions!C$2:C$65498))","v":""},{"$f":"IF(ISBLANK($B185),\"\",LOOKUP($B185,Inscriptions!A$2:A$65496,Inscriptions!D$2:D$65498))","v":""},null,null,null,0,0,0,"",""]
[182,null,{"$f":"IF(ISBLANK($B186),\"\",LOOKUP($B186,Inscriptions!A$2:A$65496,Inscriptions!B$2:B$65498))","v":""},{"$f":"IF(ISBLANK($B186),\"\",LOOKUP($B186,Inscriptions!A$2:A$65496,Inscriptions!C$2:C$65498))","v":""},{"$f":"IF(ISBLANK($B186),\"\",LOOKUP($B186,Inscriptions!A$2:A$65496,Inscriptions!D$2:D$65498))","v":""},null,null,null,0,0,0,"",""]
[183,null,{"$f":"IF(ISBLANK($B187),\"\",LOOKUP($B187,Inscriptions!A$2:A$65496,Inscriptions!B$2:B$65498))","v":""},{"$f":"IF(ISBLANK($B187),\"\",LOOKUP($B187,Inscriptions!A$2:A$65496,Inscriptions!C$2:C$65498))","v":""},{"$f":"IF(ISBLANK($B187),\"\",LOOKUP($B187,Inscriptions!A$2:A$65496,Inscriptions!D$2:D$65498))","v":""},null,null,null,0,0,0,"",""]
[184,null,{"$f":"IF(ISBLANK($B188),\"\",LOOKUP($B188,Inscriptions!A$2:A$65496,Inscriptions!B$2:B$65498))","v":""},{"$f":"IF(ISBLANK($B188),\"\",LOOKUP($B188,Inscriptions!A$2:A$65496,Inscriptions!C$2:C$65498))","v":""},{"$f":"IF(ISBLANK($B188),\"\",LOOKUP($B188,Inscriptions!A$2:A$65496,Inscriptions!D$2:D$65498))","v":""},null,null,null,0,0,0,"",""]
[185,null,{"$f":"IF(ISBLANK($B189),\"\",LOOKUP($B189,Inscriptions!A$2:A$65496,Inscriptions!B$2:B$65498))","v":""},{"$f":"IF(ISBLANK($B189),\"\",LOOKUP($B189,Inscriptions!A$2:A$65496,Inscriptions!C$2:C$65498))","v":""},{"$f":"IF(ISBLANK($B189),\"\",LOOKUP($B189,Inscriptions!A$2:A$65496,Inscriptions!D$2:D$65498))","v":""},null,null,null,0,0,0,"",""]
[186,null,{"$f":"IF(ISBLANK($B190),\"\",LOOKUP($B190,Inscriptions!A$2:A$65496,Inscriptions!B$2:B$65498))","v":""},{"$f":"IF(ISBLANK($B190),\"\",LOOKUP($B190,Inscriptions!A$2:A$65496,Inscriptions!C$2:C$65498))","v":""},{"$f":"IF(ISBLANK($B190),\"\",LOOKUP($B190,Inscriptions!A$2:A$65496,Inscriptions!D$2:D$65498))","v":""},null,null,null,0,0,0,"",""]
[187,null,{"$f":"IF(ISBLANK($B191),\"\",LOOKUP($B191,Inscriptions!A$2:A$65496,Inscriptions!B$2:B$65498))","v":""},{"$f":"IF(ISBLANK($B191),\"\",LOOKUP($B191,Inscriptions!A$2:A$65496,Inscriptions!C$2:C$65498))","v":""},{"$f":"IF(ISBLANK($B191),\"\",LOOKUP($B191,Inscriptions!A$2:A$65496,Inscriptions!D$2:D$65498))","v":""},null,null,null,0,0,0,"",""]
[188,null,{"$f":"IF(ISBLANK($B192),\"\",LOOKUP($B192,Inscriptions!A$2:A$65496,Inscriptions!B$2:B$65498))","v":""},{"$f":"IF(ISBLANK($B192),\"\",LOOKUP($B192,Inscriptions!A$2:A$65496,Inscriptions!C$2:C$65498))","v":""},{"$f":"IF(ISBLANK($B192),\"\",LOOKUP($B192,Inscriptions!A$2:A$65496,Inscriptions!D$2:D$65498))","v":""},null,null,null,0,0,0,"",""]
[189,null,{"$f":"IF(ISBLANK($B193),\"\",LOOKUP($B193,Inscriptions!A$2:A$65496,Inscriptions!B$2:B$65498))","v":""},{"$f":"IF(ISBLANK($B193),\"\",LOOKUP($B193,Inscriptions!A$2:A$65496,Inscriptions!C$2:C$65498))","v":""},{"$f":"IF(ISBLANK($B193),\"\",LOOKUP($B193,Inscriptions!A$2:A$65496,Inscriptions!D$2:D$65498))","v":""},null,null,null,0,0,0,"",""]
[190,null,{"$f":"IF(ISBLANK($B194),\"\",LOOKUP($B194,Inscriptions!A$2:A$65496,Inscriptions!B$2:B$65498))","v":""},{"$f":"IF(ISBLANK($B194),\"\",LOOKUP($B194,Inscriptions!A$2:A$65496,Inscriptions!C$2:C$65498))","v":""},{"$f":"IF(ISBLANK($B194),\"\",LOOKUP($B194,Inscriptions!A$2:A$65496,Inscriptions!D$2:D$65498))","v":""},null,null,null,0,0,0,"",""]
[191,null,{"$f":"IF(ISBLANK($B195),\"\",LOOKUP($B195,Inscriptions!A$2:A$65496,Inscriptions!B$2:B$65498))","v":""},{"$f":"IF(ISBLANK($B195),\"\",LOOKUP($B195,Inscriptions!A$2:A$65496,Inscriptions!C$2:C$65498))","v":""},{"$f":"IF(ISBLANK($B195),\"\",LOOKUP($B195,Inscriptions!A$2:A$65496,Inscriptions!D$2:D$65498))","v":""},null,null,null,0,0,0,"",""]
[192,null,{"$f":"IF(ISBLANK($B196),\"\",LOOKUP($B196,Inscriptions!A$2:A$65496,Inscriptions!B$2:B$65498))","v":""},{"$f":"IF(ISBLANK($B196),\"\",LOOKUP($B196,Inscriptions!A$2:A$65496,Inscriptions!C$2:C$65498))","v":""},{"$f":"IF(ISBLANK($B196),\"\",LOOKUP($B196,Inscriptions!A$2:A$65496,Inscriptions!D$2:D$65498))","v":""},null,null,null,0,0,0,"",""]
[193,null,{"$f":"IF(ISBLANK($B197),\"\",LOOKUP($B197,Inscriptions!A$2:A$65496,Inscriptions!B$2:B$65498))","v":""},{"$f":"IF(ISBLANK($B197),\"\",LOOKUP($B197,Inscriptions!A$2:A$65496,Inscriptions!C$2:C$65498))","v":""},{"$f":"IF(ISBLANK($B197),\"\",LOOKUP($B197,Inscriptions!A$2:A$65496,Inscriptions!D$2:D$65498))","v":""},null,null,null,0,0,0,"",""]
[194,null,{"$f":"IF(ISBLANK($B198),\"\",LOOKUP($B198,Inscriptions!A$2:A$65496,Inscriptions!B$2:B$65498))","v":""},{"$f":"IF(ISBLANK($B198),\"\",LOOKUP($B198,Inscriptions!A$2:A$65496,Inscriptions!C$2:C$65498))","v":""},{"$f":"IF(ISBLANK($B198),\"\",LOOKUP($B198,Inscriptions!A$2:A$65496,Inscriptions!D$2:D$65498))","v":""},null,null,null,{"$f":"ROUNDDOWN(H198/10000,0)","v":0},{"$f":"ROUNDDOWN((H198-I198*10000)/100,0)","v":0},{"$f":"ROUNDDOWN((H198-(I198*10000)-(J198*100)),0)","v":0},{"$f":"IF((I198+J198+K198)=0,\"\",ROUNDDOWN((L$4/((I198*3600)+(J198*60)+K198))*3.6,2))","v":""},{"$f":"IF(L198=\"\",\"\",\"km/h\")","v":""}]
[195,null,{"$f":"IF(ISBLANK($B199),\"\",LOOKUP($B199,Inscriptions!A$2:A$65496,Inscriptions!B$2:B$65498))","v":""},{"$f":"IF(ISBLANK($B199),\"\",LOOKUP($B199,Inscriptions!A$2:A$65496,Inscriptions!C$2:C$65498))","v":""},{"$f":"IF(ISBLANK($B199),\"\",LOOKUP($B199,Inscriptions!A$2:A$65496,Inscriptions!D$2:D$65498))","v":""},null,null,null,0,0,0,"",""]
[196,null,{"$f":"IF(ISBLANK($B200),\"\",LOOKUP($B200,Inscriptions!A$2:A$65496,Inscriptions!B$2:B$65498))","v":""},{"$f":"IF(ISBLANK($B200),\"\",LOOKUP($B200,Inscriptions!A$2:A$65496,Inscriptions!C$2:C$65498))","v":""},{"$f":"IF(ISBLANK($B200),\"\",LOOKUP($B200,Inscriptions!A$2:A$65496,Inscriptions!D$2:D$65498))","v":""},null,null,null,0,0,0,"",""]
[197,null,{"$f":"IF(ISBLANK($B201),\"\",LOOKUP($B201,Inscriptions!A$2:A$65496,Inscriptions!B$2:B$65498))","v":""},{"$f":"IF(ISBLANK($B201),\"\",LOOKUP($B201,Inscriptions!A$2:A$65496,Inscriptions!C$2:C$65498))","v":""},{"$f":"IF(ISBLANK($B201),\"\",LOOKUP($B201,Inscriptions!A$2:A$65496,Inscriptions!D$2:D$65498))","v":""},null,null,null,0,0,0,"",""]
[198,null,{"$f":"IF(ISBLANK($B202),\"\",LOOKUP($B202,Inscriptions!A$2:A$65496,Inscriptions!B$2:B$65498))","v":""},{"$f":"IF(ISBLANK($B202),\"\",LOOKUP($B202,Inscriptions!A$2:A$65496,Inscriptions!C$2:C$65498))","v":""},{"$f":"IF(ISBLANK($B202),\"\",LOOKUP($B202,Inscriptions!A$2:A$65496,Inscriptions!D$2:D$65498))","v":""},null,null,null,0,0,0,"",""]
[199,null,{"$f":"IF(ISBLANK($B203),\"\",LOOKUP($B203,Inscriptions!A$2:A$65496,Inscriptions!B$2:B$65498))","v":""},{"$f":"IF(ISBLANK($B203),\"\",LOOKUP($B203,Inscriptions!A$2:A$65496,Inscriptions!C$2:C$65498))","v":""},{"$f":"IF(ISBLANK($B203),\"\",LOOKUP($B203,Inscriptions!A$2:A$65496,Inscriptions!D$2:D$65498))","v":""},null,null,null,0,0,0,"",""]
[200,null,{"$f":"IF(ISBLANK($B204),\"\",LOOKUP($B204,Inscriptions!A$2:A$65496,Inscriptions!B$2:B$65498))","v":""},{"$f":"IF(ISBLANK($B204),\"\",LOOKUP($B204,Inscriptions!A$2:A$65496,Inscriptions!C$2:C$65498))","v":""},{"$f":"IF(ISBLANK($B204),\"\",LOOKUP($B204,Inscriptions!A$2:A$65496,Inscriptions!D$2:D$65498))","v":""},null,null,null,0,0,0,"",""]
[201,null,{"$f":"IF(ISBLANK($B205),\"\",LOOKUP($B205,Inscriptions!A$2:A$65496,Inscriptions!B$2:B$65498))","v":""},{"$f":"IF(ISBLANK($B205),\"\",LOOKUP($B205,Inscriptions!A$2:A$65496,Inscriptions!C$2:C$65498))","v":""},{"$f":"IF(ISBLANK($B205),\"\",LOOKUP($B205,Inscriptions!A$2:A$65496,Inscriptions!D$2:D$65498))","v":""},null,null,null,0,0,0,"",""]
[202,null,{"$f":"IF(ISBLANK($B206),\"\",LOOKUP($B206,Inscriptions!A$2:A$65496,Inscriptions!B$2:B$65498))","v":""},{"$f":"IF(ISBLANK($B206),\"\",LOOKUP($B206,Inscriptions!A$2:A$65496,Inscriptions!C$2:C$65498))","v":""},{"$f":"IF(ISBLANK($B206),\"\",LOOKUP($B206,Inscriptions!A$2:A$65496,Inscriptions!D$2:D$65498))","v":""},null,null,null,0,0,0,"",""]
[203,null,{"$f":"IF(ISBLANK($B207),\"\",LOOKUP($B207,Inscriptions!A$2:A$65496,Inscriptions!B$2:B$65498))","v":""},{"$f":"IF(ISBLANK($B207),\"\",LOOKUP($B207,Inscriptions!A$2:A$65496,Inscriptions!C$2:C$65498))","v":""},{"$f":"IF(ISBLANK($B207),\"\",LOOKUP($B207,Inscriptions!A$2:A$65496,Inscriptions!D$2:D$65498))","v":""},null,null,null,0,0,0,"",""]
[204,null,{"$f":"IF(ISBLANK($B208),\"\",LOOKUP($B208,Inscriptions!A$2:A$65496,Inscriptions!B$2:B$65498))","v":""},{"$f":"IF(ISBLANK($B208),\"\",LOOKUP($B208,Inscriptions!A$2:A$65496,Inscriptions!C$2:C$65498))","v":""},{"$f":"IF(ISBLANK($B208),\"\",LOOKUP($B208,Inscriptions!A$2:A$65496,Inscriptions!D$2:D$65498))","v":""},null,null,null,0,0,0,"",""]
[205,null,{"$f":"IF(ISBLANK($B209),\"\",LOOKUP($B209,Inscriptions!A$2:A$65496,Inscriptions!B$2:B$65498))","v":""},{"$f":"IF(ISBLANK($B209),\"\",LOOKUP($B209,Inscriptions!A$2:A$65496,Inscriptions!C$2:C$65498))","v":""},{"$f":"IF(ISBLANK($B209),\"\",LOOKUP($B209,Inscriptions!A$2:A$65496,Inscriptions!D$2:D$65498))","v":""},null,null,null,0,0,0,"",""]
[206,null,{"$f":"IF(ISBLANK($B210),\"\",LOOKUP($B210,Inscriptions!A$2:A$65496,Inscriptions!B$2:B$65498))","v":""},{"$f":"IF(ISBLANK($B210),\"\",LOOKUP($B210,Inscriptions!A$2:A$65496,Inscriptions!C$2:C$65498))","v":""},{"$f":"IF(ISBLANK($B210),\"\",LOOKUP($B210,Inscriptions!A$2:A$65496,Inscriptions!D$2:D$65498))","v":""},null,null,null,0,0,0,"",""]
[207,null,{"$f":"IF(ISBLANK($B211),\"\",LOOKUP($B211,Inscriptions!A$2:A$65496,Inscriptions!B$2:B$65498))","v":""},{"$f":"IF(ISBLANK($B211),\"\",LOOKUP($B211,Inscriptions!A$2:A$65496,Inscriptions!C$2:C$65498))","v":""},{"$f":"IF(ISBLANK($B211),\"\",LOOKUP($B211,Inscriptions!A$2:A$65496,Inscriptions!D$2:D$65498))","v":""},null,null,null,0,0,0,"",""]
[208,null,{"$f":"IF(ISBLANK($B212),\"\",LOOKUP($B212,Inscriptions!A$2:A$65496,Inscriptions!B$2:B$65498))","v":""},{"$f":"IF(ISBLANK($B212),\"\",LOOKUP($B212,Inscriptions!A$2:A$65496,Inscriptions!C$2:C$65498))","v":""},{"$f":"IF(ISBLANK($B212),\"\",LOOKUP($B212,Inscriptions!A$2:A$65496,Inscriptions!D$2:D$65498))","v":""},null,null,null,0,0,0,"",""]
[209,null,{"$f":"IF(ISBLANK($B213),\"\",LOOKUP($B213,Inscriptions!A$2:A$65496,Inscriptions!B$2:B$65498))","v":""},{"$f":"IF(ISBLANK($B213),\"\",LOOKUP($B213,Inscriptions!A$2:A$65496,Inscriptions!C$2:C$65498))","v":""},{"$f":"IF(ISBLANK($B213),\"\",LOOKUP($B213,Inscriptions!A$2:A$65496,Inscriptions!D$2:D$65498))","v":""},null,null,null,0,0,0,"",""]
[210,null,{"$f":"IF(ISBLANK($B214),\"\",LOOKUP($B214,Inscriptions!A$2:A$65496,Inscriptions!B$2:B$65498))","v":""},{"$f":"IF(ISBLANK($B214),\"\",LOOKUP($B214,Inscriptions!A$2:A$65496,Inscriptions!C$2:C$65498))","v":""},{"$f":"IF(ISBLANK($B214),\"\",LOOKUP($B214,Inscriptions!A$2:A$65496,Inscriptions!D$2:D$65498))","v":""},null,null,null,0,0,0,"",""]
[211,null,{"$f":"IF(ISBLANK($B215),\"\",LOOKUP($B215,Inscriptions!A$2:A$65496,Inscriptions!B$2:B$65498))","v":""},{"$f":"IF(ISBLANK($B215),\"\",LOOKUP($B215,Inscriptions!A$2:A$65496,Inscriptions!C$2:C$65498))","v":""},{"$f":"IF(ISBLANK($B215),\"\",LOOKUP($B215,Inscriptions!A$2:A$65496,Inscriptions!D$2:D$65498))","v":""},null,null,null,0,0,0,"",""]
[212,null,{"$f":"IF(ISBLANK($B216),\"\",LOOKUP($B216,Inscriptions!A$2:A$65496,Inscriptions!B$2:B$65498))","v":""},{"$f":"IF(ISBLANK($B216),\"\",LOOKUP($B216,Inscriptions!A$2:A$65496,Inscriptions!C$2:C$65498))","v":""},{"$f":"IF(ISBLANK($B216),\"\",LOOKUP($B216,Inscriptions!A$2:A$65496,Inscriptions!D$2:D$65498))","v":""},null,null,null,0,0,0,"",""]
[213,null,{"$f":"IF(ISBLANK($B217),\"\",LOOKUP($B217,Inscriptions!A$2:A$65496,Inscriptions!B$2:B$65498))","v":""},{"$f":"IF(ISBLANK($B217),\"\",LOOKUP($B217,Inscriptions!A$2:A$65496,Inscriptions!C$2:C$65498))","v":""},{"$f":"IF(ISBLANK($B217),\"\",LOOKUP($B217,Inscriptions!A$2:A$65496,Inscriptions!D$2:D$65498))","v":""},null,null,null,0,0,0,"",""]
[214,null,{"$f":"IF(ISBLANK($B218),\"\",LOOKUP($B218,Inscriptions!A$2:A$65496,Inscriptions!B$2:B$65498))","v":""},{"$f":"IF(ISBLANK($B218),\"\",LOOKUP($B218,Inscriptions!A$2:A$65496,Inscriptions!C$2:C$65498))","v":""},{"$f":"IF(ISBLANK($B218),\"\",LOOKUP($B218,Inscriptions!A$2:A$65496,Inscriptions!D$2:D$65498))","v":""},null,null,null,0,0,0,"",""]
[215,null,{"$f":"IF(ISBLANK($B219),\"\",LOOKUP($B219,Inscriptions!A$2:A$65496,Inscriptions!B$2:B$65498))","v":""},{"$f":"IF(ISBLANK($B219),\"\",LOOKUP($B219,Inscriptions!A$2:A$65496,Inscriptions!C$2:C$65498))","v":""},{"$f":"IF(ISBLANK($B219),\"\",LOOKUP($B219,Inscriptions!A$2:A$65496,Inscriptions!D$2:D$65498))","v":""},null,null,null,0,0,0,"",""]
[216,null,{"$f":"IF(ISBLANK($B220),\"\",LOOKUP($B220,Inscriptions!A$2:A$65496,Inscriptions!B$2:B$65498))","v":""},{"$f":"IF(ISBLANK($B220),\"\",LOOKUP($B220,Inscriptions!A$2:A$65496,Inscriptions!C$2:C$65498))","v":""},{"$f":"IF(ISBLANK($B220),\"\",LOOKUP($B220,Inscriptions!A$2:A$65496,Inscriptions!D$2:D$65498))","v":""},null,null,null,0,0,0,"",""]
[217,null,{"$f":"IF(ISBLANK($B221),\"\",LOOKUP($B221,Inscriptions!A$2:A$65496,Inscriptions!B$2:B$65498))","v":""},{"$f":"IF(ISBLANK($B221),\"\",LOOKUP($B221,Inscriptions!A$2:A$65496,Inscriptions!C$2:C$65498))","v":""},{"$f":"IF(ISBLANK($B221),\"\",LOOKUP($B221,Inscriptions!A$2:A$65496,Inscriptions!D$2:D$65498))","v":""},null,null,null,0,0,0,"",""]
[218,null,{"$f":"IF(ISBLANK($B222),\"\",LOOKUP($B222,Inscriptions!A$2:A$65496,Inscriptions!B$2:B$65498))","v":""},{"$f":"IF(ISBLANK($B222),\"\",LOOKUP($B222,Inscriptions!A$2:A$65496,Inscriptions!C$2:C$65498))","v":""},{"$f":"IF(ISBLANK($B222),\"\",LOOKUP($B222,Inscriptions!A$2:A$65496,Inscriptions!D$2:D$65498))","v":""},null,null,null,0,0,0,"",""]
[219,null,{"$f":"IF(ISBLANK($B223),\"\",LOOKUP($B223,Inscriptions!A$2:A$65496,Inscriptions!B$2:B$65498))","v":""},{"$f":"IF(ISBLANK($B223),\"\",LOOKUP($B223,Inscriptions!A$2:A$65496,Inscriptions!C$2:C$65498))","v":""},{"$f":"IF(ISBLANK($B223),\"\",LOOKUP($B223,Inscriptions!A$2:A$65496,Inscriptions!D$2:D$65498))","v":""},null,null,null,0,0,0,"",""]
[220,null,{"$f":"IF(ISBLANK($B224),\"\",LOOKUP($B224,Inscriptions!A$2:A$65496,Inscriptions!B$2:B$65498))","v":""},{"$f":"IF(ISBLANK($B224),\"\",LOOKUP($B224,Inscriptions!A$2:A$65496,Inscriptions!C$2:C$65498))","v":""},{"$f":"IF(ISBLANK($B224),\"\",LOOKUP($B224,Inscriptions!A$2:A$65496,Inscriptions!D$2:D$65498))","v":""},null,null,null,0,0,0,"",""]
[221,null,{"$f":"IF(ISBLANK($B225),\"\",LOOKUP($B225,Inscriptions!A$2:A$65496,Inscriptions!B$2:B$65498))","v":""},{"$f":"IF(ISBLANK($B225),\"\",LOOKUP($B225,Inscriptions!A$2:A$65496,Inscriptions!C$2:C$65498))","v":""},{"$f":"IF(ISBLANK($B225),\"\",LOOKUP($B225,Inscriptions!A$2:A$65496,Inscriptions!D$2:D$65498))","v":""},null,null,null,0,0,0,"",""]
[222,null,{"$f":"IF(ISBLANK($B226),\"\",LOOKUP($B226,Inscriptions!A$2:A$65496,Inscriptions!B$2:B$65498))","v":""},{"$f":"IF(ISBLANK($B226),\"\",LOOKUP($B226,Inscriptions!A$2:A$65496,Inscriptions!C$2:C$65498))","v":""},{"$f":"IF(ISBLANK($B226),\"\",LOOKUP($B226,Inscriptions!A$2:A$65496,Inscriptions!D$2:D$65498))","v":""},null,null,null,0,0,0,"",""]
[223,null,{"$f":"IF(ISBLANK($B227),\"\",LOOKUP($B227,Inscriptions!A$2:A$65496,Inscriptions!B$2:B$65498))","v":""},{"$f":"IF(ISBLANK($B227),\"\",LOOKUP($B227,Inscriptions!A$2:A$65496,Inscriptions!C$2:C$65498))","v":""},{"$f":"IF(ISBLANK($B227),\"\",LOOKUP($B227,Inscriptions!A$2:A$65496,Inscriptions!D$2:D$65498))","v":""},null,null,null,0,0,0,"",""]
[224,null,{"$f":"IF(ISBLANK($B228),\"\",LOOKUP($B228,Inscriptions!A$2:A$65496,Inscriptions!B$2:B$65498))","v":""},{"$f":"IF(ISBLANK($B228),\"\",LOOKUP($B228,Inscriptions!A$2:A$65496,Inscriptions!C$2:C$65498))","v":""},{"$f":"IF(ISBLANK($B228),\"\",LOOKUP($B228,Inscriptions!A$2:A$65496,Inscriptions!D$2:D$65498))","v":""},null,null,null,0,0,0,"",""]
[225,null,{"$f":"IF(ISBLANK($B229),\"\",LOOKUP($B229,Inscriptions!A$2:A$65496,Inscriptions!B$2:B$65498))","v":""},{"$f":"IF(ISBLANK($B229),\"\",LOOKUP($B229,Inscriptions!A$2:A$65496,Inscriptions!C$2:C$65498))","v":""},{"$f":"IF(ISBLANK($B229),\"\",LOOKUP($B229,Inscriptions!A$2:A$65496,Inscriptions!D$2:D$65498))","v":""},null,null,null,0,0,0,"",""]
[226,null,{"$f":"IF(ISBLANK($B230),\"\",LOOKUP($B230,Inscriptions!A$2:A$65496,Inscriptions!B$2:B$65498))","v":""},{"$f":"IF(ISBLANK($B230),\"\",LOOKUP($B230,Inscriptions!A$2:A$65496,Inscriptions!C$2:C$65498))","v":""},{"$f":"IF(ISBLANK($B230),\"\",LOOKUP($B230,Inscriptions!A$2:A$65496,Inscriptions!D$2:D$65498))","v":""},null,null,null,0,0,0,"",""]
[227,null,{"$f":"IF(ISBLANK($B231),\"\",LOOKUP($B231,Inscriptions!A$2:A$65496,Inscriptions!B$2:B$65498))","v":""},{"$f":"IF(ISBLANK($B231),\"\",LOOKUP($B231,Inscriptions!A$2:A$65496,Inscriptions!C$2:C$65498))","v":""},{"$f":"IF(ISBLANK($B231),\"\",LOOKUP($B231,Inscriptions!A$2:A$65496,Inscriptions!D$2:D$65498))","v":""},null,null,null,0,0,0,"",""]
[228,null,{"$f":"IF(ISBLANK($B232),\"\",LOOKUP($B232,Inscriptions!A$2:A$65496,Inscriptions!B$2:B$65498))","v":""},{"$f":"IF(ISBLANK($B232),\"\",LOOKUP($B232,Inscriptions!A$2:A$65496,Inscriptions!C$2:C$65498))","v":""},{"$f":"IF(ISBLANK($B232),\"\",LOOKUP($B232,Inscriptions!A$2:A$65496,Inscriptions!D$2:D$65498))","v":""},null,null,null,0,0,0,"",""]
[229,null,{"$f":"IF(ISBLANK($B233),\"\",LOOKUP($B233,Inscriptions!A$2:A$65496,Inscriptions!B$2:B$65498))","v":""},{"$f":"IF(ISBLANK($B233),\"\",LOOKUP($B233,Inscriptions!A$2:A$65496,Inscriptions!C$2:C$65498))","v":""},{"$f":"IF(ISBLANK($B233),\"\",LOOKUP($B233,Inscriptions!A$2:A$65496,Inscriptions!D$2:D$65498))","v":""},null,null,null,0,0,0,"",""]
[230,null,{"$f":"IF(ISBLANK($B234),\"\",LOOKUP($B234,Inscriptions!A$2:A$65496,Inscriptions!B$2:B$65498))","v":""},{"$f":"IF(ISBLANK($B234),\"\",LOOKUP($B234,Inscriptions!A$2:A$65496,Inscriptions!C$2:C$65498))","v":""},{"$f":"IF(ISBLANK($B234),\"\",LOOKUP($B234,Inscriptions!A$2:A$65496,Inscriptions!D$2:D$65498))","v":""},null,null,null,0,0,0,"",""]
[231,null,{"$f":"IF(ISBLANK($B235),\"\",LOOKUP($B235,Inscriptions!A$2:A$65496,Inscriptions!B$2:B$65498))","v":""},{"$f":"IF(ISBLANK($B235),\"\",LOOKUP($B235,Inscriptions!A$2:A$65496,Inscriptions!C$2:C$65498))","v":""},{"$f":"IF(ISBLANK($B235),\"\",LOOKUP($B235,Inscriptions!A$2:A$65496,Inscriptions!D$2:D$65498))","v":""},null,null,null,0,0,0,"",""]
[232,null,{"$f":"IF(ISBLANK($B236),\"\",LOOKUP($B236,Inscriptions!A$2:A$65496,Inscriptions!B$2:B$65498))","v":""},{"$f":"IF(ISBLANK($B236),\"\",LOOKUP($B236,Inscriptions!A$2:A$65496,Inscriptions!C$2:C$65498))","v":""},{"$f":"IF(ISBLANK($B236),\"\",LOOKUP($B236,Inscriptions!A$2:A$65496,Inscriptions!D$2:D$65498))","v":""},null,null,null,0,0,0,"",""]
[233,null,{"$f":"IF(ISBLANK($B237),\"\",LOOKUP($B237,Inscriptions!A$2:A$65496,Inscriptions!B$2:B$65498))","v":""},{"$f":"IF(ISBLANK($B237),\"\",LOOKUP($B237,Inscriptions!A$2:A$65496,Inscriptions!C$2:C$65498))","v":""},{"$f":"IF(ISBLANK($B237),\"\",LOOKUP($B237,Inscriptions!A$2:A$65496,Inscriptions!D$2:D$65498))","v":""},null,null,null,0,0,0,"",""]
[234,null,{"$f":"IF(ISBLANK($B238),\"\",LOOKUP($B238,Inscriptions!A$2:A$65496,Inscriptions!B$2:B$65498))","v":""},{"$f":"IF(ISBLANK($B238),\"\",LOOKUP($B238,Inscriptions!A$2:A$65496,Inscriptions!C$2:C$65498))","v":""},{"$f":"IF(ISBLANK($B238),\"\",LOOKUP($B238,Inscriptions!A$2:A$65496,Inscriptions!D$2:D$65498))","v":""},null,null,null,0,0,0,"",""]
[235,null,{"$f":"IF(ISBLANK($B239),\"\",LOOKUP($B239,Inscriptions!A$2:A$65496,Inscriptions!B$2:B$65498))","v":""},{"$f":"IF(ISBLANK($B239),\"\",LOOKUP($B239,Inscriptions!A$2:A$65496,Inscriptions!C$2:C$65498))","v":""},{"$f":"IF(ISBLANK($B239),\"\",LOOKUP($B239,Inscriptions!A$2:A$65496,Inscriptions!D$2:D$65498))","v":""},null,null,null,0,0,0,"",""]
[236,null,{"$f":"IF(ISBLANK($B240),\"\",LOOKUP($B240,Inscriptions!A$2:A$65496,Inscriptions!B$2:B$65498))","v":""},{"$f":"IF(ISBLANK($B240),\"\",LOOKUP($B240,Inscriptions!A$2:A$65496,Inscriptions!C$2:C$65498))","v":""},{"$f":"IF(ISBLANK($B240),\"\",LOOKUP($B240,Inscriptions!A$2:A$65496,Inscriptions!D$2:D$65498))","v":""},null,null,null,0,0,0,"",""]
[237,null,{"$f":"IF(ISBLANK($B241),\"\",LOOKUP($B241,Inscriptions!A$2:A$65496,Inscriptions!B$2:B$65498))","v":""},{"$f":"IF(ISBLANK($B241),\"\",LOOKUP($B241,Inscriptions!A$2:A$65496,Inscriptions!C$2:C$65498))","v":""},{"$f":"IF(ISBLANK($B241),\"\",LOOKUP($B241,Inscriptions!A$2:A$65496,Inscriptions!D$2:D$65498))","v":""},null,null,null,0,0,0,"",""]
[238,null,{"$f":"IF(ISBLANK($B242),\"\",LOOKUP($B242,Inscriptions!A$2:A$65496,Inscriptions!B$2:B$65498))","v":""},{"$f":"IF(ISBLANK($B242),\"\",LOOKUP($B242,Inscriptions!A$2:A$65496,Inscriptions!C$2:C$65498))","v":""},{"$f":"IF(ISBLANK($B242),\"\",LOOKUP($B242,Inscriptions!A$2:A$65496,Inscriptions!D$2:D$65498))","v":""},null,null,null,0,0,0,"",""]
[239,null,{"$f":"IF(ISBLANK($B243),\"\",LOOKUP($B243,Inscriptions!A$2:A$65496,Inscriptions!B$2:B$65498))","v":""},{"$f":"IF(ISBLANK($B243),\"\",LOOKUP($B243,Inscriptions!A$2:A$65496,Inscriptions!C$2:C$65498))","v":""},{"$f":"IF(ISBLANK($B243),\"\",LOOKUP($B243,Inscriptions!A$2:A$65496,Inscriptions!D$2:D$65498))","v":""},null,null,null,0,0,0,"",""]
[240,null,{"$f":"IF(ISBLANK($B244),\"\",LOOKUP($B244,Inscriptions!A$2:A$65496,Inscriptions!B$2:B$65498))","v":""},{"$f":"IF(ISBLANK($B244),\"\",LOOKUP($B244,Inscriptions!A$2:A$65496,Inscriptions!C$2:C$65498))","v":""},{"$f":"IF(ISBLANK($B244),\"\",LOOKUP($B244,Inscriptions!A$2:A$65496,Inscriptions!D$2:D$65498))","v":""},null,null,null,0,0,0,"",""]
[241,null,{"$f":"IF(ISBLANK($B245),\"\",LOOKUP($B245,Inscriptions!A$2:A$65496,Inscriptions!B$2:B$65498))","v":""},{"$f":"IF(ISBLANK($B245),\"\",LOOKUP($B245,Inscriptions!A$2:A$65496,Inscriptions!C$2:C$65498))","v":""},{"$f":"IF(ISBLANK($B245),\"\",LOOKUP($B245,Inscriptions!A$2:A$65496,Inscriptions!D$2:D$65498))","v":""},null,null,null,0,0,0,"",""]
[242,null,{"$f":"IF(ISBLANK($B246),\"\",LOOKUP($B246,Inscriptions!A$2:A$65496,Inscriptions!B$2:B$65498))","v":""},{"$f":"IF(ISBLANK($B246),\"\",LOOKUP($B246,Inscriptions!A$2:A$65496,Inscriptions!C$2:C$65498))","v":""},{"$f":"IF(ISBLANK($B246),\"\",LOOKUP($B246,Inscriptions!A$2:A$65496,Inscriptions!D$2:D$65498))","v":""},null,null,null,0,0,0,"",""]
[243,null,{"$f":"IF(ISBLANK($B247),\"\",LOOKUP($B247,Inscriptions!A$2:A$65496,Inscriptions!B$2:B$65498))","v":""},{"$f":"IF(ISBLANK($B247),\"\",LOOKUP($B247,Inscriptions!A$2:A$65496,Inscriptions!C$2:C$65498))","v":""},{"$f":"IF(ISBLANK($B247),\"\",LOOKUP($B247,Inscriptions!A$2:A$65496,Inscriptions!D$2:D$65498))","v":""},null,null,null,0,0,0,"",""]
[244,null,{"$f":"IF(ISBLANK($B248),\"\",LOOKUP($B248,Inscriptions!A$2:A$65496,Inscriptions!B$2:B$65498))","v":""},{"$f":"IF(ISBLANK($B248),\"\",LOOKUP($B248,Inscriptions!A$2:A$65496,Inscriptions!C$2:C$65498))","v":""},{"$f":"IF(ISBLANK($B248),\"\",LOOKUP($B248,Inscriptions!A$2:A$65496,Inscriptions!D$2:D$65498))","v":""},null,null,null,0,0,0,"",""]
[245,null,{"$f":"IF(ISBLANK($B249),\"\",LOOKUP($B249,Inscriptions!A$2:A$65496,Inscriptions!B$2:B$65498))","v":""},{"$f":"IF(ISBLANK($B249),\"\",LOOKUP($B249,Inscriptions!A$2:A$65496,Inscriptions!C$2:C$65498))","v":""},{"$f":"IF(ISBLANK($B249),\"\",LOOKUP($B249,Inscriptions!A$2:A$65496,Inscriptions!D$2:D$65498))","v":""},null,null,null,0,0,0,"",""]
[246,null,{"$f":"IF(ISBLANK($B250),\"\",LOOKUP($B250,Inscriptions!A$2:A$65496,Inscriptions!B$2:B$65498))","v":""},{"$f":"IF(ISBLANK($B250),\"\",LOOKUP($B250,Inscriptions!A$2:A$65496,Inscriptions!C$2:C$65498))","v":""},{"$f":"IF(ISBLANK($B250),\"\",LOOKUP($B250,Inscriptions!A$2:A$65496,Inscriptions!D$2:D$65498))","v":""},null,null,null,0,0,0,"",""]
[247,null,{"$f":"IF(ISBLANK($B251),\"\",LOOKUP($B251,Inscriptions!A$2:A$65496,Inscriptions!B$2:B$65498))","v":""},{"$f":"IF(ISBLANK($B251),\"\",LOOKUP($B251,Inscriptions!A$2:A$65496,Inscriptions!C$2:C$65498))","v":""},{"$f":"IF(ISBLANK($B251),\"\",LOOKUP($B251,Inscriptions!A$2:A$65496,Inscriptions!D$2:D$65498))","v":""},null,null,null,0,0,0,"",""]
[248,null,{"$f":"IF(ISBLANK($B252),\"\",LOOKUP($B252,Inscriptions!A$2:A$65496,Inscriptions!B$2:B$65498))","v":""},{"$f":"IF(ISBLANK($B252),\"\",LOOKUP($B252,Inscriptions!A$2:A$65496,Inscriptions!C$2:C$65498))","v":""},{"$f":"IF(ISBLANK($B252),\"\",LOOKUP($B252,Inscriptions!A$2:A$65496,Inscriptions!D$2:D$65498))","v":""},null,null,null,0,0,0,"",""]
[249,null,{"$f":"IF(ISBLANK($B253),\"\",LOOKUP($B253,Inscriptions!A$2:A$65496,Inscriptions!B$2:B$65498))","v":""},{"$f":"IF(ISBLANK($B253),\"\",LOOKUP($B253,Inscriptions!A$2:A$65496,Inscriptions!C$2:C$65498))","v":""},{"$f":"IF(ISBLANK($B253),\"\",LOOKUP($B253,Inscriptions!A$2:A$65496,Inscriptions!D$2:D$65498))","v":""},null,null,null,0,0,0,"",""]
[250,null,{"$f":"IF(ISBLANK($B254),\"\",LOOKUP($B254,Inscriptions!A$2:A$65496,Inscriptions!B$2:B$65498))","v":""},{"$f":"IF(ISBLANK($B254),\"\",LOOKUP($B254,Inscriptions!A$2:A$65496,Inscriptions!C$2:C$65498))","v":""},{"$f":"IF(ISBLANK($B254),\"\",LOOKUP($B254,Inscriptions!A$2:A$65496,Inscriptions!D$2:D$65498))","v":""},null,null,null,0,0,0,"",""]
[251,null,{"$f":"IF(ISBLANK($B255),\"\",LOOKUP($B255,Inscriptions!A$2:A$65496,Inscriptions!B$2:B$65498))","v":""},{"$f":"IF(ISBLANK($B255),\"\",LOOKUP($B255,Inscriptions!A$2:A$65496,Inscriptions!C$2:C$65498))","v":""},{"$f":"IF(ISBLANK($B255),\"\",LOOKUP($B255,Inscriptions!A$2:A$65496,Inscriptions!D$2:D$65498))","v":""},null,null,null,0,0,0,"",""]
[252,null,{"$f":"IF(ISBLANK($B256),\"\",LOOKUP($B256,Inscriptions!A$2:A$65496,Inscriptions!B$2:B$65498))","v":""},{"$f":"IF(ISBLANK($B256),\"\",LOOKUP($B256,Inscriptions!A$2:A$65496,Inscriptions!C$2:C$65498))","v":""},{"$f":"IF(ISBLANK($B256),\"\",LOOKUP($B256,Inscriptions!A$2:A$65496,Inscriptions!D$2:D$65498))","v":""},null,null,null,0,0,0,"",""]
[253,null,{"$f":"IF(ISBLANK($B257),\"\",LOOKUP($B257,Inscriptions!A$2:A$65496,Inscriptions!B$2:B$65498))","v":""},{"$f":"IF(ISBLANK($B257),\"\",LOOKUP($B257,Inscriptions!A$2:A$65496,Inscriptions!C$2:C$65498))","v":""},{"$f":"IF(ISBLANK($B257),\"\",LOOKUP($B257,Inscriptions!A$2:A$65496,Inscriptions!D$2:D$65498))","v":""},null,null,null,0,0,0,"",""]
[254,null,{"$f":"IF(ISBLANK($B258),\"\",LOOKUP($B258,Inscriptions!A$2:A$65496,Inscriptions!B$2:B$65498))","v":""},{"$f":"IF(ISBLANK($B258),\"\",LOOKUP($B258,Inscriptions!A$2:A$65496,Inscriptions!C$2:C$65498))","v":""},{"$f":"IF(ISBLANK($B258),\"\",LOOKUP($B258,Inscriptions!A$2:A$65496,Inscriptions!D$2:D$65498))","v":""},null,null,null,0,0,0,"",""]
[255,null,{"$f":"IF(ISBLANK($B259),\"\",LOOKUP($B259,Inscriptions!A$2:A$65496,Inscriptions!B$2:B$65498))","v":""},{"$f":"IF(ISBLANK($B259),\"\",LOOKUP($B259,Inscriptions!A$2:A$65496,Inscriptions!C$2:C$65498))","v":""},{"$f":"IF(ISBLANK($B259),\"\",LOOKUP($B259,Inscriptions!A$2:A$65496,Inscriptions!D$2:D$65498))","v":""},null,null,null,0,0,0,"",""]
[256,null,{"$f":"IF(ISBLANK($B260),\"\",LOOKUP($B260,Inscriptions!A$2:A$65496,Inscriptions!B$2:B$65498))","v":""},{"$f":"IF(ISBLANK($B260),\"\",LOOKUP($B260,Inscriptions!A$2:A$65496,Inscriptions!C$2:C$65498))","v":""},{"$f":"IF(ISBLANK($B260),\"\",LOOKUP($B260,Inscriptions!A$2:A$65496,Inscriptions!D$2:D$65498))","v":""},null,null,null,0,0,0,"",""]
[257,null,{"$f":"IF(ISBLANK($B261),\"\",LOOKUP($B261,Inscriptions!A$2:A$65496,Inscriptions!B$2:B$65498))","v":""},{"$f":"IF(ISBLANK($B261),\"\",LOOKUP($B261,Inscriptions!A$2:A$65496,Inscriptions!C$2:C$65498))","v":""},{"$f":"IF(ISBLANK($B261),\"\",LOOKUP($B261,Inscriptions!A$2:A$65496,Inscriptions!D$2:D$65498))","v":""},null,null,null,0,0,0,"",""]
[258,null,{"$f":"IF(ISBLANK($B262),\"\",LOOKUP($B262,Inscriptions!A$2:A$65496,Inscriptions!B$2:B$65498))","v":""},{"$f":"IF(ISBLANK($B262),\"\",LOOKUP($B262,Inscriptions!A$2:A$65496,Inscriptions!C$2:C$65498))","v":""},{"$f":"IF(ISBLANK($B262),\"\",LOOKUP($B262,Inscriptions!A$2:A$65496,Inscriptions!D$2:D$65498))","v":""},null,null,null,{"$f":"ROUNDDOWN(H262/10000,0)","v":0},{"$f":"ROUNDDOWN((H262-I262*10000)/100,0)","v":0},{"$f":"ROUNDDOWN((H262-(I262*10000)-(J262*100)),0)","v":0},{"$f":"IF((I262+J262+K262)=0,\"\",ROUNDDOWN((L$4/((I262*3600)+(J262*60)+K262))*3.6,2))","v":""},{"$f":"IF(L262=\"\",\"\",\"km/h\")","v":""}]
[259,null,{"$f":"IF(ISBLANK($B263),\"\",LOOKUP($B263,Inscriptions!A$2:A$65496,Inscriptions!B$2:B$65498))","v":""},{"$f":"IF(ISBLANK($B263),\"\",LOOKUP($B263,Inscriptions!A$2:A$65496,Inscriptions!C$2:C$65498))","v":""},{"$f":"IF(ISBLANK($B263),\"\",LOOKUP($B263,Inscriptions!A$2:A$65496,Inscriptions!D$2:D$65498))","v":""},null,null,null,0,0,0,"",""]
[260,null,{"$f":"IF(ISBLANK($B264),\"\",LOOKUP($B264,Inscriptions!A$2:A$65496,Inscriptions!B$2:B$65498))","v":""},{"$f":"IF(ISBLANK($B264),\"\",LOOKUP($B264,Inscriptions!A$2:A$65496,Inscriptions!C$2:C$65498))","v":""},{"$f":"IF(ISBLANK($B264),\"\",LOOKUP($B264,Inscriptions!A$2:A$65496,Inscriptions!D$2:D$65498))","v":""},null,null,null,0,0,0,"",""]
[261,null,{"$f":"IF(ISBLANK($B265),\"\",LOOKUP($B265,Inscriptions!A$2:A$65496,Inscriptions!B$2:B$65498))","v":""},{"$f":"IF(ISBLANK($B265),\"\",LOOKUP($B265,Inscriptions!A$2:A$65496,Inscriptions!C$2:C$65498))","v":""},{"$f":"IF(ISBLANK($B265),\"\",LOOKUP($B265,Inscriptions!A$2:A$65496,Inscriptions!D$2:D$65498))","v":""},null,null,null,0,0,0,"",""]
[262,null,{"$f":"IF(ISBLANK($B266),\"\",LOOKUP($B266,Inscriptions!A$2:A$65496,Inscriptions!B$2:B$65498))","v":""},{"$f":"IF(ISBLANK($B266),\"\",LOOKUP($B266,Inscriptions!A$2:A$65496,Inscriptions!C$2:C$65498))","v":""},{"$f":"IF(ISBLANK($B266),\"\",LOOKUP($B266,Inscriptions!A$2:A$65496,Inscriptions!D$2:D$65498))","v":""},null,null,null,0,0,0,"",""]
[263,null,{"$f":"IF(ISBLANK($B267),\"\",LOOKUP($B267,Inscriptions!A$2:A$65496,Inscriptions!B$2:B$65498))","v":""},{"$f":"IF(ISBLANK($B267),\"\",LOOKUP($B267,Inscriptions!A$2:A$65496,Inscriptions!C$2:C$65498))","v":""},{"$f":"IF(ISBLANK($B267),\"\",LOOKUP($B267,Inscriptions!A$2:A$65496,Inscriptions!D$2:D$65498))","v":""},null,null,null,0,0,0,"",""]
[264,null,{"$f":"IF(ISBLANK($B268),\"\",LOOKUP($B268,Inscriptions!A$2:A$65496,Inscriptions!B$2:B$65498))","v":""},{"$f":"IF(ISBLANK($B268),\"\",LOOKUP($B268,Inscriptions!A$2:A$65496,Inscriptions!C$2:C$65498))","v":""},{"$f":"IF(ISBLANK($B268),\"\",LOOKUP($B268,Inscriptions!A$2:A$65496,Inscriptions!D$2:D$65498))","v":""},null,null,null,0,0,0,"",""]
[265,null,{"$f":"IF(ISBLANK($B269),\"\",LOOKUP($B269,Inscriptions!A$2:A$65496,Inscriptions!B$2:B$65498))","v":""},{"$f":"IF(ISBLANK($B269),\"\",LOOKUP($B269,Inscriptions!A$2:A$65496,Inscriptions!C$2:C$65498))","v":""},{"$f":"IF(ISBLANK($B269),\"\",LOOKUP($B269,Inscriptions!A$2:A$65496,Inscriptions!D$2:D$65498))","v":""},null,null,null,0,0,0,"",""]
[266,null,{"$f":"IF(ISBLANK($B270),\"\",LOOKUP($B270,Inscriptions!A$2:A$65496,Inscriptions!B$2:B$65498))","v":""},{"$f":"IF(ISBLANK($B270),\"\",LOOKUP($B270,Inscriptions!A$2:A$65496,Inscriptions!C$2:C$65498))","v":""},{"$f":"IF(ISBLANK($B270),\"\",LOOKUP($B270,Inscriptions!A$2:A$65496,Inscriptions!D$2:D$65498))","v":""},null,null,null,0,0,0,"",""]
[267,null,{"$f":"IF(ISBLANK($B271),\"\",LOOKUP($B271,Inscriptions!A$2:A$65496,Inscriptions!B$2:B$65498))","v":""},{"$f":"IF(ISBLANK($B271),\"\",LOOKUP($B271,Inscriptions!A$2:A$65496,Inscriptions!C$2:C$65498))","v":""},{"$f":"IF(ISBLANK($B271),\"\",LOOKUP($B271,Inscriptions!A$2:A$65496,Inscriptions!D$2:D$65498))","v":""},null,null,null,0,0,0,"",""]
[268,null,{"$f":"IF(ISBLANK($B272),\"\",LOOKUP($B272,Inscriptions!A$2:A$65496,Inscriptions!B$2:B$65498))","v":""},{"$f":"IF(ISBLANK($B272),\"\",LOOKUP($B272,Inscriptions!A$2:A$65496,Inscriptions!C$2:C$65498))","v":""},{"$f":"IF(ISBLANK($B272),\"\",LOOKUP($B272,Inscriptions!A$2:A$65496,Inscriptions!D$2:D$65498))","v":""},null,null,null,0,0,0,"",""]
[269,null,{"$f":"IF(ISBLANK($B273),\"\",LOOKUP($B273,Inscriptions!A$2:A$65496,Inscriptions!B$2:B$65498))","v":""},{"$f":"IF(ISBLANK($B273),\"\",LOOKUP($B273,Inscriptions!A$2:A$65496,Inscriptions!C$2:C$65498))","v":""},{"$f":"IF(ISBLANK($B273),\"\",LOOKUP($B273,Inscriptions!A$2:A$65496,Inscriptions!D$2:D$65498))","v":""},null,null,null,0,0,0,"",""]
[270,null,{"$f":"IF(ISBLANK($B274),\"\",LOOKUP($B274,Inscriptions!A$2:A$65496,Inscriptions!B$2:B$65498))","v":""},{"$f":"IF(ISBLANK($B274),\"\",LOOKUP($B274,Inscriptions!A$2:A$65496,Inscriptions!C$2:C$65498))","v":""},{"$f":"IF(ISBLANK($B274),\"\",LOOKUP($B274,Inscriptions!A$2:A$65496,Inscriptions!D$2:D$65498))","v":""},null,null,null,0,0,0,"",""]
[271,null,{"$f":"IF(ISBLANK($B275),\"\",LOOKUP($B275,Inscriptions!A$2:A$65496,Inscriptions!B$2:B$65498))","v":""},{"$f":"IF(ISBLANK($B275),\"\",LOOKUP($B275,Inscriptions!A$2:A$65496,Inscriptions!C$2:C$65498))","v":""},{"$f":"IF(ISBLANK($B275),\"\",LOOKUP($B275,Inscriptions!A$2:A$65496,Inscriptions!D$2:D$65498))","v":""},null,null,null,0,0,0,"",""]
[272,null,{"$f":"IF(ISBLANK($B276),\"\",LOOKUP($B276,Inscriptions!A$2:A$65496,Inscriptions!B$2:B$65498))","v":""},{"$f":"IF(ISBLANK($B276),\"\",LOOKUP($B276,Inscriptions!A$2:A$65496,Inscriptions!C$2:C$65498))","v":""},{"$f":"IF(ISBLANK($B276),\"\",LOOKUP($B276,Inscriptions!A$2:A$65496,Inscriptions!D$2:D$65498))","v":""},null,null,null,0,0,0,"",""]
[273,null,{"$f":"IF(ISBLANK($B277),\"\",LOOKUP($B277,Inscriptions!A$2:A$65496,Inscriptions!B$2:B$65498))","v":""},{"$f":"IF(ISBLANK($B277),\"\",LOOKUP($B277,Inscriptions!A$2:A$65496,Inscriptions!C$2:C$65498))","v":""},{"$f":"IF(ISBLANK($B277),\"\",LOOKUP($B277,Inscriptions!A$2:A$65496,Inscriptions!D$2:D$65498))","v":""},null,null,null,0,0,0,"",""]
[274,null,{"$f":"IF(ISBLANK($B278),\"\",LOOKUP($B278,Inscriptions!A$2:A$65496,Inscriptions!B$2:B$65498))","v":""},{"$f":"IF(ISBLANK($B278),\"\",LOOKUP($B278,Inscriptions!A$2:A$65496,Inscriptions!C$2:C$65498))","v":""},{"$f":"IF(ISBLANK($B278),\"\",LOOKUP($B278,Inscriptions!A$2:A$65496,Inscriptions!D$2:D$65498))","v":""},null,null,null,0,0,0,"",""]
[275,null,{"$f":"IF(ISBLANK($B279),\"\",LOOKUP($B279,Inscriptions!A$2:A$65496,Inscriptions!B$2:B$65498))","v":""},{"$f":"IF(ISBLANK($B279),\"\",LOOKUP($B279,Inscriptions!A$2:A$65496,Inscriptions!C$2:C$65498))","v":""},{"$f":"IF(ISBLANK($B279),\"\",LOOKUP($B279,Inscriptions!A$2:A$65496,Inscriptions!D$2:D$65498))","v":""},null,null,null,0,0,0,"",""]
[276,null,{"$f":"IF(ISBLANK($B280),\"\",LOOKUP($B280,Inscriptions!A$2:A$65496,Inscriptions!B$2:B$65498))","v":""},{"$f":"IF(ISBLANK($B280),\"\",LOOKUP($B280,Inscriptions!A$2:A$65496,Inscriptions!C$2:C$65498))","v":""},{"$f":"IF(ISBLANK($B280),\"\",LOOKUP($B280,Inscriptions!A$2:A$65496,Inscriptions!D$2:D$65498))","v":""},null,null,null,0,0,0,"",""]
[277,null,{"$f":"IF(ISBLANK($B281),\"\",LOOKUP($B281,Inscriptions!A$2:A$65496,Inscriptions!B$2:B$65498))","v":""},{"$f":"IF(ISBLANK($B281),\"\",LOOKUP($B281,Inscriptions!A$2:A$65496,Inscriptions!C$2:C$65498))","v":""},{"$f":"IF(ISBLANK($B281),\"\",LOOKUP($B281,Inscriptions!A$2:A$65496,Inscriptions!D$2:D$65498))","v":""},null,null,null,0,0,0,"",""]
[278,null,{"$f":"IF(ISBLANK($B282),\"\",LOOKUP($B282,Inscriptions!A$2:A$65496,Inscriptions!B$2:B$65498))","v":""},{"$f":"IF(ISBLANK($B282),\"\",LOOKUP($B282,Inscriptions!A$2:A$65496,Inscriptions!C$2:C$65498))","v":""},{"$f":"IF(ISBLANK($B282),\"\",LOOKUP($B282,Inscriptions!A$2:A$65496,Inscriptions!D$2:D$65498))","v":""},null,null,null,0,0,0,"",""]
[279,null,{"$f":"IF(ISBLANK($B283),\"\",LOOKUP($B283,Inscriptions!A$2:A$65496,Inscriptions!B$2:B$65498))","v":""},{"$f":"IF(ISBLANK($B283),\"\",LOOKUP($B283,Inscriptions!A$2:A$65496,Inscriptions!C$2:C$65498))","v":""},{"$f":"IF(ISBLANK($B283),\"\",LOOKUP($B283,Inscriptions!A$2:A$65496,Inscriptions!D$2:D$65498))","v":""},null,null,null,0,0,0,"",""]
[280,null,{"$f":"IF(ISBLANK($B284),\"\",LOOKUP($B284,Inscriptions!A$2:A$65496,Inscriptions!B$2:B$65498))","v":""},{"$f":"IF(ISBLANK($B284),\"\",LOOKUP($B284,Inscriptions!A$2:A$65496,Inscriptions!C$2:C$65498))","v":""},{"$f":"IF(ISBLANK($B284),\"\",LOOKUP($B284,Inscriptions!A$2:A$65496,Inscriptions!D$2:D$65498))","v":""},null,null,null,0,0,0,"",""]
[281,null,{"$f":"IF(ISBLANK($B285),\"\",LOOKUP($B285,Inscriptions!A$2:A$65496,Inscriptions!B$2:B$65498))","v":""},{"$f":"IF(ISBLANK($B285),\"\",LOOKUP($B285,Inscriptions!A$2:A$65496,Inscriptions!C$2:C$65498))","v":""},{"$f":"IF(ISBLANK($B285),\"\",LOOKUP($B285,Inscriptions!A$2:A$65496,Inscriptions!D$2:D$65498))","v":""},null,null,null,0,0,0,"",""]
[282,null,{"$f":"IF(ISBLANK($B286),\"\",LOOKUP($B286,Inscriptions!A$2:A$65496,Inscriptions!B$2:B$65498))","v":""},{"$f":"IF(ISBLANK($B286),\"\",LOOKUP($B286,Inscriptions!A$2:A$65496,Inscriptions!C$2:C$65498))","v":""},{"$f":"IF(ISBLANK($B286),\"\",LOOKUP($B286,Inscriptions!A$2:A$65496,Inscriptions!D$2:D$65498))","v":""},null,null,null,0,0,0,"",""]
[283,null,{"$f":"IF(ISBLANK($B287),\"\",LOOKUP($B287,Inscriptions!A$2:A$65496,Inscriptions!B$2:B$65498))","v":""},{"$f":"IF(ISBLANK($B287),\"\",LOOKUP($B287,Inscriptions!A$2:A$65496,Inscriptions!C$2:C$65498))","v":""},{"$f":"IF(ISBLANK($B287),\"\",LOOKUP($B287,Inscriptions!A$2:A$65496,Inscriptions!D$2:D$65498))","v":""},null,null,null,0,0,0,"",""]
[284,null,{"$f":"IF(ISBLANK($B288),\"\",LOOKUP($B288,Inscriptions!A$2:A$65496,Inscriptions!B$2:B$65498))","v":""},{"$f":"IF(ISBLANK($B288),\"\",LOOKUP($B288,Inscriptions!A$2:A$65496,Inscriptions!C$2:C$65498))","v":""},{"$f":"IF(ISBLANK($B288),\"\",LOOKUP($B288,Inscriptions!A$2:A$65496,Inscriptions!D$2:D$65498))","v":""},null,null,null,0,0,0,"",""]
[285,null,{"$f":"IF(ISBLANK($B289),\"\",LOOKUP($B289,Inscriptions!A$2:A$65496,Inscriptions!B$2:B$65498))","v":""},{"$f":"IF(ISBLANK($B289),\"\",LOOKUP($B289,Inscriptions!A$2:A$65496,Inscriptions!C$2:C$65498))","v":""},{"$f":"IF(ISBLANK($B289),\"\",LOOKUP($B289,Inscriptions!A$2:A$65496,Inscriptions!D$2:D$65498))","v":""},null,null,null,0,0,0,"",""]
[286,null,{"$f":"IF(ISBLANK($B290),\"\",LOOKUP($B290,Inscriptions!A$2:A$65496,Inscriptions!B$2:B$65498))","v":""},{"$f":"IF(ISBLANK($B290),\"\",LOOKUP($B290,Inscriptions!A$2:A$65496,Inscriptions!C$2:C$65498))","v":""},{"$f":"IF(ISBLANK($B290),\"\",LOOKUP($B290,Inscriptions!A$2:A$65496,Inscriptions!D$2:D$65498))","v":""},null,null,null,0,0,0,"",""]
[287,null,{"$f":"IF(ISBLANK($B291),\"\",LOOKUP($B291,Inscriptions!A$2:A$65496,Inscriptions!B$2:B$65498))","v":""},{"$f":"IF(ISBLANK($B291),\"\",LOOKUP($B291,Inscriptions!A$2:A$65496,Inscriptions!C$2:C$65498))","v":""},{"$f":"IF(ISBLANK($B291),\"\",LOOKUP($B291,Inscriptions!A$2:A$65496,Inscriptions!D$2:D$65498))","v":""},null,null,null,0,0,0,"",""]
[288,null,{"$f":"IF(ISBLANK($B292),\"\",LOOKUP($B292,Inscriptions!A$2:A$65496,Inscriptions!B$2:B$65498))","v":""},{"$f":"IF(ISBLANK($B292),\"\",LOOKUP($B292,Inscriptions!A$2:A$65496,Inscriptions!C$2:C$65498))","v":""},{"$f":"IF(ISBLANK($B292),\"\",LOOKUP($B292,Inscriptions!A$2:A$65496,Inscriptions!D$2:D$65498))","v":""},null,null,null,0,0,0,"",""]
[289,null,{"$f":"IF(ISBLANK($B293),\"\",LOOKUP($B293,Inscriptions!A$2:A$65496,Inscriptions!B$2:B$65498))","v":""},{"$f":"IF(ISBLANK($B293),\"\",LOOKUP($B293,Inscriptions!A$2:A$65496,Inscriptions!C$2:C$65498))","v":""},{"$f":"IF(ISBLANK($B293),\"\",LOOKUP($B293,Inscriptions!A$2:A$65496,Inscriptions!D$2:D$65498))","v":""},null,null,null,0,0,0,"",""]
[290,null,{"$f":"IF(ISBLANK($B294),\"\",LOOKUP($B294,Inscriptions!A$2:A$65496,Inscriptions!B$2:B$65498))","v":""},{"$f":"IF(ISBLANK($B294),\"\",LOOKUP($B294,Inscriptions!A$2:A$65496,Inscriptions!C$2:C$65498))","v":""},{"$f":"IF(ISBLANK($B294),\"\",LOOKUP($B294,Inscriptions!A$2:A$65496,Inscriptions!D$2:D$65498))","v":""},null,null,null,0,0,0,"",""]
[291,null,{"$f":"IF(ISBLANK($B295),\"\",LOOKUP($B295,Inscriptions!A$2:A$65496,Inscriptions!B$2:B$65498))","v":""},{"$f":"IF(ISBLANK($B295),\"\",LOOKUP($B295,Inscriptions!A$2:A$65496,Inscriptions!C$2:C$65498))","v":""},{"$f":"IF(ISBLANK($B295),\"\",LOOKUP($B295,Inscriptions!A$2:A$65496,Inscriptions!D$2:D$65498))","v":""},null,null,null,0,0,0,"",""]
[292,null,{"$f":"IF(ISBLANK($B296),\"\",LOOKUP($B296,Inscriptions!A$2:A$65496,Inscriptions!B$2:B$65498))","v":""},{"$f":"IF(ISBLANK($B296),\"\",LOOKUP($B296,Inscriptions!A$2:A$65496,Inscriptions!C$2:C$65498))","v":""},{"$f":"IF(ISBLANK($B296),\"\",LOOKUP($B296,Inscriptions!A$2:A$65496,Inscriptions!D$2:D$65498))","v":""},null,null,null,0,0,0,"",""]
[293,null,{"$f":"IF(ISBLANK($B297),\"\",LOOKUP($B297,Inscriptions!A$2:A$65496,Inscriptions!B$2:B$65498))","v":""},{"$f":"IF(ISBLANK($B297),\"\",LOOKUP($B297,Inscriptions!A$2:A$65496,Inscriptions!C$2:C$65498))","v":""},{"$f":"IF(ISBLANK($B297),\"\",LOOKUP($B297,Inscriptions!A$2:A$65496,Inscriptions!D$2:D$65498))","v":""},null,null,null,0,0,0,"",""]
[294,null,{"$f":"IF(ISBLANK($B298),\"\",LOOKUP($B298,Inscriptions!A$2:A$65496,Inscriptions!B$2:B$65498))","v":""},{"$f":"IF(ISBLANK($B298),\"\",LOOKUP($B298,Inscriptions!A$2:A$65496,Inscriptions!C$2:C$65498))","v":""},{"$f":"IF(ISBLANK($B298),\"\",LOOKUP($B298,Inscriptions!A$2:A$65496,Inscriptions!D$2:D$65498))","v":""},null,null,null,0,0,0,"",""]
[295,null,{"$f":"IF(ISBLANK($B299),\"\",LOOKUP($B299,Inscriptions!A$2:A$65496,Inscriptions!B$2:B$65498))","v":""},{"$f":"IF(ISBLANK($B299),\"\",LOOKUP($B299,Inscriptions!A$2:A$65496,Inscriptions!C$2:C$65498))","v":""},{"$f":"IF(ISBLANK($B299),\"\",LOOKUP($B299,Inscriptions!A$2:A$65496,Inscriptions!D$2:D$65498))","v":""},null,null,null,0,0,0,"",""]
[296,null,{"$f":"IF(ISBLANK($B300),\"\",LOOKUP($B300,Inscriptions!A$2:A$65496,Inscriptions!B$2:B$65498))","v":""},{"$f":"IF(ISBLANK($B300),\"\",LOOKUP($B300,Inscriptions!A$2:A$65496,Inscriptions!C$2:C$65498))","v":""},{"$f":"IF(ISBLANK($B300),\"\",LOOKUP($B300,Inscriptions!A$2:A$65496,Inscriptions!D$2:D$65498))","v":""},null,null,null,0,0,0,"",""]
[297,null,{"$f":"IF(ISBLANK($B301),\"\",LOOKUP($B301,Inscriptions!A$2:A$65496,Inscriptions!B$2:B$65498))","v":""},{"$f":"IF(ISBLANK($B301),\"\",LOOKUP($B301,Inscriptions!A$2:A$65496,Inscriptions!C$2:C$65498))","v":""},{"$f":"IF(ISBLANK($B301),\"\",LOOKUP($B301,Inscriptions!A$2:A$65496,Inscriptions!D$2:D$65498))","v":""},null,null,null,0,0,0,"",""]
[298,null,{"$f":"IF(ISBLANK($B302),\"\",LOOKUP($B302,Inscriptions!A$2:A$65496,Inscriptions!B$2:B$65498))","v":""},{"$f":"IF(ISBLANK($B302),\"\",LOOKUP($B302,Inscriptions!A$2:A$65496,Inscriptions!C$2:C$65498))","v":""},{"$f":"IF(ISBLANK($B302),\"\",LOOKUP($B302,Inscriptions!A$2:A$65496,Inscriptions!D$2:D$65498))","v":""},null,null,null,null,null,null,{"$f":"IF((I302+J302+K302)=0,\"\",ROUNDDOWN((L$4/((I302*3600)+(J302*60)+K302))*3.6,2))","v":""},""]
[299,null,{"$f":"IF(ISBLANK($B303),\"\",LOOKUP($B303,Inscriptions!A$2:A$65496,Inscriptions!B$2:B$65498))","v":""},{"$f":"IF(ISBLANK($B303),\"\",LOOKUP($B303,Inscriptions!A$2:A$65496,Inscriptions!C$2:C$65498))","v":""},{"$f":"IF(ISBLANK($B303),\"\",LOOKUP($B303,Inscriptions!A$2:A$65496,Inscriptions!D$2:D$65498))","v":""},null,null,null,null,null,null,"",""]
[300,null,{"$f":"IF(ISBLANK($B304),\"\",LOOKUP($B304,Inscriptions!A$2:A$65496,Inscriptions!B$2:B$65498))","v":""},{"$f":"IF(ISBLANK($B304),\"\",LOOKUP($B304,Inscriptions!A$2:A$65496,Inscriptions!C$2:C$65498))","v":""},{"$f":"IF(ISBLANK($B304),\"\",LOOKUP($B304,Inscriptions!A$2:A$65496,Inscriptions!D$2:D$65498))","v":""},null,null,null,null,null,null,"",""]
[301,null,{"$f":"IF(ISBLANK($B305),\"\",LOOKUP($B305,Inscriptions!A$2:A$65496,Inscriptions!B$2:B$65498))","v":""},{"$f":"IF(ISBLANK($B305),\"\",LOOKUP($B305,Inscriptions!A$2:A$65496,Inscriptions!C$2:C$65498))","v":""},{"$f":"IF(ISBLANK($B305),\"\",LOOKUP($B305,Inscriptions!A$2:A$65496,Inscriptions!D$2:D$65498))","v":""},null,null,null,null,null,null,"",""]
[302,null,{"$f":"IF(ISBLANK($B306),\"\",LOOKUP($B306,Inscriptions!A$2:A$65496,Inscriptions!B$2:B$65498))","v":""},{"$f":"IF(ISBLANK($B306),\"\",LOOKUP($B306,Inscriptions!A$2:A$65496,Inscriptions!C$2:C$65498))","v":""},{"$f":"IF(ISBLANK($B306),\"\",LOOKUP($B306,Inscriptions!A$2:A$65496,Inscriptions!D$2:D$65498))","v":""},null,null,null,null,null,null,"",""]
[303,null,{"$f":"IF(ISBLANK($B307),\"\",LOOKUP($B307,Inscriptions!A$2:A$65496,Inscriptions!B$2:B$65498))","v":""},{"$f":"IF(ISBLANK($B307),\"\",LOOKUP($B307,Inscriptions!A$2:A$65496,Inscriptions!C$2:C$65498))","v":""},{"$f":"IF(ISBLANK($B307),\"\",LOOKUP($B307,Inscriptions!A$2:A$65496,Inscriptions!D$2:D$65498))","v":""},null,null,null,null,null,null,"",""]
[304,null,{"$f":"IF(ISBLANK($B308),\"\",LOOKUP($B308,Inscriptions!A$2:A$65496,Inscriptions!B$2:B$65498))","v":""},{"$f":"IF(ISBLANK($B308),\"\",LOOKUP($B308,Inscriptions!A$2:A$65496,Inscriptions!C$2:C$65498))","v":""},{"$f":"IF(ISBLANK($B308),\"\",LOOKUP($B308,Inscriptions!A$2:A$65496,Inscriptions!D$2:D$65498))","v":""},null,null,null,null,null,null,"",""]
[305,null,{"$f":"IF(ISBLANK($B309),\"\",LOOKUP($B309,Inscriptions!A$2:A$65496,Inscriptions!B$2:B$65498))","v":""},{"$f":"IF(ISBLANK($B309),\"\",LOOKUP($B309,Inscriptions!A$2:A$65496,Inscriptions!C$2:C$65498))","v":""},{"$f":"IF(ISBLANK($B309),\"\",LOOKUP($B309,Inscriptions!A$2:A$65496,Inscriptions!D$2:D$65498))","v":""},null,null,null,null,null,null,"",""]
[306,null,{"$f":"IF(ISBLANK($B310),\"\",LOOKUP($B310,Inscriptions!A$2:A$65496,Inscriptions!B$2:B$65498))","v":""},{"$f":"IF(ISBLANK($B310),\"\",LOOKUP($B310,Inscriptions!A$2:A$65496,Inscriptions!C$2:C$65498))","v":""},{"$f":"IF(ISBLANK($B310),\"\",LOOKUP($B310,Inscriptions!A$2:A$65496,Inscriptions!D$2:D$65498))","v":""},null,null,null,null,null,null,"",""]
[307,null,{"$f":"IF(ISBLANK($B311),\"\",LOOKUP($B311,Inscriptions!A$2:A$65496,Inscriptions!B$2:B$65498))","v":""},{"$f":"IF(ISBLANK($B311),\"\",LOOKUP($B311,Inscriptions!A$2:A$65496,Inscriptions!C$2:C$65498))","v":""},{"$f":"IF(ISBLANK($B311),\"\",LOOKUP($B311,Inscriptions!A$2:A$65496,Inscriptions!D$2:D$65498))","v":""},null,null,null,null,null,null,"",""]
[308,null,{"$f":"IF(ISBLANK($B312),\"\",LOOKUP($B312,Inscriptions!A$2:A$65496,Inscriptions!B$2:B$65498))","v":""},{"$f":"IF(ISBLANK($B312),\"\",LOOKUP($B312,Inscriptions!A$2:A$65496,Inscriptions!C$2:C$65498))","v":""},{"$f":"IF(ISBLANK($B312),\"\",LOOKUP($B312,Inscriptions!A$2:A$65496,Inscriptions!D$2:D$65498))","v":""},null,null,null,null,null,null,"",""]
[309,null,{"$f":"IF(ISBLANK($B313),\"\",LOOKUP($B313,Inscriptions!A$2:A$65496,Inscriptions!B$2:B$65498))","v":""},{"$f":"IF(ISBLANK($B313),\"\",LOOKUP($B313,Inscriptions!A$2:A$65496,Inscriptions!C$2:C$65498))","v":""},{"$f":"IF(ISBLANK($B313),\"\",LOOKUP($B313,Inscriptions!A$2:A$65496,Inscriptions!D$2:D$65498))","v":""},null,null,null,null,null,null,"",""]
[310,null,{"$f":"IF(ISBLANK($B314),\"\",LOOKUP($B314,Inscriptions!A$2:A$65496,Inscriptions!B$2:B$65498))","v":""},{"$f":"IF(ISBLANK($B314),\"\",LOOKUP($B314,Inscriptions!A$2:A$65496,Inscriptions!C$2:C$65498))","v":""},{"$f":"IF(ISBLANK($B314),\"\",LOOKUP($B314,Inscriptions!A$2:A$65496,Inscriptions!D$2:D$65498))","v":""},null,null,null,null,null,null,"",""]
[311,null,{"$f":"IF(ISBLANK($B315),\"\",LOOKUP($B315,Inscriptions!A$2:A$65496,Inscriptions!B$2:B$65498))","v":""},{"$f":"IF(ISBLANK($B315),\"\",LOOKUP($B315,Inscriptions!A$2:A$65496,Inscriptions!C$2:C$65498))","v":""},{"$f":"IF(ISBLANK($B315),\"\",LOOKUP($B315,Inscriptions!A$2:A$65496,Inscriptions!D$2:D$65498))","v":""},null,null,null,null,null,null,"",""]
[312,null,{"$f":"IF(ISBLANK($B316),\"\",LOOKUP($B316,Inscriptions!A$2:A$65496,Inscriptions!B$2:B$65498))","v":""},{"$f":"IF(ISBLANK($B316),\"\",LOOKUP($B316,Inscriptions!A$2:A$65496,Inscriptions!C$2:C$65498))","v":""},{"$f":"IF(ISBLANK($B316),\"\",LOOKUP($B316,Inscriptions!A$2:A$65496,Inscriptions!D$2:D$65498))","v":""},null,null,null,null,null,null,"",""]
[313,null,{"$f":"IF(ISBLANK($B317),\"\",LOOKUP($B317,Inscriptions!A$2:A$65496,Inscriptions!B$2:B$65498))","v":""},{"$f":"IF(ISBLANK($B317),\"\",LOOKUP($B317,Inscriptions!A$2:A$65496,Inscriptions!C$2:C$65498))","v":""},{"$f":"IF(ISBLANK($B317),\"\",LOOKUP($B317,Inscriptions!A$2:A$65496,Inscriptions!D$2:D$65498))","v":""},null,null,null,null,null,null,"",""]
[314,null,{"$f":"IF(ISBLANK($B318),\"\",LOOKUP($B318,Inscriptions!A$2:A$65496,Inscriptions!B$2:B$65498))","v":""},{"$f":"IF(ISBLANK($B318),\"\",LOOKUP($B318,Inscriptions!A$2:A$65496,Inscriptions!C$2:C$65498))","v":""},{"$f":"IF(ISBLANK($B318),\"\",LOOKUP($B318,Inscriptions!A$2:A$65496,Inscriptions!D$2:D$65498))","v":""},null,null,null,null,null,null,"",""]
[315,null,{"$f":"IF(ISBLANK($B319),\"\",LOOKUP($B319,Inscriptions!A$2:A$65496,Inscriptions!B$2:B$65498))","v":""},{"$f":"IF(ISBLANK($B319),\"\",LOOKUP($B319,Inscriptions!A$2:A$65496,Inscriptions!C$2:C$65498))","v":""},{"$f":"IF(ISBLANK($B319),\"\",LOOKUP($B319,Inscriptions!A$2:A$65496,Inscriptions!D$2:D$65498))","v":""},null,null,null,null,null,null,"",""]
[316,null,{"$f":"IF(ISBLANK($B320),\"\",LOOKUP($B320,Inscriptions!A$2:A$65496,Inscriptions!B$2:B$65498))","v":""},{"$f":"IF(ISBLANK($B320),\"\",LOOKUP($B320,Inscriptions!A$2:A$65496,Inscriptions!C$2:C$65498))","v":""},{"$f":"IF(ISBLANK($B320),\"\",LOOKUP($B320,Inscriptions!A$2:A$65496,Inscriptions!D$2:D$65498))","v":""},null,null,null,null,null,null,"",""]
[317,null,{"$f":"IF(ISBLANK($B321),\"\",LOOKUP($B321,Inscriptions!A$2:A$65496,Inscriptions!B$2:B$65498))","v":""},{"$f":"IF(ISBLANK($B321),\"\",LOOKUP($B321,Inscriptions!A$2:A$65496,Inscriptions!C$2:C$65498))","v":""},{"$f":"IF(ISBLANK($B321),\"\",LOOKUP($B321,Inscriptions!A$2:A$65496,Inscriptions!D$2:D$65498))","v":""},null,null,null,null,null,null,"",""]
[318,null,{"$f":"IF(ISBLANK($B322),\"\",LOOKUP($B322,Inscriptions!A$2:A$65496,Inscriptions!B$2:B$65498))","v":""},{"$f":"IF(ISBLANK($B322),\"\",LOOKUP($B322,Inscriptions!A$2:A$65496,Inscriptions!C$2:C$65498))","v":""},{"$f":"IF(ISBLANK($B322),\"\",LOOKUP($B322,Inscriptions!A$2:A$65496,Inscriptions!D$2:D$65498))","v":""},null,null,null,null,null,null,"",""]
[319,null,{"$f":"IF(ISBLANK($B323),\"\",LOOKUP($B323,Inscriptions!A$2:A$65496,Inscriptions!B$2:B$65498))","v":""},{"$f":"IF(ISBLANK($B323),\"\",LOOKUP($B323,Inscriptions!A$2:A$65496,Inscriptions!C$2:C$65498))","v":""},{"$f":"IF(ISBLANK($B323),\"\",LOOKUP($B323,Inscriptions!A$2:A$65496,Inscriptions!D$2:D$65498))","v":""},null,null,null,null,null,null,"",""]
[320,null,{"$f":"IF(ISBLANK($B324),\"\",LOOKUP($B324,Inscriptions!A$2:A$65496,Inscriptions!B$2:B$65498))","v":""},{"$f":"IF(ISBLANK($B324),\"\",LOOKUP($B324,Inscriptions!A$2:A$65496,Inscriptions!C$2:C$65498))","v":""},{"$f":"IF(ISBLANK($B324),\"\",LOOKUP($B324,Inscriptions!A$2:A$65496,Inscriptions!D$2:D$65498))","v":""},null,null,null,null,null,null,"",""]
[321,null,{"$f":"IF(ISBLANK($B325),\"\",LOOKUP($B325,Inscriptions!A$2:A$65496,Inscriptions!B$2:B$65498))","v":""},{"$f":"IF(ISBLANK($B325),\"\",LOOKUP($B325,Inscriptions!A$2:A$65496,Inscriptions!C$2:C$65498))","v":""},{"$f":"IF(ISBLANK($B325),\"\",LOOKUP($B325,Inscriptions!A$2:A$65496,Inscriptions!D$2:D$65498))","v":""},null,null,null,null,null,null,"",""]
[322,null,{"$f":"IF(ISBLANK($B326),\"\",LOOKUP($B326,Inscriptions!A$2:A$65496,Inscriptions!B$2:B$65498))","v":""},{"$f":"IF(ISBLANK($B326),\"\",LOOKUP($B326,Inscriptions!A$2:A$65496,Inscriptions!C$2:C$65498))","v":""},{"$f":"IF(ISBLANK($B326),\"\",LOOKUP($B326,Inscriptions!A$2:A$65496,Inscriptions!D$2:D$65498))","v":""},null,null,null,null,null,null,"",{"$f":"IF(L326=\"\",\"\",\"km/h\")","v":""}]
[323,null,{"$f":"IF(ISBLANK($B327),\"\",LOOKUP($B327,Inscriptions!A$2:A$65496,Inscriptions!B$2:B$65498))","v":""},{"$f":"IF(ISBLANK($B327),\"\",LOOKUP($B327,Inscriptions!A$2:A$65496,Inscriptions!C$2:C$65498))","v":""},{"$f":"IF(ISBLANK($B327),\"\",LOOKUP($B327,Inscriptions!A$2:A$65496,Inscriptions!D$2:D$65498))","v":""},null,null,null,null,null,null,"",""]
[324,null,{"$f":"IF(ISBLANK($B328),\"\",LOOKUP($B328,Inscriptions!A$2:A$65496,Inscriptions!B$2:B$65498))","v":""},{"$f":"IF(ISBLANK($B328),\"\",LOOKUP($B328,Inscriptions!A$2:A$65496,Inscriptions!C$2:C$65498))","v":""},{"$f":"IF(ISBLANK($B328),\"\",LOOKUP($B328,Inscriptions!A$2:A$65496,Inscriptions!D$2:D$65498))","v":""},null,null,null,null,null,null,"",""]
[325,null,{"$f":"IF(ISBLANK($B329),\"\",LOOKUP($B329,Inscriptions!A$2:A$65496,Inscriptions!B$2:B$65498))","v":""},{"$f":"IF(ISBLANK($B329),\"\",LOOKUP($B329,Inscriptions!A$2:A$65496,Inscriptions!C$2:C$65498))","v":""},{"$f":"IF(ISBLANK($B329),\"\",LOOKUP($B329,Inscriptions!A$2:A$65496,Inscriptions!D$2:D$65498))","v":""},null,null,null,null,null,null,"",""]
[326,null,{"$f":"IF(ISBLANK($B330),\"\",LOOKUP($B330,Inscriptions!A$2:A$65496,Inscriptions!B$2:B$65498))","v":""},{"$f":"IF(ISBLANK($B330),\"\",LOOKUP($B330,Inscriptions!A$2:A$65496,Inscriptions!C$2:C$65498))","v":""},{"$f":"IF(ISBLANK($B330),\"\",LOOKUP($B330,Inscriptions!A$2:A$65496,Inscriptions!D$2:D$65498))","v":""},null,null,null,null,null,null,"",""]
[327,null,{"$f":"IF(ISBLANK($B331),\"\",LOOKUP($B331,Inscriptions!A$2:A$65496,Inscriptions!B$2:B$65498))","v":""},{"$f":"IF(ISBLANK($B331),\"\",LOOKUP($B331,Inscriptions!A$2:A$65496,Inscriptions!C$2:C$65498))","v":""},{"$f":"IF(ISBLANK($B331),\"\",LOOKUP($B331,Inscriptions!A$2:A$65496,Inscriptions!D$2:D$65498))","v":""},null,null,null,null,null,null,"",""]
[328,null,{"$f":"IF(ISBLANK($B332),\"\",LOOKUP($B332,Inscriptions!A$2:A$65496,Inscriptions!B$2:B$65498))","v":""},{"$f":"IF(ISBLANK($B332),\"\",LOOKUP($B332,Inscriptions!A$2:A$65496,Inscriptions!C$2:C$65498))","v":""},{"$f":"IF(ISBLANK($B332),\"\",LOOKUP($B332,Inscriptions!A$2:A$65496,Inscriptions!D$2:D$65498))","v":""},null,null,null,null,null,null,"",""]
[329,null,{"$f":"IF(ISBLANK($B333),\"\",LOOKUP($B333,Inscriptions!A$2:A$65496,Inscriptions!B$2:B$65498))","v":""},{"$f":"IF(ISBLANK($B333),\"\",LOOKUP($B333,Inscriptions!A$2:A$65496,Inscriptions!C$2:C$65498))","v":""},{"$f":"IF(ISBLANK($B333),\"\",LOOKUP($B333,Inscriptions!A$2:A$65496,Inscriptions!D$2:D$65498))","v":""},null,null,null,null,null,null,"",""]
[330,null,{"$f":"IF(ISBLANK($B334),\"\",LOOKUP($B334,Inscriptions!A$2:A$65496,Inscriptions!B$2:B$65498))","v":""},{"$f":"IF(ISBLANK($B334),\"\",LOOKUP($B334,Inscriptions!A$2:A$65496,Inscriptions!C$2:C$65498))","v":""},{"$f":"IF(ISBLANK($B334),\"\",LOOKUP($B334,Inscriptions!A$2:A$65496,Inscriptions!D$2:D$65498))","v":""},null,null,null,null,null,null,"",""]
[331,null,{"$f":"IF(ISBLANK($B335),\"\",LOOKUP($B335,Inscriptions!A$2:A$65496,Inscriptions!B$2:B$65498))","v":""},{"$f":"IF(ISBLANK($B335),\"\",LOOKUP($B335,Inscriptions!A$2:A$65496,Inscriptions!C$2:C$65498))","v":""},{"$f":"IF(ISBLANK($B335),\"\",LOOKUP($B335,Inscriptions!A$2:A$65496,Inscriptions!D$2:D$65498))","v":""},null,null,null,null,null,null,"",""]
[332,null,{"$f":"IF(ISBLANK($B336),\"\",LOOKUP($B336,Inscriptions!A$2:A$65496,Inscriptions!B$2:B$65498))","v":""},{"$f":"IF(ISBLANK($B336),\"\",LOOKUP($B336,Inscriptions!A$2:A$65496,Inscriptions!C$2:C$65498))","v":""},{"$f":"IF(ISBLANK($B336),\"\",LOOKUP($B336,Inscriptions!A$2:A$65496,Inscriptions!D$2:D$65498))","v":""},null,null,null,null,null,null,"",""]
[333,null,{"$f":"IF(ISBLANK($B337),\"\",LOOKUP($B337,Inscriptions!A$2:A$65496,Inscriptions!B$2:B$65498))","v":""},{"$f":"IF(ISBLANK($B337),\"\",LOOKUP($B337,Inscriptions!A$2:A$65496,Inscriptions!C$2:C$65498))","v":""},{"$f":"IF(ISBLANK($B337),\"\",LOOKUP($B337,Inscriptions!A$2:A$65496,Inscriptions!D$2:D$65498))","v":""},null,null,null,null,null,null,"",""]
[334,null,{"$f":"IF(ISBLANK($B338),\"\",LOOKUP($B338,Inscriptions!A$2:A$65496,Inscriptions!B$2:B$65498))","v":""},{"$f":"IF(ISBLANK($B338),\"\",LOOKUP($B338,Inscriptions!A$2:A$65496,Inscriptions!C$2:C$65498))","v":""},{"$f":"IF(ISBLANK($B338),\"\",LOOKUP($B338,Inscriptions!A$2:A$65496,Inscriptions!D$2:D$65498))","v":""},null,null,null,null,null,null,"",""]
[335,null,{"$f":"IF(ISBLANK($B339),\"\",LOOKUP($B339,Inscriptions!A$2:A$65496,Inscriptions!B$2:B$65498))","v":""},{"$f":"IF(ISBLANK($B339),\"\",LOOKUP($B339,Inscriptions!A$2:A$65496,Inscriptions!C$2:C$65498))","v":""},{"$f":"IF(ISBLANK($B339),\"\",LOOKUP($B339,Inscriptions!A$2:A$65496,Inscriptions!D$2:D$65498))","v":""},null,null,null,null,null,null,"",""]
[336,null,{"$f":"IF(ISBLANK($B340),\"\",LOOKUP($B340,Inscriptions!A$2:A$65496,Inscriptions!B$2:B$65498))","v":""},{"$f":"IF(ISBLANK($B340),\"\",LOOKUP($B340,Inscriptions!A$2:A$65496,Inscriptions!C$2:C$65498))","v":""},{"$f":"IF(ISBLANK($B340),\"\",LOOKUP($B340,Inscriptions!A$2:A$65496,Inscriptions!D$2:D$65498))","v":""},null,null,null,null,null,null,"",""]
[337,null,{"$f":"IF(ISBLANK($B341),\"\",LOOKUP($B341,Inscriptions!A$2:A$65496,Inscriptions!B$2:B$65498))","v":""},{"$f":"IF(ISBLANK($B341),\"\",LOOKUP($B341,Inscriptions!A$2:A$65496,Inscriptions!C$2:C$65498))","v":""},{"$f":"IF(ISBLANK($B341),\"\",LOOKUP($B341,Inscriptions!A$2:A$65496,Inscriptions!D$2:D$65498))","v":""},null,null,null,null,null,null,"",""]
[338,null,{"$f":"IF(ISBLANK($B342),\"\",LOOKUP($B342,Inscriptions!A$2:A$65496,Inscriptions!B$2:B$65498))","v":""},{"$f":"IF(ISBLANK($B342),\"\",LOOKUP($B342,Inscriptions!A$2:A$65496,Inscriptions!C$2:C$65498))","v":""},{"$f":"IF(ISBLANK($B342),\"\",LOOKUP($B342,Inscriptions!A$2:A$65496,Inscriptions!D$2:D$65498))","v":""},null,null,null,null,null,null,"",""]
[339,null,{"$f":"IF(ISBLANK($B343),\"\",LOOKUP($B343,Inscriptions!A$2:A$65496,Inscriptions!B$2:B$65498))","v":""},{"$f":"IF(ISBLANK($B343),\"\",LOOKUP($B343,Inscriptions!A$2:A$65496,Inscriptions!C$2:C$65498))","v":""},{"$f":"IF(ISBLANK($B343),\"\",LOOKUP($B343,Inscriptions!A$2:A$65496,Inscriptions!D$2:D$65498))","v":""},null,null,null,null,null,null,"",""]
[340,null,{"$f":"IF(ISBLANK($B344),\"\",LOOKUP($B344,Inscriptions!A$2:A$65496,Inscriptions!B$2:B$65498))","v":""},{"$f":"IF(ISBLANK($B344),\"\",LOOKUP($B344,Inscriptions!A$2:A$65496,Inscriptions!C$2:C$65498))","v":""},{"$f":"IF(ISBLANK($B344),\"\",LOOKUP($B344,Inscriptions!A$2:A$65496,Inscriptions!D$2:D$65498))","v":""},null,null,null,null,null,null,"",""]
[341,null,{"$f":"IF(ISBLANK($B345),\"\",LOOKUP($B345,Inscriptions!A$2:A$65496,Inscriptions!B$2:B$65498))","v":""},{"$f":"IF(ISBLANK($B345),\"\",LOOKUP($B345,Inscriptions!A$2:A$65496,Inscriptions!C$2:C$65498))","v":""},{"$f":"IF(ISBLANK($B345),\"\",LOOKUP($B345,Inscriptions!A$2:A$65496,Inscriptions!D$2:D$65498))","v":""},null,null,null,null,null,null,"",""]
[342,null,{"$f":"IF(ISBLANK($B346),\"\",LOOKUP($B346,Inscriptions!A$2:A$65496,Inscriptions!B$2:B$65498))","v":""},{"$f":"IF(ISBLANK($B346),\"\",LOOKUP($B346,Inscriptions!A$2:A$65496,Inscriptions!C$2:C$65498))","v":""},{"$f":"IF(ISBLANK($B346),\"\",LOOKUP($B346,Inscriptions!A$2:A$65496,Inscriptions!D$2:D$65498))","v":""},null,null,null,null,null,null,"",""]
[343,null,{"$f":"IF(ISBLANK($B347),\"\",LOOKUP($B347,Inscriptions!A$2:A$65496,Inscriptions!B$2:B$65498))","v":""},{"$f":"IF(ISBLANK($B347),\"\",LOOKUP($B347,Inscriptions!A$2:A$65496,Inscriptions!C$2:C$65498))","v":""},{"$f":"IF(ISBLANK($B347),\"\",LOOKUP($B347,Inscriptions!A$2:A$65496,Inscriptions!D$2:D$65498))","v":""},null,null,null,null,null,null,"",""]
[344,null,{"$f":"IF(ISBLANK($B348),\"\",LOOKUP($B348,Inscriptions!A$2:A$65496,Inscriptions!B$2:B$65498))","v":""},{"$f":"IF(ISBLANK($B348),\"\",LOOKUP($B348,Inscriptions!A$2:A$65496,Inscriptions!C$2:C$65498))","v":""},{"$f":"IF(ISBLANK($B348),\"\",LOOKUP($B348,Inscriptions!A$2:A$65496,Inscriptions!D$2:D$65498))","v":""},null,null,null,null,null,null,"",""]
[345,null,{"$f":"IF(ISBLANK($B349),\"\",LOOKUP($B349,Inscriptions!A$2:A$65496,Inscriptions!B$2:B$65498))","v":""},{"$f":"IF(ISBLANK($B349),\"\",LOOKUP($B349,Inscriptions!A$2:A$65496,Inscriptions!C$2:C$65498))","v":""},{"$f":"IF(ISBLANK($B349),\"\",LOOKUP($B349,Inscriptions!A$2:A$65496,Inscriptions!D$2:D$65498))","v":""},null,null,null,null,null,null,"",""]
[346,null,{"$f":"IF(ISBLANK($B350),\"\",LOOKUP($B350,Inscriptions!A$2:A$65496,Inscriptions!B$2:B$65498))","v":""},{"$f":"IF(ISBLANK($B350),\"\",LOOKUP($B350,Inscriptions!A$2:A$65496,Inscriptions!C$2:C$65498))","v":""},{"$f":"IF(ISBLANK($B350),\"\",LOOKUP($B350,Inscriptions!A$2:A$65496,Inscriptions!D$2:D$65498))","v":""},null,null,null,null,null,null,"",""]
[347,null,{"$f":"IF(ISBLANK($B351),\"\",LOOKUP($B351,Inscriptions!A$2:A$65496,Inscriptions!B$2:B$65498))","v":""},{"$f":"IF(ISBLANK($B351),\"\",LOOKUP($B351,Inscriptions!A$2:A$65496,Inscriptions!C$2:C$65498))","v":""},{"$f":"IF(ISBLANK($B351),\"\",LOOKUP($B351,Inscriptions!A$2:A$65496,Inscriptions!D$2:D$65498))","v":""},null,null,null,null,null,null,"",""]
[348,null,{"$f":"IF(ISBLANK($B352),\"\",LOOKUP($B352,Inscriptions!A$2:A$65496,Inscriptions!B$2:B$65498))","v":""},{"$f":"IF(ISBLANK($B352),\"\",LOOKUP($B352,Inscriptions!A$2:A$65496,Inscriptions!C$2:C$65498))","v":""},{"$f":"IF(ISBLANK($B352),\"\",LOOKUP($B352,Inscriptions!A$2:A$65496,Inscriptions!D$2:D$65498))","v":""},null,null,null,null,null,null,"",""]
[349,null,{"$f":"IF(ISBLANK($B353),\"\",LOOKUP($B353,Inscriptions!A$2:A$65496,Inscriptions!B$2:B$65498))","v":""},{"$f":"IF(ISBLANK($B353),\"\",LOOKUP($B353,Inscriptions!A$2:A$65496,Inscriptions!C$2:C$65498))","v":""},{"$f":"IF(ISBLANK($B353),\"\",LOOKUP($B353,Inscriptions!A$2:A$65496,Inscriptions!D$2:D$65498))","v":""},null,null,null,null,null,null,"",""]
[350,null,{"$f":"IF(ISBLANK($B354),\"\",LOOKUP($B354,Inscriptions!A$2:A$65496,Inscriptions!B$2:B$65498))","v":""},{"$f":"IF(ISBLANK($B354),\"\",LOOKUP($B354,Inscriptions!A$2:A$65496,Inscriptions!C$2:C$65498))","v":""},{"$f":"IF(ISBLANK($B354),\"\",LOOKUP($B354,Inscriptions!A$2:A$65496,Inscriptions!D$2:D$65498))","v":""},null,null,null,null,null,null,"",""]

{"sheet":"C11 CAM JUF","index":13,"n_rows":354,"n_cols":13,"rows_kept":354,"cut":false,"hidden":false,"merged":[[0,0,0,7],[1,0,1,7],[2,5,2,6]]}
["CROSS REGIONAL FSGT - STAINS - 18/01/2015"]
["CADETS - JUNIORS féminines  = 3 585 mètres"]
[]
["PLACE","DOSSARD","NOM / PRENOM","CAT","CLUB","CAM","JUF","TEMPS","h","m","s",3585,"m"]
[1,1120,{"$f":"IF(ISBLANK($B5),\"\",LOOKUP($B5,Inscriptions!A$2:A$65496,Inscriptions!B$2:B$65498))","v":"SAMASSA DAVID"},{"$f":"IF(ISBLANK($B5),\"\",LOOKUP($B5,Inscriptions!A$2:A$65496,Inscriptions!C$2:C$65498))","v":"CAM"},{"$f":"IF(ISBLANK($B5),\"\",LOOKUP($B5,Inscriptions!A$2:A$65496,Inscriptions!D$2:D$65498))","v":"ES STAINS"},1,null,1241,{"$f":"ROUNDDOWN(H5/10000,0)","v":0},{"$f":"ROUNDDOWN((H5-I5*10000)/100,0)","v":12},{"$f":"ROUNDDOWN((H5-(I5*10000)-(J5*100)),0)","v":41},{"$f":"IF((I5+J5+K5)=0,\"\",ROUNDDOWN((L$4/((I5*3600)+(J5*60)+K5))*3.6,2))","v":16.95},{"$f":"IF(L5=\"\",\"\",\"km/h\")","v":"km/h"}]
[2,375,{"$f":"IF(ISBLANK($B6),\"\",LOOKUP($B6,Inscriptions!A$2:A$65496,Inscriptions!B$2:B$65498))","v":"DA SILVA ROMAIN"},{"$f":"IF(ISBLANK($B6),\"\",LOOKUP($B6,Inscriptions!A$2:A$65496,Inscriptions!C$2:C$65498))","v":"CAM"},{"$f":"IF(ISBLANK($B6),\"\",LOOKUP($B6,Inscriptions!A$2:A$65496,Inscriptions!D$2:D$65498))","v":"ATHLE LE BOURGET DRANCY DUGNY"},2,null,1326,{"$f":"ROUNDDOWN(H6/10000,0)","v":0},{"$f":"ROUNDDOWN((H6-I6*10000)/100,0)","v":13},{"$f":"ROUNDDOWN((H6-(I6*10000)-(J6*100)),0)","v":26},{"$f":"IF((I6+J6+K6)=0,\"\",ROUNDDOWN((L$4/((I6*3600)+(J6*60)+K6))*3.6,2))","v":16.010000000000002},{"$f":"IF(L6=\"\",\"\",\"km/h\")","v":"km/h"}]
[3,380,{"$f":"IF(ISBLANK($B7),\"\",LOOKUP($B7,Inscriptions!A$2:A$65496,Inscriptions!B$2:B$65498))","v":"DJAHLAT HEDY"},{"$f":"IF(ISBLANK($B7),\"\",LOOKUP($B7,Inscriptions!A$2:A$65496,Inscriptions!C$2:C$65498))","v":"CAM"},{"$f":"IF(ISBLANK($B7),\"\",LOOKUP($B7,Inscriptions!A$2:A$65496,Inscriptions!D$2:D$65498))","v":"ATHLE LE BOURGET DRANCY DUGNY"},3,null,1327,0,13,27,15.99,"km/h"]
[4,1123,{"$f":"IF(ISBLANK($B8),\"\",LOOKUP($B8,Inscriptions!A$2:A$65496,Inscriptions!B$2:B$65498))","v":"SAMINADA BASKAR"},{"$f":"IF(ISBLANK($B8),\"\",LOOKUP($B8,Inscriptions!A$2:A$65496,Inscriptions!C$2:C$65498))","v":"CAM"},{"$f":"IF(ISBLANK($B8),\"\",LOOKUP($B8,Inscriptions!A$2:A$65496,Inscriptions!D$2:D$65498))","v":"ES STAINS"},4,null,1339,0,13,39,15.75,"km/h"]
[5,1109,{"$f":"IF(ISBLANK($B9),\"\",LOOKUP($B9,Inscriptions!A$2:A$65496,Inscriptions!B$2:B$65498))","v":"MODESTIN MORGAN"},{"$f":"IF(ISBLANK($B9),\"\",LOOKUP($B9,Inscriptions!A$2:A$65496,Inscriptions!C$2:C$65498))","v":"CAM"},{"$f":"IF(ISBLANK($B9),\"\",LOOKUP($B9,Inscriptions!A$2:A$65496,Inscriptions!D$2:D$65498))","v":"ES STAINS"},5,null,1345,0,13,45,15.64,"km/h"]
[6,696,{"$f":"IF(ISBLANK($B10),\"\",LOOKUP($B10,Inscriptions!A$2:A$65496,Inscriptions!B$2:B$65498))","v":"BANELHAG BILEL"},{"$f":"IF(ISBLANK($B10),\"\",LOOKUP($B10,Inscriptions!A$2:A$65496,Inscriptions!C$2:C$65498))","v":"CAM"},{"$f":"IF(ISBLANK($B10),\"\",LOOKUP($B10,Inscriptions!A$2:A$65496,Inscriptions!D$2:D$65498))","v":"COM ARGENTEUIL"},6,null,1349,0,13,49,15.56,"km/h"]
[7,1180,{"$f":"IF(ISBLANK($B11),\"\",LOOKUP($B11,Inscriptions!A$2:A$65496,Inscriptions!B$2:B$65498))","v":"DELAUNAY ALEXANDRE"},{"$f":"IF(ISBLANK($B11),\"\",LOOKUP($B11,Inscriptions!A$2:A$65496,Inscriptions!C$2:C$65498))","v":"CAM"},{"$f":"IF(ISBLANK($B11),\"\",LOOKUP($B11,Inscriptions!A$2:A$65496,Inscriptions!D$2:D$65498))","v":"ES VITRY"},7,null,1427,0,14,27,14.88,"km/h"]
[8,1714,{"$f":"IF(ISBLANK($B12),\"\",LOOKUP($B12,Inscriptions!A$2:A$65496,Inscriptions!B$2:B$65498))","v":"OUGIER YOHAN"},{"$f":"IF(ISBLANK($B12),\"\",LOOKUP($B12,Inscriptions!A$2:A$65496,Inscriptions!C$2:C$65498))","v":"CAM"},{"$f":"IF(ISBLANK($B12),\"\",LOOKUP($B12,Inscriptions!A$2:A$65496,Inscriptions!D$2:D$65498))","v":"TREMBLAY AC"},8,null,1431,0,14,31,14.81,"km/h"]
[9,1100,{"$f":"IF(ISBLANK($B13),\"\",LOOKUP($B13,Inscriptions!A$2:A$65496,Inscriptions!B$2:B$65498))","v":"LANGLOIS AXELLE"},{"$f":"IF(ISBLANK($B13),\"\",LOOKUP($B13,Inscriptions!A$2:A$65496,Inscriptions!C$2:C$65498))","v":"JUF"},{"$f":"IF(ISBLANK($B13),\"\",LOOKUP($B13,Inscriptions!A$2:A$65496,Inscriptions!D$2:D$65498))","v":"ES STAINS"},null,1,1439,0,14,39,14.68,"km/h"]
[10,1604,{"$f":"IF(ISBLANK($B14),\"\",LOOKUP($B14,Inscriptions!A$2:A$65496,Inscriptions!B$2:B$65498))","v":"AHAMADA SAMIR"},{"$f":"IF(ISBLANK($B14),\"\",LOOKUP($B14,Inscriptions!A$2:A$65496,Inscriptions!C$2:C$65498))","v":"CAM"},{"$f":"IF(ISBLANK($B14),\"\",LOOKUP($B14,Inscriptions!A$2:A$65496,Inscriptions!D$2:D$65498))","v":"TREMBLAY AC"},9,null,1639,0,16,39,12.91,"km/h"]
[11,1676,{"$f":"IF(ISBLANK($B15),\"\",LOOKUP($B15,Inscriptions!A$2:A$65496,Inscriptions!B$2:B$65498))","v":"ISIDORE NATHAN"},{"$f":"IF(ISBLANK($B15),\"\",LOOKUP($B15,Inscriptions!A$2:A$65496,Inscriptions!C$2:C$65498))","v":"CAM"},{"$f":"IF(ISBLANK($B15),\"\",LOOKUP($B15,Inscriptions!A$2:A$65496,Inscriptions!D$2:D$65498))","v":"TREMBLAY AC"},10,null,1652,0,16,52,12.75,"km/h"]
[12,745,{"$f":"IF(ISBLANK($B16),\"\",LOOKUP($B16,Inscriptions!A$2:A$65496,Inscriptions!B$2:B$65498))","v":"CESAR ALLISON"},{"$f":"IF(ISBLANK($B16),\"\",LOOKUP($B16,Inscriptions!A$2:A$65496,Inscriptions!C$2:C$65498))","v":"JUF"},{"$f":"IF(ISBLANK($B16),\"\",LOOKUP($B16,Inscriptions!A$2:A$65496,Inscriptions!D$2:D$65498))","v":"COURIR POUR LE PLAISIR"},null,2,1845,0,18,45,11.47,"km/h"]
[13,451,{"$f":"IF(ISBLANK($B17),\"\",LOOKUP($B17,Inscriptions!A$2:A$65496,Inscriptions!B$2:B$65498))","v":"PAGEIX ANNE"},{"$f":"IF(ISBLANK($B17),\"\",LOOKUP($B17,Inscriptions!A$2:A$65496,Inscriptions!C$2:C$65498))","v":"JUF"},{"$f":"IF(ISBLANK($B17),\"\",LOOKUP($B17,Inscriptions!A$2:A$65496,Inscriptions!D$2:D$65498))","v":"ATHLE LE BOURGET DRANCY DUGNY"},null,3,2030,0,20,30,10.49,"km/h"]
[14,null,{"$f":"IF(ISBLANK($B18),\"\",LOOKUP($B18,Inscriptions!A$2:A$65496,Inscriptions!B$2:B$65498))","v":""},{"$f":"IF(ISBLANK($B18),\"\",LOOKUP($B18,Inscriptions!A$2:A$65496,Inscriptions!C$2:C$65498))","v":""},{"$f":"IF(ISBLANK($B18),\"\",LOOKUP($B18,Inscriptions!A$2:A$65496,Inscriptions!D$2:D$65498))","v":""},null,null,null,0,0,0,"",""]
[15,null,{"$f":"IF(ISBLANK($B19),\"\",LOOKUP($B19,Inscriptions!A$2:A$65496,Inscriptions!B$2:B$65498))","v":""},{"$f":"IF(ISBLANK($B19),\"\",LOOKUP($B19,Inscriptions!A$2:A$65496,Inscriptions!C$2:C$65498))","v":""},{"$f":"IF(ISBLANK($B19),\"\",LOOKUP($B19,Inscriptions!A$2:A$65496,Inscriptions!D$2:D$65498))","v":""},null,null,null,0,0,0,"",""]
[16,null,{"$f":"IF(ISBLANK($B20),\"\",LOOKUP($B20,Inscriptions!A$2:A$65496,Inscriptions!B$2:B$65498))","v":""},{"$f":"IF(ISBLANK($B20),\"\",LOOKUP($B20,Inscriptions!A$2:A$65496,Inscriptions!C$2:C$65498))","v":""},{"$f":"IF(ISBLANK($B20),\"\",LOOKUP($B20,Inscriptions!A$2:A$65496,Inscriptions!D$2:D$65498))","v":""},null,null,null,0,0,0,"",""]
[17,null,{"$f":"IF(ISBLANK($B21),\"\",LOOKUP($B21,Inscriptions!A$2:A$65496,Inscriptions!B$2:B$65498))","v":""},{"$f":"IF(ISBLANK($B21),\"\",LOOKUP($B21,Inscriptions!A$2:A$65496,Inscriptions!C$2:C$65498))","v":""},{"$f":"IF(ISBLANK($B21),\"\",LOOKUP($B21,Inscriptions!A$2:A$65496,Inscriptions!D$2:D$65498))","v":""},null,null,null,0,0,0,"",""]
[18,null,{"$f":"IF(ISBLANK($B22),\"\",LOOKUP($B22,Inscriptions!A$2:A$65496,Inscriptions!B$2:B$65498))","v":""},{"$f":"IF(ISBLANK($B22),\"\",LOOKUP($B22,Inscriptions!A$2:A$65496,Inscriptions!C$2:C$65498))","v":""},{"$f":"IF(ISBLANK($B22),\"\",LOOKUP($B22,Inscriptions!A$2:A$65496,Inscriptions!D$2:D$65498))","v":""},null,null,null,0,0,0,"",""]
[19,null,{"$f":"IF(ISBLANK($B23),\"\",LOOKUP($B23,Inscriptions!A$2:A$65496,Inscriptions!B$2:B$65498))","v":""},{"$f":"IF(ISBLANK($B23),\"\",LOOKUP($B23,Inscriptions!A$2:A$65496,Inscriptions!C$2:C$65498))","v":""},{"$f":"IF(ISBLANK($B23),\"\",LOOKUP($B23,Inscriptions!A$2:A$65496,Inscriptions!D$2:D$65498))","v":""},null,null,null,0,0,0,"",""]
[20,null,{"$f":"IF(ISBLANK($B24),\"\",LOOKUP($B24,Inscriptions!A$2:A$65496,Inscriptions!B$2:B$65498))","v":""},{"$f":"IF(ISBLANK($B24),\"\",LOOKUP($B24,Inscriptions!A$2:A$65496,Inscriptions!C$2:C$65498))","v":""},{"$f":"IF(ISBLANK($B24),\"\",LOOKUP($B24,Inscriptions!A$2:A$65496,Inscriptions!D$2:D$65498))","v":""},null,null,null,0,0,0,"",""]
[21,null,{"$f":"IF(ISBLANK($B25),\"\",LOOKUP($B25,Inscriptions!A$2:A$65496,Inscriptions!B$2:B$65498))","v":""},{"$f":"IF(ISBLANK($B25),\"\",LOOKUP($B25,Inscriptions!A$2:A$65496,Inscriptions!C$2:C$65498))","v":""},{"$f":"IF(ISBLANK($B25),\"\",LOOKUP($B25,Inscriptions!A$2:A$65496,Inscriptions!D$2:D$65498))","v":""},null,null,null,0,0,0,"",""]
[22,null,{"$f":"IF(ISBLANK($B26),\"\",LOOKUP($B26,Inscriptions!A$2:A$65496,Inscriptions!B$2:B$65498))","v":""},{"$f":"IF(ISBLANK($B26),\"\",LOOKUP($B26,Inscriptions!A$2:A$65496,Inscriptions!C$2:C$65498))","v":""},{"$f":"IF(ISBLANK($B26),\"\",LOOKUP($B26,Inscriptions!A$2:A$65496,Inscriptions!D$2:D$65498))","v":""},null,null,null,0,0,0,"",""]
[23,null,{"$f":"IF(ISBLANK($B27),\"\",LOOKUP($B27,Inscriptions!A$2:A$65496,Inscriptions!B$2:B$65498))","v":""},{"$f":"IF(ISBLANK($B27),\"\",LOOKUP($B27,Inscriptions!A$2:A$65496,Inscriptions!C$2:C$65498))","v":""},{"$f":"IF(ISBLANK($B27),\"\",LOOKUP($B27,Inscriptions!A$2:A$65496,Inscriptions!D$2:D$65498))","v":""},null,null,null,0,0,0,"",""]
[24,null,{"$f":"IF(ISBLANK($B28),\"\",LOOKUP($B28,Inscriptions!A$2:A$65496,Inscriptions!B$2:B$65498))","v":""},{"$f":"IF(ISBLANK($B28),\"\",LOOKUP($B28,Inscriptions!A$2:A$65496,Inscriptions!C$2:C$65498))","v":""},{"$f":"IF(ISBLANK($B28),\"\",LOOKUP($B28,Inscriptions!A$2:A$65496,Inscriptions!D$2:D$65498))","v":""},null,null,null,0,0,0,"",""]
[25,null,{"$f":"IF(ISBLANK($B29),\"\",LOOKUP($B29,Inscriptions!A$2:A$65496,Inscriptions!B$2:B$65498))","v":""},{"$f":"IF(ISBLANK($B29),\"\",LOOKUP($B29,Inscriptions!A$2:A$65496,Inscriptions!C$2:C$65498))","v":""},{"$f":"IF(ISBLANK($B29),\"\",LOOKUP($B29,Inscriptions!A$2:A$65496,Inscriptions!D$2:D$65498))","v":""},null,null,null,0,0,0,"",""]
[26,null,{"$f":"IF(ISBLANK($B30),\"\",LOOKUP($B30,Inscriptions!A$2:A$65496,Inscriptions!B$2:B$65498))","v":""},{"$f":"IF(ISBLANK($B30),\"\",LOOKUP($B30,Inscriptions!A$2:A$65496,Inscriptions!C$2:C$65498))","v":""},{"$f":"IF(ISBLANK($B30),\"\",LOOKUP($B30,Inscriptions!A$2:A$65496,Inscriptions!D$2:D$65498))","v":""},null,null,null,0,0,0,"",""]
[27,null,{"$f":"IF(ISBLANK($B31),\"\",LOOKUP($B31,Inscriptions!A$2:A$65496,Inscriptions!B$2:B$65498))","v":""},{"$f":"IF(ISBLANK($B31),\"\",LOOKUP($B31,Inscriptions!A$2:A$65496,Inscriptions!C$2:C$65498))","v":""},{"$f":"IF(ISBLANK($B31),\"\",LOOKUP($B31,Inscriptions!A$2:A$65496,Inscriptions!D$2:D$65498))","v":""},null,null,null,0,0,0,"",""]
[28,null,{"$f":"IF(ISBLANK($B32),\"\",LOOKUP($B32,Inscriptions!A$2:A$65496,Inscriptions!B$2:B$65498))","v":""},{"$f":"IF(ISBLANK($B32),\"\",LOOKUP($B32,Inscriptions!A$2:A$65496,Inscriptions!C$2:C$65498))","v":""},{"$f":"IF(ISBLANK($B32),\"\",LOOKUP($B32,Inscriptions!A$2:A$65496,Inscriptions!D$2:D$65498))","v":""},null,null,null,0,0,0,"",""]
[29,null,{"$f":"IF(ISBLANK($B33),\"\",LOOKUP($B33,Inscriptions!A$2:A$65496,Inscriptions!B$2:B$65498))","v":""},{"$f":"IF(ISBLANK($B33),\"\",LOOKUP($B33,Inscriptions!A$2:A$65496,Inscriptions!C$2:C$65498))","v":""},{"$f":"IF(ISBLANK($B33),\"\",LOOKUP($B33,Inscriptions!A$2:A$65496,Inscriptions!D$2:D$65498))","v":""},null,null,null,0,0,0,"",""]
[30,null,{"$f":"IF(ISBLANK($B34),\"\",LOOKUP($B34,Inscriptions!A$2:A$65496,Inscriptions!B$2:B$65498))","v":""},{"$f":"IF(ISBLANK($B34),\"\",LOOKUP($B34,Inscriptions!A$2:A$65496,Inscriptions!C$2:C$65498))","v":""},{"$f":"IF(ISBLANK($B34),\"\",LOOKUP($B34,Inscriptions!A$2:A$65496,Inscriptions!D$2:D$65498))","v":""},null,null,null,0,0,0,"",""]
[31,null,{"$f":"IF(ISBLANK($B35),\"\",LOOKUP($B35,Inscriptions!A$2:A$65496,Inscriptions!B$2:B$65498))","v":""},{"$f":"IF(ISBLANK($B35),\"\",LOOKUP($B35,Inscriptions!A$2:A$65496,Inscriptions!C$2:C$65498))","v":""},{"$f":"IF(ISBLANK($B35),\"\",LOOKUP($B35,Inscriptions!A$2:A$65496,Inscriptions!D$2:D$65498))","v":""},null,null,null,0,0,0,"",""]
[32,null,{"$f":"IF(ISBLANK($B36),\"\",LOOKUP($B36,Inscriptions!A$2:A$65496,Inscriptions!B$2:B$65498))","v":""},{"$f":"IF(ISBLANK($B36),\"\",LOOKUP($B36,Inscriptions!A$2:A$65496,Inscriptions!C$2:C$65498))","v":""},{"$f":"IF(ISBLANK($B36),\"\",LOOKUP($B36,Inscriptions!A$2:A$65496,Inscriptions!D$2:D$65498))","v":""},null,null,null,0,0,0,"",""]
[33,null,{"$f":"IF(ISBLANK($B37),\"\",LOOKUP($B37,Inscriptions!A$2:A$65496,Inscriptions!B$2:B$65498))","v":""},{"$f":"IF(ISBLANK($B37),\"\",LOOKUP($B37,Inscriptions!A$2:A$65496,Inscriptions!C$2:C$65498))","v":""},{"$f":"IF(ISBLANK($B37),\"\",LOOKUP($B37,Inscriptions!A$2:A$65496,Inscriptions!D$2:D$65498))","v":""},null,null,null,0,0,0,"",""]
[34,null,{"$f":"IF(ISBLANK($B38),\"\",LOOKUP($B38,Inscriptions!A$2:A$65496,Inscriptions!B$2:B$65498))","v":""},{"$f":"IF(ISBLANK($B38),\"\",LOOKUP($B38,Inscriptions!A$2:A$65496,Inscriptions!C$2:C$65498))","v":""},{"$f":"IF(ISBLANK($B38),\"\",LOOKUP($B38,Inscriptions!A$2:A$65496,Inscriptions!D$2:D$65498))","v":""},null,null,null,0,0,0,"",""]
[35,null,{"$f":"IF(ISBLANK($B39),\"\",LOOKUP($B39,Inscriptions!A$2:A$65496,Inscriptions!B$2:B$65498))","v":""},{"$f":"IF(ISBLANK($B39),\"\",LOOKUP($B39,Inscriptions!A$2:A$65496,Inscriptions!C$2:C$65498))","v":""},{"$f":"IF(ISBLANK($B39),\"\",LOOKUP($B39,Inscriptions!A$2:A$65496,Inscriptions!D$2:D$65498))","v":""},null,null,null,0,0,0,"",""]
[36,null,{"$f":"IF(ISBLANK($B40),\"\",LOOKUP($B40,Inscriptions!A$2:A$65496,Inscriptions!B$2:B$65498))","v":""},{"$f":"IF(ISBLANK($B40),\"\",LOOKUP($B40,Inscriptions!A$2:A$65496,Inscriptions!C$2:C$65498))","v":""},{"$f":"IF(ISBLANK($B40),\"\",LOOKUP($B40,Inscriptions!A$2:A$65496,Inscriptions!D$2:D$65498))","v":""},null,null,null,0,0,0,"",""]
[37,null,{"$f":"IF(ISBLANK($B41),\"\",LOOKUP($B41,Inscriptions!A$2:A$65496,Inscriptions!B$2:B$65498))","v":""},{"$f":"IF(ISBLANK($B41),\"\",LOOKUP($B41,Inscriptions!A$2:A$65496,Inscriptions!C$2:C$65498))","v":""},{"$f":"IF(ISBLANK($B41),\"\",LOOKUP($B41,Inscriptions!A$2:A$65496,Inscriptions!D$2:D$65498))","v":""},null,null,null,0,0,0,"",""]
[38,null,{"$f":"IF(ISBLANK($B42),\"\",LOOKUP($B42,Inscriptions!A$2:A$65496,Inscriptions!B$2:B$65498))","v":""},{"$f":"IF(ISBLANK($B42),\"\",LOOKUP($B42,Inscriptions!A$2:A$65496,Inscriptions!C$2:C$65498))","v":""},{"$f":"IF(ISBLANK($B42),\"\",LOOKUP($B42,Inscriptions!A$2:A$65496,Inscriptions!D$2:D$65498))","v":""},null,null,null,0,0,0,"",""]
[39,null,{"$f":"IF(ISBLANK($B43),\"\",LOOKUP($B43,Inscriptions!A$2:A$65496,Inscriptions!B$2:B$65498))","v":""},{"$f":"IF(ISBLANK($B43),\"\",LOOKUP($B43,Inscriptions!A$2:A$65496,Inscriptions!C$2:C$65498))","v":""},{"$f":"IF(ISBLANK($B43),\"\",LOOKUP($B43,Inscriptions!A$2:A$65496,Inscriptions!D$2:D$65498))","v":""},null,null,null,0,0,0,"",""]
[40,null,{"$f":"IF(ISBLANK($B44),\"\",LOOKUP($B44,Inscriptions!A$2:A$65496,Inscriptions!B$2:B$65498))","v":""},{"$f":"IF(ISBLANK($B44),\"\",LOOKUP($B44,Inscriptions!A$2:A$65496,Inscriptions!C$2:C$65498))","v":""},{"$f":"IF(ISBLANK($B44),\"\",LOOKUP($B44,Inscriptions!A$2:A$65496,Inscriptions!D$2:D$65498))","v":""},null,null,null,0,0,0,"",""]
[41,null,{"$f":"IF(ISBLANK($B45),\"\",LOOKUP($B45,Inscriptions!A$2:A$65496,Inscriptions!B$2:B$65498))","v":""},{"$f":"IF(ISBLANK($B45),\"\",LOOKUP($B45,Inscriptions!A$2:A$65496,Inscriptions!C$2:C$65498))","v":""},{"$f":"IF(ISBLANK($B45),\"\",LOOKUP($B45,Inscriptions!A$2:A$65496,Inscriptions!D$2:D$65498))","v":""},null,null,null,0,0,0,"",""]
[42,null,{"$f":"IF(ISBLANK($B46),\"\",LOOKUP($B46,Inscriptions!A$2:A$65496,Inscriptions!B$2:B$65498))","v":""},{"$f":"IF(ISBLANK($B46),\"\",LOOKUP($B46,Inscriptions!A$2:A$65496,Inscriptions!C$2:C$65498))","v":""},{"$f":"IF(ISBLANK($B46),\"\",LOOKUP($B46,Inscriptions!A$2:A$65496,Inscriptions!D$2:D$65498))","v":""},null,null,null,0,0,0,"",""]
[43,null,{"$f":"IF(ISBLANK($B47),\"\",LOOKUP($B47,Inscriptions!A$2:A$65496,Inscriptions!B$2:B$65498))","v":""},{"$f":"IF(ISBLANK($B47),\"\",LOOKUP($B47,Inscriptions!A$2:A$65496,Inscriptions!C$2:C$65498))","v":""},{"$f":"IF(ISBLANK($B47),\"\",LOOKUP($B47,Inscriptions!A$2:A$65496,Inscriptions!D$2:D$65498))","v":""},null,null,null,0,0,0,"",""]
[44,null,{"$f":"IF(ISBLANK($B48),\"\",LOOKUP($B48,Inscriptions!A$2:A$65496,Inscriptions!B$2:B$65498))","v":""},{"$f":"IF(ISBLANK($B48),\"\",LOOKUP($B48,Inscriptions!A$2:A$65496,Inscriptions!C$2:C$65498))","v":""},{"$f":"IF(ISBLANK($B48),\"\",LOOKUP($B48,Inscriptions!A$2:A$65496,Inscriptions!D$2:D$65498))","v":""},null,null,null,0,0,0,"",""]
[45,null,{"$f":"IF(ISBLANK($B49),\"\",LOOKUP($B49,Inscriptions!A$2:A$65496,Inscriptions!B$2:B$65498))","v":""},{"$f":"IF(ISBLANK($B49),\"\",LOOKUP($B49,Inscriptions!A$2:A$65496,Inscriptions!C$2:C$65498))","v":""},{"$f":"IF(ISBLANK($B49),\"\",LOOKUP($B49,Inscriptions!A$2:A$65496,Inscriptions!D$2:D$65498))","v":""},null,null,null,0,0,0,"",""]
[46,null,{"$f":"IF(ISBLANK($B50),\"\",LOOKUP($B50,Inscriptions!A$2:A$65496,Inscriptions!B$2:B$65498))","v":""},{"$f":"IF(ISBLANK($B50),\"\",LOOKUP($B50,Inscriptions!A$2:A$65496,Inscriptions!C$2:C$65498))","v":""},{"$f":"IF(ISBLANK($B50),\"\",LOOKUP($B50,Inscriptions!A$2:A$65496,Inscriptions!D$2:D$65498))","v":""},null,null,null,0,0,0,"",""]
[47,null,{"$f":"IF(ISBLANK($B51),\"\",LOOKUP($B51,Inscriptions!A$2:A$65496,Inscriptions!B$2:B$65498))","v":""},{"$f":"IF(ISBLANK($B51),\"\",LOOKUP($B51,Inscriptions!A$2:A$65496,Inscriptions!C$2:C$65498))","v":""},{"$f":"IF(ISBLANK($B51),\"\",LOOKUP($B51,Inscriptions!A$2:A$65496,Inscriptions!D$2:D$65498))","v":""},null,null,null,0,0,0,"",""]
[48,null,{"$f":"IF(ISBLANK($B52),\"\",LOOKUP($B52,Inscriptions!A$2:A$65496,Inscriptions!B$2:B$65498))","v":""},{"$f":"IF(ISBLANK($B52),\"\",LOOKUP($B52,Inscriptions!A$2:A$65496,Inscriptions!C$2:C$65498))","v":""},{"$f":"IF(ISBLANK($B52),\"\",LOOKUP($B52,Inscriptions!A$2:A$65496,Inscriptions!D$2:D$65498))","v":""},null,null,null,0,0,0,"",""]
[49,null,{"$f":"IF(ISBLANK($B53),\"\",LOOKUP($B53,Inscriptions!A$2:A$65496,Inscriptions!B$2:B$65498))","v":""},{"$f":"IF(ISBLANK($B53),\"\",LOOKUP($B53,Inscriptions!A$2:A$65496,Inscriptions!C$2:C$65498))","v":""},{"$f":"IF(ISBLANK($B53),\"\",LOOKUP($B53,Inscriptions!A$2:A$65496,Inscriptions!D$2:D$65498))","v":""},null,null,null,0,0,0,"",""]
[50,null,{"$f":"IF(ISBLANK($B54),\"\",LOOKUP($B54,Inscriptions!A$2:A$65496,Inscriptions!B$2:B$65498))","v":""},{"$f":"IF(ISBLANK($B54),\"\",LOOKUP($B54,Inscriptions!A$2:A$65496,Inscriptions!C$2:C$65498))","v":""},{"$f":"IF(ISBLANK($B54),\"\",LOOKUP($B54,Inscriptions!A$2:A$65496,Inscriptions!D$2:D$65498))","v":""},null,null,null,0,0,0,"",""]
[51,null,{"$f":"IF(ISBLANK($B55),\"\",LOOKUP($B55,Inscriptions!A$2:A$65496,Inscriptions!B$2:B$65498))","v":""},{"$f":"IF(ISBLANK($B55),\"\",LOOKUP($B55,Inscriptions!A$2:A$65496,Inscriptions!C$2:C$65498))","v":""},{"$f":"IF(ISBLANK($B55),\"\",LOOKUP($B55,Inscriptions!A$2:A$65496,Inscriptions!D$2:D$65498))","v":""},null,null,null,0,0,0,"",""]
[52,null,{"$f":"IF(ISBLANK($B56),\"\",LOOKUP($B56,Inscriptions!A$2:A$65496,Inscriptions!B$2:B$65498))","v":""},{"$f":"IF(ISBLANK($B56),\"\",LOOKUP($B56,Inscriptions!A$2:A$65496,Inscriptions!C$2:C$65498))","v":""},{"$f":"IF(ISBLANK($B56),\"\",LOOKUP($B56,Inscriptions!A$2:A$65496,Inscriptions!D$2:D$65498))","v":""},null,null,null,0,0,0,"",""]
[53,null,{"$f":"IF(ISBLANK($B57),\"\",LOOKUP($B57,Inscriptions!A$2:A$65496,Inscriptions!B$2:B$65498))","v":""},{"$f":"IF(ISBLANK($B57),\"\",LOOKUP($B57,Inscriptions!A$2:A$65496,Inscriptions!C$2:C$65498))","v":""},{"$f":"IF(ISBLANK($B57),\"\",LOOKUP($B57,Inscriptions!A$2:A$65496,Inscriptions!D$2:D$65498))","v":""},null,null,null,0,0,0,"",""]
[54,null,{"$f":"IF(ISBLANK($B58),\"\",LOOKUP($B58,Inscriptions!A$2:A$65496,Inscriptions!B$2:B$65498))","v":""},{"$f":"IF(ISBLANK($B58),\"\",LOOKUP($B58,Inscriptions!A$2:A$65496,Inscriptions!C$2:C$65498))","v":""},{"$f":"IF(ISBLANK($B58),\"\",LOOKUP($B58,Inscriptions!A$2:A$65496,Inscriptions!D$2:D$65498))","v":""},null,null,null,0,0,0,"",""]
[55,null,{"$f":"IF(ISBLANK($B59),\"\",LOOKUP($B59,Inscriptions!A$2:A$65496,Inscriptions!B$2:B$65498))","v":""},{"$f":"IF(ISBLANK($B59),\"\",LOOKUP($B59,Inscriptions!A$2:A$65496,Inscriptions!C$2:C$65498))","v":""},{"$f":"IF(ISBLANK($B59),\"\",LOOKUP($B59,Inscriptions!A$2:A$65496,Inscriptions!D$2:D$65498))","v":""},null,null,null,0,0,0,"",""]
[56,null,{"$f":"IF(ISBLANK($B60),\"\",LOOKUP($B60,Inscriptions!A$2:A$65496,Inscriptions!B$2:B$65498))","v":""},{"$f":"IF(ISBLANK($B60),\"\",LOOKUP($B60,Inscriptions!A$2:A$65496,Inscriptions!C$2:C$65498))","v":""},{"$f":"IF(ISBLANK($B60),\"\",LOOKUP($B60,Inscriptions!A$2:A$65496,Inscriptions!D$2:D$65498))","v":""},null,null,null,0,0,0,"",""]
[57,null,{"$f":"IF(ISBLANK($B61),\"\",LOOKUP($B61,Inscriptions!A$2:A$65496,Inscriptions!B$2:B$65498))","v":""},{"$f":"IF(ISBLANK($B61),\"\",LOOKUP($B61,Inscriptions!A$2:A$65496,Inscriptions!C$2:C$65498))","v":""},{"$f":"IF(ISBLANK($B61),\"\",LOOKUP($B61,Inscriptions!A$2:A$65496,Inscriptions!D$2:D$65498))","v":""},null,null,null,0,0,0,"",""]
[58,null,{"$f":"IF(ISBLANK($B62),\"\",LOOKUP($B62,Inscriptions!A$2:A$65496,Inscriptions!B$2:B$65498))","v":""},{"$f":"IF(ISBLANK($B62),\"\",LOOKUP($B62,Inscriptions!A$2:A$65496,Inscriptions!C$2:C$65498))","v":""},{"$f":"IF(ISBLANK($B62),\"\",LOOKUP($B62,Inscriptions!A$2:A$65496,Inscriptions!D$2:D$65498))","v":""},null,null,null,0,0,0,"",""]
[59,null,{"$f":"IF(ISBLANK($B63),\"\",LOOKUP($B63,Inscriptions!A$2:A$65496,Inscriptions!B$2:B$65498))","v":""},{"$f":"IF(ISBLANK($B63),\"\",LOOKUP($B63,Inscriptions!A$2:A$65496,Inscriptions!C$2:C$65498))","v":""},{"$f":"IF(ISBLANK($B63),\"\",LOOKUP($B63,Inscriptions!A$2:A$65496,Inscriptions!D$2:D$65498))","v":""},null,null,null,0,0,0,"",""]
[60,null,{"$f":"IF(ISBLANK($B64),\"\",LOOKUP($B64,Inscriptions!A$2:A$65496,Inscriptions!B$2:B$65498))","v":""},{"$f":"IF(ISBLANK($B64),\"\",LOOKUP($B64,Inscriptions!A$2:A$65496,Inscriptions!C$2:C$65498))","v":""},{"$f":"IF(ISBLANK($B64),\"\",LOOKUP($B64,Inscriptions!A$2:A$65496,Inscriptions!D$2:D$65498))","v":""},null,null,null,0,0,0,"",""]
[61,null,{"$f":"IF(ISBLANK($B65),\"\",LOOKUP($B65,Inscriptions!A$2:A$65496,Inscriptions!B$2:B$65498))","v":""},{"$f":"IF(ISBLANK($B65),\"\",LOOKUP($B65,Inscriptions!A$2:A$65496,Inscriptions!C$2:C$65498))","v":""},{"$f":"IF(ISBLANK($B65),\"\",LOOKUP($B65,Inscriptions!A$2:A$65496,Inscriptions!D$2:D$65498))","v":""},null,null,null,0,0,0,"",""]
[62,null,{"$f":"IF(ISBLANK($B66),\"\",LOOKUP($B66,Inscriptions!A$2:A$65496,Inscriptions!B$2:B$65498))","v":""},{"$f":"IF(ISBLANK($B66),\"\",LOOKUP($B66,Inscriptions!A$2:A$65496,Inscriptions!C$2:C$65498))","v":""},{"$f":"IF(ISBLANK($B66),\"\",LOOKUP($B66,Inscriptions!A$2:A$65496,Inscriptions!D$2:D$65498))","v":""},null,null,null,0,0,0,"",""]
[63,null,{"$f":"IF(ISBLANK($B67),\"\",LOOKUP($B67,Inscriptions!A$2:A$65496,Inscriptions!B$2:B$65498))","v":""},{"$f":"IF(ISBLANK($B67),\"\",LOOKUP($B67,Inscriptions!A$2:A$65496,Inscriptions!C$2:C$65498))","v":""},{"$f":"IF(ISBLANK($B67),\"\",LOOKUP($B67,Inscriptions!A$2:A$65496,Inscriptions!D$2:D$65498))","v":""},null,null,null,0,0,0,"",""]
[64,null,{"$f":"IF(ISBLANK($B68),\"\",LOOKUP($B68,Inscriptions!A$2:A$65496,Inscriptions!B$2:B$65498))","v":""},{"$f":"IF(ISBLANK($B68),\"\",LOOKUP($B68,Inscriptions!A$2:A$65496,Inscriptions!C$2:C$65498))","v":""},{"$f":"IF(ISBLANK($B68),\"\",LOOKUP($B68,Inscriptions!A$2:A$65496,Inscriptions!D$2:D$65498))","v":""},null,null,null,0,0,0,"",""]
[65,null,{"$f":"IF(ISBLANK($B69),\"\",LOOKUP($B69,Inscriptions!A$2:A$65496,Inscriptions!B$2:B$65498))","v":""},{"$f":"IF(ISBLANK($B69),\"\",LOOKUP($B69,Inscriptions!A$2:A$65496,Inscriptions!C$2:C$65498))","v":""},{"$f":"IF(ISBLANK($B69),\"\",LOOKUP($B69,Inscriptions!A$2:A$65496,Inscriptions!D$2:D$65498))","v":""},null,null,null,0,0,0,"",""]
[66,null,{"$f":"IF(ISBLANK($B70),\"\",LOOKUP($B70,Inscriptions!A$2:A$65496,Inscriptions!B$2:B$65498))","v":""},{"$f":"IF(ISBLANK($B70),\"\",LOOKUP($B70,Inscriptions!A$2:A$65496,Inscriptions!C$2:C$65498))","v":""},{"$f":"IF(ISBLANK($B70),\"\",LOOKUP($B70,Inscriptions!A$2:A$65496,Inscriptions!D$2:D$65498))","v":""},null,null,null,{"$f":"ROUNDDOWN(H70/10000,0)","v":0},{"$f":"ROUNDDOWN((H70-I70*10000)/100,0)","v":0},{"$f":"ROUNDDOWN((H70-(I70*10000)-(J70*100)),0)","v":0},{"$f":"IF((I70+J70+K70)=0,\"\",ROUNDDOWN((L$4/((I70*3600)+(J70*60)+K70))*3.6,2))","v":""},{"$f":"IF(L70=\"\",\"\",\"km/h\")","v":""}]
[67,null,{"$f":"IF(ISBLANK($B71),\"\",LOOKUP($B71,Inscriptions!A$2:A$65496,Inscriptions!B$2:B$65498))","v":""},{"$f":"IF(ISBLANK($B71),\"\",LOOKUP($B71,Inscriptions!A$2:A$65496,Inscriptions!C$2:C$65498))","v":""},{"$f":"IF(ISBLANK($B71),\"\",LOOKUP($B71,Inscriptions!A$2:A$65496,Inscriptions!D$2:D$65498))","v":""},null,null,null,0,0,0,"",""]
[68,null,{"$f":"IF(ISBLANK($B72),\"\",LOOKUP($B72,Inscriptions!A$2:A$65496,Inscriptions!B$2:B$65498))","v":""},{"$f":"IF(ISBLANK($B72),\"\",LOOKUP($B72,Inscriptions!A$2:A$65496,Inscriptions!C$2:C$65498))","v":""},{"$f":"IF(ISBLANK($B72),\"\",LOOKUP($B72,Inscriptions!A$2:A$65496,Inscriptions!D$2:D$65498))","v":""},null,null,null,0,0,0,"",""]
[69,null,{"$f":"IF(ISBLANK($B73),\"\",LOOKUP($B73,Inscriptions!A$2:A$65496,Inscriptions!B$2:B$65498))","v":""},{"$f":"IF(ISBLANK($B73),\"\",LOOKUP($B73,Inscriptions!A$2:A$65496,Inscriptions!C$2:C$65498))","v":""},{"$f":"IF(ISBLANK($B73),\"\",LOOKUP($B73,Inscriptions!A$2:A$65496,Inscriptions!D$2:D$65498))","v":""},null,null,null,0,0,0,"",""]
[70,null,{"$f":"IF(ISBLANK($B74),\"\",LOOKUP($B74,Inscriptions!A$2:A$65496,Inscriptions!B$2:B$65498))","v":""},{"$f":"IF(ISBLANK($B74),\"\",LOOKUP($B74,Inscriptions!A$2:A$65496,Inscriptions!C$2:C$65498))","v":""},{"$f":"IF(ISBLANK($B74),\"\",LOOKUP($B74,Inscriptions!A$2:A$65496,Inscriptions!D$2:D$65498))","v":""},null,null,null,0,0,0,"",""]
[71,null,{"$f":"IF(ISBLANK($B75),\"\",LOOKUP($B75,Inscriptions!A$2:A$65496,Inscriptions!B$2:B$65498))","v":""},{"$f":"IF(ISBLANK($B75),\"\",LOOKUP($B75,Inscriptions!A$2:A$65496,Inscriptions!C$2:C$65498))","v":""},{"$f":"IF(ISBLANK($B75),\"\",LOOKUP($B75,Inscriptions!A$2:A$65496,Inscriptions!D$2:D$65498))","v":""},null,null,null,0,0,0,"",""]
[72,null,{"$f":"IF(ISBLANK($B76),\"\",LOOKUP($B76,Inscriptions!A$2:A$65496,Inscriptions!B$2:B$65498))","v":""},{"$f":"IF(ISBLANK($B76),\"\",LOOKUP($B76,Inscriptions!A$2:A$65496,Inscriptions!C$2:C$65498))","v":""},{"$f":"IF(ISBLANK($B76),\"\",LOOKUP($B76,Inscriptions!A$2:A$65496,Inscriptions!D$2:D$65498))","v":""},null,null,null,0,0,0,"",""]
[73,null,{"$f":"IF(ISBLANK($B77),\"\",LOOKUP($B77,Inscriptions!A$2:A$65496,Inscriptions!B$2:B$65498))","v":""},{"$f":"IF(ISBLANK($B77),\"\",LOOKUP($B77,Inscriptions!A$2:A$65496,Inscriptions!C$2:C$65498))","v":""},{"$f":"IF(ISBLANK($B77),\"\",LOOKUP($B77,Inscriptions!A$2:A$65496,Inscriptions!D$2:D$65498))","v":""},null,null,null,0,0,0,"",""]
[74,null,{"$f":"IF(ISBLANK($B78),\"\",LOOKUP($B78,Inscriptions!A$2:A$65496,Inscriptions!B$2:B$65498))","v":""},{"$f":"IF(ISBLANK($B78),\"\",LOOKUP($B78,Inscriptions!A$2:A$65496,Inscriptions!C$2:C$65498))","v":""},{"$f":"IF(ISBLANK($B78),\"\",LOOKUP($B78,Inscriptions!A$2:A$65496,Inscriptions!D$2:D$65498))","v":""},null,null,null,0,0,0,"",""]
[75,null,{"$f":"IF(ISBLANK($B79),\"\",LOOKUP($B79,Inscriptions!A$2:A$65496,Inscriptions!B$2:B$65498))","v":""},{"$f":"IF(ISBLANK($B79),\"\",LOOKUP($B79,Inscriptions!A$2:A$65496,Inscriptions!C$2:C$65498))","v":""},{"$f":"IF(ISBLANK($B79),\"\",LOOKUP($B79,Inscriptions!A$2:A$65496,Inscriptions!D$2:D$65498))","v":""},null,null,null,0,0,0,"",""]
[76,null,{"$f":"IF(ISBLANK($B80),\"\",LOOKUP($B80,Inscriptions!A$2:A$65496,Inscriptions!B$2:B$65498))","v":""},{"$f":"IF(ISBLANK($B80),\"\",LOOKUP($B80,Inscriptions!A$2:A$65496,Inscriptions!C$2:C$65498))","v":""},{"$f":"IF(ISBLANK($B80),\"\",LOOKUP($B80,Inscriptions!A$2:A$65496,Inscriptions!D$2:D$65498))","v":""},null,null,null,0,0,0,"",""]
[77,null,{"$f":"IF(ISBLANK($B81),\"\",LOOKUP($B81,Inscriptions!A$2:A$65496,Inscriptions!B$2:B$65498))","v":""},{"$f":"IF(ISBLANK($B81),\"\",LOOKUP($B81,Inscriptions!A$2:A$65496,Inscriptions!C$2:C$65498))","v":""},{"$f":"IF(ISBLANK($B81),\"\",LOOKUP($B81,Inscriptions!A$2:A$65496,Inscriptions!D$2:D$65498))","v":""},null,null,null,0,0,0,"",""]
[78,null,{"$f":"IF(ISBLANK($B82),\"\",LOOKUP($B82,Inscriptions!A$2:A$65496,Inscriptions!B$2:B$65498))","v":""},{"$f":"IF(ISBLANK($B82),\"\",LOOKUP($B82,Inscriptions!A$2:A$65496,Inscriptions!C$2:C$65498))","v":""},{"$f":"IF(ISBLANK($B82),\"\",LOOKUP($B82,Inscriptions!A$2:A$65496,Inscriptions!D$2:D$65498))","v":""},null,null,null,0,0,0,"",""]
[79,null,{"$f":"IF(ISBLANK($B83),\"\",LOOKUP($B83,Inscriptions!A$2:A$65496,Inscriptions!B$2:B$65498))","v":""},{"$f":"IF(ISBLANK($B83),\"\",LOOKUP($B83,Inscriptions!A$2:A$65496,Inscriptions!C$2:C$65498))","v":""},{"$f":"IF(ISBLANK($B83),\"\",LOOKUP($B83,Inscriptions!A$2:A$65496,Inscriptions!D$2:D$65498))","v":""},null,null,null,0,0,0,"",""]
[80,null,{"$f":"IF(ISBLANK($B84),\"\",LOOKUP($B84,Inscriptions!A$2:A$65496,Inscriptions!B$2:B$65498))","v":""},{"$f":"IF(ISBLANK($B84),\"\",LOOKUP($B84,Inscriptions!A$2:A$65496,Inscriptions!C$2:C$65498))","v":""},{"$f":"IF(ISBLANK($B84),\"\",LOOKUP($B84,Inscriptions!A$2:A$65496,Inscriptions!D$2:D$65498))","v":""},null,null,null,0,0,0,"",""]
[81,null,{"$f":"IF(ISBLANK($B85),\"\",LOOKUP($B85,Inscriptions!A$2:A$65496,Inscriptions!B$2:B$65498))","v":""},{"$f":"IF(ISBLANK($B85),\"\",LOOKUP($B85,Inscriptions!A$2:A$65496,Inscriptions!C$2:C$65498))","v":""},{"$f":"IF(ISBLANK($B85),\"\",LOOKUP($B85,Inscriptions!A$2:A$65496,Inscriptions!D$2:D$65498))","v":""},null,null,null,0,0,0,"",""]
[82,null,{"$f":"IF(ISBLANK($B86),\"\",LOOKUP($B86,Inscriptions!A$2:A$65496,Inscriptions!B$2:B$65498))","v":""},{"$f":"IF(ISBLANK($B86),\"\",LOOKUP($B86,Inscriptions!A$2:A$65496,Inscriptions!C$2:C$65498))","v":""},{"$f":"IF(ISBLANK($B86),\"\",LOOKUP($B86,Inscriptions!A$2:A$65496,Inscriptions!D$2:D$65498))","v":""},null,null,null,0,0,0,"",""]
[83,null,{"$f":"IF(ISBLANK($B87),\"\",LOOKUP($B87,Inscriptions!A$2:A$65496,Inscriptions!B$2:B$65498))","v":""},{"$f":"IF(ISBLANK($B87),\"\",LOOKUP($B87,Inscriptions!A$2:A$65496,Inscriptions!C$2:C$65498))","v":""},{"$f":"IF(ISBLANK($B87),\"\",LOOKUP($B87,Inscriptions!A$2:A$65496,Inscriptions!D$2:D$65498))","v":""},null,null,null,0,0,0,"",""]
[84,null,{"$f":"IF(ISBLANK($B88),\"\",LOOKUP($B88,Inscriptions!A$2:A$65496,Inscriptions!B$2:B$65498))","v":""},{"$f":"IF(ISBLANK($B88),\"\",LOOKUP($B88,Inscriptions!A$2:A$65496,Inscriptions!C$2:C$65498))","v":""},{"$f":"IF(ISBLANK($B88),\"\",LOOKUP($B88,Inscriptions!A$2:A$65496,Inscriptions!D$2:D$65498))","v":""},null,null,null,0,0,0,"",""]
[85,null,{"$f":"IF(ISBLANK($B89),\"\",LOOKUP($B89,Inscriptions!A$2:A$65496,Inscriptions!B$2:B$65498))","v":""},{"$f":"IF(ISBLANK($B89),\"\",LOOKUP($B89,Inscriptions!A$2:A$65496,Inscriptions!C$2:C$65498))","v":""},{"$f":"IF(ISBLANK($B89),\"\",LOOKUP($B89,Inscriptions!A$2:A$65496,Inscriptions!D$2:D$65498))","v":""},null,null,null,0,0,0,"",""]
[86,null,{"$f":"IF(ISBLANK($B90),\"\",LOOKUP($B90,Inscriptions!A$2:A$65496,Inscriptions!B$2:B$65498))","v":""},{"$f":"IF(ISBLANK($B90),\"\",LOOKUP($B90,Inscriptions!A$2:A$65496,Inscriptions!C$2:C$65498))","v":""},{"$f":"IF(ISBLANK($B90),\"\",LOOKUP($B90,Inscriptions!A$2:A$65496,Inscriptions!D$2:D$65498))","v":""},null,null,null,0,0,0,"",""]
[87,null,{"$f":"IF(ISBLANK($B91),\"\",LOOKUP($B91,Inscriptions!A$2:A$65496,Inscriptions!B$2:B$65498))","v":""},{"$f":"IF(ISBLANK($B91),\"\",LOOKUP($B91,Inscriptions!A$2:A$65496,Inscriptions!C$2:C$65498))","v":""},{"$f":"IF(ISBLANK($B91),\"\",LOOKUP($B91,Inscriptions!A$2:A$65496,Inscriptions!D$2:D$65498))","v":""},null,null,null,0,0,0,"",""]
[88,null,{"$f":"IF(ISBLANK($B92),\"\",LOOKUP($B92,Inscriptions!A$2:A$65496,Inscriptions!B$2:B$65498))","v":""},{"$f":"IF(ISBLANK($B92),\"\",LOOKUP($B92,Inscriptions!A$2:A$65496,Inscriptions!C$2:C$65498))","v":""},{"$f":"IF(ISBLANK($B92),\"\",LOOKUP($B92,Inscriptions!A$2:A$65496,Inscriptions!D$2:D$65498))","v":""},null,null,null,0,0,0,"",""]
[89,null,{"$f":"IF(ISBLANK($B93),\"\",LOOKUP($B93,Inscriptions!A$2:A$65496,Inscriptions!B$2:B$65498))","v":""},{"$f":"IF(ISBLANK($B93),\"\",LOOKUP($B93,Inscriptions!A$2:A$65496,Inscriptions!C$2:C$65498))","v":""},{"$f":"IF(ISBLANK($B93),\"\",LOOKUP($B93,Inscriptions!A$2:A$65496,Inscriptions!D$2:D$65498))","v":""},null,null,null,0,0,0,"",""]
[90,null,{"$f":"IF(ISBLANK($B94),\"\",LOOKUP($B94,Inscriptions!A$2:A$65496,Inscriptions!B$2:B$65498))","v":""},{"$f":"IF(ISBLANK($B94),\"\",LOOKUP($B94,Inscriptions!A$2:A$65496,Inscriptions!C$2:C$65498))","v":""},{"$f":"IF(ISBLANK($B94),\"\",LOOKUP($B94,Inscriptions!A$2:A$65496,Inscriptions!D$2:D$65498))","v":""},null,null,null,0,0,0,"",""]
[91,null,{"$f":"IF(ISBLANK($B95),\"\",LOOKUP($B95,Inscriptions!A$2:A$65496,Inscriptions!B$2:B$65498))","v":""},{"$f":"IF(ISBLANK($B95),\"\",LOOKUP($B95,Inscriptions!A$2:A$65496,Inscriptions!C$2:C$65498))","v":""},{"$f":"IF(ISBLANK($B95),\"\",LOOKUP($B95,Inscriptions!A$2:A$65496,Inscriptions!D$2:D$65498))","v":""},null,null,null,0,0,0,"",""]
[92,null,{"$f":"IF(ISBLANK($B96),\"\",LOOKUP($B96,Inscriptions!A$2:A$65496,Inscriptions!B$2:B$65498))","v":""},{"$f":"IF(ISBLANK($B96),\"\",LOOKUP($B96,Inscriptions!A$2:A$65496,Inscriptions!C$2:C$65498))","v":""},{"$f":"IF(ISBLANK($B96),\"\",LOOKUP($B96,Inscriptions!A$2:A$65496,Inscriptions!D$2:D$65498))","v":""},null,null,null,0,0,0,"",""]
[93,null,{"$f":"IF(ISBLANK($B97),\"\",LOOKUP($B97,Inscriptions!A$2:A$65496,Inscriptions!B$2:B$65498))","v":""},{"$f":"IF(ISBLANK($B97),\"\",LOOKUP($B97,Inscriptions!A$2:A$65496,Inscriptions!C$2:C$65498))","v":""},{"$f":"IF(ISBLANK($B97),\"\",LOOKUP($B97,Inscriptions!A$2:A$65496,Inscriptions!D$2:D$65498))","v":""},null,null,null,0,0,0,"",""]
[94,null,{"$f":"IF(ISBLANK($B98),\"\",LOOKUP($B98,Inscriptions!A$2:A$65496,Inscriptions!B$2:B$65498))","v":""},{"$f":"IF(ISBLANK($B98),\"\",LOOKUP($B98,Inscriptions!A$2:A$65496,Inscriptions!C$2:C$65498))","v":""},{"$f":"IF(ISBLANK($B98),\"\",LOOKUP($B98,Inscriptions!A$2:A$65496,Inscriptions!D$2:D$65498))","v":""},null,null,null,0,0,0,"",""]
[95,null,{"$f":"IF(ISBLANK($B99),\"\",LOOKUP($B99,Inscriptions!A$2:A$65496,Inscriptions!B$2:B$65498))","v":""},{"$f":"IF(ISBLANK($B99),\"\",LOOKUP($B99,Inscriptions!A$2:A$65496,Inscriptions!C$2:C$65498))","v":""},{"$f":"IF(ISBLANK($B99),\"\",LOOKUP($B99,Inscriptions!A$2:A$65496,Inscriptions!D$2:D$65498))","v":""},null,null,null,0,0,0,"",""]
[96,null,{"$f":"IF(ISBLANK($B100),\"\",LOOKUP($B100,Inscriptions!A$2:A$65496,Inscriptions!B$2:B$65498))","v":""},{"$f":"IF(ISBLANK($B100),\"\",LOOKUP($B100,Inscriptions!A$2:A$65496,Inscriptions!C$2:C$65498))","v":""},{"$f":"IF(ISBLANK($B100),\"\",LOOKUP($B100,Inscriptions!A$2:A$65496,Inscriptions!D$2:D$65498))","v":""},null,null,null,0,0,0,"",""]
[97,null,{"$f":"IF(ISBLANK($B101),\"\",LOOKUP($B101,Inscriptions!A$2:A$65496,Inscriptions!B$2:B$65498))","v":""},{"$f":"IF(ISBLANK($B101),\"\",LOOKUP($B101,Inscriptions!A$2:A$65496,Inscriptions!C$2:C$65498))","v":""},{"$f":"IF(ISBLANK($B101),\"\",LOOKUP($B101,Inscriptions!A$2:A$65496,Inscriptions!D$2:D$65498))","v":""},null,null,null,0,0,0,"",""]
[98,null,{"$f":"IF(ISBLANK($B102),\"\",LOOKUP($B102,Inscriptions!A$2:A$65496,Inscriptions!B$2:B$65498))","v":""},{"$f":"IF(ISBLANK($B102),\"\",LOOKUP($B102,Inscriptions!A$2:A$65496,Inscriptions!C$2:C$65498))","v":""},{"$f":"IF(ISBLANK($B102),\"\",LOOKUP($B102,Inscriptions!A$2:A$65496,Inscriptions!D$2:D$65498))","v":""},null,null,null,0,0,0,"",""]
[99,null,{"$f":"IF(ISBLANK($B103),\"\",LOOKUP($B103,Inscriptions!A$2:A$65496,Inscriptions!B$2:B$65498))","v":""},{"$f":"IF(ISBLANK($B103),\"\",LOOKUP($B103,Inscriptions!A$2:A$65496,Inscriptions!C$2:C$65498))","v":""},{"$f":"IF(ISBLANK($B103),\"\",LOOKUP($B103,Inscriptions!A$2:A$65496,Inscriptions!D$2:D$65498))","v":""},null,null,null,0,0,0,"",""]
[100,null,{"$f":"IF(ISBLANK($B104),\"\",LOOKUP($B104,Inscriptions!A$2:A$65496,Inscriptions!B$2:B$65498))","v":""},{"$f":"IF(ISBLANK($B104),\"\",LOOKUP($B104,Inscriptions!A$2:A$65496,Inscriptions!C$2:C$65498))","v":""},{"$f":"IF(ISBLANK($B104),\"\",LOOKUP($B104,Inscriptions!A$2:A$65496,Inscriptions!D$2:D$65498))","v":""},null,null,null,0,0,0,"",""]
[101,null,{"$f":"IF(ISBLANK($B105),\"\",LOOKUP($B105,Inscriptions!A$2:A$65496,Inscriptions!B$2:B$65498))","v":""},{"$f":"IF(ISBLANK($B105),\"\",LOOKUP($B105,Inscriptions!A$2:A$65496,Inscriptions!C$2:C$65498))","v":""},{"$f":"IF(ISBLANK($B105),\"\",LOOKUP($B105,Inscriptions!A$2:A$65496,Inscriptions!D$2:D$65498))","v":""},null,null,null,0,0,0,"",""]
[102,null,{"$f":"IF(ISBLANK($B106),\"\",LOOKUP($B106,Inscriptions!A$2:A$65496,Inscriptions!B$2:B$65498))","v":""},{"$f":"IF(ISBLANK($B106),\"\",LOOKUP($B106,Inscriptions!A$2:A$65496,Inscriptions!C$2:C$65498))","v":""},{"$f":"IF(ISBLANK($B106),\"\",LOOKUP($B106,Inscriptions!A$2:A$65496,Inscriptions!D$2:D$65498))","v":""},null,null,null,0,0,0,"",""]
[103,null,{"$f":"IF(ISBLANK($B107),\"\",LOOKUP($B107,Inscriptions!A$2:A$65496,Inscriptions!B$2:B$65498))","v":""},{"$f":"IF(ISBLANK($B107),\"\",LOOKUP($B107,Inscriptions!A$2:A$65496,Inscriptions!C$2:C$65498))","v":""},{"$f":"IF(ISBLANK($B107),\"\",LOOKUP($B107,Inscriptions!A$2:A$65496,Inscriptions!D$2:D$65498))","v":""},null,null,null,0,0,0,"",""]
[104,null,{"$f":"IF(ISBLANK($B108),\"\",LOOKUP($B108,Inscriptions!A$2:A$65496,Inscriptions!B$2:B$65498))","v":""},{"$f":"IF(ISBLANK($B108),\"\",LOOKUP($B108,Inscriptions!A$2:A$65496,Inscriptions!C$2:C$65498))","v":""},{"$f":"IF(ISBLANK($B108),\"\",LOOKUP($B108,Inscriptions!A$2:A$65496,Inscriptions!D$2:D$65498))","v":""},null,null,null,0,0,0,"",""]
[105,null,{"$f":"IF(ISBLANK($B109),\"\",LOOKUP($B109,Inscriptions!A$2:A$65496,Inscriptions!B$2:B$65498))","v":""},{"$f":"IF(ISBLANK($B109),\"\",LOOKUP($B109,Inscriptions!A$2:A$65496,Inscriptions!C$2:C$65498))","v":""},{"$f":"IF(ISBLANK($B109),\"\",LOOKUP($B109,Inscriptions!A$2:A$65496,Inscriptions!D$2:D$65498))","v":""},null,null,null,0,0,0,"",""]
[106,null,{"$f":"IF(ISBLANK($B110),\"\",LOOKUP($B110,Inscriptions!A$2:A$65496,Inscriptions!B$2:B$65498))","v":""},{"$f":"IF(ISBLANK($B110),\"\",LOOKUP($B110,Inscriptions!A$2:A$65496,Inscriptions!C$2:C$65498))","v":""},{"$f":"IF(ISBLANK($B110),\"\",LOOKUP($B110,Inscriptions!A$2:A$65496,Inscriptions!D$2:D$65498))","v":""},null,null,null,0,0,0,"",""]
[107,null,{"$f":"IF(ISBLANK($B111),\"\",LOOKUP($B111,Inscriptions!A$2:A$65496,Inscriptions!B$2:B$65498))","v":""},{"$f":"IF(ISBLANK($B111),\"\",LOOKUP($B111,Inscriptions!A$2:A$65496,Inscriptions!C$2:C$65498))","v":""},{"$f":"IF(ISBLANK($B111),\"\",LOOKUP($B111,Inscriptions!A$2:A$65496,Inscriptions!D$2:D$65498))","v":""},null,null,null,0,0,0,"",""]
[108,null,{"$f":"IF(ISBLANK($B112),\"\",LOOKUP($B112,Inscriptions!A$2:A$65496,Inscriptions!B$2:B$65498))","v":""},{"$f":"IF(ISBLANK($B112),\"\",LOOKUP($B112,Inscriptions!A$2:A$65496,Inscriptions!C$2:C$65498))","v":""},{"$f":"IF(ISBLANK($B112),\"\",LOOKUP($B112,Inscriptions!A$2:A$65496,Inscriptions!D$2:D$65498))","v":""},null,null,null,0,0,0,"",""]
[109,null,{"$f":"IF(ISBLANK($B113),\"\",LOOKUP($B113,Inscriptions!A$2:A$65496,Inscriptions!B$2:B$65498))","v":""},{"$f":"IF(ISBLANK($B113),\"\",LOOKUP($B113,Inscriptions!A$2:A$65496,Inscriptions!C$2:C$65498))","v":""},{"$f":"IF(ISBLANK($B113),\"\",LOOKUP($B113,Inscriptions!A$2:A$65496,Inscriptions!D$2:D$65498))","v":""},null,null,null,0,0,0,"",""]
[110,null,{"$f":"IF(ISBLANK($B114),\"\",LOOKUP($B114,Inscriptions!A$2:A$65496,Inscriptions!B$2:B$65498))","v":""},{"$f":"IF(ISBLANK($B114),\"\",LOOKUP($B114,Inscriptions!A$2:A$65496,Inscriptions!C$2:C$65498))","v":""},{"$f":"IF(ISBLANK($B114),\"\",LOOKUP($B114,Inscriptions!A$2:A$65496,Inscriptions!D$2:D$65498))","v":""},null,null,null,0,0,0,"",""]
[111,null,{"$f":"IF(ISBLANK($B115),\"\",LOOKUP($B115,Inscriptions!A$2:A$65496,Inscriptions!B$2:B$65498))","v":""},{"$f":"IF(ISBLANK($B115),\"\",LOOKUP($B115,Inscriptions!A$2:A$65496,Inscriptions!C$2:C$65498))","v":""},{"$f":"IF(ISBLANK($B115),\"\",LOOKUP($B115,Inscriptions!A$2:A$65496,Inscriptions!D$2:D$65498))","v":""},null,null,null,0,0,0,"",""]
[112,null,{"$f":"IF(ISBLANK($B116),\"\",LOOKUP($B116,Inscriptions!A$2:A$65496,Inscriptions!B$2:B$65498))","v":""},{"$f":"IF(ISBLANK($B116),\"\",LOOKUP($B116,Inscriptions!A$2:A$65496,Inscriptions!C$2:C$65498))","v":""},{"$f":"IF(ISBLANK($B116),\"\",LOOKUP($B116,Inscriptions!A$2:A$65496,Inscriptions!D$2:D$65498))","v":""},null,null,null,0,0,0,"",""]
[113,null,{"$f":"IF(ISBLANK($B117),\"\",LOOKUP($B117,Inscriptions!A$2:A$65496,Inscriptions!B$2:B$65498))","v":""},{"$f":"IF(ISBLANK($B117),\"\",LOOKUP($B117,Inscriptions!A$2:A$65496,Inscriptions!C$2:C$65498))","v":""},{"$f":"IF(ISBLANK($B117),\"\",LOOKUP($B117,Inscriptions!A$2:A$65496,Inscriptions!D$2:D$65498))","v":""},null,null,null,0,0,0,"",""]
[114,null,{"$f":"IF(ISBLANK($B118),\"\",LOOKUP($B118,Inscriptions!A$2:A$65496,Inscriptions!B$2:B$65498))","v":""},{"$f":"IF(ISBLANK($B118),\"\",LOOKUP($B118,Inscriptions!A$2:A$65496,Inscriptions!C$2:C$65498))","v":""},{"$f":"IF(ISBLANK($B118),\"\",LOOKUP($B118,Inscriptions!A$2:A$65496,Inscriptions!D$2:D$65498))","v":""},null,null,null,0,0,0,"",""]
[115,null,{"$f":"IF(ISBLANK($B119),\"\",LOOKUP($B119,Inscriptions!A$2:A$65496,Inscriptions!B$2:B$65498))","v":""},{"$f":"IF(ISBLANK($B119),\"\",LOOKUP($B119,Inscriptions!A$2:A$65496,Inscriptions!C$2:C$65498))","v":""},{"$f":"IF(ISBLANK($B119),\"\",LOOKUP($B119,Inscriptions!A$2:A$65496,Inscriptions!D$2:D$65498))","v":""},null,null,null,0,0,0,"",""]
[116,null,{"$f":"IF(ISBLANK($B120),\"\",LOOKUP($B120,Inscriptions!A$2:A$65496,Inscriptions!B$2:B$65498))","v":""},{"$f":"IF(ISBLANK($B120),\"\",LOOKUP($B120,Inscriptions!A$2:A$65496,Inscriptions!C$2:C$65498))","v":""},{"$f":"IF(ISBLANK($B120),\"\",LOOKUP($B120,Inscriptions!A$2:A$65496,Inscriptions!D$2:D$65498))","v":""},null,null,null,0,0,0,"",""]
[117,null,{"$f":"IF(ISBLANK($B121),\"\",LOOKUP($B121,Inscriptions!A$2:A$65496,Inscriptions!B$2:B$65498))","v":""},{"$f":"IF(ISBLANK($B121),\"\",LOOKUP($B121,Inscriptions!A$2:A$65496,Inscriptions!C$2:C$65498))","v":""},{"$f":"IF(ISBLANK($B121),\"\",LOOKUP($B121,Inscriptions!A$2:A$65496,Inscriptions!D$2:D$65498))","v":""},null,null,null,0,0,0,"",""]
[118,null,{"$f":"IF(ISBLANK($B122),\"\",LOOKUP($B122,Inscriptions!A$2:A$65496,Inscriptions!B$2:B$65498))","v":""},{"$f":"IF(ISBLANK($B122),\"\",LOOKUP($B122,Inscriptions!A$2:A$65496,Inscriptions!C$2:C$65498))","v":""},{"$f":"IF(ISBLANK($B122),\"\",LOOKUP($B122,Inscriptions!A$2:A$65496,Inscriptions!D$2:D$65498))","v":""},null,null,null,0,0,0,"",""]
[119,null,{"$f":"IF(ISBLANK($B123),\"\",LOOKUP($B123,Inscriptions!A$2:A$65496,Inscriptions!B$2:B$65498))","v":""},{"$f":"IF(ISBLANK($B123),\"\",LOOKUP($B123,Inscriptions!A$2:A$65496,Inscriptions!C$2:C$65498))","v":""},{"$f":"IF(ISBLANK($B123),\"\",LOOKUP($B123,Inscriptions!A$2:A$65496,Inscriptions!D$2:D$65498))","v":""},null,null,null,0,0,0,"",""]
[120,null,{"$f":"IF(ISBLANK($B124),\"\",LOOKUP($B124,Inscriptions!A$2:A$65496,Inscriptions!B$2:B$65498))","v":""},{"$f":"IF(ISBLANK($B124),\"\",LOOKUP($B124,Inscriptions!A$2:A$65496,Inscriptions!C$2:C$65498))","v":""},{"$f":"IF(ISBLANK($B124),\"\",LOOKUP($B124,Inscriptions!A$2:A$65496,Inscriptions!D$2:D$65498))","v":""},null,null,null,0,0,0,"",""]
[121,null,{"$f":"IF(ISBLANK($B125),\"\",LOOKUP($B125,Inscriptions!A$2:A$65496,Inscriptions!B$2:B$65498))","v":""},{"$f":"IF(ISBLANK($B125),\"\",LOOKUP($B125,Inscriptions!A$2:A$65496,Inscriptions!C$2:C$65498))","v":""},{"$f":"IF(ISBLANK($B125),\"\",LOOKUP($B125,Inscriptions!A$2:A$65496,Inscriptions!D$2:D$65498))","v":""},null,null,null,0,0,0,"",""]
[122,null,{"$f":"IF(ISBLANK($B126),\"\",LOOKUP($B126,Inscriptions!A$2:A$65496,Inscriptions!B$2:B$65498))","v":""},{"$f":"IF(ISBLANK($B126),\"\",LOOKUP($B126,Inscriptions!A$2:A$65496,Inscriptions!C$2:C$65498))","v":""},{"$f":"IF(ISBLANK($B126),\"\",LOOKUP($B126,Inscriptions!A$2:A$65496,Inscriptions!D$2:D$65498))","v":""},null,null,null,0,0,0,"",""]
[123,null,{"$f":"IF(ISBLANK($B127),\"\",LOOKUP($B127,Inscriptions!A$2:A$65496,Inscriptions!B$2:B$65498))","v":""},{"$f":"IF(ISBLANK($B127),\"\",LOOKUP($B127,Inscriptions!A$2:A$65496,Inscriptions!C$2:C$65498))","v":""},{"$f":"IF(ISBLANK($B127),\"\",LOOKUP($B127,Inscriptions!A$2:A$65496,Inscriptions!D$2:D$65498))","v":""},null,null,null,0,0,0,"",""]
[124,null,{"$f":"IF(ISBLANK($B128),\"\",LOOKUP($B128,Inscriptions!A$2:A$65496,Inscriptions!B$2:B$65498))","v":""},{"$f":"IF(ISBLANK($B128),\"\",LOOKUP($B128,Inscriptions!A$2:A$65496,Inscriptions!C$2:C$65498))","v":""},{"$f":"IF(ISBLANK($B128),\"\",LOOKUP($B128,Inscriptions!A$2:A$65496,Inscriptions!D$2:D$65498))","v":""},null,null,null,0,0,0,"",""]
[125,null,{"$f":"IF(ISBLANK($B129),\"\",LOOKUP($B129,Inscriptions!A$2:A$65496,Inscriptions!B$2:B$65498))","v":""},{"$f":"IF(ISBLANK($B129),\"\",LOOKUP($B129,Inscriptions!A$2:A$65496,Inscriptions!C$2:C$65498))","v":""},{"$f":"IF(ISBLANK($B129),\"\",LOOKUP($B129,Inscriptions!A$2:A$65496,Inscriptions!D$2:D$65498))","v":""},null,null,null,0,0,0,"",""]
[126,null,{"$f":"IF(ISBLANK($B130),\"\",LOOKUP($B130,Inscriptions!A$2:A$65496,Inscriptions!B$2:B$65498))","v":""},{"$f":"IF(ISBLANK($B130),\"\",LOOKUP($B130,Inscriptions!A$2:A$65496,Inscriptions!C$2:C$65498))","v":""},{"$f":"IF(ISBLANK($B130),\"\",LOOKUP($B130,Inscriptions!A$2:A$65496,Inscriptions!D$2:D$65498))","v":""},null,null,null,0,0,0,"",""]
[127,null,{"$f":"IF(ISBLANK($B131),\"\",LOOKUP($B131,Inscriptions!A$2:A$65496,Inscriptions!B$2:B$65498))","v":""},{"$f":"IF(ISBLANK($B131),\"\",LOOKUP($B131,Inscriptions!A$2:A$65496,Inscriptions!C$2:C$65498))","v":""},{"$f":"IF(ISBLANK($B131),\"\",LOOKUP($B131,Inscriptions!A$2:A$65496,Inscriptions!D$2:D$65498))","v":""},null,null,null,0,0,0,"",""]
[128,null,{"$f":"IF(ISBLANK($B132),\"\",LOOKUP($B132,Inscriptions!A$2:A$65496,Inscriptions!B$2:B$65498))","v":""},{"$f":"IF(ISBLANK($B132),\"\",LOOKUP($B132,Inscriptions!A$2:A$65496,Inscriptions!C$2:C$65498))","v":""},{"$f":"IF(ISBLANK($B132),\"\",LOOKUP($B132,Inscriptions!A$2:A$65496,Inscriptions!D$2:D$65498))","v":""},null,null,null,0,0,0,"",""]
[129,null,{"$f":"IF(ISBLANK($B133),\"\",LOOKUP($B133,Inscriptions!A$2:A$65496,Inscriptions!B$2:B$65498))","v":""},{"$f":"IF(ISBLANK($B133),\"\",LOOKUP($B133,Inscriptions!A$2:A$65496,Inscriptions!C$2:C$65498))","v":""},{"$f":"IF(ISBLANK($B133),\"\",LOOKUP($B133,Inscriptions!A$2:A$65496,Inscriptions!D$2:D$65498))","v":""},null,null,null,0,0,0,"",""]
[130,null,{"$f":"IF(ISBLANK($B134),\"\",LOOKUP($B134,Inscriptions!A$2:A$65496,Inscriptions!B$2:B$65498))","v":""},{"$f":"IF(ISBLANK($B134),\"\",LOOKUP($B134,Inscriptions!A$2:A$65496,Inscriptions!C$2:C$65498))","v":""},{"$f":"IF(ISBLANK($B134),\"\",LOOKUP($B134,Inscriptions!A$2:A$65496,Inscriptions!D$2:D$65498))","v":""},null,null,null,{"$f":"ROUNDDOWN(H134/10000,0)","v":0},{"$f":"ROUNDDOWN((H134-I134*10000)/100,0)","v":0},{"$f":"ROUNDDOWN((H134-(I134*10000)-(J134*100)),0)","v":0},{"$f":"IF((I134+J134+K134)=0,\"\",ROUNDDOWN((L$4/((I134*3600)+(J134*60)+K134))*3.6,2))","v":""},{"$f":"IF(L134=\"\",\"\",\"km/h\")","v":""}]
[131,null,{"$f":"IF(ISBLANK($B135),\"\",LOOKUP($B135,Inscriptions!A$2:A$65496,Inscriptions!B$2:B$65498))","v":""},{"$f":"IF(ISBLANK($B135),\"\",LOOKUP($B135,Inscriptions!A$2:A$65496,Inscriptions!C$2:C$65498))","v":""},{"$f":"IF(ISBLANK($B135),\"\",LOOKUP($B135,Inscriptions!A$2:A$65496,Inscriptions!D$2:D$65498))","v":""},null,null,null,0,0,0,"",""]
[132,null,{"$f":"IF(ISBLANK($B136),\"\",LOOKUP($B136,Inscriptions!A$2:A$65496,Inscriptions!B$2:B$65498))","v":""},{"$f":"IF(ISBLANK($B136),\"\",LOOKUP($B136,Inscriptions!A$2:A$65496,Inscriptions!C$2:C$65498))","v":""},{"$f":"IF(ISBLANK($B136),\"\",LOOKUP($B136,Inscriptions!A$2:A$65496,Inscriptions!D$2:D$65498))","v":""},null,null,null,0,0,0,"",""]
[133,null,{"$f":"IF(ISBLANK($B137),\"\",LOOKUP($B137,Inscriptions!A$2:A$65496,Inscriptions!B$2:B$65498))","v":""},{"$f":"IF(ISBLANK($B137),\"\",LOOKUP($B137,Inscriptions!A$2:A$65496,Inscriptions!C$2:C$65498))","v":""},{"$f":"IF(ISBLANK($B137),\"\",LOOKUP($B137,Inscriptions!A$2:A$65496,Inscriptions!D$2:D$65498))","v":""},null,null,null,0,0,0,"",""]
[134,null,{"$f":"IF(ISBLANK($B138),\"\",LOOKUP($B138,Inscriptions!A$2:A$65496,Inscriptions!B$2:B$65498))","v":""},{"$f":"IF(ISBLANK($B138),\"\",LOOKUP($B138,Inscriptions!A$2:A$65496,Inscriptions!C$2:C$65498))","v":""},{"$f":"IF(ISBLANK($B138),\"\",LOOKUP($B138,Inscriptions!A$2:A$65496,Inscriptions!D$2:D$65498))","v":""},null,null,null,0,0,0,"",""]
[135,null,{"$f":"IF(ISBLANK($B139),\"\",LOOKUP($B139,Inscriptions!A$2:A$65496,Inscriptions!B$2:B$65498))","v":""},{"$f":"IF(ISBLANK($B139),\"\",LOOKUP($B139,Inscriptions!A$2:A$65496,Inscriptions!C$2:C$65498))","v":""},{"$f":"IF(ISBLANK($B139),\"\",LOOKUP($B139,Inscriptions!A$2:A$65496,Inscriptions!D$2:D$65498))","v":""},null,null,null,0,0,0,"",""]
[136,null,{"$f":"IF(ISBLANK($B140),\"\",LOOKUP($B140,Inscriptions!A$2:A$65496,Inscriptions!B$2:B$65498))","v":""},{"$f":"IF(ISBLANK($B140),\"\",LOOKUP($B140,Inscriptions!A$2:A$65496,Inscriptions!C$2:C$65498))","v":""},{"$f":"IF(ISBLANK($B140),\"\",LOOKUP($B140,Inscriptions!A$2:A$65496,Inscriptions!D$2:D$65498))","v":""},null,null,null,0,0,0,"",""]
[137,null,{"$f":"IF(ISBLANK($B141),\"\",LOOKUP($B141,Inscriptions!A$2:A$65496,Inscriptions!B$2:B$65498))","v":""},{"$f":"IF(ISBLANK($B141),\"\",LOOKUP($B141,Inscriptions!A$2:A$65496,Inscriptions!C$2:C$65498))","v":""},{"$f":"IF(ISBLANK($B141),\"\",LOOKUP($B141,Inscriptions!A$2:A$65496,Inscriptions!D$2:D$65498))","v":""},null,null,null,0,0,0,"",""]
[138,null,{"$f":"IF(ISBLANK($B142),\"\",LOOKUP($B142,Inscriptions!A$2:A$65496,Inscriptions!B$2:B$65498))","v":""},{"$f":"IF(ISBLANK($B142),\"\",LOOKUP($B142,Inscriptions!A$2:A$65496,Inscriptions!C$2:C$65498))","v":""},{"$f":"IF(ISBLANK($B142),\"\",LOOKUP($B142,Inscriptions!A$2:A$65496,Inscriptions!D$2:D$65498))","v":""},null,null,null,0,0,0,"",""]
[139,null,{"$f":"IF(ISBLANK($B143),\"\",LOOKUP($B143,Inscriptions!A$2:A$65496,Inscriptions!B$2:B$65498))","v":""},{"$f":"IF(ISBLANK($B143),\"\",LOOKUP($B143,Inscriptions!A$2:A$65496,Inscriptions!C$2:C$65498))","v":""},{"$f":"IF(ISBLANK($B143),\"\",LOOKUP($B143,Inscriptions!A$2:A$65496,Inscriptions!D$2:D$65498))","v":""},null,null,null,0,0,0,"",""]
[140,null,{"$f":"IF(ISBLANK($B144),\"\",LOOKUP($B144,Inscriptions!A$2:A$65496,Inscriptions!B$2:B$65498))","v":""},{"$f":"IF(ISBLANK($B144),\"\",LOOKUP($B144,Inscriptions!A$2:A$65496,Inscriptions!C$2:C$65498))","v":""},{"$f":"IF(ISBLANK($B144),\"\",LOOKUP($B144,Inscriptions!A$2:A$65496,Inscriptions!D$2:D$65498))","v":""},null,null,null,0,0,0,"",""]
[141,null,{"$f":"IF(ISBLANK($B145),\"\",LOOKUP($B145,Inscriptions!A$2:A$65496,Inscriptions!B$2:B$65498))","v":""},{"$f":"IF(ISBLANK($B145),\"\",LOOKUP($B145,Inscriptions!A$2:A$65496,Inscriptions!C$2:C$65498))","v":""},{"$f":"IF(ISBLANK($B145),\"\",LOOKUP($B145,Inscriptions!A$2:A$65496,Inscriptions!D$2:D$65498))","v":""},null,null,null,0,0,0,"",""]
[142,null,{"$f":"IF(ISBLANK($B146),\"\",LOOKUP($B146,Inscriptions!A$2:A$65496,Inscriptions!B$2:B$65498))","v":""},{"$f":"IF(ISBLANK($B146),\"\",LOOKUP($B146,Inscriptions!A$2:A$65496,Inscriptions!C$2:C$65498))","v":""},{"$f":"IF(ISBLANK($B146),\"\",LOOKUP($B146,Inscriptions!A$2:A$65496,Inscriptions!D$2:D$65498))","v":""},null,null,null,0,0,0,"",""]
[143,null,{"$f":"IF(ISBLANK($B147),\"\",LOOKUP($B147,Inscriptions!A$2:A$65496,Inscriptions!B$2:B$65498))","v":""},{"$f":"IF(ISBLANK($B147),\"\",LOOKUP($B147,Inscriptions!A$2:A$65496,Inscriptions!C$2:C$65498))","v":""},{"$f":"IF(ISBLANK($B147),\"\",LOOKUP($B147,Inscriptions!A$2:A$65496,Inscriptions!D$2:D$65498))","v":""},null,null,null,0,0,0,"",""]
[144,null,{"$f":"IF(ISBLANK($B148),\"\",LOOKUP($B148,Inscriptions!A$2:A$65496,Inscriptions!B$2:B$65498))","v":""},{"$f":"IF(ISBLANK($B148),\"\",LOOKUP($B148,Inscriptions!A$2:A$65496,Inscriptions!C$2:C$65498))","v":""},{"$f":"IF(ISBLANK($B148),\"\",LOOKUP($B148,Inscriptions!A$2:A$65496,Inscriptions!D$2:D$65498))","v":""},null,null,null,0,0,0,"",""]
[145,null,{"$f":"IF(ISBLANK($B149),\"\",LOOKUP($B149,Inscriptions!A$2:A$65496,Inscriptions!B$2:B$65498))","v":""},{"$f":"IF(ISBLANK($B149),\"\",LOOKUP($B149,Inscriptions!A$2:A$65496,Inscriptions!C$2:C$65498))","v":""},{"$f":"IF(ISBLANK($B149),\"\",LOOKUP($B149,Inscriptions!A$2:A$65496,Inscriptions!D$2:D$65498))","v":""},null,null,null,0,0,0,"",""]
[146,null,{"$f":"IF(ISBLANK($B150),\"\",LOOKUP($B150,Inscriptions!A$2:A$65496,Inscriptions!B$2:B$65498))","v":""},{"$f":"IF(ISBLANK($B150),\"\",LOOKUP($B150,Inscriptions!A$2:A$65496,Inscriptions!C$2:C$65498))","v":""},{"$f":"IF(ISBLANK($B150),\"\",LOOKUP($B150,Inscriptions!A$2:A$65496,Inscriptions!D$2:D$65498))","v":""},null,null,null,0,0,0,"",""]
[147,null,{"$f":"IF(ISBLANK($B151),\"\",LOOKUP($B151,Inscriptions!A$2:A$65496,Inscriptions!B$2:B$65498))","v":""},{"$f":"IF(ISBLANK($B151),\"\",LOOKUP($B151,Inscriptions!A$2:A$65496,Inscriptions!C$2:C$65498))","v":""},{"$f":"IF(ISBLANK($B151),\"\",LOOKUP($B151,Inscriptions!A$2:A$65496,Inscriptions!D$2:D$65498))","v":""},null,null,null,0,0,0,"",""]
[148,null,{"$f":"IF(ISBLANK($B152),\"\",LOOKUP($B152,Inscriptions!A$2:A$65496,Inscriptions!B$2:B$65498))","v":""},{"$f":"IF(ISBLANK($B152),\"\",LOOKUP($B152,Inscriptions!A$2:A$65496,Inscriptions!C$2:C$65498))","v":""},{"$f":"IF(ISBLANK($B152),\"\",LOOKUP($B152,Inscriptions!A$2:A$65496,Inscriptions!D$2:D$65498))","v":""},null,null,null,0,0,0,"",""]
[149,null,{"$f":"IF(ISBLANK($B153),\"\",LOOKUP($B153,Inscriptions!A$2:A$65496,Inscriptions!B$2:B$65498))","v":""},{"$f":"IF(ISBLANK($B153),\"\",LOOKUP($B153,Inscriptions!A$2:A$65496,Inscriptions!C$2:C$65498))","v":""},{"$f":"IF(ISBLANK($B153),\"\",LOOKUP($B153,Inscriptions!A$2:A$65496,Inscriptions!D$2:D$65498))","v":""},null,null,null,0,0,0,"",""]
[150,null,{"$f":"IF(ISBLANK($B154),\"\",LOOKUP($B154,Inscriptions!A$2:A$65496,Inscriptions!B$2:B$65498))","v":""},{"$f":"IF(ISBLANK($B154),\"\",LOOKUP($B154,Inscriptions!A$2:A$65496,Inscriptions!C$2:C$65498))","v":""},{"$f":"IF(ISBLANK($B154),\"\",LOOKUP($B154,Inscriptions!A$2:A$65496,Inscriptions!D$2:D$65498))","v":""},null,null,null,0,0,0,"",""]
[151,null,{"$f":"IF(ISBLANK($B155),\"\",LOOKUP($B155,Inscriptions!A$2:A$65496,Inscriptions!B$2:B$65498))","v":""},{"$f":"IF(ISBLANK($B155),\"\",LOOKUP($B155,Inscriptions!A$2:A$65496,Inscriptions!C$2:C$65498))","v":""},{"$f":"IF(ISBLANK($B155),\"\",LOOKUP($B155,Inscriptions!A$2:A$65496,Inscriptions!D$2:D$65498))","v":""},null,null,null,0,0,0,"",""]
[152,null,{"$f":"IF(ISBLANK($B156),\"\",LOOKUP($B156,Inscriptions!A$2:A$65496,Inscriptions!B$2:B$65498))","v":""},{"$f":"IF(ISBLANK($B156),\"\",LOOKUP($B156,Inscriptions!A$2:A$65496,Inscriptions!C$2:C$65498))","v":""},{"$f":"IF(ISBLANK($B156),\"\",LOOKUP($B156,Inscriptions!A$2:A$65496,Inscriptions!D$2:D$65498))","v":""},null,null,null,0,0,0,"",""]
[153,null,{"$f":"IF(ISBLANK($B157),\"\",LOOKUP($B157,Inscriptions!A$2:A$65496,Inscriptions!B$2:B$65498))","v":""},{"$f":"IF(ISBLANK($B157),\"\",LOOKUP($B157,Inscriptions!A$2:A$65496,Inscriptions!C$2:C$65498))","v":""},{"$f":"IF(ISBLANK($B157),\"\",LOOKUP($B157,Inscriptions!A$2:A$65496,Inscriptions!D$2:D$65498))","v":""},null,null,null,0,0,0,"",""]
[154,null,{"$f":"IF(ISBLANK($B158),\"\",LOOKUP($B158,Inscriptions!A$2:A$65496,Inscriptions!B$2:B$65498))","v":""},{"$f":"IF(ISBLANK($B158),\"\",LOOKUP($B158,Inscriptions!A$2:A$65496,Inscriptions!C$2:C$65498))","v":""},{"$f":"IF(ISBLANK($B158),\"\",LOOKUP($B158,Inscriptions!A$2:A$65496,Inscriptions!D$2:D$65498))","v":""},null,null,null,0,0,0,"",""]
[155,null,{"$f":"IF(ISBLANK($B159),\"\",LOOKUP($B159,Inscriptions!A$2:A$65496,Inscriptions!B$2:B$65498))","v":""},{"$f":"IF(ISBLANK($B159),\"\",LOOKUP($B159,Inscriptions!A$2:A$65496,Inscriptions!C$2:C$65498))","v":""},{"$f":"IF(ISBLANK($B159),\"\",LOOKUP($B159,Inscriptions!A$2:A$65496,Inscriptions!D$2:D$65498))","v":""},null,null,null,0,0,0,"",""]
[156,null,{"$f":"IF(ISBLANK($B160),\"\",LOOKUP($B160,Inscriptions!A$2:A$65496,Inscriptions!B$2:B$65498))","v":""},{"$f":"IF(ISBLANK($B160),\"\",LOOKUP($B160,Inscriptions!A$2:A$65496,Inscriptions!C$2:C$65498))","v":""},{"$f":"IF(ISBLANK($B160),\"\",LOOKUP($B160,Inscriptions!A$2:A$65496,Inscriptions!D$2:D$65498))","v":""},null,null,null,0,0,0,"",""]
[157,null,{"$f":"IF(ISBLANK($B161),\"\",LOOKUP($B161,Inscriptions!A$2:A$65496,Inscriptions!B$2:B$65498))","v":""},{"$f":"IF(ISBLANK($B161),\"\",LOOKUP($B161,Inscriptions!A$2:A$65496,Inscriptions!C$2:C$65498))","v":""},{"$f":"IF(ISBLANK($B161),\"\",LOOKUP($B161,Inscriptions!A$2:A$65496,Inscriptions!D$2:D$65498))","v":""},null,null,null,0,0,0,"",""]
[158,null,{"$f":"IF(ISBLANK($B162),\"\",LOOKUP($B162,Inscriptions!A$2:A$65496,Inscriptions!B$2:B$65498))","v":""},{"$f":"IF(ISBLANK($B162),\"\",LOOKUP($B162,Inscriptions!A$2:A$65496,Inscriptions!C$2:C$65498))","v":""},{"$f":"IF(ISBLANK($B162),\"\",LOOKUP($B162,Inscriptions!A$2:A$65496,Inscriptions!D$2:D$65498))","v":""},null,null,null,0,0,0,"",""]
[159,null,{"$f":"IF(ISBLANK($B163),\"\",LOOKUP($B163,Inscriptions!A$2:A$65496,Inscriptions!B$2:B$65498))","v":""},{"$f":"IF(ISBLANK($B163),\"\",LOOKUP($B163,Inscriptions!A$2:A$65496,Inscriptions!C$2:C$65498))","v":""},{"$f":"IF(ISBLANK($B163),\"\",LOOKUP($B163,Inscriptions!A$2:A$65496,Inscriptions!D$2:D$65498))","v":""},null,null,null,0,0,0,"",""]
[160,null,{"$f":"IF(ISBLANK($B164),\"\",LOOKUP($B164,Inscriptions!A$2:A$65496,Inscriptions!B$2:B$65498))","v":""},{"$f":"IF(ISBLANK($B164),\"\",LOOKUP($B164,Inscriptions!A$2:A$65496,Inscriptions!C$2:C$65498))","v":""},{"$f":"IF(ISBLANK($B164),\"\",LOOKUP($B164,Inscriptions!A$2:A$65496,Inscriptions!D$2:D$65498))","v":""},null,null,null,0,0,0,"",""]
[161,null,{"$f":"IF(ISBLANK($B165),\"\",LOOKUP($B165,Inscriptions!A$2:A$65496,Inscriptions!B$2:B$65498))","v":""},{"$f":"IF(ISBLANK($B165),\"\",LOOKUP($B165,Inscriptions!A$2:A$65496,Inscriptions!C$2:C$65498))","v":""},{"$f":"IF(ISBLANK($B165),\"\",LOOKUP($B165,Inscriptions!A$2:A$65496,Inscriptions!D$2:D$65498))","v":""},null,null,null,0,0,0,"",""]
[162,null,{"$f":"IF(ISBLANK($B166),\"\",LOOKUP($B166,Inscriptions!A$2:A$65496,Inscriptions!B$2:B$65498))","v":""},{"$f":"IF(ISBLANK($B166),\"\",LOOKUP($B166,Inscriptions!A$2:A$65496,Inscriptions!C$2:C$65498))","v":""},{"$f":"IF(ISBLANK($B166),\"\",LOOKUP($B166,Inscriptions!A$2:A$65496,Inscriptions!D$2:D$65498))","v":""},null,null,null,0,0,0,"",""]
[163,null,{"$f":"IF(ISBLANK($B167),\"\",LOOKUP($B167,Inscriptions!A$2:A$65496,Inscriptions!B$2:B$65498))","v":""},{"$f":"IF(ISBLANK($B167),\"\",LOOKUP($B167,Inscriptions!A$2:A$65496,Inscriptions!C$2:C$65498))","v":""},{"$f":"IF(ISBLANK($B167),\"\",LOOKUP($B167,Inscriptions!A$2:A$65496,Inscriptions!D$2:D$65498))","v":""},null,null,null,0,0,0,"",""]
[164,null,{"$f":"IF(ISBLANK($B168),\"\",LOOKUP($B168,Inscriptions!A$2:A$65496,Inscriptions!B$2:B$65498))","v":""},{"$f":"IF(ISBLANK($B168),\"\",LOOKUP($B168,Inscriptions!A$2:A$65496,Inscriptions!C$2:C$65498))","v":""},{"$f":"IF(ISBLANK($B168),\"\",LOOKUP($B168,Inscriptions!A$2:A$65496,Inscriptions!D$2:D$65498))","v":""},null,null,null,0,0,0,"",""]
[165,null,{"$f":"IF(ISBLANK($B169),\"\",LOOKUP($B169,Inscriptions!A$2:A$65496,Inscriptions!B$2:B$65498))","v":""},{"$f":"IF(ISBLANK($B169),\"\",LOOKUP($B169,Inscriptions!A$2:A$65496,Inscriptions!C$2:C$65498))","v":""},{"$f":"IF(ISBLANK($B169),\"\",LOOKUP($B169,Inscriptions!A$2:A$65496,Inscriptions!D$2:D$65498))","v":""},null,null,null,0,0,0,"",""]
[166,null,{"$f":"IF(ISBLANK($B170),\"\",LOOKUP($B170,Inscriptions!A$2:A$65496,Inscriptions!B$2:B$65498))","v":""},{"$f":"IF(ISBLANK($B170),\"\",LOOKUP($B170,Inscriptions!A$2:A$65496,Inscriptions!C$2:C$65498))","v":""},{"$f":"IF(ISBLANK($B170),\"\",LOOKUP($B170,Inscriptions!A$2:A$65496,Inscriptions!D$2:D$65498))","v":""},null,null,null,0,0,0,"",""]
[167,null,{"$f":"IF(ISBLANK($B171),\"\",LOOKUP($B171,Inscriptions!A$2:A$65496,Inscriptions!B$2:B$65498))","v":""},{"$f":"IF(ISBLANK($B171),\"\",LOOKUP($B171,Inscriptions!A$2:A$65496,Inscriptions!C$2:C$65498))","v":""},{"$f":"IF(ISBLANK($B171),\"\",LOOKUP($B171,Inscriptions!A$2:A$65496,Inscriptions!D$2:D$65498))","v":""},null,null,null,0,0,0,"",""]
[168,null,{"$f":"IF(ISBLANK($B172),\"\",LOOKUP($B172,Inscriptions!A$2:A$65496,Inscriptions!B$2:B$65498))","v":""},{"$f":"IF(ISBLANK($B172),\"\",LOOKUP($B172,Inscriptions!A$2:A$65496,Inscriptions!C$2:C$65498))","v":""},{"$f":"IF(ISBLANK($B172),\"\",LOOKUP($B172,Inscriptions!A$2:A$65496,Inscriptions!D$2:D$65498))","v":""},null,null,null,0,0,0,"",""]
[169,null,{"$f":"IF(ISBLANK($B173),\"\",LOOKUP($B173,Inscriptions!A$2:A$65496,Inscriptions!B$2:B$65498))","v":""},{"$f":"IF(ISBLANK($B173),\"\",LOOKUP($B173,Inscriptions!A$2:A$65496,Inscriptions!C$2:C$65498))","v":""},{"$f":"IF(ISBLANK($B173),\"\",LOOKUP($B173,Inscriptions!A$2:A$65496,Inscriptions!D$2:D$65498))","v":""},null,null,null,0,0,0,"",""]
[170,null,{"$f":"IF(ISBLANK($B174),\"\",LOOKUP($B174,Inscriptions!A$2:A$65496,Inscriptions!B$2:B$65498))","v":""},{"$f":"IF(ISBLANK($B174),\"\",LOOKUP($B174,Inscriptions!A$2:A$65496,Inscriptions!C$2:C$65498))","v":""},{"$f":"IF(ISBLANK($B174),\"\",LOOKUP($B174,Inscriptions!A$2:A$65496,Inscriptions!D$2:D$65498))","v":""},null,null,null,0,0,0,"",""]
[171,null,{"$f":"IF(ISBLANK($B175),\"\",LOOKUP($B175,Inscriptions!A$2:A$65496,Inscriptions!B$2:B$65498))","v":""},{"$f":"IF(ISBLANK($B175),\"\",LOOKUP($B175,Inscriptions!A$2:A$65496,Inscriptions!C$2:C$65498))","v":""},{"$f":"IF(ISBLANK($B175),\"\",LOOKUP($B175,Inscriptions!A$2:A$65496,Inscriptions!D$2:D$65498))","v":""},null,null,null,0,0,0,"",""]
[172,null,{"$f":"IF(ISBLANK($B176),\"\",LOOKUP($B176,Inscriptions!A$2:A$65496,Inscriptions!B$2:B$65498))","v":""},{"$f":"IF(ISBLANK($B176),\"\",LOOKUP($B176,Inscriptions!A$2:A$65496,Inscriptions!C$2:C$65498))","v":""},{"$f":"IF(ISBLANK($B176),\"\",LOOKUP($B176,Inscriptions!A$2:A$65496,Inscriptions!D$2:D$65498))","v":""},null,null,null,0,0,0,"",""]
[173,null,{"$f":"IF(ISBLANK($B177),\"\",LOOKUP($B177,Inscriptions!A$2:A$65496,Inscriptions!B$2:B$65498))","v":""},{"$f":"IF(ISBLANK($B177),\"\",LOOKUP($B177,Inscriptions!A$2:A$65496,Inscriptions!C$2:C$65498))","v":""},{"$f":"IF(ISBLANK($B177),\"\",LOOKUP($B177,Inscriptions!A$2:A$65496,Inscriptions!D$2:D$65498))","v":""},null,null,null,0,0,0,"",""]
[174,null,{"$f":"IF(ISBLANK($B178),\"\",LOOKUP($B178,Inscriptions!A$2:A$65496,Inscriptions!B$2:B$65498))","v":""},{"$f":"IF(ISBLANK($B178),\"\",LOOKUP($B178,Inscriptions!A$2:A$65496,Inscriptions!C$2:C$65498))","v":""},{"$f":"IF(ISBLANK($B178),\"\",LOOKUP($B178,Inscriptions!A$2:A$65496,Inscriptions!D$2:D$65498))","v":""},null,null,null,0,0,0,"",""]
[175,null,{"$f":"IF(ISBLANK($B179),\"\",LOOKUP($B179,Inscriptions!A$2:A$65496,Inscriptions!B$2:B$65498))","v":""},{"$f":"IF(ISBLANK($B179),\"\",LOOKUP($B179,Inscriptions!A$2:A$65496,Inscriptions!C$2:C$65498))","v":""},{"$f":"IF(ISBLANK($B179),\"\",LOOKUP($B179,Inscriptions!A$2:A$65496,Inscriptions!D$2:D$65498))","v":""},null,null,null,0,0,0,"",""]
[176,null,{"$f":"IF(ISBLANK($B180),\"\",LOOKUP($B180,Inscriptions!A$2:A$65496,Inscriptions!B$2:B$65498))","v":""},{"$f":"IF(ISBLANK($B180),\"\",LOOKUP($B180,Inscriptions!A$2:A$65496,Inscriptions!C$2:C$65498))","v":""},{"$f":"IF(ISBLANK($B180),\"\",LOOKUP($B180,Inscriptions!A$2:A$65496,Inscriptions!D$2:D$65498))","v":""},null,null,null,0,0,0,"",""]
[177,null,{"$f":"IF(ISBLANK($B181),\"\",LOOKUP($B181,Inscriptions!A$2:A$65496,Inscriptions!B$2:B$65498))","v":""},{"$f":"IF(ISBLANK($B181),\"\",LOOKUP($B181,Inscriptions!A$2:A$65496,Inscriptions!C$2:C$65498))","v":""},{"$f":"IF(ISBLANK($B181),\"\",LOOKUP($B181,Inscriptions!A$2:A$65496,Inscriptions!D$2:D$65498))","v":""},null,null,null,0,0,0,"",""]
[178,null,{"$f":"IF(ISBLANK($B182),\"\",LOOKUP($B182,Inscriptions!A$2:A$65496,Inscriptions!B$2:B$65498))","v":""},{"$f":"IF(ISBLANK($B182),\"\",LOOKUP($B182,Inscriptions!A$2:A$65496,Inscriptions!C$2:C$65498))","v":""},{"$f":"IF(ISBLANK($B182),\"\",LOOKUP($B182,Inscriptions!A$2:A$65496,Inscriptions!D$2:D$65498))","v":""},null,null,null,0,0,0,"",""]
[179,null,{"$f":"IF(ISBLANK($B183),\"\",LOOKUP($B183,Inscriptions!A$2:A$65496,Inscriptions!B$2:B$65498))","v":""},{"$f":"IF(ISBLANK($B183),\"\",LOOKUP($B183,Inscriptions!A$2:A$65496,Inscriptions!C$2:C$65498))","v":""},{"$f":"IF(ISBLANK($B183),\"\",LOOKUP($B183,Inscriptions!A$2:A$65496,Inscriptions!D$2:D$65498))","v":""},null,null,null,0,0,0,"",""]
[180,null,{"$f":"IF(ISBLANK($B184),\"\",LOOKUP($B184,Inscriptions!A$2:A$65496,Inscriptions!B$2:B$65498))","v":""},{"$f":"IF(ISBLANK($B184),\"\",LOOKUP($B184,Inscriptions!A$2:A$65496,Inscriptions!C$2:C$65498))","v":""},{"$f":"IF(ISBLANK($B184),\"\",LOOKUP($B184,Inscriptions!A$2:A$65496,Inscriptions!D$2:D$65498))","v":""},null,null,null,0,0,0,"",""]
[181,null,{"$f":"IF(ISBLANK($B185),\"\",LOOKUP($B185,Inscriptions!A$2:A$65496,Inscriptions!B$2:B$65498))","v":""},{"$f":"IF(ISBLANK($B185),\"\",LOOKUP($B185,Inscriptions!A$2:A$65496,Inscriptions!C$2:C$65498))","v":""},{"$f":"IF(ISBLANK($B185),\"\",LOOKUP($B185,Inscriptions!A$2:A$65496,Inscriptions!D$2:D$65498))","v":""},null,null,null,0,0,0,"",""]
[182,null,{"$f":"IF(ISBLANK($B186),\"\",LOOKUP($B186,Inscriptions!A$2:A$65496,Inscriptions!B$2:B$65498))","v":""},{"$f":"IF(ISBLANK($B186),\"\",LOOKUP($B186,Inscriptions!A$2:A$65496,Inscriptions!C$2:C$65498))","v":""},{"$f":"IF(ISBLANK($B186),\"\",LOOKUP($B186,Inscriptions!A$2:A$65496,Inscriptions!D$2:D$65498))","v":""},null,null,null,0,0,0,"",""]
[183,null,{"$f":"IF(ISBLANK($B187),\"\",LOOKUP($B187,Inscriptions!A$2:A$65496,Inscriptions!B$2:B$65498))","v":""},{"$f":"IF(ISBLANK($B187),\"\",LOOKUP($B187,Inscriptions!A$2:A$65496,Inscriptions!C$2:C$65498))","v":""},{"$f":"IF(ISBLANK($B187),\"\",LOOKUP($B187,Inscriptions!A$2:A$65496,Inscriptions!D$2:D$65498))","v":""},null,null,null,0,0,0,"",""]
[184,null,{"$f":"IF(ISBLANK($B188),\"\",LOOKUP($B188,Inscriptions!A$2:A$65496,Inscriptions!B$2:B$65498))","v":""},{"$f":"IF(ISBLANK($B188),\"\",LOOKUP($B188,Inscriptions!A$2:A$65496,Inscriptions!C$2:C$65498))","v":""},{"$f":"IF(ISBLANK($B188),\"\",LOOKUP($B188,Inscriptions!A$2:A$65496,Inscriptions!D$2:D$65498))","v":""},null,null,null,0,0,0,"",""]
[185,null,{"$f":"IF(ISBLANK($B189),\"\",LOOKUP($B189,Inscriptions!A$2:A$65496,Inscriptions!B$2:B$65498))","v":""},{"$f":"IF(ISBLANK($B189),\"\",LOOKUP($B189,Inscriptions!A$2:A$65496,Inscriptions!C$2:C$65498))","v":""},{"$f":"IF(ISBLANK($B189),\"\",LOOKUP($B189,Inscriptions!A$2:A$65496,Inscriptions!D$2:D$65498))","v":""},null,null,null,0,0,0,"",""]
[186,null,{"$f":"IF(ISBLANK($B190),\"\",LOOKUP($B190,Inscriptions!A$2:A$65496,Inscriptions!B$2:B$65498))","v":""},{"$f":"IF(ISBLANK($B190),\"\",LOOKUP($B190,Inscriptions!A$2:A$65496,Inscriptions!C$2:C$65498))","v":""},{"$f":"IF(ISBLANK($B190),\"\",LOOKUP($B190,Inscriptions!A$2:A$65496,Inscriptions!D$2:D$65498))","v":""},null,null,null,0,0,0,"",""]
[187,null,{"$f":"IF(ISBLANK($B191),\"\",LOOKUP($B191,Inscriptions!A$2:A$65496,Inscriptions!B$2:B$65498))","v":""},{"$f":"IF(ISBLANK($B191),\"\",LOOKUP($B191,Inscriptions!A$2:A$65496,Inscriptions!C$2:C$65498))","v":""},{"$f":"IF(ISBLANK($B191),\"\",LOOKUP($B191,Inscriptions!A$2:A$65496,Inscriptions!D$2:D$65498))","v":""},null,null,null,0,0,0,"",""]
[188,null,{"$f":"IF(ISBLANK($B192),\"\",LOOKUP($B192,Inscriptions!A$2:A$65496,Inscriptions!B$2:B$65498))","v":""},{"$f":"IF(ISBLANK($B192),\"\",LOOKUP($B192,Inscriptions!A$2:A$65496,Inscriptions!C$2:C$65498))","v":""},{"$f":"IF(ISBLANK($B192),\"\",LOOKUP($B192,Inscriptions!A$2:A$65496,Inscriptions!D$2:D$65498))","v":""},null,null,null,0,0,0,"",""]
[189,null,{"$f":"IF(ISBLANK($B193),\"\",LOOKUP($B193,Inscriptions!A$2:A$65496,Inscriptions!B$2:B$65498))","v":""},{"$f":"IF(ISBLANK($B193),\"\",LOOKUP($B193,Inscriptions!A$2:A$65496,Inscriptions!C$2:C$65498))","v":""},{"$f":"IF(ISBLANK($B193),\"\",LOOKUP($B193,Inscriptions!A$2:A$65496,Inscriptions!D$2:D$65498))","v":""},null,null,null,0,0,0,"",""]
[190,null,{"$f":"IF(ISBLANK($B194),\"\",LOOKUP($B194,Inscriptions!A$2:A$65496,Inscriptions!B$2:B$65498))","v":""},{"$f":"IF(ISBLANK($B194),\"\",LOOKUP($B194,Inscriptions!A$2:A$65496,Inscriptions!C$2:C$65498))","v":""},{"$f":"IF(ISBLANK($B194),\"\",LOOKUP($B194,Inscriptions!A$2:A$65496,Inscriptions!D$2:D$65498))","v":""},null,null,null,0,0,0,"",""]
[191,null,{"$f":"IF(ISBLANK($B195),\"\",LOOKUP($B195,Inscriptions!A$2:A$65496,Inscriptions!B$2:B$65498))","v":""},{"$f":"IF(ISBLANK($B195),\"\",LOOKUP($B195,Inscriptions!A$2:A$65496,Inscriptions!C$2:C$65498))","v":""},{"$f":"IF(ISBLANK($B195),\"\",LOOKUP($B195,Inscriptions!A$2:A$65496,Inscriptions!D$2:D$65498))","v":""},null,null,null,0,0,0,"",""]
[192,null,{"$f":"IF(ISBLANK($B196),\"\",LOOKUP($B196,Inscriptions!A$2:A$65496,Inscriptions!B$2:B$65498))","v":""},{"$f":"IF(ISBLANK($B196),\"\",LOOKUP($B196,Inscriptions!A$2:A$65496,Inscriptions!C$2:C$65498))","v":""},{"$f":"IF(ISBLANK($B196),\"\",LOOKUP($B196,Inscriptions!A$2:A$65496,Inscriptions!D$2:D$65498))","v":""},null,null,null,0,0,0,"",""]
[193,null,{"$f":"IF(ISBLANK($B197),\"\",LOOKUP($B197,Inscriptions!A$2:A$65496,Inscriptions!B$2:B$65498))","v":""},{"$f":"IF(ISBLANK($B197),\"\",LOOKUP($B197,Inscriptions!A$2:A$65496,Inscriptions!C$2:C$65498))","v":""},{"$f":"IF(ISBLANK($B197),\"\",LOOKUP($B197,Inscriptions!A$2:A$65496,Inscriptions!D$2:D$65498))","v":""},null,null,null,0,0,0,"",""]
[194,null,{"$f":"IF(ISBLANK($B198),\"\",LOOKUP($B198,Inscriptions!A$2:A$65496,Inscriptions!B$2:B$65498))","v":""},{"$f":"IF(ISBLANK($B198),\"\",LOOKUP($B198,Inscriptions!A$2:A$65496,Inscriptions!C$2:C$65498))","v":""},{"$f":"IF(ISBLANK($B198),\"\",LOOKUP($B198,Inscriptions!A$2:A$65496,Inscriptions!D$2:D$65498))","v":""},null,null,null,{"$f":"ROUNDDOWN(H198/10000,0)","v":0},{"$f":"ROUNDDOWN((H198-I198*10000)/100,0)","v":0},{"$f":"ROUNDDOWN((H198-(I198*10000)-(J198*100)),0)","v":0},{"$f":"IF((I198+J198+K198)=0,\"\",ROUNDDOWN((L$4/((I198*3600)+(J198*60)+K198))*3.6,2))","v":""},{"$f":"IF(L198=\"\",\"\",\"km/h\")","v":""}]
[195,null,{"$f":"IF(ISBLANK($B199),\"\",LOOKUP($B199,Inscriptions!A$2:A$65496,Inscriptions!B$2:B$65498))","v":""},{"$f":"IF(ISBLANK($B199),\"\",LOOKUP($B199,Inscriptions!A$2:A$65496,Inscriptions!C$2:C$65498))","v":""},{"$f":"IF(ISBLANK($B199),\"\",LOOKUP($B199,Inscriptions!A$2:A$65496,Inscriptions!D$2:D$65498))","v":""},null,null,null,0,0,0,"",""]
[196,null,{"$f":"IF(ISBLANK($B200),\"\",LOOKUP($B200,Inscriptions!A$2:A$65496,Inscriptions!B$2:B$65498))","v":""},{"$f":"IF(ISBLANK($B200),\"\",LOOKUP($B200,Inscriptions!A$2:A$65496,Inscriptions!C$2:C$65498))","v":""},{"$f":"IF(ISBLANK($B200),\"\",LOOKUP($B200,Inscriptions!A$2:A$65496,Inscriptions!D$2:D$65498))","v":""},null,null,null,0,0,0,"",""]
[197,null,{"$f":"IF(ISBLANK($B201),\"\",LOOKUP($B201,Inscriptions!A$2:A$65496,Inscriptions!B$2:B$65498))","v":""},{"$f":"IF(ISBLANK($B201),\"\",LOOKUP($B201,Inscriptions!A$2:A$65496,Inscriptions!C$2:C$65498))","v":""},{"$f":"IF(ISBLANK($B201),\"\",LOOKUP($B201,Inscriptions!A$2:A$65496,Inscriptions!D$2:D$65498))","v":""},null,null,null,0,0,0,"",""]
[198,null,{"$f":"IF(ISBLANK($B202),\"\",LOOKUP($B202,Inscriptions!A$2:A$65496,Inscriptions!B$2:B$65498))","v":""},{"$f":"IF(ISBLANK($B202),\"\",LOOKUP($B202,Inscriptions!A$2:A$65496,Inscriptions!C$2:C$65498))","v":""},{"$f":"IF(ISBLANK($B202),\"\",LOOKUP($B202,Inscriptions!A$2:A$65496,Inscriptions!D$2:D$65498))","v":""},null,null,null,0,0,0,"",""]
[199,null,{"$f":"IF(ISBLANK($B203),\"\",LOOKUP($B203,Inscriptions!A$2:A$65496,Inscriptions!B$2:B$65498))","v":""},{"$f":"IF(ISBLANK($B203),\"\",LOOKUP($B203,Inscriptions!A$2:A$65496,Inscriptions!C$2:C$65498))","v":""},{"$f":"IF(ISBLANK($B203),\"\",LOOKUP($B203,Inscriptions!A$2:A$65496,Inscriptions!D$2:D$65498))","v":""},null,null,null,0,0,0,"",""]
[200,null,{"$f":"IF(ISBLANK($B204),\"\",LOOKUP($B204,Inscriptions!A$2:A$65496,Inscriptions!B$2:B$65498))","v":""},{"$f":"IF(ISBLANK($B204),\"\",LOOKUP($B204,Inscriptions!A$2:A$65496,Inscriptions!C$2:C$65498))","v":""},{"$f":"IF(ISBLANK($B204),\"\",LOOKUP($B204,Inscriptions!A$2:A$65496,Inscriptions!D$2:D$65498))","v":""},null,null,null,0,0,0,"",""]
[201,null,{"$f":"IF(ISBLANK($B205),\"\",LOOKUP($B205,Inscriptions!A$2:A$65496,Inscriptions!B$2:B$65498))","v":""},{"$f":"IF(ISBLANK($B205),\"\",LOOKUP($B205,Inscriptions!A$2:A$65496,Inscriptions!C$2:C$65498))","v":""},{"$f":"IF(ISBLANK($B205),\"\",LOOKUP($B205,Inscriptions!A$2:A$65496,Inscriptions!D$2:D$65498))","v":""},null,null,null,0,0,0,"",""]
[202,null,{"$f":"IF(ISBLANK($B206),\"\",LOOKUP($B206,Inscriptions!A$2:A$65496,Inscriptions!B$2:B$65498))","v":""},{"$f":"IF(ISBLANK($B206),\"\",LOOKUP($B206,Inscriptions!A$2:A$65496,Inscriptions!C$2:C$65498))","v":""},{"$f":"IF(ISBLANK($B206),\"\",LOOKUP($B206,Inscriptions!A$2:A$65496,Inscriptions!D$2:D$65498))","v":""},null,null,null,0,0,0,"",""]
[203,null,{"$f":"IF(ISBLANK($B207),\"\",LOOKUP($B207,Inscriptions!A$2:A$65496,Inscriptions!B$2:B$65498))","v":""},{"$f":"IF(ISBLANK($B207),\"\",LOOKUP($B207,Inscriptions!A$2:A$65496,Inscriptions!C$2:C$65498))","v":""},{"$f":"IF(ISBLANK($B207),\"\",LOOKUP($B207,Inscriptions!A$2:A$65496,Inscriptions!D$2:D$65498))","v":""},null,null,null,0,0,0,"",""]
[204,null,{"$f":"IF(ISBLANK($B208),\"\",LOOKUP($B208,Inscriptions!A$2:A$65496,Inscriptions!B$2:B$65498))","v":""},{"$f":"IF(ISBLANK($B208),\"\",LOOKUP($B208,Inscriptions!A$2:A$65496,Inscriptions!C$2:C$65498))","v":""},{"$f":"IF(ISBLANK($B208),\"\",LOOKUP($B208,Inscriptions!A$2:A$65496,Inscriptions!D$2:D$65498))","v":""},null,null,null,0,0,0,"",""]
[205,null,{"$f":"IF(ISBLANK($B209),\"\",LOOKUP($B209,Inscriptions!A$2:A$65496,Inscriptions!B$2:B$65498))","v":""},{"$f":"IF(ISBLANK($B209),\"\",LOOKUP($B209,Inscriptions!A$2:A$65496,Inscriptions!C$2:C$65498))","v":""},{"$f":"IF(ISBLANK($B209),\"\",LOOKUP($B209,Inscriptions!A$2:A$65496,Inscriptions!D$2:D$65498))","v":""},null,null,null,0,0,0,"",""]
[206,null,{"$f":"IF(ISBLANK($B210),\"\",LOOKUP($B210,Inscriptions!A$2:A$65496,Inscriptions!B$2:B$65498))","v":""},{"$f":"IF(ISBLANK($B210),\"\",LOOKUP($B210,Inscriptions!A$2:A$65496,Inscriptions!C$2:C$65498))","v":""},{"$f":"IF(ISBLANK($B210),\"\",LOOKUP($B210,Inscriptions!A$2:A$65496,Inscriptions!D$2:D$65498))","v":""},null,null,null,0,0,0,"",""]
[207,null,{"$f":"IF(ISBLANK($B211),\"\",LOOKUP($B211,Inscriptions!A$2:A$65496,Inscriptions!B$2:B$65498))","v":""},{"$f":"IF(ISBLANK($B211),\"\",LOOKUP($B211,Inscriptions!A$2:A$65496,Inscriptions!C$2:C$65498))","v":""},{"$f":"IF(ISBLANK($B211),\"\",LOOKUP($B211,Inscriptions!A$2:A$65496,Inscriptions!D$2:D$65498))","v":""},null,null,null,0,0,0,"",""]
[208,null,{"$f":"IF(ISBLANK($B212),\"\",LOOKUP($B212,Inscriptions!A$2:A$65496,Inscriptions!B$2:B$65498))","v":""},{"$f":"IF(ISBLANK($B212),\"\",LOOKUP($B212,Inscriptions!A$2:A$65496,Inscriptions!C$2:C$65498))","v":""},{"$f":"IF(ISBLANK($B212),\"\",LOOKUP($B212,Inscriptions!A$2:A$65496,Inscriptions!D$2:D$65498))","v":""},null,null,null,0,0,0,"",""]
[209,null,{"$f":"IF(ISBLANK($B213),\"\",LOOKUP($B213,Inscriptions!A$2:A$65496,Inscriptions!B$2:B$65498))","v":""},{"$f":"IF(ISBLANK($B213),\"\",LOOKUP($B213,Inscriptions!A$2:A$65496,Inscriptions!C$2:C$65498))","v":""},{"$f":"IF(ISBLANK($B213),\"\",LOOKUP($B213,Inscriptions!A$2:A$65496,Inscriptions!D$2:D$65498))","v":""},null,null,null,0,0,0,"",""]
[210,null,{"$f":"IF(ISBLANK($B214),\"\",LOOKUP($B214,Inscriptions!A$2:A$65496,Inscriptions!B$2:B$65498))","v":""},{"$f":"IF(ISBLANK($B214),\"\",LOOKUP($B214,Inscriptions!A$2:A$65496,Inscriptions!C$2:C$65498))","v":""},{"$f":"IF(ISBLANK($B214),\"\",LOOKUP($B214,Inscriptions!A$2:A$65496,Inscriptions!D$2:D$65498))","v":""},null,null,null,0,0,0,"",""]
[211,null,{"$f":"IF(ISBLANK($B215),\"\",LOOKUP($B215,Inscriptions!A$2:A$65496,Inscriptions!B$2:B$65498))","v":""},{"$f":"IF(ISBLANK($B215),\"\",LOOKUP($B215,Inscriptions!A$2:A$65496,Inscriptions!C$2:C$65498))","v":""},{"$f":"IF(ISBLANK($B215),\"\",LOOKUP($B215,Inscriptions!A$2:A$65496,Inscriptions!D$2:D$65498))","v":""},null,null,null,0,0,0,"",""]
[212,null,{"$f":"IF(ISBLANK($B216),\"\",LOOKUP($B216,Inscriptions!A$2:A$65496,Inscriptions!B$2:B$65498))","v":""},{"$f":"IF(ISBLANK($B216),\"\",LOOKUP($B216,Inscriptions!A$2:A$65496,Inscriptions!C$2:C$65498))","v":""},{"$f":"IF(ISBLANK($B216),\"\",LOOKUP($B216,Inscriptions!A$2:A$65496,Inscriptions!D$2:D$65498))","v":""},null,null,null,0,0,0,"",""]
[213,null,{"$f":"IF(ISBLANK($B217),\"\",LOOKUP($B217,Inscriptions!A$2:A$65496,Inscriptions!B$2:B$65498))","v":""},{"$f":"IF(ISBLANK($B217),\"\",LOOKUP($B217,Inscriptions!A$2:A$65496,Inscriptions!C$2:C$65498))","v":""},{"$f":"IF(ISBLANK($B217),\"\",LOOKUP($B217,Inscriptions!A$2:A$65496,Inscriptions!D$2:D$65498))","v":""},null,null,null,0,0,0,"",""]
[214,null,{"$f":"IF(ISBLANK($B218),\"\",LOOKUP($B218,Inscriptions!A$2:A$65496,Inscriptions!B$2:B$65498))","v":""},{"$f":"IF(ISBLANK($B218),\"\",LOOKUP($B218,Inscriptions!A$2:A$65496,Inscriptions!C$2:C$65498))","v":""},{"$f":"IF(ISBLANK($B218),\"\",LOOKUP($B218,Inscriptions!A$2:A$65496,Inscriptions!D$2:D$65498))","v":""},null,null,null,0,0,0,"",""]
[215,null,{"$f":"IF(ISBLANK($B219),\"\",LOOKUP($B219,Inscriptions!A$2:A$65496,Inscriptions!B$2:B$65498))","v":""},{"$f":"IF(ISBLANK($B219),\"\",LOOKUP($B219,Inscriptions!A$2:A$65496,Inscriptions!C$2:C$65498))","v":""},{"$f":"IF(ISBLANK($B219),\"\",LOOKUP($B219,Inscriptions!A$2:A$65496,Inscriptions!D$2:D$65498))","v":""},null,null,null,0,0,0,"",""]
[216,null,{"$f":"IF(ISBLANK($B220),\"\",LOOKUP($B220,Inscriptions!A$2:A$65496,Inscriptions!B$2:B$65498))","v":""},{"$f":"IF(ISBLANK($B220),\"\",LOOKUP($B220,Inscriptions!A$2:A$65496,Inscriptions!C$2:C$65498))","v":""},{"$f":"IF(ISBLANK($B220),\"\",LOOKUP($B220,Inscriptions!A$2:A$65496,Inscriptions!D$2:D$65498))","v":""},null,null,null,0,0,0,"",""]
[217,null,{"$f":"IF(ISBLANK($B221),\"\",LOOKUP($B221,Inscriptions!A$2:A$65496,Inscriptions!B$2:B$65498))","v":""},{"$f":"IF(ISBLANK($B221),\"\",LOOKUP($B221,Inscriptions!A$2:A$65496,Inscriptions!C$2:C$65498))","v":""},{"$f":"IF(ISBLANK($B221),\"\",LOOKUP($B221,Inscriptions!A$2:A$65496,Inscriptions!D$2:D$65498))","v":""},null,null,null,0,0,0,"",""]
[218,null,{"$f":"IF(ISBLANK($B222),\"\",LOOKUP($B222,Inscriptions!A$2:A$65496,Inscriptions!B$2:B$65498))","v":""},{"$f":"IF(ISBLANK($B222),\"\",LOOKUP($B222,Inscriptions!A$2:A$65496,Inscriptions!C$2:C$65498))","v":""},{"$f":"IF(ISBLANK($B222),\"\",LOOKUP($B222,Inscriptions!A$2:A$65496,Inscriptions!D$2:D$65498))","v":""},null,null,null,0,0,0,"",""]
[219,null,{"$f":"IF(ISBLANK($B223),\"\",LOOKUP($B223,Inscriptions!A$2:A$65496,Inscriptions!B$2:B$65498))","v":""},{"$f":"IF(ISBLANK($B223),\"\",LOOKUP($B223,Inscriptions!A$2:A$65496,Inscriptions!C$2:C$65498))","v":""},{"$f":"IF(ISBLANK($B223),\"\",LOOKUP($B223,Inscriptions!A$2:A$65496,Inscriptions!D$2:D$65498))","v":""},null,null,null,0,0,0,"",""]
[220,null,{"$f":"IF(ISBLANK($B224),\"\",LOOKUP($B224,Inscriptions!A$2:A$65496,Inscriptions!B$2:B$65498))","v":""},{"$f":"IF(ISBLANK($B224),\"\",LOOKUP($B224,Inscriptions!A$2:A$65496,Inscriptions!C$2:C$65498))","v":""},{"$f":"IF(ISBLANK($B224),\"\",LOOKUP($B224,Inscriptions!A$2:A$65496,Inscriptions!D$2:D$65498))","v":""},null,null,null,0,0,0,"",""]
[221,null,{"$f":"IF(ISBLANK($B225),\"\",LOOKUP($B225,Inscriptions!A$2:A$65496,Inscriptions!B$2:B$65498))","v":""},{"$f":"IF(ISBLANK($B225),\"\",LOOKUP($B225,Inscriptions!A$2:A$65496,Inscriptions!C$2:C$65498))","v":""},{"$f":"IF(ISBLANK($B225),\"\",LOOKUP($B225,Inscriptions!A$2:A$65496,Inscriptions!D$2:D$65498))","v":""},null,null,null,0,0,0,"",""]
[222,null,{"$f":"IF(ISBLANK($B226),\"\",LOOKUP($B226,Inscriptions!A$2:A$65496,Inscriptions!B$2:B$65498))","v":""},{"$f":"IF(ISBLANK($B226),\"\",LOOKUP($B226,Inscriptions!A$2:A$65496,Inscriptions!C$2:C$65498))","v":""},{"$f":"IF(ISBLANK($B226),\"\",LOOKUP($B226,Inscriptions!A$2:A$65496,Inscriptions!D$2:D$65498))","v":""},null,null,null,0,0,0,"",""]
[223,null,{"$f":"IF(ISBLANK($B227),\"\",LOOKUP($B227,Inscriptions!A$2:A$65496,Inscriptions!B$2:B$65498))","v":""},{"$f":"IF(ISBLANK($B227),\"\",LOOKUP($B227,Inscriptions!A$2:A$65496,Inscriptions!C$2:C$65498))","v":""},{"$f":"IF(ISBLANK($B227),\"\",LOOKUP($B227,Inscriptions!A$2:A$65496,Inscriptions!D$2:D$65498))","v":""},null,null,null,0,0,0,"",""]
[224,null,{"$f":"IF(ISBLANK($B228),\"\",LOOKUP($B228,Inscriptions!A$2:A$65496,Inscriptions!B$2:B$65498))","v":""},{"$f":"IF(ISBLANK($B228),\"\",LOOKUP($B228,Inscriptions!A$2:A$65496,Inscriptions!C$2:C$65498))","v":""},{"$f":"IF(ISBLANK($B228),\"\",LOOKUP($B228,Inscriptions!A$2:A$65496,Inscriptions!D$2:D$65498))","v":""},null,null,null,0,0,0,"",""]
[225,null,{"$f":"IF(ISBLANK($B229),\"\",LOOKUP($B229,Inscriptions!A$2:A$65496,Inscriptions!B$2:B$65498))","v":""},{"$f":"IF(ISBLANK($B229),\"\",LOOKUP($B229,Inscriptions!A$2:A$65496,Inscriptions!C$2:C$65498))","v":""},{"$f":"IF(ISBLANK($B229),\"\",LOOKUP($B229,Inscriptions!A$2:A$65496,Inscriptions!D$2:D$65498))","v":""},null,null,null,0,0,0,"",""]
[226,null,{"$f":"IF(ISBLANK($B230),\"\",LOOKUP($B230,Inscriptions!A$2:A$65496,Inscriptions!B$2:B$65498))","v":""},{"$f":"IF(ISBLANK($B230),\"\",LOOKUP($B230,Inscriptions!A$2:A$65496,Inscriptions!C$2:C$65498))","v":""},{"$f":"IF(ISBLANK($B230),\"\",LOOKUP($B230,Inscriptions!A$2:A$65496,Inscriptions!D$2:D$65498))","v":""},null,null,null,0,0,0,"",""]
[227,null,{"$f":"IF(ISBLANK($B231),\"\",LOOKUP($B231,Inscriptions!A$2:A$65496,Inscriptions!B$2:B$65498))","v":""},{"$f":"IF(ISBLANK($B231),\"\",LOOKUP($B231,Inscriptions!A$2:A$65496,Inscriptions!C$2:C$65498))","v":""},{"$f":"IF(ISBLANK($B231),\"\",LOOKUP($B231,Inscriptions!A$2:A$65496,Inscriptions!D$2:D$65498))","v":""},null,null,null,0,0,0,"",""]
[228,null,{"$f":"IF(ISBLANK($B232),\"\",LOOKUP($B232,Inscriptions!A$2:A$65496,Inscriptions!B$2:B$65498))","v":""},{"$f":"IF(ISBLANK($B232),\"\",LOOKUP($B232,Inscriptions!A$2:A$65496,Inscriptions!C$2:C$65498))","v":""},{"$f":"IF(ISBLANK($B232),\"\",LOOKUP($B232,Inscriptions!A$2:A$65496,Inscriptions!D$2:D$65498))","v":""},null,null,null,0,0,0,"",""]
[229,null,{"$f":"IF(ISBLANK($B233),\"\",LOOKUP($B233,Inscriptions!A$2:A$65496,Inscriptions!B$2:B$65498))","v":""},{"$f":"IF(ISBLANK($B233),\"\",LOOKUP($B233,Inscriptions!A$2:A$65496,Inscriptions!C$2:C$65498))","v":""},{"$f":"IF(ISBLANK($B233),\"\",LOOKUP($B233,Inscriptions!A$2:A$65496,Inscriptions!D$2:D$65498))","v":""},null,null,null,0,0,0,"",""]
[230,null,{"$f":"IF(ISBLANK($B234),\"\",LOOKUP($B234,Inscriptions!A$2:A$65496,Inscriptions!B$2:B$65498))","v":""},{"$f":"IF(ISBLANK($B234),\"\",LOOKUP($B234,Inscriptions!A$2:A$65496,Inscriptions!C$2:C$65498))","v":""},{"$f":"IF(ISBLANK($B234),\"\",LOOKUP($B234,Inscriptions!A$2:A$65496,Inscriptions!D$2:D$65498))","v":""},null,null,null,0,0,0,"",""]
[231,null,{"$f":"IF(ISBLANK($B235),\"\",LOOKUP($B235,Inscriptions!A$2:A$65496,Inscriptions!B$2:B$65498))","v":""},{"$f":"IF(ISBLANK($B235),\"\",LOOKUP($B235,Inscriptions!A$2:A$65496,Inscriptions!C$2:C$65498))","v":""},{"$f":"IF(ISBLANK($B235),\"\",LOOKUP($B235,Inscriptions!A$2:A$65496,Inscriptions!D$2:D$65498))","v":""},null,null,null,0,0,0,"",""]
[232,null,{"$f":"IF(ISBLANK($B236),\"\",LOOKUP($B236,Inscriptions!A$2:A$65496,Inscriptions!B$2:B$65498))","v":""},{"$f":"IF(ISBLANK($B236),\"\",LOOKUP($B236,Inscriptions!A$2:A$65496,Inscriptions!C$2:C$65498))","v":""},{"$f":"IF(ISBLANK($B236),\"\",LOOKUP($B236,Inscriptions!A$2:A$65496,Inscriptions!D$2:D$65498))","v":""},null,null,null,0,0,0,"",""]
[233,null,{"$f":"IF(ISBLANK($B237),\"\",LOOKUP($B237,Inscriptions!A$2:A$65496,Inscriptions!B$2:B$65498))","v":""},{"$f":"IF(ISBLANK($B237),\"\",LOOKUP($B237,Inscriptions!A$2:A$65496,Inscriptions!C$2:C$65498))","v":""},{"$f":"IF(ISBLANK($B237),\"\",LOOKUP($B237,Inscriptions!A$2:A$65496,Inscriptions!D$2:D$65498))","v":""},null,null,null,0,0,0,"",""]
[234,null,{"$f":"IF(ISBLANK($B238),\"\",LOOKUP($B238,Inscriptions!A$2:A$65496,Inscriptions!B$2:B$65498))","v":""},{"$f":"IF(ISBLANK($B238),\"\",LOOKUP($B238,Inscriptions!A$2:A$65496,Inscriptions!C$2:C$65498))","v":""},{"$f":"IF(ISBLANK($B238),\"\",LOOKUP($B238,Inscriptions!A$2:A$65496,Inscriptions!D$2:D$65498))","v":""},null,null,null,0,0,0,"",""]
[235,null,{"$f":"IF(ISBLANK($B239),\"\",LOOKUP($B239,Inscriptions!A$2:A$65496,Inscriptions!B$2:B$65498))","v":""},{"$f":"IF(ISBLANK($B239),\"\",LOOKUP($B239,Inscriptions!A$2:A$65496,Inscriptions!C$2:C$65498))","v":""},{"$f":"IF(ISBLANK($B239),\"\",LOOKUP($B239,Inscriptions!A$2:A$65496,Inscriptions!D$2:D$65498))","v":""},null,null,null,0,0,0,"",""]
[236,null,{"$f":"IF(ISBLANK($B240),\"\",LOOKUP($B240,Inscriptions!A$2:A$65496,Inscriptions!B$2:B$65498))","v":""},{"$f":"IF(ISBLANK($B240),\"\",LOOKUP($B240,Inscriptions!A$2:A$65496,Inscriptions!C$2:C$65498))","v":""},{"$f":"IF(ISBLANK($B240),\"\",LOOKUP($B240,Inscriptions!A$2:A$65496,Inscriptions!D$2:D$65498))","v":""},null,null,null,0,0,0,"",""]
[237,null,{"$f":"IF(ISBLANK($B241),\"\",LOOKUP($B241,Inscriptions!A$2:A$65496,Inscriptions!B$2:B$65498))","v":""},{"$f":"IF(ISBLANK($B241),\"\",LOOKUP($B241,Inscriptions!A$2:A$65496,Inscriptions!C$2:C$65498))","v":""},{"$f":"IF(ISBLANK($B241),\"\",LOOKUP($B241,Inscriptions!A$2:A$65496,Inscriptions!D$2:D$65498))","v":""},null,null,null,0,0,0,"",""]
[238,null,{"$f":"IF(ISBLANK($B242),\"\",LOOKUP($B242,Inscriptions!A$2:A$65496,Inscriptions!B$2:B$65498))","v":""},{"$f":"IF(ISBLANK($B242),\"\",LOOKUP($B242,Inscriptions!A$2:A$65496,Inscriptions!C$2:C$65498))","v":""},{"$f":"IF(ISBLANK($B242),\"\",LOOKUP($B242,Inscriptions!A$2:A$65496,Inscriptions!D$2:D$65498))","v":""},null,null,null,0,0,0,"",""]
[239,null,{"$f":"IF(ISBLANK($B243),\"\",LOOKUP($B243,Inscriptions!A$2:A$65496,Inscriptions!B$2:B$65498))","v":""},{"$f":"IF(ISBLANK($B243),\"\",LOOKUP($B243,Inscriptions!A$2:A$65496,Inscriptions!C$2:C$65498))","v":""},{"$f":"IF(ISBLANK($B243),\"\",LOOKUP($B243,Inscriptions!A$2:A$65496,Inscriptions!D$2:D$65498))","v":""},null,null,null,0,0,0,"",""]
[240,null,{"$f":"IF(ISBLANK($B244),\"\",LOOKUP($B244,Inscriptions!A$2:A$65496,Inscriptions!B$2:B$65498))","v":""},{"$f":"IF(ISBLANK($B244),\"\",LOOKUP($B244,Inscriptions!A$2:A$65496,Inscriptions!C$2:C$65498))","v":""},{"$f":"IF(ISBLANK($B244),\"\",LOOKUP($B244,Inscriptions!A$2:A$65496,Inscriptions!D$2:D$65498))","v":""},null,null,null,0,0,0,"",""]
[241,null,{"$f":"IF(ISBLANK($B245),\"\",LOOKUP($B245,Inscriptions!A$2:A$65496,Inscriptions!B$2:B$65498))","v":""},{"$f":"IF(ISBLANK($B245),\"\",LOOKUP($B245,Inscriptions!A$2:A$65496,Inscriptions!C$2:C$65498))","v":""},{"$f":"IF(ISBLANK($B245),\"\",LOOKUP($B245,Inscriptions!A$2:A$65496,Inscriptions!D$2:D$65498))","v":""},null,null,null,0,0,0,"",""]
[242,null,{"$f":"IF(ISBLANK($B246),\"\",LOOKUP($B246,Inscriptions!A$2:A$65496,Inscriptions!B$2:B$65498))","v":""},{"$f":"IF(ISBLANK($B246),\"\",LOOKUP($B246,Inscriptions!A$2:A$65496,Inscriptions!C$2:C$65498))","v":""},{"$f":"IF(ISBLANK($B246),\"\",LOOKUP($B246,Inscriptions!A$2:A$65496,Inscriptions!D$2:D$65498))","v":""},null,null,null,0,0,0,"",""]
[243,null,{"$f":"IF(ISBLANK($B247),\"\",LOOKUP($B247,Inscriptions!A$2:A$65496,Inscriptions!B$2:B$65498))","v":""},{"$f":"IF(ISBLANK($B247),\"\",LOOKUP($B247,Inscriptions!A$2:A$65496,Inscriptions!C$2:C$65498))","v":""},{"$f":"IF(ISBLANK($B247),\"\",LOOKUP($B247,Inscriptions!A$2:A$65496,Inscriptions!D$2:D$65498))","v":""},null,null,null,0,0,0,"",""]
[244,null,{"$f":"IF(ISBLANK($B248),\"\",LOOKUP($B248,Inscriptions!A$2:A$65496,Inscriptions!B$2:B$65498))","v":""},{"$f":"IF(ISBLANK($B248),\"\",LOOKUP($B248,Inscriptions!A$2:A$65496,Inscriptions!C$2:C$65498))","v":""},{"$f":"IF(ISBLANK($B248),\"\",LOOKUP($B248,Inscriptions!A$2:A$65496,Inscriptions!D$2:D$65498))","v":""},null,null,null,0,0,0,"",""]
[245,null,{"$f":"IF(ISBLANK($B249),\"\",LOOKUP($B249,Inscriptions!A$2:A$65496,Inscriptions!B$2:B$65498))","v":""},{"$f":"IF(ISBLANK($B249),\"\",LOOKUP($B249,Inscriptions!A$2:A$65496,Inscriptions!C$2:C$65498))","v":""},{"$f":"IF(ISBLANK($B249),\"\",LOOKUP($B249,Inscriptions!A$2:A$65496,Inscriptions!D$2:D$65498))","v":""},null,null,null,0,0,0,"",""]
[246,null,{"$f":"IF(ISBLANK($B250),\"\",LOOKUP($B250,Inscriptions!A$2:A$65496,Inscriptions!B$2:B$65498))","v":""},{"$f":"IF(ISBLANK($B250),\"\",LOOKUP($B250,Inscriptions!A$2:A$65496,Inscriptions!C$2:C$65498))","v":""},{"$f":"IF(ISBLANK($B250),\"\",LOOKUP($B250,Inscriptions!A$2:A$65496,Inscriptions!D$2:D$65498))","v":""},null,null,null,0,0,0,"",""]
[247,null,{"$f":"IF(ISBLANK($B251),\"\",LOOKUP($B251,Inscriptions!A$2:A$65496,Inscriptions!B$2:B$65498))","v":""},{"$f":"IF(ISBLANK($B251),\"\",LOOKUP($B251,Inscriptions!A$2:A$65496,Inscriptions!C$2:C$65498))","v":""},{"$f":"IF(ISBLANK($B251),\"\",LOOKUP($B251,Inscriptions!A$2:A$65496,Inscriptions!D$2:D$65498))","v":""},null,null,null,0,0,0,"",""]
[248,null,{"$f":"IF(ISBLANK($B252),\"\",LOOKUP($B252,Inscriptions!A$2:A$65496,Inscriptions!B$2:B$65498))","v":""},{"$f":"IF(ISBLANK($B252),\"\",LOOKUP($B252,Inscriptions!A$2:A$65496,Inscriptions!C$2:C$65498))","v":""},{"$f":"IF(ISBLANK($B252),\"\",LOOKUP($B252,Inscriptions!A$2:A$65496,Inscriptions!D$2:D$65498))","v":""},null,null,null,0,0,0,"",""]
[249,null,{"$f":"IF(ISBLANK($B253),\"\",LOOKUP($B253,Inscriptions!A$2:A$65496,Inscriptions!B$2:B$65498))","v":""},{"$f":"IF(ISBLANK($B253),\"\",LOOKUP($B253,Inscriptions!A$2:A$65496,Inscriptions!C$2:C$65498))","v":""},{"$f":"IF(ISBLANK($B253),\"\",LOOKUP($B253,Inscriptions!A$2:A$65496,Inscriptions!D$2:D$65498))","v":""},null,null,null,0,0,0,"",""]
[250,null,{"$f":"IF(ISBLANK($B254),\"\",LOOKUP($B254,Inscriptions!A$2:A$65496,Inscriptions!B$2:B$65498))","v":""},{"$f":"IF(ISBLANK($B254),\"\",LOOKUP($B254,Inscriptions!A$2:A$65496,Inscriptions!C$2:C$65498))","v":""},{"$f":"IF(ISBLANK($B254),\"\",LOOKUP($B254,Inscriptions!A$2:A$65496,Inscriptions!D$2:D$65498))","v":""},null,null,null,0,0,0,"",""]
[251,null,{"$f":"IF(ISBLANK($B255),\"\",LOOKUP($B255,Inscriptions!A$2:A$65496,Inscriptions!B$2:B$65498))","v":""},{"$f":"IF(ISBLANK($B255),\"\",LOOKUP($B255,Inscriptions!A$2:A$65496,Inscriptions!C$2:C$65498))","v":""},{"$f":"IF(ISBLANK($B255),\"\",LOOKUP($B255,Inscriptions!A$2:A$65496,Inscriptions!D$2:D$65498))","v":""},null,null,null,0,0,0,"",""]
[252,null,{"$f":"IF(ISBLANK($B256),\"\",LOOKUP($B256,Inscriptions!A$2:A$65496,Inscriptions!B$2:B$65498))","v":""},{"$f":"IF(ISBLANK($B256),\"\",LOOKUP($B256,Inscriptions!A$2:A$65496,Inscriptions!C$2:C$65498))","v":""},{"$f":"IF(ISBLANK($B256),\"\",LOOKUP($B256,Inscriptions!A$2:A$65496,Inscriptions!D$2:D$65498))","v":""},null,null,null,0,0,0,"",""]
[253,null,{"$f":"IF(ISBLANK($B257),\"\",LOOKUP($B257,Inscriptions!A$2:A$65496,Inscriptions!B$2:B$65498))","v":""},{"$f":"IF(ISBLANK($B257),\"\",LOOKUP($B257,Inscriptions!A$2:A$65496,Inscriptions!C$2:C$65498))","v":""},{"$f":"IF(ISBLANK($B257),\"\",LOOKUP($B257,Inscriptions!A$2:A$65496,Inscriptions!D$2:D$65498))","v":""},null,null,null,0,0,0,"",""]
[254,null,{"$f":"IF(ISBLANK($B258),\"\",LOOKUP($B258,Inscriptions!A$2:A$65496,Inscriptions!B$2:B$65498))","v":""},{"$f":"IF(ISBLANK($B258),\"\",LOOKUP($B258,Inscriptions!A$2:A$65496,Inscriptions!C$2:C$65498))","v":""},{"$f":"IF(ISBLANK($B258),\"\",LOOKUP($B258,Inscriptions!A$2:A$65496,Inscriptions!D$2:D$65498))","v":""},null,null,null,0,0,0,"",""]
[255,null,{"$f":"IF(ISBLANK($B259),\"\",LOOKUP($B259,Inscriptions!A$2:A$65496,Inscriptions!B$2:B$65498))","v":""},{"$f":"IF(ISBLANK($B259),\"\",LOOKUP($B259,Inscriptions!A$2:A$65496,Inscriptions!C$2:C$65498))","v":""},{"$f":"IF(ISBLANK($B259),\"\",LOOKUP($B259,Inscriptions!A$2:A$65496,Inscriptions!D$2:D$65498))","v":""},null,null,null,0,0,0,"",""]
[256,null,{"$f":"IF(ISBLANK($B260),\"\",LOOKUP($B260,Inscriptions!A$2:A$65496,Inscriptions!B$2:B$65498))","v":""},{"$f":"IF(ISBLANK($B260),\"\",LOOKUP($B260,Inscriptions!A$2:A$65496,Inscriptions!C$2:C$65498))","v":""},{"$f":"IF(ISBLANK($B260),\"\",LOOKUP($B260,Inscriptions!A$2:A$65496,Inscriptions!D$2:D$65498))","v":""},null,null,null,0,0,0,"",""]
[257,null,{"$f":"IF(ISBLANK($B261),\"\",LOOKUP($B261,Inscriptions!A$2:A$65496,Inscriptions!B$2:B$65498))","v":""},{"$f":"IF(ISBLANK($B261),\"\",LOOKUP($B261,Inscriptions!A$2:A$65496,Inscriptions!C$2:C$65498))","v":""},{"$f":"IF(ISBLANK($B261),\"\",LOOKUP($B261,Inscriptions!A$2:A$65496,Inscriptions!D$2:D$65498))","v":""},null,null,null,0,0,0,"",""]
[258,null,{"$f":"IF(ISBLANK($B262),\"\",LOOKUP($B262,Inscriptions!A$2:A$65496,Inscriptions!B$2:B$65498))","v":""},{"$f":"IF(ISBLANK($B262),\"\",LOOKUP($B262,Inscriptions!A$2:A$65496,Inscriptions!C$2:C$65498))","v":""},{"$f":"IF(ISBLANK($B262),\"\",LOOKUP($B262,Inscriptions!A$2:A$65496,Inscriptions!D$2:D$65498))","v":""},null,null,null,{"$f":"ROUNDDOWN(H262/10000,0)","v":0},{"$f":"ROUNDDOWN((H262-I262*10000)/100,0)","v":0},{"$f":"ROUNDDOWN((H262-(I262*10000)-(J262*100)),0)","v":0},{"$f":"IF((I262+J262+K262)=0,\"\",ROUNDDOWN((L$4/((I262*3600)+(J262*60)+K262))*3.6,2))","v":""},{"$f":"IF(L262=\"\",\"\",\"km/h\")","v":""}]
[259,null,{"$f":"IF(ISBLANK($B263),\"\",LOOKUP($B263,Inscriptions!A$2:A$65496,Inscriptions!B$2:B$65498))","v":""},{"$f":"IF(ISBLANK($B263),\"\",LOOKUP($B263,Inscriptions!A$2:A$65496,Inscriptions!C$2:C$65498))","v":""},{"$f":"IF(ISBLANK($B263),\"\",LOOKUP($B263,Inscriptions!A$2:A$65496,Inscriptions!D$2:D$65498))","v":""},null,null,null,0,0,0,"",""]
[260,null,{"$f":"IF(ISBLANK($B264),\"\",LOOKUP($B264,Inscriptions!A$2:A$65496,Inscriptions!B$2:B$65498))","v":""},{"$f":"IF(ISBLANK($B264),\"\",LOOKUP($B264,Inscriptions!A$2:A$65496,Inscriptions!C$2:C$65498))","v":""},{"$f":"IF(ISBLANK($B264),\"\",LOOKUP($B264,Inscriptions!A$2:A$65496,Inscriptions!D$2:D$65498))","v":""},null,null,null,0,0,0,"",""]
[261,null,{"$f":"IF(ISBLANK($B265),\"\",LOOKUP($B265,Inscriptions!A$2:A$65496,Inscriptions!B$2:B$65498))","v":""},{"$f":"IF(ISBLANK($B265),\"\",LOOKUP($B265,Inscriptions!A$2:A$65496,Inscriptions!C$2:C$65498))","v":""},{"$f":"IF(ISBLANK($B265),\"\",LOOKUP($B265,Inscriptions!A$2:A$65496,Inscriptions!D$2:D$65498))","v":""},null,null,null,0,0,0,"",""]
[262,null,{"$f":"IF(ISBLANK($B266),\"\",LOOKUP($B266,Inscriptions!A$2:A$65496,Inscriptions!B$2:B$65498))","v":""},{"$f":"IF(ISBLANK($B266),\"\",LOOKUP($B266,Inscriptions!A$2:A$65496,Inscriptions!C$2:C$65498))","v":""},{"$f":"IF(ISBLANK($B266),\"\",LOOKUP($B266,Inscriptions!A$2:A$65496,Inscriptions!D$2:D$65498))","v":""},null,null,null,0,0,0,"",""]
[263,null,{"$f":"IF(ISBLANK($B267),\"\",LOOKUP($B267,Inscriptions!A$2:A$65496,Inscriptions!B$2:B$65498))","v":""},{"$f":"IF(ISBLANK($B267),\"\",LOOKUP($B267,Inscriptions!A$2:A$65496,Inscriptions!C$2:C$65498))","v":""},{"$f":"IF(ISBLANK($B267),\"\",LOOKUP($B267,Inscriptions!A$2:A$65496,Inscriptions!D$2:D$65498))","v":""},null,null,null,0,0,0,"",""]
[264,null,{"$f":"IF(ISBLANK($B268),\"\",LOOKUP($B268,Inscriptions!A$2:A$65496,Inscriptions!B$2:B$65498))","v":""},{"$f":"IF(ISBLANK($B268),\"\",LOOKUP($B268,Inscriptions!A$2:A$65496,Inscriptions!C$2:C$65498))","v":""},{"$f":"IF(ISBLANK($B268),\"\",LOOKUP($B268,Inscriptions!A$2:A$65496,Inscriptions!D$2:D$65498))","v":""},null,null,null,0,0,0,"",""]
[265,null,{"$f":"IF(ISBLANK($B269),\"\",LOOKUP($B269,Inscriptions!A$2:A$65496,Inscriptions!B$2:B$65498))","v":""},{"$f":"IF(ISBLANK($B269),\"\",LOOKUP($B269,Inscriptions!A$2:A$65496,Inscriptions!C$2:C$65498))","v":""},{"$f":"IF(ISBLANK($B269),\"\",LOOKUP($B269,Inscriptions!A$2:A$65496,Inscriptions!D$2:D$65498))","v":""},null,null,null,0,0,0,"",""]
[266,null,{"$f":"IF(ISBLANK($B270),\"\",LOOKUP($B270,Inscriptions!A$2:A$65496,Inscriptions!B$2:B$65498))","v":""},{"$f":"IF(ISBLANK($B270),\"\",LOOKUP($B270,Inscriptions!A$2:A$65496,Inscriptions!C$2:C$65498))","v":""},{"$f":"IF(ISBLANK($B270),\"\",LOOKUP($B270,Inscriptions!A$2:A$65496,Inscriptions!D$2:D$65498))","v":""},null,null,null,0,0,0,"",""]
[267,null,{"$f":"IF(ISBLANK($B271),\"\",LOOKUP($B271,Inscriptions!A$2:A$65496,Inscriptions!B$2:B$65498))","v":""},{"$f":"IF(ISBLANK($B271),\"\",LOOKUP($B271,Inscriptions!A$2:A$65496,Inscriptions!C$2:C$65498))","v":""},{"$f":"IF(ISBLANK($B271),\"\",LOOKUP($B271,Inscriptions!A$2:A$65496,Inscriptions!D$2:D$65498))","v":""},null,null,null,0,0,0,"",""]
[268,null,{"$f":"IF(ISBLANK($B272),\"\",LOOKUP($B272,Inscriptions!A$2:A$65496,Inscriptions!B$2:B$65498))","v":""},{"$f":"IF(ISBLANK($B272),\"\",LOOKUP($B272,Inscriptions!A$2:A$65496,Inscriptions!C$2:C$65498))","v":""},{"$f":"IF(ISBLANK($B272),\"\",LOOKUP($B272,Inscriptions!A$2:A$65496,Inscriptions!D$2:D$65498))","v":""},null,null,null,0,0,0,"",""]
[269,null,{"$f":"IF(ISBLANK($B273),\"\",LOOKUP($B273,Inscriptions!A$2:A$65496,Inscriptions!B$2:B$65498))","v":""},{"$f":"IF(ISBLANK($B273),\"\",LOOKUP($B273,Inscriptions!A$2:A$65496,Inscriptions!C$2:C$65498))","v":""},{"$f":"IF(ISBLANK($B273),\"\",LOOKUP($B273,Inscriptions!A$2:A$65496,Inscriptions!D$2:D$65498))","v":""},null,null,null,0,0,0,"",""]
[270,null,{"$f":"IF(ISBLANK($B274),\"\",LOOKUP($B274,Inscriptions!A$2:A$65496,Inscriptions!B$2:B$65498))","v":""},{"$f":"IF(ISBLANK($B274),\"\",LOOKUP($B274,Inscriptions!A$2:A$65496,Inscriptions!C$2:C$65498))","v":""},{"$f":"IF(ISBLANK($B274),\"\",LOOKUP($B274,Inscriptions!A$2:A$65496,Inscriptions!D$2:D$65498))","v":""},null,null,null,0,0,0,"",""]
[271,null,{"$f":"IF(ISBLANK($B275),\"\",LOOKUP($B275,Inscriptions!A$2:A$65496,Inscriptions!B$2:B$65498))","v":""},{"$f":"IF(ISBLANK($B275),\"\",LOOKUP($B275,Inscriptions!A$2:A$65496,Inscriptions!C$2:C$65498))","v":""},{"$f":"IF(ISBLANK($B275),\"\",LOOKUP($B275,Inscriptions!A$2:A$65496,Inscriptions!D$2:D$65498))","v":""},null,null,null,0,0,0,"",""]
[272,null,{"$f":"IF(ISBLANK($B276),\"\",LOOKUP($B276,Inscriptions!A$2:A$65496,Inscriptions!B$2:B$65498))","v":""},{"$f":"IF(ISBLANK($B276),\"\",LOOKUP($B276,Inscriptions!A$2:A$65496,Inscriptions!C$2:C$65498))","v":""},{"$f":"IF(ISBLANK($B276),\"\",LOOKUP($B276,Inscriptions!A$2:A$65496,Inscriptions!D$2:D$65498))","v":""},null,null,null,0,0,0,"",""]
[273,null,{"$f":"IF(ISBLANK($B277),\"\",LOOKUP($B277,Inscriptions!A$2:A$65496,Inscriptions!B$2:B$65498))","v":""},{"$f":"IF(ISBLANK($B277),\"\",LOOKUP($B277,Inscriptions!A$2:A$65496,Inscriptions!C$2:C$65498))","v":""},{"$f":"IF(ISBLANK($B277),\"\",LOOKUP($B277,Inscriptions!A$2:A$65496,Inscriptions!D$2:D$65498))","v":""},null,null,null,0,0,0,"",""]
[274,null,{"$f":"IF(ISBLANK($B278),\"\",LOOKUP($B278,Inscriptions!A$2:A$65496,Inscriptions!B$2:B$65498))","v":""},{"$f":"IF(ISBLANK($B278),\"\",LOOKUP($B278,Inscriptions!A$2:A$65496,Inscriptions!C$2:C$65498))","v":""},{"$f":"IF(ISBLANK($B278),\"\",LOOKUP($B278,Inscriptions!A$2:A$65496,Inscriptions!D$2:D$65498))","v":""},null,null,null,0,0,0,"",""]
[275,null,{"$f":"IF(ISBLANK($B279),\"\",LOOKUP($B279,Inscriptions!A$2:A$65496,Inscriptions!B$2:B$65498))","v":""},{"$f":"IF(ISBLANK($B279),\"\",LOOKUP($B279,Inscriptions!A$2:A$65496,Inscriptions!C$2:C$65498))","v":""},{"$f":"IF(ISBLANK($B279),\"\",LOOKUP($B279,Inscriptions!A$2:A$65496,Inscriptions!D$2:D$65498))","v":""},null,null,null,0,0,0,"",""]
[276,null,{"$f":"IF(ISBLANK($B280),\"\",LOOKUP($B280,Inscriptions!A$2:A$65496,Inscriptions!B$2:B$65498))","v":""},{"$f":"IF(ISBLANK($B280),\"\",LOOKUP($B280,Inscriptions!A$2:A$65496,Inscriptions!C$2:C$65498))","v":""},{"$f":"IF(ISBLANK($B280),\"\",LOOKUP($B280,Inscriptions!A$2:A$65496,Inscriptions!D$2:D$65498))","v":""},null,null,null,0,0,0,"",""]
[277,null,{"$f":"IF(ISBLANK($B281),\"\",LOOKUP($B281,Inscriptions!A$2:A$65496,Inscriptions!B$2:B$65498))","v":""},{"$f":"IF(ISBLANK($B281),\"\",LOOKUP($B281,Inscriptions!A$2:A$65496,Inscriptions!C$2:C$65498))","v":""},{"$f":"IF(ISBLANK($B281),\"\",LOOKUP($B281,Inscriptions!A$2:A$65496,Inscriptions!D$2:D$65498))","v":""},null,null,null,0,0,0,"",""]
[278,null,{"$f":"IF(ISBLANK($B282),\"\",LOOKUP($B282,Inscriptions!A$2:A$65496,Inscriptions!B$2:B$65498))","v":""},{"$f":"IF(ISBLANK($B282),\"\",LOOKUP($B282,Inscriptions!A$2:A$65496,Inscriptions!C$2:C$65498))","v":""},{"$f":"IF(ISBLANK($B282),\"\",LOOKUP($B282,Inscriptions!A$2:A$65496,Inscriptions!D$2:D$65498))","v":""},null,null,null,0,0,0,"",""]
[279,null,{"$f":"IF(ISBLANK($B283),\"\",LOOKUP($B283,Inscriptions!A$2:A$65496,Inscriptions!B$2:B$65498))","v":""},{"$f":"IF(ISBLANK($B283),\"\",LOOKUP($B283,Inscriptions!A$2:A$65496,Inscriptions!C$2:C$65498))","v":""},{"$f":"IF(ISBLANK($B283),\"\",LOOKUP($B283,Inscriptions!A$2:A$65496,Inscriptions!D$2:D$65498))","v":""},null,null,null,0,0,0,"",""]
[280,null,{"$f":"IF(ISBLANK($B284),\"\",LOOKUP($B284,Inscriptions!A$2:A$65496,Inscriptions!B$2:B$65498))","v":""},{"$f":"IF(ISBLANK($B284),\"\",LOOKUP($B284,Inscriptions!A$2:A$65496,Inscriptions!C$2:C$65498))","v":""},{"$f":"IF(ISBLANK($B284),\"\",LOOKUP($B284,Inscriptions!A$2:A$65496,Inscriptions!D$2:D$65498))","v":""},null,null,null,0,0,0,"",""]
[281,null,{"$f":"IF(ISBLANK($B285),\"\",LOOKUP($B285,Inscriptions!A$2:A$65496,Inscriptions!B$2:B$65498))","v":""},{"$f":"IF(ISBLANK($B285),\"\",LOOKUP($B285,Inscriptions!A$2:A$65496,Inscriptions!C$2:C$65498))","v":""},{"$f":"IF(ISBLANK($B285),\"\",LOOKUP($B285,Inscriptions!A$2:A$65496,Inscriptions!D$2:D$65498))","v":""},null,null,null,0,0,0,"",""]
[282,null,{"$f":"IF(ISBLANK($B286),\"\",LOOKUP($B286,Inscriptions!A$2:A$65496,Inscriptions!B$2:B$65498))","v":""},{"$f":"IF(ISBLANK($B286),\"\",LOOKUP($B286,Inscriptions!A$2:A$65496,Inscriptions!C$2:C$65498))","v":""},{"$f":"IF(ISBLANK($B286),\"\",LOOKUP($B286,Inscriptions!A$2:A$65496,Inscriptions!D$2:D$65498))","v":""},null,null,null,0,0,0,"",""]
[283,null,{"$f":"IF(ISBLANK($B287),\"\",LOOKUP($B287,Inscriptions!A$2:A$65496,Inscriptions!B$2:B$65498))","v":""},{"$f":"IF(ISBLANK($B287),\"\",LOOKUP($B287,Inscriptions!A$2:A$65496,Inscriptions!C$2:C$65498))","v":""},{"$f":"IF(ISBLANK($B287),\"\",LOOKUP($B287,Inscriptions!A$2:A$65496,Inscriptions!D$2:D$65498))","v":""},null,null,null,0,0,0,"",""]
[284,null,{"$f":"IF(ISBLANK($B288),\"\",LOOKUP($B288,Inscriptions!A$2:A$65496,Inscriptions!B$2:B$65498))","v":""},{"$f":"IF(ISBLANK($B288),\"\",LOOKUP($B288,Inscriptions!A$2:A$65496,Inscriptions!C$2:C$65498))","v":""},{"$f":"IF(ISBLANK($B288),\"\",LOOKUP($B288,Inscriptions!A$2:A$65496,Inscriptions!D$2:D$65498))","v":""},null,null,null,0,0,0,"",""]
[285,null,{"$f":"IF(ISBLANK($B289),\"\",LOOKUP($B289,Inscriptions!A$2:A$65496,Inscriptions!B$2:B$65498))","v":""},{"$f":"IF(ISBLANK($B289),\"\",LOOKUP($B289,Inscriptions!A$2:A$65496,Inscriptions!C$2:C$65498))","v":""},{"$f":"IF(ISBLANK($B289),\"\",LOOKUP($B289,Inscriptions!A$2:A$65496,Inscriptions!D$2:D$65498))","v":""},null,null,null,0,0,0,"",""]
[286,null,{"$f":"IF(ISBLANK($B290),\"\",LOOKUP($B290,Inscriptions!A$2:A$65496,Inscriptions!B$2:B$65498))","v":""},{"$f":"IF(ISBLANK($B290),\"\",LOOKUP($B290,Inscriptions!A$2:A$65496,Inscriptions!C$2:C$65498))","v":""},{"$f":"IF(ISBLANK($B290),\"\",LOOKUP($B290,Inscriptions!A$2:A$65496,Inscriptions!D$2:D$65498))","v":""},null,null,null,0,0,0,"",""]
[287,null,{"$f":"IF(ISBLANK($B291),\"\",LOOKUP($B291,Inscriptions!A$2:A$65496,Inscriptions!B$2:B$65498))","v":""},{"$f":"IF(ISBLANK($B291),\"\",LOOKUP($B291,Inscriptions!A$2:A$65496,Inscriptions!C$2:C$65498))","v":""},{"$f":"IF(ISBLANK($B291),\"\",LOOKUP($B291,Inscriptions!A$2:A$65496,Inscriptions!D$2:D$65498))","v":""},null,null,null,0,0,0,"",""]
[288,null,{"$f":"IF(ISBLANK($B292),\"\",LOOKUP($B292,Inscriptions!A$2:A$65496,Inscriptions!B$2:B$65498))","v":""},{"$f":"IF(ISBLANK($B292),\"\",LOOKUP($B292,Inscriptions!A$2:A$65496,Inscriptions!C$2:C$65498))","v":""},{"$f":"IF(ISBLANK($B292),\"\",LOOKUP($B292,Inscriptions!A$2:A$65496,Inscriptions!D$2:D$65498))","v":""},null,null,null,0,0,0,"",""]
[289,null,{"$f":"IF(ISBLANK($B293),\"\",LOOKUP($B293,Inscriptions!A$2:A$65496,Inscriptions!B$2:B$65498))","v":""},{"$f":"IF(ISBLANK($B293),\"\",LOOKUP($B293,Inscriptions!A$2:A$65496,Inscriptions!C$2:C$65498))","v":""},{"$f":"IF(ISBLANK($B293),\"\",LOOKUP($B293,Inscriptions!A$2:A$65496,Inscriptions!D$2:D$65498))","v":""},null,null,null,0,0,0,"",""]
[290,null,{"$f":"IF(ISBLANK($B294),\"\",LOOKUP($B294,Inscriptions!A$2:A$65496,Inscriptions!B$2:B$65498))","v":""},{"$f":"IF(ISBLANK($B294),\"\",LOOKUP($B294,Inscriptions!A$2:A$65496,Inscriptions!C$2:C$65498))","v":""},{"$f":"IF(ISBLANK($B294),\"\",LOOKUP($B294,Inscriptions!A$2:A$65496,Inscriptions!D$2:D$65498))","v":""},null,null,null,0,0,0,"",""]
[291,null,{"$f":"IF(ISBLANK($B295),\"\",LOOKUP($B295,Inscriptions!A$2:A$65496,Inscriptions!B$2:B$65498))","v":""},{"$f":"IF(ISBLANK($B295),\"\",LOOKUP($B295,Inscriptions!A$2:A$65496,Inscriptions!C$2:C$65498))","v":""},{"$f":"IF(ISBLANK($B295),\"\",LOOKUP($B295,Inscriptions!A$2:A$65496,Inscriptions!D$2:D$65498))","v":""},null,null,null,0,0,0,"",""]
[292,null,{"$f":"IF(ISBLANK($B296),\"\",LOOKUP($B296,Inscriptions!A$2:A$65496,Inscriptions!B$2:B$65498))","v":""},{"$f":"IF(ISBLANK($B296),\"\",LOOKUP($B296,Inscriptions!A$2:A$65496,Inscriptions!C$2:C$65498))","v":""},{"$f":"IF(ISBLANK($B296),\"\",LOOKUP($B296,Inscriptions!A$2:A$65496,Inscriptions!D$2:D$65498))","v":""},null,null,null,0,0,0,"",""]
[293,null,{"$f":"IF(ISBLANK($B297),\"\",LOOKUP($B297,Inscriptions!A$2:A$65496,Inscriptions!B$2:B$65498))","v":""},{"$f":"IF(ISBLANK($B297),\"\",LOOKUP($B297,Inscriptions!A$2:A$65496,Inscriptions!C$2:C$65498))","v":""},{"$f":"IF(ISBLANK($B297),\"\",LOOKUP($B297,Inscriptions!A$2:A$65496,Inscriptions!D$2:D$65498))","v":""},null,null,null,0,0,0,"",""]
[294,null,{"$f":"IF(ISBLANK($B298),\"\",LOOKUP($B298,Inscriptions!A$2:A$65496,Inscriptions!B$2:B$65498))","v":""},{"$f":"IF(ISBLANK($B298),\"\",LOOKUP($B298,Inscriptions!A$2:A$65496,Inscriptions!C$2:C$65498))","v":""},{"$f":"IF(ISBLANK($B298),\"\",LOOKUP($B298,Inscriptions!A$2:A$65496,Inscriptions!D$2:D$65498))","v":""},null,null,null,0,0,0,"",""]
[295,null,{"$f":"IF(ISBLANK($B299),\"\",LOOKUP($B299,Inscriptions!A$2:A$65496,Inscriptions!B$2:B$65498))","v":""},{"$f":"IF(ISBLANK($B299),\"\",LOOKUP($B299,Inscriptions!A$2:A$65496,Inscriptions!C$2:C$65498))","v":""},{"$f":"IF(ISBLANK($B299),\"\",LOOKUP($B299,Inscriptions!A$2:A$65496,Inscriptions!D$2:D$65498))","v":""},null,null,null,0,0,0,"",""]
[296,null,{"$f":"IF(ISBLANK($B300),\"\",LOOKUP($B300,Inscriptions!A$2:A$65496,Inscriptions!B$2:B$65498))","v":""},{"$f":"IF(ISBLANK($B300),\"\",LOOKUP($B300,Inscriptions!A$2:A$65496,Inscriptions!C$2:C$65498))","v":""},{"$f":"IF(ISBLANK($B300),\"\",LOOKUP($B300,Inscriptions!A$2:A$65496,Inscriptions!D$2:D$65498))","v":""},null,null,null,0,0,0,"",""]
[297,null,{"$f":"IF(ISBLANK($B301),\"\",LOOKUP($B301,Inscriptions!A$2:A$65496,Inscriptions!B$2:B$65498))","v":""},{"$f":"IF(ISBLANK($B301),\"\",LOOKUP($B301,Inscriptions!A$2:A$65496,Inscriptions!C$2:C$65498))","v":""},{"$f":"IF(ISBLANK($B301),\"\",LOOKUP($B301,Inscriptions!A$2:A$65496,Inscriptions!D$2:D$65498))","v":""},null,null,null,0,0,0,"",""]
[298,null,{"$f":"IF(ISBLANK($B302),\"\",LOOKUP($B302,Inscriptions!A$2:A$65496,Inscriptions!B$2:B$65498))","v":""},{"$f":"IF(ISBLANK($B302),\"\",LOOKUP($B302,Inscriptions!A$2:A$65496,Inscriptions!C$2:C$65498))","v":""},{"$f":"IF(ISBLANK($B302),\"\",LOOKUP($B302,Inscriptions!A$2:A$65496,Inscriptions!D$2:D$65498))","v":""},null,null,null,null,null,null,"",""]
[299,null,{"$f":"IF(ISBLANK($B303),\"\",LOOKUP($B303,Inscriptions!A$2:A$65496,Inscriptions!B$2:B$65498))","v":""},{"$f":"IF(ISBLANK($B303),\"\",LOOKUP($B303,Inscriptions!A$2:A$65496,Inscriptions!C$2:C$65498))","v":""},{"$f":"IF(ISBLANK($B303),\"\",LOOKUP($B303,Inscriptions!A$2:A$65496,Inscriptions!D$2:D$65498))","v":""},null,null,null,null,null,null,"",""]
[300,null,{"$f":"IF(ISBLANK($B304),\"\",LOOKUP($B304,Inscriptions!A$2:A$65496,Inscriptions!B$2:B$65498))","v":""},{"$f":"IF(ISBLANK($B304),\"\",LOOKUP($B304,Inscriptions!A$2:A$65496,Inscriptions!C$2:C$65498))","v":""},{"$f":"IF(ISBLANK($B304),\"\",LOOKUP($B304,Inscriptions!A$2:A$65496,Inscriptions!D$2:D$65498))","v":""},null,null,null,null,null,null,"",""]
[301,null,{"$f":"IF(ISBLANK($B305),\"\",LOOKUP($B305,Inscriptions!A$2:A$65496,Inscriptions!B$2:B$65498))","v":""},{"$f":"IF(ISBLANK($B305),\"\",LOOKUP($B305,Inscriptions!A$2:A$65496,Inscriptions!C$2:C$65498))","v":""},{"$f":"IF(ISBLANK($B305),\"\",LOOKUP($B305,Inscriptions!A$2:A$65496,Inscriptions!D$2:D$65498))","v":""},null,null,null,null,null,null,"",""]
[302,null,{"$f":"IF(ISBLANK($B306),\"\",LOOKUP($B306,Inscriptions!A$2:A$65496,Inscriptions!B$2:B$65498))","v":""},{"$f":"IF(ISBLANK($B306),\"\",LOOKUP($B306,Inscriptions!A$2:A$65496,Inscriptions!C$2:C$65498))","v":""},{"$f":"IF(ISBLANK($B306),\"\",LOOKUP($B306,Inscriptions!A$2:A$65496,Inscriptions!D$2:D$65498))","v":""},null,null,null,null,null,null,"",""]
[303,null,{"$f":"IF(ISBLANK($B307),\"\",LOOKUP($B307,Inscriptions!A$2:A$65496,Inscriptions!B$2:B$65498))","v":""},{"$f":"IF(ISBLANK($B307),\"\",LOOKUP($B307,Inscriptions!A$2:A$65496,Inscriptions!C$2:C$65498))","v":""},{"$f":"IF(ISBLANK($B307),\"\",LOOKUP($B307,Inscriptions!A$2:A$65496,Inscriptions!D$2:D$65498))","v":""},null,null,null,null,null,null,"",""]
[304,null,{"$f":"IF(ISBLANK($B308),\"\",LOOKUP($B308,Inscriptions!A$2:A$65496,Inscriptions!B$2:B$65498))","v":""},{"$f":"IF(ISBLANK($B308),\"\",LOOKUP($B308,Inscriptions!A$2:A$65496,Inscriptions!C$2:C$65498))","v":""},{"$f":"IF(ISBLANK($B308),\"\",LOOKUP($B308,Inscriptions!A$2:A$65496,Inscriptions!D$2:D$65498))","v":""},null,null,null,null,null,null,"",""]
[305,null,{"$f":"IF(ISBLANK($B309),\"\",LOOKUP($B309,Inscriptions!A$2:A$65496,Inscriptions!B$2:B$65498))","v":""},{"$f":"IF(ISBLANK($B309),\"\",LOOKUP($B309,Inscriptions!A$2:A$65496,Inscriptions!C$2:C$65498))","v":""},{"$f":"IF(ISBLANK($B309),\"\",LOOKUP($B309,Inscriptions!A$2:A$65496,Inscriptions!D$2:D$65498))","v":""},null,null,null,null,null,null,"",""]
[306,null,{"$f":"IF(ISBLANK($B310),\"\",LOOKUP($B310,Inscriptions!A$2:A$65496,Inscriptions!B$2:B$65498))","v":""},{"$f":"IF(ISBLANK($B310),\"\",LOOKUP($B310,Inscriptions!A$2:A$65496,Inscriptions!C$2:C$65498))","v":""},{"$f":"IF(ISBLANK($B310),\"\",LOOKUP($B310,Inscriptions!A$2:A$65496,Inscriptions!D$2:D$65498))","v":""},null,null,null,null,null,null,"",""]
[307,null,{"$f":"IF(ISBLANK($B311),\"\",LOOKUP($B311,Inscriptions!A$2:A$65496,Inscriptions!B$2:B$65498))","v":""},{"$f":"IF(ISBLANK($B311),\"\",LOOKUP($B311,Inscriptions!A$2:A$65496,Inscriptions!C$2:C$65498))","v":""},{"$f":"IF(ISBLANK($B311),\"\",LOOKUP($B311,Inscriptions!A$2:A$65496,Inscriptions!D$2:D$65498))","v":""},null,null,null,null,null,null,"",""]
[308,null,{"$f":"IF(ISBLANK($B312),\"\",LOOKUP($B312,Inscriptions!A$2:A$65496,Inscriptions!B$2:B$65498))","v":""},{"$f":"IF(ISBLANK($B312),\"\",LOOKUP($B312,Inscriptions!A$2:A$65496,Inscriptions!C$2:C$65498))","v":""},{"$f":"IF(ISBLANK($B312),\"\",LOOKUP($B312,Inscriptions!A$2:A$65496,Inscriptions!D$2:D$65498))","v":""},null,null,null,null,null,null,"",""]
[309,null,{"$f":"IF(ISBLANK($B313),\"\",LOOKUP($B313,Inscriptions!A$2:A$65496,Inscriptions!B$2:B$65498))","v":""},{"$f":"IF(ISBLANK($B313),\"\",LOOKUP($B313,Inscriptions!A$2:A$65496,Inscriptions!C$2:C$65498))","v":""},{"$f":"IF(ISBLANK($B313),\"\",LOOKUP($B313,Inscriptions!A$2:A$65496,Inscriptions!D$2:D$65498))","v":""},null,null,null,null,null,null,"",""]
[310,null,{"$f":"IF(ISBLANK($B314),\"\",LOOKUP($B314,Inscriptions!A$2:A$65496,Inscriptions!B$2:B$65498))","v":""},{"$f":"IF(ISBLANK($B314),\"\",LOOKUP($B314,Inscriptions!A$2:A$65496,Inscriptions!C$2:C$65498))","v":""},{"$f":"IF(ISBLANK($B314),\"\",LOOKUP($B314,Inscriptions!A$2:A$65496,Inscriptions!D$2:D$65498))","v":""},null,null,null,null,null,null,"",""]
[311,null,{"$f":"IF(ISBLANK($B315),\"\",LOOKUP($B315,Inscriptions!A$2:A$65496,Inscriptions!B$2:B$65498))","v":""},{"$f":"IF(ISBLANK($B315),\"\",LOOKUP($B315,Inscriptions!A$2:A$65496,Inscriptions!C$2:C$65498))","v":""},{"$f":"IF(ISBLANK($B315),\"\",LOOKUP($B315,Inscriptions!A$2:A$65496,Inscriptions!D$2:D$65498))","v":""},null,null,null,null,null,null,"",""]
[312,null,{"$f":"IF(ISBLANK($B316),\"\",LOOKUP($B316,Inscriptions!A$2:A$65496,Inscriptions!B$2:B$65498))","v":""},{"$f":"IF(ISBLANK($B316),\"\",LOOKUP($B316,Inscriptions!A$2:A$65496,Inscriptions!C$2:C$65498))","v":""},{"$f":"IF(ISBLANK($B316),\"\",LOOKUP($B316,Inscriptions!A$2:A$65496,Inscriptions!D$2:D$65498))","v":""},null,null,null,null,null,null,"",""]
[313,null,{"$f":"IF(ISBLANK($B317),\"\",LOOKUP($B317,Inscriptions!A$2:A$65496,Inscriptions!B$2:B$65498))","v":""},{"$f":"IF(ISBLANK($B317),\"\",LOOKUP($B317,Inscriptions!A$2:A$65496,Inscriptions!C$2:C$65498))","v":""},{"$f":"IF(ISBLANK($B317),\"\",LOOKUP($B317,Inscriptions!A$2:A$65496,Inscriptions!D$2:D$65498))","v":""},null,null,null,null,null,null,"",""]
[314,null,{"$f":"IF(ISBLANK($B318),\"\",LOOKUP($B318,Inscriptions!A$2:A$65496,Inscriptions!B$2:B$65498))","v":""},{"$f":"IF(ISBLANK($B318),\"\",LOOKUP($B318,Inscriptions!A$2:A$65496,Inscriptions!C$2:C$65498))","v":""},{"$f":"IF(ISBLANK($B318),\"\",LOOKUP($B318,Inscriptions!A$2:A$65496,Inscriptions!D$2:D$65498))","v":""},null,null,null,null,null,null,"",""]
[315,null,{"$f":"IF(ISBLANK($B319),\"\",LOOKUP($B319,Inscriptions!A$2:A$65496,Inscriptions!B$2:B$65498))","v":""},{"$f":"IF(ISBLANK($B319),\"\",LOOKUP($B319,Inscriptions!A$2:A$65496,Inscriptions!C$2:C$65498))","v":""},{"$f":"IF(ISBLANK($B319),\"\",LOOKUP($B319,Inscriptions!A$2:A$65496,Inscriptions!D$2:D$65498))","v":""},null,null,null,null,null,null,"",""]
[316,null,{"$f":"IF(ISBLANK($B320),\"\",LOOKUP($B320,Inscriptions!A$2:A$65496,Inscriptions!B$2:B$65498))","v":""},{"$f":"IF(ISBLANK($B320),\"\",LOOKUP($B320,Inscriptions!A$2:A$65496,Inscriptions!C$2:C$65498))","v":""},{"$f":"IF(ISBLANK($B320),\"\",LOOKUP($B320,Inscriptions!A$2:A$65496,Inscriptions!D$2:D$65498))","v":""},null,null,null,null,null,null,"",""]
[317,null,{"$f":"IF(ISBLANK($B321),\"\",LOOKUP($B321,Inscriptions!A$2:A$65496,Inscriptions!B$2:B$65498))","v":""},{"$f":"IF(ISBLANK($B321),\"\",LOOKUP($B321,Inscriptions!A$2:A$65496,Inscriptions!C$2:C$65498))","v":""},{"$f":"IF(ISBLANK($B321),\"\",LOOKUP($B321,Inscriptions!A$2:A$65496,Inscriptions!D$2:D$65498))","v":""},null,null,null,null,null,null,"",""]
[318,null,{"$f":"IF(ISBLANK($B322),\"\",LOOKUP($B322,Inscriptions!A$2:A$65496,Inscriptions!B$2:B$65498))","v":""},{"$f":"IF(ISBLANK($B322),\"\",LOOKUP($B322,Inscriptions!A$2:A$65496,Inscriptions!C$2:C$65498))","v":""},{"$f":"IF(ISBLANK($B322),\"\",LOOKUP($B322,Inscriptions!A$2:A$65496,Inscriptions!D$2:D$65498))","v":""},null,null,null,null,null,null,"",""]
[319,null,{"$f":"IF(ISBLANK($B323),\"\",LOOKUP($B323,Inscriptions!A$2:A$65496,Inscriptions!B$2:B$65498))","v":""},{"$f":"IF(ISBLANK($B323),\"\",LOOKUP($B323,Inscriptions!A$2:A$65496,Inscriptions!C$2:C$65498))","v":""},{"$f":"IF(ISBLANK($B323),\"\",LOOKUP($B323,Inscriptions!A$2:A$65496,Inscriptions!D$2:D$65498))","v":""},null,null,null,null,null,null,"",""]
[320,null,{"$f":"IF(ISBLANK($B324),\"\",LOOKUP($B324,Inscriptions!A$2:A$65496,Inscriptions!B$2:B$65498))","v":""},{"$f":"IF(ISBLANK($B324),\"\",LOOKUP($B324,Inscriptions!A$2:A$65496,Inscriptions!C$2:C$65498))","v":""},{"$f":"IF(ISBLANK($B324),\"\",LOOKUP($B324,Inscriptions!A$2:A$65496,Inscriptions!D$2:D$65498))","v":""},null,null,null,null,null,null,"",""]
[321,null,{"$f":"IF(ISBLANK($B325),\"\",LOOKUP($B325,Inscriptions!A$2:A$65496,Inscriptions!B$2:B$65498))","v":""},{"$f":"IF(ISBLANK($B325),\"\",LOOKUP($B325,Inscriptions!A$2:A$65496,Inscriptions!C$2:C$65498))","v":""},{"$f":"IF(ISBLANK($B325),\"\",LOOKUP($B325,Inscriptions!A$2:A$65496,Inscriptions!D$2:D$65498))","v":""},null,null,null,null,null,null,"",""]
[322,null,{"$f":"IF(ISBLANK($B326),\"\",LOOKUP($B326,Inscriptions!A$2:A$65496,Inscriptions!B$2:B$65498))","v":""},{"$f":"IF(ISBLANK($B326),\"\",LOOKUP($B326,Inscriptions!A$2:A$65496,Inscriptions!C$2:C$65498))","v":""},{"$f":"IF(ISBLANK($B326),\"\",LOOKUP($B326,Inscriptions!A$2:A$65496,Inscriptions!D$2:D$65498))","v":""},null,null,null,null,null,null,{"$f":"IF((I326+J326+K326)=0,\"\",ROUNDDOWN((L$4/((I326*3600)+(J326*60)+K326))*3.6,2))","v":""},{"$f":"IF(L326=\"\",\"\",\"km/h\")","v":""}]
[323,null,{"$f":"IF(ISBLANK($B327),\"\",LOOKUP($B327,Inscriptions!A$2:A$65496,Inscriptions!B$2:B$65498))","v":""},{"$f":"IF(ISBLANK($B327),\"\",LOOKUP($B327,Inscriptions!A$2:A$65496,Inscriptions!C$2:C$65498))","v":""},{"$f":"IF(ISBLANK($B327),\"\",LOOKUP($B327,Inscriptions!A$2:A$65496,Inscriptions!D$2:D$65498))","v":""},null,null,null,null,null,null,"",""]
[324,null,{"$f":"IF(ISBLANK($B328),\"\",LOOKUP($B328,Inscriptions!A$2:A$65496,Inscriptions!B$2:B$65498))","v":""},{"$f":"IF(ISBLANK($B328),\"\",LOOKUP($B328,Inscriptions!A$2:A$65496,Inscriptions!C$2:C$65498))","v":""},{"$f":"IF(ISBLANK($B328),\"\",LOOKUP($B328,Inscriptions!A$2:A$65496,Inscriptions!D$2:D$65498))","v":""},null,null,null,null,null,null,"",""]
[325,null,{"$f":"IF(ISBLANK($B329),\"\",LOOKUP($B329,Inscriptions!A$2:A$65496,Inscriptions!B$2:B$65498))","v":""},{"$f":"IF(ISBLANK($B329),\"\",LOOKUP($B329,Inscriptions!A$2:A$65496,Inscriptions!C$2:C$65498))","v":""},{"$f":"IF(ISBLANK($B329),\"\",LOOKUP($B329,Inscriptions!A$2:A$65496,Inscriptions!D$2:D$65498))","v":""},null,null,null,null,null,null,"",""]
[326,null,{"$f":"IF(ISBLANK($B330),\"\",LOOKUP($B330,Inscriptions!A$2:A$65496,Inscriptions!B$2:B$65498))","v":""},{"$f":"IF(ISBLANK($B330),\"\",LOOKUP($B330,Inscriptions!A$2:A$65496,Inscriptions!C$2:C$65498))","v":""},{"$f":"IF(ISBLANK($B330),\"\",LOOKUP($B330,Inscriptions!A$2:A$65496,Inscriptions!D$2:D$65498))","v":""},null,null,null,null,null,null,"",""]
[327,null,{"$f":"IF(ISBLANK($B331),\"\",LOOKUP($B331,Inscriptions!A$2:A$65496,Inscriptions!B$2:B$65498))","v":""},{"$f":"IF(ISBLANK($B331),\"\",LOOKUP($B331,Inscriptions!A$2:A$65496,Inscriptions!C$2:C$65498))","v":""},{"$f":"IF(ISBLANK($B331),\"\",LOOKUP($B331,Inscriptions!A$2:A$65496,Inscriptions!D$2:D$65498))","v":""},null,null,null,null,null,null,"",""]
[328,null,{"$f":"IF(ISBLANK($B332),\"\",LOOKUP($B332,Inscriptions!A$2:A$65496,Inscriptions!B$2:B$65498))","v":""},{"$f":"IF(ISBLANK($B332),\"\",LOOKUP($B332,Inscriptions!A$2:A$65496,Inscriptions!C$2:C$65498))","v":""},{"$f":"IF(ISBLANK($B332),\"\",LOOKUP($B332,Inscriptions!A$2:A$65496,Inscriptions!D$2:D$65498))","v":""},null,null,null,null,null,null,"",""]
[329,null,{"$f":"IF(ISBLANK($B333),\"\",LOOKUP($B333,Inscriptions!A$2:A$65496,Inscriptions!B$2:B$65498))","v":""},{"$f":"IF(ISBLANK($B333),\"\",LOOKUP($B333,Inscriptions!A$2:A$65496,Inscriptions!C$2:C$65498))","v":""},{"$f":"IF(ISBLANK($B333),\"\",LOOKUP($B333,Inscriptions!A$2:A$65496,Inscriptions!D$2:D$65498))","v":""},null,null,null,null,null,null,"",""]
[330,null,{"$f":"IF(ISBLANK($B334),\"\",LOOKUP($B334,Inscriptions!A$2:A$65496,Inscriptions!B$2:B$65498))","v":""},{"$f":"IF(ISBLANK($B334),\"\",LOOKUP($B334,Inscriptions!A$2:A$65496,Inscriptions!C$2:C$65498))","v":""},{"$f":"IF(ISBLANK($B334),\"\",LOOKUP($B334,Inscriptions!A$2:A$65496,Inscriptions!D$2:D$65498))","v":""},null,null,null,null,null,null,"",""]
[331,null,{"$f":"IF(ISBLANK($B335),\"\",LOOKUP($B335,Inscriptions!A$2:A$65496,Inscriptions!B$2:B$65498))","v":""},{"$f":"IF(ISBLANK($B335),\"\",LOOKUP($B335,Inscriptions!A$2:A$65496,Inscriptions!C$2:C$65498))","v":""},{"$f":"IF(ISBLANK($B335),\"\",LOOKUP($B335,Inscriptions!A$2:A$65496,Inscriptions!D$2:D$65498))","v":""},null,null,null,null,null,null,"",""]
[332,null,{"$f":"IF(ISBLANK($B336),\"\",LOOKUP($B336,Inscriptions!A$2:A$65496,Inscriptions!B$2:B$65498))","v":""},{"$f":"IF(ISBLANK($B336),\"\",LOOKUP($B336,Inscriptions!A$2:A$65496,Inscriptions!C$2:C$65498))","v":""},{"$f":"IF(ISBLANK($B336),\"\",LOOKUP($B336,Inscriptions!A$2:A$65496,Inscriptions!D$2:D$65498))","v":""},null,null,null,null,null,null,"",""]
[333,null,{"$f":"IF(ISBLANK($B337),\"\",LOOKUP($B337,Inscriptions!A$2:A$65496,Inscriptions!B$2:B$65498))","v":""},{"$f":"IF(ISBLANK($B337),\"\",LOOKUP($B337,Inscriptions!A$2:A$65496,Inscriptions!C$2:C$65498))","v":""},{"$f":"IF(ISBLANK($B337),\"\",LOOKUP($B337,Inscriptions!A$2:A$65496,Inscriptions!D$2:D$65498))","v":""},null,null,null,null,null,null,"",""]
[334,null,{"$f":"IF(ISBLANK($B338),\"\",LOOKUP($B338,Inscriptions!A$2:A$65496,Inscriptions!B$2:B$65498))","v":""},{"$f":"IF(ISBLANK($B338),\"\",LOOKUP($B338,Inscriptions!A$2:A$65496,Inscriptions!C$2:C$65498))","v":""},{"$f":"IF(ISBLANK($B338),\"\",LOOKUP($B338,Inscriptions!A$2:A$65496,Inscriptions!D$2:D$65498))","v":""},null,null,null,null,null,null,"",""]
[335,null,{"$f":"IF(ISBLANK($B339),\"\",LOOKUP($B339,Inscriptions!A$2:A$65496,Inscriptions!B$2:B$65498))","v":""},{"$f":"IF(ISBLANK($B339),\"\",LOOKUP($B339,Inscriptions!A$2:A$65496,Inscriptions!C$2:C$65498))","v":""},{"$f":"IF(ISBLANK($B339),\"\",LOOKUP($B339,Inscriptions!A$2:A$65496,Inscriptions!D$2:D$65498))","v":""},null,null,null,null,null,null,"",""]
[336,null,{"$f":"IF(ISBLANK($B340),\"\",LOOKUP($B340,Inscriptions!A$2:A$65496,Inscriptions!B$2:B$65498))","v":""},{"$f":"IF(ISBLANK($B340),\"\",LOOKUP($B340,Inscriptions!A$2:A$65496,Inscriptions!C$2:C$65498))","v":""},{"$f":"IF(ISBLANK($B340),\"\",LOOKUP($B340,Inscriptions!A$2:A$65496,Inscriptions!D$2:D$65498))","v":""},null,null,null,null,null,null,"",""]
[337,null,{"$f":"IF(ISBLANK($B341),\"\",LOOKUP($B341,Inscriptions!A$2:A$65496,Inscriptions!B$2:B$65498))","v":""},{"$f":"IF(ISBLANK($B341),\"\",LOOKUP($B341,Inscriptions!A$2:A$65496,Inscriptions!C$2:C$65498))","v":""},{"$f":"IF(ISBLANK($B341),\"\",LOOKUP($B341,Inscriptions!A$2:A$65496,Inscriptions!D$2:D$65498))","v":""},null,null,null,null,null,null,"",""]
[338,null,{"$f":"IF(ISBLANK($B342),\"\",LOOKUP($B342,Inscriptions!A$2:A$65496,Inscriptions!B$2:B$65498))","v":""},{"$f":"IF(ISBLANK($B342),\"\",LOOKUP($B342,Inscriptions!A$2:A$65496,Inscriptions!C$2:C$65498))","v":""},{"$f":"IF(ISBLANK($B342),\"\",LOOKUP($B342,Inscriptions!A$2:A$65496,Inscriptions!D$2:D$65498))","v":""},null,null,null,null,null,null,"",""]
[339,null,{"$f":"IF(ISBLANK($B343),\"\",LOOKUP($B343,Inscriptions!A$2:A$65496,Inscriptions!B$2:B$65498))","v":""},{"$f":"IF(ISBLANK($B343),\"\",LOOKUP($B343,Inscriptions!A$2:A$65496,Inscriptions!C$2:C$65498))","v":""},{"$f":"IF(ISBLANK($B343),\"\",LOOKUP($B343,Inscriptions!A$2:A$65496,Inscriptions!D$2:D$65498))","v":""},null,null,null,null,null,null,"",""]
[340,null,{"$f":"IF(ISBLANK($B344),\"\",LOOKUP($B344,Inscriptions!A$2:A$65496,Inscriptions!B$2:B$65498))","v":""},{"$f":"IF(ISBLANK($B344),\"\",LOOKUP($B344,Inscriptions!A$2:A$65496,Inscriptions!C$2:C$65498))","v":""},{"$f":"IF(ISBLANK($B344),\"\",LOOKUP($B344,Inscriptions!A$2:A$65496,Inscriptions!D$2:D$65498))","v":""},null,null,null,null,null,null,"",""]
[341,null,{"$f":"IF(ISBLANK($B345),\"\",LOOKUP($B345,Inscriptions!A$2:A$65496,Inscriptions!B$2:B$65498))","v":""},{"$f":"IF(ISBLANK($B345),\"\",LOOKUP($B345,Inscriptions!A$2:A$65496,Inscriptions!C$2:C$65498))","v":""},{"$f":"IF(ISBLANK($B345),\"\",LOOKUP($B345,Inscriptions!A$2:A$65496,Inscriptions!D$2:D$65498))","v":""},null,null,null,null,null,null,"",""]
[342,null,{"$f":"IF(ISBLANK($B346),\"\",LOOKUP($B346,Inscriptions!A$2:A$65496,Inscriptions!B$2:B$65498))","v":""},{"$f":"IF(ISBLANK($B346),\"\",LOOKUP($B346,Inscriptions!A$2:A$65496,Inscriptions!C$2:C$65498))","v":""},{"$f":"IF(ISBLANK($B346),\"\",LOOKUP($B346,Inscriptions!A$2:A$65496,Inscriptions!D$2:D$65498))","v":""},null,null,null,null,null,null,"",""]
[343,null,{"$f":"IF(ISBLANK($B347),\"\",LOOKUP($B347,Inscriptions!A$2:A$65496,Inscriptions!B$2:B$65498))","v":""},{"$f":"IF(ISBLANK($B347),\"\",LOOKUP($B347,Inscriptions!A$2:A$65496,Inscriptions!C$2:C$65498))","v":""},{"$f":"IF(ISBLANK($B347),\"\",LOOKUP($B347,Inscriptions!A$2:A$65496,Inscriptions!D$2:D$65498))","v":""},null,null,null,null,null,null,"",""]
[344,null,{"$f":"IF(ISBLANK($B348),\"\",LOOKUP($B348,Inscriptions!A$2:A$65496,Inscriptions!B$2:B$65498))","v":""},{"$f":"IF(ISBLANK($B348),\"\",LOOKUP($B348,Inscriptions!A$2:A$65496,Inscriptions!C$2:C$65498))","v":""},{"$f":"IF(ISBLANK($B348),\"\",LOOKUP($B348,Inscriptions!A$2:A$65496,Inscriptions!D$2:D$65498))","v":""},null,null,null,null,null,null,"",""]
[345,null,{"$f":"IF(ISBLANK($B349),\"\",LOOKUP($B349,Inscriptions!A$2:A$65496,Inscriptions!B$2:B$65498))","v":""},{"$f":"IF(ISBLANK($B349),\"\",LOOKUP($B349,Inscriptions!A$2:A$65496,Inscriptions!C$2:C$65498))","v":""},{"$f":"IF(ISBLANK($B349),\"\",LOOKUP($B349,Inscriptions!A$2:A$65496,Inscriptions!D$2:D$65498))","v":""},null,null,null,null,null,null,"",""]
[346,null,{"$f":"IF(ISBLANK($B350),\"\",LOOKUP($B350,Inscriptions!A$2:A$65496,Inscriptions!B$2:B$65498))","v":""},{"$f":"IF(ISBLANK($B350),\"\",LOOKUP($B350,Inscriptions!A$2:A$65496,Inscriptions!C$2:C$65498))","v":""},{"$f":"IF(ISBLANK($B350),\"\",LOOKUP($B350,Inscriptions!A$2:A$65496,Inscriptions!D$2:D$65498))","v":""},null,null,null,null,null,null,"",""]
[347,null,{"$f":"IF(ISBLANK($B351),\"\",LOOKUP($B351,Inscriptions!A$2:A$65496,Inscriptions!B$2:B$65498))","v":""},{"$f":"IF(ISBLANK($B351),\"\",LOOKUP($B351,Inscriptions!A$2:A$65496,Inscriptions!C$2:C$65498))","v":""},{"$f":"IF(ISBLANK($B351),\"\",LOOKUP($B351,Inscriptions!A$2:A$65496,Inscriptions!D$2:D$65498))","v":""},null,null,null,null,null,null,"",""]
[348,null,{"$f":"IF(ISBLANK($B352),\"\",LOOKUP($B352,Inscriptions!A$2:A$65496,Inscriptions!B$2:B$65498))","v":""},{"$f":"IF(ISBLANK($B352),\"\",LOOKUP($B352,Inscriptions!A$2:A$65496,Inscriptions!C$2:C$65498))","v":""},{"$f":"IF(ISBLANK($B352),\"\",LOOKUP($B352,Inscriptions!A$2:A$65496,Inscriptions!D$2:D$65498))","v":""},null,null,null,null,null,null,"",""]
[349,null,{"$f":"IF(ISBLANK($B353),\"\",LOOKUP($B353,Inscriptions!A$2:A$65496,Inscriptions!B$2:B$65498))","v":""},{"$f":"IF(ISBLANK($B353),\"\",LOOKUP($B353,Inscriptions!A$2:A$65496,Inscriptions!C$2:C$65498))","v":""},{"$f":"IF(ISBLANK($B353),\"\",LOOKUP($B353,Inscriptions!A$2:A$65496,Inscriptions!D$2:D$65498))","v":""},null,null,null,null,null,null,"",""]
[350,null,{"$f":"IF(ISBLANK($B354),\"\",LOOKUP($B354,Inscriptions!A$2:A$65496,Inscriptions!B$2:B$65498))","v":""},{"$f":"IF(ISBLANK($B354),\"\",LOOKUP($B354,Inscriptions!A$2:A$65496,Inscriptions!C$2:C$65498))","v":""},{"$f":"IF(ISBLANK($B354),\"\",LOOKUP($B354,Inscriptions!A$2:A$65496,Inscriptions!D$2:D$65498))","v":""},null,null,null,null,null,null,"",""]

{"sheet":"C12 SF VF","index":14,"n_rows":354,"n_cols":18,"rows_kept":354,"cut":false,"hidden":false,"merged":[[0,0,0,7],[1,0,1,7],[2,5,2,6]]}
["CROSS DEPARTEMENTAL FSGT 93 - STAINS - 07/12/2014"]
["SENIORS et VETERANES - JUNIORS féminines  = 4 435 mètres"]
[]
["PLACE","DOSSARD","NOM / PRENOM","CAT","CLUB","S1F","S2F","V1F","V2F","V3F","V4F","V5F","TEMPS","h","m","s",4435,"m"]
[1,1007,{"$f":"IF(ISBLANK($B5),\"\",LOOKUP($B5,Inscriptions!A$2:A$65496,Inscriptions!B$2:B$65498))","v":"CHASLIN FLORINE"},{"$f":"IF(ISBLANK($B5),\"\",LOOKUP($B5,Inscriptions!A$2:A$65496,Inscriptions!C$2:C$65498))","v":"S1F"},{"$f":"IF(ISBLANK($B5),\"\",LOOKUP($B5,Inscriptions!A$2:A$65496,Inscriptions!D$2:D$65498))","v":"CSPTT 95"},1,null,null,null,null,null,null,1733,{"$f":"ROUNDDOWN(M5/10000,0)","v":0},{"$f":"ROUNDDOWN((M5-N5*10000)/100,0)","v":17},{"$f":"ROUNDDOWN((M5-(N5*10000)-(O5*100)),0)","v":33},{"$f":"IF((N5+O5+P5)=0,\"\",ROUNDDOWN((Q$4/((N5*3600)+(O5*60)+P5))*3.6,2))","v":15.16},{"$f":"IF(Q5=\"\",\"\",\"km/h\")","v":"km/h"}]
[2,968,{"$f":"IF(ISBLANK($B6),\"\",LOOKUP($B6,Inscriptions!A$2:A$65496,Inscriptions!B$2:B$65498))","v":"KONARE AICHATA"},{"$f":"IF(ISBLANK($B6),\"\",LOOKUP($B6,Inscriptions!A$2:A$65496,Inscriptions!C$2:C$65498))","v":"S1F"},{"$f":"IF(ISBLANK($B6),\"\",LOOKUP($B6,Inscriptions!A$2:A$65496,Inscriptions!D$2:D$65498))","v":"CSM GENNEVILLIERS"},2,null,null,null,null,null,null,1756,{"$f":"ROUNDDOWN(M6/10000,0)","v":0},{"$f":"ROUNDDOWN((M6-N6*10000)/100,0)","v":17},{"$f":"ROUNDDOWN((M6-(N6*10000)-(O6*100)),0)","v":56},{"$f":"IF((N6+O6+P6)=0,\"\",ROUNDDOWN((Q$4/((N6*3600)+(O6*60)+P6))*3.6,2))","v":14.83},{"$f":"IF(Q6=\"\",\"\",\"km/h\")","v":"km/h"}]
[3,746,{"$f":"IF(ISBLANK($B7),\"\",LOOKUP($B7,Inscriptions!A$2:A$65496,Inscriptions!B$2:B$65498))","v":"FAURE AMELIE"},{"$f":"IF(ISBLANK($B7),\"\",LOOKUP($B7,Inscriptions!A$2:A$65496,Inscriptions!C$2:C$65498))","v":"S2F"},{"$f":"IF(ISBLANK($B7),\"\",LOOKUP($B7,Inscriptions!A$2:A$65496,Inscriptions!D$2:D$65498))","v":"COURIR POUR LE PLAISIR"},null,1,null,null,null,null,null,1800,0,18,0,14.78,"km/h"]
[4,2046,{"$f":"IF(ISBLANK($B8),\"\",LOOKUP($B8,Inscriptions!A$2:A$65496,Inscriptions!B$2:B$65498))","v":"CADRAN ROSE-AIMEE"},{"$f":"IF(ISBLANK($B8),\"\",LOOKUP($B8,Inscriptions!A$2:A$65496,Inscriptions!C$2:C$65498))","v":"V2F"},{"$f":"IF(ISBLANK($B8),\"\",LOOKUP($B8,Inscriptions!A$2:A$65496,Inscriptions!D$2:D$65498))","v":"US VIGNEUX"},null,null,null,1,null,null,null,1811,0,18,11,14.63,"km/h"]
[5,1983,{"$f":"IF(ISBLANK($B9),\"\",LOOKUP($B9,Inscriptions!A$2:A$65496,Inscriptions!B$2:B$65498))","v":"BOTTARD LAURENCE"},{"$f":"IF(ISBLANK($B9),\"\",LOOKUP($B9,Inscriptions!A$2:A$65496,Inscriptions!C$2:C$65498))","v":"V2F"},{"$f":"IF(ISBLANK($B9),\"\",LOOKUP($B9,Inscriptions!A$2:A$65496,Inscriptions!D$2:D$65498))","v":"US MERY AC"},null,null,null,2,null,null,null,1839,0,18,39,14.26,"km/h"]
[6,2008,{"$f":"IF(ISBLANK($B10),\"\",LOOKUP($B10,Inscriptions!A$2:A$65496,Inscriptions!B$2:B$65498))","v":"ROBERT RENATA"},{"$f":"IF(ISBLANK($B10),\"\",LOOKUP($B10,Inscriptions!A$2:A$65496,Inscriptions!C$2:C$65498))","v":"V1F"},{"$f":"IF(ISBLANK($B10),\"\",LOOKUP($B10,Inscriptions!A$2:A$65496,Inscriptions!D$2:D$65498))","v":"US MERY AC"},null,null,1,null,null,null,null,1847,0,18,47,14.16,"km/h"]
[7,2246,{"$f":"IF(ISBLANK($B11),\"\",LOOKUP($B11,Inscriptions!A$2:A$65496,Inscriptions!B$2:B$65498))","v":"HARET NAIMA"},{"$f":"IF(ISBLANK($B11),\"\",LOOKUP($B11,Inscriptions!A$2:A$65496,Inscriptions!C$2:C$65498))","v":"V1F"},{"$f":"IF(ISBLANK($B11),\"\",LOOKUP($B11,Inscriptions!A$2:A$65496,Inscriptions!D$2:D$65498))","v":"USMA ST OUEN"},null,null,2,null,null,null,null,1853,0,18,53,14.09,"km/h"]
[8,672,{"$f":"IF(ISBLANK($B12),\"\",LOOKUP($B12,Inscriptions!A$2:A$65496,Inscriptions!B$2:B$65498))","v":"BAUX  LOREN"},{"$f":"IF(ISBLANK($B12),\"\",LOOKUP($B12,Inscriptions!A$2:A$65496,Inscriptions!C$2:C$65498))","v":"S2F"},{"$f":"IF(ISBLANK($B12),\"\",LOOKUP($B12,Inscriptions!A$2:A$65496,Inscriptions!D$2:D$65498))","v":"CMA COUREURS DE FOND"},null,2,null,null,null,null,null,1859,0,18,59,14.01,"km/h"]
[9,1706,{"$f":"IF(ISBLANK($B13),\"\",LOOKUP($B13,Inscriptions!A$2:A$65496,Inscriptions!B$2:B$65498))","v":"MONTEIRO VIVIANE"},{"$f":"IF(ISBLANK($B13),\"\",LOOKUP($B13,Inscriptions!A$2:A$65496,Inscriptions!C$2:C$65498))","v":"S2F"},{"$f":"IF(ISBLANK($B13),\"\",LOOKUP($B13,Inscriptions!A$2:A$65496,Inscriptions!D$2:D$65498))","v":"TREMBLAY AC"},null,3,null,null,null,null,null,1925,0,19,25,13.7,"km/h"]
[10,1724,{"$f":"IF(ISBLANK($B14),\"\",LOOKUP($B14,Inscriptions!A$2:A$65496,Inscriptions!B$2:B$65498))","v":"SALIGNAT-PLUMASSEAU MARIE-CLAUDE"},{"$f":"IF(ISBLANK($B14),\"\",LOOKUP($B14,Inscriptions!A$2:A$65496,Inscriptions!C$2:C$65498))","v":"V1F"},{"$f":"IF(ISBLANK($B14),\"\",LOOKUP($B14,Inscriptions!A$2:A$65496,Inscriptions!D$2:D$65498))","v":"TREMBLAY AC"},null,null,3,null,null,null,null,1926,0,19,26,13.69,"km/h"]
[11,1999,{"$f":"IF(ISBLANK($B15),\"\",LOOKUP($B15,Inscriptions!A$2:A$65496,Inscriptions!B$2:B$65498))","v":"LEROUX CATHERINE"},{"$f":"IF(ISBLANK($B15),\"\",LOOKUP($B15,Inscriptions!A$2:A$65496,Inscriptions!C$2:C$65498))","v":"V3F"},{"$f":"IF(ISBLANK($B15),\"\",LOOKUP($B15,Inscriptions!A$2:A$65496,Inscriptions!D$2:D$65498))","v":"US MERY AC"},null,null,null,null,1,null,null,1927,0,19,27,13.68,"km/h"]
[12,2216,{"$f":"IF(ISBLANK($B16),\"\",LOOKUP($B16,Inscriptions!A$2:A$65496,Inscriptions!B$2:B$65498))","v":"ALBERT ANNIE"},{"$f":"IF(ISBLANK($B16),\"\",LOOKUP($B16,Inscriptions!A$2:A$65496,Inscriptions!C$2:C$65498))","v":"V2F"},{"$f":"IF(ISBLANK($B16),\"\",LOOKUP($B16,Inscriptions!A$2:A$65496,Inscriptions!D$2:D$65498))","v":"USMA ST OUEN"},null,null,null,3,null,null,null,1931,0,19,31,13.63,"km/h"]
[13,1049,{"$f":"IF(ISBLANK($B17),\"\",LOOKUP($B17,Inscriptions!A$2:A$65496,Inscriptions!B$2:B$65498))","v":"CADÉRON BÉRÉNICE"},{"$f":"IF(ISBLANK($B17),\"\",LOOKUP($B17,Inscriptions!A$2:A$65496,Inscriptions!C$2:C$65498))","v":"S1F"},{"$f":"IF(ISBLANK($B17),\"\",LOOKUP($B17,Inscriptions!A$2:A$65496,Inscriptions!D$2:D$65498))","v":"ES STAINS"},3,null,null,null,null,null,null,1952,0,19,52,13.39,"km/h"]
[14,882,{"$f":"IF(ISBLANK($B18),\"\",LOOKUP($B18,Inscriptions!A$2:A$65496,Inscriptions!B$2:B$65498))","v":"OUTOULOUT AGNES"},{"$f":"IF(ISBLANK($B18),\"\",LOOKUP($B18,Inscriptions!A$2:A$65496,Inscriptions!C$2:C$65498))","v":"V2F"},{"$f":"IF(ISBLANK($B18),\"\",LOOKUP($B18,Inscriptions!A$2:A$65496,Inscriptions!D$2:D$65498))","v":"CS BRETIGNY ATHLETISME"},null,null,null,4,null,null,null,1958,0,19,58,13.32,"km/h"]
[15,2232,{"$f":"IF(ISBLANK($B19),\"\",LOOKUP($B19,Inscriptions!A$2:A$65496,Inscriptions!B$2:B$65498))","v":"DELEAU ISABELLE"},{"$f":"IF(ISBLANK($B19),\"\",LOOKUP($B19,Inscriptions!A$2:A$65496,Inscriptions!C$2:C$65498))","v":"V1F"},{"$f":"IF(ISBLANK($B19),\"\",LOOKUP($B19,Inscriptions!A$2:A$65496,Inscriptions!D$2:D$65498))","v":"USMA ST OUEN"},null,null,4,null,null,null,null,2009,0,20,9,13.2,"km/h"]
[16,458,{"$f":"IF(ISBLANK($B20),\"\",LOOKUP($B20,Inscriptions!A$2:A$65496,Inscriptions!B$2:B$65498))","v":"REBRAY ANNE-MARIE"},{"$f":"IF(ISBLANK($B20),\"\",LOOKUP($B20,Inscriptions!A$2:A$65496,Inscriptions!C$2:C$65498))","v":"V3F"},{"$f":"IF(ISBLANK($B20),\"\",LOOKUP($B20,Inscriptions!A$2:A$65496,Inscriptions!D$2:D$65498))","v":"ATHLE LE BOURGET DRANCY DUGNY"},null,null,null,null,2,null,null,2025,0,20,25,13.03,"km/h"]
[17,676,{"$f":"IF(ISBLANK($B21),\"\",LOOKUP($B21,Inscriptions!A$2:A$65496,Inscriptions!B$2:B$65498))","v":"BOUSSARIE  ELODIE"},{"$f":"IF(ISBLANK($B21),\"\",LOOKUP($B21,Inscriptions!A$2:A$65496,Inscriptions!C$2:C$65498))","v":"S2F"},{"$f":"IF(ISBLANK($B21),\"\",LOOKUP($B21,Inscriptions!A$2:A$65496,Inscriptions!D$2:D$65498))","v":"CMA COUREURS DE FOND"},null,4,null,null,null,null,null,2027,0,20,27,13.01,"km/h"]
[18,1305,{"$f":"IF(ISBLANK($B22),\"\",LOOKUP($B22,Inscriptions!A$2:A$65496,Inscriptions!B$2:B$65498))","v":"ELIOT SOLVEIG"},{"$f":"IF(ISBLANK($B22),\"\",LOOKUP($B22,Inscriptions!A$2:A$65496,Inscriptions!C$2:C$65498))","v":"V1F"},{"$f":"IF(ISBLANK($B22),\"\",LOOKUP($B22,Inscriptions!A$2:A$65496,Inscriptions!D$2:D$65498))","v":"MA ST CYR"},null,null,5,null,null,null,null,2029,0,20,29,12.99,"km/h"]
[19,1306,{"$f":"IF(ISBLANK($B23),\"\",LOOKUP($B23,Inscriptions!A$2:A$65496,Inscriptions!B$2:B$65498))","v":"HENRY CORINNE"},{"$f":"IF(ISBLANK($B23),\"\",LOOKUP($B23,Inscriptions!A$2:A$65496,Inscriptions!C$2:C$65498))","v":"V1F"},{"$f":"IF(ISBLANK($B23),\"\",LOOKUP($B23,Inscriptions!A$2:A$65496,Inscriptions!D$2:D$65498))","v":"MA ST CYR"},null,null,6,null,null,null,null,2035,0,20,35,12.92,"km/h"]
[20,2366,{"$f":"IF(ISBLANK($B24),\"\",LOOKUP($B24,Inscriptions!A$2:A$65496,Inscriptions!B$2:B$65498))","v":"PLANSON JEANINE"},{"$f":"IF(ISBLANK($B24),\"\",LOOKUP($B24,Inscriptions!A$2:A$65496,Inscriptions!C$2:C$65498))","v":"V1F"},{"$f":"IF(ISBLANK($B24),\"\",LOOKUP($B24,Inscriptions!A$2:A$65496,Inscriptions!D$2:D$65498))","v":"CSPTT 95"},null,null,7,null,null,null,null,2039,0,20,39,12.88,"km/h"]
[21,1940,{"$f":"IF(ISBLANK($B25),\"\",LOOKUP($B25,Inscriptions!A$2:A$65496,Inscriptions!B$2:B$65498))","v":"SARABIA NADINE"},{"$f":"IF(ISBLANK($B25),\"\",LOOKUP($B25,Inscriptions!A$2:A$65496,Inscriptions!C$2:C$65498))","v":"V2F"},{"$f":"IF(ISBLANK($B25),\"\",LOOKUP($B25,Inscriptions!A$2:A$65496,Inscriptions!D$2:D$65498))","v":"US IVRY"},null,null,null,5,null,null,null,2124,0,21,24,12.43,"km/h"]
[22,1006,{"$f":"IF(ISBLANK($B26),\"\",LOOKUP($B26,Inscriptions!A$2:A$65496,Inscriptions!B$2:B$65498))","v":"CHAGNAUD VALERIE"},{"$f":"IF(ISBLANK($B26),\"\",LOOKUP($B26,Inscriptions!A$2:A$65496,Inscriptions!C$2:C$65498))","v":"V1F"},{"$f":"IF(ISBLANK($B26),\"\",LOOKUP($B26,Inscriptions!A$2:A$65496,Inscriptions!D$2:D$65498))","v":"CSPTT 95"},null,null,8,null,null,null,null,2131,0,21,31,12.36,"km/h"]
[23,744,{"$f":"IF(ISBLANK($B27),\"\",LOOKUP($B27,Inscriptions!A$2:A$65496,Inscriptions!B$2:B$65498))","v":"BASTIDON CELINE"},{"$f":"IF(ISBLANK($B27),\"\",LOOKUP($B27,Inscriptions!A$2:A$65496,Inscriptions!C$2:C$65498))","v":"V1F"},{"$f":"IF(ISBLANK($B27),\"\",LOOKUP($B27,Inscriptions!A$2:A$65496,Inscriptions!D$2:D$65498))","v":"COURIR POUR LE PLAISIR"},null,null,9,null,null,null,null,2139,0,21,39,12.29,"km/h"]
[24,582,{"$f":"IF(ISBLANK($B28),\"\",LOOKUP($B28,Inscriptions!A$2:A$65496,Inscriptions!B$2:B$65498))","v":"BEAUFRETON ISABELLE"},{"$f":"IF(ISBLANK($B28),\"\",LOOKUP($B28,Inscriptions!A$2:A$65496,Inscriptions!C$2:C$65498))","v":"V2F"},{"$f":"IF(ISBLANK($B28),\"\",LOOKUP($B28,Inscriptions!A$2:A$65496,Inscriptions!D$2:D$65498))","v":"CA ROMAINVILLE"},null,null,null,6,null,null,null,2139,0,21,39,12.29,"km/h"]
[25,128,{"$f":"IF(ISBLANK($B29),\"\",LOOKUP($B29,Inscriptions!A$2:A$65496,Inscriptions!B$2:B$65498))","v":"MARTIN FRANCISCA"},{"$f":"IF(ISBLANK($B29),\"\",LOOKUP($B29,Inscriptions!A$2:A$65496,Inscriptions!C$2:C$65498))","v":"V2F"},{"$f":"IF(ISBLANK($B29),\"\",LOOKUP($B29,Inscriptions!A$2:A$65496,Inscriptions!D$2:D$65498))","v":"ACM AUBERVILLIERS"},null,null,null,7,null,null,null,2142,0,21,42,12.26,"km/h"]
[26,1735,{"$f":"IF(ISBLANK($B30),\"\",LOOKUP($B30,Inscriptions!A$2:A$65496,Inscriptions!B$2:B$65498))","v":"SUJENDRAN EMILI"},{"$f":"IF(ISBLANK($B30),\"\",LOOKUP($B30,Inscriptions!A$2:A$65496,Inscriptions!C$2:C$65498))","v":"V2F"},{"$f":"IF(ISBLANK($B30),\"\",LOOKUP($B30,Inscriptions!A$2:A$65496,Inscriptions!D$2:D$65498))","v":"TREMBLAY AC"},null,null,null,8,null,null,null,2143,0,21,43,12.25,"km/h"]
[27,2017,{"$f":"IF(ISBLANK($B31),\"\",LOOKUP($B31,Inscriptions!A$2:A$65496,Inscriptions!B$2:B$65498))","v":"ZIDAHNAL FATIMA"},{"$f":"IF(ISBLANK($B31),\"\",LOOKUP($B31,Inscriptions!A$2:A$65496,Inscriptions!C$2:C$65498))","v":"S2F"},{"$f":"IF(ISBLANK($B31),\"\",LOOKUP($B31,Inscriptions!A$2:A$65496,Inscriptions!D$2:D$65498))","v":"US MERY AC"},null,5,null,null,null,null,null,2144,0,21,44,12.24,"km/h"]
[28,1009,{"$f":"IF(ISBLANK($B32),\"\",LOOKUP($B32,Inscriptions!A$2:A$65496,Inscriptions!B$2:B$65498))","v":"COUILLARD JENNIFER"},{"$f":"IF(ISBLANK($B32),\"\",LOOKUP($B32,Inscriptions!A$2:A$65496,Inscriptions!C$2:C$65498))","v":"S2F"},{"$f":"IF(ISBLANK($B32),\"\",LOOKUP($B32,Inscriptions!A$2:A$65496,Inscriptions!D$2:D$65498))","v":"CSPTT 95"},null,6,null,null,null,null,null,2145,0,21,45,12.23,"km/h"]
[29,2336,{"$f":"IF(ISBLANK($B33),\"\",LOOKUP($B33,Inscriptions!A$2:A$65496,Inscriptions!B$2:B$65498))","v":"QUEMON ANAIS"},{"$f":"IF(ISBLANK($B33),\"\",LOOKUP($B33,Inscriptions!A$2:A$65496,Inscriptions!C$2:C$65498))","v":"S1F"},{"$f":"IF(ISBLANK($B33),\"\",LOOKUP($B33,Inscriptions!A$2:A$65496,Inscriptions!D$2:D$65498))","v":"USMA ST OUEN"},4,null,null,null,null,null,null,2150,0,21,50,12.18,"km/h"]
[30,429,{"$f":"IF(ISBLANK($B34),\"\",LOOKUP($B34,Inscriptions!A$2:A$65496,Inscriptions!B$2:B$65498))","v":"LAURAND DOMINIQUE"},{"$f":"IF(ISBLANK($B34),\"\",LOOKUP($B34,Inscriptions!A$2:A$65496,Inscriptions!C$2:C$65498))","v":"V1F"},{"$f":"IF(ISBLANK($B34),\"\",LOOKUP($B34,Inscriptions!A$2:A$65496,Inscriptions!D$2:D$65498))","v":"ATHLE LE BOURGET DRANCY DUGNY"},null,null,10,null,null,null,null,2155,0,21,55,12.14,"km/h"]
[31,846,{"$f":"IF(ISBLANK($B35),\"\",LOOKUP($B35,Inscriptions!A$2:A$65496,Inscriptions!B$2:B$65498))","v":"MANUEL MARTINE"},{"$f":"IF(ISBLANK($B35),\"\",LOOKUP($B35,Inscriptions!A$2:A$65496,Inscriptions!C$2:C$65498))","v":"V2F"},{"$f":"IF(ISBLANK($B35),\"\",LOOKUP($B35,Inscriptions!A$2:A$65496,Inscriptions!D$2:D$65498))","v":"CS BRETIGNY ATHLETISME"},null,null,null,9,null,null,null,2203,0,22,3,12.06,"km/h"]
[32,1312,{"$f":"IF(ISBLANK($B36),\"\",LOOKUP($B36,Inscriptions!A$2:A$65496,Inscriptions!B$2:B$65498))","v":"REVEL FATIMA"},{"$f":"IF(ISBLANK($B36),\"\",LOOKUP($B36,Inscriptions!A$2:A$65496,Inscriptions!C$2:C$65498))","v":"V1F"},{"$f":"IF(ISBLANK($B36),\"\",LOOKUP($B36,Inscriptions!A$2:A$65496,Inscriptions!D$2:D$65498))","v":"MA ST CYR"},null,null,11,null,null,null,null,2204,0,22,4,12.05,"km/h"]
[33,690,{"$f":"IF(ISBLANK($B37),\"\",LOOKUP($B37,Inscriptions!A$2:A$65496,Inscriptions!B$2:B$65498))","v":"WIRTH GENEVIEVE"},{"$f":"IF(ISBLANK($B37),\"\",LOOKUP($B37,Inscriptions!A$2:A$65496,Inscriptions!C$2:C$65498))","v":"V2F"},{"$f":"IF(ISBLANK($B37),\"\",LOOKUP($B37,Inscriptions!A$2:A$65496,Inscriptions!D$2:D$65498))","v":"CMA COUREURS DE FOND"},null,null,null,10,null,null,null,2208,0,22,8,12.02,"km/h"]
[34,2012,{"$f":"IF(ISBLANK($B38),\"\",LOOKUP($B38,Inscriptions!A$2:A$65496,Inscriptions!B$2:B$65498))","v":"TEMAL MALIKA"},{"$f":"IF(ISBLANK($B38),\"\",LOOKUP($B38,Inscriptions!A$2:A$65496,Inscriptions!C$2:C$65498))","v":"V1F"},{"$f":"IF(ISBLANK($B38),\"\",LOOKUP($B38,Inscriptions!A$2:A$65496,Inscriptions!D$2:D$65498))","v":"US MERY AC"},null,null,12,null,null,null,null,2215,0,22,15,11.95,"km/h"]
[35,92,{"$f":"IF(ISBLANK($B39),\"\",LOOKUP($B39,Inscriptions!A$2:A$65496,Inscriptions!B$2:B$65498))","v":"CHIKI NADIA"},{"$f":"IF(ISBLANK($B39),\"\",LOOKUP($B39,Inscriptions!A$2:A$65496,Inscriptions!C$2:C$65498))","v":"S2F"},{"$f":"IF(ISBLANK($B39),\"\",LOOKUP($B39,Inscriptions!A$2:A$65496,Inscriptions!D$2:D$65498))","v":"ACM AUBERVILLIERS"},null,7,null,null,null,null,null,2235,0,22,35,11.78,"km/h"]
[36,1116,{"$f":"IF(ISBLANK($B40),\"\",LOOKUP($B40,Inscriptions!A$2:A$65496,Inscriptions!B$2:B$65498))","v":"PROMENEUR AMANDINE"},{"$f":"IF(ISBLANK($B40),\"\",LOOKUP($B40,Inscriptions!A$2:A$65496,Inscriptions!C$2:C$65498))","v":"S1F"},{"$f":"IF(ISBLANK($B40),\"\",LOOKUP($B40,Inscriptions!A$2:A$65496,Inscriptions!D$2:D$65498))","v":"ES STAINS"},5,null,null,null,null,null,null,2248,0,22,48,11.67,"km/h"]
[37,1626,{"$f":"IF(ISBLANK($B41),\"\",LOOKUP($B41,Inscriptions!A$2:A$65496,Inscriptions!B$2:B$65498))","v":"BRITES MORGANE"},{"$f":"IF(ISBLANK($B41),\"\",LOOKUP($B41,Inscriptions!A$2:A$65496,Inscriptions!C$2:C$65498))","v":"S2F"},{"$f":"IF(ISBLANK($B41),\"\",LOOKUP($B41,Inscriptions!A$2:A$65496,Inscriptions!D$2:D$65498))","v":"TREMBLAY AC"},null,8,null,null,null,null,null,2249,0,22,49,11.66,"km/h"]
[38,1986,{"$f":"IF(ISBLANK($B42),\"\",LOOKUP($B42,Inscriptions!A$2:A$65496,Inscriptions!B$2:B$65498))","v":"CUGNIER ANNICK"},{"$f":"IF(ISBLANK($B42),\"\",LOOKUP($B42,Inscriptions!A$2:A$65496,Inscriptions!C$2:C$65498))","v":"V3F"},{"$f":"IF(ISBLANK($B42),\"\",LOOKUP($B42,Inscriptions!A$2:A$65496,Inscriptions!D$2:D$65498))","v":"US MERY AC"},null,null,null,null,3,null,null,2302,0,23,2,11.55,"km/h"]
[39,1029,{"$f":"IF(ISBLANK($B43),\"\",LOOKUP($B43,Inscriptions!A$2:A$65496,Inscriptions!B$2:B$65498))","v":"RICHER CELINE"},{"$f":"IF(ISBLANK($B43),\"\",LOOKUP($B43,Inscriptions!A$2:A$65496,Inscriptions!C$2:C$65498))","v":"S1F"},{"$f":"IF(ISBLANK($B43),\"\",LOOKUP($B43,Inscriptions!A$2:A$65496,Inscriptions!D$2:D$65498))","v":"CSPTT 95"},6,null,null,null,null,null,null,2303,0,23,3,11.54,"km/h"]
[40,683,{"$f":"IF(ISBLANK($B44),\"\",LOOKUP($B44,Inscriptions!A$2:A$65496,Inscriptions!B$2:B$65498))","v":"LAVERGNE  SYLVIE"},{"$f":"IF(ISBLANK($B44),\"\",LOOKUP($B44,Inscriptions!A$2:A$65496,Inscriptions!C$2:C$65498))","v":"V2F"},{"$f":"IF(ISBLANK($B44),\"\",LOOKUP($B44,Inscriptions!A$2:A$65496,Inscriptions!D$2:D$65498))","v":"CMA COUREURS DE FOND"},null,null,null,11,null,null,null,2315,0,23,15,11.44,"km/h"]
[41,2014,{"$f":"IF(ISBLANK($B45),\"\",LOOKUP($B45,Inscriptions!A$2:A$65496,Inscriptions!B$2:B$65498))","v":"VALARY NADINE"},{"$f":"IF(ISBLANK($B45),\"\",LOOKUP($B45,Inscriptions!A$2:A$65496,Inscriptions!C$2:C$65498))","v":"V3F"},{"$f":"IF(ISBLANK($B45),\"\",LOOKUP($B45,Inscriptions!A$2:A$65496,Inscriptions!D$2:D$65498))","v":"US MERY AC"},null,null,null,null,4,null,null,2327,0,23,27,11.34,"km/h"]
[42,2387,{"$f":"IF(ISBLANK($B46),\"\",LOOKUP($B46,Inscriptions!A$2:A$65496,Inscriptions!B$2:B$65498))","v":"BENRABAH HORIA"},{"$f":"IF(ISBLANK($B46),\"\",LOOKUP($B46,Inscriptions!A$2:A$65496,Inscriptions!C$2:C$65498))","v":"V2F"},{"$f":"IF(ISBLANK($B46),\"\",LOOKUP($B46,Inscriptions!A$2:A$65496,Inscriptions!D$2:D$65498))","v":"ACM AUBERVILLIERS"},null,null,null,12,null,null,null,2339,0,23,39,11.25,"km/h"]
[43,78,{"$f":"IF(ISBLANK($B47),\"\",LOOKUP($B47,Inscriptions!A$2:A$65496,Inscriptions!B$2:B$65498))","v":"BENYAHIA RAZIKA"},{"$f":"IF(ISBLANK($B47),\"\",LOOKUP($B47,Inscriptions!A$2:A$65496,Inscriptions!C$2:C$65498))","v":"S2F"},{"$f":"IF(ISBLANK($B47),\"\",LOOKUP($B47,Inscriptions!A$2:A$65496,Inscriptions!D$2:D$65498))","v":"ACM AUBERVILLIERS"},null,9,null,null,null,null,null,2346,0,23,46,11.19,"km/h"]
[44,2175,{"$f":"IF(ISBLANK($B48),\"\",LOOKUP($B48,Inscriptions!A$2:A$65496,Inscriptions!B$2:B$65498))","v":"IEM AMELIE"},{"$f":"IF(ISBLANK($B48),\"\",LOOKUP($B48,Inscriptions!A$2:A$65496,Inscriptions!C$2:C$65498))","v":"S2F"},{"$f":"IF(ISBLANK($B48),\"\",LOOKUP($B48,Inscriptions!A$2:A$65496,Inscriptions!D$2:D$65498))","v":"USMA ST OUEN"},null,10,null,null,null,null,null,2348,0,23,48,11.18,"km/h"]
[45,2255,{"$f":"IF(ISBLANK($B49),\"\",LOOKUP($B49,Inscriptions!A$2:A$65496,Inscriptions!B$2:B$65498))","v":"LABORDE SYLVIE"},{"$f":"IF(ISBLANK($B49),\"\",LOOKUP($B49,Inscriptions!A$2:A$65496,Inscriptions!C$2:C$65498))","v":"V2F"},{"$f":"IF(ISBLANK($B49),\"\",LOOKUP($B49,Inscriptions!A$2:A$65496,Inscriptions!D$2:D$65498))","v":"USMA ST OUEN"},null,null,null,13,null,null,null,2348,0,23,48,11.18,"km/h"]
[46,2239,{"$f":"IF(ISBLANK($B50),\"\",LOOKUP($B50,Inscriptions!A$2:A$65496,Inscriptions!B$2:B$65498))","v":"GODIN MARIE ANNICK"},{"$f":"IF(ISBLANK($B50),\"\",LOOKUP($B50,Inscriptions!A$2:A$65496,Inscriptions!C$2:C$65498))","v":"V3F"},{"$f":"IF(ISBLANK($B50),\"\",LOOKUP($B50,Inscriptions!A$2:A$65496,Inscriptions!D$2:D$65498))","v":"USMA ST OUEN"},null,null,null,null,5,null,null,2353,0,23,53,11.14,"km/h"]
[47,2118,{"$f":"IF(ISBLANK($B51),\"\",LOOKUP($B51,Inscriptions!A$2:A$65496,Inscriptions!B$2:B$65498))","v":"SAINDOU ARIMALALA"},{"$f":"IF(ISBLANK($B51),\"\",LOOKUP($B51,Inscriptions!A$2:A$65496,Inscriptions!C$2:C$65498))","v":"V2F"},{"$f":"IF(ISBLANK($B51),\"\",LOOKUP($B51,Inscriptions!A$2:A$65496,Inscriptions!D$2:D$65498))","v":"US VIGNEUX"},null,null,null,14,null,null,null,2357,0,23,57,11.11,"km/h"]
[48,2337,{"$f":"IF(ISBLANK($B52),\"\",LOOKUP($B52,Inscriptions!A$2:A$65496,Inscriptions!B$2:B$65498))","v":"GUYOT ELSA"},{"$f":"IF(ISBLANK($B52),\"\",LOOKUP($B52,Inscriptions!A$2:A$65496,Inscriptions!C$2:C$65498))","v":"S1F"},{"$f":"IF(ISBLANK($B52),\"\",LOOKUP($B52,Inscriptions!A$2:A$65496,Inscriptions!D$2:D$65498))","v":"USMA ST OUEN"},7,null,null,null,null,null,null,2415,0,24,15,10.97,"km/h"]
[49,2204,{"$f":"IF(ISBLANK($B53),\"\",LOOKUP($B53,Inscriptions!A$2:A$65496,Inscriptions!B$2:B$65498))","v":"SARAZIN EDITH"},{"$f":"IF(ISBLANK($B53),\"\",LOOKUP($B53,Inscriptions!A$2:A$65496,Inscriptions!C$2:C$65498))","v":"V2F"},{"$f":"IF(ISBLANK($B53),\"\",LOOKUP($B53,Inscriptions!A$2:A$65496,Inscriptions!D$2:D$65498))","v":"USMA ST OUEN"},null,null,null,15,null,null,null,2424,0,24,24,10.9,"km/h"]
[50,674,{"$f":"IF(ISBLANK($B54),\"\",LOOKUP($B54,Inscriptions!A$2:A$65496,Inscriptions!B$2:B$65498))","v":"BELZGAOU  AGNES"},{"$f":"IF(ISBLANK($B54),\"\",LOOKUP($B54,Inscriptions!A$2:A$65496,Inscriptions!C$2:C$65498))","v":"V1F"},{"$f":"IF(ISBLANK($B54),\"\",LOOKUP($B54,Inscriptions!A$2:A$65496,Inscriptions!D$2:D$65498))","v":"CMA COUREURS DE FOND"},null,null,13,null,null,null,null,2429,0,24,29,10.86,"km/h"]
[51,1310,{"$f":"IF(ISBLANK($B55),\"\",LOOKUP($B55,Inscriptions!A$2:A$65496,Inscriptions!B$2:B$65498))","v":"MAMY DENISE"},{"$f":"IF(ISBLANK($B55),\"\",LOOKUP($B55,Inscriptions!A$2:A$65496,Inscriptions!C$2:C$65498))","v":"V3F"},{"$f":"IF(ISBLANK($B55),\"\",LOOKUP($B55,Inscriptions!A$2:A$65496,Inscriptions!D$2:D$65498))","v":"MA ST CYR"},null,null,null,null,6,null,null,2505,0,25,5,10.6,"km/h"]
[52,660,{"$f":"IF(ISBLANK($B56),\"\",LOOKUP($B56,Inscriptions!A$2:A$65496,Inscriptions!B$2:B$65498))","v":"RUNGASSAMY AMRAVADEE  / EVA"},{"$f":"IF(ISBLANK($B56),\"\",LOOKUP($B56,Inscriptions!A$2:A$65496,Inscriptions!C$2:C$65498))","v":"V3F"},{"$f":"IF(ISBLANK($B56),\"\",LOOKUP($B56,Inscriptions!A$2:A$65496,Inscriptions!D$2:D$65498))","v":"CM AUBERVILLIERS ATHLETISME"},null,null,null,null,7,null,null,2524,0,25,24,10.47,"km/h"]
[53,654,{"$f":"IF(ISBLANK($B57),\"\",LOOKUP($B57,Inscriptions!A$2:A$65496,Inscriptions!B$2:B$65498))","v":"MARTIN PAULINE"},{"$f":"IF(ISBLANK($B57),\"\",LOOKUP($B57,Inscriptions!A$2:A$65496,Inscriptions!C$2:C$65498))","v":"S1F"},{"$f":"IF(ISBLANK($B57),\"\",LOOKUP($B57,Inscriptions!A$2:A$65496,Inscriptions!D$2:D$65498))","v":"CM AUBERVILLIERS ATHLETISME"},8,null,null,null,null,null,null,2524,0,25,24,10.47,"km/h"]
[54,1997,{"$f":"IF(ISBLANK($B58),\"\",LOOKUP($B58,Inscriptions!A$2:A$65496,Inscriptions!B$2:B$65498))","v":"KEGET CAROLINE"},{"$f":"IF(ISBLANK($B58),\"\",LOOKUP($B58,Inscriptions!A$2:A$65496,Inscriptions!C$2:C$65498))","v":"S2F"},{"$f":"IF(ISBLANK($B58),\"\",LOOKUP($B58,Inscriptions!A$2:A$65496,Inscriptions!D$2:D$65498))","v":"US MERY AC"},null,11,null,null,null,null,null,2529,0,25,29,10.44,"km/h"]
[55,263,{"$f":"IF(ISBLANK($B59),\"\",LOOKUP($B59,Inscriptions!A$2:A$65496,Inscriptions!B$2:B$65498))","v":"GARATEA SUSANA"},{"$f":"IF(ISBLANK($B59),\"\",LOOKUP($B59,Inscriptions!A$2:A$65496,Inscriptions!C$2:C$65498))","v":"V1F"},{"$f":"IF(ISBLANK($B59),\"\",LOOKUP($B59,Inscriptions!A$2:A$65496,Inscriptions!D$2:D$65498))","v":"ASG BAGNOLET"},null,null,14,null,null,null,null,2539,0,25,39,10.37,"km/h"]
[56,2152,{"$f":"IF(ISBLANK($B60),\"\",LOOKUP($B60,Inscriptions!A$2:A$65496,Inscriptions!B$2:B$65498))","v":"COLIN SANDRINE"},{"$f":"IF(ISBLANK($B60),\"\",LOOKUP($B60,Inscriptions!A$2:A$65496,Inscriptions!C$2:C$65498))","v":"V1F"},{"$f":"IF(ISBLANK($B60),\"\",LOOKUP($B60,Inscriptions!A$2:A$65496,Inscriptions!D$2:D$65498))","v":"USMA ST OUEN"},null,null,15,null,null,null,null,2601,0,26,1,10.220000000000001,"km/h"]
[57,2381,{"$f":"IF(ISBLANK($B61),\"\",LOOKUP($B61,Inscriptions!A$2:A$65496,Inscriptions!B$2:B$65498))","v":"KNOPF MALIKA"},{"$f":"IF(ISBLANK($B61),\"\",LOOKUP($B61,Inscriptions!A$2:A$65496,Inscriptions!C$2:C$65498))","v":"V1F"},{"$f":"IF(ISBLANK($B61),\"\",LOOKUP($B61,Inscriptions!A$2:A$65496,Inscriptions!D$2:D$65498))","v":"ACM AUBERVILLIERS"},null,null,16,null,null,null,null,2605,0,26,5,10.199999999999999,"km/h"]
[58,1132,{"$f":"IF(ISBLANK($B62),\"\",LOOKUP($B62,Inscriptions!A$2:A$65496,Inscriptions!B$2:B$65498))","v":"TADOUNT VIRGINIE"},{"$f":"IF(ISBLANK($B62),\"\",LOOKUP($B62,Inscriptions!A$2:A$65496,Inscriptions!C$2:C$65498))","v":"S2F"},{"$f":"IF(ISBLANK($B62),\"\",LOOKUP($B62,Inscriptions!A$2:A$65496,Inscriptions!D$2:D$65498))","v":"ES STAINS"},null,12,null,null,null,null,null,2608,0,26,8,10.18,"km/h"]
[59,2340,{"$f":"IF(ISBLANK($B63),\"\",LOOKUP($B63,Inscriptions!A$2:A$65496,Inscriptions!B$2:B$65498))","v":"GARCIA MAGALI"},{"$f":"IF(ISBLANK($B63),\"\",LOOKUP($B63,Inscriptions!A$2:A$65496,Inscriptions!C$2:C$65498))","v":"S2F"},{"$f":"IF(ISBLANK($B63),\"\",LOOKUP($B63,Inscriptions!A$2:A$65496,Inscriptions!D$2:D$65498))","v":"TREMBLAY AC"},null,13,null,null,null,null,null,2617,0,26,17,10.119999999999999,"km/h"]
[60,1308,{"$f":"IF(ISBLANK($B64),\"\",LOOKUP($B64,Inscriptions!A$2:A$65496,Inscriptions!B$2:B$65498))","v":"KERDAT MARTINE"},{"$f":"IF(ISBLANK($B64),\"\",LOOKUP($B64,Inscriptions!A$2:A$65496,Inscriptions!C$2:C$65498))","v":"V3F"},{"$f":"IF(ISBLANK($B64),\"\",LOOKUP($B64,Inscriptions!A$2:A$65496,Inscriptions!D$2:D$65498))","v":"MA ST CYR"},null,null,null,null,8,null,null,2627,0,26,27,10.06,"km/h"]
[61,102,{"$f":"IF(ISBLANK($B65),\"\",LOOKUP($B65,Inscriptions!A$2:A$65496,Inscriptions!B$2:B$65498))","v":"DRIF FATIMA"},{"$f":"IF(ISBLANK($B65),\"\",LOOKUP($B65,Inscriptions!A$2:A$65496,Inscriptions!C$2:C$65498))","v":"V2F"},{"$f":"IF(ISBLANK($B65),\"\",LOOKUP($B65,Inscriptions!A$2:A$65496,Inscriptions!D$2:D$65498))","v":"ACM AUBERVILLIERS"},null,null,null,16,null,null,null,2640,0,26,40,9.9700000000000006,"km/h"]
[62,1111,{"$f":"IF(ISBLANK($B66),\"\",LOOKUP($B66,Inscriptions!A$2:A$65496,Inscriptions!B$2:B$65498))","v":"OUALI KARIMA"},{"$f":"IF(ISBLANK($B66),\"\",LOOKUP($B66,Inscriptions!A$2:A$65496,Inscriptions!C$2:C$65498))","v":"S1F"},{"$f":"IF(ISBLANK($B66),\"\",LOOKUP($B66,Inscriptions!A$2:A$65496,Inscriptions!D$2:D$65498))","v":"ES STAINS"},9,null,null,null,null,null,null,2747,0,27,47,9.57,"km/h"]
[63,133,{"$f":"IF(ISBLANK($B67),\"\",LOOKUP($B67,Inscriptions!A$2:A$65496,Inscriptions!B$2:B$65498))","v":"PIN MARGARITA"},{"$f":"IF(ISBLANK($B67),\"\",LOOKUP($B67,Inscriptions!A$2:A$65496,Inscriptions!C$2:C$65498))","v":"V2F"},{"$f":"IF(ISBLANK($B67),\"\",LOOKUP($B67,Inscriptions!A$2:A$65496,Inscriptions!D$2:D$65498))","v":"ACM AUBERVILLIERS"},null,null,null,17,null,null,null,2750,0,27,50,9.56,"km/h"]
[64,139,{"$f":"IF(ISBLANK($B68),\"\",LOOKUP($B68,Inscriptions!A$2:A$65496,Inscriptions!B$2:B$65498))","v":"THIBAULT FLORENCE"},{"$f":"IF(ISBLANK($B68),\"\",LOOKUP($B68,Inscriptions!A$2:A$65496,Inscriptions!C$2:C$65498))","v":"V2F"},{"$f":"IF(ISBLANK($B68),\"\",LOOKUP($B68,Inscriptions!A$2:A$65496,Inscriptions!D$2:D$65498))","v":"ACM AUBERVILLIERS"},null,null,null,18,null,null,null,2829,0,28,29,9.34,"km/h"]
[65,2104,{"$f":"IF(ISBLANK($B69),\"\",LOOKUP($B69,Inscriptions!A$2:A$65496,Inscriptions!B$2:B$65498))","v":"PAROT LAURENCE"},{"$f":"IF(ISBLANK($B69),\"\",LOOKUP($B69,Inscriptions!A$2:A$65496,Inscriptions!C$2:C$65498))","v":"S2F"},{"$f":"IF(ISBLANK($B69),\"\",LOOKUP($B69,Inscriptions!A$2:A$65496,Inscriptions!D$2:D$65498))","v":"US VIGNEUX"},null,14,null,null,null,null,null,2839,0,28,39,9.2799999999999994,"km/h"]
[66,104,{"$f":"IF(ISBLANK($B70),\"\",LOOKUP($B70,Inscriptions!A$2:A$65496,Inscriptions!B$2:B$65498))","v":"ELACHE SAKINA"},{"$f":"IF(ISBLANK($B70),\"\",LOOKUP($B70,Inscriptions!A$2:A$65496,Inscriptions!C$2:C$65498))","v":"S2F"},{"$f":"IF(ISBLANK($B70),\"\",LOOKUP($B70,Inscriptions!A$2:A$65496,Inscriptions!D$2:D$65498))","v":"ACM AUBERVILLIERS"},null,15,null,null,null,null,null,2843,{"$f":"ROUNDDOWN(M70/10000,0)","v":0},{"$f":"ROUNDDOWN((M70-N70*10000)/100,0)","v":28},{"$f":"ROUNDDOWN((M70-(N70*10000)-(O70*100)),0)","v":43},{"$f":"IF((N70+O70+P70)=0,\"\",ROUNDDOWN((Q$4/((N70*3600)+(O70*60)+P70))*3.6,2))","v":9.26},{"$f":"IF(Q70=\"\",\"\",\"km/h\")","v":"km/h"}]
[67,70,{"$f":"IF(ISBLANK($B71),\"\",LOOKUP($B71,Inscriptions!A$2:A$65496,Inscriptions!B$2:B$65498))","v":"AIT HACHIMI EL DJAZIRA"},{"$f":"IF(ISBLANK($B71),\"\",LOOKUP($B71,Inscriptions!A$2:A$65496,Inscriptions!C$2:C$65498))","v":"V1F"},{"$f":"IF(ISBLANK($B71),\"\",LOOKUP($B71,Inscriptions!A$2:A$65496,Inscriptions!D$2:D$65498))","v":"ACM AUBERVILLIERS"},null,null,17,null,null,null,null,2856,0,28,56,9.19,"km/h"]
[68,2389,{"$f":"IF(ISBLANK($B72),\"\",LOOKUP($B72,Inscriptions!A$2:A$65496,Inscriptions!B$2:B$65498))","v":"PIN SAFA"},{"$f":"IF(ISBLANK($B72),\"\",LOOKUP($B72,Inscriptions!A$2:A$65496,Inscriptions!C$2:C$65498))","v":"S1F"},{"$f":"IF(ISBLANK($B72),\"\",LOOKUP($B72,Inscriptions!A$2:A$65496,Inscriptions!D$2:D$65498))","v":"ACM AUBERVILLIERS"},10,null,null,null,null,null,null,2903,0,29,3,9.16,"km/h"]
[69,2341,{"$f":"IF(ISBLANK($B73),\"\",LOOKUP($B73,Inscriptions!A$2:A$65496,Inscriptions!B$2:B$65498))","v":"DUBOIS AURELIE"},{"$f":"IF(ISBLANK($B73),\"\",LOOKUP($B73,Inscriptions!A$2:A$65496,Inscriptions!C$2:C$65498))","v":"V1F"},{"$f":"IF(ISBLANK($B73),\"\",LOOKUP($B73,Inscriptions!A$2:A$65496,Inscriptions!D$2:D$65498))","v":"TREMBLAY AC"},null,null,18,null,null,null,null,2911,0,29,11,9.11,"km/h"]
[70,2116,{"$f":"IF(ISBLANK($B74),\"\",LOOKUP($B74,Inscriptions!A$2:A$65496,Inscriptions!B$2:B$65498))","v":"ROJAS MARIE"},{"$f":"IF(ISBLANK($B74),\"\",LOOKUP($B74,Inscriptions!A$2:A$65496,Inscriptions!C$2:C$65498))","v":"V2F"},{"$f":"IF(ISBLANK($B74),\"\",LOOKUP($B74,Inscriptions!A$2:A$65496,Inscriptions!D$2:D$65498))","v":"US VIGNEUX"},null,null,null,19,null,null,null,3118,0,31,18,8.5,"km/h"]
[71,132,{"$f":"IF(ISBLANK($B75),\"\",LOOKUP($B75,Inscriptions!A$2:A$65496,Inscriptions!B$2:B$65498))","v":"OUOTMANI SABRINA"},{"$f":"IF(ISBLANK($B75),\"\",LOOKUP($B75,Inscriptions!A$2:A$65496,Inscriptions!C$2:C$65498))","v":"S2F"},{"$f":"IF(ISBLANK($B75),\"\",LOOKUP($B75,Inscriptions!A$2:A$65496,Inscriptions!D$2:D$65498))","v":"ACM AUBERVILLIERS"},null,16,null,null,null,null,null,3308,0,33,8,8.0299999999999994,"km/h"]
[72,2388,{"$f":"IF(ISBLANK($B76),\"\",LOOKUP($B76,Inscriptions!A$2:A$65496,Inscriptions!B$2:B$65498))","v":"VONGO MATU MARLENE"},{"$f":"IF(ISBLANK($B76),\"\",LOOKUP($B76,Inscriptions!A$2:A$65496,Inscriptions!C$2:C$65498))","v":"S2F"},{"$f":"IF(ISBLANK($B76),\"\",LOOKUP($B76,Inscriptions!A$2:A$65496,Inscriptions!D$2:D$65498))","v":"ACM AUBERVILLIERS"},null,17,null,null,null,null,null,null,0,0,0,"",""]
["AB",111,{"$f":"IF(ISBLANK($B77),\"\",LOOKUP($B77,Inscriptions!A$2:A$65496,Inscriptions!B$2:B$65498))","v":"HAMADOUCHE LIZA"},{"$f":"IF(ISBLANK($B77),\"\",LOOKUP($B77,Inscriptions!A$2:A$65496,Inscriptions!C$2:C$65498))","v":"JUM"},{"$f":"IF(ISBLANK($B77),\"\",LOOKUP($B77,Inscriptions!A$2:A$65496,Inscriptions!D$2:D$65498))","v":"ACM AUBERVILLIERS"},null,null,null,null,null,null,null,null,0,0,0,"",""]
[74,null,{"$f":"IF(ISBLANK($B78),\"\",LOOKUP($B78,Inscriptions!A$2:A$65496,Inscriptions!B$2:B$65498))","v":""},{"$f":"IF(ISBLANK($B78),\"\",LOOKUP($B78,Inscriptions!A$2:A$65496,Inscriptions!C$2:C$65498))","v":""},{"$f":"IF(ISBLANK($B78),\"\",LOOKUP($B78,Inscriptions!A$2:A$65496,Inscriptions!D$2:D$65498))","v":""},null,null,null,null,null,null,null,null,0,0,0,"",""]
[75,null,{"$f":"IF(ISBLANK($B79),\"\",LOOKUP($B79,Inscriptions!A$2:A$65496,Inscriptions!B$2:B$65498))","v":""},{"$f":"IF(ISBLANK($B79),\"\",LOOKUP($B79,Inscriptions!A$2:A$65496,Inscriptions!C$2:C$65498))","v":""},{"$f":"IF(ISBLANK($B79),\"\",LOOKUP($B79,Inscriptions!A$2:A$65496,Inscriptions!D$2:D$65498))","v":""},null,null,null,null,null,null,null,null,0,0,0,"",""]
[76,null,{"$f":"IF(ISBLANK($B80),\"\",LOOKUP($B80,Inscriptions!A$2:A$65496,Inscriptions!B$2:B$65498))","v":""},{"$f":"IF(ISBLANK($B80),\"\",LOOKUP($B80,Inscriptions!A$2:A$65496,Inscriptions!C$2:C$65498))","v":""},{"$f":"IF(ISBLANK($B80),\"\",LOOKUP($B80,Inscriptions!A$2:A$65496,Inscriptions!D$2:D$65498))","v":""},null,null,null,null,null,null,null,null,0,0,0,"",""]
[77,null,{"$f":"IF(ISBLANK($B81),\"\",LOOKUP($B81,Inscriptions!A$2:A$65496,Inscriptions!B$2:B$65498))","v":""},{"$f":"IF(ISBLANK($B81),\"\",LOOKUP($B81,Inscriptions!A$2:A$65496,Inscriptions!C$2:C$65498))","v":""},{"$f":"IF(ISBLANK($B81),\"\",LOOKUP($B81,Inscriptions!A$2:A$65496,Inscriptions!D$2:D$65498))","v":""},null,null,null,null,null,null,null,null,0,0,0,"",""]
[78,null,{"$f":"IF(ISBLANK($B82),\"\",LOOKUP($B82,Inscriptions!A$2:A$65496,Inscriptions!B$2:B$65498))","v":""},{"$f":"IF(ISBLANK($B82),\"\",LOOKUP($B82,Inscriptions!A$2:A$65496,Inscriptions!C$2:C$65498))","v":""},{"$f":"IF(ISBLANK($B82),\"\",LOOKUP($B82,Inscriptions!A$2:A$65496,Inscriptions!D$2:D$65498))","v":""},null,null,null,null,null,null,null,null,0,0,0,"",""]
[79,null,{"$f":"IF(ISBLANK($B83),\"\",LOOKUP($B83,Inscriptions!A$2:A$65496,Inscriptions!B$2:B$65498))","v":""},{"$f":"IF(ISBLANK($B83),\"\",LOOKUP($B83,Inscriptions!A$2:A$65496,Inscriptions!C$2:C$65498))","v":""},{"$f":"IF(ISBLANK($B83),\"\",LOOKUP($B83,Inscriptions!A$2:A$65496,Inscriptions!D$2:D$65498))","v":""},null,null,null,null,null,null,null,null,0,0,0,"",""]
[80,null,{"$f":"IF(ISBLANK($B84),\"\",LOOKUP($B84,Inscriptions!A$2:A$65496,Inscriptions!B$2:B$65498))","v":""},{"$f":"IF(ISBLANK($B84),\"\",LOOKUP($B84,Inscriptions!A$2:A$65496,Inscriptions!C$2:C$65498))","v":""},{"$f":"IF(ISBLANK($B84),\"\",LOOKUP($B84,Inscriptions!A$2:A$65496,Inscriptions!D$2:D$65498))","v":""},null,null,null,null,null,null,null,null,0,0,0,"",""]
[81,null,{"$f":"IF(ISBLANK($B85),\"\",LOOKUP($B85,Inscriptions!A$2:A$65496,Inscriptions!B$2:B$65498))","v":""},{"$f":"IF(ISBLANK($B85),\"\",LOOKUP($B85,Inscriptions!A$2:A$65496,Inscriptions!C$2:C$65498))","v":""},{"$f":"IF(ISBLANK($B85),\"\",LOOKUP($B85,Inscriptions!A$2:A$65496,Inscriptions!D$2:D$65498))","v":""},null,null,null,null,null,null,null,null,0,0,0,"",""]
[82,null,{"$f":"IF(ISBLANK($B86),\"\",LOOKUP($B86,Inscriptions!A$2:A$65496,Inscriptions!B$2:B$65498))","v":""},{"$f":"IF(ISBLANK($B86),\"\",LOOKUP($B86,Inscriptions!A$2:A$65496,Inscriptions!C$2:C$65498))","v":""},{"$f":"IF(ISBLANK($B86),\"\",LOOKUP($B86,Inscriptions!A$2:A$65496,Inscriptions!D$2:D$65498))","v":""},null,null,null,null,null,null,null,null,0,0,0,"",""]
[83,null,{"$f":"IF(ISBLANK($B87),\"\",LOOKUP($B87,Inscriptions!A$2:A$65496,Inscriptions!B$2:B$65498))","v":""},{"$f":"IF(ISBLANK($B87),\"\",LOOKUP($B87,Inscriptions!A$2:A$65496,Inscriptions!C$2:C$65498))","v":""},{"$f":"IF(ISBLANK($B87),\"\",LOOKUP($B87,Inscriptions!A$2:A$65496,Inscriptions!D$2:D$65498))","v":""},null,null,null,null,null,null,null,null,0,0,0,"",""]
[84,null,{"$f":"IF(ISBLANK($B88),\"\",LOOKUP($B88,Inscriptions!A$2:A$65496,Inscriptions!B$2:B$65498))","v":""},{"$f":"IF(ISBLANK($B88),\"\",LOOKUP($B88,Inscriptions!A$2:A$65496,Inscriptions!C$2:C$65498))","v":""},{"$f":"IF(ISBLANK($B88),\"\",LOOKUP($B88,Inscriptions!A$2:A$65496,Inscriptions!D$2:D$65498))","v":""},null,null,null,null,null,null,null,null,0,0,0,"",""]
[85,null,{"$f":"IF(ISBLANK($B89),\"\",LOOKUP($B89,Inscriptions!A$2:A$65496,Inscriptions!B$2:B$65498))","v":""},{"$f":"IF(ISBLANK($B89),\"\",LOOKUP($B89,Inscriptions!A$2:A$65496,Inscriptions!C$2:C$65498))","v":""},{"$f":"IF(ISBLANK($B89),\"\",LOOKUP($B89,Inscriptions!A$2:A$65496,Inscriptions!D$2:D$65498))","v":""},null,null,null,null,null,null,null,null,0,0,0,"",""]
[86,null,{"$f":"IF(ISBLANK($B90),\"\",LOOKUP($B90,Inscriptions!A$2:A$65496,Inscriptions!B$2:B$65498))","v":""},{"$f":"IF(ISBLANK($B90),\"\",LOOKUP($B90,Inscriptions!A$2:A$65496,Inscriptions!C$2:C$65498))","v":""},{"$f":"IF(ISBLANK($B90),\"\",LOOKUP($B90,Inscriptions!A$2:A$65496,Inscriptions!D$2:D$65498))","v":""},null,null,null,null,null,null,null,null,0,0,0,"",""]
[87,null,{"$f":"IF(ISBLANK($B91),\"\",LOOKUP($B91,Inscriptions!A$2:A$65496,Inscriptions!B$2:B$65498))","v":""},{"$f":"IF(ISBLANK($B91),\"\",LOOKUP($B91,Inscriptions!A$2:A$65496,Inscriptions!C$2:C$65498))","v":""},{"$f":"IF(ISBLANK($B91),\"\",LOOKUP($B91,Inscriptions!A$2:A$65496,Inscriptions!D$2:D$65498))","v":""},null,null,null,null,null,null,null,null,0,0,0,"",""]
[88,null,{"$f":"IF(ISBLANK($B92),\"\",LOOKUP($B92,Inscriptions!A$2:A$65496,Inscriptions!B$2:B$65498))","v":""},{"$f":"IF(ISBLANK($B92),\"\",LOOKUP($B92,Inscriptions!A$2:A$65496,Inscriptions!C$2:C$65498))","v":""},{"$f":"IF(ISBLANK($B92),\"\",LOOKUP($B92,Inscriptions!A$2:A$65496,Inscriptions!D$2:D$65498))","v":""},null,null,null,null,null,null,null,null,0,0,0,"",""]
[89,null,{"$f":"IF(ISBLANK($B93),\"\",LOOKUP($B93,Inscriptions!A$2:A$65496,Inscriptions!B$2:B$65498))","v":""},{"$f":"IF(ISBLANK($B93),\"\",LOOKUP($B93,Inscriptions!A$2:A$65496,Inscriptions!C$2:C$65498))","v":""},{"$f":"IF(ISBLANK($B93),\"\",LOOKUP($B93,Inscriptions!A$2:A$65496,Inscriptions!D$2:D$65498))","v":""},null,null,null,null,null,null,null,null,0,0,0,"",""]
[90,null,{"$f":"IF(ISBLANK($B94),\"\",LOOKUP($B94,Inscriptions!A$2:A$65496,Inscriptions!B$2:B$65498))","v":""},{"$f":"IF(ISBLANK($B94),\"\",LOOKUP($B94,Inscriptions!A$2:A$65496,Inscriptions!C$2:C$65498))","v":""},{"$f":"IF(ISBLANK($B94),\"\",LOOKUP($B94,Inscriptions!A$2:A$65496,Inscriptions!D$2:D$65498))","v":""},null,null,null,null,null,null,null,null,0,0,0,"",""]
[91,null,{"$f":"IF(ISBLANK($B95),\"\",LOOKUP($B95,Inscriptions!A$2:A$65496,Inscriptions!B$2:B$65498))","v":""},{"$f":"IF(ISBLANK($B95),\"\",LOOKUP($B95,Inscriptions!A$2:A$65496,Inscriptions!C$2:C$65498))","v":""},{"$f":"IF(ISBLANK($B95),\"\",LOOKUP($B95,Inscriptions!A$2:A$65496,Inscriptions!D$2:D$65498))","v":""},null,null,null,null,null,null,null,null,0,0,0,"",""]
[92,null,{"$f":"IF(ISBLANK($B96),\"\",LOOKUP($B96,Inscriptions!A$2:A$65496,Inscriptions!B$2:B$65498))","v":""},{"$f":"IF(ISBLANK($B96),\"\",LOOKUP($B96,Inscriptions!A$2:A$65496,Inscriptions!C$2:C$65498))","v":""},{"$f":"IF(ISBLANK($B96),\"\",LOOKUP($B96,Inscriptions!A$2:A$65496,Inscriptions!D$2:D$65498))","v":""},null,null,null,null,null,null,null,null,0,0,0,"",""]
[93,null,{"$f":"IF(ISBLANK($B97),\"\",LOOKUP($B97,Inscriptions!A$2:A$65496,Inscriptions!B$2:B$65498))","v":""},{"$f":"IF(ISBLANK($B97),\"\",LOOKUP($B97,Inscriptions!A$2:A$65496,Inscriptions!C$2:C$65498))","v":""},{"$f":"IF(ISBLANK($B97),\"\",LOOKUP($B97,Inscriptions!A$2:A$65496,Inscriptions!D$2:D$65498))","v":""},null,null,null,null,null,null,null,null,0,0,0,"",""]
[94,null,{"$f":"IF(ISBLANK($B98),\"\",LOOKUP($B98,Inscriptions!A$2:A$65496,Inscriptions!B$2:B$65498))","v":""},{"$f":"IF(ISBLANK($B98),\"\",LOOKUP($B98,Inscriptions!A$2:A$65496,Inscriptions!C$2:C$65498))","v":""},{"$f":"IF(ISBLANK($B98),\"\",LOOKUP($B98,Inscriptions!A$2:A$65496,Inscriptions!D$2:D$65498))","v":""},null,null,null,null,null,null,null,null,0,0,0,"",""]
[95,null,{"$f":"IF(ISBLANK($B99),\"\",LOOKUP($B99,Inscriptions!A$2:A$65496,Inscriptions!B$2:B$65498))","v":""},{"$f":"IF(ISBLANK($B99),\"\",LOOKUP($B99,Inscriptions!A$2:A$65496,Inscriptions!C$2:C$65498))","v":""},{"$f":"IF(ISBLANK($B99),\"\",LOOKUP($B99,Inscriptions!A$2:A$65496,Inscriptions!D$2:D$65498))","v":""},null,null,null,null,null,null,null,null,0,0,0,"",""]
[96,null,{"$f":"IF(ISBLANK($B100),\"\",LOOKUP($B100,Inscriptions!A$2:A$65496,Inscriptions!B$2:B$65498))","v":""},{"$f":"IF(ISBLANK($B100),\"\",LOOKUP($B100,Inscriptions!A$2:A$65496,Inscriptions!C$2:C$65498))","v":""},{"$f":"IF(ISBLANK($B100),\"\",LOOKUP($B100,Inscriptions!A$2:A$65496,Inscriptions!D$2:D$65498))","v":""},null,null,null,null,null,null,null,null,0,0,0,"",""]
[97,null,{"$f":"IF(ISBLANK($B101),\"\",LOOKUP($B101,Inscriptions!A$2:A$65496,Inscriptions!B$2:B$65498))","v":""},{"$f":"IF(ISBLANK($B101),\"\",LOOKUP($B101,Inscriptions!A$2:A$65496,Inscriptions!C$2:C$65498))","v":""},{"$f":"IF(ISBLANK($B101),\"\",LOOKUP($B101,Inscriptions!A$2:A$65496,Inscriptions!D$2:D$65498))","v":""},null,null,null,null,null,null,null,null,0,0,0,"",""]
[98,null,{"$f":"IF(ISBLANK($B102),\"\",LOOKUP($B102,Inscriptions!A$2:A$65496,Inscriptions!B$2:B$65498))","v":""},{"$f":"IF(ISBLANK($B102),\"\",LOOKUP($B102,Inscriptions!A$2:A$65496,Inscriptions!C$2:C$65498))","v":""},{"$f":"IF(ISBLANK($B102),\"\",LOOKUP($B102,Inscriptions!A$2:A$65496,Inscriptions!D$2:D$65498))","v":""},null,null,null,null,null,null,null,null,0,0,0,"",""]
[99,null,{"$f":"IF(ISBLANK($B103),\"\",LOOKUP($B103,Inscriptions!A$2:A$65496,Inscriptions!B$2:B$65498))","v":""},{"$f":"IF(ISBLANK($B103),\"\",LOOKUP($B103,Inscriptions!A$2:A$65496,Inscriptions!C$2:C$65498))","v":""},{"$f":"IF(ISBLANK($B103),\"\",LOOKUP($B103,Inscriptions!A$2:A$65496,Inscriptions!D$2:D$65498))","v":""},null,null,null,null,null,null,null,null,0,0,0,"",""]
[100,null,{"$f":"IF(ISBLANK($B104),\"\",LOOKUP($B104,Inscriptions!A$2:A$65496,Inscriptions!B$2:B$65498))","v":""},{"$f":"IF(ISBLANK($B104),\"\",LOOKUP($B104,Inscriptions!A$2:A$65496,Inscriptions!C$2:C$65498))","v":""},{"$f":"IF(ISBLANK($B104),\"\",LOOKUP($B104,Inscriptions!A$2:A$65496,Inscriptions!D$2:D$65498))","v":""},null,null,null,null,null,null,null,null,0,0,0,"",""]
[101,null,{"$f":"IF(ISBLANK($B105),\"\",LOOKUP($B105,Inscriptions!A$2:A$65496,Inscriptions!B$2:B$65498))","v":""},{"$f":"IF(ISBLANK($B105),\"\",LOOKUP($B105,Inscriptions!A$2:A$65496,Inscriptions!C$2:C$65498))","v":""},{"$f":"IF(ISBLANK($B105),\"\",LOOKUP($B105,Inscriptions!A$2:A$65496,Inscriptions!D$2:D$65498))","v":""},null,null,null,null,null,null,null,null,0,0,0,"",""]
[102,null,{"$f":"IF(ISBLANK($B106),\"\",LOOKUP($B106,Inscriptions!A$2:A$65496,Inscriptions!B$2:B$65498))","v":""},{"$f":"IF(ISBLANK($B106),\"\",LOOKUP($B106,Inscriptions!A$2:A$65496,Inscriptions!C$2:C$65498))","v":""},{"$f":"IF(ISBLANK($B106),\"\",LOOKUP($B106,Inscriptions!A$2:A$65496,Inscriptions!D$2:D$65498))","v":""},null,null,null,null,null,null,null,null,0,0,0,"",""]
[103,null,{"$f":"IF(ISBLANK($B107),\"\",LOOKUP($B107,Inscriptions!A$2:A$65496,Inscriptions!B$2:B$65498))","v":""},{"$f":"IF(ISBLANK($B107),\"\",LOOKUP($B107,Inscriptions!A$2:A$65496,Inscriptions!C$2:C$65498))","v":""},{"$f":"IF(ISBLANK($B107),\"\",LOOKUP($B107,Inscriptions!A$2:A$65496,Inscriptions!D$2:D$65498))","v":""},null,null,null,null,null,null,null,null,0,0,0,"",""]
[104,null,{"$f":"IF(ISBLANK($B108),\"\",LOOKUP($B108,Inscriptions!A$2:A$65496,Inscriptions!B$2:B$65498))","v":""},{"$f":"IF(ISBLANK($B108),\"\",LOOKUP($B108,Inscriptions!A$2:A$65496,Inscriptions!C$2:C$65498))","v":""},{"$f":"IF(ISBLANK($B108),\"\",LOOKUP($B108,Inscriptions!A$2:A$65496,Inscriptions!D$2:D$65498))","v":""},null,null,null,null,null,null,null,null,0,0,0,"",""]
[105,null,{"$f":"IF(ISBLANK($B109),\"\",LOOKUP($B109,Inscriptions!A$2:A$65496,Inscriptions!B$2:B$65498))","v":""},{"$f":"IF(ISBLANK($B109),\"\",LOOKUP($B109,Inscriptions!A$2:A$65496,Inscriptions!C$2:C$65498))","v":""},{"$f":"IF(ISBLANK($B109),\"\",LOOKUP($B109,Inscriptions!A$2:A$65496,Inscriptions!D$2:D$65498))","v":""},null,null,null,null,null,null,null,null,0,0,0,"",""]
[106,null,{"$f":"IF(ISBLANK($B110),\"\",LOOKUP($B110,Inscriptions!A$2:A$65496,Inscriptions!B$2:B$65498))","v":""},{"$f":"IF(ISBLANK($B110),\"\",LOOKUP($B110,Inscriptions!A$2:A$65496,Inscriptions!C$2:C$65498))","v":""},{"$f":"IF(ISBLANK($B110),\"\",LOOKUP($B110,Inscriptions!A$2:A$65496,Inscriptions!D$2:D$65498))","v":""},null,null,null,null,null,null,null,null,0,0,0,"",""]
[107,null,{"$f":"IF(ISBLANK($B111),\"\",LOOKUP($B111,Inscriptions!A$2:A$65496,Inscriptions!B$2:B$65498))","v":""},{"$f":"IF(ISBLANK($B111),\"\",LOOKUP($B111,Inscriptions!A$2:A$65496,Inscriptions!C$2:C$65498))","v":""},{"$f":"IF(ISBLANK($B111),\"\",LOOKUP($B111,Inscriptions!A$2:A$65496,Inscriptions!D$2:D$65498))","v":""},null,null,null,null,null,null,null,null,0,0,0,"",""]
[108,null,{"$f":"IF(ISBLANK($B112),\"\",LOOKUP($B112,Inscriptions!A$2:A$65496,Inscriptions!B$2:B$65498))","v":""},{"$f":"IF(ISBLANK($B112),\"\",LOOKUP($B112,Inscriptions!A$2:A$65496,Inscriptions!C$2:C$65498))","v":""},{"$f":"IF(ISBLANK($B112),\"\",LOOKUP($B112,Inscriptions!A$2:A$65496,Inscriptions!D$2:D$65498))","v":""},null,null,null,null,null,null,null,null,0,0,0,"",""]
[109,null,{"$f":"IF(ISBLANK($B113),\"\",LOOKUP($B113,Inscriptions!A$2:A$65496,Inscriptions!B$2:B$65498))","v":""},{"$f":"IF(ISBLANK($B113),\"\",LOOKUP($B113,Inscriptions!A$2:A$65496,Inscriptions!C$2:C$65498))","v":""},{"$f":"IF(ISBLANK($B113),\"\",LOOKUP($B113,Inscriptions!A$2:A$65496,Inscriptions!D$2:D$65498))","v":""},null,null,null,null,null,null,null,null,0,0,0,"",""]
[110,null,{"$f":"IF(ISBLANK($B114),\"\",LOOKUP($B114,Inscriptions!A$2:A$65496,Inscriptions!B$2:B$65498))","v":""},{"$f":"IF(ISBLANK($B114),\"\",LOOKUP($B114,Inscriptions!A$2:A$65496,Inscriptions!C$2:C$65498))","v":""},{"$f":"IF(ISBLANK($B114),\"\",LOOKUP($B114,Inscriptions!A$2:A$65496,Inscriptions!D$2:D$65498))","v":""},null,null,null,null,null,null,null,null,0,0,0,"",""]
[111,null,{"$f":"IF(ISBLANK($B115),\"\",LOOKUP($B115,Inscriptions!A$2:A$65496,Inscriptions!B$2:B$65498))","v":""},{"$f":"IF(ISBLANK($B115),\"\",LOOKUP($B115,Inscriptions!A$2:A$65496,Inscriptions!C$2:C$65498))","v":""},{"$f":"IF(ISBLANK($B115),\"\",LOOKUP($B115,Inscriptions!A$2:A$65496,Inscriptions!D$2:D$65498))","v":""},null,null,null,null,null,null,null,null,0,0,0,"",""]
[112,null,{"$f":"IF(ISBLANK($B116),\"\",LOOKUP($B116,Inscriptions!A$2:A$65496,Inscriptions!B$2:B$65498))","v":""},{"$f":"IF(ISBLANK($B116),\"\",LOOKUP($B116,Inscriptions!A$2:A$65496,Inscriptions!C$2:C$65498))","v":""},{"$f":"IF(ISBLANK($B116),\"\",LOOKUP($B116,Inscriptions!A$2:A$65496,Inscriptions!D$2:D$65498))","v":""},null,null,null,null,null,null,null,null,0,0,0,"",""]
[113,null,{"$f":"IF(ISBLANK($B117),\"\",LOOKUP($B117,Inscriptions!A$2:A$65496,Inscriptions!B$2:B$65498))","v":""},{"$f":"IF(ISBLANK($B117),\"\",LOOKUP($B117,Inscriptions!A$2:A$65496,Inscriptions!C$2:C$65498))","v":""},{"$f":"IF(ISBLANK($B117),\"\",LOOKUP($B117,Inscriptions!A$2:A$65496,Inscriptions!D$2:D$65498))","v":""},null,null,null,null,null,null,null,null,0,0,0,"",""]
[114,null,{"$f":"IF(ISBLANK($B118),\"\",LOOKUP($B118,Inscriptions!A$2:A$65496,Inscriptions!B$2:B$65498))","v":""},{"$f":"IF(ISBLANK($B118),\"\",LOOKUP($B118,Inscriptions!A$2:A$65496,Inscriptions!C$2:C$65498))","v":""},{"$f":"IF(ISBLANK($B118),\"\",LOOKUP($B118,Inscriptions!A$2:A$65496,Inscriptions!D$2:D$65498))","v":""},null,null,null,null,null,null,null,null,0,0,0,"",""]
[115,null,{"$f":"IF(ISBLANK($B119),\"\",LOOKUP($B119,Inscriptions!A$2:A$65496,Inscriptions!B$2:B$65498))","v":""},{"$f":"IF(ISBLANK($B119),\"\",LOOKUP($B119,Inscriptions!A$2:A$65496,Inscriptions!C$2:C$65498))","v":""},{"$f":"IF(ISBLANK($B119),\"\",LOOKUP($B119,Inscriptions!A$2:A$65496,Inscriptions!D$2:D$65498))","v":""},null,null,null,null,null,null,null,null,0,0,0,"",""]
[116,null,{"$f":"IF(ISBLANK($B120),\"\",LOOKUP($B120,Inscriptions!A$2:A$65496,Inscriptions!B$2:B$65498))","v":""},{"$f":"IF(ISBLANK($B120),\"\",LOOKUP($B120,Inscriptions!A$2:A$65496,Inscriptions!C$2:C$65498))","v":""},{"$f":"IF(ISBLANK($B120),\"\",LOOKUP($B120,Inscriptions!A$2:A$65496,Inscriptions!D$2:D$65498))","v":""},null,null,null,null,null,null,null,null,0,0,0,"",""]
[117,null,{"$f":"IF(ISBLANK($B121),\"\",LOOKUP($B121,Inscriptions!A$2:A$65496,Inscriptions!B$2:B$65498))","v":""},{"$f":"IF(ISBLANK($B121),\"\",LOOKUP($B121,Inscriptions!A$2:A$65496,Inscriptions!C$2:C$65498))","v":""},{"$f":"IF(ISBLANK($B121),\"\",LOOKUP($B121,Inscriptions!A$2:A$65496,Inscriptions!D$2:D$65498))","v":""},null,null,null,null,null,null,null,null,0,0,0,"",""]
[118,null,{"$f":"IF(ISBLANK($B122),\"\",LOOKUP($B122,Inscriptions!A$2:A$65496,Inscriptions!B$2:B$65498))","v":""},{"$f":"IF(ISBLANK($B122),\"\",LOOKUP($B122,Inscriptions!A$2:A$65496,Inscriptions!C$2:C$65498))","v":""},{"$f":"IF(ISBLANK($B122),\"\",LOOKUP($B122,Inscriptions!A$2:A$65496,Inscriptions!D$2:D$65498))","v":""},null,null,null,null,null,null,null,null,0,0,0,"",""]
[119,null,{"$f":"IF(ISBLANK($B123),\"\",LOOKUP($B123,Inscriptions!A$2:A$65496,Inscriptions!B$2:B$65498))","v":""},{"$f":"IF(ISBLANK($B123),\"\",LOOKUP($B123,Inscriptions!A$2:A$65496,Inscriptions!C$2:C$65498))","v":""},{"$f":"IF(ISBLANK($B123),\"\",LOOKUP($B123,Inscriptions!A$2:A$65496,Inscriptions!D$2:D$65498))","v":""},null,null,null,null,null,null,null,null,0,0,0,"",""]
[120,null,{"$f":"IF(ISBLANK($B124),\"\",LOOKUP($B124,Inscriptions!A$2:A$65496,Inscriptions!B$2:B$65498))","v":""},{"$f":"IF(ISBLANK($B124),\"\",LOOKUP($B124,Inscriptions!A$2:A$65496,Inscriptions!C$2:C$65498))","v":""},{"$f":"IF(ISBLANK($B124),\"\",LOOKUP($B124,Inscriptions!A$2:A$65496,Inscriptions!D$2:D$65498))","v":""},null,null,null,null,null,null,null,null,0,0,0,"",""]
[121,null,{"$f":"IF(ISBLANK($B125),\"\",LOOKUP($B125,Inscriptions!A$2:A$65496,Inscriptions!B$2:B$65498))","v":""},{"$f":"IF(ISBLANK($B125),\"\",LOOKUP($B125,Inscriptions!A$2:A$65496,Inscriptions!C$2:C$65498))","v":""},{"$f":"IF(ISBLANK($B125),\"\",LOOKUP($B125,Inscriptions!A$2:A$65496,Inscriptions!D$2:D$65498))","v":""},null,null,null,null,null,null,null,null,0,0,0,"",""]
[122,null,{"$f":"IF(ISBLANK($B126),\"\",LOOKUP($B126,Inscriptions!A$2:A$65496,Inscriptions!B$2:B$65498))","v":""},{"$f":"IF(ISBLANK($B126),\"\",LOOKUP($B126,Inscriptions!A$2:A$65496,Inscriptions!C$2:C$65498))","v":""},{"$f":"IF(ISBLANK($B126),\"\",LOOKUP($B126,Inscriptions!A$2:A$65496,Inscriptions!D$2:D$65498))","v":""},null,null,null,null,null,null,null,null,0,0,0,"",""]
[123,null,{"$f":"IF(ISBLANK($B127),\"\",LOOKUP($B127,Inscriptions!A$2:A$65496,Inscriptions!B$2:B$65498))","v":""},{"$f":"IF(ISBLANK($B127),\"\",LOOKUP($B127,Inscriptions!A$2:A$65496,Inscriptions!C$2:C$65498))","v":""},{"$f":"IF(ISBLANK($B127),\"\",LOOKUP($B127,Inscriptions!A$2:A$65496,Inscriptions!D$2:D$65498))","v":""},null,null,null,null,null,null,null,null,0,0,0,"",""]
[124,null,{"$f":"IF(ISBLANK($B128),\"\",LOOKUP($B128,Inscriptions!A$2:A$65496,Inscriptions!B$2:B$65498))","v":""},{"$f":"IF(ISBLANK($B128),\"\",LOOKUP($B128,Inscriptions!A$2:A$65496,Inscriptions!C$2:C$65498))","v":""},{"$f":"IF(ISBLANK($B128),\"\",LOOKUP($B128,Inscriptions!A$2:A$65496,Inscriptions!D$2:D$65498))","v":""},null,null,null,null,null,null,null,null,0,0,0,"",""]
[125,null,{"$f":"IF(ISBLANK($B129),\"\",LOOKUP($B129,Inscriptions!A$2:A$65496,Inscriptions!B$2:B$65498))","v":""},{"$f":"IF(ISBLANK($B129),\"\",LOOKUP($B129,Inscriptions!A$2:A$65496,Inscriptions!C$2:C$65498))","v":""},{"$f":"IF(ISBLANK($B129),\"\",LOOKUP($B129,Inscriptions!A$2:A$65496,Inscriptions!D$2:D$65498))","v":""},null,null,null,null,null,null,null,null,0,0,0,"",""]
[126,null,{"$f":"IF(ISBLANK($B130),\"\",LOOKUP($B130,Inscriptions!A$2:A$65496,Inscriptions!B$2:B$65498))","v":""},{"$f":"IF(ISBLANK($B130),\"\",LOOKUP($B130,Inscriptions!A$2:A$65496,Inscriptions!C$2:C$65498))","v":""},{"$f":"IF(ISBLANK($B130),\"\",LOOKUP($B130,Inscriptions!A$2:A$65496,Inscriptions!D$2:D$65498))","v":""},null,null,null,null,null,null,null,null,0,0,0,"",""]
[127,null,{"$f":"IF(ISBLANK($B131),\"\",LOOKUP($B131,Inscriptions!A$2:A$65496,Inscriptions!B$2:B$65498))","v":""},{"$f":"IF(ISBLANK($B131),\"\",LOOKUP($B131,Inscriptions!A$2:A$65496,Inscriptions!C$2:C$65498))","v":""},{"$f":"IF(ISBLANK($B131),\"\",LOOKUP($B131,Inscriptions!A$2:A$65496,Inscriptions!D$2:D$65498))","v":""},null,null,null,null,null,null,null,null,0,0,0,"",""]
[128,null,{"$f":"IF(ISBLANK($B132),\"\",LOOKUP($B132,Inscriptions!A$2:A$65496,Inscriptions!B$2:B$65498))","v":""},{"$f":"IF(ISBLANK($B132),\"\",LOOKUP($B132,Inscriptions!A$2:A$65496,Inscriptions!C$2:C$65498))","v":""},{"$f":"IF(ISBLANK($B132),\"\",LOOKUP($B132,Inscriptions!A$2:A$65496,Inscriptions!D$2:D$65498))","v":""},null,null,null,null,null,null,null,null,0,0,0,"",""]
[129,null,{"$f":"IF(ISBLANK($B133),\"\",LOOKUP($B133,Inscriptions!A$2:A$65496,Inscriptions!B$2:B$65498))","v":""},{"$f":"IF(ISBLANK($B133),\"\",LOOKUP($B133,Inscriptions!A$2:A$65496,Inscriptions!C$2:C$65498))","v":""},{"$f":"IF(ISBLANK($B133),\"\",LOOKUP($B133,Inscriptions!A$2:A$65496,Inscriptions!D$2:D$65498))","v":""},null,null,null,null,null,null,null,null,0,0,0,"",""]
[130,null,{"$f":"IF(ISBLANK($B134),\"\",LOOKUP($B134,Inscriptions!A$2:A$65496,Inscriptions!B$2:B$65498))","v":""},{"$f":"IF(ISBLANK($B134),\"\",LOOKUP($B134,Inscriptions!A$2:A$65496,Inscriptions!C$2:C$65498))","v":""},{"$f":"IF(ISBLANK($B134),\"\",LOOKUP($B134,Inscriptions!A$2:A$65496,Inscriptions!D$2:D$65498))","v":""},null,null,null,null,null,null,null,null,{"$f":"ROUNDDOWN(M134/10000,0)","v":0},{"$f":"ROUNDDOWN((M134-N134*10000)/100,0)","v":0},{"$f":"ROUNDDOWN((M134-(N134*10000)-(O134*100)),0)","v":0},{"$f":"IF((N134+O134+P134)=0,\"\",ROUNDDOWN((Q$4/((N134*3600)+(O134*60)+P134))*3.6,2))","v":""},{"$f":"IF(Q134=\"\",\"\",\"km/h\")","v":""}]
[131,null,{"$f":"IF(ISBLANK($B135),\"\",LOOKUP($B135,Inscriptions!A$2:A$65496,Inscriptions!B$2:B$65498))","v":""},{"$f":"IF(ISBLANK($B135),\"\",LOOKUP($B135,Inscriptions!A$2:A$65496,Inscriptions!C$2:C$65498))","v":""},{"$f":"IF(ISBLANK($B135),\"\",LOOKUP($B135,Inscriptions!A$2:A$65496,Inscriptions!D$2:D$65498))","v":""},null,null,null,null,null,null,null,null,0,0,0,"",""]
[132,null,{"$f":"IF(ISBLANK($B136),\"\",LOOKUP($B136,Inscriptions!A$2:A$65496,Inscriptions!B$2:B$65498))","v":""},{"$f":"IF(ISBLANK($B136),\"\",LOOKUP($B136,Inscriptions!A$2:A$65496,Inscriptions!C$2:C$65498))","v":""},{"$f":"IF(ISBLANK($B136),\"\",LOOKUP($B136,Inscriptions!A$2:A$65496,Inscriptions!D$2:D$65498))","v":""},null,null,null,null,null,null,null,null,0,0,0,"",""]
[133,null,{"$f":"IF(ISBLANK($B137),\"\",LOOKUP($B137,Inscriptions!A$2:A$65496,Inscriptions!B$2:B$65498))","v":""},{"$f":"IF(ISBLANK($B137),\"\",LOOKUP($B137,Inscriptions!A$2:A$65496,Inscriptions!C$2:C$65498))","v":""},{"$f":"IF(ISBLANK($B137),\"\",LOOKUP($B137,Inscriptions!A$2:A$65496,Inscriptions!D$2:D$65498))","v":""},null,null,null,null,null,null,null,null,0,0,0,"",""]
[134,null,{"$f":"IF(ISBLANK($B138),\"\",LOOKUP($B138,Inscriptions!A$2:A$65496,Inscriptions!B$2:B$65498))","v":""},{"$f":"IF(ISBLANK($B138),\"\",LOOKUP($B138,Inscriptions!A$2:A$65496,Inscriptions!C$2:C$65498))","v":""},{"$f":"IF(ISBLANK($B138),\"\",LOOKUP($B138,Inscriptions!A$2:A$65496,Inscriptions!D$2:D$65498))","v":""},null,null,null,null,null,null,null,null,0,0,0,"",""]
[135,null,{"$f":"IF(ISBLANK($B139),\"\",LOOKUP($B139,Inscriptions!A$2:A$65496,Inscriptions!B$2:B$65498))","v":""},{"$f":"IF(ISBLANK($B139),\"\",LOOKUP($B139,Inscriptions!A$2:A$65496,Inscriptions!C$2:C$65498))","v":""},{"$f":"IF(ISBLANK($B139),\"\",LOOKUP($B139,Inscriptions!A$2:A$65496,Inscriptions!D$2:D$65498))","v":""},null,null,null,null,null,null,null,null,0,0,0,"",""]
[136,null,{"$f":"IF(ISBLANK($B140),\"\",LOOKUP($B140,Inscriptions!A$2:A$65496,Inscriptions!B$2:B$65498))","v":""},{"$f":"IF(ISBLANK($B140),\"\",LOOKUP($B140,Inscriptions!A$2:A$65496,Inscriptions!C$2:C$65498))","v":""},{"$f":"IF(ISBLANK($B140),\"\",LOOKUP($B140,Inscriptions!A$2:A$65496,Inscriptions!D$2:D$65498))","v":""},null,null,null,null,null,null,null,null,0,0,0,"",""]
[137,null,{"$f":"IF(ISBLANK($B141),\"\",LOOKUP($B141,Inscriptions!A$2:A$65496,Inscriptions!B$2:B$65498))","v":""},{"$f":"IF(ISBLANK($B141),\"\",LOOKUP($B141,Inscriptions!A$2:A$65496,Inscriptions!C$2:C$65498))","v":""},{"$f":"IF(ISBLANK($B141),\"\",LOOKUP($B141,Inscriptions!A$2:A$65496,Inscriptions!D$2:D$65498))","v":""},null,null,null,null,null,null,null,null,0,0,0,"",""]
[138,null,{"$f":"IF(ISBLANK($B142),\"\",LOOKUP($B142,Inscriptions!A$2:A$65496,Inscriptions!B$2:B$65498))","v":""},{"$f":"IF(ISBLANK($B142),\"\",LOOKUP($B142,Inscriptions!A$2:A$65496,Inscriptions!C$2:C$65498))","v":""},{"$f":"IF(ISBLANK($B142),\"\",LOOKUP($B142,Inscriptions!A$2:A$65496,Inscriptions!D$2:D$65498))","v":""},null,null,null,null,null,null,null,null,0,0,0,"",""]
[139,null,{"$f":"IF(ISBLANK($B143),\"\",LOOKUP($B143,Inscriptions!A$2:A$65496,Inscriptions!B$2:B$65498))","v":""},{"$f":"IF(ISBLANK($B143),\"\",LOOKUP($B143,Inscriptions!A$2:A$65496,Inscriptions!C$2:C$65498))","v":""},{"$f":"IF(ISBLANK($B143),\"\",LOOKUP($B143,Inscriptions!A$2:A$65496,Inscriptions!D$2:D$65498))","v":""},null,null,null,null,null,null,null,null,0,0,0,"",""]
[140,null,{"$f":"IF(ISBLANK($B144),\"\",LOOKUP($B144,Inscriptions!A$2:A$65496,Inscriptions!B$2:B$65498))","v":""},{"$f":"IF(ISBLANK($B144),\"\",LOOKUP($B144,Inscriptions!A$2:A$65496,Inscriptions!C$2:C$65498))","v":""},{"$f":"IF(ISBLANK($B144),\"\",LOOKUP($B144,Inscriptions!A$2:A$65496,Inscriptions!D$2:D$65498))","v":""},null,null,null,null,null,null,null,null,0,0,0,"",""]
[141,null,{"$f":"IF(ISBLANK($B145),\"\",LOOKUP($B145,Inscriptions!A$2:A$65496,Inscriptions!B$2:B$65498))","v":""},{"$f":"IF(ISBLANK($B145),\"\",LOOKUP($B145,Inscriptions!A$2:A$65496,Inscriptions!C$2:C$65498))","v":""},{"$f":"IF(ISBLANK($B145),\"\",LOOKUP($B145,Inscriptions!A$2:A$65496,Inscriptions!D$2:D$65498))","v":""},null,null,null,null,null,null,null,null,0,0,0,"",""]
[142,null,{"$f":"IF(ISBLANK($B146),\"\",LOOKUP($B146,Inscriptions!A$2:A$65496,Inscriptions!B$2:B$65498))","v":""},{"$f":"IF(ISBLANK($B146),\"\",LOOKUP($B146,Inscriptions!A$2:A$65496,Inscriptions!C$2:C$65498))","v":""},{"$f":"IF(ISBLANK($B146),\"\",LOOKUP($B146,Inscriptions!A$2:A$65496,Inscriptions!D$2:D$65498))","v":""},null,null,null,null,null,null,null,null,0,0,0,"",""]
[143,null,{"$f":"IF(ISBLANK($B147),\"\",LOOKUP($B147,Inscriptions!A$2:A$65496,Inscriptions!B$2:B$65498))","v":""},{"$f":"IF(ISBLANK($B147),\"\",LOOKUP($B147,Inscriptions!A$2:A$65496,Inscriptions!C$2:C$65498))","v":""},{"$f":"IF(ISBLANK($B147),\"\",LOOKUP($B147,Inscriptions!A$2:A$65496,Inscriptions!D$2:D$65498))","v":""},null,null,null,null,null,null,null,null,0,0,0,"",""]
[144,null,{"$f":"IF(ISBLANK($B148),\"\",LOOKUP($B148,Inscriptions!A$2:A$65496,Inscriptions!B$2:B$65498))","v":""},{"$f":"IF(ISBLANK($B148),\"\",LOOKUP($B148,Inscriptions!A$2:A$65496,Inscriptions!C$2:C$65498))","v":""},{"$f":"IF(ISBLANK($B148),\"\",LOOKUP($B148,Inscriptions!A$2:A$65496,Inscriptions!D$2:D$65498))","v":""},null,null,null,null,null,null,null,null,0,0,0,"",""]
[145,null,{"$f":"IF(ISBLANK($B149),\"\",LOOKUP($B149,Inscriptions!A$2:A$65496,Inscriptions!B$2:B$65498))","v":""},{"$f":"IF(ISBLANK($B149),\"\",LOOKUP($B149,Inscriptions!A$2:A$65496,Inscriptions!C$2:C$65498))","v":""},{"$f":"IF(ISBLANK($B149),\"\",LOOKUP($B149,Inscriptions!A$2:A$65496,Inscriptions!D$2:D$65498))","v":""},null,null,null,null,null,null,null,null,0,0,0,"",""]
[146,null,{"$f":"IF(ISBLANK($B150),\"\",LOOKUP($B150,Inscriptions!A$2:A$65496,Inscriptions!B$2:B$65498))","v":""},{"$f":"IF(ISBLANK($B150),\"\",LOOKUP($B150,Inscriptions!A$2:A$65496,Inscriptions!C$2:C$65498))","v":""},{"$f":"IF(ISBLANK($B150),\"\",LOOKUP($B150,Inscriptions!A$2:A$65496,Inscriptions!D$2:D$65498))","v":""},null,null,null,null,null,null,null,null,0,0,0,"",""]
[147,null,{"$f":"IF(ISBLANK($B151),\"\",LOOKUP($B151,Inscriptions!A$2:A$65496,Inscriptions!B$2:B$65498))","v":""},{"$f":"IF(ISBLANK($B151),\"\",LOOKUP($B151,Inscriptions!A$2:A$65496,Inscriptions!C$2:C$65498))","v":""},{"$f":"IF(ISBLANK($B151),\"\",LOOKUP($B151,Inscriptions!A$2:A$65496,Inscriptions!D$2:D$65498))","v":""},null,null,null,null,null,null,null,null,0,0,0,"",""]
[148,null,{"$f":"IF(ISBLANK($B152),\"\",LOOKUP($B152,Inscriptions!A$2:A$65496,Inscriptions!B$2:B$65498))","v":""},{"$f":"IF(ISBLANK($B152),\"\",LOOKUP($B152,Inscriptions!A$2:A$65496,Inscriptions!C$2:C$65498))","v":""},{"$f":"IF(ISBLANK($B152),\"\",LOOKUP($B152,Inscriptions!A$2:A$65496,Inscriptions!D$2:D$65498))","v":""},null,null,null,null,null,null,null,null,0,0,0,"",""]
[149,null,{"$f":"IF(ISBLANK($B153),\"\",LOOKUP($B153,Inscriptions!A$2:A$65496,Inscriptions!B$2:B$65498))","v":""},{"$f":"IF(ISBLANK($B153),\"\",LOOKUP($B153,Inscriptions!A$2:A$65496,Inscriptions!C$2:C$65498))","v":""},{"$f":"IF(ISBLANK($B153),\"\",LOOKUP($B153,Inscriptions!A$2:A$65496,Inscriptions!D$2:D$65498))","v":""},null,null,null,null,null,null,null,null,0,0,0,"",""]
[150,null,{"$f":"IF(ISBLANK($B154),\"\",LOOKUP($B154,Inscriptions!A$2:A$65496,Inscriptions!B$2:B$65498))","v":""},{"$f":"IF(ISBLANK($B154),\"\",LOOKUP($B154,Inscriptions!A$2:A$65496,Inscriptions!C$2:C$65498))","v":""},{"$f":"IF(ISBLANK($B154),\"\",LOOKUP($B154,Inscriptions!A$2:A$65496,Inscriptions!D$2:D$65498))","v":""},null,null,null,null,null,null,null,null,0,0,0,"",""]
[151,null,{"$f":"IF(ISBLANK($B155),\"\",LOOKUP($B155,Inscriptions!A$2:A$65496,Inscriptions!B$2:B$65498))","v":""},{"$f":"IF(ISBLANK($B155),\"\",LOOKUP($B155,Inscriptions!A$2:A$65496,Inscriptions!C$2:C$65498))","v":""},{"$f":"IF(ISBLANK($B155),\"\",LOOKUP($B155,Inscriptions!A$2:A$65496,Inscriptions!D$2:D$65498))","v":""},null,null,null,null,null,null,null,null,0,0,0,"",""]
[152,null,{"$f":"IF(ISBLANK($B156),\"\",LOOKUP($B156,Inscriptions!A$2:A$65496,Inscriptions!B$2:B$65498))","v":""},{"$f":"IF(ISBLANK($B156),\"\",LOOKUP($B156,Inscriptions!A$2:A$65496,Inscriptions!C$2:C$65498))","v":""},{"$f":"IF(ISBLANK($B156),\"\",LOOKUP($B156,Inscriptions!A$2:A$65496,Inscriptions!D$2:D$65498))","v":""},null,null,null,null,null,null,null,null,0,0,0,"",""]
[153,null,{"$f":"IF(ISBLANK($B157),\"\",LOOKUP($B157,Inscriptions!A$2:A$65496,Inscriptions!B$2:B$65498))","v":""},{"$f":"IF(ISBLANK($B157),\"\",LOOKUP($B157,Inscriptions!A$2:A$65496,Inscriptions!C$2:C$65498))","v":""},{"$f":"IF(ISBLANK($B157),\"\",LOOKUP($B157,Inscriptions!A$2:A$65496,Inscriptions!D$2:D$65498))","v":""},null,null,null,null,null,null,null,null,0,0,0,"",""]
[154,null,{"$f":"IF(ISBLANK($B158),\"\",LOOKUP($B158,Inscriptions!A$2:A$65496,Inscriptions!B$2:B$65498))","v":""},{"$f":"IF(ISBLANK($B158),\"\",LOOKUP($B158,Inscriptions!A$2:A$65496,Inscriptions!C$2:C$65498))","v":""},{"$f":"IF(ISBLANK($B158),\"\",LOOKUP($B158,Inscriptions!A$2:A$65496,Inscriptions!D$2:D$65498))","v":""},null,null,null,null,null,null,null,null,0,0,0,"",""]
[155,null,{"$f":"IF(ISBLANK($B159),\"\",LOOKUP($B159,Inscriptions!A$2:A$65496,Inscriptions!B$2:B$65498))","v":""},{"$f":"IF(ISBLANK($B159),\"\",LOOKUP($B159,Inscriptions!A$2:A$65496,Inscriptions!C$2:C$65498))","v":""},{"$f":"IF(ISBLANK($B159),\"\",LOOKUP($B159,Inscriptions!A$2:A$65496,Inscriptions!D$2:D$65498))","v":""},null,null,null,null,null,null,null,null,0,0,0,"",""]
[156,null,{"$f":"IF(ISBLANK($B160),\"\",LOOKUP($B160,Inscriptions!A$2:A$65496,Inscriptions!B$2:B$65498))","v":""},{"$f":"IF(ISBLANK($B160),\"\",LOOKUP($B160,Inscriptions!A$2:A$65496,Inscriptions!C$2:C$65498))","v":""},{"$f":"IF(ISBLANK($B160),\"\",LOOKUP($B160,Inscriptions!A$2:A$65496,Inscriptions!D$2:D$65498))","v":""},null,null,null,null,null,null,null,null,0,0,0,"",""]
[157,null,{"$f":"IF(ISBLANK($B161),\"\",LOOKUP($B161,Inscriptions!A$2:A$65496,Inscriptions!B$2:B$65498))","v":""},{"$f":"IF(ISBLANK($B161),\"\",LOOKUP($B161,Inscriptions!A$2:A$65496,Inscriptions!C$2:C$65498))","v":""},{"$f":"IF(ISBLANK($B161),\"\",LOOKUP($B161,Inscriptions!A$2:A$65496,Inscriptions!D$2:D$65498))","v":""},null,null,null,null,null,null,null,null,0,0,0,"",""]
[158,null,{"$f":"IF(ISBLANK($B162),\"\",LOOKUP($B162,Inscriptions!A$2:A$65496,Inscriptions!B$2:B$65498))","v":""},{"$f":"IF(ISBLANK($B162),\"\",LOOKUP($B162,Inscriptions!A$2:A$65496,Inscriptions!C$2:C$65498))","v":""},{"$f":"IF(ISBLANK($B162),\"\",LOOKUP($B162,Inscriptions!A$2:A$65496,Inscriptions!D$2:D$65498))","v":""},null,null,null,null,null,null,null,null,0,0,0,"",""]
[159,null,{"$f":"IF(ISBLANK($B163),\"\",LOOKUP($B163,Inscriptions!A$2:A$65496,Inscriptions!B$2:B$65498))","v":""},{"$f":"IF(ISBLANK($B163),\"\",LOOKUP($B163,Inscriptions!A$2:A$65496,Inscriptions!C$2:C$65498))","v":""},{"$f":"IF(ISBLANK($B163),\"\",LOOKUP($B163,Inscriptions!A$2:A$65496,Inscriptions!D$2:D$65498))","v":""},null,null,null,null,null,null,null,null,0,0,0,"",""]
[160,null,{"$f":"IF(ISBLANK($B164),\"\",LOOKUP($B164,Inscriptions!A$2:A$65496,Inscriptions!B$2:B$65498))","v":""},{"$f":"IF(ISBLANK($B164),\"\",LOOKUP($B164,Inscriptions!A$2:A$65496,Inscriptions!C$2:C$65498))","v":""},{"$f":"IF(ISBLANK($B164),\"\",LOOKUP($B164,Inscriptions!A$2:A$65496,Inscriptions!D$2:D$65498))","v":""},null,null,null,null,null,null,null,null,0,0,0,"",""]
[161,null,{"$f":"IF(ISBLANK($B165),\"\",LOOKUP($B165,Inscriptions!A$2:A$65496,Inscriptions!B$2:B$65498))","v":""},{"$f":"IF(ISBLANK($B165),\"\",LOOKUP($B165,Inscriptions!A$2:A$65496,Inscriptions!C$2:C$65498))","v":""},{"$f":"IF(ISBLANK($B165),\"\",LOOKUP($B165,Inscriptions!A$2:A$65496,Inscriptions!D$2:D$65498))","v":""},null,null,null,null,null,null,null,null,0,0,0,"",""]
[162,null,{"$f":"IF(ISBLANK($B166),\"\",LOOKUP($B166,Inscriptions!A$2:A$65496,Inscriptions!B$2:B$65498))","v":""},{"$f":"IF(ISBLANK($B166),\"\",LOOKUP($B166,Inscriptions!A$2:A$65496,Inscriptions!C$2:C$65498))","v":""},{"$f":"IF(ISBLANK($B166),\"\",LOOKUP($B166,Inscriptions!A$2:A$65496,Inscriptions!D$2:D$65498))","v":""},null,null,null,null,null,null,null,null,0,0,0,"",""]
[163,null,{"$f":"IF(ISBLANK($B167),\"\",LOOKUP($B167,Inscriptions!A$2:A$65496,Inscriptions!B$2:B$65498))","v":""},{"$f":"IF(ISBLANK($B167),\"\",LOOKUP($B167,Inscriptions!A$2:A$65496,Inscriptions!C$2:C$65498))","v":""},{"$f":"IF(ISBLANK($B167),\"\",LOOKUP($B167,Inscriptions!A$2:A$65496,Inscriptions!D$2:D$65498))","v":""},null,null,null,null,null,null,null,null,0,0,0,"",""]
[164,null,{"$f":"IF(ISBLANK($B168),\"\",LOOKUP($B168,Inscriptions!A$2:A$65496,Inscriptions!B$2:B$65498))","v":""},{"$f":"IF(ISBLANK($B168),\"\",LOOKUP($B168,Inscriptions!A$2:A$65496,Inscriptions!C$2:C$65498))","v":""},{"$f":"IF(ISBLANK($B168),\"\",LOOKUP($B168,Inscriptions!A$2:A$65496,Inscriptions!D$2:D$65498))","v":""},null,null,null,null,null,null,null,null,0,0,0,"",""]
[165,null,{"$f":"IF(ISBLANK($B169),\"\",LOOKUP($B169,Inscriptions!A$2:A$65496,Inscriptions!B$2:B$65498))","v":""},{"$f":"IF(ISBLANK($B169),\"\",LOOKUP($B169,Inscriptions!A$2:A$65496,Inscriptions!C$2:C$65498))","v":""},{"$f":"IF(ISBLANK($B169),\"\",LOOKUP($B169,Inscriptions!A$2:A$65496,Inscriptions!D$2:D$65498))","v":""},null,null,null,null,null,null,null,null,0,0,0,"",""]
[166,null,{"$f":"IF(ISBLANK($B170),\"\",LOOKUP($B170,Inscriptions!A$2:A$65496,Inscriptions!B$2:B$65498))","v":""},{"$f":"IF(ISBLANK($B170),\"\",LOOKUP($B170,Inscriptions!A$2:A$65496,Inscriptions!C$2:C$65498))","v":""},{"$f":"IF(ISBLANK($B170),\"\",LOOKUP($B170,Inscriptions!A$2:A$65496,Inscriptions!D$2:D$65498))","v":""},null,null,null,null,null,null,null,null,0,0,0,"",""]
[167,null,{"$f":"IF(ISBLANK($B171),\"\",LOOKUP($B171,Inscriptions!A$2:A$65496,Inscriptions!B$2:B$65498))","v":""},{"$f":"IF(ISBLANK($B171),\"\",LOOKUP($B171,Inscriptions!A$2:A$65496,Inscriptions!C$2:C$65498))","v":""},{"$f":"IF(ISBLANK($B171),\"\",LOOKUP($B171,Inscriptions!A$2:A$65496,Inscriptions!D$2:D$65498))","v":""},null,null,null,null,null,null,null,null,0,0,0,"",""]
[168,null,{"$f":"IF(ISBLANK($B172),\"\",LOOKUP($B172,Inscriptions!A$2:A$65496,Inscriptions!B$2:B$65498))","v":""},{"$f":"IF(ISBLANK($B172),\"\",LOOKUP($B172,Inscriptions!A$2:A$65496,Inscriptions!C$2:C$65498))","v":""},{"$f":"IF(ISBLANK($B172),\"\",LOOKUP($B172,Inscriptions!A$2:A$65496,Inscriptions!D$2:D$65498))","v":""},null,null,null,null,null,null,null,null,0,0,0,"",""]
[169,null,{"$f":"IF(ISBLANK($B173),\"\",LOOKUP($B173,Inscriptions!A$2:A$65496,Inscriptions!B$2:B$65498))","v":""},{"$f":"IF(ISBLANK($B173),\"\",LOOKUP($B173,Inscriptions!A$2:A$65496,Inscriptions!C$2:C$65498))","v":""},{"$f":"IF(ISBLANK($B173),\"\",LOOKUP($B173,Inscriptions!A$2:A$65496,Inscriptions!D$2:D$65498))","v":""},null,null,null,null,null,null,null,null,0,0,0,"",""]
[170,null,{"$f":"IF(ISBLANK($B174),\"\",LOOKUP($B174,Inscriptions!A$2:A$65496,Inscriptions!B$2:B$65498))","v":""},{"$f":"IF(ISBLANK($B174),\"\",LOOKUP($B174,Inscriptions!A$2:A$65496,Inscriptions!C$2:C$65498))","v":""},{"$f":"IF(ISBLANK($B174),\"\",LOOKUP($B174,Inscriptions!A$2:A$65496,Inscriptions!D$2:D$65498))","v":""},null,null,null,null,null,null,null,null,0,0,0,"",""]
[171,null,{"$f":"IF(ISBLANK($B175),\"\",LOOKUP($B175,Inscriptions!A$2:A$65496,Inscriptions!B$2:B$65498))","v":""},{"$f":"IF(ISBLANK($B175),\"\",LOOKUP($B175,Inscriptions!A$2:A$65496,Inscriptions!C$2:C$65498))","v":""},{"$f":"IF(ISBLANK($B175),\"\",LOOKUP($B175,Inscriptions!A$2:A$65496,Inscriptions!D$2:D$65498))","v":""},null,null,null,null,null,null,null,null,0,0,0,"",""]
[172,null,{"$f":"IF(ISBLANK($B176),\"\",LOOKUP($B176,Inscriptions!A$2:A$65496,Inscriptions!B$2:B$65498))","v":""},{"$f":"IF(ISBLANK($B176),\"\",LOOKUP($B176,Inscriptions!A$2:A$65496,Inscriptions!C$2:C$65498))","v":""},{"$f":"IF(ISBLANK($B176),\"\",LOOKUP($B176,Inscriptions!A$2:A$65496,Inscriptions!D$2:D$65498))","v":""},null,null,null,null,null,null,null,null,0,0,0,"",""]
[173,null,{"$f":"IF(ISBLANK($B177),\"\",LOOKUP($B177,Inscriptions!A$2:A$65496,Inscriptions!B$2:B$65498))","v":""},{"$f":"IF(ISBLANK($B177),\"\",LOOKUP($B177,Inscriptions!A$2:A$65496,Inscriptions!C$2:C$65498))","v":""},{"$f":"IF(ISBLANK($B177),\"\",LOOKUP($B177,Inscriptions!A$2:A$65496,Inscriptions!D$2:D$65498))","v":""},null,null,null,null,null,null,null,null,0,0,0,"",""]
[174,null,{"$f":"IF(ISBLANK($B178),\"\",LOOKUP($B178,Inscriptions!A$2:A$65496,Inscriptions!B$2:B$65498))","v":""},{"$f":"IF(ISBLANK($B178),\"\",LOOKUP($B178,Inscriptions!A$2:A$65496,Inscriptions!C$2:C$65498))","v":""},{"$f":"IF(ISBLANK($B178),\"\",LOOKUP($B178,Inscriptions!A$2:A$65496,Inscriptions!D$2:D$65498))","v":""},null,null,null,null,null,null,null,null,0,0,0,"",""]
[175,null,{"$f":"IF(ISBLANK($B179),\"\",LOOKUP($B179,Inscriptions!A$2:A$65496,Inscriptions!B$2:B$65498))","v":""},{"$f":"IF(ISBLANK($B179),\"\",LOOKUP($B179,Inscriptions!A$2:A$65496,Inscriptions!C$2:C$65498))","v":""},{"$f":"IF(ISBLANK($B179),\"\",LOOKUP($B179,Inscriptions!A$2:A$65496,Inscriptions!D$2:D$65498))","v":""},null,null,null,null,null,null,null,null,0,0,0,"",""]
[176,null,{"$f":"IF(ISBLANK($B180),\"\",LOOKUP($B180,Inscriptions!A$2:A$65496,Inscriptions!B$2:B$65498))","v":""},{"$f":"IF(ISBLANK($B180),\"\",LOOKUP($B180,Inscriptions!A$2:A$65496,Inscriptions!C$2:C$65498))","v":""},{"$f":"IF(ISBLANK($B180),\"\",LOOKUP($B180,Inscriptions!A$2:A$65496,Inscriptions!D$2:D$65498))","v":""},null,null,null,null,null,null,null,null,0,0,0,"",""]
[177,null,{"$f":"IF(ISBLANK($B181),\"\",LOOKUP($B181,Inscriptions!A$2:A$65496,Inscriptions!B$2:B$65498))","v":""},{"$f":"IF(ISBLANK($B181),\"\",LOOKUP($B181,Inscriptions!A$2:A$65496,Inscriptions!C$2:C$65498))","v":""},{"$f":"IF(ISBLANK($B181),\"\",LOOKUP($B181,Inscriptions!A$2:A$65496,Inscriptions!D$2:D$65498))","v":""},null,null,null,null,null,null,null,null,0,0,0,"",""]
[178,null,{"$f":"IF(ISBLANK($B182),\"\",LOOKUP($B182,Inscriptions!A$2:A$65496,Inscriptions!B$2:B$65498))","v":""},{"$f":"IF(ISBLANK($B182),\"\",LOOKUP($B182,Inscriptions!A$2:A$65496,Inscriptions!C$2:C$65498))","v":""},{"$f":"IF(ISBLANK($B182),\"\",LOOKUP($B182,Inscriptions!A$2:A$65496,Inscriptions!D$2:D$65498))","v":""},null,null,null,null,null,null,null,null,0,0,0,"",""]
[179,null,{"$f":"IF(ISBLANK($B183),\"\",LOOKUP($B183,Inscriptions!A$2:A$65496,Inscriptions!B$2:B$65498))","v":""},{"$f":"IF(ISBLANK($B183),\"\",LOOKUP($B183,Inscriptions!A$2:A$65496,Inscriptions!C$2:C$65498))","v":""},{"$f":"IF(ISBLANK($B183),\"\",LOOKUP($B183,Inscriptions!A$2:A$65496,Inscriptions!D$2:D$65498))","v":""},null,null,null,null,null,null,null,null,0,0,0,"",""]
[180,null,{"$f":"IF(ISBLANK($B184),\"\",LOOKUP($B184,Inscriptions!A$2:A$65496,Inscriptions!B$2:B$65498))","v":""},{"$f":"IF(ISBLANK($B184),\"\",LOOKUP($B184,Inscriptions!A$2:A$65496,Inscriptions!C$2:C$65498))","v":""},{"$f":"IF(ISBLANK($B184),\"\",LOOKUP($B184,Inscriptions!A$2:A$65496,Inscriptions!D$2:D$65498))","v":""},null,null,null,null,null,null,null,null,0,0,0,"",""]
[181,null,{"$f":"IF(ISBLANK($B185),\"\",LOOKUP($B185,Inscriptions!A$2:A$65496,Inscriptions!B$2:B$65498))","v":""},{"$f":"IF(ISBLANK($B185),\"\",LOOKUP($B185,Inscriptions!A$2:A$65496,Inscriptions!C$2:C$65498))","v":""},{"$f":"IF(ISBLANK($B185),\"\",LOOKUP($B185,Inscriptions!A$2:A$65496,Inscriptions!D$2:D$65498))","v":""},null,null,null,null,null,null,null,null,0,0,0,"",""]
[182,null,{"$f":"IF(ISBLANK($B186),\"\",LOOKUP($B186,Inscriptions!A$2:A$65496,Inscriptions!B$2:B$65498))","v":""},{"$f":"IF(ISBLANK($B186),\"\",LOOKUP($B186,Inscriptions!A$2:A$65496,Inscriptions!C$2:C$65498))","v":""},{"$f":"IF(ISBLANK($B186),\"\",LOOKUP($B186,Inscriptions!A$2:A$65496,Inscriptions!D$2:D$65498))","v":""},null,null,null,null,null,null,null,null,0,0,0,"",""]
[183,null,{"$f":"IF(ISBLANK($B187),\"\",LOOKUP($B187,Inscriptions!A$2:A$65496,Inscriptions!B$2:B$65498))","v":""},{"$f":"IF(ISBLANK($B187),\"\",LOOKUP($B187,Inscriptions!A$2:A$65496,Inscriptions!C$2:C$65498))","v":""},{"$f":"IF(ISBLANK($B187),\"\",LOOKUP($B187,Inscriptions!A$2:A$65496,Inscriptions!D$2:D$65498))","v":""},null,null,null,null,null,null,null,null,0,0,0,"",""]
[184,null,{"$f":"IF(ISBLANK($B188),\"\",LOOKUP($B188,Inscriptions!A$2:A$65496,Inscriptions!B$2:B$65498))","v":""},{"$f":"IF(ISBLANK($B188),\"\",LOOKUP($B188,Inscriptions!A$2:A$65496,Inscriptions!C$2:C$65498))","v":""},{"$f":"IF(ISBLANK($B188),\"\",LOOKUP($B188,Inscriptions!A$2:A$65496,Inscriptions!D$2:D$65498))","v":""},null,null,null,null,null,null,null,null,0,0,0,"",""]
[185,null,{"$f":"IF(ISBLANK($B189),\"\",LOOKUP($B189,Inscriptions!A$2:A$65496,Inscriptions!B$2:B$65498))","v":""},{"$f":"IF(ISBLANK($B189),\"\",LOOKUP($B189,Inscriptions!A$2:A$65496,Inscriptions!C$2:C$65498))","v":""},{"$f":"IF(ISBLANK($B189),\"\",LOOKUP($B189,Inscriptions!A$2:A$65496,Inscriptions!D$2:D$65498))","v":""},null,null,null,null,null,null,null,null,0,0,0,"",""]
[186,null,{"$f":"IF(ISBLANK($B190),\"\",LOOKUP($B190,Inscriptions!A$2:A$65496,Inscriptions!B$2:B$65498))","v":""},{"$f":"IF(ISBLANK($B190),\"\",LOOKUP($B190,Inscriptions!A$2:A$65496,Inscriptions!C$2:C$65498))","v":""},{"$f":"IF(ISBLANK($B190),\"\",LOOKUP($B190,Inscriptions!A$2:A$65496,Inscriptions!D$2:D$65498))","v":""},null,null,null,null,null,null,null,null,0,0,0,"",""]
[187,null,{"$f":"IF(ISBLANK($B191),\"\",LOOKUP($B191,Inscriptions!A$2:A$65496,Inscriptions!B$2:B$65498))","v":""},{"$f":"IF(ISBLANK($B191),\"\",LOOKUP($B191,Inscriptions!A$2:A$65496,Inscriptions!C$2:C$65498))","v":""},{"$f":"IF(ISBLANK($B191),\"\",LOOKUP($B191,Inscriptions!A$2:A$65496,Inscriptions!D$2:D$65498))","v":""},null,null,null,null,null,null,null,null,0,0,0,"",""]
[188,null,{"$f":"IF(ISBLANK($B192),\"\",LOOKUP($B192,Inscriptions!A$2:A$65496,Inscriptions!B$2:B$65498))","v":""},{"$f":"IF(ISBLANK($B192),\"\",LOOKUP($B192,Inscriptions!A$2:A$65496,Inscriptions!C$2:C$65498))","v":""},{"$f":"IF(ISBLANK($B192),\"\",LOOKUP($B192,Inscriptions!A$2:A$65496,Inscriptions!D$2:D$65498))","v":""},null,null,null,null,null,null,null,null,0,0,0,"",""]
[189,null,{"$f":"IF(ISBLANK($B193),\"\",LOOKUP($B193,Inscriptions!A$2:A$65496,Inscriptions!B$2:B$65498))","v":""},{"$f":"IF(ISBLANK($B193),\"\",LOOKUP($B193,Inscriptions!A$2:A$65496,Inscriptions!C$2:C$65498))","v":""},{"$f":"IF(ISBLANK($B193),\"\",LOOKUP($B193,Inscriptions!A$2:A$65496,Inscriptions!D$2:D$65498))","v":""},null,null,null,null,null,null,null,null,0,0,0,"",""]
[190,null,{"$f":"IF(ISBLANK($B194),\"\",LOOKUP($B194,Inscriptions!A$2:A$65496,Inscriptions!B$2:B$65498))","v":""},{"$f":"IF(ISBLANK($B194),\"\",LOOKUP($B194,Inscriptions!A$2:A$65496,Inscriptions!C$2:C$65498))","v":""},{"$f":"IF(ISBLANK($B194),\"\",LOOKUP($B194,Inscriptions!A$2:A$65496,Inscriptions!D$2:D$65498))","v":""},null,null,null,null,null,null,null,null,0,0,0,"",""]
[191,null,{"$f":"IF(ISBLANK($B195),\"\",LOOKUP($B195,Inscriptions!A$2:A$65496,Inscriptions!B$2:B$65498))","v":""},{"$f":"IF(ISBLANK($B195),\"\",LOOKUP($B195,Inscriptions!A$2:A$65496,Inscriptions!C$2:C$65498))","v":""},{"$f":"IF(ISBLANK($B195),\"\",LOOKUP($B195,Inscriptions!A$2:A$65496,Inscriptions!D$2:D$65498))","v":""},null,null,null,null,null,null,null,null,0,0,0,"",""]
[192,null,{"$f":"IF(ISBLANK($B196),\"\",LOOKUP($B196,Inscriptions!A$2:A$65496,Inscriptions!B$2:B$65498))","v":""},{"$f":"IF(ISBLANK($B196),\"\",LOOKUP($B196,Inscriptions!A$2:A$65496,Inscriptions!C$2:C$65498))","v":""},{"$f":"IF(ISBLANK($B196),\"\",LOOKUP($B196,Inscriptions!A$2:A$65496,Inscriptions!D$2:D$65498))","v":""},null,null,null,null,null,null,null,null,0,0,0,"",""]
[193,null,{"$f":"IF(ISBLANK($B197),\"\",LOOKUP($B197,Inscriptions!A$2:A$65496,Inscriptions!B$2:B$65498))","v":""},{"$f":"IF(ISBLANK($B197),\"\",LOOKUP($B197,Inscriptions!A$2:A$65496,Inscriptions!C$2:C$65498))","v":""},{"$f":"IF(ISBLANK($B197),\"\",LOOKUP($B197,Inscriptions!A$2:A$65496,Inscriptions!D$2:D$65498))","v":""},null,null,null,null,null,null,null,null,0,0,0,"",""]
[194,null,{"$f":"IF(ISBLANK($B198),\"\",LOOKUP($B198,Inscriptions!A$2:A$65496,Inscriptions!B$2:B$65498))","v":""},{"$f":"IF(ISBLANK($B198),\"\",LOOKUP($B198,Inscriptions!A$2:A$65496,Inscriptions!C$2:C$65498))","v":""},{"$f":"IF(ISBLANK($B198),\"\",LOOKUP($B198,Inscriptions!A$2:A$65496,Inscriptions!D$2:D$65498))","v":""},null,null,null,null,null,null,null,null,{"$f":"ROUNDDOWN(M198/10000,0)","v":0},{"$f":"ROUNDDOWN((M198-N198*10000)/100,0)","v":0},{"$f":"ROUNDDOWN((M198-(N198*10000)-(O198*100)),0)","v":0},{"$f":"IF((N198+O198+P198)=0,\"\",ROUNDDOWN((Q$4/((N198*3600)+(O198*60)+P198))*3.6,2))","v":""},{"$f":"IF(Q198=\"\",\"\",\"km/h\")","v":""}]
[195,null,{"$f":"IF(ISBLANK($B199),\"\",LOOKUP($B199,Inscriptions!A$2:A$65496,Inscriptions!B$2:B$65498))","v":""},{"$f":"IF(ISBLANK($B199),\"\",LOOKUP($B199,Inscriptions!A$2:A$65496,Inscriptions!C$2:C$65498))","v":""},{"$f":"IF(ISBLANK($B199),\"\",LOOKUP($B199,Inscriptions!A$2:A$65496,Inscriptions!D$2:D$65498))","v":""},null,null,null,null,null,null,null,null,0,0,0,"",""]
[196,null,{"$f":"IF(ISBLANK($B200),\"\",LOOKUP($B200,Inscriptions!A$2:A$65496,Inscriptions!B$2:B$65498))","v":""},{"$f":"IF(ISBLANK($B200),\"\",LOOKUP($B200,Inscriptions!A$2:A$65496,Inscriptions!C$2:C$65498))","v":""},{"$f":"IF(ISBLANK($B200),\"\",LOOKUP($B200,Inscriptions!A$2:A$65496,Inscriptions!D$2:D$65498))","v":""},null,null,null,null,null,null,null,null,0,0,0,"",""]
[197,null,{"$f":"IF(ISBLANK($B201),\"\",LOOKUP($B201,Inscriptions!A$2:A$65496,Inscriptions!B$2:B$65498))","v":""},{"$f":"IF(ISBLANK($B201),\"\",LOOKUP($B201,Inscriptions!A$2:A$65496,Inscriptions!C$2:C$65498))","v":""},{"$f":"IF(ISBLANK($B201),\"\",LOOKUP($B201,Inscriptions!A$2:A$65496,Inscriptions!D$2:D$65498))","v":""},null,null,null,null,null,null,null,null,0,0,0,"",""]
[198,null,{"$f":"IF(ISBLANK($B202),\"\",LOOKUP($B202,Inscriptions!A$2:A$65496,Inscriptions!B$2:B$65498))","v":""},{"$f":"IF(ISBLANK($B202),\"\",LOOKUP($B202,Inscriptions!A$2:A$65496,Inscriptions!C$2:C$65498))","v":""},{"$f":"IF(ISBLANK($B202),\"\",LOOKUP($B202,Inscriptions!A$2:A$65496,Inscriptions!D$2:D$65498))","v":""},null,null,null,null,null,null,null,null,0,0,0,"",""]
[199,null,{"$f":"IF(ISBLANK($B203),\"\",LOOKUP($B203,Inscriptions!A$2:A$65496,Inscriptions!B$2:B$65498))","v":""},{"$f":"IF(ISBLANK($B203),\"\",LOOKUP($B203,Inscriptions!A$2:A$65496,Inscriptions!C$2:C$65498))","v":""},{"$f":"IF(ISBLANK($B203),\"\",LOOKUP($B203,Inscriptions!A$2:A$65496,Inscriptions!D$2:D$65498))","v":""},null,null,null,null,null,null,null,null,0,0,0,"",""]
[200,null,{"$f":"IF(ISBLANK($B204),\"\",LOOKUP($B204,Inscriptions!A$2:A$65496,Inscriptions!B$2:B$65498))","v":""},{"$f":"IF(ISBLANK($B204),\"\",LOOKUP($B204,Inscriptions!A$2:A$65496,Inscriptions!C$2:C$65498))","v":""},{"$f":"IF(ISBLANK($B204),\"\",LOOKUP($B204,Inscriptions!A$2:A$65496,Inscriptions!D$2:D$65498))","v":""},null,null,null,null,null,null,null,null,0,0,0,"",""]
[201,null,{"$f":"IF(ISBLANK($B205),\"\",LOOKUP($B205,Inscriptions!A$2:A$65496,Inscriptions!B$2:B$65498))","v":""},{"$f":"IF(ISBLANK($B205),\"\",LOOKUP($B205,Inscriptions!A$2:A$65496,Inscriptions!C$2:C$65498))","v":""},{"$f":"IF(ISBLANK($B205),\"\",LOOKUP($B205,Inscriptions!A$2:A$65496,Inscriptions!D$2:D$65498))","v":""},null,null,null,null,null,null,null,null,0,0,0,"",""]
[202,null,{"$f":"IF(ISBLANK($B206),\"\",LOOKUP($B206,Inscriptions!A$2:A$65496,Inscriptions!B$2:B$65498))","v":""},{"$f":"IF(ISBLANK($B206),\"\",LOOKUP($B206,Inscriptions!A$2:A$65496,Inscriptions!C$2:C$65498))","v":""},{"$f":"IF(ISBLANK($B206),\"\",LOOKUP($B206,Inscriptions!A$2:A$65496,Inscriptions!D$2:D$65498))","v":""},null,null,null,null,null,null,null,null,0,0,0,"",""]
[203,null,{"$f":"IF(ISBLANK($B207),\"\",LOOKUP($B207,Inscriptions!A$2:A$65496,Inscriptions!B$2:B$65498))","v":""},{"$f":"IF(ISBLANK($B207),\"\",LOOKUP($B207,Inscriptions!A$2:A$65496,Inscriptions!C$2:C$65498))","v":""},{"$f":"IF(ISBLANK($B207),\"\",LOOKUP($B207,Inscriptions!A$2:A$65496,Inscriptions!D$2:D$65498))","v":""},null,null,null,null,null,null,null,null,0,0,0,"",""]
[204,null,{"$f":"IF(ISBLANK($B208),\"\",LOOKUP($B208,Inscriptions!A$2:A$65496,Inscriptions!B$2:B$65498))","v":""},{"$f":"IF(ISBLANK($B208),\"\",LOOKUP($B208,Inscriptions!A$2:A$65496,Inscriptions!C$2:C$65498))","v":""},{"$f":"IF(ISBLANK($B208),\"\",LOOKUP($B208,Inscriptions!A$2:A$65496,Inscriptions!D$2:D$65498))","v":""},null,null,null,null,null,null,null,null,0,0,0,"",""]
[205,null,{"$f":"IF(ISBLANK($B209),\"\",LOOKUP($B209,Inscriptions!A$2:A$65496,Inscriptions!B$2:B$65498))","v":""},{"$f":"IF(ISBLANK($B209),\"\",LOOKUP($B209,Inscriptions!A$2:A$65496,Inscriptions!C$2:C$65498))","v":""},{"$f":"IF(ISBLANK($B209),\"\",LOOKUP($B209,Inscriptions!A$2:A$65496,Inscriptions!D$2:D$65498))","v":""},null,null,null,null,null,null,null,null,0,0,0,"",""]
[206,null,{"$f":"IF(ISBLANK($B210),\"\",LOOKUP($B210,Inscriptions!A$2:A$65496,Inscriptions!B$2:B$65498))","v":""},{"$f":"IF(ISBLANK($B210),\"\",LOOKUP($B210,Inscriptions!A$2:A$65496,Inscriptions!C$2:C$65498))","v":""},{"$f":"IF(ISBLANK($B210),\"\",LOOKUP($B210,Inscriptions!A$2:A$65496,Inscriptions!D$2:D$65498))","v":""},null,null,null,null,null,null,null,null,0,0,0,"",""]
[207,null,{"$f":"IF(ISBLANK($B211),\"\",LOOKUP($B211,Inscriptions!A$2:A$65496,Inscriptions!B$2:B$65498))","v":""},{"$f":"IF(ISBLANK($B211),\"\",LOOKUP($B211,Inscriptions!A$2:A$65496,Inscriptions!C$2:C$65498))","v":""},{"$f":"IF(ISBLANK($B211),\"\",LOOKUP($B211,Inscriptions!A$2:A$65496,Inscriptions!D$2:D$65498))","v":""},null,null,null,null,null,null,null,null,0,0,0,"",""]
[208,null,{"$f":"IF(ISBLANK($B212),\"\",LOOKUP($B212,Inscriptions!A$2:A$65496,Inscriptions!B$2:B$65498))","v":""},{"$f":"IF(ISBLANK($B212),\"\",LOOKUP($B212,Inscriptions!A$2:A$65496,Inscriptions!C$2:C$65498))","v":""},{"$f":"IF(ISBLANK($B212),\"\",LOOKUP($B212,Inscriptions!A$2:A$65496,Inscriptions!D$2:D$65498))","v":""},null,null,null,null,null,null,null,null,0,0,0,"",""]
[209,null,{"$f":"IF(ISBLANK($B213),\"\",LOOKUP($B213,Inscriptions!A$2:A$65496,Inscriptions!B$2:B$65498))","v":""},{"$f":"IF(ISBLANK($B213),\"\",LOOKUP($B213,Inscriptions!A$2:A$65496,Inscriptions!C$2:C$65498))","v":""},{"$f":"IF(ISBLANK($B213),\"\",LOOKUP($B213,Inscriptions!A$2:A$65496,Inscriptions!D$2:D$65498))","v":""},null,null,null,null,null,null,null,null,0,0,0,"",""]
[210,null,{"$f":"IF(ISBLANK($B214),\"\",LOOKUP($B214,Inscriptions!A$2:A$65496,Inscriptions!B$2:B$65498))","v":""},{"$f":"IF(ISBLANK($B214),\"\",LOOKUP($B214,Inscriptions!A$2:A$65496,Inscriptions!C$2:C$65498))","v":""},{"$f":"IF(ISBLANK($B214),\"\",LOOKUP($B214,Inscriptions!A$2:A$65496,Inscriptions!D$2:D$65498))","v":""},null,null,null,null,null,null,null,null,0,0,0,"",""]
[211,null,{"$f":"IF(ISBLANK($B215),\"\",LOOKUP($B215,Inscriptions!A$2:A$65496,Inscriptions!B$2:B$65498))","v":""},{"$f":"IF(ISBLANK($B215),\"\",LOOKUP($B215,Inscriptions!A$2:A$65496,Inscriptions!C$2:C$65498))","v":""},{"$f":"IF(ISBLANK($B215),\"\",LOOKUP($B215,Inscriptions!A$2:A$65496,Inscriptions!D$2:D$65498))","v":""},null,null,null,null,null,null,null,null,0,0,0,"",""]
[212,null,{"$f":"IF(ISBLANK($B216),\"\",LOOKUP($B216,Inscriptions!A$2:A$65496,Inscriptions!B$2:B$65498))","v":""},{"$f":"IF(ISBLANK($B216),\"\",LOOKUP($B216,Inscriptions!A$2:A$65496,Inscriptions!C$2:C$65498))","v":""},{"$f":"IF(ISBLANK($B216),\"\",LOOKUP($B216,Inscriptions!A$2:A$65496,Inscriptions!D$2:D$65498))","v":""},null,null,null,null,null,null,null,null,0,0,0,"",""]
[213,null,{"$f":"IF(ISBLANK($B217),\"\",LOOKUP($B217,Inscriptions!A$2:A$65496,Inscriptions!B$2:B$65498))","v":""},{"$f":"IF(ISBLANK($B217),\"\",LOOKUP($B217,Inscriptions!A$2:A$65496,Inscriptions!C$2:C$65498))","v":""},{"$f":"IF(ISBLANK($B217),\"\",LOOKUP($B217,Inscriptions!A$2:A$65496,Inscriptions!D$2:D$65498))","v":""},null,null,null,null,null,null,null,null,0,0,0,"",""]
[214,null,{"$f":"IF(ISBLANK($B218),\"\",LOOKUP($B218,Inscriptions!A$2:A$65496,Inscriptions!B$2:B$65498))","v":""},{"$f":"IF(ISBLANK($B218),\"\",LOOKUP($B218,Inscriptions!A$2:A$65496,Inscriptions!C$2:C$65498))","v":""},{"$f":"IF(ISBLANK($B218),\"\",LOOKUP($B218,Inscriptions!A$2:A$65496,Inscriptions!D$2:D$65498))","v":""},null,null,null,null,null,null,null,null,0,0,0,"",""]
[215,null,{"$f":"IF(ISBLANK($B219),\"\",LOOKUP($B219,Inscriptions!A$2:A$65496,Inscriptions!B$2:B$65498))","v":""},{"$f":"IF(ISBLANK($B219),\"\",LOOKUP($B219,Inscriptions!A$2:A$65496,Inscriptions!C$2:C$65498))","v":""},{"$f":"IF(ISBLANK($B219),\"\",LOOKUP($B219,Inscriptions!A$2:A$65496,Inscriptions!D$2:D$65498))","v":""},null,null,null,null,null,null,null,null,0,0,0,"",""]
[216,null,{"$f":"IF(ISBLANK($B220),\"\",LOOKUP($B220,Inscriptions!A$2:A$65496,Inscriptions!B$2:B$65498))","v":""},{"$f":"IF(ISBLANK($B220),\"\",LOOKUP($B220,Inscriptions!A$2:A$65496,Inscriptions!C$2:C$65498))","v":""},{"$f":"IF(ISBLANK($B220),\"\",LOOKUP($B220,Inscriptions!A$2:A$65496,Inscriptions!D$2:D$65498))","v":""},null,null,null,null,null,null,null,null,0,0,0,"",""]
[217,null,{"$f":"IF(ISBLANK($B221),\"\",LOOKUP($B221,Inscriptions!A$2:A$65496,Inscriptions!B$2:B$65498))","v":""},{"$f":"IF(ISBLANK($B221),\"\",LOOKUP($B221,Inscriptions!A$2:A$65496,Inscriptions!C$2:C$65498))","v":""},{"$f":"IF(ISBLANK($B221),\"\",LOOKUP($B221,Inscriptions!A$2:A$65496,Inscriptions!D$2:D$65498))","v":""},null,null,null,null,null,null,null,null,0,0,0,"",""]
[218,null,{"$f":"IF(ISBLANK($B222),\"\",LOOKUP($B222,Inscriptions!A$2:A$65496,Inscriptions!B$2:B$65498))","v":""},{"$f":"IF(ISBLANK($B222),\"\",LOOKUP($B222,Inscriptions!A$2:A$65496,Inscriptions!C$2:C$65498))","v":""},{"$f":"IF(ISBLANK($B222),\"\",LOOKUP($B222,Inscriptions!A$2:A$65496,Inscriptions!D$2:D$65498))","v":""},null,null,null,null,null,null,null,null,0,0,0,"",""]
[219,null,{"$f":"IF(ISBLANK($B223),\"\",LOOKUP($B223,Inscriptions!A$2:A$65496,Inscriptions!B$2:B$65498))","v":""},{"$f":"IF(ISBLANK($B223),\"\",LOOKUP($B223,Inscriptions!A$2:A$65496,Inscriptions!C$2:C$65498))","v":""},{"$f":"IF(ISBLANK($B223),\"\",LOOKUP($B223,Inscriptions!A$2:A$65496,Inscriptions!D$2:D$65498))","v":""},null,null,null,null,null,null,null,null,0,0,0,"",""]
[220,null,{"$f":"IF(ISBLANK($B224),\"\",LOOKUP($B224,Inscriptions!A$2:A$65496,Inscriptions!B$2:B$65498))","v":""},{"$f":"IF(ISBLANK($B224),\"\",LOOKUP($B224,Inscriptions!A$2:A$65496,Inscriptions!C$2:C$65498))","v":""},{"$f":"IF(ISBLANK($B224),\"\",LOOKUP($B224,Inscriptions!A$2:A$65496,Inscriptions!D$2:D$65498))","v":""},null,null,null,null,null,null,null,null,0,0,0,"",""]
[221,null,{"$f":"IF(ISBLANK($B225),\"\",LOOKUP($B225,Inscriptions!A$2:A$65496,Inscriptions!B$2:B$65498))","v":""},{"$f":"IF(ISBLANK($B225),\"\",LOOKUP($B225,Inscriptions!A$2:A$65496,Inscriptions!C$2:C$65498))","v":""},{"$f":"IF(ISBLANK($B225),\"\",LOOKUP($B225,Inscriptions!A$2:A$65496,Inscriptions!D$2:D$65498))","v":""},null,null,null,null,null,null,null,null,0,0,0,"",""]
[222,null,{"$f":"IF(ISBLANK($B226),\"\",LOOKUP($B226,Inscriptions!A$2:A$65496,Inscriptions!B$2:B$65498))","v":""},{"$f":"IF(ISBLANK($B226),\"\",LOOKUP($B226,Inscriptions!A$2:A$65496,Inscriptions!C$2:C$65498))","v":""},{"$f":"IF(ISBLANK($B226),\"\",LOOKUP($B226,Inscriptions!A$2:A$65496,Inscriptions!D$2:D$65498))","v":""},null,null,null,null,null,null,null,null,0,0,0,"",""]
[223,null,{"$f":"IF(ISBLANK($B227),\"\",LOOKUP($B227,Inscriptions!A$2:A$65496,Inscriptions!B$2:B$65498))","v":""},{"$f":"IF(ISBLANK($B227),\"\",LOOKUP($B227,Inscriptions!A$2:A$65496,Inscriptions!C$2:C$65498))","v":""},{"$f":"IF(ISBLANK($B227),\"\",LOOKUP($B227,Inscriptions!A$2:A$65496,Inscriptions!D$2:D$65498))","v":""},null,null,null,null,null,null,null,null,0,0,0,"",""]
[224,null,{"$f":"IF(ISBLANK($B228),\"\",LOOKUP($B228,Inscriptions!A$2:A$65496,Inscriptions!B$2:B$65498))","v":""},{"$f":"IF(ISBLANK($B228),\"\",LOOKUP($B228,Inscriptions!A$2:A$65496,Inscriptions!C$2:C$65498))","v":""},{"$f":"IF(ISBLANK($B228),\"\",LOOKUP($B228,Inscriptions!A$2:A$65496,Inscriptions!D$2:D$65498))","v":""},null,null,null,null,null,null,null,null,0,0,0,"",""]
[225,null,{"$f":"IF(ISBLANK($B229),\"\",LOOKUP($B229,Inscriptions!A$2:A$65496,Inscriptions!B$2:B$65498))","v":""},{"$f":"IF(ISBLANK($B229),\"\",LOOKUP($B229,Inscriptions!A$2:A$65496,Inscriptions!C$2:C$65498))","v":""},{"$f":"IF(ISBLANK($B229),\"\",LOOKUP($B229,Inscriptions!A$2:A$65496,Inscriptions!D$2:D$65498))","v":""},null,null,null,null,null,null,null,null,0,0,0,"",""]
[226,null,{"$f":"IF(ISBLANK($B230),\"\",LOOKUP($B230,Inscriptions!A$2:A$65496,Inscriptions!B$2:B$65498))","v":""},{"$f":"IF(ISBLANK($B230),\"\",LOOKUP($B230,Inscriptions!A$2:A$65496,Inscriptions!C$2:C$65498))","v":""},{"$f":"IF(ISBLANK($B230),\"\",LOOKUP($B230,Inscriptions!A$2:A$65496,Inscriptions!D$2:D$65498))","v":""},null,null,null,null,null,null,null,null,0,0,0,"",""]
[227,null,{"$f":"IF(ISBLANK($B231),\"\",LOOKUP($B231,Inscriptions!A$2:A$65496,Inscriptions!B$2:B$65498))","v":""},{"$f":"IF(ISBLANK($B231),\"\",LOOKUP($B231,Inscriptions!A$2:A$65496,Inscriptions!C$2:C$65498))","v":""},{"$f":"IF(ISBLANK($B231),\"\",LOOKUP($B231,Inscriptions!A$2:A$65496,Inscriptions!D$2:D$65498))","v":""},null,null,null,null,null,null,null,null,0,0,0,"",""]
[228,null,{"$f":"IF(ISBLANK($B232),\"\",LOOKUP($B232,Inscriptions!A$2:A$65496,Inscriptions!B$2:B$65498))","v":""},{"$f":"IF(ISBLANK($B232),\"\",LOOKUP($B232,Inscriptions!A$2:A$65496,Inscriptions!C$2:C$65498))","v":""},{"$f":"IF(ISBLANK($B232),\"\",LOOKUP($B232,Inscriptions!A$2:A$65496,Inscriptions!D$2:D$65498))","v":""},null,null,null,null,null,null,null,null,0,0,0,"",""]
[229,null,{"$f":"IF(ISBLANK($B233),\"\",LOOKUP($B233,Inscriptions!A$2:A$65496,Inscriptions!B$2:B$65498))","v":""},{"$f":"IF(ISBLANK($B233),\"\",LOOKUP($B233,Inscriptions!A$2:A$65496,Inscriptions!C$2:C$65498))","v":""},{"$f":"IF(ISBLANK($B233),\"\",LOOKUP($B233,Inscriptions!A$2:A$65496,Inscriptions!D$2:D$65498))","v":""},null,null,null,null,null,null,null,null,0,0,0,"",""]
[230,null,{"$f":"IF(ISBLANK($B234),\"\",LOOKUP($B234,Inscriptions!A$2:A$65496,Inscriptions!B$2:B$65498))","v":""},{"$f":"IF(ISBLANK($B234),\"\",LOOKUP($B234,Inscriptions!A$2:A$65496,Inscriptions!C$2:C$65498))","v":""},{"$f":"IF(ISBLANK($B234),\"\",LOOKUP($B234,Inscriptions!A$2:A$65496,Inscriptions!D$2:D$65498))","v":""},null,null,null,null,null,null,null,null,0,0,0,"",""]
[231,null,{"$f":"IF(ISBLANK($B235),\"\",LOOKUP($B235,Inscriptions!A$2:A$65496,Inscriptions!B$2:B$65498))","v":""},{"$f":"IF(ISBLANK($B235),\"\",LOOKUP($B235,Inscriptions!A$2:A$65496,Inscriptions!C$2:C$65498))","v":""},{"$f":"IF(ISBLANK($B235),\"\",LOOKUP($B235,Inscriptions!A$2:A$65496,Inscriptions!D$2:D$65498))","v":""},null,null,null,null,null,null,null,null,0,0,0,"",""]
[232,null,{"$f":"IF(ISBLANK($B236),\"\",LOOKUP($B236,Inscriptions!A$2:A$65496,Inscriptions!B$2:B$65498))","v":""},{"$f":"IF(ISBLANK($B236),\"\",LOOKUP($B236,Inscriptions!A$2:A$65496,Inscriptions!C$2:C$65498))","v":""},{"$f":"IF(ISBLANK($B236),\"\",LOOKUP($B236,Inscriptions!A$2:A$65496,Inscriptions!D$2:D$65498))","v":""},null,null,null,null,null,null,null,null,0,0,0,"",""]
[233,null,{"$f":"IF(ISBLANK($B237),\"\",LOOKUP($B237,Inscriptions!A$2:A$65496,Inscriptions!B$2:B$65498))","v":""},{"$f":"IF(ISBLANK($B237),\"\",LOOKUP($B237,Inscriptions!A$2:A$65496,Inscriptions!C$2:C$65498))","v":""},{"$f":"IF(ISBLANK($B237),\"\",LOOKUP($B237,Inscriptions!A$2:A$65496,Inscriptions!D$2:D$65498))","v":""},null,null,null,null,null,null,null,null,0,0,0,"",""]
[234,null,{"$f":"IF(ISBLANK($B238),\"\",LOOKUP($B238,Inscriptions!A$2:A$65496,Inscriptions!B$2:B$65498))","v":""},{"$f":"IF(ISBLANK($B238),\"\",LOOKUP($B238,Inscriptions!A$2:A$65496,Inscriptions!C$2:C$65498))","v":""},{"$f":"IF(ISBLANK($B238),\"\",LOOKUP($B238,Inscriptions!A$2:A$65496,Inscriptions!D$2:D$65498))","v":""},null,null,null,null,null,null,null,null,0,0,0,"",""]
[235,null,{"$f":"IF(ISBLANK($B239),\"\",LOOKUP($B239,Inscriptions!A$2:A$65496,Inscriptions!B$2:B$65498))","v":""},{"$f":"IF(ISBLANK($B239),\"\",LOOKUP($B239,Inscriptions!A$2:A$65496,Inscriptions!C$2:C$65498))","v":""},{"$f":"IF(ISBLANK($B239),\"\",LOOKUP($B239,Inscriptions!A$2:A$65496,Inscriptions!D$2:D$65498))","v":""},null,null,null,null,null,null,null,null,0,0,0,"",""]
[236,null,{"$f":"IF(ISBLANK($B240),\"\",LOOKUP($B240,Inscriptions!A$2:A$65496,Inscriptions!B$2:B$65498))","v":""},{"$f":"IF(ISBLANK($B240),\"\",LOOKUP($B240,Inscriptions!A$2:A$65496,Inscriptions!C$2:C$65498))","v":""},{"$f":"IF(ISBLANK($B240),\"\",LOOKUP($B240,Inscriptions!A$2:A$65496,Inscriptions!D$2:D$65498))","v":""},null,null,null,null,null,null,null,null,0,0,0,"",""]
[237,null,{"$f":"IF(ISBLANK($B241),\"\",LOOKUP($B241,Inscriptions!A$2:A$65496,Inscriptions!B$2:B$65498))","v":""},{"$f":"IF(ISBLANK($B241),\"\",LOOKUP($B241,Inscriptions!A$2:A$65496,Inscriptions!C$2:C$65498))","v":""},{"$f":"IF(ISBLANK($B241),\"\",LOOKUP($B241,Inscriptions!A$2:A$65496,Inscriptions!D$2:D$65498))","v":""},null,null,null,null,null,null,null,null,0,0,0,"",""]
[238,null,{"$f":"IF(ISBLANK($B242),\"\",LOOKUP($B242,Inscriptions!A$2:A$65496,Inscriptions!B$2:B$65498))","v":""},{"$f":"IF(ISBLANK($B242),\"\",LOOKUP($B242,Inscriptions!A$2:A$65496,Inscriptions!C$2:C$65498))","v":""},{"$f":"IF(ISBLANK($B242),\"\",LOOKUP($B242,Inscriptions!A$2:A$65496,Inscriptions!D$2:D$65498))","v":""},null,null,null,null,null,null,null,null,0,0,0,"",""]
[239,null,{"$f":"IF(ISBLANK($B243),\"\",LOOKUP($B243,Inscriptions!A$2:A$65496,Inscriptions!B$2:B$65498))","v":""},{"$f":"IF(ISBLANK($B243),\"\",LOOKUP($B243,Inscriptions!A$2:A$65496,Inscriptions!C$2:C$65498))","v":""},{"$f":"IF(ISBLANK($B243),\"\",LOOKUP($B243,Inscriptions!A$2:A$65496,Inscriptions!D$2:D$65498))","v":""},null,null,null,null,null,null,null,null,0,0,0,"",""]
[240,null,{"$f":"IF(ISBLANK($B244),\"\",LOOKUP($B244,Inscriptions!A$2:A$65496,Inscriptions!B$2:B$65498))","v":""},{"$f":"IF(ISBLANK($B244),\"\",LOOKUP($B244,Inscriptions!A$2:A$65496,Inscriptions!C$2:C$65498))","v":""},{"$f":"IF(ISBLANK($B244),\"\",LOOKUP($B244,Inscriptions!A$2:A$65496,Inscriptions!D$2:D$65498))","v":""},null,null,null,null,null,null,null,null,0,0,0,"",""]
[241,null,{"$f":"IF(ISBLANK($B245),\"\",LOOKUP($B245,Inscriptions!A$2:A$65496,Inscriptions!B$2:B$65498))","v":""},{"$f":"IF(ISBLANK($B245),\"\",LOOKUP($B245,Inscriptions!A$2:A$65496,Inscriptions!C$2:C$65498))","v":""},{"$f":"IF(ISBLANK($B245),\"\",LOOKUP($B245,Inscriptions!A$2:A$65496,Inscriptions!D$2:D$65498))","v":""},null,null,null,null,null,null,null,null,0,0,0,"",""]
[242,null,{"$f":"IF(ISBLANK($B246),\"\",LOOKUP($B246,Inscriptions!A$2:A$65496,Inscriptions!B$2:B$65498))","v":""},{"$f":"IF(ISBLANK($B246),\"\",LOOKUP($B246,Inscriptions!A$2:A$65496,Inscriptions!C$2:C$65498))","v":""},{"$f":"IF(ISBLANK($B246),\"\",LOOKUP($B246,Inscriptions!A$2:A$65496,Inscriptions!D$2:D$65498))","v":""},null,null,null,null,null,null,null,null,0,0,0,"",""]
[243,null,{"$f":"IF(ISBLANK($B247),\"\",LOOKUP($B247,Inscriptions!A$2:A$65496,Inscriptions!B$2:B$65498))","v":""},{"$f":"IF(ISBLANK($B247),\"\",LOOKUP($B247,Inscriptions!A$2:A$65496,Inscriptions!C$2:C$65498))","v":""},{"$f":"IF(ISBLANK($B247),\"\",LOOKUP($B247,Inscriptions!A$2:A$65496,Inscriptions!D$2:D$65498))","v":""},null,null,null,null,null,null,null,null,0,0,0,"",""]
[244,null,{"$f":"IF(ISBLANK($B248),\"\",LOOKUP($B248,Inscriptions!A$2:A$65496,Inscriptions!B$2:B$65498))","v":""},{"$f":"IF(ISBLANK($B248),\"\",LOOKUP($B248,Inscriptions!A$2:A$65496,Inscriptions!C$2:C$65498))","v":""},{"$f":"IF(ISBLANK($B248),\"\",LOOKUP($B248,Inscriptions!A$2:A$65496,Inscriptions!D$2:D$65498))","v":""},null,null,null,null,null,null,null,null,0,0,0,"",""]
[245,null,{"$f":"IF(ISBLANK($B249),\"\",LOOKUP($B249,Inscriptions!A$2:A$65496,Inscriptions!B$2:B$65498))","v":""},{"$f":"IF(ISBLANK($B249),\"\",LOOKUP($B249,Inscriptions!A$2:A$65496,Inscriptions!C$2:C$65498))","v":""},{"$f":"IF(ISBLANK($B249),\"\",LOOKUP($B249,Inscriptions!A$2:A$65496,Inscriptions!D$2:D$65498))","v":""},null,null,null,null,null,null,null,null,0,0,0,"",""]
[246,null,{"$f":"IF(ISBLANK($B250),\"\",LOOKUP($B250,Inscriptions!A$2:A$65496,Inscriptions!B$2:B$65498))","v":""},{"$f":"IF(ISBLANK($B250),\"\",LOOKUP($B250,Inscriptions!A$2:A$65496,Inscriptions!C$2:C$65498))","v":""},{"$f":"IF(ISBLANK($B250),\"\",LOOKUP($B250,Inscriptions!A$2:A$65496,Inscriptions!D$2:D$65498))","v":""},null,null,null,null,null,null,null,null,0,0,0,"",""]
[247,null,{"$f":"IF(ISBLANK($B251),\"\",LOOKUP($B251,Inscriptions!A$2:A$65496,Inscriptions!B$2:B$65498))","v":""},{"$f":"IF(ISBLANK($B251),\"\",LOOKUP($B251,Inscriptions!A$2:A$65496,Inscriptions!C$2:C$65498))","v":""},{"$f":"IF(ISBLANK($B251),\"\",LOOKUP($B251,Inscriptions!A$2:A$65496,Inscriptions!D$2:D$65498))","v":""},null,null,null,null,null,null,null,null,0,0,0,"",""]
[248,null,{"$f":"IF(ISBLANK($B252),\"\",LOOKUP($B252,Inscriptions!A$2:A$65496,Inscriptions!B$2:B$65498))","v":""},{"$f":"IF(ISBLANK($B252),\"\",LOOKUP($B252,Inscriptions!A$2:A$65496,Inscriptions!C$2:C$65498))","v":""},{"$f":"IF(ISBLANK($B252),\"\",LOOKUP($B252,Inscriptions!A$2:A$65496,Inscriptions!D$2:D$65498))","v":""},null,null,null,null,null,null,null,null,0,0,0,"",""]
[249,null,{"$f":"IF(ISBLANK($B253),\"\",LOOKUP($B253,Inscriptions!A$2:A$65496,Inscriptions!B$2:B$65498))","v":""},{"$f":"IF(ISBLANK($B253),\"\",LOOKUP($B253,Inscriptions!A$2:A$65496,Inscriptions!C$2:C$65498))","v":""},{"$f":"IF(ISBLANK($B253),\"\",LOOKUP($B253,Inscriptions!A$2:A$65496,Inscriptions!D$2:D$65498))","v":""},null,null,null,null,null,null,null,null,0,0,0,"",""]
[250,null,{"$f":"IF(ISBLANK($B254),\"\",LOOKUP($B254,Inscriptions!A$2:A$65496,Inscriptions!B$2:B$65498))","v":""},{"$f":"IF(ISBLANK($B254),\"\",LOOKUP($B254,Inscriptions!A$2:A$65496,Inscriptions!C$2:C$65498))","v":""},{"$f":"IF(ISBLANK($B254),\"\",LOOKUP($B254,Inscriptions!A$2:A$65496,Inscriptions!D$2:D$65498))","v":""},null,null,null,null,null,null,null,null,0,0,0,"",""]
[251,null,{"$f":"IF(ISBLANK($B255),\"\",LOOKUP($B255,Inscriptions!A$2:A$65496,Inscriptions!B$2:B$65498))","v":""},{"$f":"IF(ISBLANK($B255),\"\",LOOKUP($B255,Inscriptions!A$2:A$65496,Inscriptions!C$2:C$65498))","v":""},{"$f":"IF(ISBLANK($B255),\"\",LOOKUP($B255,Inscriptions!A$2:A$65496,Inscriptions!D$2:D$65498))","v":""},null,null,null,null,null,null,null,null,0,0,0,"",""]
[252,null,{"$f":"IF(ISBLANK($B256),\"\",LOOKUP($B256,Inscriptions!A$2:A$65496,Inscriptions!B$2:B$65498))","v":""},{"$f":"IF(ISBLANK($B256),\"\",LOOKUP($B256,Inscriptions!A$2:A$65496,Inscriptions!C$2:C$65498))","v":""},{"$f":"IF(ISBLANK($B256),\"\",LOOKUP($B256,Inscriptions!A$2:A$65496,Inscriptions!D$2:D$65498))","v":""},null,null,null,null,null,null,null,null,0,0,0,"",""]
[253,null,{"$f":"IF(ISBLANK($B257),\"\",LOOKUP($B257,Inscriptions!A$2:A$65496,Inscriptions!B$2:B$65498))","v":""},{"$f":"IF(ISBLANK($B257),\"\",LOOKUP($B257,Inscriptions!A$2:A$65496,Inscriptions!C$2:C$65498))","v":""},{"$f":"IF(ISBLANK($B257),\"\",LOOKUP($B257,Inscriptions!A$2:A$65496,Inscriptions!D$2:D$65498))","v":""},null,null,null,null,null,null,null,null,0,0,0,"",""]
[254,null,{"$f":"IF(ISBLANK($B258),\"\",LOOKUP($B258,Inscriptions!A$2:A$65496,Inscriptions!B$2:B$65498))","v":""},{"$f":"IF(ISBLANK($B258),\"\",LOOKUP($B258,Inscriptions!A$2:A$65496,Inscriptions!C$2:C$65498))","v":""},{"$f":"IF(ISBLANK($B258),\"\",LOOKUP($B258,Inscriptions!A$2:A$65496,Inscriptions!D$2:D$65498))","v":""},null,null,null,null,null,null,null,null,0,0,0,"",""]
[255,null,{"$f":"IF(ISBLANK($B259),\"\",LOOKUP($B259,Inscriptions!A$2:A$65496,Inscriptions!B$2:B$65498))","v":""},{"$f":"IF(ISBLANK($B259),\"\",LOOKUP($B259,Inscriptions!A$2:A$65496,Inscriptions!C$2:C$65498))","v":""},{"$f":"IF(ISBLANK($B259),\"\",LOOKUP($B259,Inscriptions!A$2:A$65496,Inscriptions!D$2:D$65498))","v":""},null,null,null,null,null,null,null,null,0,0,0,"",""]
[256,null,{"$f":"IF(ISBLANK($B260),\"\",LOOKUP($B260,Inscriptions!A$2:A$65496,Inscriptions!B$2:B$65498))","v":""},{"$f":"IF(ISBLANK($B260),\"\",LOOKUP($B260,Inscriptions!A$2:A$65496,Inscriptions!C$2:C$65498))","v":""},{"$f":"IF(ISBLANK($B260),\"\",LOOKUP($B260,Inscriptions!A$2:A$65496,Inscriptions!D$2:D$65498))","v":""},null,null,null,null,null,null,null,null,0,0,0,"",""]
[257,null,{"$f":"IF(ISBLANK($B261),\"\",LOOKUP($B261,Inscriptions!A$2:A$65496,Inscriptions!B$2:B$65498))","v":""},{"$f":"IF(ISBLANK($B261),\"\",LOOKUP($B261,Inscriptions!A$2:A$65496,Inscriptions!C$2:C$65498))","v":""},{"$f":"IF(ISBLANK($B261),\"\",LOOKUP($B261,Inscriptions!A$2:A$65496,Inscriptions!D$2:D$65498))","v":""},null,null,null,null,null,null,null,null,0,0,0,"",""]
[258,null,{"$f":"IF(ISBLANK($B262),\"\",LOOKUP($B262,Inscriptions!A$2:A$65496,Inscriptions!B$2:B$65498))","v":""},{"$f":"IF(ISBLANK($B262),\"\",LOOKUP($B262,Inscriptions!A$2:A$65496,Inscriptions!C$2:C$65498))","v":""},{"$f":"IF(ISBLANK($B262),\"\",LOOKUP($B262,Inscriptions!A$2:A$65496,Inscriptions!D$2:D$65498))","v":""},null,null,null,null,null,null,null,null,{"$f":"ROUNDDOWN(M262/10000,0)","v":0},{"$f":"ROUNDDOWN((M262-N262*10000)/100,0)","v":0},{"$f":"ROUNDDOWN((M262-(N262*10000)-(O262*100)),0)","v":0},{"$f":"IF((N262+O262+P262)=0,\"\",ROUNDDOWN((Q$4/((N262*3600)+(O262*60)+P262))*3.6,2))","v":""},{"$f":"IF(Q262=\"\",\"\",\"km/h\")","v":""}]
[259,null,{"$f":"IF(ISBLANK($B263),\"\",LOOKUP($B263,Inscriptions!A$2:A$65496,Inscriptions!B$2:B$65498))","v":""},{"$f":"IF(ISBLANK($B263),\"\",LOOKUP($B263,Inscriptions!A$2:A$65496,Inscriptions!C$2:C$65498))","v":""},{"$f":"IF(ISBLANK($B263),\"\",LOOKUP($B263,Inscriptions!A$2:A$65496,Inscriptions!D$2:D$65498))","v":""},null,null,null,null,null,null,null,null,0,0,0,"",""]
[260,null,{"$f":"IF(ISBLANK($B264),\"\",LOOKUP($B264,Inscriptions!A$2:A$65496,Inscriptions!B$2:B$65498))","v":""},{"$f":"IF(ISBLANK($B264),\"\",LOOKUP($B264,Inscriptions!A$2:A$65496,Inscriptions!C$2:C$65498))","v":""},{"$f":"IF(ISBLANK($B264),\"\",LOOKUP($B264,Inscriptions!A$2:A$65496,Inscriptions!D$2:D$65498))","v":""},null,null,null,null,null,null,null,null,0,0,0,"",""]
[261,null,{"$f":"IF(ISBLANK($B265),\"\",LOOKUP($B265,Inscriptions!A$2:A$65496,Inscriptions!B$2:B$65498))","v":""},{"$f":"IF(ISBLANK($B265),\"\",LOOKUP($B265,Inscriptions!A$2:A$65496,Inscriptions!C$2:C$65498))","v":""},{"$f":"IF(ISBLANK($B265),\"\",LOOKUP($B265,Inscriptions!A$2:A$65496,Inscriptions!D$2:D$65498))","v":""},null,null,null,null,null,null,null,null,0,0,0,"",""]
[262,null,{"$f":"IF(ISBLANK($B266),\"\",LOOKUP($B266,Inscriptions!A$2:A$65496,Inscriptions!B$2:B$65498))","v":""},{"$f":"IF(ISBLANK($B266),\"\",LOOKUP($B266,Inscriptions!A$2:A$65496,Inscriptions!C$2:C$65498))","v":""},{"$f":"IF(ISBLANK($B266),\"\",LOOKUP($B266,Inscriptions!A$2:A$65496,Inscriptions!D$2:D$65498))","v":""},null,null,null,null,null,null,null,null,0,0,0,"",""]
[263,null,{"$f":"IF(ISBLANK($B267),\"\",LOOKUP($B267,Inscriptions!A$2:A$65496,Inscriptions!B$2:B$65498))","v":""},{"$f":"IF(ISBLANK($B267),\"\",LOOKUP($B267,Inscriptions!A$2:A$65496,Inscriptions!C$2:C$65498))","v":""},{"$f":"IF(ISBLANK($B267),\"\",LOOKUP($B267,Inscriptions!A$2:A$65496,Inscriptions!D$2:D$65498))","v":""},null,null,null,null,null,null,null,null,0,0,0,"",""]
[264,null,{"$f":"IF(ISBLANK($B268),\"\",LOOKUP($B268,Inscriptions!A$2:A$65496,Inscriptions!B$2:B$65498))","v":""},{"$f":"IF(ISBLANK($B268),\"\",LOOKUP($B268,Inscriptions!A$2:A$65496,Inscriptions!C$2:C$65498))","v":""},{"$f":"IF(ISBLANK($B268),\"\",LOOKUP($B268,Inscriptions!A$2:A$65496,Inscriptions!D$2:D$65498))","v":""},null,null,null,null,null,null,null,null,0,0,0,"",""]
[265,null,{"$f":"IF(ISBLANK($B269),\"\",LOOKUP($B269,Inscriptions!A$2:A$65496,Inscriptions!B$2:B$65498))","v":""},{"$f":"IF(ISBLANK($B269),\"\",LOOKUP($B269,Inscriptions!A$2:A$65496,Inscriptions!C$2:C$65498))","v":""},{"$f":"IF(ISBLANK($B269),\"\",LOOKUP($B269,Inscriptions!A$2:A$65496,Inscriptions!D$2:D$65498))","v":""},null,null,null,null,null,null,null,null,0,0,0,"",""]
[266,null,{"$f":"IF(ISBLANK($B270),\"\",LOOKUP($B270,Inscriptions!A$2:A$65496,Inscriptions!B$2:B$65498))","v":""},{"$f":"IF(ISBLANK($B270),\"\",LOOKUP($B270,Inscriptions!A$2:A$65496,Inscriptions!C$2:C$65498))","v":""},{"$f":"IF(ISBLANK($B270),\"\",LOOKUP($B270,Inscriptions!A$2:A$65496,Inscriptions!D$2:D$65498))","v":""},null,null,null,null,null,null,null,null,0,0,0,"",""]
[267,null,{"$f":"IF(ISBLANK($B271),\"\",LOOKUP($B271,Inscriptions!A$2:A$65496,Inscriptions!B$2:B$65498))","v":""},{"$f":"IF(ISBLANK($B271),\"\",LOOKUP($B271,Inscriptions!A$2:A$65496,Inscriptions!C$2:C$65498))","v":""},{"$f":"IF(ISBLANK($B271),\"\",LOOKUP($B271,Inscriptions!A$2:A$65496,Inscriptions!D$2:D$65498))","v":""},null,null,null,null,null,null,null,null,0,0,0,"",""]
[268,null,{"$f":"IF(ISBLANK($B272),\"\",LOOKUP($B272,Inscriptions!A$2:A$65496,Inscriptions!B$2:B$65498))","v":""},{"$f":"IF(ISBLANK($B272),\"\",LOOKUP($B272,Inscriptions!A$2:A$65496,Inscriptions!C$2:C$65498))","v":""},{"$f":"IF(ISBLANK($B272),\"\",LOOKUP($B272,Inscriptions!A$2:A$65496,Inscriptions!D$2:D$65498))","v":""},null,null,null,null,null,null,null,null,0,0,0,"",""]
[269,null,{"$f":"IF(ISBLANK($B273),\"\",LOOKUP($B273,Inscriptions!A$2:A$65496,Inscriptions!B$2:B$65498))","v":""},{"$f":"IF(ISBLANK($B273),\"\",LOOKUP($B273,Inscriptions!A$2:A$65496,Inscriptions!C$2:C$65498))","v":""},{"$f":"IF(ISBLANK($B273),\"\",LOOKUP($B273,Inscriptions!A$2:A$65496,Inscriptions!D$2:D$65498))","v":""},null,null,null,null,null,null,null,null,0,0,0,"",""]
[270,null,{"$f":"IF(ISBLANK($B274),\"\",LOOKUP($B274,Inscriptions!A$2:A$65496,Inscriptions!B$2:B$65498))","v":""},{"$f":"IF(ISBLANK($B274),\"\",LOOKUP($B274,Inscriptions!A$2:A$65496,Inscriptions!C$2:C$65498))","v":""},{"$f":"IF(ISBLANK($B274),\"\",LOOKUP($B274,Inscriptions!A$2:A$65496,Inscriptions!D$2:D$65498))","v":""},null,null,null,null,null,null,null,null,0,0,0,"",""]
[271,null,{"$f":"IF(ISBLANK($B275),\"\",LOOKUP($B275,Inscriptions!A$2:A$65496,Inscriptions!B$2:B$65498))","v":""},{"$f":"IF(ISBLANK($B275),\"\",LOOKUP($B275,Inscriptions!A$2:A$65496,Inscriptions!C$2:C$65498))","v":""},{"$f":"IF(ISBLANK($B275),\"\",LOOKUP($B275,Inscriptions!A$2:A$65496,Inscriptions!D$2:D$65498))","v":""},null,null,null,null,null,null,null,null,0,0,0,"",""]
[272,null,{"$f":"IF(ISBLANK($B276),\"\",LOOKUP($B276,Inscriptions!A$2:A$65496,Inscriptions!B$2:B$65498))","v":""},{"$f":"IF(ISBLANK($B276),\"\",LOOKUP($B276,Inscriptions!A$2:A$65496,Inscriptions!C$2:C$65498))","v":""},{"$f":"IF(ISBLANK($B276),\"\",LOOKUP($B276,Inscriptions!A$2:A$65496,Inscriptions!D$2:D$65498))","v":""},null,null,null,null,null,null,null,null,0,0,0,"",""]
[273,null,{"$f":"IF(ISBLANK($B277),\"\",LOOKUP($B277,Inscriptions!A$2:A$65496,Inscriptions!B$2:B$65498))","v":""},{"$f":"IF(ISBLANK($B277),\"\",LOOKUP($B277,Inscriptions!A$2:A$65496,Inscriptions!C$2:C$65498))","v":""},{"$f":"IF(ISBLANK($B277),\"\",LOOKUP($B277,Inscriptions!A$2:A$65496,Inscriptions!D$2:D$65498))","v":""},null,null,null,null,null,null,null,null,0,0,0,"",""]
[274,null,{"$f":"IF(ISBLANK($B278),\"\",LOOKUP($B278,Inscriptions!A$2:A$65496,Inscriptions!B$2:B$65498))","v":""},{"$f":"IF(ISBLANK($B278),\"\",LOOKUP($B278,Inscriptions!A$2:A$65496,Inscriptions!C$2:C$65498))","v":""},{"$f":"IF(ISBLANK($B278),\"\",LOOKUP($B278,Inscriptions!A$2:A$65496,Inscriptions!D$2:D$65498))","v":""},null,null,null,null,null,null,null,null,0,0,0,"",""]
[275,null,{"$f":"IF(ISBLANK($B279),\"\",LOOKUP($B279,Inscriptions!A$2:A$65496,Inscriptions!B$2:B$65498))","v":""},{"$f":"IF(ISBLANK($B279),\"\",LOOKUP($B279,Inscriptions!A$2:A$65496,Inscriptions!C$2:C$65498))","v":""},{"$f":"IF(ISBLANK($B279),\"\",LOOKUP($B279,Inscriptions!A$2:A$65496,Inscriptions!D$2:D$65498))","v":""},null,null,null,null,null,null,null,null,0,0,0,"",""]
[276,null,{"$f":"IF(ISBLANK($B280),\"\",LOOKUP($B280,Inscriptions!A$2:A$65496,Inscriptions!B$2:B$65498))","v":""},{"$f":"IF(ISBLANK($B280),\"\",LOOKUP($B280,Inscriptions!A$2:A$65496,Inscriptions!C$2:C$65498))","v":""},{"$f":"IF(ISBLANK($B280),\"\",LOOKUP($B280,Inscriptions!A$2:A$65496,Inscriptions!D$2:D$65498))","v":""},null,null,null,null,null,null,null,null,0,0,0,"",""]
[277,null,{"$f":"IF(ISBLANK($B281),\"\",LOOKUP($B281,Inscriptions!A$2:A$65496,Inscriptions!B$2:B$65498))","v":""},{"$f":"IF(ISBLANK($B281),\"\",LOOKUP($B281,Inscriptions!A$2:A$65496,Inscriptions!C$2:C$65498))","v":""},{"$f":"IF(ISBLANK($B281),\"\",LOOKUP($B281,Inscriptions!A$2:A$65496,Inscriptions!D$2:D$65498))","v":""},null,null,null,null,null,null,null,null,0,0,0,"",""]
[278,null,{"$f":"IF(ISBLANK($B282),\"\",LOOKUP($B282,Inscriptions!A$2:A$65496,Inscriptions!B$2:B$65498))","v":""},{"$f":"IF(ISBLANK($B282),\"\",LOOKUP($B282,Inscriptions!A$2:A$65496,Inscriptions!C$2:C$65498))","v":""},{"$f":"IF(ISBLANK($B282),\"\",LOOKUP($B282,Inscriptions!A$2:A$65496,Inscriptions!D$2:D$65498))","v":""},null,null,null,null,null,null,null,null,0,0,0,"",""]
[279,null,{"$f":"IF(ISBLANK($B283),\"\",LOOKUP($B283,Inscriptions!A$2:A$65496,Inscriptions!B$2:B$65498))","v":""},{"$f":"IF(ISBLANK($B283),\"\",LOOKUP($B283,Inscriptions!A$2:A$65496,Inscriptions!C$2:C$65498))","v":""},{"$f":"IF(ISBLANK($B283),\"\",LOOKUP($B283,Inscriptions!A$2:A$65496,Inscriptions!D$2:D$65498))","v":""},null,null,null,null,null,null,null,null,0,0,0,"",""]
[280,null,{"$f":"IF(ISBLANK($B284),\"\",LOOKUP($B284,Inscriptions!A$2:A$65496,Inscriptions!B$2:B$65498))","v":""},{"$f":"IF(ISBLANK($B284),\"\",LOOKUP($B284,Inscriptions!A$2:A$65496,Inscriptions!C$2:C$65498))","v":""},{"$f":"IF(ISBLANK($B284),\"\",LOOKUP($B284,Inscriptions!A$2:A$65496,Inscriptions!D$2:D$65498))","v":""},null,null,null,null,null,null,null,null,0,0,0,"",""]
[281,null,{"$f":"IF(ISBLANK($B285),\"\",LOOKUP($B285,Inscriptions!A$2:A$65496,Inscriptions!B$2:B$65498))","v":""},{"$f":"IF(ISBLANK($B285),\"\",LOOKUP($B285,Inscriptions!A$2:A$65496,Inscriptions!C$2:C$65498))","v":""},{"$f":"IF(ISBLANK($B285),\"\",LOOKUP($B285,Inscriptions!A$2:A$65496,Inscriptions!D$2:D$65498))","v":""},null,null,null,null,null,null,null,null,0,0,0,"",""]
[282,null,{"$f":"IF(ISBLANK($B286),\"\",LOOKUP($B286,Inscriptions!A$2:A$65496,Inscriptions!B$2:B$65498))","v":""},{"$f":"IF(ISBLANK($B286),\"\",LOOKUP($B286,Inscriptions!A$2:A$65496,Inscriptions!C$2:C$65498))","v":""},{"$f":"IF(ISBLANK($B286),\"\",LOOKUP($B286,Inscriptions!A$2:A$65496,Inscriptions!D$2:D$65498))","v":""},null,null,null,null,null,null,null,null,0,0,0,"",""]
[283,null,{"$f":"IF(ISBLANK($B287),\"\",LOOKUP($B287,Inscriptions!A$2:A$65496,Inscriptions!B$2:B$65498))","v":""},{"$f":"IF(ISBLANK($B287),\"\",LOOKUP($B287,Inscriptions!A$2:A$65496,Inscriptions!C$2:C$65498))","v":""},{"$f":"IF(ISBLANK($B287),\"\",LOOKUP($B287,Inscriptions!A$2:A$65496,Inscriptions!D$2:D$65498))","v":""},null,null,null,null,null,null,null,null,0,0,0,"",""]
[284,null,{"$f":"IF(ISBLANK($B288),\"\",LOOKUP($B288,Inscriptions!A$2:A$65496,Inscriptions!B$2:B$65498))","v":""},{"$f":"IF(ISBLANK($B288),\"\",LOOKUP($B288,Inscriptions!A$2:A$65496,Inscriptions!C$2:C$65498))","v":""},{"$f":"IF(ISBLANK($B288),\"\",LOOKUP($B288,Inscriptions!A$2:A$65496,Inscriptions!D$2:D$65498))","v":""},null,null,null,null,null,null,null,null,0,0,0,"",""]
[285,null,{"$f":"IF(ISBLANK($B289),\"\",LOOKUP($B289,Inscriptions!A$2:A$65496,Inscriptions!B$2:B$65498))","v":""},{"$f":"IF(ISBLANK($B289),\"\",LOOKUP($B289,Inscriptions!A$2:A$65496,Inscriptions!C$2:C$65498))","v":""},{"$f":"IF(ISBLANK($B289),\"\",LOOKUP($B289,Inscriptions!A$2:A$65496,Inscriptions!D$2:D$65498))","v":""},null,null,null,null,null,null,null,null,0,0,0,"",""]
[286,null,{"$f":"IF(ISBLANK($B290),\"\",LOOKUP($B290,Inscriptions!A$2:A$65496,Inscriptions!B$2:B$65498))","v":""},{"$f":"IF(ISBLANK($B290),\"\",LOOKUP($B290,Inscriptions!A$2:A$65496,Inscriptions!C$2:C$65498))","v":""},{"$f":"IF(ISBLANK($B290),\"\",LOOKUP($B290,Inscriptions!A$2:A$65496,Inscriptions!D$2:D$65498))","v":""},null,null,null,null,null,null,null,null,0,0,0,"",""]
[287,null,{"$f":"IF(ISBLANK($B291),\"\",LOOKUP($B291,Inscriptions!A$2:A$65496,Inscriptions!B$2:B$65498))","v":""},{"$f":"IF(ISBLANK($B291),\"\",LOOKUP($B291,Inscriptions!A$2:A$65496,Inscriptions!C$2:C$65498))","v":""},{"$f":"IF(ISBLANK($B291),\"\",LOOKUP($B291,Inscriptions!A$2:A$65496,Inscriptions!D$2:D$65498))","v":""},null,null,null,null,null,null,null,null,0,0,0,"",""]
[288,null,{"$f":"IF(ISBLANK($B292),\"\",LOOKUP($B292,Inscriptions!A$2:A$65496,Inscriptions!B$2:B$65498))","v":""},{"$f":"IF(ISBLANK($B292),\"\",LOOKUP($B292,Inscriptions!A$2:A$65496,Inscriptions!C$2:C$65498))","v":""},{"$f":"IF(ISBLANK($B292),\"\",LOOKUP($B292,Inscriptions!A$2:A$65496,Inscriptions!D$2:D$65498))","v":""},null,null,null,null,null,null,null,null,0,0,0,"",""]
[289,null,{"$f":"IF(ISBLANK($B293),\"\",LOOKUP($B293,Inscriptions!A$2:A$65496,Inscriptions!B$2:B$65498))","v":""},{"$f":"IF(ISBLANK($B293),\"\",LOOKUP($B293,Inscriptions!A$2:A$65496,Inscriptions!C$2:C$65498))","v":""},{"$f":"IF(ISBLANK($B293),\"\",LOOKUP($B293,Inscriptions!A$2:A$65496,Inscriptions!D$2:D$65498))","v":""},null,null,null,null,null,null,null,null,0,0,0,"",""]
[290,null,{"$f":"IF(ISBLANK($B294),\"\",LOOKUP($B294,Inscriptions!A$2:A$65496,Inscriptions!B$2:B$65498))","v":""},{"$f":"IF(ISBLANK($B294),\"\",LOOKUP($B294,Inscriptions!A$2:A$65496,Inscriptions!C$2:C$65498))","v":""},{"$f":"IF(ISBLANK($B294),\"\",LOOKUP($B294,Inscriptions!A$2:A$65496,Inscriptions!D$2:D$65498))","v":""},null,null,null,null,null,null,null,null,0,0,0,"",""]
[291,null,{"$f":"IF(ISBLANK($B295),\"\",LOOKUP($B295,Inscriptions!A$2:A$65496,Inscriptions!B$2:B$65498))","v":""},{"$f":"IF(ISBLANK($B295),\"\",LOOKUP($B295,Inscriptions!A$2:A$65496,Inscriptions!C$2:C$65498))","v":""},{"$f":"IF(ISBLANK($B295),\"\",LOOKUP($B295,Inscriptions!A$2:A$65496,Inscriptions!D$2:D$65498))","v":""},null,null,null,null,null,null,null,null,0,0,0,"",""]
[292,null,{"$f":"IF(ISBLANK($B296),\"\",LOOKUP($B296,Inscriptions!A$2:A$65496,Inscriptions!B$2:B$65498))","v":""},{"$f":"IF(ISBLANK($B296),\"\",LOOKUP($B296,Inscriptions!A$2:A$65496,Inscriptions!C$2:C$65498))","v":""},{"$f":"IF(ISBLANK($B296),\"\",LOOKUP($B296,Inscriptions!A$2:A$65496,Inscriptions!D$2:D$65498))","v":""},null,null,null,null,null,null,null,null,0,0,0,"",""]
[293,null,{"$f":"IF(ISBLANK($B297),\"\",LOOKUP($B297,Inscriptions!A$2:A$65496,Inscriptions!B$2:B$65498))","v":""},{"$f":"IF(ISBLANK($B297),\"\",LOOKUP($B297,Inscriptions!A$2:A$65496,Inscriptions!C$2:C$65498))","v":""},{"$f":"IF(ISBLANK($B297),\"\",LOOKUP($B297,Inscriptions!A$2:A$65496,Inscriptions!D$2:D$65498))","v":""},null,null,null,null,null,null,null,null,0,0,0,"",""]
[294,null,{"$f":"IF(ISBLANK($B298),\"\",LOOKUP($B298,Inscriptions!A$2:A$65496,Inscriptions!B$2:B$65498))","v":""},{"$f":"IF(ISBLANK($B298),\"\",LOOKUP($B298,Inscriptions!A$2:A$65496,Inscriptions!C$2:C$65498))","v":""},{"$f":"IF(ISBLANK($B298),\"\",LOOKUP($B298,Inscriptions!A$2:A$65496,Inscriptions!D$2:D$65498))","v":""},null,null,null,null,null,null,null,null,0,0,0,"",""]
[295,null,{"$f":"IF(ISBLANK($B299),\"\",LOOKUP($B299,Inscriptions!A$2:A$65496,Inscriptions!B$2:B$65498))","v":""},{"$f":"IF(ISBLANK($B299),\"\",LOOKUP($B299,Inscriptions!A$2:A$65496,Inscriptions!C$2:C$65498))","v":""},{"$f":"IF(ISBLANK($B299),\"\",LOOKUP($B299,Inscriptions!A$2:A$65496,Inscriptions!D$2:D$65498))","v":""},null,null,null,null,null,null,null,null,0,0,0,"",""]
[296,null,{"$f":"IF(ISBLANK($B300),\"\",LOOKUP($B300,Inscriptions!A$2:A$65496,Inscriptions!B$2:B$65498))","v":""},{"$f":"IF(ISBLANK($B300),\"\",LOOKUP($B300,Inscriptions!A$2:A$65496,Inscriptions!C$2:C$65498))","v":""},{"$f":"IF(ISBLANK($B300),\"\",LOOKUP($B300,Inscriptions!A$2:A$65496,Inscriptions!D$2:D$65498))","v":""},null,null,null,null,null,null,null,null,0,0,0,"",""]
[297,null,{"$f":"IF(ISBLANK($B301),\"\",LOOKUP($B301,Inscriptions!A$2:A$65496,Inscriptions!B$2:B$65498))","v":""},{"$f":"IF(ISBLANK($B301),\"\",LOOKUP($B301,Inscriptions!A$2:A$65496,Inscriptions!C$2:C$65498))","v":""},{"$f":"IF(ISBLANK($B301),\"\",LOOKUP($B301,Inscriptions!A$2:A$65496,Inscriptions!D$2:D$65498))","v":""},null,null,null,null,null,null,null,null,0,0,0,"",""]
[298,null,{"$f":"IF(ISBLANK($B302),\"\",LOOKUP($B302,Inscriptions!A$2:A$65496,Inscriptions!B$2:B$65498))","v":""},{"$f":"IF(ISBLANK($B302),\"\",LOOKUP($B302,Inscriptions!A$2:A$65496,Inscriptions!C$2:C$65498))","v":""},{"$f":"IF(ISBLANK($B302),\"\",LOOKUP($B302,Inscriptions!A$2:A$65496,Inscriptions!D$2:D$65498))","v":""},null,null,null,null,null,null,null,null,null,null,null,"",""]
[299,null,{"$f":"IF(ISBLANK($B303),\"\",LOOKUP($B303,Inscriptions!A$2:A$65496,Inscriptions!B$2:B$65498))","v":""},{"$f":"IF(ISBLANK($B303),\"\",LOOKUP($B303,Inscriptions!A$2:A$65496,Inscriptions!C$2:C$65498))","v":""},{"$f":"IF(ISBLANK($B303),\"\",LOOKUP($B303,Inscriptions!A$2:A$65496,Inscriptions!D$2:D$65498))","v":""},null,null,null,null,null,null,null,null,null,null,null,"",""]
[300,null,{"$f":"IF(ISBLANK($B304),\"\",LOOKUP($B304,Inscriptions!A$2:A$65496,Inscriptions!B$2:B$65498))","v":""},{"$f":"IF(ISBLANK($B304),\"\",LOOKUP($B304,Inscriptions!A$2:A$65496,Inscriptions!C$2:C$65498))","v":""},{"$f":"IF(ISBLANK($B304),\"\",LOOKUP($B304,Inscriptions!A$2:A$65496,Inscriptions!D$2:D$65498))","v":""},null,null,null,null,null,null,null,null,null,null,null,"",""]
[301,null,{"$f":"IF(ISBLANK($B305),\"\",LOOKUP($B305,Inscriptions!A$2:A$65496,Inscriptions!B$2:B$65498))","v":""},{"$f":"IF(ISBLANK($B305),\"\",LOOKUP($B305,Inscriptions!A$2:A$65496,Inscriptions!C$2:C$65498))","v":""},{"$f":"IF(ISBLANK($B305),\"\",LOOKUP($B305,Inscriptions!A$2:A$65496,Inscriptions!D$2:D$65498))","v":""},null,null,null,null,null,null,null,null,null,null,null,"",""]
[302,null,{"$f":"IF(ISBLANK($B306),\"\",LOOKUP($B306,Inscriptions!A$2:A$65496,Inscriptions!B$2:B$65498))","v":""},{"$f":"IF(ISBLANK($B306),\"\",LOOKUP($B306,Inscriptions!A$2:A$65496,Inscriptions!C$2:C$65498))","v":""},{"$f":"IF(ISBLANK($B306),\"\",LOOKUP($B306,Inscriptions!A$2:A$65496,Inscriptions!D$2:D$65498))","v":""},null,null,null,null,null,null,null,null,null,null,null,"",""]
[303,null,{"$f":"IF(ISBLANK($B307),\"\",LOOKUP($B307,Inscriptions!A$2:A$65496,Inscriptions!B$2:B$65498))","v":""},{"$f":"IF(ISBLANK($B307),\"\",LOOKUP($B307,Inscriptions!A$2:A$65496,Inscriptions!C$2:C$65498))","v":""},{"$f":"IF(ISBLANK($B307),\"\",LOOKUP($B307,Inscriptions!A$2:A$65496,Inscriptions!D$2:D$65498))","v":""},null,null,null,null,null,null,null,null,null,null,null,"",""]
[304,null,{"$f":"IF(ISBLANK($B308),\"\",LOOKUP($B308,Inscriptions!A$2:A$65496,Inscriptions!B$2:B$65498))","v":""},{"$f":"IF(ISBLANK($B308),\"\",LOOKUP($B308,Inscriptions!A$2:A$65496,Inscriptions!C$2:C$65498))","v":""},{"$f":"IF(ISBLANK($B308),\"\",LOOKUP($B308,Inscriptions!A$2:A$65496,Inscriptions!D$2:D$65498))","v":""},null,null,null,null,null,null,null,null,null,null,null,"",""]
[305,null,{"$f":"IF(ISBLANK($B309),\"\",LOOKUP($B309,Inscriptions!A$2:A$65496,Inscriptions!B$2:B$65498))","v":""},{"$f":"IF(ISBLANK($B309),\"\",LOOKUP($B309,Inscriptions!A$2:A$65496,Inscriptions!C$2:C$65498))","v":""},{"$f":"IF(ISBLANK($B309),\"\",LOOKUP($B309,Inscriptions!A$2:A$65496,Inscriptions!D$2:D$65498))","v":""},null,null,null,null,null,null,null,null,null,null,null,"",""]
[306,null,{"$f":"IF(ISBLANK($B310),\"\",LOOKUP($B310,Inscriptions!A$2:A$65496,Inscriptions!B$2:B$65498))","v":""},{"$f":"IF(ISBLANK($B310),\"\",LOOKUP($B310,Inscriptions!A$2:A$65496,Inscriptions!C$2:C$65498))","v":""},{"$f":"IF(ISBLANK($B310),\"\",LOOKUP($B310,Inscriptions!A$2:A$65496,Inscriptions!D$2:D$65498))","v":""},null,null,null,null,null,null,null,null,null,null,null,"",""]
[307,null,{"$f":"IF(ISBLANK($B311),\"\",LOOKUP($B311,Inscriptions!A$2:A$65496,Inscriptions!B$2:B$65498))","v":""},{"$f":"IF(ISBLANK($B311),\"\",LOOKUP($B311,Inscriptions!A$2:A$65496,Inscriptions!C$2:C$65498))","v":""},{"$f":"IF(ISBLANK($B311),\"\",LOOKUP($B311,Inscriptions!A$2:A$65496,Inscriptions!D$2:D$65498))","v":""},null,null,null,null,null,null,null,null,null,null,null,"",""]
[308,null,{"$f":"IF(ISBLANK($B312),\"\",LOOKUP($B312,Inscriptions!A$2:A$65496,Inscriptions!B$2:B$65498))","v":""},{"$f":"IF(ISBLANK($B312),\"\",LOOKUP($B312,Inscriptions!A$2:A$65496,Inscriptions!C$2:C$65498))","v":""},{"$f":"IF(ISBLANK($B312),\"\",LOOKUP($B312,Inscriptions!A$2:A$65496,Inscriptions!D$2:D$65498))","v":""},null,null,null,null,null,null,null,null,null,null,null,"",""]
[309,null,{"$f":"IF(ISBLANK($B313),\"\",LOOKUP($B313,Inscriptions!A$2:A$65496,Inscriptions!B$2:B$65498))","v":""},{"$f":"IF(ISBLANK($B313),\"\",LOOKUP($B313,Inscriptions!A$2:A$65496,Inscriptions!C$2:C$65498))","v":""},{"$f":"IF(ISBLANK($B313),\"\",LOOKUP($B313,Inscriptions!A$2:A$65496,Inscriptions!D$2:D$65498))","v":""},null,null,null,null,null,null,null,null,null,null,null,"",""]
[310,null,{"$f":"IF(ISBLANK($B314),\"\",LOOKUP($B314,Inscriptions!A$2:A$65496,Inscriptions!B$2:B$65498))","v":""},{"$f":"IF(ISBLANK($B314),\"\",LOOKUP($B314,Inscriptions!A$2:A$65496,Inscriptions!C$2:C$65498))","v":""},{"$f":"IF(ISBLANK($B314),\"\",LOOKUP($B314,Inscriptions!A$2:A$65496,Inscriptions!D$2:D$65498))","v":""},null,null,null,null,null,null,null,null,null,null,null,"",""]
[311,null,{"$f":"IF(ISBLANK($B315),\"\",LOOKUP($B315,Inscriptions!A$2:A$65496,Inscriptions!B$2:B$65498))","v":""},{"$f":"IF(ISBLANK($B315),\"\",LOOKUP($B315,Inscriptions!A$2:A$65496,Inscriptions!C$2:C$65498))","v":""},{"$f":"IF(ISBLANK($B315),\"\",LOOKUP($B315,Inscriptions!A$2:A$65496,Inscriptions!D$2:D$65498))","v":""},null,null,null,null,null,null,null,null,null,null,null,"",""]
[312,null,{"$f":"IF(ISBLANK($B316),\"\",LOOKUP($B316,Inscriptions!A$2:A$65496,Inscriptions!B$2:B$65498))","v":""},{"$f":"IF(ISBLANK($B316),\"\",LOOKUP($B316,Inscriptions!A$2:A$65496,Inscriptions!C$2:C$65498))","v":""},{"$f":"IF(ISBLANK($B316),\"\",LOOKUP($B316,Inscriptions!A$2:A$65496,Inscriptions!D$2:D$65498))","v":""},null,null,null,null,null,null,null,null,null,null,null,"",""]
[313,null,{"$f":"IF(ISBLANK($B317),\"\",LOOKUP($B317,Inscriptions!A$2:A$65496,Inscriptions!B$2:B$65498))","v":""},{"$f":"IF(ISBLANK($B317),\"\",LOOKUP($B317,Inscriptions!A$2:A$65496,Inscriptions!C$2:C$65498))","v":""},{"$f":"IF(ISBLANK($B317),\"\",LOOKUP($B317,Inscriptions!A$2:A$65496,Inscriptions!D$2:D$65498))","v":""},null,null,null,null,null,null,null,null,null,null,null,"",""]
[314,null,{"$f":"IF(ISBLANK($B318),\"\",LOOKUP($B318,Inscriptions!A$2:A$65496,Inscriptions!B$2:B$65498))","v":""},{"$f":"IF(ISBLANK($B318),\"\",LOOKUP($B318,Inscriptions!A$2:A$65496,Inscriptions!C$2:C$65498))","v":""},{"$f":"IF(ISBLANK($B318),\"\",LOOKUP($B318,Inscriptions!A$2:A$65496,Inscriptions!D$2:D$65498))","v":""},null,null,null,null,null,null,null,null,null,null,null,"",""]
[315,null,{"$f":"IF(ISBLANK($B319),\"\",LOOKUP($B319,Inscriptions!A$2:A$65496,Inscriptions!B$2:B$65498))","v":""},{"$f":"IF(ISBLANK($B319),\"\",LOOKUP($B319,Inscriptions!A$2:A$65496,Inscriptions!C$2:C$65498))","v":""},{"$f":"IF(ISBLANK($B319),\"\",LOOKUP($B319,Inscriptions!A$2:A$65496,Inscriptions!D$2:D$65498))","v":""},null,null,null,null,null,null,null,null,null,null,null,"",""]
[316,null,{"$f":"IF(ISBLANK($B320),\"\",LOOKUP($B320,Inscriptions!A$2:A$65496,Inscriptions!B$2:B$65498))","v":""},{"$f":"IF(ISBLANK($B320),\"\",LOOKUP($B320,Inscriptions!A$2:A$65496,Inscriptions!C$2:C$65498))","v":""},{"$f":"IF(ISBLANK($B320),\"\",LOOKUP($B320,Inscriptions!A$2:A$65496,Inscriptions!D$2:D$65498))","v":""},null,null,null,null,null,null,null,null,null,null,null,"",""]
[317,null,{"$f":"IF(ISBLANK($B321),\"\",LOOKUP($B321,Inscriptions!A$2:A$65496,Inscriptions!B$2:B$65498))","v":""},{"$f":"IF(ISBLANK($B321),\"\",LOOKUP($B321,Inscriptions!A$2:A$65496,Inscriptions!C$2:C$65498))","v":""},{"$f":"IF(ISBLANK($B321),\"\",LOOKUP($B321,Inscriptions!A$2:A$65496,Inscriptions!D$2:D$65498))","v":""},null,null,null,null,null,null,null,null,null,null,null,"",""]
[318,null,{"$f":"IF(ISBLANK($B322),\"\",LOOKUP($B322,Inscriptions!A$2:A$65496,Inscriptions!B$2:B$65498))","v":""},{"$f":"IF(ISBLANK($B322),\"\",LOOKUP($B322,Inscriptions!A$2:A$65496,Inscriptions!C$2:C$65498))","v":""},{"$f":"IF(ISBLANK($B322),\"\",LOOKUP($B322,Inscriptions!A$2:A$65496,Inscriptions!D$2:D$65498))","v":""},null,null,null,null,null,null,null,null,null,null,null,"",""]
[319,null,{"$f":"IF(ISBLANK($B323),\"\",LOOKUP($B323,Inscriptions!A$2:A$65496,Inscriptions!B$2:B$65498))","v":""},{"$f":"IF(ISBLANK($B323),\"\",LOOKUP($B323,Inscriptions!A$2:A$65496,Inscriptions!C$2:C$65498))","v":""},{"$f":"IF(ISBLANK($B323),\"\",LOOKUP($B323,Inscriptions!A$2:A$65496,Inscriptions!D$2:D$65498))","v":""},null,null,null,null,null,null,null,null,null,null,null,"",""]
[320,null,{"$f":"IF(ISBLANK($B324),\"\",LOOKUP($B324,Inscriptions!A$2:A$65496,Inscriptions!B$2:B$65498))","v":""},{"$f":"IF(ISBLANK($B324),\"\",LOOKUP($B324,Inscriptions!A$2:A$65496,Inscriptions!C$2:C$65498))","v":""},{"$f":"IF(ISBLANK($B324),\"\",LOOKUP($B324,Inscriptions!A$2:A$65496,Inscriptions!D$2:D$65498))","v":""},null,null,null,null,null,null,null,null,null,null,null,"",""]
[321,null,{"$f":"IF(ISBLANK($B325),\"\",LOOKUP($B325,Inscriptions!A$2:A$65496,Inscriptions!B$2:B$65498))","v":""},{"$f":"IF(ISBLANK($B325),\"\",LOOKUP($B325,Inscriptions!A$2:A$65496,Inscriptions!C$2:C$65498))","v":""},{"$f":"IF(ISBLANK($B325),\"\",LOOKUP($B325,Inscriptions!A$2:A$65496,Inscriptions!D$2:D$65498))","v":""},null,null,null,null,null,null,null,null,null,null,null,"",""]
[322,null,{"$f":"IF(ISBLANK($B326),\"\",LOOKUP($B326,Inscriptions!A$2:A$65496,Inscriptions!B$2:B$65498))","v":""},{"$f":"IF(ISBLANK($B326),\"\",LOOKUP($B326,Inscriptions!A$2:A$65496,Inscriptions!C$2:C$65498))","v":""},{"$f":"IF(ISBLANK($B326),\"\",LOOKUP($B326,Inscriptions!A$2:A$65496,Inscriptions!D$2:D$65498))","v":""},null,null,null,null,null,null,null,null,null,null,null,{"$f":"IF((N326+O326+P326)=0,\"\",ROUNDDOWN((Q$4/((N326*3600)+(O326*60)+P326))*3.6,2))","v":""},{"$f":"IF(Q326=\"\",\"\",\"km/h\")","v":""}]
[323,null,{"$f":"IF(ISBLANK($B327),\"\",LOOKUP($B327,Inscriptions!A$2:A$65496,Inscriptions!B$2:B$65498))","v":""},{"$f":"IF(ISBLANK($B327),\"\",LOOKUP($B327,Inscriptions!A$2:A$65496,Inscriptions!C$2:C$65498))","v":""},{"$f":"IF(ISBLANK($B327),\"\",LOOKUP($B327,Inscriptions!A$2:A$65496,Inscriptions!D$2:D$65498))","v":""},null,null,null,null,null,null,null,null,null,null,null,"",""]
[324,null,{"$f":"IF(ISBLANK($B328),\"\",LOOKUP($B328,Inscriptions!A$2:A$65496,Inscriptions!B$2:B$65498))","v":""},{"$f":"IF(ISBLANK($B328),\"\",LOOKUP($B328,Inscriptions!A$2:A$65496,Inscriptions!C$2:C$65498))","v":""},{"$f":"IF(ISBLANK($B328),\"\",LOOKUP($B328,Inscriptions!A$2:A$65496,Inscriptions!D$2:D$65498))","v":""},null,null,null,null,null,null,null,null,null,null,null,"",""]
[325,null,{"$f":"IF(ISBLANK($B329),\"\",LOOKUP($B329,Inscriptions!A$2:A$65496,Inscriptions!B$2:B$65498))","v":""},{"$f":"IF(ISBLANK($B329),\"\",LOOKUP($B329,Inscriptions!A$2:A$65496,Inscriptions!C$2:C$65498))","v":""},{"$f":"IF(ISBLANK($B329),\"\",LOOKUP($B329,Inscriptions!A$2:A$65496,Inscriptions!D$2:D$65498))","v":""},null,null,null,null,null,null,null,null,null,null,null,"",""]
[326,null,{"$f":"IF(ISBLANK($B330),\"\",LOOKUP($B330,Inscriptions!A$2:A$65496,Inscriptions!B$2:B$65498))","v":""},{"$f":"IF(ISBLANK($B330),\"\",LOOKUP($B330,Inscriptions!A$2:A$65496,Inscriptions!C$2:C$65498))","v":""},{"$f":"IF(ISBLANK($B330),\"\",LOOKUP($B330,Inscriptions!A$2:A$65496,Inscriptions!D$2:D$65498))","v":""},null,null,null,null,null,null,null,null,null,null,null,"",""]
[327,null,{"$f":"IF(ISBLANK($B331),\"\",LOOKUP($B331,Inscriptions!A$2:A$65496,Inscriptions!B$2:B$65498))","v":""},{"$f":"IF(ISBLANK($B331),\"\",LOOKUP($B331,Inscriptions!A$2:A$65496,Inscriptions!C$2:C$65498))","v":""},{"$f":"IF(ISBLANK($B331),\"\",LOOKUP($B331,Inscriptions!A$2:A$65496,Inscriptions!D$2:D$65498))","v":""},null,null,null,null,null,null,null,null,null,null,null,"",""]
[328,null,{"$f":"IF(ISBLANK($B332),\"\",LOOKUP($B332,Inscriptions!A$2:A$65496,Inscriptions!B$2:B$65498))","v":""},{"$f":"IF(ISBLANK($B332),\"\",LOOKUP($B332,Inscriptions!A$2:A$65496,Inscriptions!C$2:C$65498))","v":""},{"$f":"IF(ISBLANK($B332),\"\",LOOKUP($B332,Inscriptions!A$2:A$65496,Inscriptions!D$2:D$65498))","v":""},null,null,null,null,null,null,null,null,null,null,null,"",""]
[329,null,{"$f":"IF(ISBLANK($B333),\"\",LOOKUP($B333,Inscriptions!A$2:A$65496,Inscriptions!B$2:B$65498))","v":""},{"$f":"IF(ISBLANK($B333),\"\",LOOKUP($B333,Inscriptions!A$2:A$65496,Inscriptions!C$2:C$65498))","v":""},{"$f":"IF(ISBLANK($B333),\"\",LOOKUP($B333,Inscriptions!A$2:A$65496,Inscriptions!D$2:D$65498))","v":""},null,null,null,null,null,null,null,null,null,null,null,"",""]
[330,null,{"$f":"IF(ISBLANK($B334),\"\",LOOKUP($B334,Inscriptions!A$2:A$65496,Inscriptions!B$2:B$65498))","v":""},{"$f":"IF(ISBLANK($B334),\"\",LOOKUP($B334,Inscriptions!A$2:A$65496,Inscriptions!C$2:C$65498))","v":""},{"$f":"IF(ISBLANK($B334),\"\",LOOKUP($B334,Inscriptions!A$2:A$65496,Inscriptions!D$2:D$65498))","v":""},null,null,null,null,null,null,null,null,null,null,null,"",""]
[331,null,{"$f":"IF(ISBLANK($B335),\"\",LOOKUP($B335,Inscriptions!A$2:A$65496,Inscriptions!B$2:B$65498))","v":""},{"$f":"IF(ISBLANK($B335),\"\",LOOKUP($B335,Inscriptions!A$2:A$65496,Inscriptions!C$2:C$65498))","v":""},{"$f":"IF(ISBLANK($B335),\"\",LOOKUP($B335,Inscriptions!A$2:A$65496,Inscriptions!D$2:D$65498))","v":""},null,null,null,null,null,null,null,null,null,null,null,"",""]
[332,null,{"$f":"IF(ISBLANK($B336),\"\",LOOKUP($B336,Inscriptions!A$2:A$65496,Inscriptions!B$2:B$65498))","v":""},{"$f":"IF(ISBLANK($B336),\"\",LOOKUP($B336,Inscriptions!A$2:A$65496,Inscriptions!C$2:C$65498))","v":""},{"$f":"IF(ISBLANK($B336),\"\",LOOKUP($B336,Inscriptions!A$2:A$65496,Inscriptions!D$2:D$65498))","v":""},null,null,null,null,null,null,null,null,null,null,null,"",""]
[333,null,{"$f":"IF(ISBLANK($B337),\"\",LOOKUP($B337,Inscriptions!A$2:A$65496,Inscriptions!B$2:B$65498))","v":""},{"$f":"IF(ISBLANK($B337),\"\",LOOKUP($B337,Inscriptions!A$2:A$65496,Inscriptions!C$2:C$65498))","v":""},{"$f":"IF(ISBLANK($B337),\"\",LOOKUP($B337,Inscriptions!A$2:A$65496,Inscriptions!D$2:D$65498))","v":""},null,null,null,null,null,null,null,null,null,null,null,"",""]
[334,null,{"$f":"IF(ISBLANK($B338),\"\",LOOKUP($B338,Inscriptions!A$2:A$65496,Inscriptions!B$2:B$65498))","v":""},{"$f":"IF(ISBLANK($B338),\"\",LOOKUP($B338,Inscriptions!A$2:A$65496,Inscriptions!C$2:C$65498))","v":""},{"$f":"IF(ISBLANK($B338),\"\",LOOKUP($B338,Inscriptions!A$2:A$65496,Inscriptions!D$2:D$65498))","v":""},null,null,null,null,null,null,null,null,null,null,null,"",""]
[335,null,{"$f":"IF(ISBLANK($B339),\"\",LOOKUP($B339,Inscriptions!A$2:A$65496,Inscriptions!B$2:B$65498))","v":""},{"$f":"IF(ISBLANK($B339),\"\",LOOKUP($B339,Inscriptions!A$2:A$65496,Inscriptions!C$2:C$65498))","v":""},{"$f":"IF(ISBLANK($B339),\"\",LOOKUP($B339,Inscriptions!A$2:A$65496,Inscriptions!D$2:D$65498))","v":""},null,null,null,null,null,null,null,null,null,null,null,"",""]
[336,null,{"$f":"IF(ISBLANK($B340),\"\",LOOKUP($B340,Inscriptions!A$2:A$65496,Inscriptions!B$2:B$65498))","v":""},{"$f":"IF(ISBLANK($B340),\"\",LOOKUP($B340,Inscriptions!A$2:A$65496,Inscriptions!C$2:C$65498))","v":""},{"$f":"IF(ISBLANK($B340),\"\",LOOKUP($B340,Inscriptions!A$2:A$65496,Inscriptions!D$2:D$65498))","v":""},null,null,null,null,null,null,null,null,null,null,null,"",""]
[337,null,{"$f":"IF(ISBLANK($B341),\"\",LOOKUP($B341,Inscriptions!A$2:A$65496,Inscriptions!B$2:B$65498))","v":""},{"$f":"IF(ISBLANK($B341),\"\",LOOKUP($B341,Inscriptions!A$2:A$65496,Inscriptions!C$2:C$65498))","v":""},{"$f":"IF(ISBLANK($B341),\"\",LOOKUP($B341,Inscriptions!A$2:A$65496,Inscriptions!D$2:D$65498))","v":""},null,null,null,null,null,null,null,null,null,null,null,"",""]
[338,null,{"$f":"IF(ISBLANK($B342),\"\",LOOKUP($B342,Inscriptions!A$2:A$65496,Inscriptions!B$2:B$65498))","v":""},{"$f":"IF(ISBLANK($B342),\"\",LOOKUP($B342,Inscriptions!A$2:A$65496,Inscriptions!C$2:C$65498))","v":""},{"$f":"IF(ISBLANK($B342),\"\",LOOKUP($B342,Inscriptions!A$2:A$65496,Inscriptions!D$2:D$65498))","v":""},null,null,null,null,null,null,null,null,null,null,null,"",""]
[339,null,{"$f":"IF(ISBLANK($B343),\"\",LOOKUP($B343,Inscriptions!A$2:A$65496,Inscriptions!B$2:B$65498))","v":""},{"$f":"IF(ISBLANK($B343),\"\",LOOKUP($B343,Inscriptions!A$2:A$65496,Inscriptions!C$2:C$65498))","v":""},{"$f":"IF(ISBLANK($B343),\"\",LOOKUP($B343,Inscriptions!A$2:A$65496,Inscriptions!D$2:D$65498))","v":""},null,null,null,null,null,null,null,null,null,null,null,"",""]
[340,null,{"$f":"IF(ISBLANK($B344),\"\",LOOKUP($B344,Inscriptions!A$2:A$65496,Inscriptions!B$2:B$65498))","v":""},{"$f":"IF(ISBLANK($B344),\"\",LOOKUP($B344,Inscriptions!A$2:A$65496,Inscriptions!C$2:C$65498))","v":""},{"$f":"IF(ISBLANK($B344),\"\",LOOKUP($B344,Inscriptions!A$2:A$65496,Inscriptions!D$2:D$65498))","v":""},null,null,null,null,null,null,null,null,null,null,null,"",""]
[341,null,{"$f":"IF(ISBLANK($B345),\"\",LOOKUP($B345,Inscriptions!A$2:A$65496,Inscriptions!B$2:B$65498))","v":""},{"$f":"IF(ISBLANK($B345),\"\",LOOKUP($B345,Inscriptions!A$2:A$65496,Inscriptions!C$2:C$65498))","v":""},{"$f":"IF(ISBLANK($B345),\"\",LOOKUP($B345,Inscriptions!A$2:A$65496,Inscriptions!D$2:D$65498))","v":""},null,null,null,null,null,null,null,null,null,null,null,"",""]
[342,null,{"$f":"IF(ISBLANK($B346),\"\",LOOKUP($B346,Inscriptions!A$2:A$65496,Inscriptions!B$2:B$65498))","v":""},{"$f":"IF(ISBLANK($B346),\"\",LOOKUP($B346,Inscriptions!A$2:A$65496,Inscriptions!C$2:C$65498))","v":""},{"$f":"IF(ISBLANK($B346),\"\",LOOKUP($B346,Inscriptions!A$2:A$65496,Inscriptions!D$2:D$65498))","v":""},null,null,null,null,null,null,null,null,null,null,null,"",""]
[343,null,{"$f":"IF(ISBLANK($B347),\"\",LOOKUP($B347,Inscriptions!A$2:A$65496,Inscriptions!B$2:B$65498))","v":""},{"$f":"IF(ISBLANK($B347),\"\",LOOKUP($B347,Inscriptions!A$2:A$65496,Inscriptions!C$2:C$65498))","v":""},{"$f":"IF(ISBLANK($B347),\"\",LOOKUP($B347,Inscriptions!A$2:A$65496,Inscriptions!D$2:D$65498))","v":""},null,null,null,null,null,null,null,null,null,null,null,"",""]
[344,null,{"$f":"IF(ISBLANK($B348),\"\",LOOKUP($B348,Inscriptions!A$2:A$65496,Inscriptions!B$2:B$65498))","v":""},{"$f":"IF(ISBLANK($B348),\"\",LOOKUP($B348,Inscriptions!A$2:A$65496,Inscriptions!C$2:C$65498))","v":""},{"$f":"IF(ISBLANK($B348),\"\",LOOKUP($B348,Inscriptions!A$2:A$65496,Inscriptions!D$2:D$65498))","v":""},null,null,null,null,null,null,null,null,null,null,null,"",""]
[345,null,{"$f":"IF(ISBLANK($B349),\"\",LOOKUP($B349,Inscriptions!A$2:A$65496,Inscriptions!B$2:B$65498))","v":""},{"$f":"IF(ISBLANK($B349),\"\",LOOKUP($B349,Inscriptions!A$2:A$65496,Inscriptions!C$2:C$65498))","v":""},{"$f":"IF(ISBLANK($B349),\"\",LOOKUP($B349,Inscriptions!A$2:A$65496,Inscriptions!D$2:D$65498))","v":""},null,null,null,null,null,null,null,null,null,null,null,"",""]
[346,null,{"$f":"IF(ISBLANK($B350),\"\",LOOKUP($B350,Inscriptions!A$2:A$65496,Inscriptions!B$2:B$65498))","v":""},{"$f":"IF(ISBLANK($B350),\"\",LOOKUP($B350,Inscriptions!A$2:A$65496,Inscriptions!C$2:C$65498))","v":""},{"$f":"IF(ISBLANK($B350),\"\",LOOKUP($B350,Inscriptions!A$2:A$65496,Inscriptions!D$2:D$65498))","v":""},null,null,null,null,null,null,null,null,null,null,null,"",""]
[347,null,{"$f":"IF(ISBLANK($B351),\"\",LOOKUP($B351,Inscriptions!A$2:A$65496,Inscriptions!B$2:B$65498))","v":""},{"$f":"IF(ISBLANK($B351),\"\",LOOKUP($B351,Inscriptions!A$2:A$65496,Inscriptions!C$2:C$65498))","v":""},{"$f":"IF(ISBLANK($B351),\"\",LOOKUP($B351,Inscriptions!A$2:A$65496,Inscriptions!D$2:D$65498))","v":""},null,null,null,null,null,null,null,null,null,null,null,"",""]
[348,null,{"$f":"IF(ISBLANK($B352),\"\",LOOKUP($B352,Inscriptions!A$2:A$65496,Inscriptions!B$2:B$65498))","v":""},{"$f":"IF(ISBLANK($B352),\"\",LOOKUP($B352,Inscriptions!A$2:A$65496,Inscriptions!C$2:C$65498))","v":""},{"$f":"IF(ISBLANK($B352),\"\",LOOKUP($B352,Inscriptions!A$2:A$65496,Inscriptions!D$2:D$65498))","v":""},null,null,null,null,null,null,null,null,null,null,null,"",""]
[349,null,{"$f":"IF(ISBLANK($B353),\"\",LOOKUP($B353,Inscriptions!A$2:A$65496,Inscriptions!B$2:B$65498))","v":""},{"$f":"IF(ISBLANK($B353),\"\",LOOKUP($B353,Inscriptions!A$2:A$65496,Inscriptions!C$2:C$65498))","v":""},{"$f":"IF(ISBLANK($B353),\"\",LOOKUP($B353,Inscriptions!A$2:A$65496,Inscriptions!D$2:D$65498))","v":""},null,null,null,null,null,null,null,null,null,null,null,"",""]
[350,null,{"$f":"IF(ISBLANK($B354),\"\",LOOKUP($B354,Inscriptions!A$2:A$65496,Inscriptions!B$2:B$65498))","v":""},{"$f":"IF(ISBLANK($B354),\"\",LOOKUP($B354,Inscriptions!A$2:A$65496,Inscriptions!C$2:C$65498))","v":""},{"$f":"IF(ISBLANK($B354),\"\",LOOKUP($B354,Inscriptions!A$2:A$65496,Inscriptions!D$2:D$65498))","v":""},null,null,null,null,null,null,null,null,null,null,null,"",""]

{"sheet":"C 13 SEM","index":15,"n_rows":354,"n_cols":14,"rows_kept":354,"cut":false,"hidden":false,"merged":[[0,0,0,7],[1,0,1,7],[2,5,2,6]]}
["CROSS DEPARTEMENTAL FSGT 93 - STAINS - 07/12/2014"]
["SENIORS 1-2 et VETERANS 1  = 8000 mètres"]
[]
["PLACE","DOSSARD","NOM / PRENOM","CAT","CLUB","S1M","S2M","VM1","TEMPS","h","m","s",8000,"m"]
[1,1138,{"$f":"IF(ISBLANK($B5),\"\",LOOKUP($B5,Inscriptions!A$2:A$65496,Inscriptions!B$2:B$65498))","v":"TEIXEIRA FURTADO ADALBERTO"},{"$f":"IF(ISBLANK($B5),\"\",LOOKUP($B5,Inscriptions!A$2:A$65496,Inscriptions!C$2:C$65498))","v":"S1M"},{"$f":"IF(ISBLANK($B5),\"\",LOOKUP($B5,Inscriptions!A$2:A$65496,Inscriptions!D$2:D$65498))","v":"ES STAINS"},1,null,null,2553,{"$f":"ROUNDDOWN(I5/10000,0)","v":0},{"$f":"ROUNDDOWN((I5-J5*10000)/100,0)","v":25},{"$f":"ROUNDDOWN((I5-(J5*10000)-(K5*100)),0)","v":53},{"$f":"IF((J5+K5+L5)=0,\"\",ROUNDDOWN((M$4/((J5*3600)+(K5*60)+L5))*3.6,2))","v":18.54},{"$f":"IF(M5=\"\",\"\",\"km/h\")","v":"km/h"}]
[2,96,{"$f":"IF(ISBLANK($B6),\"\",LOOKUP($B6,Inscriptions!A$2:A$65496,Inscriptions!B$2:B$65498))","v":"DESPLANQUES MICHAEL"},{"$f":"IF(ISBLANK($B6),\"\",LOOKUP($B6,Inscriptions!A$2:A$65496,Inscriptions!C$2:C$65498))","v":"S2M"},{"$f":"IF(ISBLANK($B6),\"\",LOOKUP($B6,Inscriptions!A$2:A$65496,Inscriptions!D$2:D$65498))","v":"ACM AUBERVILLIERS"},null,1,null,2625,{"$f":"ROUNDDOWN(I6/10000,0)","v":0},{"$f":"ROUNDDOWN((I6-J6*10000)/100,0)","v":26},{"$f":"ROUNDDOWN((I6-(J6*10000)-(K6*100)),0)","v":25},{"$f":"IF((J6+K6+L6)=0,\"\",ROUNDDOWN((M$4/((J6*3600)+(K6*60)+L6))*3.6,2))","v":18.170000000000002},{"$f":"IF(M6=\"\",\"\",\"km/h\")","v":"km/h"}]
[3,1985,{"$f":"IF(ISBLANK($B7),\"\",LOOKUP($B7,Inscriptions!A$2:A$65496,Inscriptions!B$2:B$65498))","v":"CHARPENTIER JEREMIE"},{"$f":"IF(ISBLANK($B7),\"\",LOOKUP($B7,Inscriptions!A$2:A$65496,Inscriptions!C$2:C$65498))","v":"S1M"},{"$f":"IF(ISBLANK($B7),\"\",LOOKUP($B7,Inscriptions!A$2:A$65496,Inscriptions!D$2:D$65498))","v":"US MERY AC"},2,null,null,2639,0,26,39,18.010000000000002,"km/h"]
[4,459,{"$f":"IF(ISBLANK($B8),\"\",LOOKUP($B8,Inscriptions!A$2:A$65496,Inscriptions!B$2:B$65498))","v":"REBRAY ARNAUD"},{"$f":"IF(ISBLANK($B8),\"\",LOOKUP($B8,Inscriptions!A$2:A$65496,Inscriptions!C$2:C$65498))","v":"S1M"},{"$f":"IF(ISBLANK($B8),\"\",LOOKUP($B8,Inscriptions!A$2:A$65496,Inscriptions!D$2:D$65498))","v":"ATHLE LE BOURGET DRANCY DUGNY"},3,null,null,2731,0,27,31,17.440000000000001,"km/h"]
[5,1993,{"$f":"IF(ISBLANK($B9),\"\",LOOKUP($B9,Inscriptions!A$2:A$65496,Inscriptions!B$2:B$65498))","v":"FEVE GREGORY"},{"$f":"IF(ISBLANK($B9),\"\",LOOKUP($B9,Inscriptions!A$2:A$65496,Inscriptions!C$2:C$65498))","v":"S2M"},{"$f":"IF(ISBLANK($B9),\"\",LOOKUP($B9,Inscriptions!A$2:A$65496,Inscriptions!D$2:D$65498))","v":"US MERY AC"},null,2,null,2735,0,27,35,17.399999999999999,"km/h"]
[6,2235,{"$f":"IF(ISBLANK($B10),\"\",LOOKUP($B10,Inscriptions!A$2:A$65496,Inscriptions!B$2:B$65498))","v":"FETTANE SOFIANE"},{"$f":"IF(ISBLANK($B10),\"\",LOOKUP($B10,Inscriptions!A$2:A$65496,Inscriptions!C$2:C$65498))","v":"S1M"},{"$f":"IF(ISBLANK($B10),\"\",LOOKUP($B10,Inscriptions!A$2:A$65496,Inscriptions!D$2:D$65498))","v":"USO BEZONS"},4,null,null,2754,0,27,54,17.2,"km/h"]
[7,2363,{"$f":"IF(ISBLANK($B11),\"\",LOOKUP($B11,Inscriptions!A$2:A$65496,Inscriptions!B$2:B$65498))","v":"BOUCHAIB KARIM (DEC)"},{"$f":"IF(ISBLANK($B11),\"\",LOOKUP($B11,Inscriptions!A$2:A$65496,Inscriptions!C$2:C$65498))","v":"S1M"},{"$f":"IF(ISBLANK($B11),\"\",LOOKUP($B11,Inscriptions!A$2:A$65496,Inscriptions!D$2:D$65498))","v":"DECLASSE"},5,null,null,2818,0,28,18,16.96,"km/h"]
[8,2266,{"$f":"IF(ISBLANK($B12),\"\",LOOKUP($B12,Inscriptions!A$2:A$65496,Inscriptions!B$2:B$65498))","v":"RHAYATI WAHID"},{"$f":"IF(ISBLANK($B12),\"\",LOOKUP($B12,Inscriptions!A$2:A$65496,Inscriptions!C$2:C$65498))","v":"S1M"},{"$f":"IF(ISBLANK($B12),\"\",LOOKUP($B12,Inscriptions!A$2:A$65496,Inscriptions!D$2:D$65498))","v":"USO BEZONS"},6,null,null,2837,0,28,37,16.77,"km/h"]
[9,1037,{"$f":"IF(ISBLANK($B13),\"\",LOOKUP($B13,Inscriptions!A$2:A$65496,Inscriptions!B$2:B$65498))","v":"AKARKACH MOUNIR"},{"$f":"IF(ISBLANK($B13),\"\",LOOKUP($B13,Inscriptions!A$2:A$65496,Inscriptions!C$2:C$65498))","v":"S1M"},{"$f":"IF(ISBLANK($B13),\"\",LOOKUP($B13,Inscriptions!A$2:A$65496,Inscriptions!D$2:D$65498))","v":"ES STAINS"},7,null,null,2900,0,29,0,16.55,"km/h"]
[10,1005,{"$f":"IF(ISBLANK($B14),\"\",LOOKUP($B14,Inscriptions!A$2:A$65496,Inscriptions!B$2:B$65498))","v":"CEVALTE ROMAIN"},{"$f":"IF(ISBLANK($B14),\"\",LOOKUP($B14,Inscriptions!A$2:A$65496,Inscriptions!C$2:C$65498))","v":"S1M"},{"$f":"IF(ISBLANK($B14),\"\",LOOKUP($B14,Inscriptions!A$2:A$65496,Inscriptions!D$2:D$65498))","v":"CSPTT 95"},8,null,null,2930,0,29,30,16.27,"km/h"]
[11,999,{"$f":"IF(ISBLANK($B15),\"\",LOOKUP($B15,Inscriptions!A$2:A$65496,Inscriptions!B$2:B$65498))","v":"BENADJAOUD CEDRIC"},{"$f":"IF(ISBLANK($B15),\"\",LOOKUP($B15,Inscriptions!A$2:A$65496,Inscriptions!C$2:C$65498))","v":"S2M"},{"$f":"IF(ISBLANK($B15),\"\",LOOKUP($B15,Inscriptions!A$2:A$65496,Inscriptions!D$2:D$65498))","v":"CSPTT 95"},null,3,null,3026,0,30,26,15.77,"km/h"]
[12,1715,{"$f":"IF(ISBLANK($B16),\"\",LOOKUP($B16,Inscriptions!A$2:A$65496,Inscriptions!B$2:B$65498))","v":"PALAMINI NICOLAS"},{"$f":"IF(ISBLANK($B16),\"\",LOOKUP($B16,Inscriptions!A$2:A$65496,Inscriptions!C$2:C$65498))","v":"S2M"},{"$f":"IF(ISBLANK($B16),\"\",LOOKUP($B16,Inscriptions!A$2:A$65496,Inscriptions!D$2:D$65498))","v":"TREMBLAY AC"},null,4,null,3028,0,30,28,15.75,"km/h"]
[13,1916,{"$f":"IF(ISBLANK($B17),\"\",LOOKUP($B17,Inscriptions!A$2:A$65496,Inscriptions!B$2:B$65498))","v":"NOUNOU KAMEL"},{"$f":"IF(ISBLANK($B17),\"\",LOOKUP($B17,Inscriptions!A$2:A$65496,Inscriptions!C$2:C$65498))","v":"S2M"},{"$f":"IF(ISBLANK($B17),\"\",LOOKUP($B17,Inscriptions!A$2:A$65496,Inscriptions!D$2:D$65498))","v":"US IVRY"},null,5,null,3034,0,30,34,15.7,"km/h"]
[14,643,{"$f":"IF(ISBLANK($B18),\"\",LOOKUP($B18,Inscriptions!A$2:A$65496,Inscriptions!B$2:B$65498))","v":"HAURAIS FLORIAN"},{"$f":"IF(ISBLANK($B18),\"\",LOOKUP($B18,Inscriptions!A$2:A$65496,Inscriptions!C$2:C$65498))","v":"S1M"},{"$f":"IF(ISBLANK($B18),\"\",LOOKUP($B18,Inscriptions!A$2:A$65496,Inscriptions!D$2:D$65498))","v":"CM AUBERVILLIERS ATHLETISME"},9,null,null,3037,0,30,37,15.67,"km/h"]
[15,2223,{"$f":"IF(ISBLANK($B19),\"\",LOOKUP($B19,Inscriptions!A$2:A$65496,Inscriptions!B$2:B$65498))","v":"BISIAUX DAMIEN"},{"$f":"IF(ISBLANK($B19),\"\",LOOKUP($B19,Inscriptions!A$2:A$65496,Inscriptions!C$2:C$65498))","v":"S2M"},{"$f":"IF(ISBLANK($B19),\"\",LOOKUP($B19,Inscriptions!A$2:A$65496,Inscriptions!D$2:D$65498))","v":"USMA ST OUEN"},null,6,null,3041,0,30,41,15.64,"km/h"]
[16,2215,{"$f":"IF(ISBLANK($B20),\"\",LOOKUP($B20,Inscriptions!A$2:A$65496,Inscriptions!B$2:B$65498))","v":"AKHERIB SAMI"},{"$f":"IF(ISBLANK($B20),\"\",LOOKUP($B20,Inscriptions!A$2:A$65496,Inscriptions!C$2:C$65498))","v":"S1M"},{"$f":"IF(ISBLANK($B20),\"\",LOOKUP($B20,Inscriptions!A$2:A$65496,Inscriptions!D$2:D$65498))","v":"USO BEZONS"},10,null,null,3106,0,31,6,15.43,"km/h"]
[17,1773,{"$f":"IF(ISBLANK($B21),\"\",LOOKUP($B21,Inscriptions!A$2:A$65496,Inscriptions!B$2:B$65498))","v":"BOCARA ANTONIN"},{"$f":"IF(ISBLANK($B21),\"\",LOOKUP($B21,Inscriptions!A$2:A$65496,Inscriptions!C$2:C$65498))","v":"S1M"},{"$f":"IF(ISBLANK($B21),\"\",LOOKUP($B21,Inscriptions!A$2:A$65496,Inscriptions!D$2:D$65498))","v":"US IVRY"},11,null,null,3124,0,31,24,15.28,"km/h"]
[18,1711,{"$f":"IF(ISBLANK($B22),\"\",LOOKUP($B22,Inscriptions!A$2:A$65496,Inscriptions!B$2:B$65498))","v":"NABI JAHID"},{"$f":"IF(ISBLANK($B22),\"\",LOOKUP($B22,Inscriptions!A$2:A$65496,Inscriptions!C$2:C$65498))","v":"S1M"},{"$f":"IF(ISBLANK($B22),\"\",LOOKUP($B22,Inscriptions!A$2:A$65496,Inscriptions!D$2:D$65498))","v":"TREMBLAY AC"},12,null,null,3124,0,31,24,15.28,"km/h"]
[19,363,{"$f":"IF(ISBLANK($B23),\"\",LOOKUP($B23,Inscriptions!A$2:A$65496,Inscriptions!B$2:B$65498))","v":"CARTIER RONAND"},{"$f":"IF(ISBLANK($B23),\"\",LOOKUP($B23,Inscriptions!A$2:A$65496,Inscriptions!C$2:C$65498))","v":"S1M"},{"$f":"IF(ISBLANK($B23),\"\",LOOKUP($B23,Inscriptions!A$2:A$65496,Inscriptions!D$2:D$65498))","v":"ATHLE LE BOURGET DRANCY DUGNY"},13,null,null,3135,0,31,35,15.19,"km/h"]
[20,349,{"$f":"IF(ISBLANK($B24),\"\",LOOKUP($B24,Inscriptions!A$2:A$65496,Inscriptions!B$2:B$65498))","v":"BERTANI EDDY"},{"$f":"IF(ISBLANK($B24),\"\",LOOKUP($B24,Inscriptions!A$2:A$65496,Inscriptions!C$2:C$65498))","v":"S1M"},{"$f":"IF(ISBLANK($B24),\"\",LOOKUP($B24,Inscriptions!A$2:A$65496,Inscriptions!D$2:D$65498))","v":"ATHLE LE BOURGET DRANCY DUGNY"},14,null,null,3147,0,31,47,15.1,"km/h"]
[21,119,{"$f":"IF(ISBLANK($B25),\"\",LOOKUP($B25,Inscriptions!A$2:A$65496,Inscriptions!B$2:B$65498))","v":"JOSEPH JUDE"},{"$f":"IF(ISBLANK($B25),\"\",LOOKUP($B25,Inscriptions!A$2:A$65496,Inscriptions!C$2:C$65498))","v":"S2M"},{"$f":"IF(ISBLANK($B25),\"\",LOOKUP($B25,Inscriptions!A$2:A$65496,Inscriptions!D$2:D$65498))","v":"ACM AUBERVILLIERS"},null,7,null,3217,0,32,17,14.86,"km/h"]
[22,2344,{"$f":"IF(ISBLANK($B26),\"\",LOOKUP($B26,Inscriptions!A$2:A$65496,Inscriptions!B$2:B$65498))","v":"BETHRY NICOLAS"},{"$f":"IF(ISBLANK($B26),\"\",LOOKUP($B26,Inscriptions!A$2:A$65496,Inscriptions!C$2:C$65498))","v":"S1M"},{"$f":"IF(ISBLANK($B26),\"\",LOOKUP($B26,Inscriptions!A$2:A$65496,Inscriptions!D$2:D$65498))","v":"TREMBLAY AC"},15,null,null,3222,0,32,22,14.83,"km/h"]
[23,471,{"$f":"IF(ISBLANK($B27),\"\",LOOKUP($B27,Inscriptions!A$2:A$65496,Inscriptions!B$2:B$65498))","v":"TOMAS ESPEJO PIERRE"},{"$f":"IF(ISBLANK($B27),\"\",LOOKUP($B27,Inscriptions!A$2:A$65496,Inscriptions!C$2:C$65498))","v":"S2M"},{"$f":"IF(ISBLANK($B27),\"\",LOOKUP($B27,Inscriptions!A$2:A$65496,Inscriptions!D$2:D$65498))","v":"ATHLE LE BOURGET DRANCY DUGNY"},null,8,null,3224,0,32,24,14.81,"km/h"]
[24,1616,{"$f":"IF(ISBLANK($B28),\"\",LOOKUP($B28,Inscriptions!A$2:A$65496,Inscriptions!B$2:B$65498))","v":"BLANCHARD NICOLAS"},{"$f":"IF(ISBLANK($B28),\"\",LOOKUP($B28,Inscriptions!A$2:A$65496,Inscriptions!C$2:C$65498))","v":"S1M"},{"$f":"IF(ISBLANK($B28),\"\",LOOKUP($B28,Inscriptions!A$2:A$65496,Inscriptions!D$2:D$65498))","v":"TREMBLAY AC"},16,null,null,3224,0,32,24,14.81,"km/h"]
[25,1783,{"$f":"IF(ISBLANK($B29),\"\",LOOKUP($B29,Inscriptions!A$2:A$65496,Inscriptions!B$2:B$65498))","v":"BRAS LAURENT"},{"$f":"IF(ISBLANK($B29),\"\",LOOKUP($B29,Inscriptions!A$2:A$65496,Inscriptions!C$2:C$65498))","v":"S2M"},{"$f":"IF(ISBLANK($B29),\"\",LOOKUP($B29,Inscriptions!A$2:A$65496,Inscriptions!D$2:D$65498))","v":"US IVRY"},null,9,null,3302,0,33,2,14.53,"km/h"]
[26,2380,{"$f":"IF(ISBLANK($B30),\"\",LOOKUP($B30,Inscriptions!A$2:A$65496,Inscriptions!B$2:B$65498))","v":"OUALI JULIEN"},{"$f":"IF(ISBLANK($B30),\"\",LOOKUP($B30,Inscriptions!A$2:A$65496,Inscriptions!C$2:C$65498))","v":"S1M"},{"$f":"IF(ISBLANK($B30),\"\",LOOKUP($B30,Inscriptions!A$2:A$65496,Inscriptions!D$2:D$65498))","v":"USO BEZONS"},17,null,null,3309,0,33,9,14.47,"km/h"]
[27,1981,{"$f":"IF(ISBLANK($B31),\"\",LOOKUP($B31,Inscriptions!A$2:A$65496,Inscriptions!B$2:B$65498))","v":"BLONDEAU BENJAMIN"},{"$f":"IF(ISBLANK($B31),\"\",LOOKUP($B31,Inscriptions!A$2:A$65496,Inscriptions!C$2:C$65498))","v":"S2M"},{"$f":"IF(ISBLANK($B31),\"\",LOOKUP($B31,Inscriptions!A$2:A$65496,Inscriptions!D$2:D$65498))","v":"US MERY AC"},null,10,null,3316,0,33,16,14.42,"km/h"]
[28,2010,{"$f":"IF(ISBLANK($B32),\"\",LOOKUP($B32,Inscriptions!A$2:A$65496,Inscriptions!B$2:B$65498))","v":"SIBA BENAMAR"},{"$f":"IF(ISBLANK($B32),\"\",LOOKUP($B32,Inscriptions!A$2:A$65496,Inscriptions!C$2:C$65498))","v":"S2M"},{"$f":"IF(ISBLANK($B32),\"\",LOOKUP($B32,Inscriptions!A$2:A$65496,Inscriptions!D$2:D$65498))","v":"US MERY AC"},null,11,null,3339,0,33,39,14.26,"km/h"]
[29,988,{"$f":"IF(ISBLANK($B33),\"\",LOOKUP($B33,Inscriptions!A$2:A$65496,Inscriptions!B$2:B$65498))","v":"RHARRABTI OMAR"},{"$f":"IF(ISBLANK($B33),\"\",LOOKUP($B33,Inscriptions!A$2:A$65496,Inscriptions!C$2:C$65498))","v":"S2M"},{"$f":"IF(ISBLANK($B33),\"\",LOOKUP($B33,Inscriptions!A$2:A$65496,Inscriptions!D$2:D$65498))","v":"CSM GENNEVILLIERS"},null,12,null,3348,0,33,48,14.2,"km/h"]
[30,1600,{"$f":"IF(ISBLANK($B34),\"\",LOOKUP($B34,Inscriptions!A$2:A$65496,Inscriptions!B$2:B$65498))","v":"ABDOU HOUSSUIHINE"},{"$f":"IF(ISBLANK($B34),\"\",LOOKUP($B34,Inscriptions!A$2:A$65496,Inscriptions!C$2:C$65498))","v":"S1M"},{"$f":"IF(ISBLANK($B34),\"\",LOOKUP($B34,Inscriptions!A$2:A$65496,Inscriptions!D$2:D$65498))","v":"TREMBLAY AC"},18,null,null,3430,0,34,30,13.91,"km/h"]
[31,1345,{"$f":"IF(ISBLANK($B35),\"\",LOOKUP($B35,Inscriptions!A$2:A$65496,Inscriptions!B$2:B$65498))","v":"BOLLINGER VINCENT"},{"$f":"IF(ISBLANK($B35),\"\",LOOKUP($B35,Inscriptions!A$2:A$65496,Inscriptions!C$2:C$65498))","v":"S2M"},{"$f":"IF(ISBLANK($B35),\"\",LOOKUP($B35,Inscriptions!A$2:A$65496,Inscriptions!D$2:D$65498))","v":"NOISY LE SEC ATHLETISME"},null,13,null,3440,0,34,40,13.84,"km/h"]
[32,1052,{"$f":"IF(ISBLANK($B36),\"\",LOOKUP($B36,Inscriptions!A$2:A$65496,Inscriptions!B$2:B$65498))","v":"CADÉRON NICOLAS"},{"$f":"IF(ISBLANK($B36),\"\",LOOKUP($B36,Inscriptions!A$2:A$65496,Inscriptions!C$2:C$65498))","v":"S1M"},{"$f":"IF(ISBLANK($B36),\"\",LOOKUP($B36,Inscriptions!A$2:A$65496,Inscriptions!D$2:D$65498))","v":"ES STAINS"},19,null,null,3452,0,34,52,13.76,"km/h"]
[33,365,{"$f":"IF(ISBLANK($B37),\"\",LOOKUP($B37,Inscriptions!A$2:A$65496,Inscriptions!B$2:B$65498))","v":"CHAUVET SEBASTIEN"},{"$f":"IF(ISBLANK($B37),\"\",LOOKUP($B37,Inscriptions!A$2:A$65496,Inscriptions!C$2:C$65498))","v":"S2M"},{"$f":"IF(ISBLANK($B37),\"\",LOOKUP($B37,Inscriptions!A$2:A$65496,Inscriptions!D$2:D$65498))","v":"ATHLE LE BOURGET DRANCY DUGNY"},null,14,null,3501,0,35,1,13.7,"km/h"]
[34,2224,{"$f":"IF(ISBLANK($B38),\"\",LOOKUP($B38,Inscriptions!A$2:A$65496,Inscriptions!B$2:B$65498))","v":"BOLLE QUENTIN"},{"$f":"IF(ISBLANK($B38),\"\",LOOKUP($B38,Inscriptions!A$2:A$65496,Inscriptions!C$2:C$65498))","v":"S1M"},{"$f":"IF(ISBLANK($B38),\"\",LOOKUP($B38,Inscriptions!A$2:A$65496,Inscriptions!D$2:D$65498))","v":"USO BEZONS"},20,null,null,3513,0,35,13,13.62,"km/h"]
[35,176,{"$f":"IF(ISBLANK($B39),\"\",LOOKUP($B39,Inscriptions!A$2:A$65496,Inscriptions!B$2:B$65498))","v":"PROU CHRISTOPHE"},{"$f":"IF(ISBLANK($B39),\"\",LOOKUP($B39,Inscriptions!A$2:A$65496,Inscriptions!C$2:C$65498))","v":"S1M"},{"$f":"IF(ISBLANK($B39),\"\",LOOKUP($B39,Inscriptions!A$2:A$65496,Inscriptions!D$2:D$65498))","v":"ASC VITRY"},21,null,null,3515,0,35,15,13.61,"km/h"]
[36,711,{"$f":"IF(ISBLANK($B40),\"\",LOOKUP($B40,Inscriptions!A$2:A$65496,Inscriptions!B$2:B$65498))","v":"GUIOCK HONORÉ"},{"$f":"IF(ISBLANK($B40),\"\",LOOKUP($B40,Inscriptions!A$2:A$65496,Inscriptions!C$2:C$65498))","v":"S2M"},{"$f":"IF(ISBLANK($B40),\"\",LOOKUP($B40,Inscriptions!A$2:A$65496,Inscriptions!D$2:D$65498))","v":"COM ARGENTEUIL"},null,15,null,3615,0,36,15,13.24,"km/h"]
[37,2247,{"$f":"IF(ISBLANK($B41),\"\",LOOKUP($B41,Inscriptions!A$2:A$65496,Inscriptions!B$2:B$65498))","v":"HEBDING STEPHEN"},{"$f":"IF(ISBLANK($B41),\"\",LOOKUP($B41,Inscriptions!A$2:A$65496,Inscriptions!C$2:C$65498))","v":"S1M"},{"$f":"IF(ISBLANK($B41),\"\",LOOKUP($B41,Inscriptions!A$2:A$65496,Inscriptions!D$2:D$65498))","v":"USMA ST OUEN"},22,null,null,3708,0,37,8,12.92,"km/h"]
[38,1044,{"$f":"IF(ISBLANK($B42),\"\",LOOKUP($B42,Inscriptions!A$2:A$65496,Inscriptions!B$2:B$65498))","v":"BIRANTE KHALIFA"},{"$f":"IF(ISBLANK($B42),\"\",LOOKUP($B42,Inscriptions!A$2:A$65496,Inscriptions!C$2:C$65498))","v":"S1M"},{"$f":"IF(ISBLANK($B42),\"\",LOOKUP($B42,Inscriptions!A$2:A$65496,Inscriptions!D$2:D$65498))","v":"ES STAINS"},23,null,null,3752,0,37,52,12.67,"km/h"]
[39,2342,{"$f":"IF(ISBLANK($B43),\"\",LOOKUP($B43,Inscriptions!A$2:A$65496,Inscriptions!B$2:B$65498))","v":"BARNA PATRICE"},{"$f":"IF(ISBLANK($B43),\"\",LOOKUP($B43,Inscriptions!A$2:A$65496,Inscriptions!C$2:C$65498))","v":"S2M"},{"$f":"IF(ISBLANK($B43),\"\",LOOKUP($B43,Inscriptions!A$2:A$65496,Inscriptions!D$2:D$65498))","v":"TREMBLAY AC"},null,16,null,3902,0,39,2,12.29,"km/h"]
[40,658,{"$f":"IF(ISBLANK($B44),\"\",LOOKUP($B44,Inscriptions!A$2:A$65496,Inscriptions!B$2:B$65498))","v":"RAJENDRABOSE DEIVANES"},{"$f":"IF(ISBLANK($B44),\"\",LOOKUP($B44,Inscriptions!A$2:A$65496,Inscriptions!C$2:C$65498))","v":"S1M"},{"$f":"IF(ISBLANK($B44),\"\",LOOKUP($B44,Inscriptions!A$2:A$65496,Inscriptions!D$2:D$65498))","v":"CM AUBERVILLIERS ATHLETISME"},24,null,null,3926,0,39,26,12.17,"km/h"]
[41,2081,{"$f":"IF(ISBLANK($B45),\"\",LOOKUP($B45,Inscriptions!A$2:A$65496,Inscriptions!B$2:B$65498))","v":"GUILLARD ALAIN"},{"$f":"IF(ISBLANK($B45),\"\",LOOKUP($B45,Inscriptions!A$2:A$65496,Inscriptions!C$2:C$65498))","v":"S2M"},{"$f":"IF(ISBLANK($B45),\"\",LOOKUP($B45,Inscriptions!A$2:A$65496,Inscriptions!D$2:D$65498))","v":"US VIGNEUX"},null,17,null,4049,0,40,49,11.75,"km/h"]
[42,null,{"$f":"IF(ISBLANK($B46),\"\",LOOKUP($B46,Inscriptions!A$2:A$65496,Inscriptions!B$2:B$65498))","v":""},{"$f":"IF(ISBLANK($B46),\"\",LOOKUP($B46,Inscriptions!A$2:A$65496,Inscriptions!C$2:C$65498))","v":""},{"$f":"IF(ISBLANK($B46),\"\",LOOKUP($B46,Inscriptions!A$2:A$65496,Inscriptions!D$2:D$65498))","v":""},null,null,null,null,0,0,0,"",""]
[43,null,{"$f":"IF(ISBLANK($B47),\"\",LOOKUP($B47,Inscriptions!A$2:A$65496,Inscriptions!B$2:B$65498))","v":""},{"$f":"IF(ISBLANK($B47),\"\",LOOKUP($B47,Inscriptions!A$2:A$65496,Inscriptions!C$2:C$65498))","v":""},{"$f":"IF(ISBLANK($B47),\"\",LOOKUP($B47,Inscriptions!A$2:A$65496,Inscriptions!D$2:D$65498))","v":""},null,null,null,null,0,0,0,"",""]
[44,null,{"$f":"IF(ISBLANK($B48),\"\",LOOKUP($B48,Inscriptions!A$2:A$65496,Inscriptions!B$2:B$65498))","v":""},{"$f":"IF(ISBLANK($B48),\"\",LOOKUP($B48,Inscriptions!A$2:A$65496,Inscriptions!C$2:C$65498))","v":""},{"$f":"IF(ISBLANK($B48),\"\",LOOKUP($B48,Inscriptions!A$2:A$65496,Inscriptions!D$2:D$65498))","v":""},null,null,null,null,0,0,0,"",""]
[45,null,{"$f":"IF(ISBLANK($B49),\"\",LOOKUP($B49,Inscriptions!A$2:A$65496,Inscriptions!B$2:B$65498))","v":""},{"$f":"IF(ISBLANK($B49),\"\",LOOKUP($B49,Inscriptions!A$2:A$65496,Inscriptions!C$2:C$65498))","v":""},{"$f":"IF(ISBLANK($B49),\"\",LOOKUP($B49,Inscriptions!A$2:A$65496,Inscriptions!D$2:D$65498))","v":""},null,null,null,null,0,0,0,"",""]
[46,null,{"$f":"IF(ISBLANK($B50),\"\",LOOKUP($B50,Inscriptions!A$2:A$65496,Inscriptions!B$2:B$65498))","v":""},{"$f":"IF(ISBLANK($B50),\"\",LOOKUP($B50,Inscriptions!A$2:A$65496,Inscriptions!C$2:C$65498))","v":""},{"$f":"IF(ISBLANK($B50),\"\",LOOKUP($B50,Inscriptions!A$2:A$65496,Inscriptions!D$2:D$65498))","v":""},null,null,null,null,0,0,0,"",""]
[47,null,{"$f":"IF(ISBLANK($B51),\"\",LOOKUP($B51,Inscriptions!A$2:A$65496,Inscriptions!B$2:B$65498))","v":""},{"$f":"IF(ISBLANK($B51),\"\",LOOKUP($B51,Inscriptions!A$2:A$65496,Inscriptions!C$2:C$65498))","v":""},{"$f":"IF(ISBLANK($B51),\"\",LOOKUP($B51,Inscriptions!A$2:A$65496,Inscriptions!D$2:D$65498))","v":""},null,null,null,null,0,0,0,"",""]
[48,null,{"$f":"IF(ISBLANK($B52),\"\",LOOKUP($B52,Inscriptions!A$2:A$65496,Inscriptions!B$2:B$65498))","v":""},{"$f":"IF(ISBLANK($B52),\"\",LOOKUP($B52,Inscriptions!A$2:A$65496,Inscriptions!C$2:C$65498))","v":""},{"$f":"IF(ISBLANK($B52),\"\",LOOKUP($B52,Inscriptions!A$2:A$65496,Inscriptions!D$2:D$65498))","v":""},null,null,null,null,0,0,0,"",""]
[49,null,{"$f":"IF(ISBLANK($B53),\"\",LOOKUP($B53,Inscriptions!A$2:A$65496,Inscriptions!B$2:B$65498))","v":""},{"$f":"IF(ISBLANK($B53),\"\",LOOKUP($B53,Inscriptions!A$2:A$65496,Inscriptions!C$2:C$65498))","v":""},{"$f":"IF(ISBLANK($B53),\"\",LOOKUP($B53,Inscriptions!A$2:A$65496,Inscriptions!D$2:D$65498))","v":""},null,null,null,null,0,0,0,"",""]
[50,null,{"$f":"IF(ISBLANK($B54),\"\",LOOKUP($B54,Inscriptions!A$2:A$65496,Inscriptions!B$2:B$65498))","v":""},{"$f":"IF(ISBLANK($B54),\"\",LOOKUP($B54,Inscriptions!A$2:A$65496,Inscriptions!C$2:C$65498))","v":""},{"$f":"IF(ISBLANK($B54),\"\",LOOKUP($B54,Inscriptions!A$2:A$65496,Inscriptions!D$2:D$65498))","v":""},null,null,null,null,0,0,0,"",""]
[51,null,{"$f":"IF(ISBLANK($B55),\"\",LOOKUP($B55,Inscriptions!A$2:A$65496,Inscriptions!B$2:B$65498))","v":""},{"$f":"IF(ISBLANK($B55),\"\",LOOKUP($B55,Inscriptions!A$2:A$65496,Inscriptions!C$2:C$65498))","v":""},{"$f":"IF(ISBLANK($B55),\"\",LOOKUP($B55,Inscriptions!A$2:A$65496,Inscriptions!D$2:D$65498))","v":""},null,null,null,null,0,0,0,"",""]
[52,null,{"$f":"IF(ISBLANK($B56),\"\",LOOKUP($B56,Inscriptions!A$2:A$65496,Inscriptions!B$2:B$65498))","v":""},{"$f":"IF(ISBLANK($B56),\"\",LOOKUP($B56,Inscriptions!A$2:A$65496,Inscriptions!C$2:C$65498))","v":""},{"$f":"IF(ISBLANK($B56),\"\",LOOKUP($B56,Inscriptions!A$2:A$65496,Inscriptions!D$2:D$65498))","v":""},null,null,null,null,0,0,0,"",""]
[53,null,{"$f":"IF(ISBLANK($B57),\"\",LOOKUP($B57,Inscriptions!A$2:A$65496,Inscriptions!B$2:B$65498))","v":""},{"$f":"IF(ISBLANK($B57),\"\",LOOKUP($B57,Inscriptions!A$2:A$65496,Inscriptions!C$2:C$65498))","v":""},{"$f":"IF(ISBLANK($B57),\"\",LOOKUP($B57,Inscriptions!A$2:A$65496,Inscriptions!D$2:D$65498))","v":""},null,null,null,null,0,0,0,"",""]
[54,null,{"$f":"IF(ISBLANK($B58),\"\",LOOKUP($B58,Inscriptions!A$2:A$65496,Inscriptions!B$2:B$65498))","v":""},{"$f":"IF(ISBLANK($B58),\"\",LOOKUP($B58,Inscriptions!A$2:A$65496,Inscriptions!C$2:C$65498))","v":""},{"$f":"IF(ISBLANK($B58),\"\",LOOKUP($B58,Inscriptions!A$2:A$65496,Inscriptions!D$2:D$65498))","v":""},null,null,null,null,0,0,0,"",""]
[55,null,{"$f":"IF(ISBLANK($B59),\"\",LOOKUP($B59,Inscriptions!A$2:A$65496,Inscriptions!B$2:B$65498))","v":""},{"$f":"IF(ISBLANK($B59),\"\",LOOKUP($B59,Inscriptions!A$2:A$65496,Inscriptions!C$2:C$65498))","v":""},{"$f":"IF(ISBLANK($B59),\"\",LOOKUP($B59,Inscriptions!A$2:A$65496,Inscriptions!D$2:D$65498))","v":""},null,null,null,null,0,0,0,"",""]
[56,null,{"$f":"IF(ISBLANK($B60),\"\",LOOKUP($B60,Inscriptions!A$2:A$65496,Inscriptions!B$2:B$65498))","v":""},{"$f":"IF(ISBLANK($B60),\"\",LOOKUP($B60,Inscriptions!A$2:A$65496,Inscriptions!C$2:C$65498))","v":""},{"$f":"IF(ISBLANK($B60),\"\",LOOKUP($B60,Inscriptions!A$2:A$65496,Inscriptions!D$2:D$65498))","v":""},null,null,null,null,0,0,0,"",""]
[57,null,{"$f":"IF(ISBLANK($B61),\"\",LOOKUP($B61,Inscriptions!A$2:A$65496,Inscriptions!B$2:B$65498))","v":""},{"$f":"IF(ISBLANK($B61),\"\",LOOKUP($B61,Inscriptions!A$2:A$65496,Inscriptions!C$2:C$65498))","v":""},{"$f":"IF(ISBLANK($B61),\"\",LOOKUP($B61,Inscriptions!A$2:A$65496,Inscriptions!D$2:D$65498))","v":""},null,null,null,null,0,0,0,"",""]
[58,null,{"$f":"IF(ISBLANK($B62),\"\",LOOKUP($B62,Inscriptions!A$2:A$65496,Inscriptions!B$2:B$65498))","v":""},{"$f":"IF(ISBLANK($B62),\"\",LOOKUP($B62,Inscriptions!A$2:A$65496,Inscriptions!C$2:C$65498))","v":""},{"$f":"IF(ISBLANK($B62),\"\",LOOKUP($B62,Inscriptions!A$2:A$65496,Inscriptions!D$2:D$65498))","v":""},null,null,null,null,0,0,0,"",""]
[59,null,{"$f":"IF(ISBLANK($B63),\"\",LOOKUP($B63,Inscriptions!A$2:A$65496,Inscriptions!B$2:B$65498))","v":""},{"$f":"IF(ISBLANK($B63),\"\",LOOKUP($B63,Inscriptions!A$2:A$65496,Inscriptions!C$2:C$65498))","v":""},{"$f":"IF(ISBLANK($B63),\"\",LOOKUP($B63,Inscriptions!A$2:A$65496,Inscriptions!D$2:D$65498))","v":""},null,null,null,null,0,0,0,"",""]
[60,null,{"$f":"IF(ISBLANK($B64),\"\",LOOKUP($B64,Inscriptions!A$2:A$65496,Inscriptions!B$2:B$65498))","v":""},{"$f":"IF(ISBLANK($B64),\"\",LOOKUP($B64,Inscriptions!A$2:A$65496,Inscriptions!C$2:C$65498))","v":""},{"$f":"IF(ISBLANK($B64),\"\",LOOKUP($B64,Inscriptions!A$2:A$65496,Inscriptions!D$2:D$65498))","v":""},null,null,null,null,0,0,0,"",""]
[61,null,{"$f":"IF(ISBLANK($B65),\"\",LOOKUP($B65,Inscriptions!A$2:A$65496,Inscriptions!B$2:B$65498))","v":""},{"$f":"IF(ISBLANK($B65),\"\",LOOKUP($B65,Inscriptions!A$2:A$65496,Inscriptions!C$2:C$65498))","v":""},{"$f":"IF(ISBLANK($B65),\"\",LOOKUP($B65,Inscriptions!A$2:A$65496,Inscriptions!D$2:D$65498))","v":""},null,null,null,null,0,0,0,"",""]
[62,null,{"$f":"IF(ISBLANK($B66),\"\",LOOKUP($B66,Inscriptions!A$2:A$65496,Inscriptions!B$2:B$65498))","v":""},{"$f":"IF(ISBLANK($B66),\"\",LOOKUP($B66,Inscriptions!A$2:A$65496,Inscriptions!C$2:C$65498))","v":""},{"$f":"IF(ISBLANK($B66),\"\",LOOKUP($B66,Inscriptions!A$2:A$65496,Inscriptions!D$2:D$65498))","v":""},null,null,null,null,0,0,0,"",""]
[63,null,{"$f":"IF(ISBLANK($B67),\"\",LOOKUP($B67,Inscriptions!A$2:A$65496,Inscriptions!B$2:B$65498))","v":""},{"$f":"IF(ISBLANK($B67),\"\",LOOKUP($B67,Inscriptions!A$2:A$65496,Inscriptions!C$2:C$65498))","v":""},{"$f":"IF(ISBLANK($B67),\"\",LOOKUP($B67,Inscriptions!A$2:A$65496,Inscriptions!D$2:D$65498))","v":""},null,null,null,null,0,0,0,"",""]
[64,null,{"$f":"IF(ISBLANK($B68),\"\",LOOKUP($B68,Inscriptions!A$2:A$65496,Inscriptions!B$2:B$65498))","v":""},{"$f":"IF(ISBLANK($B68),\"\",LOOKUP($B68,Inscriptions!A$2:A$65496,Inscriptions!C$2:C$65498))","v":""},{"$f":"IF(ISBLANK($B68),\"\",LOOKUP($B68,Inscriptions!A$2:A$65496,Inscriptions!D$2:D$65498))","v":""},null,null,null,null,0,0,0,"",""]
[65,null,{"$f":"IF(ISBLANK($B69),\"\",LOOKUP($B69,Inscriptions!A$2:A$65496,Inscriptions!B$2:B$65498))","v":""},{"$f":"IF(ISBLANK($B69),\"\",LOOKUP($B69,Inscriptions!A$2:A$65496,Inscriptions!C$2:C$65498))","v":""},{"$f":"IF(ISBLANK($B69),\"\",LOOKUP($B69,Inscriptions!A$2:A$65496,Inscriptions!D$2:D$65498))","v":""},null,null,null,null,0,0,0,"",""]
[66,null,{"$f":"IF(ISBLANK($B70),\"\",LOOKUP($B70,Inscriptions!A$2:A$65496,Inscriptions!B$2:B$65498))","v":""},{"$f":"IF(ISBLANK($B70),\"\",LOOKUP($B70,Inscriptions!A$2:A$65496,Inscriptions!C$2:C$65498))","v":""},{"$f":"IF(ISBLANK($B70),\"\",LOOKUP($B70,Inscriptions!A$2:A$65496,Inscriptions!D$2:D$65498))","v":""},null,null,null,null,{"$f":"ROUNDDOWN(I70/10000,0)","v":0},{"$f":"ROUNDDOWN((I70-J70*10000)/100,0)","v":0},{"$f":"ROUNDDOWN((I70-(J70*10000)-(K70*100)),0)","v":0},{"$f":"IF((J70+K70+L70)=0,\"\",ROUNDDOWN((M$4/((J70*3600)+(K70*60)+L70))*3.6,2))","v":""},{"$f":"IF(M70=\"\",\"\",\"km/h\")","v":""}]
[67,null,{"$f":"IF(ISBLANK($B71),\"\",LOOKUP($B71,Inscriptions!A$2:A$65496,Inscriptions!B$2:B$65498))","v":""},{"$f":"IF(ISBLANK($B71),\"\",LOOKUP($B71,Inscriptions!A$2:A$65496,Inscriptions!C$2:C$65498))","v":""},{"$f":"IF(ISBLANK($B71),\"\",LOOKUP($B71,Inscriptions!A$2:A$65496,Inscriptions!D$2:D$65498))","v":""},null,null,null,null,0,0,0,"",""]
[68,null,{"$f":"IF(ISBLANK($B72),\"\",LOOKUP($B72,Inscriptions!A$2:A$65496,Inscriptions!B$2:B$65498))","v":""},{"$f":"IF(ISBLANK($B72),\"\",LOOKUP($B72,Inscriptions!A$2:A$65496,Inscriptions!C$2:C$65498))","v":""},{"$f":"IF(ISBLANK($B72),\"\",LOOKUP($B72,Inscriptions!A$2:A$65496,Inscriptions!D$2:D$65498))","v":""},null,null,null,null,0,0,0,"",""]
[69,null,{"$f":"IF(ISBLANK($B73),\"\",LOOKUP($B73,Inscriptions!A$2:A$65496,Inscriptions!B$2:B$65498))","v":""},{"$f":"IF(ISBLANK($B73),\"\",LOOKUP($B73,Inscriptions!A$2:A$65496,Inscriptions!C$2:C$65498))","v":""},{"$f":"IF(ISBLANK($B73),\"\",LOOKUP($B73,Inscriptions!A$2:A$65496,Inscriptions!D$2:D$65498))","v":""},null,null,null,null,0,0,0,"",""]
[70,null,{"$f":"IF(ISBLANK($B74),\"\",LOOKUP($B74,Inscriptions!A$2:A$65496,Inscriptions!B$2:B$65498))","v":""},{"$f":"IF(ISBLANK($B74),\"\",LOOKUP($B74,Inscriptions!A$2:A$65496,Inscriptions!C$2:C$65498))","v":""},{"$f":"IF(ISBLANK($B74),\"\",LOOKUP($B74,Inscriptions!A$2:A$65496,Inscriptions!D$2:D$65498))","v":""},null,null,null,null,0,0,0,"",""]
[71,null,{"$f":"IF(ISBLANK($B75),\"\",LOOKUP($B75,Inscriptions!A$2:A$65496,Inscriptions!B$2:B$65498))","v":""},{"$f":"IF(ISBLANK($B75),\"\",LOOKUP($B75,Inscriptions!A$2:A$65496,Inscriptions!C$2:C$65498))","v":""},{"$f":"IF(ISBLANK($B75),\"\",LOOKUP($B75,Inscriptions!A$2:A$65496,Inscriptions!D$2:D$65498))","v":""},null,null,null,null,0,0,0,"",""]
[72,null,{"$f":"IF(ISBLANK($B76),\"\",LOOKUP($B76,Inscriptions!A$2:A$65496,Inscriptions!B$2:B$65498))","v":""},{"$f":"IF(ISBLANK($B76),\"\",LOOKUP($B76,Inscriptions!A$2:A$65496,Inscriptions!C$2:C$65498))","v":""},{"$f":"IF(ISBLANK($B76),\"\",LOOKUP($B76,Inscriptions!A$2:A$65496,Inscriptions!D$2:D$65498))","v":""},null,null,null,null,0,0,0,"",""]
[73,null,{"$f":"IF(ISBLANK($B77),\"\",LOOKUP($B77,Inscriptions!A$2:A$65496,Inscriptions!B$2:B$65498))","v":""},{"$f":"IF(ISBLANK($B77),\"\",LOOKUP($B77,Inscriptions!A$2:A$65496,Inscriptions!C$2:C$65498))","v":""},{"$f":"IF(ISBLANK($B77),\"\",LOOKUP($B77,Inscriptions!A$2:A$65496,Inscriptions!D$2:D$65498))","v":""},null,null,null,null,0,0,0,"",""]
[74,null,{"$f":"IF(ISBLANK($B78),\"\",LOOKUP($B78,Inscriptions!A$2:A$65496,Inscriptions!B$2:B$65498))","v":""},{"$f":"IF(ISBLANK($B78),\"\",LOOKUP($B78,Inscriptions!A$2:A$65496,Inscriptions!C$2:C$65498))","v":""},{"$f":"IF(ISBLANK($B78),\"\",LOOKUP($B78,Inscriptions!A$2:A$65496,Inscriptions!D$2:D$65498))","v":""},null,null,null,null,0,0,0,"",""]
[75,null,{"$f":"IF(ISBLANK($B79),\"\",LOOKUP($B79,Inscriptions!A$2:A$65496,Inscriptions!B$2:B$65498))","v":""},{"$f":"IF(ISBLANK($B79),\"\",LOOKUP($B79,Inscriptions!A$2:A$65496,Inscriptions!C$2:C$65498))","v":""},{"$f":"IF(ISBLANK($B79),\"\",LOOKUP($B79,Inscriptions!A$2:A$65496,Inscriptions!D$2:D$65498))","v":""},null,null,null,null,0,0,0,"",""]
[76,null,{"$f":"IF(ISBLANK($B80),\"\",LOOKUP($B80,Inscriptions!A$2:A$65496,Inscriptions!B$2:B$65498))","v":""},{"$f":"IF(ISBLANK($B80),\"\",LOOKUP($B80,Inscriptions!A$2:A$65496,Inscriptions!C$2:C$65498))","v":""},{"$f":"IF(ISBLANK($B80),\"\",LOOKUP($B80,Inscriptions!A$2:A$65496,Inscriptions!D$2:D$65498))","v":""},null,null,null,null,0,0,0,"",""]
[77,null,{"$f":"IF(ISBLANK($B81),\"\",LOOKUP($B81,Inscriptions!A$2:A$65496,Inscriptions!B$2:B$65498))","v":""},{"$f":"IF(ISBLANK($B81),\"\",LOOKUP($B81,Inscriptions!A$2:A$65496,Inscriptions!C$2:C$65498))","v":""},{"$f":"IF(ISBLANK($B81),\"\",LOOKUP($B81,Inscriptions!A$2:A$65496,Inscriptions!D$2:D$65498))","v":""},null,null,null,null,0,0,0,"",""]
[78,null,{"$f":"IF(ISBLANK($B82),\"\",LOOKUP($B82,Inscriptions!A$2:A$65496,Inscriptions!B$2:B$65498))","v":""},{"$f":"IF(ISBLANK($B82),\"\",LOOKUP($B82,Inscriptions!A$2:A$65496,Inscriptions!C$2:C$65498))","v":""},{"$f":"IF(ISBLANK($B82),\"\",LOOKUP($B82,Inscriptions!A$2:A$65496,Inscriptions!D$2:D$65498))","v":""},null,null,null,null,0,0,0,"",""]
[79,null,{"$f":"IF(ISBLANK($B83),\"\",LOOKUP($B83,Inscriptions!A$2:A$65496,Inscriptions!B$2:B$65498))","v":""},{"$f":"IF(ISBLANK($B83),\"\",LOOKUP($B83,Inscriptions!A$2:A$65496,Inscriptions!C$2:C$65498))","v":""},{"$f":"IF(ISBLANK($B83),\"\",LOOKUP($B83,Inscriptions!A$2:A$65496,Inscriptions!D$2:D$65498))","v":""},null,null,null,null,0,0,0,"",""]
[80,null,{"$f":"IF(ISBLANK($B84),\"\",LOOKUP($B84,Inscriptions!A$2:A$65496,Inscriptions!B$2:B$65498))","v":""},{"$f":"IF(ISBLANK($B84),\"\",LOOKUP($B84,Inscriptions!A$2:A$65496,Inscriptions!C$2:C$65498))","v":""},{"$f":"IF(ISBLANK($B84),\"\",LOOKUP($B84,Inscriptions!A$2:A$65496,Inscriptions!D$2:D$65498))","v":""},null,null,null,null,0,0,0,"",""]
[81,null,{"$f":"IF(ISBLANK($B85),\"\",LOOKUP($B85,Inscriptions!A$2:A$65496,Inscriptions!B$2:B$65498))","v":""},{"$f":"IF(ISBLANK($B85),\"\",LOOKUP($B85,Inscriptions!A$2:A$65496,Inscriptions!C$2:C$65498))","v":""},{"$f":"IF(ISBLANK($B85),\"\",LOOKUP($B85,Inscriptions!A$2:A$65496,Inscriptions!D$2:D$65498))","v":""},null,null,null,null,0,0,0,"",""]
[82,null,{"$f":"IF(ISBLANK($B86),\"\",LOOKUP($B86,Inscriptions!A$2:A$65496,Inscriptions!B$2:B$65498))","v":""},{"$f":"IF(ISBLANK($B86),\"\",LOOKUP($B86,Inscriptions!A$2:A$65496,Inscriptions!C$2:C$65498))","v":""},{"$f":"IF(ISBLANK($B86),\"\",LOOKUP($B86,Inscriptions!A$2:A$65496,Inscriptions!D$2:D$65498))","v":""},null,null,null,null,0,0,0,"",""]
[83,null,{"$f":"IF(ISBLANK($B87),\"\",LOOKUP($B87,Inscriptions!A$2:A$65496,Inscriptions!B$2:B$65498))","v":""},{"$f":"IF(ISBLANK($B87),\"\",LOOKUP($B87,Inscriptions!A$2:A$65496,Inscriptions!C$2:C$65498))","v":""},{"$f":"IF(ISBLANK($B87),\"\",LOOKUP($B87,Inscriptions!A$2:A$65496,Inscriptions!D$2:D$65498))","v":""},null,null,null,null,0,0,0,"",""]
[84,null,{"$f":"IF(ISBLANK($B88),\"\",LOOKUP($B88,Inscriptions!A$2:A$65496,Inscriptions!B$2:B$65498))","v":""},{"$f":"IF(ISBLANK($B88),\"\",LOOKUP($B88,Inscriptions!A$2:A$65496,Inscriptions!C$2:C$65498))","v":""},{"$f":"IF(ISBLANK($B88),\"\",LOOKUP($B88,Inscriptions!A$2:A$65496,Inscriptions!D$2:D$65498))","v":""},null,null,null,null,0,0,0,"",""]
[85,null,{"$f":"IF(ISBLANK($B89),\"\",LOOKUP($B89,Inscriptions!A$2:A$65496,Inscriptions!B$2:B$65498))","v":""},{"$f":"IF(ISBLANK($B89),\"\",LOOKUP($B89,Inscriptions!A$2:A$65496,Inscriptions!C$2:C$65498))","v":""},{"$f":"IF(ISBLANK($B89),\"\",LOOKUP($B89,Inscriptions!A$2:A$65496,Inscriptions!D$2:D$65498))","v":""},null,null,null,null,0,0,0,"",""]
[86,null,{"$f":"IF(ISBLANK($B90),\"\",LOOKUP($B90,Inscriptions!A$2:A$65496,Inscriptions!B$2:B$65498))","v":""},{"$f":"IF(ISBLANK($B90),\"\",LOOKUP($B90,Inscriptions!A$2:A$65496,Inscriptions!C$2:C$65498))","v":""},{"$f":"IF(ISBLANK($B90),\"\",LOOKUP($B90,Inscriptions!A$2:A$65496,Inscriptions!D$2:D$65498))","v":""},null,null,null,null,0,0,0,"",""]
[87,null,{"$f":"IF(ISBLANK($B91),\"\",LOOKUP($B91,Inscriptions!A$2:A$65496,Inscriptions!B$2:B$65498))","v":""},{"$f":"IF(ISBLANK($B91),\"\",LOOKUP($B91,Inscriptions!A$2:A$65496,Inscriptions!C$2:C$65498))","v":""},{"$f":"IF(ISBLANK($B91),\"\",LOOKUP($B91,Inscriptions!A$2:A$65496,Inscriptions!D$2:D$65498))","v":""},null,null,null,null,0,0,0,"",""]
[88,null,{"$f":"IF(ISBLANK($B92),\"\",LOOKUP($B92,Inscriptions!A$2:A$65496,Inscriptions!B$2:B$65498))","v":""},{"$f":"IF(ISBLANK($B92),\"\",LOOKUP($B92,Inscriptions!A$2:A$65496,Inscriptions!C$2:C$65498))","v":""},{"$f":"IF(ISBLANK($B92),\"\",LOOKUP($B92,Inscriptions!A$2:A$65496,Inscriptions!D$2:D$65498))","v":""},null,null,null,null,0,0,0,"",""]
[89,null,{"$f":"IF(ISBLANK($B93),\"\",LOOKUP($B93,Inscriptions!A$2:A$65496,Inscriptions!B$2:B$65498))","v":""},{"$f":"IF(ISBLANK($B93),\"\",LOOKUP($B93,Inscriptions!A$2:A$65496,Inscriptions!C$2:C$65498))","v":""},{"$f":"IF(ISBLANK($B93),\"\",LOOKUP($B93,Inscriptions!A$2:A$65496,Inscriptions!D$2:D$65498))","v":""},null,null,null,null,0,0,0,"",""]
[90,null,{"$f":"IF(ISBLANK($B94),\"\",LOOKUP($B94,Inscriptions!A$2:A$65496,Inscriptions!B$2:B$65498))","v":""},{"$f":"IF(ISBLANK($B94),\"\",LOOKUP($B94,Inscriptions!A$2:A$65496,Inscriptions!C$2:C$65498))","v":""},{"$f":"IF(ISBLANK($B94),\"\",LOOKUP($B94,Inscriptions!A$2:A$65496,Inscriptions!D$2:D$65498))","v":""},null,null,null,null,0,0,0,"",""]
[91,null,{"$f":"IF(ISBLANK($B95),\"\",LOOKUP($B95,Inscriptions!A$2:A$65496,Inscriptions!B$2:B$65498))","v":""},{"$f":"IF(ISBLANK($B95),\"\",LOOKUP($B95,Inscriptions!A$2:A$65496,Inscriptions!C$2:C$65498))","v":""},{"$f":"IF(ISBLANK($B95),\"\",LOOKUP($B95,Inscriptions!A$2:A$65496,Inscriptions!D$2:D$65498))","v":""},null,null,null,null,0,0,0,"",""]
[92,null,{"$f":"IF(ISBLANK($B96),\"\",LOOKUP($B96,Inscriptions!A$2:A$65496,Inscriptions!B$2:B$65498))","v":""},{"$f":"IF(ISBLANK($B96),\"\",LOOKUP($B96,Inscriptions!A$2:A$65496,Inscriptions!C$2:C$65498))","v":""},{"$f":"IF(ISBLANK($B96),\"\",LOOKUP($B96,Inscriptions!A$2:A$65496,Inscriptions!D$2:D$65498))","v":""},null,null,null,null,0,0,0,"",""]
[93,null,{"$f":"IF(ISBLANK($B97),\"\",LOOKUP($B97,Inscriptions!A$2:A$65496,Inscriptions!B$2:B$65498))","v":""},{"$f":"IF(ISBLANK($B97),\"\",LOOKUP($B97,Inscriptions!A$2:A$65496,Inscriptions!C$2:C$65498))","v":""},{"$f":"IF(ISBLANK($B97),\"\",LOOKUP($B97,Inscriptions!A$2:A$65496,Inscriptions!D$2:D$65498))","v":""},null,null,null,null,0,0,0,"",""]
[94,null,{"$f":"IF(ISBLANK($B98),\"\",LOOKUP($B98,Inscriptions!A$2:A$65496,Inscriptions!B$2:B$65498))","v":""},{"$f":"IF(ISBLANK($B98),\"\",LOOKUP($B98,Inscriptions!A$2:A$65496,Inscriptions!C$2:C$65498))","v":""},{"$f":"IF(ISBLANK($B98),\"\",LOOKUP($B98,Inscriptions!A$2:A$65496,Inscriptions!D$2:D$65498))","v":""},null,null,null,null,0,0,0,"",""]
[95,null,{"$f":"IF(ISBLANK($B99),\"\",LOOKUP($B99,Inscriptions!A$2:A$65496,Inscriptions!B$2:B$65498))","v":""},{"$f":"IF(ISBLANK($B99),\"\",LOOKUP($B99,Inscriptions!A$2:A$65496,Inscriptions!C$2:C$65498))","v":""},{"$f":"IF(ISBLANK($B99),\"\",LOOKUP($B99,Inscriptions!A$2:A$65496,Inscriptions!D$2:D$65498))","v":""},null,null,null,null,0,0,0,"",""]
[96,null,{"$f":"IF(ISBLANK($B100),\"\",LOOKUP($B100,Inscriptions!A$2:A$65496,Inscriptions!B$2:B$65498))","v":""},{"$f":"IF(ISBLANK($B100),\"\",LOOKUP($B100,Inscriptions!A$2:A$65496,Inscriptions!C$2:C$65498))","v":""},{"$f":"IF(ISBLANK($B100),\"\",LOOKUP($B100,Inscriptions!A$2:A$65496,Inscriptions!D$2:D$65498))","v":""},null,null,null,null,0,0,0,"",""]
[97,null,{"$f":"IF(ISBLANK($B101),\"\",LOOKUP($B101,Inscriptions!A$2:A$65496,Inscriptions!B$2:B$65498))","v":""},{"$f":"IF(ISBLANK($B101),\"\",LOOKUP($B101,Inscriptions!A$2:A$65496,Inscriptions!C$2:C$65498))","v":""},{"$f":"IF(ISBLANK($B101),\"\",LOOKUP($B101,Inscriptions!A$2:A$65496,Inscriptions!D$2:D$65498))","v":""},null,null,null,null,0,0,0,"",""]
[98,null,{"$f":"IF(ISBLANK($B102),\"\",LOOKUP($B102,Inscriptions!A$2:A$65496,Inscriptions!B$2:B$65498))","v":""},{"$f":"IF(ISBLANK($B102),\"\",LOOKUP($B102,Inscriptions!A$2:A$65496,Inscriptions!C$2:C$65498))","v":""},{"$f":"IF(ISBLANK($B102),\"\",LOOKUP($B102,Inscriptions!A$2:A$65496,Inscriptions!D$2:D$65498))","v":""},null,null,null,null,0,0,0,"",""]
[99,null,{"$f":"IF(ISBLANK($B103),\"\",LOOKUP($B103,Inscriptions!A$2:A$65496,Inscriptions!B$2:B$65498))","v":""},{"$f":"IF(ISBLANK($B103),\"\",LOOKUP($B103,Inscriptions!A$2:A$65496,Inscriptions!C$2:C$65498))","v":""},{"$f":"IF(ISBLANK($B103),\"\",LOOKUP($B103,Inscriptions!A$2:A$65496,Inscriptions!D$2:D$65498))","v":""},null,null,null,null,0,0,0,"",""]
[100,null,{"$f":"IF(ISBLANK($B104),\"\",LOOKUP($B104,Inscriptions!A$2:A$65496,Inscriptions!B$2:B$65498))","v":""},{"$f":"IF(ISBLANK($B104),\"\",LOOKUP($B104,Inscriptions!A$2:A$65496,Inscriptions!C$2:C$65498))","v":""},{"$f":"IF(ISBLANK($B104),\"\",LOOKUP($B104,Inscriptions!A$2:A$65496,Inscriptions!D$2:D$65498))","v":""},null,null,null,null,0,0,0,"",""]
[101,null,{"$f":"IF(ISBLANK($B105),\"\",LOOKUP($B105,Inscriptions!A$2:A$65496,Inscriptions!B$2:B$65498))","v":""},{"$f":"IF(ISBLANK($B105),\"\",LOOKUP($B105,Inscriptions!A$2:A$65496,Inscriptions!C$2:C$65498))","v":""},{"$f":"IF(ISBLANK($B105),\"\",LOOKUP($B105,Inscriptions!A$2:A$65496,Inscriptions!D$2:D$65498))","v":""},null,null,null,null,0,0,0,"",""]
[102,null,{"$f":"IF(ISBLANK($B106),\"\",LOOKUP($B106,Inscriptions!A$2:A$65496,Inscriptions!B$2:B$65498))","v":""},{"$f":"IF(ISBLANK($B106),\"\",LOOKUP($B106,Inscriptions!A$2:A$65496,Inscriptions!C$2:C$65498))","v":""},{"$f":"IF(ISBLANK($B106),\"\",LOOKUP($B106,Inscriptions!A$2:A$65496,Inscriptions!D$2:D$65498))","v":""},null,null,null,null,0,0,0,"",""]
[103,null,{"$f":"IF(ISBLANK($B107),\"\",LOOKUP($B107,Inscriptions!A$2:A$65496,Inscriptions!B$2:B$65498))","v":""},{"$f":"IF(ISBLANK($B107),\"\",LOOKUP($B107,Inscriptions!A$2:A$65496,Inscriptions!C$2:C$65498))","v":""},{"$f":"IF(ISBLANK($B107),\"\",LOOKUP($B107,Inscriptions!A$2:A$65496,Inscriptions!D$2:D$65498))","v":""},null,null,null,null,0,0,0,"",""]
[104,null,{"$f":"IF(ISBLANK($B108),\"\",LOOKUP($B108,Inscriptions!A$2:A$65496,Inscriptions!B$2:B$65498))","v":""},{"$f":"IF(ISBLANK($B108),\"\",LOOKUP($B108,Inscriptions!A$2:A$65496,Inscriptions!C$2:C$65498))","v":""},{"$f":"IF(ISBLANK($B108),\"\",LOOKUP($B108,Inscriptions!A$2:A$65496,Inscriptions!D$2:D$65498))","v":""},null,null,null,null,0,0,0,"",""]
[105,null,{"$f":"IF(ISBLANK($B109),\"\",LOOKUP($B109,Inscriptions!A$2:A$65496,Inscriptions!B$2:B$65498))","v":""},{"$f":"IF(ISBLANK($B109),\"\",LOOKUP($B109,Inscriptions!A$2:A$65496,Inscriptions!C$2:C$65498))","v":""},{"$f":"IF(ISBLANK($B109),\"\",LOOKUP($B109,Inscriptions!A$2:A$65496,Inscriptions!D$2:D$65498))","v":""},null,null,null,null,0,0,0,"",""]
[106,null,{"$f":"IF(ISBLANK($B110),\"\",LOOKUP($B110,Inscriptions!A$2:A$65496,Inscriptions!B$2:B$65498))","v":""},{"$f":"IF(ISBLANK($B110),\"\",LOOKUP($B110,Inscriptions!A$2:A$65496,Inscriptions!C$2:C$65498))","v":""},{"$f":"IF(ISBLANK($B110),\"\",LOOKUP($B110,Inscriptions!A$2:A$65496,Inscriptions!D$2:D$65498))","v":""},null,null,null,null,0,0,0,"",""]
[107,null,{"$f":"IF(ISBLANK($B111),\"\",LOOKUP($B111,Inscriptions!A$2:A$65496,Inscriptions!B$2:B$65498))","v":""},{"$f":"IF(ISBLANK($B111),\"\",LOOKUP($B111,Inscriptions!A$2:A$65496,Inscriptions!C$2:C$65498))","v":""},{"$f":"IF(ISBLANK($B111),\"\",LOOKUP($B111,Inscriptions!A$2:A$65496,Inscriptions!D$2:D$65498))","v":""},null,null,null,null,0,0,0,"",""]
[108,null,{"$f":"IF(ISBLANK($B112),\"\",LOOKUP($B112,Inscriptions!A$2:A$65496,Inscriptions!B$2:B$65498))","v":""},{"$f":"IF(ISBLANK($B112),\"\",LOOKUP($B112,Inscriptions!A$2:A$65496,Inscriptions!C$2:C$65498))","v":""},{"$f":"IF(ISBLANK($B112),\"\",LOOKUP($B112,Inscriptions!A$2:A$65496,Inscriptions!D$2:D$65498))","v":""},null,null,null,null,0,0,0,"",""]
[109,null,{"$f":"IF(ISBLANK($B113),\"\",LOOKUP($B113,Inscriptions!A$2:A$65496,Inscriptions!B$2:B$65498))","v":""},{"$f":"IF(ISBLANK($B113),\"\",LOOKUP($B113,Inscriptions!A$2:A$65496,Inscriptions!C$2:C$65498))","v":""},{"$f":"IF(ISBLANK($B113),\"\",LOOKUP($B113,Inscriptions!A$2:A$65496,Inscriptions!D$2:D$65498))","v":""},null,null,null,null,0,0,0,"",""]
[110,null,{"$f":"IF(ISBLANK($B114),\"\",LOOKUP($B114,Inscriptions!A$2:A$65496,Inscriptions!B$2:B$65498))","v":""},{"$f":"IF(ISBLANK($B114),\"\",LOOKUP($B114,Inscriptions!A$2:A$65496,Inscriptions!C$2:C$65498))","v":""},{"$f":"IF(ISBLANK($B114),\"\",LOOKUP($B114,Inscriptions!A$2:A$65496,Inscriptions!D$2:D$65498))","v":""},null,null,null,null,0,0,0,"",""]
[111,null,{"$f":"IF(ISBLANK($B115),\"\",LOOKUP($B115,Inscriptions!A$2:A$65496,Inscriptions!B$2:B$65498))","v":""},{"$f":"IF(ISBLANK($B115),\"\",LOOKUP($B115,Inscriptions!A$2:A$65496,Inscriptions!C$2:C$65498))","v":""},{"$f":"IF(ISBLANK($B115),\"\",LOOKUP($B115,Inscriptions!A$2:A$65496,Inscriptions!D$2:D$65498))","v":""},null,null,null,null,0,0,0,"",""]
[112,null,{"$f":"IF(ISBLANK($B116),\"\",LOOKUP($B116,Inscriptions!A$2:A$65496,Inscriptions!B$2:B$65498))","v":""},{"$f":"IF(ISBLANK($B116),\"\",LOOKUP($B116,Inscriptions!A$2:A$65496,Inscriptions!C$2:C$65498))","v":""},{"$f":"IF(ISBLANK($B116),\"\",LOOKUP($B116,Inscriptions!A$2:A$65496,Inscriptions!D$2:D$65498))","v":""},null,null,null,null,0,0,0,"",""]
[113,null,{"$f":"IF(ISBLANK($B117),\"\",LOOKUP($B117,Inscriptions!A$2:A$65496,Inscriptions!B$2:B$65498))","v":""},{"$f":"IF(ISBLANK($B117),\"\",LOOKUP($B117,Inscriptions!A$2:A$65496,Inscriptions!C$2:C$65498))","v":""},{"$f":"IF(ISBLANK($B117),\"\",LOOKUP($B117,Inscriptions!A$2:A$65496,Inscriptions!D$2:D$65498))","v":""},null,null,null,null,0,0,0,"",""]
[114,null,{"$f":"IF(ISBLANK($B118),\"\",LOOKUP($B118,Inscriptions!A$2:A$65496,Inscriptions!B$2:B$65498))","v":""},{"$f":"IF(ISBLANK($B118),\"\",LOOKUP($B118,Inscriptions!A$2:A$65496,Inscriptions!C$2:C$65498))","v":""},{"$f":"IF(ISBLANK($B118),\"\",LOOKUP($B118,Inscriptions!A$2:A$65496,Inscriptions!D$2:D$65498))","v":""},null,null,null,null,0,0,0,"",""]
[115,null,{"$f":"IF(ISBLANK($B119),\"\",LOOKUP($B119,Inscriptions!A$2:A$65496,Inscriptions!B$2:B$65498))","v":""},{"$f":"IF(ISBLANK($B119),\"\",LOOKUP($B119,Inscriptions!A$2:A$65496,Inscriptions!C$2:C$65498))","v":""},{"$f":"IF(ISBLANK($B119),\"\",LOOKUP($B119,Inscriptions!A$2:A$65496,Inscriptions!D$2:D$65498))","v":""},null,null,null,null,0,0,0,"",""]
[116,null,{"$f":"IF(ISBLANK($B120),\"\",LOOKUP($B120,Inscriptions!A$2:A$65496,Inscriptions!B$2:B$65498))","v":""},{"$f":"IF(ISBLANK($B120),\"\",LOOKUP($B120,Inscriptions!A$2:A$65496,Inscriptions!C$2:C$65498))","v":""},{"$f":"IF(ISBLANK($B120),\"\",LOOKUP($B120,Inscriptions!A$2:A$65496,Inscriptions!D$2:D$65498))","v":""},null,null,null,null,0,0,0,"",""]
[117,null,{"$f":"IF(ISBLANK($B121),\"\",LOOKUP($B121,Inscriptions!A$2:A$65496,Inscriptions!B$2:B$65498))","v":""},{"$f":"IF(ISBLANK($B121),\"\",LOOKUP($B121,Inscriptions!A$2:A$65496,Inscriptions!C$2:C$65498))","v":""},{"$f":"IF(ISBLANK($B121),\"\",LOOKUP($B121,Inscriptions!A$2:A$65496,Inscriptions!D$2:D$65498))","v":""},null,null,null,null,0,0,0,"",""]
[118,null,{"$f":"IF(ISBLANK($B122),\"\",LOOKUP($B122,Inscriptions!A$2:A$65496,Inscriptions!B$2:B$65498))","v":""},{"$f":"IF(ISBLANK($B122),\"\",LOOKUP($B122,Inscriptions!A$2:A$65496,Inscriptions!C$2:C$65498))","v":""},{"$f":"IF(ISBLANK($B122),\"\",LOOKUP($B122,Inscriptions!A$2:A$65496,Inscriptions!D$2:D$65498))","v":""},null,null,null,null,0,0,0,"",""]
[119,null,{"$f":"IF(ISBLANK($B123),\"\",LOOKUP($B123,Inscriptions!A$2:A$65496,Inscriptions!B$2:B$65498))","v":""},{"$f":"IF(ISBLANK($B123),\"\",LOOKUP($B123,Inscriptions!A$2:A$65496,Inscriptions!C$2:C$65498))","v":""},{"$f":"IF(ISBLANK($B123),\"\",LOOKUP($B123,Inscriptions!A$2:A$65496,Inscriptions!D$2:D$65498))","v":""},null,null,null,null,0,0,0,"",""]
[120,null,{"$f":"IF(ISBLANK($B124),\"\",LOOKUP($B124,Inscriptions!A$2:A$65496,Inscriptions!B$2:B$65498))","v":""},{"$f":"IF(ISBLANK($B124),\"\",LOOKUP($B124,Inscriptions!A$2:A$65496,Inscriptions!C$2:C$65498))","v":""},{"$f":"IF(ISBLANK($B124),\"\",LOOKUP($B124,Inscriptions!A$2:A$65496,Inscriptions!D$2:D$65498))","v":""},null,null,null,null,0,0,0,"",""]
[121,null,{"$f":"IF(ISBLANK($B125),\"\",LOOKUP($B125,Inscriptions!A$2:A$65496,Inscriptions!B$2:B$65498))","v":""},{"$f":"IF(ISBLANK($B125),\"\",LOOKUP($B125,Inscriptions!A$2:A$65496,Inscriptions!C$2:C$65498))","v":""},{"$f":"IF(ISBLANK($B125),\"\",LOOKUP($B125,Inscriptions!A$2:A$65496,Inscriptions!D$2:D$65498))","v":""},null,null,null,null,0,0,0,"",""]
[122,null,{"$f":"IF(ISBLANK($B126),\"\",LOOKUP($B126,Inscriptions!A$2:A$65496,Inscriptions!B$2:B$65498))","v":""},{"$f":"IF(ISBLANK($B126),\"\",LOOKUP($B126,Inscriptions!A$2:A$65496,Inscriptions!C$2:C$65498))","v":""},{"$f":"IF(ISBLANK($B126),\"\",LOOKUP($B126,Inscriptions!A$2:A$65496,Inscriptions!D$2:D$65498))","v":""},null,null,null,null,0,0,0,"",""]
[123,null,{"$f":"IF(ISBLANK($B127),\"\",LOOKUP($B127,Inscriptions!A$2:A$65496,Inscriptions!B$2:B$65498))","v":""},{"$f":"IF(ISBLANK($B127),\"\",LOOKUP($B127,Inscriptions!A$2:A$65496,Inscriptions!C$2:C$65498))","v":""},{"$f":"IF(ISBLANK($B127),\"\",LOOKUP($B127,Inscriptions!A$2:A$65496,Inscriptions!D$2:D$65498))","v":""},null,null,null,null,0,0,0,"",""]
[124,null,{"$f":"IF(ISBLANK($B128),\"\",LOOKUP($B128,Inscriptions!A$2:A$65496,Inscriptions!B$2:B$65498))","v":""},{"$f":"IF(ISBLANK($B128),\"\",LOOKUP($B128,Inscriptions!A$2:A$65496,Inscriptions!C$2:C$65498))","v":""},{"$f":"IF(ISBLANK($B128),\"\",LOOKUP($B128,Inscriptions!A$2:A$65496,Inscriptions!D$2:D$65498))","v":""},null,null,null,null,0,0,0,"",""]
[125,null,{"$f":"IF(ISBLANK($B129),\"\",LOOKUP($B129,Inscriptions!A$2:A$65496,Inscriptions!B$2:B$65498))","v":""},{"$f":"IF(ISBLANK($B129),\"\",LOOKUP($B129,Inscriptions!A$2:A$65496,Inscriptions!C$2:C$65498))","v":""},{"$f":"IF(ISBLANK($B129),\"\",LOOKUP($B129,Inscriptions!A$2:A$65496,Inscriptions!D$2:D$65498))","v":""},null,null,null,null,0,0,0,"",""]
[126,null,{"$f":"IF(ISBLANK($B130),\"\",LOOKUP($B130,Inscriptions!A$2:A$65496,Inscriptions!B$2:B$65498))","v":""},{"$f":"IF(ISBLANK($B130),\"\",LOOKUP($B130,Inscriptions!A$2:A$65496,Inscriptions!C$2:C$65498))","v":""},{"$f":"IF(ISBLANK($B130),\"\",LOOKUP($B130,Inscriptions!A$2:A$65496,Inscriptions!D$2:D$65498))","v":""},null,null,null,null,0,0,0,"",""]
[127,null,{"$f":"IF(ISBLANK($B131),\"\",LOOKUP($B131,Inscriptions!A$2:A$65496,Inscriptions!B$2:B$65498))","v":""},{"$f":"IF(ISBLANK($B131),\"\",LOOKUP($B131,Inscriptions!A$2:A$65496,Inscriptions!C$2:C$65498))","v":""},{"$f":"IF(ISBLANK($B131),\"\",LOOKUP($B131,Inscriptions!A$2:A$65496,Inscriptions!D$2:D$65498))","v":""},null,null,null,null,0,0,0,"",""]
[128,null,{"$f":"IF(ISBLANK($B132),\"\",LOOKUP($B132,Inscriptions!A$2:A$65496,Inscriptions!B$2:B$65498))","v":""},{"$f":"IF(ISBLANK($B132),\"\",LOOKUP($B132,Inscriptions!A$2:A$65496,Inscriptions!C$2:C$65498))","v":""},{"$f":"IF(ISBLANK($B132),\"\",LOOKUP($B132,Inscriptions!A$2:A$65496,Inscriptions!D$2:D$65498))","v":""},null,null,null,null,0,0,0,"",""]
[129,null,{"$f":"IF(ISBLANK($B133),\"\",LOOKUP($B133,Inscriptions!A$2:A$65496,Inscriptions!B$2:B$65498))","v":""},{"$f":"IF(ISBLANK($B133),\"\",LOOKUP($B133,Inscriptions!A$2:A$65496,Inscriptions!C$2:C$65498))","v":""},{"$f":"IF(ISBLANK($B133),\"\",LOOKUP($B133,Inscriptions!A$2:A$65496,Inscriptions!D$2:D$65498))","v":""},null,null,null,null,0,0,0,"",""]
[130,null,{"$f":"IF(ISBLANK($B134),\"\",LOOKUP($B134,Inscriptions!A$2:A$65496,Inscriptions!B$2:B$65498))","v":""},{"$f":"IF(ISBLANK($B134),\"\",LOOKUP($B134,Inscriptions!A$2:A$65496,Inscriptions!C$2:C$65498))","v":""},{"$f":"IF(ISBLANK($B134),\"\",LOOKUP($B134,Inscriptions!A$2:A$65496,Inscriptions!D$2:D$65498))","v":""},null,null,null,null,{"$f":"ROUNDDOWN(I134/10000,0)","v":0},{"$f":"ROUNDDOWN((I134-J134*10000)/100,0)","v":0},{"$f":"ROUNDDOWN((I134-(J134*10000)-(K134*100)),0)","v":0},{"$f":"IF((J134+K134+L134)=0,\"\",ROUNDDOWN((M$4/((J134*3600)+(K134*60)+L134))*3.6,2))","v":""},{"$f":"IF(M134=\"\",\"\",\"km/h\")","v":""}]
[131,null,{"$f":"IF(ISBLANK($B135),\"\",LOOKUP($B135,Inscriptions!A$2:A$65496,Inscriptions!B$2:B$65498))","v":""},{"$f":"IF(ISBLANK($B135),\"\",LOOKUP($B135,Inscriptions!A$2:A$65496,Inscriptions!C$2:C$65498))","v":""},{"$f":"IF(ISBLANK($B135),\"\",LOOKUP($B135,Inscriptions!A$2:A$65496,Inscriptions!D$2:D$65498))","v":""},null,null,null,null,0,0,0,"",""]
[132,null,{"$f":"IF(ISBLANK($B136),\"\",LOOKUP($B136,Inscriptions!A$2:A$65496,Inscriptions!B$2:B$65498))","v":""},{"$f":"IF(ISBLANK($B136),\"\",LOOKUP($B136,Inscriptions!A$2:A$65496,Inscriptions!C$2:C$65498))","v":""},{"$f":"IF(ISBLANK($B136),\"\",LOOKUP($B136,Inscriptions!A$2:A$65496,Inscriptions!D$2:D$65498))","v":""},null,null,null,null,0,0,0,"",""]
[133,null,{"$f":"IF(ISBLANK($B137),\"\",LOOKUP($B137,Inscriptions!A$2:A$65496,Inscriptions!B$2:B$65498))","v":""},{"$f":"IF(ISBLANK($B137),\"\",LOOKUP($B137,Inscriptions!A$2:A$65496,Inscriptions!C$2:C$65498))","v":""},{"$f":"IF(ISBLANK($B137),\"\",LOOKUP($B137,Inscriptions!A$2:A$65496,Inscriptions!D$2:D$65498))","v":""},null,null,null,null,0,0,0,"",""]
[134,null,{"$f":"IF(ISBLANK($B138),\"\",LOOKUP($B138,Inscriptions!A$2:A$65496,Inscriptions!B$2:B$65498))","v":""},{"$f":"IF(ISBLANK($B138),\"\",LOOKUP($B138,Inscriptions!A$2:A$65496,Inscriptions!C$2:C$65498))","v":""},{"$f":"IF(ISBLANK($B138),\"\",LOOKUP($B138,Inscriptions!A$2:A$65496,Inscriptions!D$2:D$65498))","v":""},null,null,null,null,0,0,0,"",""]
[135,null,{"$f":"IF(ISBLANK($B139),\"\",LOOKUP($B139,Inscriptions!A$2:A$65496,Inscriptions!B$2:B$65498))","v":""},{"$f":"IF(ISBLANK($B139),\"\",LOOKUP($B139,Inscriptions!A$2:A$65496,Inscriptions!C$2:C$65498))","v":""},{"$f":"IF(ISBLANK($B139),\"\",LOOKUP($B139,Inscriptions!A$2:A$65496,Inscriptions!D$2:D$65498))","v":""},null,null,null,null,0,0,0,"",""]
[136,null,{"$f":"IF(ISBLANK($B140),\"\",LOOKUP($B140,Inscriptions!A$2:A$65496,Inscriptions!B$2:B$65498))","v":""},{"$f":"IF(ISBLANK($B140),\"\",LOOKUP($B140,Inscriptions!A$2:A$65496,Inscriptions!C$2:C$65498))","v":""},{"$f":"IF(ISBLANK($B140),\"\",LOOKUP($B140,Inscriptions!A$2:A$65496,Inscriptions!D$2:D$65498))","v":""},null,null,null,null,0,0,0,"",""]
[137,null,{"$f":"IF(ISBLANK($B141),\"\",LOOKUP($B141,Inscriptions!A$2:A$65496,Inscriptions!B$2:B$65498))","v":""},{"$f":"IF(ISBLANK($B141),\"\",LOOKUP($B141,Inscriptions!A$2:A$65496,Inscriptions!C$2:C$65498))","v":""},{"$f":"IF(ISBLANK($B141),\"\",LOOKUP($B141,Inscriptions!A$2:A$65496,Inscriptions!D$2:D$65498))","v":""},null,null,null,null,0,0,0,"",""]
[138,null,{"$f":"IF(ISBLANK($B142),\"\",LOOKUP($B142,Inscriptions!A$2:A$65496,Inscriptions!B$2:B$65498))","v":""},{"$f":"IF(ISBLANK($B142),\"\",LOOKUP($B142,Inscriptions!A$2:A$65496,Inscriptions!C$2:C$65498))","v":""},{"$f":"IF(ISBLANK($B142),\"\",LOOKUP($B142,Inscriptions!A$2:A$65496,Inscriptions!D$2:D$65498))","v":""},null,null,null,null,0,0,0,"",""]
[139,null,{"$f":"IF(ISBLANK($B143),\"\",LOOKUP($B143,Inscriptions!A$2:A$65496,Inscriptions!B$2:B$65498))","v":""},{"$f":"IF(ISBLANK($B143),\"\",LOOKUP($B143,Inscriptions!A$2:A$65496,Inscriptions!C$2:C$65498))","v":""},{"$f":"IF(ISBLANK($B143),\"\",LOOKUP($B143,Inscriptions!A$2:A$65496,Inscriptions!D$2:D$65498))","v":""},null,null,null,null,0,0,0,"",""]
[140,null,{"$f":"IF(ISBLANK($B144),\"\",LOOKUP($B144,Inscriptions!A$2:A$65496,Inscriptions!B$2:B$65498))","v":""},{"$f":"IF(ISBLANK($B144),\"\",LOOKUP($B144,Inscriptions!A$2:A$65496,Inscriptions!C$2:C$65498))","v":""},{"$f":"IF(ISBLANK($B144),\"\",LOOKUP($B144,Inscriptions!A$2:A$65496,Inscriptions!D$2:D$65498))","v":""},null,null,null,null,0,0,0,"",""]
[141,null,{"$f":"IF(ISBLANK($B145),\"\",LOOKUP($B145,Inscriptions!A$2:A$65496,Inscriptions!B$2:B$65498))","v":""},{"$f":"IF(ISBLANK($B145),\"\",LOOKUP($B145,Inscriptions!A$2:A$65496,Inscriptions!C$2:C$65498))","v":""},{"$f":"IF(ISBLANK($B145),\"\",LOOKUP($B145,Inscriptions!A$2:A$65496,Inscriptions!D$2:D$65498))","v":""},null,null,null,null,0,0,0,"",""]
[142,null,{"$f":"IF(ISBLANK($B146),\"\",LOOKUP($B146,Inscriptions!A$2:A$65496,Inscriptions!B$2:B$65498))","v":""},{"$f":"IF(ISBLANK($B146),\"\",LOOKUP($B146,Inscriptions!A$2:A$65496,Inscriptions!C$2:C$65498))","v":""},{"$f":"IF(ISBLANK($B146),\"\",LOOKUP($B146,Inscriptions!A$2:A$65496,Inscriptions!D$2:D$65498))","v":""},null,null,null,null,0,0,0,"",""]
[143,null,{"$f":"IF(ISBLANK($B147),\"\",LOOKUP($B147,Inscriptions!A$2:A$65496,Inscriptions!B$2:B$65498))","v":""},{"$f":"IF(ISBLANK($B147),\"\",LOOKUP($B147,Inscriptions!A$2:A$65496,Inscriptions!C$2:C$65498))","v":""},{"$f":"IF(ISBLANK($B147),\"\",LOOKUP($B147,Inscriptions!A$2:A$65496,Inscriptions!D$2:D$65498))","v":""},null,null,null,null,0,0,0,"",""]
[144,null,{"$f":"IF(ISBLANK($B148),\"\",LOOKUP($B148,Inscriptions!A$2:A$65496,Inscriptions!B$2:B$65498))","v":""},{"$f":"IF(ISBLANK($B148),\"\",LOOKUP($B148,Inscriptions!A$2:A$65496,Inscriptions!C$2:C$65498))","v":""},{"$f":"IF(ISBLANK($B148),\"\",LOOKUP($B148,Inscriptions!A$2:A$65496,Inscriptions!D$2:D$65498))","v":""},null,null,null,null,0,0,0,"",""]
[145,null,{"$f":"IF(ISBLANK($B149),\"\",LOOKUP($B149,Inscriptions!A$2:A$65496,Inscriptions!B$2:B$65498))","v":""},{"$f":"IF(ISBLANK($B149),\"\",LOOKUP($B149,Inscriptions!A$2:A$65496,Inscriptions!C$2:C$65498))","v":""},{"$f":"IF(ISBLANK($B149),\"\",LOOKUP($B149,Inscriptions!A$2:A$65496,Inscriptions!D$2:D$65498))","v":""},null,null,null,null,0,0,0,"",""]
[146,null,{"$f":"IF(ISBLANK($B150),\"\",LOOKUP($B150,Inscriptions!A$2:A$65496,Inscriptions!B$2:B$65498))","v":""},{"$f":"IF(ISBLANK($B150),\"\",LOOKUP($B150,Inscriptions!A$2:A$65496,Inscriptions!C$2:C$65498))","v":""},{"$f":"IF(ISBLANK($B150),\"\",LOOKUP($B150,Inscriptions!A$2:A$65496,Inscriptions!D$2:D$65498))","v":""},null,null,null,null,0,0,0,"",""]
[147,null,{"$f":"IF(ISBLANK($B151),\"\",LOOKUP($B151,Inscriptions!A$2:A$65496,Inscriptions!B$2:B$65498))","v":""},{"$f":"IF(ISBLANK($B151),\"\",LOOKUP($B151,Inscriptions!A$2:A$65496,Inscriptions!C$2:C$65498))","v":""},{"$f":"IF(ISBLANK($B151),\"\",LOOKUP($B151,Inscriptions!A$2:A$65496,Inscriptions!D$2:D$65498))","v":""},null,null,null,null,0,0,0,"",""]
[148,null,{"$f":"IF(ISBLANK($B152),\"\",LOOKUP($B152,Inscriptions!A$2:A$65496,Inscriptions!B$2:B$65498))","v":""},{"$f":"IF(ISBLANK($B152),\"\",LOOKUP($B152,Inscriptions!A$2:A$65496,Inscriptions!C$2:C$65498))","v":""},{"$f":"IF(ISBLANK($B152),\"\",LOOKUP($B152,Inscriptions!A$2:A$65496,Inscriptions!D$2:D$65498))","v":""},null,null,null,null,0,0,0,"",""]
[149,null,{"$f":"IF(ISBLANK($B153),\"\",LOOKUP($B153,Inscriptions!A$2:A$65496,Inscriptions!B$2:B$65498))","v":""},{"$f":"IF(ISBLANK($B153),\"\",LOOKUP($B153,Inscriptions!A$2:A$65496,Inscriptions!C$2:C$65498))","v":""},{"$f":"IF(ISBLANK($B153),\"\",LOOKUP($B153,Inscriptions!A$2:A$65496,Inscriptions!D$2:D$65498))","v":""},null,null,null,null,0,0,0,"",""]
[150,null,{"$f":"IF(ISBLANK($B154),\"\",LOOKUP($B154,Inscriptions!A$2:A$65496,Inscriptions!B$2:B$65498))","v":""},{"$f":"IF(ISBLANK($B154),\"\",LOOKUP($B154,Inscriptions!A$2:A$65496,Inscriptions!C$2:C$65498))","v":""},{"$f":"IF(ISBLANK($B154),\"\",LOOKUP($B154,Inscriptions!A$2:A$65496,Inscriptions!D$2:D$65498))","v":""},null,null,null,null,0,0,0,"",""]
[151,null,{"$f":"IF(ISBLANK($B155),\"\",LOOKUP($B155,Inscriptions!A$2:A$65496,Inscriptions!B$2:B$65498))","v":""},{"$f":"IF(ISBLANK($B155),\"\",LOOKUP($B155,Inscriptions!A$2:A$65496,Inscriptions!C$2:C$65498))","v":""},{"$f":"IF(ISBLANK($B155),\"\",LOOKUP($B155,Inscriptions!A$2:A$65496,Inscriptions!D$2:D$65498))","v":""},null,null,null,null,0,0,0,"",""]
[152,null,{"$f":"IF(ISBLANK($B156),\"\",LOOKUP($B156,Inscriptions!A$2:A$65496,Inscriptions!B$2:B$65498))","v":""},{"$f":"IF(ISBLANK($B156),\"\",LOOKUP($B156,Inscriptions!A$2:A$65496,Inscriptions!C$2:C$65498))","v":""},{"$f":"IF(ISBLANK($B156),\"\",LOOKUP($B156,Inscriptions!A$2:A$65496,Inscriptions!D$2:D$65498))","v":""},null,null,null,null,0,0,0,"",""]
[153,null,{"$f":"IF(ISBLANK($B157),\"\",LOOKUP($B157,Inscriptions!A$2:A$65496,Inscriptions!B$2:B$65498))","v":""},{"$f":"IF(ISBLANK($B157),\"\",LOOKUP($B157,Inscriptions!A$2:A$65496,Inscriptions!C$2:C$65498))","v":""},{"$f":"IF(ISBLANK($B157),\"\",LOOKUP($B157,Inscriptions!A$2:A$65496,Inscriptions!D$2:D$65498))","v":""},null,null,null,null,0,0,0,"",""]
[154,null,{"$f":"IF(ISBLANK($B158),\"\",LOOKUP($B158,Inscriptions!A$2:A$65496,Inscriptions!B$2:B$65498))","v":""},{"$f":"IF(ISBLANK($B158),\"\",LOOKUP($B158,Inscriptions!A$2:A$65496,Inscriptions!C$2:C$65498))","v":""},{"$f":"IF(ISBLANK($B158),\"\",LOOKUP($B158,Inscriptions!A$2:A$65496,Inscriptions!D$2:D$65498))","v":""},null,null,null,null,0,0,0,"",""]
[155,null,{"$f":"IF(ISBLANK($B159),\"\",LOOKUP($B159,Inscriptions!A$2:A$65496,Inscriptions!B$2:B$65498))","v":""},{"$f":"IF(ISBLANK($B159),\"\",LOOKUP($B159,Inscriptions!A$2:A$65496,Inscriptions!C$2:C$65498))","v":""},{"$f":"IF(ISBLANK($B159),\"\",LOOKUP($B159,Inscriptions!A$2:A$65496,Inscriptions!D$2:D$65498))","v":""},null,null,null,null,0,0,0,"",""]
[156,null,{"$f":"IF(ISBLANK($B160),\"\",LOOKUP($B160,Inscriptions!A$2:A$65496,Inscriptions!B$2:B$65498))","v":""},{"$f":"IF(ISBLANK($B160),\"\",LOOKUP($B160,Inscriptions!A$2:A$65496,Inscriptions!C$2:C$65498))","v":""},{"$f":"IF(ISBLANK($B160),\"\",LOOKUP($B160,Inscriptions!A$2:A$65496,Inscriptions!D$2:D$65498))","v":""},null,null,null,null,0,0,0,"",""]
[157,null,{"$f":"IF(ISBLANK($B161),\"\",LOOKUP($B161,Inscriptions!A$2:A$65496,Inscriptions!B$2:B$65498))","v":""},{"$f":"IF(ISBLANK($B161),\"\",LOOKUP($B161,Inscriptions!A$2:A$65496,Inscriptions!C$2:C$65498))","v":""},{"$f":"IF(ISBLANK($B161),\"\",LOOKUP($B161,Inscriptions!A$2:A$65496,Inscriptions!D$2:D$65498))","v":""},null,null,null,null,0,0,0,"",""]
[158,null,{"$f":"IF(ISBLANK($B162),\"\",LOOKUP($B162,Inscriptions!A$2:A$65496,Inscriptions!B$2:B$65498))","v":""},{"$f":"IF(ISBLANK($B162),\"\",LOOKUP($B162,Inscriptions!A$2:A$65496,Inscriptions!C$2:C$65498))","v":""},{"$f":"IF(ISBLANK($B162),\"\",LOOKUP($B162,Inscriptions!A$2:A$65496,Inscriptions!D$2:D$65498))","v":""},null,null,null,null,0,0,0,"",""]
[159,null,{"$f":"IF(ISBLANK($B163),\"\",LOOKUP($B163,Inscriptions!A$2:A$65496,Inscriptions!B$2:B$65498))","v":""},{"$f":"IF(ISBLANK($B163),\"\",LOOKUP($B163,Inscriptions!A$2:A$65496,Inscriptions!C$2:C$65498))","v":""},{"$f":"IF(ISBLANK($B163),\"\",LOOKUP($B163,Inscriptions!A$2:A$65496,Inscriptions!D$2:D$65498))","v":""},null,null,null,null,0,0,0,"",""]
[160,null,{"$f":"IF(ISBLANK($B164),\"\",LOOKUP($B164,Inscriptions!A$2:A$65496,Inscriptions!B$2:B$65498))","v":""},{"$f":"IF(ISBLANK($B164),\"\",LOOKUP($B164,Inscriptions!A$2:A$65496,Inscriptions!C$2:C$65498))","v":""},{"$f":"IF(ISBLANK($B164),\"\",LOOKUP($B164,Inscriptions!A$2:A$65496,Inscriptions!D$2:D$65498))","v":""},null,null,null,null,0,0,0,"",""]
[161,null,{"$f":"IF(ISBLANK($B165),\"\",LOOKUP($B165,Inscriptions!A$2:A$65496,Inscriptions!B$2:B$65498))","v":""},{"$f":"IF(ISBLANK($B165),\"\",LOOKUP($B165,Inscriptions!A$2:A$65496,Inscriptions!C$2:C$65498))","v":""},{"$f":"IF(ISBLANK($B165),\"\",LOOKUP($B165,Inscriptions!A$2:A$65496,Inscriptions!D$2:D$65498))","v":""},null,null,null,null,0,0,0,"",""]
[162,null,{"$f":"IF(ISBLANK($B166),\"\",LOOKUP($B166,Inscriptions!A$2:A$65496,Inscriptions!B$2:B$65498))","v":""},{"$f":"IF(ISBLANK($B166),\"\",LOOKUP($B166,Inscriptions!A$2:A$65496,Inscriptions!C$2:C$65498))","v":""},{"$f":"IF(ISBLANK($B166),\"\",LOOKUP($B166,Inscriptions!A$2:A$65496,Inscriptions!D$2:D$65498))","v":""},null,null,null,null,0,0,0,"",""]
[163,null,{"$f":"IF(ISBLANK($B167),\"\",LOOKUP($B167,Inscriptions!A$2:A$65496,Inscriptions!B$2:B$65498))","v":""},{"$f":"IF(ISBLANK($B167),\"\",LOOKUP($B167,Inscriptions!A$2:A$65496,Inscriptions!C$2:C$65498))","v":""},{"$f":"IF(ISBLANK($B167),\"\",LOOKUP($B167,Inscriptions!A$2:A$65496,Inscriptions!D$2:D$65498))","v":""},null,null,null,null,0,0,0,"",""]
[164,null,{"$f":"IF(ISBLANK($B168),\"\",LOOKUP($B168,Inscriptions!A$2:A$65496,Inscriptions!B$2:B$65498))","v":""},{"$f":"IF(ISBLANK($B168),\"\",LOOKUP($B168,Inscriptions!A$2:A$65496,Inscriptions!C$2:C$65498))","v":""},{"$f":"IF(ISBLANK($B168),\"\",LOOKUP($B168,Inscriptions!A$2:A$65496,Inscriptions!D$2:D$65498))","v":""},null,null,null,null,0,0,0,"",""]
[165,null,{"$f":"IF(ISBLANK($B169),\"\",LOOKUP($B169,Inscriptions!A$2:A$65496,Inscriptions!B$2:B$65498))","v":""},{"$f":"IF(ISBLANK($B169),\"\",LOOKUP($B169,Inscriptions!A$2:A$65496,Inscriptions!C$2:C$65498))","v":""},{"$f":"IF(ISBLANK($B169),\"\",LOOKUP($B169,Inscriptions!A$2:A$65496,Inscriptions!D$2:D$65498))","v":""},null,null,null,null,0,0,0,"",""]
[166,null,{"$f":"IF(ISBLANK($B170),\"\",LOOKUP($B170,Inscriptions!A$2:A$65496,Inscriptions!B$2:B$65498))","v":""},{"$f":"IF(ISBLANK($B170),\"\",LOOKUP($B170,Inscriptions!A$2:A$65496,Inscriptions!C$2:C$65498))","v":""},{"$f":"IF(ISBLANK($B170),\"\",LOOKUP($B170,Inscriptions!A$2:A$65496,Inscriptions!D$2:D$65498))","v":""},null,null,null,null,0,0,0,"",""]
[167,null,{"$f":"IF(ISBLANK($B171),\"\",LOOKUP($B171,Inscriptions!A$2:A$65496,Inscriptions!B$2:B$65498))","v":""},{"$f":"IF(ISBLANK($B171),\"\",LOOKUP($B171,Inscriptions!A$2:A$65496,Inscriptions!C$2:C$65498))","v":""},{"$f":"IF(ISBLANK($B171),\"\",LOOKUP($B171,Inscriptions!A$2:A$65496,Inscriptions!D$2:D$65498))","v":""},null,null,null,null,0,0,0,"",""]
[168,null,{"$f":"IF(ISBLANK($B172),\"\",LOOKUP($B172,Inscriptions!A$2:A$65496,Inscriptions!B$2:B$65498))","v":""},{"$f":"IF(ISBLANK($B172),\"\",LOOKUP($B172,Inscriptions!A$2:A$65496,Inscriptions!C$2:C$65498))","v":""},{"$f":"IF(ISBLANK($B172),\"\",LOOKUP($B172,Inscriptions!A$2:A$65496,Inscriptions!D$2:D$65498))","v":""},null,null,null,null,0,0,0,"",""]
[169,null,{"$f":"IF(ISBLANK($B173),\"\",LOOKUP($B173,Inscriptions!A$2:A$65496,Inscriptions!B$2:B$65498))","v":""},{"$f":"IF(ISBLANK($B173),\"\",LOOKUP($B173,Inscriptions!A$2:A$65496,Inscriptions!C$2:C$65498))","v":""},{"$f":"IF(ISBLANK($B173),\"\",LOOKUP($B173,Inscriptions!A$2:A$65496,Inscriptions!D$2:D$65498))","v":""},null,null,null,null,0,0,0,"",""]
[170,null,{"$f":"IF(ISBLANK($B174),\"\",LOOKUP($B174,Inscriptions!A$2:A$65496,Inscriptions!B$2:B$65498))","v":""},{"$f":"IF(ISBLANK($B174),\"\",LOOKUP($B174,Inscriptions!A$2:A$65496,Inscriptions!C$2:C$65498))","v":""},{"$f":"IF(ISBLANK($B174),\"\",LOOKUP($B174,Inscriptions!A$2:A$65496,Inscriptions!D$2:D$65498))","v":""},null,null,null,null,0,0,0,"",""]
[171,null,{"$f":"IF(ISBLANK($B175),\"\",LOOKUP($B175,Inscriptions!A$2:A$65496,Inscriptions!B$2:B$65498))","v":""},{"$f":"IF(ISBLANK($B175),\"\",LOOKUP($B175,Inscriptions!A$2:A$65496,Inscriptions!C$2:C$65498))","v":""},{"$f":"IF(ISBLANK($B175),\"\",LOOKUP($B175,Inscriptions!A$2:A$65496,Inscriptions!D$2:D$65498))","v":""},null,null,null,null,0,0,0,"",""]
[172,null,{"$f":"IF(ISBLANK($B176),\"\",LOOKUP($B176,Inscriptions!A$2:A$65496,Inscriptions!B$2:B$65498))","v":""},{"$f":"IF(ISBLANK($B176),\"\",LOOKUP($B176,Inscriptions!A$2:A$65496,Inscriptions!C$2:C$65498))","v":""},{"$f":"IF(ISBLANK($B176),\"\",LOOKUP($B176,Inscriptions!A$2:A$65496,Inscriptions!D$2:D$65498))","v":""},null,null,null,null,0,0,0,"",""]
[173,null,{"$f":"IF(ISBLANK($B177),\"\",LOOKUP($B177,Inscriptions!A$2:A$65496,Inscriptions!B$2:B$65498))","v":""},{"$f":"IF(ISBLANK($B177),\"\",LOOKUP($B177,Inscriptions!A$2:A$65496,Inscriptions!C$2:C$65498))","v":""},{"$f":"IF(ISBLANK($B177),\"\",LOOKUP($B177,Inscriptions!A$2:A$65496,Inscriptions!D$2:D$65498))","v":""},null,null,null,null,0,0,0,"",""]
[174,null,{"$f":"IF(ISBLANK($B178),\"\",LOOKUP($B178,Inscriptions!A$2:A$65496,Inscriptions!B$2:B$65498))","v":""},{"$f":"IF(ISBLANK($B178),\"\",LOOKUP($B178,Inscriptions!A$2:A$65496,Inscriptions!C$2:C$65498))","v":""},{"$f":"IF(ISBLANK($B178),\"\",LOOKUP($B178,Inscriptions!A$2:A$65496,Inscriptions!D$2:D$65498))","v":""},null,null,null,null,0,0,0,"",""]
[175,null,{"$f":"IF(ISBLANK($B179),\"\",LOOKUP($B179,Inscriptions!A$2:A$65496,Inscriptions!B$2:B$65498))","v":""},{"$f":"IF(ISBLANK($B179),\"\",LOOKUP($B179,Inscriptions!A$2:A$65496,Inscriptions!C$2:C$65498))","v":""},{"$f":"IF(ISBLANK($B179),\"\",LOOKUP($B179,Inscriptions!A$2:A$65496,Inscriptions!D$2:D$65498))","v":""},null,null,null,null,0,0,0,"",""]
[176,null,{"$f":"IF(ISBLANK($B180),\"\",LOOKUP($B180,Inscriptions!A$2:A$65496,Inscriptions!B$2:B$65498))","v":""},{"$f":"IF(ISBLANK($B180),\"\",LOOKUP($B180,Inscriptions!A$2:A$65496,Inscriptions!C$2:C$65498))","v":""},{"$f":"IF(ISBLANK($B180),\"\",LOOKUP($B180,Inscriptions!A$2:A$65496,Inscriptions!D$2:D$65498))","v":""},null,null,null,null,0,0,0,"",""]
[177,null,{"$f":"IF(ISBLANK($B181),\"\",LOOKUP($B181,Inscriptions!A$2:A$65496,Inscriptions!B$2:B$65498))","v":""},{"$f":"IF(ISBLANK($B181),\"\",LOOKUP($B181,Inscriptions!A$2:A$65496,Inscriptions!C$2:C$65498))","v":""},{"$f":"IF(ISBLANK($B181),\"\",LOOKUP($B181,Inscriptions!A$2:A$65496,Inscriptions!D$2:D$65498))","v":""},null,null,null,null,0,0,0,"",""]
[178,null,{"$f":"IF(ISBLANK($B182),\"\",LOOKUP($B182,Inscriptions!A$2:A$65496,Inscriptions!B$2:B$65498))","v":""},{"$f":"IF(ISBLANK($B182),\"\",LOOKUP($B182,Inscriptions!A$2:A$65496,Inscriptions!C$2:C$65498))","v":""},{"$f":"IF(ISBLANK($B182),\"\",LOOKUP($B182,Inscriptions!A$2:A$65496,Inscriptions!D$2:D$65498))","v":""},null,null,null,null,0,0,0,"",""]
[179,null,{"$f":"IF(ISBLANK($B183),\"\",LOOKUP($B183,Inscriptions!A$2:A$65496,Inscriptions!B$2:B$65498))","v":""},{"$f":"IF(ISBLANK($B183),\"\",LOOKUP($B183,Inscriptions!A$2:A$65496,Inscriptions!C$2:C$65498))","v":""},{"$f":"IF(ISBLANK($B183),\"\",LOOKUP($B183,Inscriptions!A$2:A$65496,Inscriptions!D$2:D$65498))","v":""},null,null,null,null,0,0,0,"",""]
[180,null,{"$f":"IF(ISBLANK($B184),\"\",LOOKUP($B184,Inscriptions!A$2:A$65496,Inscriptions!B$2:B$65498))","v":""},{"$f":"IF(ISBLANK($B184),\"\",LOOKUP($B184,Inscriptions!A$2:A$65496,Inscriptions!C$2:C$65498))","v":""},{"$f":"IF(ISBLANK($B184),\"\",LOOKUP($B184,Inscriptions!A$2:A$65496,Inscriptions!D$2:D$65498))","v":""},null,null,null,null,0,0,0,"",""]
[181,null,{"$f":"IF(ISBLANK($B185),\"\",LOOKUP($B185,Inscriptions!A$2:A$65496,Inscriptions!B$2:B$65498))","v":""},{"$f":"IF(ISBLANK($B185),\"\",LOOKUP($B185,Inscriptions!A$2:A$65496,Inscriptions!C$2:C$65498))","v":""},{"$f":"IF(ISBLANK($B185),\"\",LOOKUP($B185,Inscriptions!A$2:A$65496,Inscriptions!D$2:D$65498))","v":""},null,null,null,null,0,0,0,"",""]
[182,null,{"$f":"IF(ISBLANK($B186),\"\",LOOKUP($B186,Inscriptions!A$2:A$65496,Inscriptions!B$2:B$65498))","v":""},{"$f":"IF(ISBLANK($B186),\"\",LOOKUP($B186,Inscriptions!A$2:A$65496,Inscriptions!C$2:C$65498))","v":""},{"$f":"IF(ISBLANK($B186),\"\",LOOKUP($B186,Inscriptions!A$2:A$65496,Inscriptions!D$2:D$65498))","v":""},null,null,null,null,0,0,0,"",""]
[183,null,{"$f":"IF(ISBLANK($B187),\"\",LOOKUP($B187,Inscriptions!A$2:A$65496,Inscriptions!B$2:B$65498))","v":""},{"$f":"IF(ISBLANK($B187),\"\",LOOKUP($B187,Inscriptions!A$2:A$65496,Inscriptions!C$2:C$65498))","v":""},{"$f":"IF(ISBLANK($B187),\"\",LOOKUP($B187,Inscriptions!A$2:A$65496,Inscriptions!D$2:D$65498))","v":""},null,null,null,null,0,0,0,"",""]
[184,null,{"$f":"IF(ISBLANK($B188),\"\",LOOKUP($B188,Inscriptions!A$2:A$65496,Inscriptions!B$2:B$65498))","v":""},{"$f":"IF(ISBLANK($B188),\"\",LOOKUP($B188,Inscriptions!A$2:A$65496,Inscriptions!C$2:C$65498))","v":""},{"$f":"IF(ISBLANK($B188),\"\",LOOKUP($B188,Inscriptions!A$2:A$65496,Inscriptions!D$2:D$65498))","v":""},null,null,null,null,0,0,0,"",""]
[185,null,{"$f":"IF(ISBLANK($B189),\"\",LOOKUP($B189,Inscriptions!A$2:A$65496,Inscriptions!B$2:B$65498))","v":""},{"$f":"IF(ISBLANK($B189),\"\",LOOKUP($B189,Inscriptions!A$2:A$65496,Inscriptions!C$2:C$65498))","v":""},{"$f":"IF(ISBLANK($B189),\"\",LOOKUP($B189,Inscriptions!A$2:A$65496,Inscriptions!D$2:D$65498))","v":""},null,null,null,null,0,0,0,"",""]
[186,null,{"$f":"IF(ISBLANK($B190),\"\",LOOKUP($B190,Inscriptions!A$2:A$65496,Inscriptions!B$2:B$65498))","v":""},{"$f":"IF(ISBLANK($B190),\"\",LOOKUP($B190,Inscriptions!A$2:A$65496,Inscriptions!C$2:C$65498))","v":""},{"$f":"IF(ISBLANK($B190),\"\",LOOKUP($B190,Inscriptions!A$2:A$65496,Inscriptions!D$2:D$65498))","v":""},null,null,null,null,0,0,0,"",""]
[187,null,{"$f":"IF(ISBLANK($B191),\"\",LOOKUP($B191,Inscriptions!A$2:A$65496,Inscriptions!B$2:B$65498))","v":""},{"$f":"IF(ISBLANK($B191),\"\",LOOKUP($B191,Inscriptions!A$2:A$65496,Inscriptions!C$2:C$65498))","v":""},{"$f":"IF(ISBLANK($B191),\"\",LOOKUP($B191,Inscriptions!A$2:A$65496,Inscriptions!D$2:D$65498))","v":""},null,null,null,null,0,0,0,"",""]
[188,null,{"$f":"IF(ISBLANK($B192),\"\",LOOKUP($B192,Inscriptions!A$2:A$65496,Inscriptions!B$2:B$65498))","v":""},{"$f":"IF(ISBLANK($B192),\"\",LOOKUP($B192,Inscriptions!A$2:A$65496,Inscriptions!C$2:C$65498))","v":""},{"$f":"IF(ISBLANK($B192),\"\",LOOKUP($B192,Inscriptions!A$2:A$65496,Inscriptions!D$2:D$65498))","v":""},null,null,null,null,0,0,0,"",""]
[189,null,{"$f":"IF(ISBLANK($B193),\"\",LOOKUP($B193,Inscriptions!A$2:A$65496,Inscriptions!B$2:B$65498))","v":""},{"$f":"IF(ISBLANK($B193),\"\",LOOKUP($B193,Inscriptions!A$2:A$65496,Inscriptions!C$2:C$65498))","v":""},{"$f":"IF(ISBLANK($B193),\"\",LOOKUP($B193,Inscriptions!A$2:A$65496,Inscriptions!D$2:D$65498))","v":""},null,null,null,null,0,0,0,"",""]
[190,null,{"$f":"IF(ISBLANK($B194),\"\",LOOKUP($B194,Inscriptions!A$2:A$65496,Inscriptions!B$2:B$65498))","v":""},{"$f":"IF(ISBLANK($B194),\"\",LOOKUP($B194,Inscriptions!A$2:A$65496,Inscriptions!C$2:C$65498))","v":""},{"$f":"IF(ISBLANK($B194),\"\",LOOKUP($B194,Inscriptions!A$2:A$65496,Inscriptions!D$2:D$65498))","v":""},null,null,null,null,0,0,0,"",""]
[191,null,{"$f":"IF(ISBLANK($B195),\"\",LOOKUP($B195,Inscriptions!A$2:A$65496,Inscriptions!B$2:B$65498))","v":""},{"$f":"IF(ISBLANK($B195),\"\",LOOKUP($B195,Inscriptions!A$2:A$65496,Inscriptions!C$2:C$65498))","v":""},{"$f":"IF(ISBLANK($B195),\"\",LOOKUP($B195,Inscriptions!A$2:A$65496,Inscriptions!D$2:D$65498))","v":""},null,null,null,null,0,0,0,"",""]
[192,null,{"$f":"IF(ISBLANK($B196),\"\",LOOKUP($B196,Inscriptions!A$2:A$65496,Inscriptions!B$2:B$65498))","v":""},{"$f":"IF(ISBLANK($B196),\"\",LOOKUP($B196,Inscriptions!A$2:A$65496,Inscriptions!C$2:C$65498))","v":""},{"$f":"IF(ISBLANK($B196),\"\",LOOKUP($B196,Inscriptions!A$2:A$65496,Inscriptions!D$2:D$65498))","v":""},null,null,null,null,0,0,0,"",""]
[193,null,{"$f":"IF(ISBLANK($B197),\"\",LOOKUP($B197,Inscriptions!A$2:A$65496,Inscriptions!B$2:B$65498))","v":""},{"$f":"IF(ISBLANK($B197),\"\",LOOKUP($B197,Inscriptions!A$2:A$65496,Inscriptions!C$2:C$65498))","v":""},{"$f":"IF(ISBLANK($B197),\"\",LOOKUP($B197,Inscriptions!A$2:A$65496,Inscriptions!D$2:D$65498))","v":""},null,null,null,null,0,0,0,"",""]
[194,null,{"$f":"IF(ISBLANK($B198),\"\",LOOKUP($B198,Inscriptions!A$2:A$65496,Inscriptions!B$2:B$65498))","v":""},{"$f":"IF(ISBLANK($B198),\"\",LOOKUP($B198,Inscriptions!A$2:A$65496,Inscriptions!C$2:C$65498))","v":""},{"$f":"IF(ISBLANK($B198),\"\",LOOKUP($B198,Inscriptions!A$2:A$65496,Inscriptions!D$2:D$65498))","v":""},null,null,null,null,{"$f":"ROUNDDOWN(I198/10000,0)","v":0},{"$f":"ROUNDDOWN((I198-J198*10000)/100,0)","v":0},{"$f":"ROUNDDOWN((I198-(J198*10000)-(K198*100)),0)","v":0},{"$f":"IF((J198+K198+L198)=0,\"\",ROUNDDOWN((M$4/((J198*3600)+(K198*60)+L198))*3.6,2))","v":""},{"$f":"IF(M198=\"\",\"\",\"km/h\")","v":""}]
[195,null,{"$f":"IF(ISBLANK($B199),\"\",LOOKUP($B199,Inscriptions!A$2:A$65496,Inscriptions!B$2:B$65498))","v":""},{"$f":"IF(ISBLANK($B199),\"\",LOOKUP($B199,Inscriptions!A$2:A$65496,Inscriptions!C$2:C$65498))","v":""},{"$f":"IF(ISBLANK($B199),\"\",LOOKUP($B199,Inscriptions!A$2:A$65496,Inscriptions!D$2:D$65498))","v":""},null,null,null,null,0,0,0,"",""]
[196,null,{"$f":"IF(ISBLANK($B200),\"\",LOOKUP($B200,Inscriptions!A$2:A$65496,Inscriptions!B$2:B$65498))","v":""},{"$f":"IF(ISBLANK($B200),\"\",LOOKUP($B200,Inscriptions!A$2:A$65496,Inscriptions!C$2:C$65498))","v":""},{"$f":"IF(ISBLANK($B200),\"\",LOOKUP($B200,Inscriptions!A$2:A$65496,Inscriptions!D$2:D$65498))","v":""},null,null,null,null,0,0,0,"",""]
[197,null,{"$f":"IF(ISBLANK($B201),\"\",LOOKUP($B201,Inscriptions!A$2:A$65496,Inscriptions!B$2:B$65498))","v":""},{"$f":"IF(ISBLANK($B201),\"\",LOOKUP($B201,Inscriptions!A$2:A$65496,Inscriptions!C$2:C$65498))","v":""},{"$f":"IF(ISBLANK($B201),\"\",LOOKUP($B201,Inscriptions!A$2:A$65496,Inscriptions!D$2:D$65498))","v":""},null,null,null,null,0,0,0,"",""]
[198,null,{"$f":"IF(ISBLANK($B202),\"\",LOOKUP($B202,Inscriptions!A$2:A$65496,Inscriptions!B$2:B$65498))","v":""},{"$f":"IF(ISBLANK($B202),\"\",LOOKUP($B202,Inscriptions!A$2:A$65496,Inscriptions!C$2:C$65498))","v":""},{"$f":"IF(ISBLANK($B202),\"\",LOOKUP($B202,Inscriptions!A$2:A$65496,Inscriptions!D$2:D$65498))","v":""},null,null,null,null,0,0,0,"",""]
[199,null,{"$f":"IF(ISBLANK($B203),\"\",LOOKUP($B203,Inscriptions!A$2:A$65496,Inscriptions!B$2:B$65498))","v":""},{"$f":"IF(ISBLANK($B203),\"\",LOOKUP($B203,Inscriptions!A$2:A$65496,Inscriptions!C$2:C$65498))","v":""},{"$f":"IF(ISBLANK($B203),\"\",LOOKUP($B203,Inscriptions!A$2:A$65496,Inscriptions!D$2:D$65498))","v":""},null,null,null,null,0,0,0,"",""]
[200,null,{"$f":"IF(ISBLANK($B204),\"\",LOOKUP($B204,Inscriptions!A$2:A$65496,Inscriptions!B$2:B$65498))","v":""},{"$f":"IF(ISBLANK($B204),\"\",LOOKUP($B204,Inscriptions!A$2:A$65496,Inscriptions!C$2:C$65498))","v":""},{"$f":"IF(ISBLANK($B204),\"\",LOOKUP($B204,Inscriptions!A$2:A$65496,Inscriptions!D$2:D$65498))","v":""},null,null,null,null,0,0,0,"",""]
[201,null,{"$f":"IF(ISBLANK($B205),\"\",LOOKUP($B205,Inscriptions!A$2:A$65496,Inscriptions!B$2:B$65498))","v":""},{"$f":"IF(ISBLANK($B205),\"\",LOOKUP($B205,Inscriptions!A$2:A$65496,Inscriptions!C$2:C$65498))","v":""},{"$f":"IF(ISBLANK($B205),\"\",LOOKUP($B205,Inscriptions!A$2:A$65496,Inscriptions!D$2:D$65498))","v":""},null,null,null,null,0,0,0,"",""]
[202,null,{"$f":"IF(ISBLANK($B206),\"\",LOOKUP($B206,Inscriptions!A$2:A$65496,Inscriptions!B$2:B$65498))","v":""},{"$f":"IF(ISBLANK($B206),\"\",LOOKUP($B206,Inscriptions!A$2:A$65496,Inscriptions!C$2:C$65498))","v":""},{"$f":"IF(ISBLANK($B206),\"\",LOOKUP($B206,Inscriptions!A$2:A$65496,Inscriptions!D$2:D$65498))","v":""},null,null,null,null,0,0,0,"",""]
[203,null,{"$f":"IF(ISBLANK($B207),\"\",LOOKUP($B207,Inscriptions!A$2:A$65496,Inscriptions!B$2:B$65498))","v":""},{"$f":"IF(ISBLANK($B207),\"\",LOOKUP($B207,Inscriptions!A$2:A$65496,Inscriptions!C$2:C$65498))","v":""},{"$f":"IF(ISBLANK($B207),\"\",LOOKUP($B207,Inscriptions!A$2:A$65496,Inscriptions!D$2:D$65498))","v":""},null,null,null,null,0,0,0,"",""]
[204,null,{"$f":"IF(ISBLANK($B208),\"\",LOOKUP($B208,Inscriptions!A$2:A$65496,Inscriptions!B$2:B$65498))","v":""},{"$f":"IF(ISBLANK($B208),\"\",LOOKUP($B208,Inscriptions!A$2:A$65496,Inscriptions!C$2:C$65498))","v":""},{"$f":"IF(ISBLANK($B208),\"\",LOOKUP($B208,Inscriptions!A$2:A$65496,Inscriptions!D$2:D$65498))","v":""},null,null,null,null,0,0,0,"",""]
[205,null,{"$f":"IF(ISBLANK($B209),\"\",LOOKUP($B209,Inscriptions!A$2:A$65496,Inscriptions!B$2:B$65498))","v":""},{"$f":"IF(ISBLANK($B209),\"\",LOOKUP($B209,Inscriptions!A$2:A$65496,Inscriptions!C$2:C$65498))","v":""},{"$f":"IF(ISBLANK($B209),\"\",LOOKUP($B209,Inscriptions!A$2:A$65496,Inscriptions!D$2:D$65498))","v":""},null,null,null,null,0,0,0,"",""]
[206,null,{"$f":"IF(ISBLANK($B210),\"\",LOOKUP($B210,Inscriptions!A$2:A$65496,Inscriptions!B$2:B$65498))","v":""},{"$f":"IF(ISBLANK($B210),\"\",LOOKUP($B210,Inscriptions!A$2:A$65496,Inscriptions!C$2:C$65498))","v":""},{"$f":"IF(ISBLANK($B210),\"\",LOOKUP($B210,Inscriptions!A$2:A$65496,Inscriptions!D$2:D$65498))","v":""},null,null,null,null,0,0,0,"",""]
[207,null,{"$f":"IF(ISBLANK($B211),\"\",LOOKUP($B211,Inscriptions!A$2:A$65496,Inscriptions!B$2:B$65498))","v":""},{"$f":"IF(ISBLANK($B211),\"\",LOOKUP($B211,Inscriptions!A$2:A$65496,Inscriptions!C$2:C$65498))","v":""},{"$f":"IF(ISBLANK($B211),\"\",LOOKUP($B211,Inscriptions!A$2:A$65496,Inscriptions!D$2:D$65498))","v":""},null,null,null,null,0,0,0,"",""]
[208,null,{"$f":"IF(ISBLANK($B212),\"\",LOOKUP($B212,Inscriptions!A$2:A$65496,Inscriptions!B$2:B$65498))","v":""},{"$f":"IF(ISBLANK($B212),\"\",LOOKUP($B212,Inscriptions!A$2:A$65496,Inscriptions!C$2:C$65498))","v":""},{"$f":"IF(ISBLANK($B212),\"\",LOOKUP($B212,Inscriptions!A$2:A$65496,Inscriptions!D$2:D$65498))","v":""},null,null,null,null,0,0,0,"",""]
[209,null,{"$f":"IF(ISBLANK($B213),\"\",LOOKUP($B213,Inscriptions!A$2:A$65496,Inscriptions!B$2:B$65498))","v":""},{"$f":"IF(ISBLANK($B213),\"\",LOOKUP($B213,Inscriptions!A$2:A$65496,Inscriptions!C$2:C$65498))","v":""},{"$f":"IF(ISBLANK($B213),\"\",LOOKUP($B213,Inscriptions!A$2:A$65496,Inscriptions!D$2:D$65498))","v":""},null,null,null,null,0,0,0,"",""]
[210,null,{"$f":"IF(ISBLANK($B214),\"\",LOOKUP($B214,Inscriptions!A$2:A$65496,Inscriptions!B$2:B$65498))","v":""},{"$f":"IF(ISBLANK($B214),\"\",LOOKUP($B214,Inscriptions!A$2:A$65496,Inscriptions!C$2:C$65498))","v":""},{"$f":"IF(ISBLANK($B214),\"\",LOOKUP($B214,Inscriptions!A$2:A$65496,Inscriptions!D$2:D$65498))","v":""},null,null,null,null,0,0,0,"",""]
[211,null,{"$f":"IF(ISBLANK($B215),\"\",LOOKUP($B215,Inscriptions!A$2:A$65496,Inscriptions!B$2:B$65498))","v":""},{"$f":"IF(ISBLANK($B215),\"\",LOOKUP($B215,Inscriptions!A$2:A$65496,Inscriptions!C$2:C$65498))","v":""},{"$f":"IF(ISBLANK($B215),\"\",LOOKUP($B215,Inscriptions!A$2:A$65496,Inscriptions!D$2:D$65498))","v":""},null,null,null,null,0,0,0,"",""]
[212,null,{"$f":"IF(ISBLANK($B216),\"\",LOOKUP($B216,Inscriptions!A$2:A$65496,Inscriptions!B$2:B$65498))","v":""},{"$f":"IF(ISBLANK($B216),\"\",LOOKUP($B216,Inscriptions!A$2:A$65496,Inscriptions!C$2:C$65498))","v":""},{"$f":"IF(ISBLANK($B216),\"\",LOOKUP($B216,Inscriptions!A$2:A$65496,Inscriptions!D$2:D$65498))","v":""},null,null,null,null,0,0,0,"",""]
[213,null,{"$f":"IF(ISBLANK($B217),\"\",LOOKUP($B217,Inscriptions!A$2:A$65496,Inscriptions!B$2:B$65498))","v":""},{"$f":"IF(ISBLANK($B217),\"\",LOOKUP($B217,Inscriptions!A$2:A$65496,Inscriptions!C$2:C$65498))","v":""},{"$f":"IF(ISBLANK($B217),\"\",LOOKUP($B217,Inscriptions!A$2:A$65496,Inscriptions!D$2:D$65498))","v":""},null,null,null,null,0,0,0,"",""]
[214,null,{"$f":"IF(ISBLANK($B218),\"\",LOOKUP($B218,Inscriptions!A$2:A$65496,Inscriptions!B$2:B$65498))","v":""},{"$f":"IF(ISBLANK($B218),\"\",LOOKUP($B218,Inscriptions!A$2:A$65496,Inscriptions!C$2:C$65498))","v":""},{"$f":"IF(ISBLANK($B218),\"\",LOOKUP($B218,Inscriptions!A$2:A$65496,Inscriptions!D$2:D$65498))","v":""},null,null,null,null,0,0,0,"",""]
[215,null,{"$f":"IF(ISBLANK($B219),\"\",LOOKUP($B219,Inscriptions!A$2:A$65496,Inscriptions!B$2:B$65498))","v":""},{"$f":"IF(ISBLANK($B219),\"\",LOOKUP($B219,Inscriptions!A$2:A$65496,Inscriptions!C$2:C$65498))","v":""},{"$f":"IF(ISBLANK($B219),\"\",LOOKUP($B219,Inscriptions!A$2:A$65496,Inscriptions!D$2:D$65498))","v":""},null,null,null,null,0,0,0,"",""]
[216,null,{"$f":"IF(ISBLANK($B220),\"\",LOOKUP($B220,Inscriptions!A$2:A$65496,Inscriptions!B$2:B$65498))","v":""},{"$f":"IF(ISBLANK($B220),\"\",LOOKUP($B220,Inscriptions!A$2:A$65496,Inscriptions!C$2:C$65498))","v":""},{"$f":"IF(ISBLANK($B220),\"\",LOOKUP($B220,Inscriptions!A$2:A$65496,Inscriptions!D$2:D$65498))","v":""},null,null,null,null,0,0,0,"",""]
[217,null,{"$f":"IF(ISBLANK($B221),\"\",LOOKUP($B221,Inscriptions!A$2:A$65496,Inscriptions!B$2:B$65498))","v":""},{"$f":"IF(ISBLANK($B221),\"\",LOOKUP($B221,Inscriptions!A$2:A$65496,Inscriptions!C$2:C$65498))","v":""},{"$f":"IF(ISBLANK($B221),\"\",LOOKUP($B221,Inscriptions!A$2:A$65496,Inscriptions!D$2:D$65498))","v":""},null,null,null,null,0,0,0,"",""]
[218,null,{"$f":"IF(ISBLANK($B222),\"\",LOOKUP($B222,Inscriptions!A$2:A$65496,Inscriptions!B$2:B$65498))","v":""},{"$f":"IF(ISBLANK($B222),\"\",LOOKUP($B222,Inscriptions!A$2:A$65496,Inscriptions!C$2:C$65498))","v":""},{"$f":"IF(ISBLANK($B222),\"\",LOOKUP($B222,Inscriptions!A$2:A$65496,Inscriptions!D$2:D$65498))","v":""},null,null,null,null,0,0,0,"",""]
[219,null,{"$f":"IF(ISBLANK($B223),\"\",LOOKUP($B223,Inscriptions!A$2:A$65496,Inscriptions!B$2:B$65498))","v":""},{"$f":"IF(ISBLANK($B223),\"\",LOOKUP($B223,Inscriptions!A$2:A$65496,Inscriptions!C$2:C$65498))","v":""},{"$f":"IF(ISBLANK($B223),\"\",LOOKUP($B223,Inscriptions!A$2:A$65496,Inscriptions!D$2:D$65498))","v":""},null,null,null,null,0,0,0,"",""]
[220,null,{"$f":"IF(ISBLANK($B224),\"\",LOOKUP($B224,Inscriptions!A$2:A$65496,Inscriptions!B$2:B$65498))","v":""},{"$f":"IF(ISBLANK($B224),\"\",LOOKUP($B224,Inscriptions!A$2:A$65496,Inscriptions!C$2:C$65498))","v":""},{"$f":"IF(ISBLANK($B224),\"\",LOOKUP($B224,Inscriptions!A$2:A$65496,Inscriptions!D$2:D$65498))","v":""},null,null,null,null,0,0,0,"",""]
[221,null,{"$f":"IF(ISBLANK($B225),\"\",LOOKUP($B225,Inscriptions!A$2:A$65496,Inscriptions!B$2:B$65498))","v":""},{"$f":"IF(ISBLANK($B225),\"\",LOOKUP($B225,Inscriptions!A$2:A$65496,Inscriptions!C$2:C$65498))","v":""},{"$f":"IF(ISBLANK($B225),\"\",LOOKUP($B225,Inscriptions!A$2:A$65496,Inscriptions!D$2:D$65498))","v":""},null,null,null,null,0,0,0,"",""]
[222,null,{"$f":"IF(ISBLANK($B226),\"\",LOOKUP($B226,Inscriptions!A$2:A$65496,Inscriptions!B$2:B$65498))","v":""},{"$f":"IF(ISBLANK($B226),\"\",LOOKUP($B226,Inscriptions!A$2:A$65496,Inscriptions!C$2:C$65498))","v":""},{"$f":"IF(ISBLANK($B226),\"\",LOOKUP($B226,Inscriptions!A$2:A$65496,Inscriptions!D$2:D$65498))","v":""},null,null,null,null,0,0,0,"",""]
[223,null,{"$f":"IF(ISBLANK($B227),\"\",LOOKUP($B227,Inscriptions!A$2:A$65496,Inscriptions!B$2:B$65498))","v":""},{"$f":"IF(ISBLANK($B227),\"\",LOOKUP($B227,Inscriptions!A$2:A$65496,Inscriptions!C$2:C$65498))","v":""},{"$f":"IF(ISBLANK($B227),\"\",LOOKUP($B227,Inscriptions!A$2:A$65496,Inscriptions!D$2:D$65498))","v":""},null,null,null,null,0,0,0,"",""]
[224,null,{"$f":"IF(ISBLANK($B228),\"\",LOOKUP($B228,Inscriptions!A$2:A$65496,Inscriptions!B$2:B$65498))","v":""},{"$f":"IF(ISBLANK($B228),\"\",LOOKUP($B228,Inscriptions!A$2:A$65496,Inscriptions!C$2:C$65498))","v":""},{"$f":"IF(ISBLANK($B228),\"\",LOOKUP($B228,Inscriptions!A$2:A$65496,Inscriptions!D$2:D$65498))","v":""},null,null,null,null,0,0,0,"",""]
[225,null,{"$f":"IF(ISBLANK($B229),\"\",LOOKUP($B229,Inscriptions!A$2:A$65496,Inscriptions!B$2:B$65498))","v":""},{"$f":"IF(ISBLANK($B229),\"\",LOOKUP($B229,Inscriptions!A$2:A$65496,Inscriptions!C$2:C$65498))","v":""},{"$f":"IF(ISBLANK($B229),\"\",LOOKUP($B229,Inscriptions!A$2:A$65496,Inscriptions!D$2:D$65498))","v":""},null,null,null,null,0,0,0,"",""]
[226,null,{"$f":"IF(ISBLANK($B230),\"\",LOOKUP($B230,Inscriptions!A$2:A$65496,Inscriptions!B$2:B$65498))","v":""},{"$f":"IF(ISBLANK($B230),\"\",LOOKUP($B230,Inscriptions!A$2:A$65496,Inscriptions!C$2:C$65498))","v":""},{"$f":"IF(ISBLANK($B230),\"\",LOOKUP($B230,Inscriptions!A$2:A$65496,Inscriptions!D$2:D$65498))","v":""},null,null,null,null,0,0,0,"",""]
[227,null,{"$f":"IF(ISBLANK($B231),\"\",LOOKUP($B231,Inscriptions!A$2:A$65496,Inscriptions!B$2:B$65498))","v":""},{"$f":"IF(ISBLANK($B231),\"\",LOOKUP($B231,Inscriptions!A$2:A$65496,Inscriptions!C$2:C$65498))","v":""},{"$f":"IF(ISBLANK($B231),\"\",LOOKUP($B231,Inscriptions!A$2:A$65496,Inscriptions!D$2:D$65498))","v":""},null,null,null,null,0,0,0,"",""]
[228,null,{"$f":"IF(ISBLANK($B232),\"\",LOOKUP($B232,Inscriptions!A$2:A$65496,Inscriptions!B$2:B$65498))","v":""},{"$f":"IF(ISBLANK($B232),\"\",LOOKUP($B232,Inscriptions!A$2:A$65496,Inscriptions!C$2:C$65498))","v":""},{"$f":"IF(ISBLANK($B232),\"\",LOOKUP($B232,Inscriptions!A$2:A$65496,Inscriptions!D$2:D$65498))","v":""},null,null,null,null,0,0,0,"",""]
[229,null,{"$f":"IF(ISBLANK($B233),\"\",LOOKUP($B233,Inscriptions!A$2:A$65496,Inscriptions!B$2:B$65498))","v":""},{"$f":"IF(ISBLANK($B233),\"\",LOOKUP($B233,Inscriptions!A$2:A$65496,Inscriptions!C$2:C$65498))","v":""},{"$f":"IF(ISBLANK($B233),\"\",LOOKUP($B233,Inscriptions!A$2:A$65496,Inscriptions!D$2:D$65498))","v":""},null,null,null,null,0,0,0,"",""]
[230,null,{"$f":"IF(ISBLANK($B234),\"\",LOOKUP($B234,Inscriptions!A$2:A$65496,Inscriptions!B$2:B$65498))","v":""},{"$f":"IF(ISBLANK($B234),\"\",LOOKUP($B234,Inscriptions!A$2:A$65496,Inscriptions!C$2:C$65498))","v":""},{"$f":"IF(ISBLANK($B234),\"\",LOOKUP($B234,Inscriptions!A$2:A$65496,Inscriptions!D$2:D$65498))","v":""},null,null,null,null,0,0,0,"",""]
[231,null,{"$f":"IF(ISBLANK($B235),\"\",LOOKUP($B235,Inscriptions!A$2:A$65496,Inscriptions!B$2:B$65498))","v":""},{"$f":"IF(ISBLANK($B235),\"\",LOOKUP($B235,Inscriptions!A$2:A$65496,Inscriptions!C$2:C$65498))","v":""},{"$f":"IF(ISBLANK($B235),\"\",LOOKUP($B235,Inscriptions!A$2:A$65496,Inscriptions!D$2:D$65498))","v":""},null,null,null,null,0,0,0,"",""]
[232,null,{"$f":"IF(ISBLANK($B236),\"\",LOOKUP($B236,Inscriptions!A$2:A$65496,Inscriptions!B$2:B$65498))","v":""},{"$f":"IF(ISBLANK($B236),\"\",LOOKUP($B236,Inscriptions!A$2:A$65496,Inscriptions!C$2:C$65498))","v":""},{"$f":"IF(ISBLANK($B236),\"\",LOOKUP($B236,Inscriptions!A$2:A$65496,Inscriptions!D$2:D$65498))","v":""},null,null,null,null,0,0,0,"",""]
[233,null,{"$f":"IF(ISBLANK($B237),\"\",LOOKUP($B237,Inscriptions!A$2:A$65496,Inscriptions!B$2:B$65498))","v":""},{"$f":"IF(ISBLANK($B237),\"\",LOOKUP($B237,Inscriptions!A$2:A$65496,Inscriptions!C$2:C$65498))","v":""},{"$f":"IF(ISBLANK($B237),\"\",LOOKUP($B237,Inscriptions!A$2:A$65496,Inscriptions!D$2:D$65498))","v":""},null,null,null,null,0,0,0,"",""]
[234,null,{"$f":"IF(ISBLANK($B238),\"\",LOOKUP($B238,Inscriptions!A$2:A$65496,Inscriptions!B$2:B$65498))","v":""},{"$f":"IF(ISBLANK($B238),\"\",LOOKUP($B238,Inscriptions!A$2:A$65496,Inscriptions!C$2:C$65498))","v":""},{"$f":"IF(ISBLANK($B238),\"\",LOOKUP($B238,Inscriptions!A$2:A$65496,Inscriptions!D$2:D$65498))","v":""},null,null,null,null,0,0,0,"",""]
[235,null,{"$f":"IF(ISBLANK($B239),\"\",LOOKUP($B239,Inscriptions!A$2:A$65496,Inscriptions!B$2:B$65498))","v":""},{"$f":"IF(ISBLANK($B239),\"\",LOOKUP($B239,Inscriptions!A$2:A$65496,Inscriptions!C$2:C$65498))","v":""},{"$f":"IF(ISBLANK($B239),\"\",LOOKUP($B239,Inscriptions!A$2:A$65496,Inscriptions!D$2:D$65498))","v":""},null,null,null,null,0,0,0,"",""]
[236,null,{"$f":"IF(ISBLANK($B240),\"\",LOOKUP($B240,Inscriptions!A$2:A$65496,Inscriptions!B$2:B$65498))","v":""},{"$f":"IF(ISBLANK($B240),\"\",LOOKUP($B240,Inscriptions!A$2:A$65496,Inscriptions!C$2:C$65498))","v":""},{"$f":"IF(ISBLANK($B240),\"\",LOOKUP($B240,Inscriptions!A$2:A$65496,Inscriptions!D$2:D$65498))","v":""},null,null,null,null,0,0,0,"",""]
[237,null,{"$f":"IF(ISBLANK($B241),\"\",LOOKUP($B241,Inscriptions!A$2:A$65496,Inscriptions!B$2:B$65498))","v":""},{"$f":"IF(ISBLANK($B241),\"\",LOOKUP($B241,Inscriptions!A$2:A$65496,Inscriptions!C$2:C$65498))","v":""},{"$f":"IF(ISBLANK($B241),\"\",LOOKUP($B241,Inscriptions!A$2:A$65496,Inscriptions!D$2:D$65498))","v":""},null,null,null,null,0,0,0,"",""]
[238,null,{"$f":"IF(ISBLANK($B242),\"\",LOOKUP($B242,Inscriptions!A$2:A$65496,Inscriptions!B$2:B$65498))","v":""},{"$f":"IF(ISBLANK($B242),\"\",LOOKUP($B242,Inscriptions!A$2:A$65496,Inscriptions!C$2:C$65498))","v":""},{"$f":"IF(ISBLANK($B242),\"\",LOOKUP($B242,Inscriptions!A$2:A$65496,Inscriptions!D$2:D$65498))","v":""},null,null,null,null,0,0,0,"",""]
[239,null,{"$f":"IF(ISBLANK($B243),\"\",LOOKUP($B243,Inscriptions!A$2:A$65496,Inscriptions!B$2:B$65498))","v":""},{"$f":"IF(ISBLANK($B243),\"\",LOOKUP($B243,Inscriptions!A$2:A$65496,Inscriptions!C$2:C$65498))","v":""},{"$f":"IF(ISBLANK($B243),\"\",LOOKUP($B243,Inscriptions!A$2:A$65496,Inscriptions!D$2:D$65498))","v":""},null,null,null,null,0,0,0,"",""]
[240,null,{"$f":"IF(ISBLANK($B244),\"\",LOOKUP($B244,Inscriptions!A$2:A$65496,Inscriptions!B$2:B$65498))","v":""},{"$f":"IF(ISBLANK($B244),\"\",LOOKUP($B244,Inscriptions!A$2:A$65496,Inscriptions!C$2:C$65498))","v":""},{"$f":"IF(ISBLANK($B244),\"\",LOOKUP($B244,Inscriptions!A$2:A$65496,Inscriptions!D$2:D$65498))","v":""},null,null,null,null,0,0,0,"",""]
[241,null,{"$f":"IF(ISBLANK($B245),\"\",LOOKUP($B245,Inscriptions!A$2:A$65496,Inscriptions!B$2:B$65498))","v":""},{"$f":"IF(ISBLANK($B245),\"\",LOOKUP($B245,Inscriptions!A$2:A$65496,Inscriptions!C$2:C$65498))","v":""},{"$f":"IF(ISBLANK($B245),\"\",LOOKUP($B245,Inscriptions!A$2:A$65496,Inscriptions!D$2:D$65498))","v":""},null,null,null,null,0,0,0,"",""]
[242,null,{"$f":"IF(ISBLANK($B246),\"\",LOOKUP($B246,Inscriptions!A$2:A$65496,Inscriptions!B$2:B$65498))","v":""},{"$f":"IF(ISBLANK($B246),\"\",LOOKUP($B246,Inscriptions!A$2:A$65496,Inscriptions!C$2:C$65498))","v":""},{"$f":"IF(ISBLANK($B246),\"\",LOOKUP($B246,Inscriptions!A$2:A$65496,Inscriptions!D$2:D$65498))","v":""},null,null,null,null,0,0,0,"",""]
[243,null,{"$f":"IF(ISBLANK($B247),\"\",LOOKUP($B247,Inscriptions!A$2:A$65496,Inscriptions!B$2:B$65498))","v":""},{"$f":"IF(ISBLANK($B247),\"\",LOOKUP($B247,Inscriptions!A$2:A$65496,Inscriptions!C$2:C$65498))","v":""},{"$f":"IF(ISBLANK($B247),\"\",LOOKUP($B247,Inscriptions!A$2:A$65496,Inscriptions!D$2:D$65498))","v":""},null,null,null,null,0,0,0,"",""]
[244,null,{"$f":"IF(ISBLANK($B248),\"\",LOOKUP($B248,Inscriptions!A$2:A$65496,Inscriptions!B$2:B$65498))","v":""},{"$f":"IF(ISBLANK($B248),\"\",LOOKUP($B248,Inscriptions!A$2:A$65496,Inscriptions!C$2:C$65498))","v":""},{"$f":"IF(ISBLANK($B248),\"\",LOOKUP($B248,Inscriptions!A$2:A$65496,Inscriptions!D$2:D$65498))","v":""},null,null,null,null,0,0,0,"",""]
[245,null,{"$f":"IF(ISBLANK($B249),\"\",LOOKUP($B249,Inscriptions!A$2:A$65496,Inscriptions!B$2:B$65498))","v":""},{"$f":"IF(ISBLANK($B249),\"\",LOOKUP($B249,Inscriptions!A$2:A$65496,Inscriptions!C$2:C$65498))","v":""},{"$f":"IF(ISBLANK($B249),\"\",LOOKUP($B249,Inscriptions!A$2:A$65496,Inscriptions!D$2:D$65498))","v":""},null,null,null,null,0,0,0,"",""]
[246,null,{"$f":"IF(ISBLANK($B250),\"\",LOOKUP($B250,Inscriptions!A$2:A$65496,Inscriptions!B$2:B$65498))","v":""},{"$f":"IF(ISBLANK($B250),\"\",LOOKUP($B250,Inscriptions!A$2:A$65496,Inscriptions!C$2:C$65498))","v":""},{"$f":"IF(ISBLANK($B250),\"\",LOOKUP($B250,Inscriptions!A$2:A$65496,Inscriptions!D$2:D$65498))","v":""},null,null,null,null,0,0,0,"",""]
[247,null,{"$f":"IF(ISBLANK($B251),\"\",LOOKUP($B251,Inscriptions!A$2:A$65496,Inscriptions!B$2:B$65498))","v":""},{"$f":"IF(ISBLANK($B251),\"\",LOOKUP($B251,Inscriptions!A$2:A$65496,Inscriptions!C$2:C$65498))","v":""},{"$f":"IF(ISBLANK($B251),\"\",LOOKUP($B251,Inscriptions!A$2:A$65496,Inscriptions!D$2:D$65498))","v":""},null,null,null,null,0,0,0,"",""]
[248,null,{"$f":"IF(ISBLANK($B252),\"\",LOOKUP($B252,Inscriptions!A$2:A$65496,Inscriptions!B$2:B$65498))","v":""},{"$f":"IF(ISBLANK($B252),\"\",LOOKUP($B252,Inscriptions!A$2:A$65496,Inscriptions!C$2:C$65498))","v":""},{"$f":"IF(ISBLANK($B252),\"\",LOOKUP($B252,Inscriptions!A$2:A$65496,Inscriptions!D$2:D$65498))","v":""},null,null,null,null,0,0,0,"",""]
[249,null,{"$f":"IF(ISBLANK($B253),\"\",LOOKUP($B253,Inscriptions!A$2:A$65496,Inscriptions!B$2:B$65498))","v":""},{"$f":"IF(ISBLANK($B253),\"\",LOOKUP($B253,Inscriptions!A$2:A$65496,Inscriptions!C$2:C$65498))","v":""},{"$f":"IF(ISBLANK($B253),\"\",LOOKUP($B253,Inscriptions!A$2:A$65496,Inscriptions!D$2:D$65498))","v":""},null,null,null,null,0,0,0,"",""]
[250,null,{"$f":"IF(ISBLANK($B254),\"\",LOOKUP($B254,Inscriptions!A$2:A$65496,Inscriptions!B$2:B$65498))","v":""},{"$f":"IF(ISBLANK($B254),\"\",LOOKUP($B254,Inscriptions!A$2:A$65496,Inscriptions!C$2:C$65498))","v":""},{"$f":"IF(ISBLANK($B254),\"\",LOOKUP($B254,Inscriptions!A$2:A$65496,Inscriptions!D$2:D$65498))","v":""},null,null,null,null,0,0,0,"",""]
[251,null,{"$f":"IF(ISBLANK($B255),\"\",LOOKUP($B255,Inscriptions!A$2:A$65496,Inscriptions!B$2:B$65498))","v":""},{"$f":"IF(ISBLANK($B255),\"\",LOOKUP($B255,Inscriptions!A$2:A$65496,Inscriptions!C$2:C$65498))","v":""},{"$f":"IF(ISBLANK($B255),\"\",LOOKUP($B255,Inscriptions!A$2:A$65496,Inscriptions!D$2:D$65498))","v":""},null,null,null,null,0,0,0,"",""]
[252,null,{"$f":"IF(ISBLANK($B256),\"\",LOOKUP($B256,Inscriptions!A$2:A$65496,Inscriptions!B$2:B$65498))","v":""},{"$f":"IF(ISBLANK($B256),\"\",LOOKUP($B256,Inscriptions!A$2:A$65496,Inscriptions!C$2:C$65498))","v":""},{"$f":"IF(ISBLANK($B256),\"\",LOOKUP($B256,Inscriptions!A$2:A$65496,Inscriptions!D$2:D$65498))","v":""},null,null,null,null,0,0,0,"",""]
[253,null,{"$f":"IF(ISBLANK($B257),\"\",LOOKUP($B257,Inscriptions!A$2:A$65496,Inscriptions!B$2:B$65498))","v":""},{"$f":"IF(ISBLANK($B257),\"\",LOOKUP($B257,Inscriptions!A$2:A$65496,Inscriptions!C$2:C$65498))","v":""},{"$f":"IF(ISBLANK($B257),\"\",LOOKUP($B257,Inscriptions!A$2:A$65496,Inscriptions!D$2:D$65498))","v":""},null,null,null,null,0,0,0,"",""]
[254,null,{"$f":"IF(ISBLANK($B258),\"\",LOOKUP($B258,Inscriptions!A$2:A$65496,Inscriptions!B$2:B$65498))","v":""},{"$f":"IF(ISBLANK($B258),\"\",LOOKUP($B258,Inscriptions!A$2:A$65496,Inscriptions!C$2:C$65498))","v":""},{"$f":"IF(ISBLANK($B258),\"\",LOOKUP($B258,Inscriptions!A$2:A$65496,Inscriptions!D$2:D$65498))","v":""},null,null,null,null,0,0,0,"",""]
[255,null,{"$f":"IF(ISBLANK($B259),\"\",LOOKUP($B259,Inscriptions!A$2:A$65496,Inscriptions!B$2:B$65498))","v":""},{"$f":"IF(ISBLANK($B259),\"\",LOOKUP($B259,Inscriptions!A$2:A$65496,Inscriptions!C$2:C$65498))","v":""},{"$f":"IF(ISBLANK($B259),\"\",LOOKUP($B259,Inscriptions!A$2:A$65496,Inscriptions!D$2:D$65498))","v":""},null,null,null,null,0,0,0,"",""]
[256,null,{"$f":"IF(ISBLANK($B260),\"\",LOOKUP($B260,Inscriptions!A$2:A$65496,Inscriptions!B$2:B$65498))","v":""},{"$f":"IF(ISBLANK($B260),\"\",LOOKUP($B260,Inscriptions!A$2:A$65496,Inscriptions!C$2:C$65498))","v":""},{"$f":"IF(ISBLANK($B260),\"\",LOOKUP($B260,Inscriptions!A$2:A$65496,Inscriptions!D$2:D$65498))","v":""},null,null,null,null,0,0,0,"",""]
[257,null,{"$f":"IF(ISBLANK($B261),\"\",LOOKUP($B261,Inscriptions!A$2:A$65496,Inscriptions!B$2:B$65498))","v":""},{"$f":"IF(ISBLANK($B261),\"\",LOOKUP($B261,Inscriptions!A$2:A$65496,Inscriptions!C$2:C$65498))","v":""},{"$f":"IF(ISBLANK($B261),\"\",LOOKUP($B261,Inscriptions!A$2:A$65496,Inscriptions!D$2:D$65498))","v":""},null,null,null,null,0,0,0,"",""]
[258,null,{"$f":"IF(ISBLANK($B262),\"\",LOOKUP($B262,Inscriptions!A$2:A$65496,Inscriptions!B$2:B$65498))","v":""},{"$f":"IF(ISBLANK($B262),\"\",LOOKUP($B262,Inscriptions!A$2:A$65496,Inscriptions!C$2:C$65498))","v":""},{"$f":"IF(ISBLANK($B262),\"\",LOOKUP($B262,Inscriptions!A$2:A$65496,Inscriptions!D$2:D$65498))","v":""},null,null,null,null,{"$f":"ROUNDDOWN(I262/10000,0)","v":0},{"$f":"ROUNDDOWN((I262-J262*10000)/100,0)","v":0},{"$f":"ROUNDDOWN((I262-(J262*10000)-(K262*100)),0)","v":0},{"$f":"IF((J262+K262+L262)=0,\"\",ROUNDDOWN((M$4/((J262*3600)+(K262*60)+L262))*3.6,2))","v":""},{"$f":"IF(M262=\"\",\"\",\"km/h\")","v":""}]
[259,null,{"$f":"IF(ISBLANK($B263),\"\",LOOKUP($B263,Inscriptions!A$2:A$65496,Inscriptions!B$2:B$65498))","v":""},{"$f":"IF(ISBLANK($B263),\"\",LOOKUP($B263,Inscriptions!A$2:A$65496,Inscriptions!C$2:C$65498))","v":""},{"$f":"IF(ISBLANK($B263),\"\",LOOKUP($B263,Inscriptions!A$2:A$65496,Inscriptions!D$2:D$65498))","v":""},null,null,null,null,0,0,0,"",""]
[260,null,{"$f":"IF(ISBLANK($B264),\"\",LOOKUP($B264,Inscriptions!A$2:A$65496,Inscriptions!B$2:B$65498))","v":""},{"$f":"IF(ISBLANK($B264),\"\",LOOKUP($B264,Inscriptions!A$2:A$65496,Inscriptions!C$2:C$65498))","v":""},{"$f":"IF(ISBLANK($B264),\"\",LOOKUP($B264,Inscriptions!A$2:A$65496,Inscriptions!D$2:D$65498))","v":""},null,null,null,null,0,0,0,"",""]
[261,null,{"$f":"IF(ISBLANK($B265),\"\",LOOKUP($B265,Inscriptions!A$2:A$65496,Inscriptions!B$2:B$65498))","v":""},{"$f":"IF(ISBLANK($B265),\"\",LOOKUP($B265,Inscriptions!A$2:A$65496,Inscriptions!C$2:C$65498))","v":""},{"$f":"IF(ISBLANK($B265),\"\",LOOKUP($B265,Inscriptions!A$2:A$65496,Inscriptions!D$2:D$65498))","v":""},null,null,null,null,0,0,0,"",""]
[262,null,{"$f":"IF(ISBLANK($B266),\"\",LOOKUP($B266,Inscriptions!A$2:A$65496,Inscriptions!B$2:B$65498))","v":""},{"$f":"IF(ISBLANK($B266),\"\",LOOKUP($B266,Inscriptions!A$2:A$65496,Inscriptions!C$2:C$65498))","v":""},{"$f":"IF(ISBLANK($B266),\"\",LOOKUP($B266,Inscriptions!A$2:A$65496,Inscriptions!D$2:D$65498))","v":""},null,null,null,null,0,0,0,"",""]
[263,null,{"$f":"IF(ISBLANK($B267),\"\",LOOKUP($B267,Inscriptions!A$2:A$65496,Inscriptions!B$2:B$65498))","v":""},{"$f":"IF(ISBLANK($B267),\"\",LOOKUP($B267,Inscriptions!A$2:A$65496,Inscriptions!C$2:C$65498))","v":""},{"$f":"IF(ISBLANK($B267),\"\",LOOKUP($B267,Inscriptions!A$2:A$65496,Inscriptions!D$2:D$65498))","v":""},null,null,null,null,0,0,0,"",""]
[264,null,{"$f":"IF(ISBLANK($B268),\"\",LOOKUP($B268,Inscriptions!A$2:A$65496,Inscriptions!B$2:B$65498))","v":""},{"$f":"IF(ISBLANK($B268),\"\",LOOKUP($B268,Inscriptions!A$2:A$65496,Inscriptions!C$2:C$65498))","v":""},{"$f":"IF(ISBLANK($B268),\"\",LOOKUP($B268,Inscriptions!A$2:A$65496,Inscriptions!D$2:D$65498))","v":""},null,null,null,null,0,0,0,"",""]
[265,null,{"$f":"IF(ISBLANK($B269),\"\",LOOKUP($B269,Inscriptions!A$2:A$65496,Inscriptions!B$2:B$65498))","v":""},{"$f":"IF(ISBLANK($B269),\"\",LOOKUP($B269,Inscriptions!A$2:A$65496,Inscriptions!C$2:C$65498))","v":""},{"$f":"IF(ISBLANK($B269),\"\",LOOKUP($B269,Inscriptions!A$2:A$65496,Inscriptions!D$2:D$65498))","v":""},null,null,null,null,0,0,0,"",""]
[266,null,{"$f":"IF(ISBLANK($B270),\"\",LOOKUP($B270,Inscriptions!A$2:A$65496,Inscriptions!B$2:B$65498))","v":""},{"$f":"IF(ISBLANK($B270),\"\",LOOKUP($B270,Inscriptions!A$2:A$65496,Inscriptions!C$2:C$65498))","v":""},{"$f":"IF(ISBLANK($B270),\"\",LOOKUP($B270,Inscriptions!A$2:A$65496,Inscriptions!D$2:D$65498))","v":""},null,null,null,null,0,0,0,"",""]
[267,null,{"$f":"IF(ISBLANK($B271),\"\",LOOKUP($B271,Inscriptions!A$2:A$65496,Inscriptions!B$2:B$65498))","v":""},{"$f":"IF(ISBLANK($B271),\"\",LOOKUP($B271,Inscriptions!A$2:A$65496,Inscriptions!C$2:C$65498))","v":""},{"$f":"IF(ISBLANK($B271),\"\",LOOKUP($B271,Inscriptions!A$2:A$65496,Inscriptions!D$2:D$65498))","v":""},null,null,null,null,0,0,0,"",""]
[268,null,{"$f":"IF(ISBLANK($B272),\"\",LOOKUP($B272,Inscriptions!A$2:A$65496,Inscriptions!B$2:B$65498))","v":""},{"$f":"IF(ISBLANK($B272),\"\",LOOKUP($B272,Inscriptions!A$2:A$65496,Inscriptions!C$2:C$65498))","v":""},{"$f":"IF(ISBLANK($B272),\"\",LOOKUP($B272,Inscriptions!A$2:A$65496,Inscriptions!D$2:D$65498))","v":""},null,null,null,null,0,0,0,"",""]
[269,null,{"$f":"IF(ISBLANK($B273),\"\",LOOKUP($B273,Inscriptions!A$2:A$65496,Inscriptions!B$2:B$65498))","v":""},{"$f":"IF(ISBLANK($B273),\"\",LOOKUP($B273,Inscriptions!A$2:A$65496,Inscriptions!C$2:C$65498))","v":""},{"$f":"IF(ISBLANK($B273),\"\",LOOKUP($B273,Inscriptions!A$2:A$65496,Inscriptions!D$2:D$65498))","v":""},null,null,null,null,0,0,0,"",""]
[270,null,{"$f":"IF(ISBLANK($B274),\"\",LOOKUP($B274,Inscriptions!A$2:A$65496,Inscriptions!B$2:B$65498))","v":""},{"$f":"IF(ISBLANK($B274),\"\",LOOKUP($B274,Inscriptions!A$2:A$65496,Inscriptions!C$2:C$65498))","v":""},{"$f":"IF(ISBLANK($B274),\"\",LOOKUP($B274,Inscriptions!A$2:A$65496,Inscriptions!D$2:D$65498))","v":""},null,null,null,null,0,0,0,"",""]
[271,null,{"$f":"IF(ISBLANK($B275),\"\",LOOKUP($B275,Inscriptions!A$2:A$65496,Inscriptions!B$2:B$65498))","v":""},{"$f":"IF(ISBLANK($B275),\"\",LOOKUP($B275,Inscriptions!A$2:A$65496,Inscriptions!C$2:C$65498))","v":""},{"$f":"IF(ISBLANK($B275),\"\",LOOKUP($B275,Inscriptions!A$2:A$65496,Inscriptions!D$2:D$65498))","v":""},null,null,null,null,0,0,0,"",""]
[272,null,{"$f":"IF(ISBLANK($B276),\"\",LOOKUP($B276,Inscriptions!A$2:A$65496,Inscriptions!B$2:B$65498))","v":""},{"$f":"IF(ISBLANK($B276),\"\",LOOKUP($B276,Inscriptions!A$2:A$65496,Inscriptions!C$2:C$65498))","v":""},{"$f":"IF(ISBLANK($B276),\"\",LOOKUP($B276,Inscriptions!A$2:A$65496,Inscriptions!D$2:D$65498))","v":""},null,null,null,null,0,0,0,"",""]
[273,null,{"$f":"IF(ISBLANK($B277),\"\",LOOKUP($B277,Inscriptions!A$2:A$65496,Inscriptions!B$2:B$65498))","v":""},{"$f":"IF(ISBLANK($B277),\"\",LOOKUP($B277,Inscriptions!A$2:A$65496,Inscriptions!C$2:C$65498))","v":""},{"$f":"IF(ISBLANK($B277),\"\",LOOKUP($B277,Inscriptions!A$2:A$65496,Inscriptions!D$2:D$65498))","v":""},null,null,null,null,0,0,0,"",""]
[274,null,{"$f":"IF(ISBLANK($B278),\"\",LOOKUP($B278,Inscriptions!A$2:A$65496,Inscriptions!B$2:B$65498))","v":""},{"$f":"IF(ISBLANK($B278),\"\",LOOKUP($B278,Inscriptions!A$2:A$65496,Inscriptions!C$2:C$65498))","v":""},{"$f":"IF(ISBLANK($B278),\"\",LOOKUP($B278,Inscriptions!A$2:A$65496,Inscriptions!D$2:D$65498))","v":""},null,null,null,null,0,0,0,"",""]
[275,null,{"$f":"IF(ISBLANK($B279),\"\",LOOKUP($B279,Inscriptions!A$2:A$65496,Inscriptions!B$2:B$65498))","v":""},{"$f":"IF(ISBLANK($B279),\"\",LOOKUP($B279,Inscriptions!A$2:A$65496,Inscriptions!C$2:C$65498))","v":""},{"$f":"IF(ISBLANK($B279),\"\",LOOKUP($B279,Inscriptions!A$2:A$65496,Inscriptions!D$2:D$65498))","v":""},null,null,null,null,0,0,0,"",""]
[276,null,{"$f":"IF(ISBLANK($B280),\"\",LOOKUP($B280,Inscriptions!A$2:A$65496,Inscriptions!B$2:B$65498))","v":""},{"$f":"IF(ISBLANK($B280),\"\",LOOKUP($B280,Inscriptions!A$2:A$65496,Inscriptions!C$2:C$65498))","v":""},{"$f":"IF(ISBLANK($B280),\"\",LOOKUP($B280,Inscriptions!A$2:A$65496,Inscriptions!D$2:D$65498))","v":""},null,null,null,null,0,0,0,"",""]
[277,null,{"$f":"IF(ISBLANK($B281),\"\",LOOKUP($B281,Inscriptions!A$2:A$65496,Inscriptions!B$2:B$65498))","v":""},{"$f":"IF(ISBLANK($B281),\"\",LOOKUP($B281,Inscriptions!A$2:A$65496,Inscriptions!C$2:C$65498))","v":""},{"$f":"IF(ISBLANK($B281),\"\",LOOKUP($B281,Inscriptions!A$2:A$65496,Inscriptions!D$2:D$65498))","v":""},null,null,null,null,0,0,0,"",""]
[278,null,{"$f":"IF(ISBLANK($B282),\"\",LOOKUP($B282,Inscriptions!A$2:A$65496,Inscriptions!B$2:B$65498))","v":""},{"$f":"IF(ISBLANK($B282),\"\",LOOKUP($B282,Inscriptions!A$2:A$65496,Inscriptions!C$2:C$65498))","v":""},{"$f":"IF(ISBLANK($B282),\"\",LOOKUP($B282,Inscriptions!A$2:A$65496,Inscriptions!D$2:D$65498))","v":""},null,null,null,null,0,0,0,"",""]
[279,null,{"$f":"IF(ISBLANK($B283),\"\",LOOKUP($B283,Inscriptions!A$2:A$65496,Inscriptions!B$2:B$65498))","v":""},{"$f":"IF(ISBLANK($B283),\"\",LOOKUP($B283,Inscriptions!A$2:A$65496,Inscriptions!C$2:C$65498))","v":""},{"$f":"IF(ISBLANK($B283),\"\",LOOKUP($B283,Inscriptions!A$2:A$65496,Inscriptions!D$2:D$65498))","v":""},null,null,null,null,0,0,0,"",""]
[280,null,{"$f":"IF(ISBLANK($B284),\"\",LOOKUP($B284,Inscriptions!A$2:A$65496,Inscriptions!B$2:B$65498))","v":""},{"$f":"IF(ISBLANK($B284),\"\",LOOKUP($B284,Inscriptions!A$2:A$65496,Inscriptions!C$2:C$65498))","v":""},{"$f":"IF(ISBLANK($B284),\"\",LOOKUP($B284,Inscriptions!A$2:A$65496,Inscriptions!D$2:D$65498))","v":""},null,null,null,null,0,0,0,"",""]
[281,null,{"$f":"IF(ISBLANK($B285),\"\",LOOKUP($B285,Inscriptions!A$2:A$65496,Inscriptions!B$2:B$65498))","v":""},{"$f":"IF(ISBLANK($B285),\"\",LOOKUP($B285,Inscriptions!A$2:A$65496,Inscriptions!C$2:C$65498))","v":""},{"$f":"IF(ISBLANK($B285),\"\",LOOKUP($B285,Inscriptions!A$2:A$65496,Inscriptions!D$2:D$65498))","v":""},null,null,null,null,0,0,0,"",""]
[282,null,{"$f":"IF(ISBLANK($B286),\"\",LOOKUP($B286,Inscriptions!A$2:A$65496,Inscriptions!B$2:B$65498))","v":""},{"$f":"IF(ISBLANK($B286),\"\",LOOKUP($B286,Inscriptions!A$2:A$65496,Inscriptions!C$2:C$65498))","v":""},{"$f":"IF(ISBLANK($B286),\"\",LOOKUP($B286,Inscriptions!A$2:A$65496,Inscriptions!D$2:D$65498))","v":""},null,null,null,null,0,0,0,"",""]
[283,null,{"$f":"IF(ISBLANK($B287),\"\",LOOKUP($B287,Inscriptions!A$2:A$65496,Inscriptions!B$2:B$65498))","v":""},{"$f":"IF(ISBLANK($B287),\"\",LOOKUP($B287,Inscriptions!A$2:A$65496,Inscriptions!C$2:C$65498))","v":""},{"$f":"IF(ISBLANK($B287),\"\",LOOKUP($B287,Inscriptions!A$2:A$65496,Inscriptions!D$2:D$65498))","v":""},null,null,null,null,0,0,0,"",""]
[284,null,{"$f":"IF(ISBLANK($B288),\"\",LOOKUP($B288,Inscriptions!A$2:A$65496,Inscriptions!B$2:B$65498))","v":""},{"$f":"IF(ISBLANK($B288),\"\",LOOKUP($B288,Inscriptions!A$2:A$65496,Inscriptions!C$2:C$65498))","v":""},{"$f":"IF(ISBLANK($B288),\"\",LOOKUP($B288,Inscriptions!A$2:A$65496,Inscriptions!D$2:D$65498))","v":""},null,null,null,null,0,0,0,"",""]
[285,null,{"$f":"IF(ISBLANK($B289),\"\",LOOKUP($B289,Inscriptions!A$2:A$65496,Inscriptions!B$2:B$65498))","v":""},{"$f":"IF(ISBLANK($B289),\"\",LOOKUP($B289,Inscriptions!A$2:A$65496,Inscriptions!C$2:C$65498))","v":""},{"$f":"IF(ISBLANK($B289),\"\",LOOKUP($B289,Inscriptions!A$2:A$65496,Inscriptions!D$2:D$65498))","v":""},null,null,null,null,0,0,0,"",""]
[286,null,{"$f":"IF(ISBLANK($B290),\"\",LOOKUP($B290,Inscriptions!A$2:A$65496,Inscriptions!B$2:B$65498))","v":""},{"$f":"IF(ISBLANK($B290),\"\",LOOKUP($B290,Inscriptions!A$2:A$65496,Inscriptions!C$2:C$65498))","v":""},{"$f":"IF(ISBLANK($B290),\"\",LOOKUP($B290,Inscriptions!A$2:A$65496,Inscriptions!D$2:D$65498))","v":""},null,null,null,null,0,0,0,"",""]
[287,null,{"$f":"IF(ISBLANK($B291),\"\",LOOKUP($B291,Inscriptions!A$2:A$65496,Inscriptions!B$2:B$65498))","v":""},{"$f":"IF(ISBLANK($B291),\"\",LOOKUP($B291,Inscriptions!A$2:A$65496,Inscriptions!C$2:C$65498))","v":""},{"$f":"IF(ISBLANK($B291),\"\",LOOKUP($B291,Inscriptions!A$2:A$65496,Inscriptions!D$2:D$65498))","v":""},null,null,null,null,0,0,0,"",""]
[288,null,{"$f":"IF(ISBLANK($B292),\"\",LOOKUP($B292,Inscriptions!A$2:A$65496,Inscriptions!B$2:B$65498))","v":""},{"$f":"IF(ISBLANK($B292),\"\",LOOKUP($B292,Inscriptions!A$2:A$65496,Inscriptions!C$2:C$65498))","v":""},{"$f":"IF(ISBLANK($B292),\"\",LOOKUP($B292,Inscriptions!A$2:A$65496,Inscriptions!D$2:D$65498))","v":""},null,null,null,null,0,0,0,"",""]
[289,null,{"$f":"IF(ISBLANK($B293),\"\",LOOKUP($B293,Inscriptions!A$2:A$65496,Inscriptions!B$2:B$65498))","v":""},{"$f":"IF(ISBLANK($B293),\"\",LOOKUP($B293,Inscriptions!A$2:A$65496,Inscriptions!C$2:C$65498))","v":""},{"$f":"IF(ISBLANK($B293),\"\",LOOKUP($B293,Inscriptions!A$2:A$65496,Inscriptions!D$2:D$65498))","v":""},null,null,null,null,0,0,0,"",""]
[290,null,{"$f":"IF(ISBLANK($B294),\"\",LOOKUP($B294,Inscriptions!A$2:A$65496,Inscriptions!B$2:B$65498))","v":""},{"$f":"IF(ISBLANK($B294),\"\",LOOKUP($B294,Inscriptions!A$2:A$65496,Inscriptions!C$2:C$65498))","v":""},{"$f":"IF(ISBLANK($B294),\"\",LOOKUP($B294,Inscriptions!A$2:A$65496,Inscriptions!D$2:D$65498))","v":""},null,null,null,null,0,0,0,"",""]
[291,null,{"$f":"IF(ISBLANK($B295),\"\",LOOKUP($B295,Inscriptions!A$2:A$65496,Inscriptions!B$2:B$65498))","v":""},{"$f":"IF(ISBLANK($B295),\"\",LOOKUP($B295,Inscriptions!A$2:A$65496,Inscriptions!C$2:C$65498))","v":""},{"$f":"IF(ISBLANK($B295),\"\",LOOKUP($B295,Inscriptions!A$2:A$65496,Inscriptions!D$2:D$65498))","v":""},null,null,null,null,0,0,0,"",""]
[292,null,{"$f":"IF(ISBLANK($B296),\"\",LOOKUP($B296,Inscriptions!A$2:A$65496,Inscriptions!B$2:B$65498))","v":""},{"$f":"IF(ISBLANK($B296),\"\",LOOKUP($B296,Inscriptions!A$2:A$65496,Inscriptions!C$2:C$65498))","v":""},{"$f":"IF(ISBLANK($B296),\"\",LOOKUP($B296,Inscriptions!A$2:A$65496,Inscriptions!D$2:D$65498))","v":""},null,null,null,null,0,0,0,"",""]
[293,null,{"$f":"IF(ISBLANK($B297),\"\",LOOKUP($B297,Inscriptions!A$2:A$65496,Inscriptions!B$2:B$65498))","v":""},{"$f":"IF(ISBLANK($B297),\"\",LOOKUP($B297,Inscriptions!A$2:A$65496,Inscriptions!C$2:C$65498))","v":""},{"$f":"IF(ISBLANK($B297),\"\",LOOKUP($B297,Inscriptions!A$2:A$65496,Inscriptions!D$2:D$65498))","v":""},null,null,null,null,0,0,0,"",""]
[294,null,{"$f":"IF(ISBLANK($B298),\"\",LOOKUP($B298,Inscriptions!A$2:A$65496,Inscriptions!B$2:B$65498))","v":""},{"$f":"IF(ISBLANK($B298),\"\",LOOKUP($B298,Inscriptions!A$2:A$65496,Inscriptions!C$2:C$65498))","v":""},{"$f":"IF(ISBLANK($B298),\"\",LOOKUP($B298,Inscriptions!A$2:A$65496,Inscriptions!D$2:D$65498))","v":""},null,null,null,null,0,0,0,"",""]
[295,null,{"$f":"IF(ISBLANK($B299),\"\",LOOKUP($B299,Inscriptions!A$2:A$65496,Inscriptions!B$2:B$65498))","v":""},{"$f":"IF(ISBLANK($B299),\"\",LOOKUP($B299,Inscriptions!A$2:A$65496,Inscriptions!C$2:C$65498))","v":""},{"$f":"IF(ISBLANK($B299),\"\",LOOKUP($B299,Inscriptions!A$2:A$65496,Inscriptions!D$2:D$65498))","v":""},null,null,null,null,0,0,0,"",""]
[296,null,{"$f":"IF(ISBLANK($B300),\"\",LOOKUP($B300,Inscriptions!A$2:A$65496,Inscriptions!B$2:B$65498))","v":""},{"$f":"IF(ISBLANK($B300),\"\",LOOKUP($B300,Inscriptions!A$2:A$65496,Inscriptions!C$2:C$65498))","v":""},{"$f":"IF(ISBLANK($B300),\"\",LOOKUP($B300,Inscriptions!A$2:A$65496,Inscriptions!D$2:D$65498))","v":""},null,null,null,null,0,0,0,"",""]
[297,null,{"$f":"IF(ISBLANK($B301),\"\",LOOKUP($B301,Inscriptions!A$2:A$65496,Inscriptions!B$2:B$65498))","v":""},{"$f":"IF(ISBLANK($B301),\"\",LOOKUP($B301,Inscriptions!A$2:A$65496,Inscriptions!C$2:C$65498))","v":""},{"$f":"IF(ISBLANK($B301),\"\",LOOKUP($B301,Inscriptions!A$2:A$65496,Inscriptions!D$2:D$65498))","v":""},null,null,null,null,0,0,0,"",""]
[298,null,{"$f":"IF(ISBLANK($B302),\"\",LOOKUP($B302,Inscriptions!A$2:A$65496,Inscriptions!B$2:B$65498))","v":""},{"$f":"IF(ISBLANK($B302),\"\",LOOKUP($B302,Inscriptions!A$2:A$65496,Inscriptions!C$2:C$65498))","v":""},{"$f":"IF(ISBLANK($B302),\"\",LOOKUP($B302,Inscriptions!A$2:A$65496,Inscriptions!D$2:D$65498))","v":""},null,null,null,null,null,null,null,"",""]
[299,null,{"$f":"IF(ISBLANK($B303),\"\",LOOKUP($B303,Inscriptions!A$2:A$65496,Inscriptions!B$2:B$65498))","v":""},{"$f":"IF(ISBLANK($B303),\"\",LOOKUP($B303,Inscriptions!A$2:A$65496,Inscriptions!C$2:C$65498))","v":""},{"$f":"IF(ISBLANK($B303),\"\",LOOKUP($B303,Inscriptions!A$2:A$65496,Inscriptions!D$2:D$65498))","v":""},null,null,null,null,null,null,null,"",""]
[300,null,{"$f":"IF(ISBLANK($B304),\"\",LOOKUP($B304,Inscriptions!A$2:A$65496,Inscriptions!B$2:B$65498))","v":""},{"$f":"IF(ISBLANK($B304),\"\",LOOKUP($B304,Inscriptions!A$2:A$65496,Inscriptions!C$2:C$65498))","v":""},{"$f":"IF(ISBLANK($B304),\"\",LOOKUP($B304,Inscriptions!A$2:A$65496,Inscriptions!D$2:D$65498))","v":""},null,null,null,null,null,null,null,"",""]
[301,null,{"$f":"IF(ISBLANK($B305),\"\",LOOKUP($B305,Inscriptions!A$2:A$65496,Inscriptions!B$2:B$65498))","v":""},{"$f":"IF(ISBLANK($B305),\"\",LOOKUP($B305,Inscriptions!A$2:A$65496,Inscriptions!C$2:C$65498))","v":""},{"$f":"IF(ISBLANK($B305),\"\",LOOKUP($B305,Inscriptions!A$2:A$65496,Inscriptions!D$2:D$65498))","v":""},null,null,null,null,null,null,null,"",""]
[302,null,{"$f":"IF(ISBLANK($B306),\"\",LOOKUP($B306,Inscriptions!A$2:A$65496,Inscriptions!B$2:B$65498))","v":""},{"$f":"IF(ISBLANK($B306),\"\",LOOKUP($B306,Inscriptions!A$2:A$65496,Inscriptions!C$2:C$65498))","v":""},{"$f":"IF(ISBLANK($B306),\"\",LOOKUP($B306,Inscriptions!A$2:A$65496,Inscriptions!D$2:D$65498))","v":""},null,null,null,null,null,null,null,"",""]
[303,null,{"$f":"IF(ISBLANK($B307),\"\",LOOKUP($B307,Inscriptions!A$2:A$65496,Inscriptions!B$2:B$65498))","v":""},{"$f":"IF(ISBLANK($B307),\"\",LOOKUP($B307,Inscriptions!A$2:A$65496,Inscriptions!C$2:C$65498))","v":""},{"$f":"IF(ISBLANK($B307),\"\",LOOKUP($B307,Inscriptions!A$2:A$65496,Inscriptions!D$2:D$65498))","v":""},null,null,null,null,null,null,null,"",""]
[304,null,{"$f":"IF(ISBLANK($B308),\"\",LOOKUP($B308,Inscriptions!A$2:A$65496,Inscriptions!B$2:B$65498))","v":""},{"$f":"IF(ISBLANK($B308),\"\",LOOKUP($B308,Inscriptions!A$2:A$65496,Inscriptions!C$2:C$65498))","v":""},{"$f":"IF(ISBLANK($B308),\"\",LOOKUP($B308,Inscriptions!A$2:A$65496,Inscriptions!D$2:D$65498))","v":""},null,null,null,null,null,null,null,"",""]
[305,null,{"$f":"IF(ISBLANK($B309),\"\",LOOKUP($B309,Inscriptions!A$2:A$65496,Inscriptions!B$2:B$65498))","v":""},{"$f":"IF(ISBLANK($B309),\"\",LOOKUP($B309,Inscriptions!A$2:A$65496,Inscriptions!C$2:C$65498))","v":""},{"$f":"IF(ISBLANK($B309),\"\",LOOKUP($B309,Inscriptions!A$2:A$65496,Inscriptions!D$2:D$65498))","v":""},null,null,null,null,null,null,null,"",""]
[306,null,{"$f":"IF(ISBLANK($B310),\"\",LOOKUP($B310,Inscriptions!A$2:A$65496,Inscriptions!B$2:B$65498))","v":""},{"$f":"IF(ISBLANK($B310),\"\",LOOKUP($B310,Inscriptions!A$2:A$65496,Inscriptions!C$2:C$65498))","v":""},{"$f":"IF(ISBLANK($B310),\"\",LOOKUP($B310,Inscriptions!A$2:A$65496,Inscriptions!D$2:D$65498))","v":""},null,null,null,null,null,null,null,"",""]
[307,null,{"$f":"IF(ISBLANK($B311),\"\",LOOKUP($B311,Inscriptions!A$2:A$65496,Inscriptions!B$2:B$65498))","v":""},{"$f":"IF(ISBLANK($B311),\"\",LOOKUP($B311,Inscriptions!A$2:A$65496,Inscriptions!C$2:C$65498))","v":""},{"$f":"IF(ISBLANK($B311),\"\",LOOKUP($B311,Inscriptions!A$2:A$65496,Inscriptions!D$2:D$65498))","v":""},null,null,null,null,null,null,null,"",""]
[308,null,{"$f":"IF(ISBLANK($B312),\"\",LOOKUP($B312,Inscriptions!A$2:A$65496,Inscriptions!B$2:B$65498))","v":""},{"$f":"IF(ISBLANK($B312),\"\",LOOKUP($B312,Inscriptions!A$2:A$65496,Inscriptions!C$2:C$65498))","v":""},{"$f":"IF(ISBLANK($B312),\"\",LOOKUP($B312,Inscriptions!A$2:A$65496,Inscriptions!D$2:D$65498))","v":""},null,null,null,null,null,null,null,"",""]
[309,null,{"$f":"IF(ISBLANK($B313),\"\",LOOKUP($B313,Inscriptions!A$2:A$65496,Inscriptions!B$2:B$65498))","v":""},{"$f":"IF(ISBLANK($B313),\"\",LOOKUP($B313,Inscriptions!A$2:A$65496,Inscriptions!C$2:C$65498))","v":""},{"$f":"IF(ISBLANK($B313),\"\",LOOKUP($B313,Inscriptions!A$2:A$65496,Inscriptions!D$2:D$65498))","v":""},null,null,null,null,null,null,null,"",""]
[310,null,{"$f":"IF(ISBLANK($B314),\"\",LOOKUP($B314,Inscriptions!A$2:A$65496,Inscriptions!B$2:B$65498))","v":""},{"$f":"IF(ISBLANK($B314),\"\",LOOKUP($B314,Inscriptions!A$2:A$65496,Inscriptions!C$2:C$65498))","v":""},{"$f":"IF(ISBLANK($B314),\"\",LOOKUP($B314,Inscriptions!A$2:A$65496,Inscriptions!D$2:D$65498))","v":""},null,null,null,null,null,null,null,"",""]
[311,null,{"$f":"IF(ISBLANK($B315),\"\",LOOKUP($B315,Inscriptions!A$2:A$65496,Inscriptions!B$2:B$65498))","v":""},{"$f":"IF(ISBLANK($B315),\"\",LOOKUP($B315,Inscriptions!A$2:A$65496,Inscriptions!C$2:C$65498))","v":""},{"$f":"IF(ISBLANK($B315),\"\",LOOKUP($B315,Inscriptions!A$2:A$65496,Inscriptions!D$2:D$65498))","v":""},null,null,null,null,null,null,null,"",""]
[312,null,{"$f":"IF(ISBLANK($B316),\"\",LOOKUP($B316,Inscriptions!A$2:A$65496,Inscriptions!B$2:B$65498))","v":""},{"$f":"IF(ISBLANK($B316),\"\",LOOKUP($B316,Inscriptions!A$2:A$65496,Inscriptions!C$2:C$65498))","v":""},{"$f":"IF(ISBLANK($B316),\"\",LOOKUP($B316,Inscriptions!A$2:A$65496,Inscriptions!D$2:D$65498))","v":""},null,null,null,null,null,null,null,"",""]
[313,null,{"$f":"IF(ISBLANK($B317),\"\",LOOKUP($B317,Inscriptions!A$2:A$65496,Inscriptions!B$2:B$65498))","v":""},{"$f":"IF(ISBLANK($B317),\"\",LOOKUP($B317,Inscriptions!A$2:A$65496,Inscriptions!C$2:C$65498))","v":""},{"$f":"IF(ISBLANK($B317),\"\",LOOKUP($B317,Inscriptions!A$2:A$65496,Inscriptions!D$2:D$65498))","v":""},null,null,null,null,null,null,null,"",""]
[314,null,{"$f":"IF(ISBLANK($B318),\"\",LOOKUP($B318,Inscriptions!A$2:A$65496,Inscriptions!B$2:B$65498))","v":""},{"$f":"IF(ISBLANK($B318),\"\",LOOKUP($B318,Inscriptions!A$2:A$65496,Inscriptions!C$2:C$65498))","v":""},{"$f":"IF(ISBLANK($B318),\"\",LOOKUP($B318,Inscriptions!A$2:A$65496,Inscriptions!D$2:D$65498))","v":""},null,null,null,null,null,null,null,"",""]
[315,null,{"$f":"IF(ISBLANK($B319),\"\",LOOKUP($B319,Inscriptions!A$2:A$65496,Inscriptions!B$2:B$65498))","v":""},{"$f":"IF(ISBLANK($B319),\"\",LOOKUP($B319,Inscriptions!A$2:A$65496,Inscriptions!C$2:C$65498))","v":""},{"$f":"IF(ISBLANK($B319),\"\",LOOKUP($B319,Inscriptions!A$2:A$65496,Inscriptions!D$2:D$65498))","v":""},null,null,null,null,null,null,null,"",""]
[316,null,{"$f":"IF(ISBLANK($B320),\"\",LOOKUP($B320,Inscriptions!A$2:A$65496,Inscriptions!B$2:B$65498))","v":""},{"$f":"IF(ISBLANK($B320),\"\",LOOKUP($B320,Inscriptions!A$2:A$65496,Inscriptions!C$2:C$65498))","v":""},{"$f":"IF(ISBLANK($B320),\"\",LOOKUP($B320,Inscriptions!A$2:A$65496,Inscriptions!D$2:D$65498))","v":""},null,null,null,null,null,null,null,"",""]
[317,null,{"$f":"IF(ISBLANK($B321),\"\",LOOKUP($B321,Inscriptions!A$2:A$65496,Inscriptions!B$2:B$65498))","v":""},{"$f":"IF(ISBLANK($B321),\"\",LOOKUP($B321,Inscriptions!A$2:A$65496,Inscriptions!C$2:C$65498))","v":""},{"$f":"IF(ISBLANK($B321),\"\",LOOKUP($B321,Inscriptions!A$2:A$65496,Inscriptions!D$2:D$65498))","v":""},null,null,null,null,null,null,null,"",""]
[318,null,{"$f":"IF(ISBLANK($B322),\"\",LOOKUP($B322,Inscriptions!A$2:A$65496,Inscriptions!B$2:B$65498))","v":""},{"$f":"IF(ISBLANK($B322),\"\",LOOKUP($B322,Inscriptions!A$2:A$65496,Inscriptions!C$2:C$65498))","v":""},{"$f":"IF(ISBLANK($B322),\"\",LOOKUP($B322,Inscriptions!A$2:A$65496,Inscriptions!D$2:D$65498))","v":""},null,null,null,null,null,null,null,"",""]
[319,null,{"$f":"IF(ISBLANK($B323),\"\",LOOKUP($B323,Inscriptions!A$2:A$65496,Inscriptions!B$2:B$65498))","v":""},{"$f":"IF(ISBLANK($B323),\"\",LOOKUP($B323,Inscriptions!A$2:A$65496,Inscriptions!C$2:C$65498))","v":""},{"$f":"IF(ISBLANK($B323),\"\",LOOKUP($B323,Inscriptions!A$2:A$65496,Inscriptions!D$2:D$65498))","v":""},null,null,null,null,null,null,null,"",""]
[320,null,{"$f":"IF(ISBLANK($B324),\"\",LOOKUP($B324,Inscriptions!A$2:A$65496,Inscriptions!B$2:B$65498))","v":""},{"$f":"IF(ISBLANK($B324),\"\",LOOKUP($B324,Inscriptions!A$2:A$65496,Inscriptions!C$2:C$65498))","v":""},{"$f":"IF(ISBLANK($B324),\"\",LOOKUP($B324,Inscriptions!A$2:A$65496,Inscriptions!D$2:D$65498))","v":""},null,null,null,null,null,null,null,"",""]
[321,null,{"$f":"IF(ISBLANK($B325),\"\",LOOKUP($B325,Inscriptions!A$2:A$65496,Inscriptions!B$2:B$65498))","v":""},{"$f":"IF(ISBLANK($B325),\"\",LOOKUP($B325,Inscriptions!A$2:A$65496,Inscriptions!C$2:C$65498))","v":""},{"$f":"IF(ISBLANK($B325),\"\",LOOKUP($B325,Inscriptions!A$2:A$65496,Inscriptions!D$2:D$65498))","v":""},null,null,null,null,null,null,null,"",""]
[322,null,{"$f":"IF(ISBLANK($B326),\"\",LOOKUP($B326,Inscriptions!A$2:A$65496,Inscriptions!B$2:B$65498))","v":""},{"$f":"IF(ISBLANK($B326),\"\",LOOKUP($B326,Inscriptions!A$2:A$65496,Inscriptions!C$2:C$65498))","v":""},{"$f":"IF(ISBLANK($B326),\"\",LOOKUP($B326,Inscriptions!A$2:A$65496,Inscriptions!D$2:D$65498))","v":""},null,null,null,null,null,null,null,{"$f":"IF((J326+K326+L326)=0,\"\",ROUNDDOWN((M$4/((J326*3600)+(K326*60)+L326))*3.6,2))","v":""},{"$f":"IF(M326=\"\",\"\",\"km/h\")","v":""}]
[323,null,{"$f":"IF(ISBLANK($B327),\"\",LOOKUP($B327,Inscriptions!A$2:A$65496,Inscriptions!B$2:B$65498))","v":""},{"$f":"IF(ISBLANK($B327),\"\",LOOKUP($B327,Inscriptions!A$2:A$65496,Inscriptions!C$2:C$65498))","v":""},{"$f":"IF(ISBLANK($B327),\"\",LOOKUP($B327,Inscriptions!A$2:A$65496,Inscriptions!D$2:D$65498))","v":""},null,null,null,null,null,null,null,"",""]
[324,null,{"$f":"IF(ISBLANK($B328),\"\",LOOKUP($B328,Inscriptions!A$2:A$65496,Inscriptions!B$2:B$65498))","v":""},{"$f":"IF(ISBLANK($B328),\"\",LOOKUP($B328,Inscriptions!A$2:A$65496,Inscriptions!C$2:C$65498))","v":""},{"$f":"IF(ISBLANK($B328),\"\",LOOKUP($B328,Inscriptions!A$2:A$65496,Inscriptions!D$2:D$65498))","v":""},null,null,null,null,null,null,null,"",""]
[325,null,{"$f":"IF(ISBLANK($B329),\"\",LOOKUP($B329,Inscriptions!A$2:A$65496,Inscriptions!B$2:B$65498))","v":""},{"$f":"IF(ISBLANK($B329),\"\",LOOKUP($B329,Inscriptions!A$2:A$65496,Inscriptions!C$2:C$65498))","v":""},{"$f":"IF(ISBLANK($B329),\"\",LOOKUP($B329,Inscriptions!A$2:A$65496,Inscriptions!D$2:D$65498))","v":""},null,null,null,null,null,null,null,"",""]
[326,null,{"$f":"IF(ISBLANK($B330),\"\",LOOKUP($B330,Inscriptions!A$2:A$65496,Inscriptions!B$2:B$65498))","v":""},{"$f":"IF(ISBLANK($B330),\"\",LOOKUP($B330,Inscriptions!A$2:A$65496,Inscriptions!C$2:C$65498))","v":""},{"$f":"IF(ISBLANK($B330),\"\",LOOKUP($B330,Inscriptions!A$2:A$65496,Inscriptions!D$2:D$65498))","v":""},null,null,null,null,null,null,null,"",""]
[327,null,{"$f":"IF(ISBLANK($B331),\"\",LOOKUP($B331,Inscriptions!A$2:A$65496,Inscriptions!B$2:B$65498))","v":""},{"$f":"IF(ISBLANK($B331),\"\",LOOKUP($B331,Inscriptions!A$2:A$65496,Inscriptions!C$2:C$65498))","v":""},{"$f":"IF(ISBLANK($B331),\"\",LOOKUP($B331,Inscriptions!A$2:A$65496,Inscriptions!D$2:D$65498))","v":""},null,null,null,null,null,null,null,"",""]
[328,null,{"$f":"IF(ISBLANK($B332),\"\",LOOKUP($B332,Inscriptions!A$2:A$65496,Inscriptions!B$2:B$65498))","v":""},{"$f":"IF(ISBLANK($B332),\"\",LOOKUP($B332,Inscriptions!A$2:A$65496,Inscriptions!C$2:C$65498))","v":""},{"$f":"IF(ISBLANK($B332),\"\",LOOKUP($B332,Inscriptions!A$2:A$65496,Inscriptions!D$2:D$65498))","v":""},null,null,null,null,null,null,null,"",""]
[329,null,{"$f":"IF(ISBLANK($B333),\"\",LOOKUP($B333,Inscriptions!A$2:A$65496,Inscriptions!B$2:B$65498))","v":""},{"$f":"IF(ISBLANK($B333),\"\",LOOKUP($B333,Inscriptions!A$2:A$65496,Inscriptions!C$2:C$65498))","v":""},{"$f":"IF(ISBLANK($B333),\"\",LOOKUP($B333,Inscriptions!A$2:A$65496,Inscriptions!D$2:D$65498))","v":""},null,null,null,null,null,null,null,"",""]
[330,null,{"$f":"IF(ISBLANK($B334),\"\",LOOKUP($B334,Inscriptions!A$2:A$65496,Inscriptions!B$2:B$65498))","v":""},{"$f":"IF(ISBLANK($B334),\"\",LOOKUP($B334,Inscriptions!A$2:A$65496,Inscriptions!C$2:C$65498))","v":""},{"$f":"IF(ISBLANK($B334),\"\",LOOKUP($B334,Inscriptions!A$2:A$65496,Inscriptions!D$2:D$65498))","v":""},null,null,null,null,null,null,null,"",""]
[331,null,{"$f":"IF(ISBLANK($B335),\"\",LOOKUP($B335,Inscriptions!A$2:A$65496,Inscriptions!B$2:B$65498))","v":""},{"$f":"IF(ISBLANK($B335),\"\",LOOKUP($B335,Inscriptions!A$2:A$65496,Inscriptions!C$2:C$65498))","v":""},{"$f":"IF(ISBLANK($B335),\"\",LOOKUP($B335,Inscriptions!A$2:A$65496,Inscriptions!D$2:D$65498))","v":""},null,null,null,null,null,null,null,"",""]
[332,null,{"$f":"IF(ISBLANK($B336),\"\",LOOKUP($B336,Inscriptions!A$2:A$65496,Inscriptions!B$2:B$65498))","v":""},{"$f":"IF(ISBLANK($B336),\"\",LOOKUP($B336,Inscriptions!A$2:A$65496,Inscriptions!C$2:C$65498))","v":""},{"$f":"IF(ISBLANK($B336),\"\",LOOKUP($B336,Inscriptions!A$2:A$65496,Inscriptions!D$2:D$65498))","v":""},null,null,null,null,null,null,null,"",""]
[333,null,{"$f":"IF(ISBLANK($B337),\"\",LOOKUP($B337,Inscriptions!A$2:A$65496,Inscriptions!B$2:B$65498))","v":""},{"$f":"IF(ISBLANK($B337),\"\",LOOKUP($B337,Inscriptions!A$2:A$65496,Inscriptions!C$2:C$65498))","v":""},{"$f":"IF(ISBLANK($B337),\"\",LOOKUP($B337,Inscriptions!A$2:A$65496,Inscriptions!D$2:D$65498))","v":""},null,null,null,null,null,null,null,"",""]
[334,null,{"$f":"IF(ISBLANK($B338),\"\",LOOKUP($B338,Inscriptions!A$2:A$65496,Inscriptions!B$2:B$65498))","v":""},{"$f":"IF(ISBLANK($B338),\"\",LOOKUP($B338,Inscriptions!A$2:A$65496,Inscriptions!C$2:C$65498))","v":""},{"$f":"IF(ISBLANK($B338),\"\",LOOKUP($B338,Inscriptions!A$2:A$65496,Inscriptions!D$2:D$65498))","v":""},null,null,null,null,null,null,null,"",""]
[335,null,{"$f":"IF(ISBLANK($B339),\"\",LOOKUP($B339,Inscriptions!A$2:A$65496,Inscriptions!B$2:B$65498))","v":""},{"$f":"IF(ISBLANK($B339),\"\",LOOKUP($B339,Inscriptions!A$2:A$65496,Inscriptions!C$2:C$65498))","v":""},{"$f":"IF(ISBLANK($B339),\"\",LOOKUP($B339,Inscriptions!A$2:A$65496,Inscriptions!D$2:D$65498))","v":""},null,null,null,null,null,null,null,"",""]
[336,null,{"$f":"IF(ISBLANK($B340),\"\",LOOKUP($B340,Inscriptions!A$2:A$65496,Inscriptions!B$2:B$65498))","v":""},{"$f":"IF(ISBLANK($B340),\"\",LOOKUP($B340,Inscriptions!A$2:A$65496,Inscriptions!C$2:C$65498))","v":""},{"$f":"IF(ISBLANK($B340),\"\",LOOKUP($B340,Inscriptions!A$2:A$65496,Inscriptions!D$2:D$65498))","v":""},null,null,null,null,null,null,null,"",""]
[337,null,{"$f":"IF(ISBLANK($B341),\"\",LOOKUP($B341,Inscriptions!A$2:A$65496,Inscriptions!B$2:B$65498))","v":""},{"$f":"IF(ISBLANK($B341),\"\",LOOKUP($B341,Inscriptions!A$2:A$65496,Inscriptions!C$2:C$65498))","v":""},{"$f":"IF(ISBLANK($B341),\"\",LOOKUP($B341,Inscriptions!A$2:A$65496,Inscriptions!D$2:D$65498))","v":""},null,null,null,null,null,null,null,"",""]
[338,null,{"$f":"IF(ISBLANK($B342),\"\",LOOKUP($B342,Inscriptions!A$2:A$65496,Inscriptions!B$2:B$65498))","v":""},{"$f":"IF(ISBLANK($B342),\"\",LOOKUP($B342,Inscriptions!A$2:A$65496,Inscriptions!C$2:C$65498))","v":""},{"$f":"IF(ISBLANK($B342),\"\",LOOKUP($B342,Inscriptions!A$2:A$65496,Inscriptions!D$2:D$65498))","v":""},null,null,null,null,null,null,null,"",""]
[339,null,{"$f":"IF(ISBLANK($B343),\"\",LOOKUP($B343,Inscriptions!A$2:A$65496,Inscriptions!B$2:B$65498))","v":""},{"$f":"IF(ISBLANK($B343),\"\",LOOKUP($B343,Inscriptions!A$2:A$65496,Inscriptions!C$2:C$65498))","v":""},{"$f":"IF(ISBLANK($B343),\"\",LOOKUP($B343,Inscriptions!A$2:A$65496,Inscriptions!D$2:D$65498))","v":""},null,null,null,null,null,null,null,"",""]
[340,null,{"$f":"IF(ISBLANK($B344),\"\",LOOKUP($B344,Inscriptions!A$2:A$65496,Inscriptions!B$2:B$65498))","v":""},{"$f":"IF(ISBLANK($B344),\"\",LOOKUP($B344,Inscriptions!A$2:A$65496,Inscriptions!C$2:C$65498))","v":""},{"$f":"IF(ISBLANK($B344),\"\",LOOKUP($B344,Inscriptions!A$2:A$65496,Inscriptions!D$2:D$65498))","v":""},null,null,null,null,null,null,null,"",""]
[341,null,{"$f":"IF(ISBLANK($B345),\"\",LOOKUP($B345,Inscriptions!A$2:A$65496,Inscriptions!B$2:B$65498))","v":""},{"$f":"IF(ISBLANK($B345),\"\",LOOKUP($B345,Inscriptions!A$2:A$65496,Inscriptions!C$2:C$65498))","v":""},{"$f":"IF(ISBLANK($B345),\"\",LOOKUP($B345,Inscriptions!A$2:A$65496,Inscriptions!D$2:D$65498))","v":""},null,null,null,null,null,null,null,"",""]
[342,null,{"$f":"IF(ISBLANK($B346),\"\",LOOKUP($B346,Inscriptions!A$2:A$65496,Inscriptions!B$2:B$65498))","v":""},{"$f":"IF(ISBLANK($B346),\"\",LOOKUP($B346,Inscriptions!A$2:A$65496,Inscriptions!C$2:C$65498))","v":""},{"$f":"IF(ISBLANK($B346),\"\",LOOKUP($B346,Inscriptions!A$2:A$65496,Inscriptions!D$2:D$65498))","v":""},null,null,null,null,null,null,null,"",""]
[343,null,{"$f":"IF(ISBLANK($B347),\"\",LOOKUP($B347,Inscriptions!A$2:A$65496,Inscriptions!B$2:B$65498))","v":""},{"$f":"IF(ISBLANK($B347),\"\",LOOKUP($B347,Inscriptions!A$2:A$65496,Inscriptions!C$2:C$65498))","v":""},{"$f":"IF(ISBLANK($B347),\"\",LOOKUP($B347,Inscriptions!A$2:A$65496,Inscriptions!D$2:D$65498))","v":""},null,null,null,null,null,null,null,"",""]
[344,null,{"$f":"IF(ISBLANK($B348),\"\",LOOKUP($B348,Inscriptions!A$2:A$65496,Inscriptions!B$2:B$65498))","v":""},{"$f":"IF(ISBLANK($B348),\"\",LOOKUP($B348,Inscriptions!A$2:A$65496,Inscriptions!C$2:C$65498))","v":""},{"$f":"IF(ISBLANK($B348),\"\",LOOKUP($B348,Inscriptions!A$2:A$65496,Inscriptions!D$2:D$65498))","v":""},null,null,null,null,null,null,null,"",""]
[345,null,{"$f":"IF(ISBLANK($B349),\"\",LOOKUP($B349,Inscriptions!A$2:A$65496,Inscriptions!B$2:B$65498))","v":""},{"$f":"IF(ISBLANK($B349),\"\",LOOKUP($B349,Inscriptions!A$2:A$65496,Inscriptions!C$2:C$65498))","v":""},{"$f":"IF(ISBLANK($B349),\"\",LOOKUP($B349,Inscriptions!A$2:A$65496,Inscriptions!D$2:D$65498))","v":""},null,null,null,null,null,null,null,"",""]
[346,null,{"$f":"IF(ISBLANK($B350),\"\",LOOKUP($B350,Inscriptions!A$2:A$65496,Inscriptions!B$2:B$65498))","v":""},{"$f":"IF(ISBLANK($B350),\"\",LOOKUP($B350,Inscriptions!A$2:A$65496,Inscriptions!C$2:C$65498))","v":""},{"$f":"IF(ISBLANK($B350),\"\",LOOKUP($B350,Inscriptions!A$2:A$65496,Inscriptions!D$2:D$65498))","v":""},null,null,null,null,null,null,null,"",""]
[347,null,{"$f":"IF(ISBLANK($B351),\"\",LOOKUP($B351,Inscriptions!A$2:A$65496,Inscriptions!B$2:B$65498))","v":""},{"$f":"IF(ISBLANK($B351),\"\",LOOKUP($B351,Inscriptions!A$2:A$65496,Inscriptions!C$2:C$65498))","v":""},{"$f":"IF(ISBLANK($B351),\"\",LOOKUP($B351,Inscriptions!A$2:A$65496,Inscriptions!D$2:D$65498))","v":""},null,null,null,null,null,null,null,"",""]
[348,null,{"$f":"IF(ISBLANK($B352),\"\",LOOKUP($B352,Inscriptions!A$2:A$65496,Inscriptions!B$2:B$65498))","v":""},{"$f":"IF(ISBLANK($B352),\"\",LOOKUP($B352,Inscriptions!A$2:A$65496,Inscriptions!C$2:C$65498))","v":""},{"$f":"IF(ISBLANK($B352),\"\",LOOKUP($B352,Inscriptions!A$2:A$65496,Inscriptions!D$2:D$65498))","v":""},null,null,null,null,null,null,null,"",""]
[349,null,{"$f":"IF(ISBLANK($B353),\"\",LOOKUP($B353,Inscriptions!A$2:A$65496,Inscriptions!B$2:B$65498))","v":""},{"$f":"IF(ISBLANK($B353),\"\",LOOKUP($B353,Inscriptions!A$2:A$65496,Inscriptions!C$2:C$65498))","v":""},{"$f":"IF(ISBLANK($B353),\"\",LOOKUP($B353,Inscriptions!A$2:A$65496,Inscriptions!D$2:D$65498))","v":""},null,null,null,null,null,null,null,"",""]
[350,null,{"$f":"IF(ISBLANK($B354),\"\",LOOKUP($B354,Inscriptions!A$2:A$65496,Inscriptions!B$2:B$65498))","v":""},{"$f":"IF(ISBLANK($B354),\"\",LOOKUP($B354,Inscriptions!A$2:A$65496,Inscriptions!C$2:C$65498))","v":""},{"$f":"IF(ISBLANK($B354),\"\",LOOKUP($B354,Inscriptions!A$2:A$65496,Inscriptions!D$2:D$65498))","v":""},null,null,null,null,null,null,null,"",""]

{"sheet":"Participation","index":16,"n_rows":29,"n_cols":11,"rows_kept":29,"cut":false,"hidden":false,"merged":[[20,7,21,9],[20,10,21,11],[22,10,23,11],[18,7,19,11],[24,7,25,9],[24,10,25,11],[22,7,23,9]]}
["Catégorie","Nb",null,"Enfants (Minimouss à Minimes)"]
["MMOF",{"$f":"COUNTIF('C4 MMOF'!$D$5:$D$354,A2)","v":16},null,1,"Féminin",{"$f":"B2+B4+B6+B8+B10","v":166}]
["MMOM",{"$f":"COUNTIF('C6 MMOM'!$D$5:$D$354,A3)","v":25},null,2,"Masculin",{"$f":"+B3+B5+B7+B9+B11","v":186}]
["MOF",{"$f":"COUNTIF('C3 MOF'!$D$5:$D$354,A4)","v":40},null,null,"Total",{"$f":"F2+F3","v":352}]
["MOM",{"$f":"COUNTIF('C5 MOM'!$D$5:$D$354,A5)","v":46}]
["POF",{"$f":"COUNTIF('C7 POF POM'!$D$5:$D$354,A6)","v":42},null,"Jeunes (Cadets Juniors)"]
["POM",{"$f":"COUNTIF('C7 POF POM'!$D$5:$D$354,A6)","v":42},null,3,"Féminin",{"$f":"B12+B14","v":13}]
["BEF",{"$f":"COUNTIF('C8 BEF CC'!$D$5:$FD354,A8)","v":43},null,4,"Masculin",{"$f":"B13+B15","v":18}]
["BEM",{"$f":"COUNTIF('C9 BEM MIF'!$D$5:$D$354,A9)","v":39},null,null,"Total",{"$f":"F7+F8","v":31}]
["MIF",{"$f":"COUNTIF('C9 BEM MIF'!$D$5:$D$354,A10)","v":25}]
["MIM",{"$f":"COUNTIF('C10 CAF MIM'!$D$5:$D$354,A11)","v":34},null,"Adultes (Séniors Vétérans)"]
["CAF",{"$f":"COUNTIF('C10 CAF MIM'!$D$5:$D$354,A12)","v":10},null,5,"Féminin",{"$f":"B16+B18+B20+B22+B24+B26+B28","v":72}]
["CAM",{"$f":"COUNTIF('C11 CAM JUF'!$D$5:$D$354,A13)","v":10},null,6,"Masculin",{"$f":"B17+B19+B21+B23+B25+B27+B29","v":139}]
["JUF",{"$f":"COUNTIF('C11 CAM JUF'!$D$5:$D$354,A14)","v":3},null,null,"Total",{"$f":"F12+F13","v":211}]
["JUM",{"$f":"COUNTIF('C1 VM 2-3-4 JUM'!$D$5:$D$354,A15)","v":8}]
["S1F",{"$f":"COUNTIF('C12 SF VF'!$D$5:$D$354,A16)","v":10}]
["S1M",{"$f":"COUNTIF('C 13 SEM'!$D$5:$D$354,A17)","v":24}]
["S2F",{"$f":"COUNTIF('C12 SF VF'!$D$5:$D$354,A18)","v":17}]
["S2M",{"$f":"COUNTIF('C 13 SEM'!$D$5:$D$354,A19)","v":17},null,null,null,null,null,"Toutes catégories"]
["V1F",{"$f":"COUNTIF('C12 SF VF'!$D$5:$D$354,A20)","v":18}]
["V1M",{"$f":"COUNTIF('C2 V1M'!$D$5:$D$354,A21)","v":26},null,null,null,null,null,"Féminin",null,null,{"$f":"F2+F7+F12","v":251}]
["V2F",{"$f":"COUNTIF('C12 SF VF'!$D$5:$D$354,A22)","v":19}]
["V2M",{"$f":"COUNTIF('C1 VM 2-3-4 JUM'!$D$5:$D$354,A23)","v":44},null,null,null,null,null,"Masculin",null,null,{"$f":"F3+F8+F13","v":343}]
["V3F",{"$f":"COUNTIF('C12 SF VF'!$D$5:$D$354,A24)","v":8}]
["V3M",{"$f":"COUNTIF('C1 VM 2-3-4 JUM'!$D$5:$D$354,A25)","v":21},null,null,null,null,null,"Total",null,null,{"$f":"K23+K21","v":594}]
["V4F",{"$f":"COUNTIF('C12 SF VF'!$D$5:$D$354,A26)","v":0}]
["V4M",{"$f":"COUNTIF('C1 VM 2-3-4 JUM'!$D$5:$D$354,A27)","v":5}]
["V5F",{"$f":"COUNTIF('C12 SF VF'!$D$5:$D$354,A28)","v":0}]
["V5M",{"$f":"COUNTIF('C1 VM 2-3-4 JUM'!$D$5:$D$354,A29)","v":2}]

{"sheet":"Temps","index":17,"n_rows":350,"n_cols":23,"rows_kept":350,"cut":false,"hidden":false,"merged":[]}
[1,"00:04:00",0,{"$f":"HOUR(B1)","v":0},{"$f":"MINUTE(B1)","v":4},{"$f":"SECOND(B1)","v":0},{"$f":"IF(D1=0,CONCATENATE(E1,F1),CONCATENATE(D1,E1,F1))","v":"40"},0,null,1,"24:32",0,null,{"$f":"LEFT(K1,2)","v":"24"},{"$f":"RIGHT(K1,2)","v":"32"},{"$f":"IF(M1=0,CONCATENATE(N1,O1),CONCATENATE(M1,N1,O1))","v":"2432"},null,"1;24:04;0",1,"24","04",0,{"$f":"CONCATENATE(T1,U1)","v":"2404"}]
[2,"00:05:00",2,0,5,0,"50",1,null,2,"25:32",0,null,{"$f":"LEFT(K2,2)","v":"25"},{"$f":"RIGHT(K2,2)","v":"32"},"2532",null,"2;24:05;2",2,"24","05",2,{"$f":"CONCATENATE(T2,U2)","v":"2405"}]
[3,"00:06:00",3,0,6,0,"60",1,null,3,"24:33",3,null,"24","33","2433",null,"3;25:06;3",3,"25","06",3,"2506"]
[4,"00:07:00",0,0,7,0,"70","008",null,4,"25:33",4,null,"25","33","2533",null,"4;25:07;0",4,"25","07",0,"2507"]
[5,"00:22:00",0,{"$f":"HOUR(B5)","v":0},{"$f":"MINUTE(B5)","v":22},{"$f":"SECOND(B5)","v":0},"220","008",null,5,"24:34",0,null,"24","34","2434",null,"5;25:22;0",5,"25","22",0,"2522"]
[6,"00:23:00",0,{"$f":"HOUR(B6)","v":0},{"$f":"MINUTE(B6)","v":23},{"$f":"SECOND(B6)","v":0},"230","009",null,6,"25:34",0,null,"25","34","2534",null,"6;25:23;0",6,"25","23",0,"2523"]
[7,"01:00:23",107,1,0,23,"1023","009",null,7,"24:35",0,null,"24","35","2435",null,null,null,null,null,null,""]
[8,"00:23:50",0,0,23,50,{"$f":"IF(D8=0,CONCATENATE(E8,F8),CONCATENATE(D8,E8,F8))","v":"2350"},"02350",null,8,"25:35",0,null,"25","35",{"$f":"IF(M8=0,CONCATENATE(N8,O8),CONCATENATE(M8,N8,O8))","v":"2535"},null,null,null,null,null,null,{"$f":"IF(T8=0,CONCATENATE(U8,V8),CONCATENATE(T8,U8,V8))","v":""}]
[9,"01:09:02",0,1,9,2,{"$f":"IF(D9=0,CONCATENATE(E9,F9),CONCATENATE(D9,E9,F9))","v":"192"},"192",null,9,"24:36",0,null,"24","36",{"$f":"IF(M9=0,CONCATENATE(N9,O9),CONCATENATE(M9,N9,O9))","v":"2436"},null,null,null,null,null,null,{"$f":"IF(T9=0,CONCATENATE(U9,V9),CONCATENATE(T9,U9,V9))","v":""}]
[10,"01:09:08",521,1,9,8,"198","198",null,10,"25:36",521,null,"25","36","2536",null,null,null,null,null,null,""]
[11,"01:09:08",0,1,9,8,"198","198",null,11,"24:37",0,null,"24","37","2437",null,null,null,null,null,null,""]
[12,"01:09:10",0,1,9,10,"1910","1910",null,12,"25:37",0,null,"25","37","2537",null,null,null,null,null,null,""]
[13,"04:41:27",0,4,41,27,"44127","44127",null,13,"24:38",0,null,"24","38","2438",null,null,null,null,null,null,""]
[14,"04:41:28",0,4,41,28,"44128","44128",null,14,"25:38",0,null,"25","38","2538",null,null,null,null,null,null,""]
[15,"04:41:28",0,4,41,28,"44128","44128",null,15,"24:39",0,null,"24","39","2439",null,null,null,null,null,null,""]
[16,"04:41:28",0,4,41,28,"44128","44128",null,16,"25:39",0,null,"25","39","2539",null,null,null,null,null,null,""]
[17,"04:41:32",0,4,41,32,"44132","44132",null,17,"24:40",0,null,"24","40","2440",null,null,null,null,null,null,""]
[18,"04:41:33",0,4,41,33,"44133","44133",null,18,"25:40",0,null,"25","40","2540",null,null,null,null,null,null,""]
[19,"04:41:33",0,4,41,33,"44133","44133",null,19,"24:41",0,null,"24","41","2441",null,null,null,null,null,null,""]
[null,null,null,0,0,0,"00","000",null,null,null,null,null,"","","",null,null,null,null,null,null,""]
[null,null,null,0,0,0,"00","000",null,null,null,null,null,"","","",null,null,null,null,null,null,""]
[null,null,null,0,0,0,"00","000",null,null,null,null,null,"","","",null,null,null,null,null,null,""]
[null,null,null,0,0,0,"00","000",null,null,null,null,null,"","","",null,null,null,null,null,null,""]
[null,null,null,0,0,0,"00","000",null,null,null,null,null,"","","",null,null,null,null,null,null,""]
[null,null,null,{"$f":"HOUR(B25)","v":0},{"$f":"MINUTE(B25)","v":0},{"$f":"SECOND(B25)","v":0},"00","000",null,null,null,null,null,"","","",null,null,null,null,null,null,""]
[null,null,null,0,0,0,"00","000",null,null,null,null,null,"","","",null,null,null,null,null,null,""]
[null,null,null,0,0,0,"00","000",null,null,null,null,null,"","","",null,null,null,null,null,null,""]
[null,null,null,0,0,0,"00","000",null,null,null,null,null,"","","",null,null,null,null,null,null,""]
[null,null,null,0,0,0,"00","000",null,null,null,null,null,"","","",null,null,null,null,null,null,""]
[null,null,null,0,0,0,"00","000",null,null,null,null,null,"","","",null,null,null,null,null,null,""]
[null,null,null,0,0,0,"00","000",null,null,null,null,null,"","","",null,null,null,null,null,null,""]
[null,null,null,0,0,0,"00","000",null,null,null,null,null,"","","",null,null,null,null,null,null,""]
[null,null,null,0,0,0,"00","000",null,null,null,null,null,"","","",null,null,null,null,null,null,""]
[null,null,null,0,0,0,"00","000",null,null,null,null,null,"","","",null,null,null,null,null,null,""]
[null,null,null,0,0,0,"00","000",null,null,null,null,null,"","","",null,null,null,null,null,null,""]
[null,null,null,0,0,0,"00","000",null,null,null,null,null,"","","",null,null,null,null,null,null,""]
[null,null,null,0,0,0,"00","000",null,null,null,null,null,"","","",null,null,null,null,null,null,""]
[null,null,null,0,0,0,"00","000",null,null,null,null,null,"","","",null,null,null,null,null,null,""]
[null,null,null,0,0,0,"00","000",null,null,null,null,null,"","","",null,null,null,null,null,null,""]
[null,null,null,0,0,0,"00","000",null,null,null,null,null,"","","",null,null,null,null,null,null,""]
[null,null,null,0,0,0,"00","000",null,null,null,null,null,"","","",null,null,null,null,null,null,""]
[null,null,null,0,0,0,"00","000",null,null,null,null,null,"","","",null,null,null,null,null,null,""]
[null,null,null,0,0,0,"00","000",null,null,null,null,null,"","","",null,null,null,null,null,null,""]
[null,null,null,0,0,0,"00","000",null,null,null,null,null,"","","",null,null,null,null,null,null,""]
[null,null,null,0,0,0,"00","000",null,null,null,null,null,"","","",null,null,null,null,null,null,""]
[null,null,null,0,0,0,"00","000",null,null,null,null,null,"","","",null,null,null,null,null,null,""]
[null,null,null,0,0,0,"00","000",null,null,null,null,null,"","","",null,null,null,null,null,null,""]
[null,null,null,0,0,0,"00","000",null,null,null,null,null,"","","",null,null,null,null,null,null,""]
[null,null,null,0,0,0,"00","000",null,null,null,null,null,"","","",null,null,null,null,null,null,""]
[null,null,null,0,0,0,"00","000",null,null,null,null,null,"","","",null,null,null,null,null,null,""]
[null,null,null,0,0,0,"00","000",null,null,null,null,null,"","","",null,null,null,null,null,null,""]
[null,null,null,0,0,0,"00","000",null,null,null,null,null,"","","",null,null,null,null,null,null,""]
[null,null,null,0,0,0,"00","000",null,null,null,null,null,"","","",null,null,null,null,null,null,""]
[null,null,null,0,0,0,"00","000",null,null,null,null,null,"","","",null,null,null,null,null,null,""]
[null,null,null,0,0,0,"00","000",null,null,null,null,null,"","","",null,null,null,null,null,null,""]
[null,null,null,0,0,0,"00","000",null,null,null,null,null,"","","",null,null,null,null,null,null,""]
[null,null,null,0,0,0,"00","000",null,null,null,null,null,"","","",null,null,null,null,null,null,""]
[null,null,null,0,0,0,"00","000",null,null,null,null,null,"","","",null,null,null,null,null,null,""]
[null,null,null,0,0,0,"00","000",null,null,null,null,null,"","","",null,null,null,null,null,null,""]
[null,null,null,0,0,0,"00","000",null,null,null,null,null,"","","",null,null,null,null,null,null,""]
[null,null,null,0,0,0,"00","000",null,null,null,null,null,"","","",null,null,null,null,null,null,""]
[null,null,null,0,0,0,"00","000",null,null,null,null,null,"","","",null,null,null,null,null,null,""]
[null,null,null,0,0,0,"00","000",null,null,null,null,null,"","","",null,null,null,null,null,null,""]
[null,null,null,0,0,0,"00","000",null,null,null,null,null,"","","",null,null,null,null,null,null,""]
[null,null,null,0,0,0,"00","000",null,null,null,null,null,"","","",null,null,null,null,null,null,""]
[null,null,null,0,0,0,"00","000",null,null,null,null,null,{"$f":"LEFT(K66,2)","v":""},{"$f":"RIGHT(K66,2)","v":""},"",null,null,null,null,null,null,""]
[null,null,null,0,0,0,"00","000",null,null,null,null,null,"","","",null,null,null,null,null,null,""]
[null,null,null,0,0,0,"00","000",null,null,null,null,null,"","","",null,null,null,null,null,null,""]
[null,null,null,0,0,0,"00","000",null,null,null,null,null,"","","",null,null,null,null,null,null,""]
[null,null,null,0,0,0,"00","000",null,null,null,null,null,"","","",null,null,null,null,null,null,""]
[null,null,null,0,0,0,"00","000",null,null,null,null,null,"","","",null,null,null,null,null,null,""]
[null,null,null,0,0,0,"00","000",null,null,null,null,null,"","","",null,null,null,null,null,null,""]
[null,null,null,0,0,0,{"$f":"IF(D73=0,CONCATENATE(E73,F73),CONCATENATE(D73,E73,F73))","v":"00"},"000",null,null,null,null,null,"","",{"$f":"IF(M73=0,CONCATENATE(N73,O73),CONCATENATE(M73,N73,O73))","v":""},null,null,null,null,null,null,{"$f":"IF(T73=0,CONCATENATE(U73,V73),CONCATENATE(T73,U73,V73))","v":""}]
[null,null,null,0,0,0,"00","000",null,null,null,null,null,"","","",null,null,null,null,null,null,""]
[null,null,null,0,0,0,"00","000",null,null,null,null,null,"","","",null,null,null,null,null,null,""]
[null,null,null,0,0,0,"00","000",null,null,null,null,null,"","","",null,null,null,null,null,null,""]
[null,null,null,0,0,0,"00","000",null,null,null,null,null,"","","",null,null,null,null,null,null,""]
[null,null,null,0,0,0,"00","000",null,null,null,null,null,"","","",null,null,null,null,null,null,""]
[null,null,null,0,0,0,"00","000",null,null,null,null,null,"","","",null,null,null,null,null,null,""]
[null,null,null,0,0,0,"00","000",null,null,null,null,null,"","","",null,null,null,null,null,null,""]
[null,null,null,0,0,0,"00","000",null,null,null,null,null,"","","",null,null,null,null,null,null,""]
[null,null,null,0,0,0,"00","000",null,null,null,null,null,"","","",null,null,null,null,null,null,""]
[null,null,null,0,0,0,"00","000",null,null,null,null,null,"","","",null,null,null,null,null,null,""]
[null,null,null,0,0,0,"00","000",null,null,null,null,null,"","","",null,null,null,null,null,null,""]
[null,null,null,0,0,0,"00","000",null,null,null,null,null,"","","",null,null,null,null,null,null,""]
[null,null,null,0,0,0,"00","000",null,null,null,null,null,"","","",null,null,null,null,null,null,""]
[null,null,null,0,0,0,"00","000",null,null,null,null,null,"","","",null,null,null,null,null,null,""]
[null,null,null,0,0,0,"00","000",null,null,null,null,null,"","","",null,null,null,null,null,null,""]
[null,null,null,{"$f":"HOUR(B89)","v":0},{"$f":"MINUTE(B89)","v":0},{"$f":"SECOND(B89)","v":0},"00","000",null,null,null,null,null,"","","",null,null,null,null,null,null,""]
[null,null,null,0,0,0,"00","000",null,null,null,null,null,"","","",null,null,null,null,null,null,""]
[null,null,null,0,0,0,"00","000",null,null,null,null,null,"","","",null,null,null,null,null,null,""]
[null,null,null,0,0,0,"00","000",null,null,null,null,null,"","","",null,null,null,null,null,null,""]
[null,null,null,0,0,0,"00","000",null,null,null,null,null,"","","",null,null,null,null,null,null,""]
[null,null,null,0,0,0,"00","000",null,null,null,null,null,"","","",null,null,null,null,null,null,""]
[null,null,null,0,0,0,"00","000",null,null,null,null,null,"","","",null,null,null,null,null,null,""]
[null,null,null,0,0,0,"00","000",null,null,null,null,null,"","","",null,null,null,null,null,null,""]
[null,null,null,0,0,0,"00","000",null,null,null,null,null,"","","",null,null,null,null,null,null,""]
[null,null,null,0,0,0,"00","000",null,null,null,null,null,"","","",null,null,null,null,null,null,""]
[null,null,null,0,0,0,"00","000",null,null,null,null,null,"","","",null,null,null,null,null,null,""]
[null,null,null,0,0,0,"00","000",null,null,null,null,null,"","","",null,null,null,null,null,null,""]
[null,null,null,0,0,0,"00","000",null,null,null,null,null,"","","",null,null,null,null,null,null,""]
[null,null,null,0,0,0,"00","000",null,null,null,null,null,"","","",null,null,null,null,null,null,""]
[null,null,null,0,0,0,"00","000",null,null,null,null,null,"","","",null,null,null,null,null,null,""]
[null,null,null,0,0,0,"00","000",null,null,null,null,null,"","","",null,null,null,null,null,null,""]
[null,null,null,0,0,0,"00","000",null,null,null,null,null,"","","",null,null,null,null,null,null,""]
[null,null,null,0,0,0,"00","000",null,null,null,null,null,"","","",null,null,null,null,null,null,""]
[null,null,null,0,0,0,"00","000",null,null,null,null,null,"","","",null,null,null,null,null,null,""]
[null,null,null,0,0,0,"00","000",null,null,null,null,null,"","","",null,null,null,null,null,null,""]
[null,null,null,0,0,0,"00","000",null,null,null,null,null,"","","",null,null,null,null,null,null,""]
[null,null,null,0,0,0,"00","000",null,null,null,null,null,"","","",null,null,null,null,null,null,""]
[null,null,null,0,0,0,"00","000",null,null,null,null,null,"","","",null,null,null,null,null,null,""]
[null,null,null,0,0,0,"00","000",null,null,null,null,null,"","","",null,null,null,null,null,null,""]
[null,null,null,0,0,0,"00","000",null,null,null,null,null,"","","",null,null,null,null,null,null,""]
[null,null,null,0,0,0,"00","000",null,null,null,null,null,"","","",null,null,null,null,null,null,""]
[null,null,null,0,0,0,"00","000",null,null,null,null,null,"","","",null,null,null,null,null,null,""]
[null,null,null,0,0,0,"00","000",null,null,null,null,null,"","","",null,null,null,null,null,null,""]
[null,null,null,0,0,0,"00","000",null,null,null,null,null,"","","",null,null,null,null,null,null,""]
[null,null,null,0,0,0,"00","000",null,null,null,null,null,"","","",null,null,null,null,null,null,""]
[null,null,null,0,0,0,"00","000",null,null,null,null,null,"","","",null,null,null,null,null,null,""]
[null,null,null,0,0,0,"00","000",null,null,null,null,null,"","","",null,null,null,null,null,null,""]
[null,null,null,0,0,0,"00","000",null,null,null,null,null,"","","",null,null,null,null,null,null,""]
[null,null,null,0,0,0,"00","000",null,null,null,null,null,"","","",null,null,null,null,null,null,""]
[null,null,null,0,0,0,"00","000",null,null,null,null,null,"","","",null,null,null,null,null,null,""]
[null,null,null,0,0,0,"00","000",null,null,null,null,null,"","","",null,null,null,null,null,null,""]
[null,null,null,0,0,0,"00","000",null,null,null,null,null,"","","",null,null,null,null,null,null,""]
[null,null,null,0,0,0,"00","000",null,null,null,null,null,"","","",null,null,null,null,null,null,""]
[null,null,null,0,0,0,"00","000",null,null,null,null,null,"","","",null,null,null,null,null,null,""]
[null,null,null,0,0,0,"00","000",null,null,null,null,null,"","","",null,null,null,null,null,null,""]
[null,null,null,0,0,0,"00","000",null,null,null,null,null,"","","",null,null,null,null,null,null,""]
[null,null,null,0,0,0,"00","000",null,null,null,null,null,{"$f":"LEFT(K130,2)","v":""},{"$f":"RIGHT(K130,2)","v":""},"",null,null,null,null,null,null,""]
[null,null,null,0,0,0,"00","000",null,null,null,null,null,"","","",null,null,null,null,null,null,""]
[null,null,null,0,0,0,"00","000",null,null,null,null,null,"","","",null,null,null,null,null,null,""]
[null,null,null,0,0,0,"00","000",null,null,null,null,null,"","","",null,null,null,null,null,null,""]
[null,null,null,0,0,0,"00","000",null,null,null,null,null,"","","",null,null,null,null,null,null,""]
[null,null,null,0,0,0,"00","000",null,null,null,null,null,"","","",null,null,null,null,null,null,""]
[null,null,null,0,0,0,"00","000",null,null,null,null,null,"","","",null,null,null,null,null,null,""]
[null,null,null,0,0,0,{"$f":"IF(D137=0,CONCATENATE(E137,F137),CONCATENATE(D137,E137,F137))","v":"00"},"000",null,null,null,null,null,"","",{"$f":"IF(M137=0,CONCATENATE(N137,O137),CONCATENATE(M137,N137,O137))","v":""},null,null,null,null,null,null,{"$f":"IF(T137=0,CONCATENATE(U137,V137),CONCATENATE(T137,U137,V137))","v":""}]
[null,null,null,0,0,0,"00","000",null,null,null,null,null,"","","",null,null,null,null,null,null,""]
[null,null,null,0,0,0,"00","000",null,null,null,null,null,"","","",null,null,null,null,null,null,""]
[null,null,null,0,0,0,"00","000",null,null,null,null,null,"","","",null,null,null,null,null,null,""]
[null,null,null,0,0,0,"00","000",null,null,null,null,null,"","","",null,null,null,null,null,null,""]
[null,null,null,0,0,0,"00","000",null,null,null,null,null,"","","",null,null,null,null,null,null,""]
[null,null,null,0,0,0,"00","000",null,null,null,null,null,"","","",null,null,null,null,null,null,""]
[null,null,null,0,0,0,"00","000",null,null,null,null,null,"","","",null,null,null,null,null,null,""]
[null,null,null,0,0,0,"00","000",null,null,null,null,null,"","","",null,null,null,null,null,null,""]
[null,null,null,0,0,0,"00","000",null,null,null,null,null,"","","",null,null,null,null,null,null,""]
[null,null,null,0,0,0,"00","000",null,null,null,null,null,"","","",null,null,null,null,null,null,""]
[null,null,null,0,0,0,"00","000",null,null,null,null,null,"","","",null,null,null,null,null,null,""]
[null,null,null,0,0,0,"00","000",null,null,null,null,null,"","","",null,null,null,null,null,null,""]
[null,null,null,0,0,0,"00","000",null,null,null,null,null,"","","",null,null,null,null,null,null,""]
[null,null,null,0,0,0,"00","000",null,null,null,null,null,"","","",null,null,null,null,null,null,""]
[null,null,null,0,0,0,"00","000",null,null,null,null,null,"","","",null,null,null,null,null,null,""]
[null,null,null,{"$f":"HOUR(B153)","v":0},{"$f":"MINUTE(B153)","v":0},{"$f":"SECOND(B153)","v":0},"00","000",null,null,null,null,null,"","","",null,null,null,null,null,null,""]
[null,null,null,0,0,0,"00","000",null,null,null,null,null,"","","",null,null,null,null,null,null,""]
[null,null,null,0,0,0,"00","000",null,null,null,null,null,"","","",null,null,null,null,null,null,""]
[null,null,null,0,0,0,"00","000",null,null,null,null,null,"","","",null,null,null,null,null,null,""]
[null,null,null,0,0,0,"00","000",null,null,null,null,null,"","","",null,null,null,null,null,null,""]
[null,null,null,0,0,0,"00","000",null,null,null,null,null,"","","",null,null,null,null,null,null,""]
[null,null,null,0,0,0,"00","000",null,null,null,null,null,"","","",null,null,null,null,null,null,""]
[null,null,null,0,0,0,"00","000",null,null,null,null,null,"","","",null,null,null,null,null,null,""]
[null,null,null,0,0,0,"00","000",null,null,null,null,null,"","","",null,null,null,null,null,null,""]
[null,null,null,0,0,0,"00","000",null,null,null,null,null,"","","",null,null,null,null,null,null,""]
[null,null,null,0,0,0,"00","000",null,null,null,null,null,"","","",null,null,null,null,null,null,""]
[null,null,null,0,0,0,"00","000",null,null,null,null,null,"","","",null,null,null,null,null,null,""]
[null,null,null,0,0,0,"00","000",null,null,null,null,null,"","","",null,null,null,null,null,null,""]
[null,null,null,0,0,0,"00","000",null,null,null,null,null,"","","",null,null,null,null,null,null,""]
[null,null,null,0,0,0,"00","000",null,null,null,null,null,"","","",null,null,null,null,null,null,""]
[null,null,null,0,0,0,"00","000",null,null,null,null,null,"","","",null,null,null,null,null,null,""]
[null,null,null,0,0,0,"00","000",null,null,null,null,null,"","","",null,null,null,null,null,null,""]
[null,null,null,0,0,0,"00","000",null,null,null,null,null,"","","",null,null,null,null,null,null,""]
[null,null,null,0,0,0,"00","000",null,null,null,null,null,"","","",null,null,null,null,null,null,""]
[null,null,null,0,0,0,"00","000",null,null,null,null,null,"","","",null,null,null,null,null,null,""]
[null,null,null,0,0,0,"00","000",null,null,null,null,null,"","","",null,null,null,null,null,null,""]
[null,null,null,0,0,0,"00","000",null,null,null,null,null,"","","",null,null,null,null,null,null,""]
[null,null,null,0,0,0,"00","000",null,null,null,null,null,"","","",null,null,null,null,null,null,""]
[null,null,null,0,0,0,"00","000",null,null,null,null,null,"","","",null,null,null,null,null,null,""]
[null,null,null,0,0,0,"00","000",null,null,null,null,null,"","","",null,null,null,null,null,null,""]
[null,null,null,0,0,0,"00","000",null,null,null,null,null,"","","",null,null,null,null,null,null,""]
[null,null,null,0,0,0,"00","000",null,null,null,null,null,"","","",null,null,null,null,null,null,""]
[null,null,null,0,0,0,"00","000",null,null,null,null,null,"","","",null,null,null,null,null,null,""]
[null,null,null,0,0,0,"00","000",null,null,null,null,null,"","","",null,null,null,null,null,null,""]
[null,null,null,0,0,0,"00","000",null,null,null,null,null,"","","",null,null,null,null,null,null,""]
[null,null,null,0,0,0,"00","000",null,null,null,null,null,"","","",null,null,null,null,null,null,""]
[null,null,null,0,0,0,"00","000",null,null,null,null,null,"","","",null,null,null,null,null,null,""]
[null,null,null,0,0,0,"00","000",null,null,null,null,null,"","","",null,null,null,null,null,null,""]
[null,null,null,0,0,0,"00","000",null,null,null,null,null,"","","",null,null,null,null,null,null,""]
[null,null,null,0,0,0,"00","000",null,null,null,null,null,"","","",null,null,null,null,null,null,""]
[null,null,null,0,0,0,"00","000",null,null,null,null,null,"","","",null,null,null,null,null,null,""]
[null,null,null,0,0,0,"00","000",null,null,null,null,null,"","","",null,null,null,null,null,null,""]
[null,null,null,0,0,0,"00","000",null,null,null,null,null,"","","",null,null,null,null,null,null,""]
[null,null,null,0,0,0,"00","000",null,null,null,null,null,"","","",null,null,null,null,null,null,""]
[null,null,null,0,0,0,"00","000",null,null,null,null,null,"","","",null,null,null,null,null,null,""]
[null,null,null,0,0,0,"00","000",null,null,null,null,null,"","","",null,null,null,null,null,null,""]
[null,null,null,0,0,0,"00","000",null,null,null,null,null,{"$f":"LEFT(K194,2)","v":""},{"$f":"RIGHT(K194,2)","v":""},"",null,null,null,null,null,null,""]
[null,null,null,0,0,0,"00","000",null,null,null,null,null,"","","",null,null,null,null,null,null,""]
[null,null,null,0,0,0,"00","000",null,null,null,null,null,"","","",null,null,null,null,null,null,""]
[null,null,null,0,0,0,"00","000",null,null,null,null,null,"","","",null,null,null,null,null,null,""]
[null,null,null,0,0,0,"00","000",null,null,null,null,null,"","","",null,null,null,null,null,null,""]
[null,null,null,0,0,0,"00","000",null,null,null,null,null,"","","",null,null,null,null,null,null,""]
[null,null,null,0,0,0,"00","000",null,null,null,null,null,"","","",null,null,null,null,null,null,""]
[null,null,null,0,0,0,{"$f":"IF(D201=0,CONCATENATE(E201,F201),CONCATENATE(D201,E201,F201))","v":"00"},"000",null,null,null,null,null,"","",{"$f":"IF(M201=0,CONCATENATE(N201,O201),CONCATENATE(M201,N201,O201))","v":""},null,null,null,null,null,null,{"$f":"IF(T201=0,CONCATENATE(U201,V201),CONCATENATE(T201,U201,V201))","v":""}]
[null,null,null,0,0,0,"00","000",null,null,null,null,null,"","","",null,null,null,null,null,null,""]
[null,null,null,0,0,0,"00","000",null,null,null,null,null,"","","",null,null,null,null,null,null,""]
[null,null,null,0,0,0,"00","000",null,null,null,null,null,"","","",null,null,null,null,null,null,""]
[null,null,null,0,0,0,"00","000",null,null,null,null,null,"","","",null,null,null,null,null,null,""]
[null,null,null,0,0,0,"00","000",null,null,null,null,null,"","","",null,null,null,null,null,null,""]
[null,null,null,0,0,0,"00","000",null,null,null,null,null,"","","",null,null,null,null,null,null,""]
[null,null,null,0,0,0,"00","000",null,null,null,null,null,"","","",null,null,null,null,null,null,""]
[null,null,null,0,0,0,"00","000",null,null,null,null,null,"","","",null,null,null,null,null,null,""]
[null,null,null,0,0,0,"00","000",null,null,null,null,null,"","","",null,null,null,null,null,null,""]
[null,null,null,0,0,0,"00","000",null,null,null,null,null,"","","",null,null,null,null,null,null,""]
[null,null,null,0,0,0,"00","000",null,null,null,null,null,"","","",null,null,null,null,null,null,""]
[null,null,null,0,0,0,"00","000",null,null,null,null,null,"","","",null,null,null,null,null,null,""]
[null,null,null,0,0,0,"00","000",null,null,null,null,null,"","","",null,null,null,null,null,null,""]
[null,null,null,0,0,0,"00","000",null,null,null,null,null,"","","",null,null,null,null,null,null,""]
[null,null,null,0,0,0,"00","000",null,null,null,null,null,"","","",null,null,null,null,null,null,""]
[null,null,null,{"$f":"HOUR(B217)","v":0},{"$f":"MINUTE(B217)","v":0},{"$f":"SECOND(B217)","v":0},"00","000",null,null,null,null,null,"","","",null,null,null,null,null,null,""]
[null,null,null,0,0,0,"00","000",null,null,null,null,null,"","","",null,null,null,null,null,null,""]
[null,null,null,0,0,0,"00","000",null,null,null,null,null,"","","",null,null,null,null,null,null,""]
[null,null,null,0,0,0,"00","000",null,null,null,null,null,"","","",null,null,null,null,null,null,""]
[null,null,null,0,0,0,"00","000",null,null,null,null,null,"","","",null,null,null,null,null,null,""]
[null,null,null,0,0,0,"00","000",null,null,null,null,null,"","","",null,null,null,null,null,null,""]
[null,null,null,0,0,0,"00","000",null,null,null,null,null,"","","",null,null,null,null,null,null,""]
[null,null,null,0,0,0,"00","000",null,null,null,null,null,"","","",null,null,null,null,null,null,""]
[null,null,null,0,0,0,"00","000",null,null,null,null,null,"","","",null,null,null,null,null,null,""]
[null,null,null,0,0,0,"00","000",null,null,null,null,null,"","","",null,null,null,null,null,null,""]
[null,null,null,0,0,0,"00","000",null,null,null,null,null,"","","",null,null,null,null,null,null,""]
[null,null,null,0,0,0,"00","000",null,null,null,null,null,"","","",null,null,null,null,null,null,""]
[null,null,null,0,0,0,"00","000",null,null,null,null,null,"","","",null,null,null,null,null,null,""]
[null,null,null,0,0,0,"00","000",null,null,null,null,null,"","","",null,null,null,null,null,null,""]
[null,null,null,0,0,0,"00","000",null,null,null,null,null,"","","",null,null,null,null,null,null,""]
[null,null,null,0,0,0,"00","000",null,null,null,null,null,"","","",null,null,null,null,null,null,""]
[null,null,null,0,0,0,"00","000",null,null,null,null,null,"","","",null,null,null,null,null,null,""]
[null,null,null,0,0,0,"00","000",null,null,null,null,null,"","","",null,null,null,null,null,null,""]
[null,null,null,0,0,0,"00","000",null,null,null,null,null,"","","",null,null,null,null,null,null,""]
[null,null,null,0,0,0,"00","000",null,null,null,null,null,"","","",null,null,null,null,null,null,""]
[null,null,null,0,0,0,"00","000",null,null,null,null,null,"","","",null,null,null,null,null,null,""]
[null,null,null,0,0,0,"00","000",null,null,null,null,null,"","","",null,null,null,null,null,null,""]
[null,null,null,0,0,0,"00","000",null,null,null,null,null,"","","",null,null,null,null,null,null,""]
[null,null,null,0,0,0,"00","000",null,null,null,null,null,"","","",null,null,null,null,null,null,""]
[null,null,null,0,0,0,"00","000",null,null,null,null,null,"","","",null,null,null,null,null,null,""]
[null,null,null,0,0,0,"00","000",null,null,null,null,null,"","","",null,null,null,null,null,null,""]
[null,null,null,0,0,0,"00","000",null,null,null,null,null,"","","",null,null,null,null,null,null,""]
[null,null,null,0,0,0,"00","000",null,null,null,null,null,"","","",null,null,null,null,null,null,""]
[null,null,null,0,0,0,"00","000",null,null,null,null,null,"","","",null,null,null,null,null,null,""]
[null,null,null,0,0,0,"00","000",null,null,null,null,null,"","","",null,null,null,null,null,null,""]
[null,null,null,0,0,0,"00","000",null,null,null,null,null,"","","",null,null,null,null,null,null,""]
[null,null,null,0,0,0,"00","000",null,null,null,null,null,"","","",null,null,null,null,null,null,""]
[null,null,null,0,0,0,"00","000",null,null,null,null,null,"","","",null,null,null,null,null,null,""]
[null,null,null,0,0,0,"00","000",null,null,null,null,null,"","","",null,null,null,null,null,null,""]
[null,null,null,0,0,0,"00","000",null,null,null,null,null,"","","",null,null,null,null,null,null,""]
[null,null,null,0,0,0,"00","000",null,null,null,null,null,"","","",null,null,null,null,null,null,""]
[null,null,null,0,0,0,"00","000",null,null,null,null,null,"","","",null,null,null,null,null,null,""]
[null,null,null,0,0,0,"00","000",null,null,null,null,null,"","","",null,null,null,null,null,null,""]
[null,null,null,0,0,0,"00","000",null,null,null,null,null,"","","",null,null,null,null,null,null,""]
[null,null,null,0,0,0,"00","000",null,null,null,null,null,"","","",null,null,null,null,null,null,""]
[null,null,null,0,0,0,"00","000",null,null,null,null,null,"","","",null,null,null,null,null,null,""]
[null,null,null,0,0,0,"00","000",null,null,null,null,null,{"$f":"LEFT(K258,2)","v":""},{"$f":"RIGHT(K258,2)","v":""},"",null,null,null,null,null,null,""]
[null,null,null,0,0,0,"00","000",null,null,null,null,null,"","","",null,null,null,null,null,null,""]
[null,null,null,0,0,0,"00","000",null,null,null,null,null,"","","",null,null,null,null,null,null,""]
[null,null,null,0,0,0,"00","000",null,null,null,null,null,"","","",null,null,null,null,null,null,""]
[null,null,null,0,0,0,"00","000",null,null,null,null,null,"","","",null,null,null,null,null,null,""]
[null,null,null,0,0,0,"00","000",null,null,null,null,null,"","","",null,null,null,null,null,null,""]
[null,null,null,0,0,0,"00","000",null,null,null,null,null,"","","",null,null,null,null,null,null,""]
[null,null,null,0,0,0,{"$f":"IF(D265=0,CONCATENATE(E265,F265),CONCATENATE(D265,E265,F265))","v":"00"},"000",null,null,null,null,null,"","",{"$f":"IF(M265=0,CONCATENATE(N265,O265),CONCATENATE(M265,N265,O265))","v":""},null,null,null,null,null,null,{"$f":"IF(T265=0,CONCATENATE(U265,V265),CONCATENATE(T265,U265,V265))","v":""}]
[null,null,null,0,0,0,"00","000",null,null,null,null,null,"","","",null,null,null,null,null,null,""]
[null,null,null,0,0,0,"00","000",null,null,null,null,null,"","","",null,null,null,null,null,null,""]
[null,null,null,0,0,0,"00","000",null,null,null,null,null,"","","",null,null,null,null,null,null,""]
[null,null,null,0,0,0,"00","000",null,null,null,null,null,"","","",null,null,null,null,null,null,""]
[null,null,null,0,0,0,"00","000",null,null,null,null,null,"","","",null,null,null,null,null,null,""]
[null,null,null,0,0,0,"00","000",null,null,null,null,null,"","","",null,null,null,null,null,null,""]
[null,null,null,0,0,0,"00","000",null,null,null,null,null,"","","",null,null,null,null,null,null,""]
[null,null,null,0,0,0,"00","000",null,null,null,null,null,"","","",null,null,null,null,null,null,""]
[null,null,null,0,0,0,"00","000",null,null,null,null,null,"","","",null,null,null,null,null,null,""]
[null,null,null,0,0,0,"00","000",null,null,null,null,null,"","","",null,null,null,null,null,null,""]
[null,null,null,0,0,0,"00","000",null,null,null,null,null,"","","",null,null,null,null,null,null,""]
[null,null,null,0,0,0,"00","000",null,null,null,null,null,"","","",null,null,null,null,null,null,""]
[null,null,null,0,0,0,"00","000",null,null,null,null,null,"","","",null,null,null,null,null,null,""]
[null,null,null,0,0,0,"00","000",null,null,null,null,null,"","","",null,null,null,null,null,null,""]
[null,null,null,0,0,0,"00","000",null,null,null,null,null,"","","",null,null,null,null,null,null,""]
[null,null,null,{"$f":"HOUR(B281)","v":0},{"$f":"MINUTE(B281)","v":0},{"$f":"SECOND(B281)","v":0},"00","000",null,null,null,null,null,"","","",null,null,null,null,null,null,""]
[null,null,null,0,0,0,"00","000",null,null,null,null,null,"","","",null,null,null,null,null,null,""]
[null,null,null,0,0,0,"00","000",null,null,null,null,null,"","","",null,null,null,null,null,null,""]
[null,null,null,0,0,0,"00","000",null,null,null,null,null,"","","",null,null,null,null,null,null,""]
[null,null,null,0,0,0,"00","000",null,null,null,null,null,"","","",null,null,null,null,null,null,""]
[null,null,null,0,0,0,"00","000",null,null,null,null,null,"","","",null,null,null,null,null,null,""]
[null,null,null,0,0,0,"00","000",null,null,null,null,null,"","","",null,null,null,null,null,null,""]
[null,null,null,0,0,0,"00","000",null,null,null,null,null,"","","",null,null,null,null,null,null,""]
[null,null,null,0,0,0,"00","000",null,null,null,null,null,"","","",null,null,null,null,null,null,""]
[null,null,null,0,0,0,"00","000",null,null,null,null,null,"","","",null,null,null,null,null,null,""]
[null,null,null,0,0,0,"00","000",null,null,null,null,null,"","","",null,null,null,null,null,null,""]
[null,null,null,0,0,0,"00","000",null,null,null,null,null,"","","",null,null,null,null,null,null,""]
[null,null,null,0,0,0,"00","000",null,null,null,null,null,"","","",null,null,null,null,null,null,""]
[null,null,null,0,0,0,"00","000",null,null,null,null,null,"","","",null,null,null,null,null,null,""]
[null,null,null,0,0,0,"00","000",null,null,null,null,null,"","","",null,null,null,null,null,null,""]
[null,null,null,0,0,0,"00","000",null,null,null,null,null,"","","",null,null,null,null,null,null,""]
[null,null,null,0,0,0,"00","000",null,null,null,null,null,"","","",null,null,null,null,null,null,""]
[null,null,null,0,0,0,"00","000",null,null,null,null,null,"","","",null,null,null,null,null,null,""]
[null,null,null,0,0,0,"00","000",null,null,null,null,null,"","","",null,null,null,null,null,null,""]
[null,null,null,0,0,0,"00","000",null,null,null,null,null,"","","",null,null,null,null,null,null,""]
[null,null,null,0,0,0,"00","000",null,null,null,null,null,"","","",null,null,null,null,null,null,""]
[null,null,null,0,0,0,"00","000",null,null,null,null,null,"","","",null,null,null,null,null,null,""]
[null,null,null,0,0,0,"00","000",null,null,null,null,null,"","","",null,null,null,null,null,null,""]
[null,null,null,0,0,0,"00","000",null,null,null,null,null,"","","",null,null,null,null,null,null,""]
[null,null,null,0,0,0,"00","000",null,null,null,null,null,"","","",null,null,null,null,null,null,""]
[null,null,null,0,0,0,"00","000",null,null,null,null,null,"","","",null,null,null,null,null,null,""]
[null,null,null,0,0,0,"00","000",null,null,null,null,null,"","","",null,null,null,null,null,null,""]
[null,null,null,0,0,0,"00","000",null,null,null,null,null,"","","",null,null,null,null,null,null,""]
[null,null,null,0,0,0,"00","000",null,null,null,null,null,"","","",null,null,null,null,null,null,""]
[null,null,null,0,0,0,"00","000",null,null,null,null,null,"","","",null,null,null,null,null,null,""]
[null,null,null,0,0,0,"00","000",null,null,null,null,null,"","","",null,null,null,null,null,null,""]
[null,null,null,0,0,0,"00","000",null,null,null,null,null,"","","",null,null,null,null,null,null,""]
[null,null,null,0,0,0,"00","000",null,null,null,null,null,"","","",null,null,null,null,null,null,""]
[null,null,null,null,null,null,null,null,null,null,null,null,null,"",""]
[null,null,null,null,null,null,null,null,null,null,null,null,null,"",""]
[null,null,null,null,null,null,null,null,null,null,null,null,null,"",""]
[null,null,null,null,null,null,null,null,null,null,null,null,null,"",""]
[null,null,null,null,null,null,null,null,null,null,null,null,null,"",""]
[null,null,null,null,null,null,null,null,null,null,null,null,null,"",""]
[null,null,null,null,null,null,null,null,null,null,null,null,null,"",""]
[null,null,null,null,null,null,null,null,null,null,null,null,null,"",""]
[null,null,null,null,null,null,null,null,null,null,null,null,null,{"$f":"LEFT(K322,2)","v":""},{"$f":"RIGHT(K322,2)","v":""}]
[null,null,null,null,null,null,null,null,null,null,null,null,null,"",""]
[null,null,null,null,null,null,null,null,null,null,null,null,null,"",""]
[null,null,null,null,null,null,null,null,null,null,null,null,null,"",""]
[null,null,null,null,null,null,null,null,null,null,null,null,null,"",""]
[null,null,null,null,null,null,null,null,null,null,null,null,null,"",""]
[null,null,null,null,null,null,null,null,null,null,null,null,null,"",""]
[null,null,null,null,null,null,null,null,null,null,null,null,null,"",""]
[null,null,null,null,null,null,null,null,null,null,null,null,null,"",""]
[null,null,null,null,null,null,null,null,null,null,null,null,null,"",""]
[null,null,null,null,null,null,null,null,null,null,null,null,null,"",""]
[null,null,null,null,null,null,null,null,null,null,null,null,null,"",""]
[null,null,null,null,null,null,null,null,null,null,null,null,null,"",""]
[null,null,null,null,null,null,null,null,null,null,null,null,null,"",""]
[null,null,null,null,null,null,null,null,null,null,null,null,null,"",""]
[null,null,null,null,null,null,null,null,null,null,null,null,null,"",""]
[null,null,null,null,null,null,null,null,null,null,null,null,null,"",""]
[null,null,null,null,null,null,null,null,null,null,null,null,null,"",""]
[null,null,null,null,null,null,null,null,null,null,null,null,null,"",""]
[null,null,null,null,null,null,null,null,null,null,null,null,null,"",""]
[null,null,null,null,null,null,null,null,null,null,null,null,null,"",""]
[null,null,null,null,null,null,null,null,null,null,null,null,null,"",""]
[null,null,null,null,null,null,null,null,null,null,null,null,null,"",""]
[null,null,null,null,null,null,null,null,null,null,null,null,null,"",""]
[null,null,null,null,null,null,null,null,null,null,null,null,null,"",""]
[null,null,null,null,null,null,null,null,null,null,null,null,null,"",""]
[null,null,null,null,null,null,null,null,null,null,null,null,null,"",""]
[null,null,null,null,null,null,null,null,null,null,null,null,null,"",""]
[null,null,null,null,null,null,null,null,null,null,null,null,null,"",""]